{"text_format":"1","workbook":"xlsx","n_sheets":94,"sheets":["macros","2018wards","SASPACDATA","All","Male","female","All2","Male2","female2","All3","male3","female3","Introduction","Acocks Green","Allens Cross","Alum Rock","Aston","Balsall Heath West","Bartley Green","Billesley","Birchfield","Bordesley & Highgate","Bordesley Green","Bournbrook & Selly Park","Bournville & Cotteridge","Brandwood & King's Heath","Bromford & Hodge Hill","Castle Vale","Druids Heath & Monyhull","Edgbaston","Erdington","Frankley Great Park","Garretts Green","Glebe Farm & Tile Cross","Gravelly Hill","Hall Green North","Hall Green South","Handsworth","Handsworth Wood","Harborne","Heartlands","Highter's Heath","Holyhead","King's Norton North","King's Norton South","Kingstanding","Ladywood","Longbridge & West Heath","Lozells","Moseley","Nechells","Newtown","North Edgbaston","Northfield","Oscott","Perry Barr","Perry Common","Pype Hayes","Quinton","Rubery & Rednal","Shard End","Sheldon","Small Heath","Soho & Jewellery Quarter","South Yardley","Sparkbrook & Balsall Heath East","Sparkhill","Stirchley","Stockland Green","Sutton Four Oaks","Sutton Mere Green","Sutton Reddicap","Sutton Roughley","Sutton Trinity","Sutton Vesey","Sutton Walmley & Minworth","Sutton Wylde Green","Tyseley & Hay Mills","Ward End","Weoley & Selly Oak","Yardley East","Yardley West & Stechford","65+data","65+data+","0_24data","0_24data+","0_24_format","0_15_format","65_format","16-24_format","alldata","alldata+","allDataFormat","16-64format"],"not_rendered":{"charts":0,"images":0,"macros":1,"external_links":1,"defined_names":1,"comments":0,"pivot_tables":0},"unopened":[],"bounds":{"document_bytes":16777216,"sheet_cells":100000,"rows_first":2000,"rows_last":500,"rows_between":2000,"halvings":0,"cell_chars":16384,"cell_head_chars":4096},"cells_cut":0,"cells_raw":0,"read":"whole","date_system":"1900"}

{"sheet":"macros","index":0,"n_rows":12,"n_cols":1,"rows_kept":12,"cut":false,"hidden":true,"merged":[]}
["There are 3 macros in this workbook"]
[]
["Create2018WardSheet"]
["This macro creates 69 tabs for the 2018 wards"]
[]
["sheet3.protect_all__sheets"]
["This macro protects all the sheets in the workbook."]
[]
["unproctect_all_sheets"]
["this macro unprotects all the sheets in the workbook."]
[]
["The macros prompt for passwords, but I don't use one, I suggest you do the same."]

{"sheet":"2018wards","index":1,"n_rows":70,"n_cols":1,"rows_kept":70,"cut":false,"hidden":true,"merged":[]}
[]
["Acocks Green"]
["Allens Cross"]
["Alum Rock"]
["Aston"]
["Balsall Heath West"]
["Bartley Green"]
["Billesley"]
["Birchfield"]
["Bordesley & Highgate"]
["Bordesley Green"]
["Bournbrook & Selly Park"]
["Bournville & Cotteridge"]
["Brandwood & King's Heath"]
["Bromford & Hodge Hill"]
["Castle Vale"]
["Druids Heath & Monyhull"]
["Edgbaston"]
["Erdington"]
["Frankley Great Park"]
["Garretts Green"]
["Glebe Farm & Tile Cross"]
["Gravelly Hill"]
["Hall Green North"]
["Hall Green South"]
["Handsworth"]
["Handsworth Wood"]
["Harborne"]
["Heartlands"]
["Highter's Heath"]
["Holyhead"]
["King's Norton North"]
["King's Norton South"]
["Kingstanding"]
["Ladywood"]
["Longbridge & West Heath"]
["Lozells"]
["Moseley"]
["Nechells"]
["Newtown"]
["North Edgbaston"]
["Northfield"]
["Oscott"]
["Perry Barr"]
["Perry Common"]
["Pype Hayes"]
["Quinton"]
["Rubery & Rednal"]
["Shard End"]
["Sheldon"]
["Small Heath"]
["Soho & Jewellery Quarter"]
["South Yardley"]
["Sparkbrook & Balsall Heath East"]
["Sparkhill"]
["Stirchley"]
["Stockland Green"]
["Sutton Four Oaks"]
["Sutton Mere Green"]
["Sutton Reddicap"]
["Sutton Roughley"]
["Sutton Trinity"]
["Sutton Vesey"]
["Sutton Walmley & Minworth"]
["Sutton Wylde Green"]
["Tyseley & Hay Mills"]
["Ward End"]
["Weoley & Selly Oak"]
["Yardley East"]
["Yardley West & Stechford"]

{"sheet":"SASPACDATA","index":2,"n_rows":363,"n_cols":70,"rows_kept":363,"cut":false,"hidden":true,"merged":[]}
[]
["ZONEID","E05011118","E05011119","E05011120","E05011121","E05011122","E05011123","E05011124","E05011125","E05011126","E05011127","E05011128","E05011129","E05011130","E05011131","E05011132","E05011133","E05011134","E05011135","E05011136","E05011137","E05011138","E05011139","E05011140","E05011141","E05011142","E05011143","E05011144","E05011145","E05011146","E05011147","E05011148","E05011149","E05011150","E05011151","E05011152","E05011153","E05011154","E05011155","E05011156","E05011157","E05011158","E05011159","E05011160","E05011161","E05011162","E05011163","E05011164","E05011165","E05011166","E05011167","E05011168","E05011169","E05011170","E05011171","E05011172","E05011173","E05011174","E05011175","E05011176","E05011177","E05011178","E05011179","E05011180","E05011181","E05011182","E05011183","E05011184","E05011185","E05011186"]
["ZoneName","Acocks Green","Allens Cross","Alum Rock","Aston","Balsall Heath West","Bartley Green","Billesley","Birchfield","Bordesley & Highgate","Bordesley Green","Bournbrook & Selly Park","Bournville & Cotteridge","Brandwood & King's Heath","Bromford & Hodge Hill","Castle Vale","Druids Heath & Monyhull","Edgbaston","Erdington","Frankley Great Park","Garretts Green","Glebe Farm & Tile Cross","Gravelly Hill","Hall Green North","Hall Green South","Handsworth","Handsworth Wood","Harborne","Heartlands","Highter's Heath","Holyhead","King's Norton North","King's Norton South","Kingstanding","Ladywood","Longbridge & West Heath","Lozells","Moseley","Nechells","Newtown","North Edgbaston","Northfield","Oscott","Perry Barr","Perry Common","Pype Hayes","Quinton","Rubery & Rednal","Shard End","Sheldon","Small Heath","Soho & Jewellery Quarter","South Yardley","Sparkbrook & Balsall Heath East","Sparkhill","Stirchley","Stockland Green","Sutton Four Oaks","Sutton Mere Green","Sutton Reddicap","Sutton Roughley","Sutton Trinity","Sutton Vesey","Sutton Walmley & Minworth","Sutton Wylde Green","Tyseley & Hay Mills","Ward End","Weoley & Selly Oak","Yardley East","Yardley West & Stechford"]
["LC2101EW0001:All categories: Sex, All categories: Age, All categories: Ethnic group",23117,10962,25487,22636,11165,22014,19748,11465,13242,11796,19636,17501,18948,20446,9971,11653,18260,18603,11032,9431,23038,9875,21509,10420,11733,19731,21856,12287,11182,11133,11493,11665,20880,22250,19948,9153,21676,13980,12485,21934,10554,19823,20566,10968,10701,20251,9957,11660,18986,20403,22606,10295,25211,20309,9932,21572,9019,9703,10170,11674,8976,19695,16437,9433,11295,12255,22990,10327,11936]
["LC2101EW0002:All categories: Sex, All categories: Age, White: Total",14863,9034,2347,2294,2368,18037,14011,1576,3344,1705,14179,15019,13759,10714,8590,9465,10928,14545,9596,7147,15660,5183,9119,7072,1359,4968,15505,2689,9685,1822,9924,9712,17056,10434,17916,633,11866,4808,2758,7699,9455,16608,11856,8240,8363,14501,9053,9993,16259,1848,7219,7771,3059,2387,7751,13033,7918,8789,9041,10499,8138,16913,14837,8193,6024,2986,17491,7819,6203]
["LC2101EW0003:All categories: Sex, All categories: Age, White: English/Welsh/Scottish/Northern Irish/British",12996,8652,1909,1774,1945,17408,12879,1007,2604,1335,12817,14194,12520,10108,8280,8989,9756,12899,9304,6770,14939,4374,7757,6392,804,3786,14008,2351,9312,889,9465,9347,16270,8219,17335,458,10469,3977,2218,5782,9000,15833,10825,7687,7783,13641,8816,9691,15436,1369,5698,7117,2322,1705,7158,11366,7649,8477,8733,10184,7776,16121,14244,7776,5248,2683,16499,7406,5676]
["LC2101EW0004:All categories: Sex, All categories: Age, White: Irish",860,219,126,136,135,310,756,106,236,159,496,381,692,333,209,299,248,916,185,218,407,282,832,542,56,227,543,153,223,98,232,223,426,351,375,66,618,223,152,403,310,424,442,277,312,441,140,183,545,231,286,354,263,309,287,554,105,135,155,150,158,483,334,228,376,117,389,294,287]
["LC2101EW0005:All categories: Sex, All categories: Age, White: Gypsy or Irish Traveller",2,0,2,5,9,9,7,8,14,10,15,2,12,8,1,1,6,4,2,2,1,11,5,2,11,7,4,3,3,4,4,3,13,10,4,1,14,6,0,23,3,4,2,4,1,11,4,3,4,1,20,0,35,18,3,5,2,3,2,1,4,9,1,2,1,11,4,1,1]
["LC2101EW0006:All categories: Sex, All categories: Age, White: Other White",1005,163,310,379,279,310,369,455,490,201,851,442,535,265,100,176,918,726,105,157,313,516,525,136,488,948,950,182,147,831,223,139,347,1854,202,108,765,602,388,1491,142,347,587,272,267,408,93,116,274,247,1215,300,439,355,303,1108,162,174,151,164,200,300,258,187,399,175,599,118,239]
["LC2101EW0007:All categories: Sex, All categories: Age, Mixed/multiple ethnic group: Total",1052,482,663,669,597,1215,957,554,892,542,819,672,936,958,599,627,874,980,580,395,1365,699,759,284,557,866,1136,595,398,560,508,758,861,1527,764,298,1123,980,806,1159,409,648,855,544,530,1032,399,721,541,485,1539,380,861,521,447,1411,114,208,304,219,227,456,326,214,620,411,1166,363,588]
["LC2101EW0008:All categories: Sex, All categories: Age, Mixed/multiple ethnic group: White and Black Caribbean",571,299,257,276,287,759,472,272,430,190,292,325,450,579,472,390,262,542,403,229,833,402,288,107,267,455,454,208,253,298,319,470,546,722,473,145,492,515,414,505,226,397,487,336,344,544,253,521,281,150,834,215,327,150,253,887,40,99,176,97,111,206,176,87,291,178,596,208,327]
["LC2101EW0009:All categories: Sex, All categories: Age, Mixed/multiple ethnic group: White and Black African",51,32,64,79,32,60,40,34,68,62,76,46,49,62,28,48,63,67,31,14,75,36,45,9,65,43,81,25,18,34,41,55,58,175,64,33,58,91,74,96,16,29,56,22,30,70,18,23,29,44,119,20,39,51,21,88,15,6,18,11,15,44,33,28,24,32,82,27,31]
["LC2101EW0010:All categories: Sex, All categories: Age, Mixed/multiple ethnic group: White and Asian",283,78,212,193,144,210,278,97,200,137,256,179,272,188,52,110,341,223,86,83,268,162,277,107,112,193,398,215,73,99,66,115,168,327,104,66,336,208,186,303,95,132,173,109,86,248,61,91,137,156,239,93,311,209,96,210,43,66,61,65,60,128,70,51,190,117,262,81,141]
["LC2101EW0011:All categories: Sex, All categories: Age, Mixed/multiple ethnic group: Other Mixed",147,73,130,121,134,186,167,151,194,153,195,122,165,129,47,79,208,148,60,69,189,99,149,61,113,175,203,147,54,129,82,118,89,303,123,54,237,166,132,255,72,90,139,77,70,170,67,86,94,135,347,52,184,111,77,226,16,37,49,46,41,78,47,48,115,84,226,47,89]
["LC2101EW0025:All categories: Sex, Age 0 to 24, All categories: Ethnic group",8235,3855,12653,10442,4984,7620,6714,4910,6093,5568,12914,5396,6041,8078,3529,3889,8647,5569,3648,3602,9167,3650,8088,3177,4800,6983,6793,5811,3654,4555,3682,4271,7866,8716,6402,4403,6579,7796,6813,8415,3206,6473,7456,3589,3533,6384,3377,4072,5691,9886,8344,3379,11994,9216,3066,7677,2333,2557,3314,3516,2289,5468,4399,2448,4556,5610,8271,3303,4697]
["LC2101EW0026:All categories: Sex, Age 0 to 24, White: Total",4275,2912,579,652,753,5570,3954,511,932,415,9405,4247,3762,2940,2796,2815,5202,3655,2957,2397,5163,1438,2209,1755,414,1205,3975,674,2931,579,2875,3191,5978,3419,5395,169,2331,2403,1251,2317,2675,4996,3421,2298,2385,3878,2935,3155,4376,458,1737,2200,811,647,2061,3755,1914,2160,2745,3010,1919,4306,3760,1917,1776,735,5654,2064,1749]
["LC2101EW0027:All categories: Sex, Age 0 to 24, White: English/Welsh/Scottish/Northern Irish/British",3892,2845,428,513,627,5429,3743,320,760,310,8817,4098,3515,2812,2753,2721,4772,3357,2918,2332,5010,1263,1939,1630,219,824,3637,584,2892,237,2768,3129,5841,2717,5305,128,2114,1941,1026,1770,2595,4857,3148,2196,2277,3710,2896,3099,4275,346,1297,2065,604,477,1954,3367,1862,2105,2681,2939,1849,4171,3662,1837,1619,653,5429,1995,1635]
["LC2101EW0028:All categories: Sex, Age 0 to 24, White: Irish",86,18,2,9,12,38,99,10,11,2,115,33,91,28,19,35,45,93,12,21,45,25,105,92,2,25,80,11,9,4,33,27,25,56,34,1,60,18,19,36,40,33,66,24,26,55,9,17,38,11,21,44,6,10,25,48,13,16,21,26,20,66,48,35,36,5,41,38,24]
["LC2101EW0029:All categories: Sex, Age 0 to 24, White: Gypsy or Irish Traveller",2,0,0,1,3,3,2,4,9,4,12,0,7,5,0,0,2,1,0,1,0,6,0,0,4,2,1,2,0,2,2,0,4,4,1,0,4,1,0,8,0,2,0,2,0,6,2,0,1,0,6,0,22,10,1,1,0,0,1,0,2,2,0,2,0,6,1,0,0]
["LC2101EW0030:All categories: Sex, Age 0 to 24, White: Other White",295,49,149,129,111,100,110,177,152,99,461,116,149,95,24,59,383,204,27,43,108,144,165,33,189,354,257,77,30,336,72,35,108,642,55,40,153,443,206,503,40,104,207,76,82,107,28,39,62,101,413,91,179,150,81,339,39,39,42,45,48,67,50,43,121,71,183,31,90]
["LC2101EW0031:All categories: Sex, Age 0 to 24, Mixed/multiple ethnic group: Total",734,330,493,440,381,906,669,366,607,374,635,463,644,715,449,413,616,700,389,288,1002,465,567,206,364,586,744,418,280,381,363,548,633,898,547,186,681,684,550,745,292,456,609,366,378,730,260,527,383,361,954,249,575,348,296,965,79,129,235,152,154,303,222,150,446,287,854,262,416]
["LC2101EW0032:All categories: Sex, Age 0 to 24, Mixed/multiple ethnic group: White and Black Caribbean",389,204,192,177,173,560,346,180,284,110,211,234,308,437,356,267,172,395,283,170,608,272,200,76,176,291,318,136,192,192,233,352,403,449,353,90,296,359,267,320,163,289,337,230,247,380,171,379,205,108,513,149,214,94,176,606,28,63,141,68,77,133,132,64,202,120,452,155,234]
["LC2101EW0033:All categories: Sex, Age 0 to 24, Mixed/multiple ethnic group: White and Black African",36,18,44,49,15,39,24,12,36,40,56,33,29,51,20,23,41,44,22,9,50,25,37,6,32,22,44,17,9,25,28,35,48,91,44,15,33,60,53,55,11,16,43,17,23,43,8,18,15,34,76,9,18,31,10,58,12,3,15,10,10,33,16,17,12,18,45,19,21]
["LC2101EW0034:All categories: Sex, Age 0 to 24, Mixed/multiple ethnic group: White and Asian",207,58,164,135,100,158,189,70,141,99,211,119,189,145,35,67,263,169,50,56,207,116,214,77,87,136,272,143,40,68,42,75,125,181,64,42,200,150,126,195,66,86,131,74,63,188,45,67,93,115,144,56,208,143,59,127,30,41,40,45,38,85,43,31,141,86,195,56,102]
["LC2101EW0035:All categories: Sex, Age 0 to 24, Mixed/multiple ethnic group: Other Mixed",102,50,93,79,93,149,110,104,146,125,157,77,118,82,38,56,140,92,34,53,137,52,116,47,69,137,110,122,39,96,60,86,57,177,86,39,152,115,104,175,52,65,98,45,45,119,36,63,70,104,221,35,135,80,51,174,9,22,39,29,29,52,31,38,91,63,162,32,59]
["LC2101EW0049:All categories: Sex, Age 25 to 49, All categories: Ethnic group",8566,3687,8712,8020,3835,7291,6611,4234,5313,4097,4070,5707,7187,6655,3250,4197,5181,6681,3981,3171,7861,3685,7329,3657,4475,7272,8616,4204,3993,4283,3816,3851,6892,10588,6801,3263,8791,4001,4049,9108,3533,7055,6967,3749,3812,7048,3613,3893,6314,6822,10395,3821,8864,7132,4151,8253,2504,2987,3378,3878,3030,6454,5339,2774,4029,4254,7910,3345,4083]
["LC2101EW0050:All categories: Sex, Age 25 to 49, White: Total",5312,2921,694,739,839,5826,4525,579,1528,540,2545,4740,5181,3083,2789,3338,2463,5096,3422,2347,5128,1883,2791,2338,526,1545,5872,739,3416,680,3242,3174,5509,5062,6018,184,5068,1071,792,3229,3111,5745,3600,2723,2903,4758,3248,3318,5234,535,3950,2812,1113,757,3271,4889,2091,2625,2978,3373,2672,5374,4672,2328,1997,843,5616,2406,1919]
["LC2101EW0051:All categories: Sex, Age 25 to 49, White: English/Welsh/Scottish/Northern Irish/British",4520,2795,542,518,684,5601,4181,325,1182,439,2121,4406,4696,2911,2704,3183,2018,4460,3338,2205,4867,1507,2332,2108,287,1013,5191,626,3266,257,3087,3061,5226,3813,5841,126,4428,886,605,2238,2971,5473,3219,2506,2685,4443,3166,3235,4984,398,3108,2554,840,554,3014,4069,1999,2508,2854,3245,2529,5089,4476,2176,1688,736,5216,2282,1737]
["LC2101EW0052:All categories: Sex, Age 25 to 49, White: Irish",187,39,20,15,21,75,168,37,55,16,106,105,193,50,29,64,57,203,39,48,90,63,197,161,8,39,162,23,57,18,56,47,89,127,86,4,202,44,33,116,68,88,84,59,62,107,39,20,109,25,110,90,63,49,97,136,25,31,41,48,42,129,74,67,67,17,99,63,54]
["LC2101EW0053:All categories: Sex, Age 25 to 49, White: Gypsy or Irish Traveller",0,0,2,2,4,6,3,3,2,2,3,2,5,2,1,0,2,2,2,1,1,4,3,2,5,3,3,0,2,2,2,3,4,4,2,0,7,2,0,10,2,1,1,2,0,4,0,0,1,1,10,0,11,4,2,3,1,1,1,0,2,3,0,0,0,3,0,1,0]
["LC2101EW0054:All categories: Sex, Age 25 to 49, White: Other White",605,87,130,204,130,144,173,214,289,83,315,227,287,120,55,91,386,431,43,93,170,309,259,67,226,490,516,90,91,403,97,63,190,1118,89,54,431,139,154,865,70,183,296,156,156,204,43,63,140,111,722,168,199,150,158,681,66,85,82,80,99,153,122,85,242,87,301,60,128]
["LC2101EW0055:All categories: Sex, Age 25 to 49, Mixed/multiple ethnic group: Total",270,120,144,178,174,259,228,138,260,127,154,161,242,206,126,181,216,219,164,91,322,180,167,66,155,220,322,139,88,144,122,180,179,555,174,93,370,227,216,353,94,155,194,144,128,247,121,160,127,105,496,107,235,132,131,369,25,64,55,44,57,113,81,43,135,104,259,82,143]
["LC2101EW0056:All categories: Sex, Age 25 to 49, Mixed/multiple ethnic group: White and Black Caribbean",155,78,55,72,95,168,102,59,134,60,68,74,120,129,101,104,74,125,113,57,207,100,75,25,70,128,112,57,45,86,75,110,114,236,101,44,171,120,128,150,51,89,118,86,85,139,72,120,60,37,283,55,90,40,69,235,9,31,29,20,26,60,39,14,75,49,124,49,83]
["LC2101EW0057:All categories: Sex, Age 25 to 49, Mixed/multiple ethnic group: White and Black African",13,8,17,28,11,18,12,21,27,20,17,8,18,9,7,23,19,20,7,4,19,9,5,3,30,13,28,6,8,6,11,15,8,74,16,15,21,22,17,39,3,9,11,4,5,18,8,4,11,8,34,9,15,15,10,23,2,2,2,1,4,7,12,7,7,10,27,6,8]
["LC2101EW0058:All categories: Sex, Age 25 to 49, Mixed/multiple ethnic group: White and Asian",64,16,41,46,34,43,71,22,56,26,36,41,71,31,11,36,65,38,24,18,51,32,58,27,20,45,105,55,23,27,17,31,36,130,28,23,111,47,47,92,22,35,35,30,16,51,13,18,38,38,80,30,90,56,31,73,9,18,15,13,17,31,17,16,37,28,56,14,33]
["LC2101EW0059:All categories: Sex, Age 25 to 49, Mixed/multiple ethnic group: Other Mixed",38,18,31,32,34,30,43,36,43,21,33,38,33,37,7,18,58,36,20,12,45,39,29,11,35,34,77,21,12,25,19,24,21,115,29,11,67,38,24,72,18,22,30,24,22,39,28,18,18,22,99,13,40,21,21,38,5,13,9,10,10,15,13,6,16,17,52,13,19]
["LC2101EW0073:All categories: Sex, Age 50 to 64, All categories: Ethnic group",3262,1776,2296,2270,1266,3910,3341,1293,1075,1137,1304,3321,3128,2839,1461,1788,2237,3197,2076,1384,3259,1433,3267,1892,1374,3172,3316,1191,1862,1227,2110,1939,3303,1807,3501,813,3570,1202,930,2447,1960,3082,3137,1850,1744,3424,1595,1829,3372,1953,2218,1767,2495,2263,1537,3123,1893,1903,1846,2084,1798,4015,3666,2175,1467,1317,3409,1817,1637]
["LC2101EW0074:All categories: Sex, Age 50 to 64, White: Total",2609,1621,534,441,447,3589,2721,268,510,364,1035,3078,2570,2152,1354,1616,1494,2845,1946,1233,2811,1015,1941,1476,235,957,2787,559,1736,272,1978,1800,2952,1163,3339,142,2420,704,379,1152,1855,2808,2262,1567,1542,2761,1522,1718,3159,378,889,1535,623,462,1349,2351,1713,1800,1745,1972,1722,3613,3459,2001,1170,719,3024,1606,1244]
["LC2101EW0075:All categories: Sex, Age 50 to 64, White: English/Welsh/Scottish/Northern Irish/British",2335,1540,491,373,382,3457,2484,202,403,303,908,2920,2346,2045,1283,1526,1345,2577,1855,1164,2661,910,1666,1333,165,837,2567,509,1656,176,1897,1713,2822,1019,3194,112,2168,632,324,967,1763,2677,2117,1491,1443,2599,1472,1671,2996,302,749,1430,521,346,1244,2156,1651,1737,1694,1925,1661,3428,3303,1914,1042,681,2855,1523,1173]
["LC2101EW0076:All categories: Sex, Age 50 to 64, White: Irish",203,61,26,37,42,90,185,23,68,45,84,95,163,80,56,76,61,210,70,53,123,73,219,122,12,50,118,37,58,17,57,63,97,67,110,21,139,55,34,92,77,95,96,55,83,114,38,41,126,54,71,76,61,74,74,139,31,35,35,32,41,130,100,48,100,30,94,68,60]
["LC2101EW0077:All categories: Sex, Age 50 to 64, White: Gypsy or Irish Traveller",0,0,0,2,0,0,1,1,2,3,0,0,0,1,0,0,2,0,0,0,0,1,2,0,2,1,0,1,1,0,0,0,5,2,1,0,1,3,0,5,1,1,0,0,1,1,2,1,1,0,3,0,1,3,0,0,1,1,0,0,0,4,1,0,0,0,2,0,1]
["LC2101EW0078:All categories: Sex, Age 50 to 64, White: Other White",71,20,17,29,23,42,51,42,37,13,43,63,61,26,15,14,86,58,21,16,27,31,54,21,56,69,102,12,21,79,24,24,28,75,34,9,112,14,21,88,14,35,49,21,15,47,10,5,36,22,66,29,40,39,31,56,30,27,16,15,20,51,55,39,28,8,73,15,10]
["LC2101EW0079:All categories: Sex, Age 50 to 64, Mixed/multiple ethnic group: Total",34,24,18,27,26,38,42,35,17,25,22,36,31,19,17,23,31,43,22,12,37,36,16,10,21,43,54,21,20,17,20,22,35,56,32,10,60,36,26,41,17,27,43,24,21,45,13,23,23,10,53,18,34,26,11,55,6,12,10,15,11,29,20,17,30,16,36,17,20]
["LC2101EW0080:All categories: Sex, Age 50 to 64, Mixed/multiple ethnic group: White and Black Caribbean",16,10,7,10,9,23,15,18,8,10,11,11,11,6,11,13,12,13,5,1,17,15,5,5,10,26,16,4,7,9,9,6,19,24,12,6,20,18,12,22,9,15,26,12,10,20,6,15,13,0,22,8,15,7,3,31,3,4,4,8,5,9,4,8,9,6,11,3,6]
["LC2101EW0081:All categories: Sex, Age 50 to 64, Mixed/multiple ethnic group: White and Black African",2,5,1,2,5,3,3,1,3,2,3,4,2,1,1,1,2,2,2,1,6,2,3,0,1,8,9,2,1,3,2,3,0,10,4,1,4,5,3,2,2,3,1,1,2,9,2,0,3,0,5,1,4,5,1,5,0,1,0,0,1,4,5,3,4,4,9,1,1]
["LC2101EW0082:All categories: Sex, Age 50 to 64, Mixed/multiple ethnic group: White and Asian",12,4,5,10,8,7,16,5,2,8,7,16,7,9,4,6,10,13,10,7,8,12,5,2,4,7,18,14,9,0,7,8,7,15,11,1,22,8,9,12,4,7,7,5,7,7,3,3,4,3,9,7,10,7,4,8,2,5,5,4,4,9,8,4,10,3,6,11,3]
["LC2101EW0083:All categories: Sex, Age 50 to 64, Mixed/multiple ethnic group: Other Mixed",4,5,5,5,4,5,8,11,4,5,1,5,11,3,1,3,7,15,5,3,6,7,3,3,6,2,11,1,3,5,2,5,9,7,5,2,14,5,2,5,2,2,9,6,2,9,2,5,3,7,17,2,5,7,3,11,1,2,1,3,1,7,3,2,7,3,10,2,10]
["LC2101EW0097:All categories: Sex, Age 65 and over, All categories: Ethnic group",3054,1644,1826,1904,1080,3193,3082,1028,761,994,1348,3077,2592,2874,1731,1779,2195,3156,1327,1274,2751,1107,2825,1694,1084,2304,3131,1081,1673,1068,1885,1604,2819,1139,3244,674,2736,981,693,1964,1855,3213,3006,1780,1612,3395,1372,1866,3609,1742,1649,1328,1858,1698,1178,2519,2289,2256,1632,2196,1859,3758,3033,2036,1243,1074,3400,1862,1519]
["LC2101EW0098:All categories: Sex, Age 65 and over, White: Total",2667,1580,540,462,329,3052,2811,218,374,386,1194,2954,2246,2539,1651,1696,1769,2949,1271,1170,2558,847,2178,1503,184,1261,2871,717,1602,291,1829,1547,2617,790,3164,138,2047,630,336,1001,1814,3059,2573,1652,1533,3104,1348,1802,3490,477,643,1224,512,521,1070,2038,2200,2204,1573,2144,1825,3620,2946,1947,1081,689,3197,1743,1291]
["LC2101EW0099:All categories: Sex, Age 65 and over, White: English/Welsh/Scottish/Northern Irish/British",2249,1472,448,370,252,2921,2471,160,259,283,971,2770,1963,2340,1540,1559,1621,2505,1193,1069,2401,694,1820,1321,133,1112,2613,632,1498,219,1713,1444,2381,670,2995,92,1759,518,263,807,1671,2826,2341,1494,1378,2889,1282,1686,3181,323,544,1068,357,328,946,1774,2137,2127,1504,2075,1737,3433,2803,1849,899,613,2999,1606,1131]
["LC2101EW0100:All categories: Sex, Age 65 and over, White: Irish",384,101,78,75,60,107,304,36,102,96,191,148,245,175,105,124,85,410,64,96,149,121,311,167,34,113,183,82,99,59,86,86,215,101,145,40,217,106,66,159,125,208,196,139,141,165,54,105,272,141,84,144,133,176,91,231,36,53,58,44,55,158,112,78,173,65,155,125,149]
["LC2101EW0101:All categories: Sex, Age 65 and over, White: Gypsy or Irish Traveller",0,0,0,0,2,0,1,0,1,1,0,0,0,0,0,1,0,1,0,0,0,0,0,0,0,1,0,0,0,0,0,0,0,0,0,1,2,0,0,0,0,0,1,0,0,0,0,2,1,0,1,0,1,1,0,1,0,1,0,1,0,0,0,0,1,2,1,0,0]
["LC2101EW0102:All categories: Sex, Age 65 and over, White: Other White",34,7,14,17,15,24,35,22,12,6,32,36,38,24,6,12,63,33,14,5,8,32,47,15,17,35,75,3,5,13,30,17,21,19,24,5,69,6,7,35,18,25,35,19,14,50,12,9,36,13,14,12,21,16,33,32,27,23,11,24,33,29,31,20,8,9,42,12,11]
["LC2101EW0103:All categories: Sex, Age 65 and over, Mixed/multiple ethnic group: Total",14,8,8,24,16,12,18,15,8,16,8,12,19,18,7,10,11,18,5,4,4,18,9,2,17,17,16,17,10,18,3,8,14,18,11,9,12,33,14,20,6,10,9,10,3,10,5,11,8,9,36,6,17,15,9,22,4,3,4,8,5,11,3,4,9,4,17,2,9]
["LC2101EW0104:All categories: Sex, Age 65 and over, Mixed/multiple ethnic group: White and Black Caribbean",11,7,3,17,10,8,9,15,4,10,2,6,11,7,4,6,4,9,2,1,1,15,8,1,11,10,8,11,9,11,2,2,10,13,7,5,5,18,7,13,3,4,6,8,2,5,4,7,3,5,16,3,8,9,5,15,0,1,2,1,3,4,1,1,5,3,9,1,4]
["LC2101EW0105:All categories: Sex, Age 65 and over, Mixed/multiple ethnic group: White and Black African",0,1,2,0,1,0,1,0,2,0,0,1,0,1,0,1,1,1,0,0,0,0,0,0,2,0,0,0,0,0,0,2,2,0,0,2,0,4,1,0,0,1,1,0,0,0,0,1,0,2,4,1,2,0,0,2,1,0,1,0,0,0,0,1,1,0,1,1,1]
["LC2101EW0106:All categories: Sex, Age 65 and over, Mixed/multiple ethnic group: White and Asian",0,0,2,2,2,2,2,0,1,4,2,3,5,3,2,1,3,3,2,2,2,2,0,1,1,5,3,3,1,4,0,1,0,1,1,0,3,3,4,4,3,4,0,0,0,2,0,3,2,0,6,0,3,3,2,2,2,2,1,3,1,3,2,0,2,0,5,0,3]
["LC2101EW0107:All categories: Sex, Age 65 and over, Mixed/multiple ethnic group: Other Mixed",3,0,1,5,3,2,6,0,1,2,4,2,3,7,1,2,3,5,1,1,1,1,1,0,3,2,5,3,0,3,1,3,2,4,3,2,4,8,2,3,0,1,2,2,1,3,1,0,3,2,10,2,4,3,2,3,1,0,0,4,1,4,0,2,1,1,2,0,1]
["LC2101EW0121:Males, All categories: Age, All categories: Ethnic group",11306,5236,12884,11426,5616,10400,9485,6042,6855,5971,9473,8280,9204,9868,4582,5698,9024,9132,5319,4559,11007,4876,10549,5139,6045,9643,10503,5999,5470,5509,5564,5507,10083,12106,9661,4595,11195,6884,6232,11329,5207,9437,9911,5218,5148,9693,4832,5430,9320,10170,11976,5087,12824,10343,4770,10596,4401,4612,4894,5636,4384,9634,7959,4555,5525,6024,11037,5067,5860]
["LC2101EW0122:Males, All categories: Age, White: Total",7232,4274,1237,1157,1213,8503,6701,866,1836,880,6786,7056,6678,5130,3965,4594,5285,7111,4632,3412,7435,2549,4412,3477,696,2406,7364,1266,4696,880,4788,4593,8264,5745,8683,328,6117,2393,1502,4078,4656,7965,5681,3928,4003,6951,4387,4677,7981,908,4116,3827,1579,1229,3733,6403,3842,4164,4330,5054,3950,8263,7156,3943,2917,1457,8315,3820,3041]
["LC2101EW0123:Males, All categories: Age, White: English/Welsh/Scottish/Northern Irish/British",6336,4105,1025,908,995,8180,6150,560,1437,680,6159,6695,6083,4858,3804,4377,4743,6332,4499,3238,7101,2129,3749,3159,417,1811,6702,1093,4518,418,4582,4426,7913,4624,8389,234,5444,1976,1226,3127,4446,7637,5184,3659,3718,6553,4293,4534,7572,668,3365,3509,1194,889,3465,5566,3725,4025,4195,4923,3805,7896,6887,3749,2528,1311,7860,3620,2781]
["LC2101EW0124:Males, All categories: Age, White: Irish",403,98,59,63,77,173,379,67,151,94,215,177,345,133,115,140,109,449,89,92,176,155,409,263,23,111,247,84,105,44,110,108,181,175,190,35,323,112,78,224,147,172,209,132,157,195,56,86,277,113,152,175,146,158,134,274,50,64,70,59,63,229,152,108,183,54,193,145,138]
["LC2101EW0125:Males, All categories: Age, White: Gypsy or Irish Traveller",1,0,2,2,4,4,1,3,6,2,10,1,5,4,0,1,4,3,2,2,1,7,2,2,6,4,1,2,1,1,3,1,9,6,2,0,8,4,0,8,3,4,1,2,0,6,1,1,0,1,12,0,22,7,3,4,1,1,1,0,2,3,1,2,1,6,3,0,1]
["LC2101EW0126:Males, All categories: Age, White: Other White",492,71,151,184,137,146,171,236,242,104,402,183,245,135,46,76,429,327,42,80,157,258,252,53,250,480,414,87,72,417,93,58,161,940,102,59,342,301,198,719,60,152,287,135,128,197,37,56,132,126,587,143,217,175,131,559,66,74,64,72,80,135,116,84,205,86,259,55,121]
["LC2101EW0127:Males, All categories: Age, Mixed/multiple ethnic group: Total",518,242,361,336,281,594,457,294,433,289,402,317,444,479,272,336,449,486,292,195,659,377,395,150,299,421,593,289,211,270,261,371,420,821,345,151,613,471,385,606,217,287,395,264,260,476,191,328,264,243,814,196,426,290,221,694,59,106,155,107,133,237,177,111,317,190,574,172,311]
["LC2101EW0128:Males, All categories: Age, Mixed/multiple ethnic group: White and Black Caribbean",261,158,147,117,128,359,226,137,219,100,151,149,198,283,211,215,122,260,201,106,399,205,147,59,126,217,238,106,137,148,157,217,249,374,215,68,269,240,195,268,116,186,226,163,163,247,124,234,144,93,424,113,151,75,121,451,18,53,94,56,65,119,106,45,147,82,276,103,180]
["LC2101EW0129:Males, All categories: Age, Mixed/multiple ethnic group: White and Black African",24,16,29,45,14,38,15,20,36,32,45,20,22,27,13,19,37,36,13,10,32,18,21,3,42,20,36,12,11,14,24,28,37,102,23,12,27,46,37,61,7,13,22,14,15,32,9,12,10,18,72,12,23,30,13,40,8,4,9,3,8,24,12,15,11,16,48,15,12]
["LC2101EW0130:Males, All categories: Age, Mixed/multiple ethnic group: White and Asian",154,34,119,110,69,106,129,51,94,73,112,85,158,95,27,64,186,124,48,47,135,99,152,53,60,96,218,95,34,52,38,66,92,190,46,41,185,106,97,165,54,59,94,54,48,126,34,40,61,80,126,49,172,130,46,101,26,33,29,28,39,66,39,27,96,54,142,35,78]
["LC2101EW0131:Males, All categories: Age, Mixed/multiple ethnic group: Other Mixed",79,34,66,64,70,91,87,86,84,84,94,63,66,74,21,38,104,66,30,32,93,55,75,35,71,88,101,76,29,56,42,60,42,155,61,30,132,79,56,112,40,29,53,33,34,71,24,42,49,52,192,22,80,55,41,102,7,16,23,20,21,28,20,24,63,38,108,19,41]
["LC2101EW0145:Males, Age 0 to 24, All categories: Ethnic group",4206,1976,6585,5430,2532,3792,3406,2593,3119,2859,6034,2692,3061,4080,1776,2014,4054,2788,1859,1854,4614,1819,4161,1643,2507,3491,3296,2903,1900,2360,1866,2125,3996,4304,3181,2256,3348,3846,3375,4242,1661,3231,3684,1865,1749,3193,1723,1975,2979,5005,4287,1713,6140,4741,1501,3914,1227,1268,1712,1809,1162,2802,2305,1215,2280,2739,4166,1681,2361]
["LC2101EW0146:Males, Age 0 to 24, White: Total",2165,1467,327,333,361,2773,1989,266,485,199,4358,2117,1935,1515,1438,1441,2320,1828,1505,1223,2612,672,1159,908,207,566,1912,338,1509,268,1468,1597,3055,1625,2712,82,1143,1195,664,1151,1392,2514,1633,1207,1171,1954,1490,1543,2282,232,857,1108,393,326,1014,1906,1003,1073,1405,1542,959,2194,1957,953,898,373,2869,1064,897]
["LC2101EW0147:Males, Age 0 to 24, White: English/Welsh/Scottish/Northern Irish/British",1984,1440,243,272,296,2704,1877,164,405,151,4096,2060,1807,1448,1415,1392,2125,1713,1484,1188,2539,583,1011,851,119,378,1747,285,1493,113,1407,1572,2986,1291,2659,65,1042,971,563,888,1349,2449,1501,1150,1118,1879,1475,1516,2230,174,653,1043,289,240,973,1710,976,1046,1373,1515,931,2126,1913,915,813,323,2760,1030,837]
["LC2101EW0148:Males, Age 0 to 24, White: Irish",42,8,1,1,7,19,62,7,5,1,53,13,48,14,11,19,16,40,9,11,18,14,59,43,0,10,44,9,4,2,21,9,12,23,18,0,27,8,10,21,25,18,28,16,15,23,3,8,28,8,11,23,4,2,7,24,8,7,8,9,5,39,23,16,22,4,22,21,14]
["LC2101EW0149:Males, Age 0 to 24, White: Gypsy or Irish Traveller",1,0,0,0,2,1,0,1,4,1,7,0,3,4,0,0,1,1,0,1,0,3,0,0,2,2,1,1,0,0,1,0,3,2,0,0,3,1,0,2,0,2,0,0,0,4,0,0,0,0,3,0,16,7,1,1,0,0,1,0,1,1,0,2,0,3,0,0,0]
["LC2101EW0150:Males, Age 0 to 24, White: Other White",138,19,83,60,56,49,50,94,71,46,202,44,77,49,12,30,178,74,12,23,55,72,89,14,86,176,120,43,12,153,39,16,54,309,35,17,71,215,91,240,18,45,104,41,38,48,12,19,24,50,190,42,84,77,33,171,19,20,23,18,22,28,21,20,63,43,87,13,46]
["LC2101EW0151:Males, Age 0 to 24, Mixed/multiple ethnic group: Total",385,180,279,223,187,454,343,199,301,201,311,216,301,370,218,228,318,335,209,154,487,261,312,106,192,284,384,200,147,203,179,283,309,432,245,103,365,333,257,377,150,206,283,188,190,348,128,248,202,184,498,128,278,188,143,482,42,61,133,77,95,161,125,75,228,129,413,133,219]
["LC2101EW0152:Males, Age 0 to 24, Mixed/multiple ethnic group: White and Black Caribbean",187,118,119,75,82,276,183,97,156,62,109,103,132,214,168,150,84,179,150,87,296,146,109,44,92,146,164,68,104,105,111,173,185,221,155,50,157,169,132,170,81,135,161,121,122,172,86,171,116,65,261,78,103,42,84,319,12,31,82,39,50,77,81,32,101,56,211,79,128]
["LC2101EW0153:Males, Age 0 to 24, Mixed/multiple ethnic group: White and Black African",17,9,21,30,7,24,10,9,19,22,38,16,11,23,11,12,24,21,8,7,22,13,17,3,17,8,19,9,4,11,17,18,32,45,16,4,11,33,22,31,4,6,16,11,12,22,3,10,4,15,49,5,10,19,6,29,6,2,9,3,4,20,7,9,8,10,21,12,7]
["LC2101EW0154:Males, Age 0 to 24, Mixed/multiple ethnic group: White and Asian",125,27,93,78,46,79,91,37,60,50,90,57,112,81,19,39,143,93,30,34,104,72,125,32,46,62,147,60,19,39,21,45,68,87,31,28,106,78,60,100,34,41,70,32,36,100,26,33,40,62,72,31,111,87,26,60,20,18,22,22,25,43,23,15,67,40,106,28,56]
["LC2101EW0155:Males, Age 0 to 24, Mixed/multiple ethnic group: Other Mixed",56,26,46,40,52,75,59,56,66,67,74,40,46,52,20,27,67,42,21,26,65,30,61,27,37,68,54,63,20,48,30,47,24,79,43,21,91,53,43,76,31,24,36,24,20,54,13,34,42,42,116,14,54,40,27,74,4,10,20,13,16,21,14,19,52,23,75,14,28]
["LC2101EW0169:Males, Age 25 to 49, All categories: Ethnic group",4188,1720,4370,4081,1946,3353,3122,2269,2804,2087,2183,2786,3491,3148,1364,2062,2785,3345,1885,1491,3672,1847,3570,1808,2377,3581,4248,2047,1932,2110,1839,1776,3192,6205,3261,1654,4789,1969,2065,4922,1745,3340,3368,1717,1822,3336,1721,1782,3094,3400,5789,1876,4566,3648,2022,3996,1228,1467,1578,1834,1542,3210,2568,1360,1925,2130,3783,1657,1997]
["LC2101EW0170:Males, Age 25 to 49, White: Total",2641,1369,361,401,459,2700,2178,333,872,287,1384,2318,2511,1464,1174,1645,1375,2562,1636,1099,2382,976,1388,1161,275,822,2889,358,1653,351,1556,1476,2573,3013,2870,103,2836,547,458,1829,1537,2775,1798,1268,1385,2271,1553,1530,2601,267,2443,1379,595,400,1608,2406,1027,1291,1400,1596,1366,2710,2250,1144,924,409,2645,1182,939]
["LC2101EW0171:Males, Age 25 to 49, White: English/Welsh/Scottish/Northern Irish/British",2248,1311,293,284,384,2598,2011,191,692,229,1147,2164,2288,1381,1138,1580,1156,2228,1599,1031,2255,777,1159,1044,139,539,2588,304,1570,127,1496,1432,2443,2364,2781,66,2515,442,356,1337,1470,2654,1608,1152,1276,2129,1517,1491,2460,196,2011,1243,453,297,1482,1996,991,1239,1349,1538,1309,2579,2157,1071,774,364,2466,1123,851]
["LC2101EW0172:Males, Age 25 to 49, White: Irish",88,19,11,9,12,40,84,26,32,11,61,57,97,25,11,31,30,118,20,20,38,36,106,88,5,24,73,14,35,9,24,19,42,70,46,1,125,22,13,70,33,35,46,36,34,46,17,10,65,12,66,49,35,31,50,68,11,16,21,24,20,65,37,32,30,3,47,28,25]
["LC2101EW0173:Males, Age 25 to 49, White: Gypsy or Irish Traveller",0,0,2,1,1,3,1,2,1,0,3,1,2,0,0,0,2,2,2,1,1,3,2,2,3,2,0,0,1,1,2,1,3,3,2,0,4,2,0,4,2,1,1,2,0,1,0,0,0,1,7,0,5,0,2,2,1,1,0,0,1,0,0,0,0,2,0,0,0]
["LC2101EW0174:Males, Age 25 to 49, White: Other White",305,39,55,107,62,59,82,114,147,47,173,96,124,58,25,34,187,214,15,47,88,160,121,27,128,257,228,40,47,214,34,24,85,576,41,36,192,81,89,418,32,85,143,78,75,95,19,29,76,58,359,87,102,72,74,340,24,35,30,34,36,66,56,41,120,40,132,31,63]
["LC2101EW0175:Males, Age 25 to 49, Mixed/multiple ethnic group: Total",113,46,69,82,76,109,90,68,120,68,77,77,123,91,46,97,113,118,72,36,161,84,72,37,89,105,176,69,49,52,68,76,79,346,82,39,214,103,106,195,52,67,85,60,60,107,57,67,48,49,278,55,122,82,67,178,14,39,17,23,31,58,46,23,67,48,134,33,73]
["LC2101EW0176:Males, Age 25 to 49, Mixed/multiple ethnic group: White and Black Caribbean",66,33,21,29,38,64,34,23,56,33,35,40,57,63,38,58,28,71,49,18,100,44,32,13,26,52,63,29,24,32,41,41,45,136,52,13,97,53,52,78,29,43,49,34,37,63,34,55,21,25,146,30,42,26,36,113,5,20,10,14,11,36,25,7,38,22,54,21,44]
["LC2101EW0177:Males, Age 25 to 49, Mixed/multiple ethnic group: White and Black African",6,2,7,13,5,12,3,10,16,8,5,2,11,3,2,6,12,14,5,2,9,5,2,0,23,9,10,2,6,3,7,8,5,51,6,8,14,8,12,28,2,4,4,2,3,8,5,1,5,2,20,6,9,7,6,9,1,1,0,0,4,3,4,4,2,3,21,3,5]
["LC2101EW0178:Males, Age 25 to 49, Mixed/multiple ethnic group: White and Asian",22,5,24,24,18,18,33,11,32,16,20,16,38,8,5,25,40,19,12,11,27,18,24,19,12,26,61,28,12,12,11,16,19,90,9,12,67,23,32,57,14,16,20,19,8,22,8,5,17,17,47,14,52,40,15,36,6,13,5,4,12,16,12,9,20,12,31,5,18]
["LC2101EW0179:Males, Age 25 to 49, Mixed/multiple ethnic group: Other Mixed",19,6,17,16,15,15,20,24,16,11,17,19,17,17,1,8,33,14,6,5,25,17,14,5,28,18,42,10,7,5,9,11,10,69,15,6,36,19,10,32,7,4,12,5,12,14,10,6,5,5,65,5,19,9,10,20,2,5,2,5,4,3,5,3,7,11,28,4,6]
["LC2101EW0193:Males, Age 50 to 64, All categories: Ethnic group",1629,845,1107,1037,623,1858,1656,671,551,559,684,1561,1510,1420,707,887,1144,1640,962,687,1557,735,1619,918,668,1564,1660,573,913,588,1032,907,1687,1054,1810,366,1851,611,488,1273,967,1508,1539,900,856,1646,803,918,1670,952,1125,901,1215,1132,755,1584,935,904,916,1009,893,1975,1834,1072,764,690,1612,929,832]
["LC2101EW0194:Males, Age 50 to 64, White: Total",1313,775,294,219,246,1706,1356,165,279,201,554,1442,1262,1083,660,810,789,1463,904,615,1361,534,954,724,124,492,1381,273,846,149,964,845,1516,721,1730,74,1278,367,225,655,913,1389,1121,771,763,1347,772,876,1571,208,518,792,350,260,665,1213,849,859,866,958,857,1774,1737,980,608,385,1438,829,641]
["LC2101EW0195:Males, Age 50 to 64, White: English/Welsh/Scottish/Northern Irish/British",1185,739,274,187,207,1626,1232,126,219,162,499,1364,1145,1039,616,762,719,1329,868,584,1300,474,824,658,92,436,1283,248,809,92,922,808,1460,634,1661,60,1142,336,191,551,874,1327,1043,738,714,1268,751,849,1496,164,447,747,287,195,616,1107,819,834,841,943,828,1683,1666,945,540,365,1366,783,603]
["LC2101EW0196:Males, Age 50 to 64, White: Irish",92,27,12,20,27,50,99,18,44,30,40,52,90,30,36,43,30,110,26,23,50,44,105,59,3,23,62,20,26,11,34,26,40,39,50,11,78,26,18,57,32,47,50,27,41,52,19,24,61,30,40,38,40,46,38,73,16,17,16,9,19,62,47,20,51,18,45,41,30]
["LC2101EW0197:Males, Age 50 to 64, White: Gypsy or Irish Traveller",0,0,0,1,0,0,0,0,0,1,0,0,0,0,0,0,1,0,0,0,0,1,0,0,1,0,0,1,0,0,0,0,3,1,0,0,0,1,0,2,1,1,0,0,0,1,1,0,0,0,1,0,0,0,0,0,0,0,0,0,0,2,1,0,0,0,2,0,1]
["LC2101EW0198:Males, Age 50 to 64, White: Other White",36,9,8,11,12,30,25,21,16,8,15,26,27,14,8,5,39,24,10,8,11,15,25,7,28,33,36,4,11,46,8,11,13,47,19,3,58,4,16,45,6,14,28,6,8,26,1,3,14,14,30,7,23,19,11,33,14,8,9,6,10,27,23,15,17,2,25,5,7]
["LC2101EW0199:Males, Age 50 to 64, Mixed/multiple ethnic group: Total",13,11,8,18,13,22,17,19,6,13,11,16,10,7,4,7,14,23,7,4,8,21,8,6,8,19,28,10,11,5,12,7,26,35,15,5,29,19,14,21,9,11,23,11,8,17,4,9,9,4,17,9,16,13,8,22,1,4,5,4,3,13,6,12,17,11,16,5,11]
["LC2101EW0200:Males, Age 50 to 64, Mixed/multiple ethnic group: White and Black Caribbean",3,3,4,6,6,12,6,9,4,2,7,3,3,3,3,3,7,5,1,0,2,7,3,2,3,10,7,2,5,2,4,2,14,13,5,3,11,7,7,11,3,6,14,4,3,9,2,6,5,0,8,3,4,2,1,9,1,1,2,2,2,5,0,6,4,3,4,2,4]
["LC2101EW0201:Males, Age 50 to 64, Mixed/multiple ethnic group: White and Black African",1,4,0,2,2,2,2,1,0,2,2,1,0,0,0,1,1,1,0,1,1,0,2,0,1,3,7,1,1,0,0,1,0,6,1,0,2,5,2,2,1,2,1,1,0,2,1,0,1,0,0,0,3,4,1,1,0,1,0,0,0,1,1,1,1,3,6,0,0]
["LC2101EW0202:Males, Age 50 to 64, Mixed/multiple ethnic group: White and Asian",7,2,2,6,4,7,5,3,1,5,1,10,5,3,1,0,3,10,4,2,2,7,3,1,1,5,9,6,3,0,6,4,5,12,6,1,11,5,4,5,3,2,4,3,4,4,0,1,2,1,4,4,6,2,3,5,0,1,2,1,1,5,4,3,9,2,2,2,1]
["LC2101EW0203:Males, Age 50 to 64, Mixed/multiple ethnic group: Other Mixed",2,2,2,4,1,1,4,6,1,4,1,2,2,1,0,3,3,7,2,1,3,7,0,3,3,1,5,1,2,3,2,0,7,4,3,1,5,2,1,3,2,1,4,3,1,2,1,2,1,3,5,2,3,5,3,7,0,1,1,1,0,2,1,2,3,3,4,1,6]
["LC2101EW0217:Males, Age 65 and over, All categories: Ethnic group",1283,695,822,878,515,1397,1301,509,381,466,572,1241,1142,1220,735,735,1041,1359,613,527,1164,475,1199,770,493,1007,1299,476,725,451,827,699,1208,543,1409,319,1207,458,304,892,834,1358,1320,736,721,1518,585,755,1577,813,775,597,903,822,492,1102,1011,973,688,984,787,1647,1252,908,556,465,1476,800,670]
["LC2101EW0218:Males, Age 65 and over, White: Total",1113,663,255,204,147,1324,1178,102,200,193,490,1179,970,1068,693,698,801,1258,587,475,1080,367,911,684,90,526,1182,297,688,112,800,675,1120,386,1371,69,860,284,155,443,814,1287,1129,682,684,1379,572,728,1527,201,298,548,241,243,446,878,963,941,659,958,768,1585,1212,866,487,290,1363,745,564]
["LC2101EW0219:Males, Age 65 and over, White: English/Welsh/Scottish/Northern Irish/British",919,615,215,165,108,1252,1030,79,121,138,417,1107,843,990,635,643,743,1062,548,435,1007,295,755,606,67,458,1084,256,646,86,757,614,1024,335,1288,43,745,227,116,351,753,1207,1032,619,610,1277,550,678,1386,134,254,476,165,157,394,753,939,906,632,927,737,1508,1151,818,401,259,1268,684,490]
["LC2101EW0220:Males, Age 65 and over, White: Irish",181,44,35,33,31,64,134,16,70,52,61,55,110,64,57,47,33,181,34,38,70,61,139,73,15,54,68,41,40,22,31,54,87,43,76,23,93,56,37,76,57,72,85,53,67,74,17,44,123,63,35,65,67,79,39,109,15,24,25,17,19,63,45,40,80,29,79,55,69]
["LC2101EW0221:Males, Age 65 and over, White: Gypsy or Irish Traveller",0,0,0,0,1,0,0,0,1,0,0,0,0,0,0,1,0,0,0,0,0,0,0,0,0,0,0,0,0,0,0,0,0,0,0,0,1,0,0,0,0,0,0,0,0,0,0,1,0,0,1,0,1,0,0,1,0,0,0,0,0,0,0,0,1,1,1,0,0]
["LC2101EW0222:Males, Age 65 and over, White: Other White",13,4,5,6,7,8,14,7,8,3,12,17,17,14,1,7,25,15,5,2,3,11,17,5,8,14,30,0,2,4,12,7,9,8,7,3,21,1,2,16,4,8,12,10,7,28,5,5,18,4,8,7,8,7,13,15,9,11,2,14,12,14,16,8,5,1,15,6,5]
["LC2101EW0223:Males, Age 65 and over, Mixed/multiple ethnic group: Total",7,5,5,13,5,9,7,8,6,7,3,8,10,11,4,4,4,10,4,1,3,11,3,1,10,13,5,10,4,10,2,5,6,8,3,4,5,16,8,13,6,3,4,5,2,4,2,4,5,6,21,4,10,7,3,12,2,2,0,3,4,5,0,1,5,2,11,1,8]
["LC2101EW0224:Males, Age 65 and over, Mixed/multiple ethnic group: White and Black Caribbean",5,4,3,7,2,7,3,8,3,3,0,3,6,3,2,4,3,5,1,1,1,8,3,0,5,9,4,7,4,9,1,1,5,4,3,2,4,11,4,9,3,2,2,4,1,3,2,2,2,3,9,2,2,5,0,10,0,1,0,1,2,1,0,0,4,1,7,1,4]
["LC2101EW0225:Males, Age 65 and over, Mixed/multiple ethnic group: White and Black African",0,1,1,0,0,0,0,0,1,0,0,1,0,1,0,0,0,0,0,0,0,0,0,0,1,0,0,0,0,0,0,1,0,0,0,0,0,0,1,0,0,1,1,0,0,0,0,1,0,1,3,1,1,0,0,1,1,0,0,0,0,0,0,1,0,0,0,0,0]
["LC2101EW0226:Males, Age 65 and over, Mixed/multiple ethnic group: White and Asian",0,0,0,2,1,2,0,0,1,2,1,2,3,3,2,0,0,2,2,0,2,2,0,1,1,3,1,1,0,1,0,1,0,1,0,0,1,0,1,3,3,0,0,0,0,0,0,1,2,0,3,0,3,1,2,0,0,1,0,1,1,2,0,0,0,0,3,0,3]
["LC2101EW0227:Males, Age 65 and over, Mixed/multiple ethnic group: Other Mixed",2,0,1,4,2,0,4,0,1,2,2,2,1,4,0,0,1,3,1,0,0,1,0,0,3,1,0,2,0,0,1,2,1,3,0,2,0,5,2,1,0,0,1,1,1,1,0,0,1,2,6,1,4,1,1,1,1,0,0,1,1,2,0,0,1,1,1,0,1]
["LC2101EW0241:Females, All categories: Age, All categories: Ethnic group",11811,5726,12603,11210,5549,11614,10263,5423,6387,5825,10163,9221,9744,10578,5389,5955,9236,9471,5713,4872,12031,4999,10960,5281,5688,10088,11353,6288,5712,5624,5929,6158,10797,10144,10287,4558,10481,7096,6253,10605,5347,10386,10655,5750,5553,10558,5125,6230,9666,10233,10630,5208,12387,9966,5162,10976,4618,5091,5276,6038,4592,10061,8478,4878,5770,6231,11953,5260,6076]
["LC2101EW0242:Females, All categories: Age, White: Total",7631,4760,1110,1137,1155,9534,7310,710,1508,825,7393,7963,7081,5584,4625,4871,5643,7434,4964,3735,8225,2634,4707,3595,663,2562,8141,1423,4989,942,5136,5119,8792,4689,9233,305,5749,2415,1256,3621,4799,8643,6175,4312,4360,7550,4666,5316,8278,940,3103,3944,1480,1158,4018,6630,4076,4625,4711,5445,4188,8650,7681,4250,3107,1529,9176,3999,3162]
["LC2101EW0243:Females, All categories: Age, White: English/Welsh/Scottish/Northern Irish/British",6660,4547,884,866,950,9228,6729,447,1167,655,6658,7499,6437,5250,4476,4612,5013,6567,4805,3532,7838,2245,4008,3233,387,1975,7306,1258,4794,471,4883,4921,8357,3595,8946,224,5025,2001,992,2655,4554,8196,5641,4028,4065,7088,4523,5157,7864,701,2333,3608,1128,816,3693,5800,3924,4452,4538,5261,3971,8225,7357,4027,2720,1372,8639,3786,2895]
["LC2101EW0244:Females, All categories: Age, White: Irish",457,121,67,73,58,137,377,39,85,65,281,204,347,200,94,159,139,467,96,126,231,127,423,279,33,116,296,69,118,54,122,115,245,176,185,31,295,111,74,179,163,252,233,145,155,246,84,97,268,118,134,179,117,151,153,280,55,71,85,91,95,254,182,120,193,63,196,149,149]
["LC2101EW0245:Females, All categories: Age, White: Gypsy or Irish Traveller",1,0,0,3,5,5,6,5,8,8,5,1,7,4,1,0,2,1,0,0,0,4,3,0,5,3,3,1,2,3,1,2,4,4,2,1,6,2,0,15,0,0,1,2,1,5,3,2,4,0,8,0,13,11,0,1,1,2,1,1,2,6,0,0,0,5,1,1,0]
["LC2101EW0246:Females, All categories: Age, White: Other White",513,92,159,195,142,164,198,219,248,97,449,259,290,130,54,100,489,399,63,77,156,258,273,83,238,468,536,95,75,414,130,81,186,914,100,49,423,301,190,772,82,195,300,137,139,211,56,60,142,121,628,157,222,180,172,549,96,100,87,92,120,165,142,103,194,89,340,63,118]
["LC2101EW0247:Females, All categories: Age, Mixed/multiple ethnic group: Total",534,240,302,333,316,621,500,260,459,253,417,355,492,479,327,291,425,494,288,200,706,322,364,134,258,445,543,306,187,290,247,387,441,706,419,147,510,509,421,553,192,361,460,280,270,556,208,393,277,242,725,184,435,231,226,717,55,102,149,112,94,219,149,103,303,221,592,191,277]
["LC2101EW0248:Females, All categories: Age, Mixed/multiple ethnic group: White and Black Caribbean",310,141,110,159,159,400,246,135,211,90,141,176,252,296,261,175,140,282,202,123,434,197,141,48,141,238,216,102,116,150,162,253,297,348,258,77,223,275,219,237,110,211,261,173,181,297,129,287,137,57,410,102,176,75,132,436,22,46,82,41,46,87,70,42,144,96,320,105,147]
["LC2101EW0249:Females, All categories: Age, Mixed/multiple ethnic group: White and Black African",27,16,35,34,18,22,25,14,32,30,31,26,27,35,15,29,26,31,18,4,43,18,24,6,23,23,45,13,7,20,17,27,21,73,41,21,31,45,37,35,9,16,34,8,15,38,9,11,19,26,47,8,16,21,8,48,7,2,9,8,7,20,21,13,13,16,34,12,19]
["LC2101EW0250:Females, All categories: Age, Mixed/multiple ethnic group: White and Asian",129,44,93,83,75,104,149,46,106,64,144,94,114,93,25,46,155,99,38,36,133,63,125,54,52,97,180,120,39,47,28,49,76,137,58,25,151,102,89,138,41,73,79,55,38,122,27,51,76,76,113,44,139,79,50,109,17,33,32,37,21,62,31,24,94,63,120,46,63]
["LC2101EW0251:Females, All categories: Age, Mixed/multiple ethnic group: Other Mixed",68,39,64,57,64,95,80,65,110,69,101,59,99,55,26,41,104,82,30,37,96,44,74,26,42,87,102,71,25,73,40,58,47,148,62,24,105,87,76,143,32,61,86,44,36,99,43,44,45,83,155,30,104,56,36,124,9,21,26,26,20,50,27,24,52,46,118,28,48]
["LC2101EW0265:Females, Age 0 to 24, All categories: Ethnic group",4029,1879,6068,5012,2452,3828,3308,2317,2974,2709,6880,2704,2980,3998,1753,1875,4593,2781,1789,1748,4553,1831,3927,1534,2293,3492,3497,2908,1754,2195,1816,2146,3870,4412,3221,2147,3231,3950,3438,4173,1545,3242,3772,1724,1784,3191,1654,2097,2712,4881,4057,1666,5854,4475,1565,3763,1106,1289,1602,1707,1127,2666,2094,1233,2276,2871,4105,1622,2336]
["LC2101EW0266:Females, Age 0 to 24, White: Total",2110,1445,252,319,392,2797,1965,245,447,216,5047,2130,1827,1425,1358,1374,2882,1827,1452,1174,2551,766,1050,847,207,639,2063,336,1422,311,1407,1594,2923,1794,2683,87,1188,1208,587,1166,1283,2482,1788,1091,1214,1924,1445,1612,2094,226,880,1092,418,321,1047,1849,911,1087,1340,1468,960,2112,1803,964,878,362,2785,1000,852]
["LC2101EW0267:Females, Age 0 to 24, White: English/Welsh/Scottish/Northern Irish/British",1908,1405,185,241,331,2725,1866,156,355,159,4721,2038,1708,1364,1338,1329,2647,1644,1434,1144,2471,680,928,779,100,446,1890,299,1399,124,1361,1557,2855,1426,2646,63,1072,970,463,882,1246,2408,1647,1046,1159,1831,1421,1583,2045,172,644,1022,315,237,981,1657,886,1059,1308,1424,918,2045,1749,922,806,330,2669,965,798]
["LC2101EW0268:Females, Age 0 to 24, White: Irish",44,10,1,8,5,19,37,3,6,1,62,20,43,14,8,16,29,53,3,10,27,11,46,49,2,15,36,2,5,2,12,18,13,33,16,1,33,10,9,15,15,15,38,8,11,32,6,9,10,3,10,21,2,8,18,24,5,9,13,17,15,27,25,19,14,1,19,17,10]
["LC2101EW0269:Females, Age 0 to 24, White: Gypsy or Irish Traveller",1,0,0,1,1,2,2,3,5,3,5,0,4,1,0,0,1,0,0,0,0,3,0,0,2,0,0,1,0,2,1,0,1,2,1,0,1,0,0,6,0,0,0,2,0,2,2,0,1,0,3,0,6,3,0,0,0,0,0,0,1,1,0,0,0,3,1,0,0]
["LC2101EW0270:Females, Age 0 to 24, White: Other White",157,30,66,69,55,51,60,83,81,53,259,72,72,46,12,29,205,130,15,20,53,72,76,19,103,178,137,34,18,183,33,19,54,333,20,23,82,228,115,263,22,59,103,35,44,59,16,20,38,51,223,49,95,73,48,168,20,19,19,27,26,39,29,23,58,28,96,18,44]
["LC2101EW0271:Females, Age 0 to 24, Mixed/multiple ethnic group: Total",349,150,214,217,194,452,326,167,306,173,324,247,343,345,231,185,298,365,180,134,515,204,255,100,172,302,360,218,133,178,184,265,324,466,302,83,316,351,293,368,142,250,326,178,188,382,132,279,181,177,456,121,297,160,153,483,37,68,102,75,59,142,97,75,218,158,441,129,197]
["LC2101EW0272:Females, Age 0 to 24, Mixed/multiple ethnic group: White and Black Caribbean",202,86,73,102,91,284,163,83,128,48,102,131,176,223,188,117,88,216,133,83,312,126,91,32,84,145,154,68,88,87,122,179,218,228,198,40,139,190,135,150,82,154,176,109,125,208,85,208,89,43,252,71,111,52,92,287,16,32,59,29,27,56,51,32,101,64,241,76,106]
["LC2101EW0273:Females, Age 0 to 24, Mixed/multiple ethnic group: White and Black African",19,9,23,19,8,15,14,3,17,18,18,17,18,28,9,11,17,23,14,2,28,12,20,3,15,14,25,8,5,14,11,17,16,46,28,11,22,27,31,24,7,10,27,6,11,21,5,8,11,19,27,4,8,12,4,29,6,1,6,7,6,13,9,8,4,8,24,7,14]
["LC2101EW0274:Females, Age 0 to 24, Mixed/multiple ethnic group: White and Asian",82,31,71,57,54,79,98,33,81,49,121,62,77,64,16,28,120,76,20,22,103,44,89,45,41,74,125,83,21,29,21,30,57,94,33,14,94,72,66,95,32,45,61,42,27,88,19,34,53,53,72,25,97,56,33,67,10,23,18,23,13,42,20,16,74,46,89,28,46]
["LC2101EW0275:Females, Age 0 to 24, Mixed/multiple ethnic group: Other Mixed",46,24,47,39,41,74,51,48,80,58,83,37,72,30,18,29,73,50,13,27,72,22,55,20,32,69,56,59,19,48,30,39,33,98,43,18,61,62,61,99,21,41,62,21,25,65,23,29,28,62,105,21,81,40,24,100,5,12,19,16,13,31,17,19,39,40,87,18,31]
["LC2101EW0289:Females, Age 25 to 49, All categories: Ethnic group",4378,1967,4342,3939,1889,3938,3489,1965,2509,2010,1887,2921,3696,3507,1886,2135,2396,3336,2096,1680,4189,1838,3759,1849,2098,3691,4368,2157,2061,2173,1977,2075,3700,4383,3540,1609,4002,2032,1984,4186,1788,3715,3599,2032,1990,3712,1892,2111,3220,3422,4606,1945,4298,3484,2129,4257,1276,1520,1800,2044,1488,3244,2771,1414,2104,2124,4127,1688,2086]
["LC2101EW0290:Females, Age 25 to 49, White: Total",2671,1552,333,338,380,3126,2347,246,656,253,1161,2422,2670,1619,1615,1693,1088,2534,1786,1248,2746,907,1403,1177,251,723,2983,381,1763,329,1686,1698,2936,2049,3148,81,2232,524,334,1400,1574,2970,1802,1455,1518,2487,1695,1788,2633,268,1507,1433,518,357,1663,2483,1064,1334,1578,1777,1306,2664,2422,1184,1073,434,2971,1224,980]
["LC2101EW0291:Females, Age 25 to 49, White: English/Welsh/Scottish/Northern Irish/British",2272,1484,249,234,300,3003,2170,134,490,210,974,2242,2408,1530,1566,1603,862,2232,1739,1174,2612,730,1173,1064,148,474,2603,322,1696,130,1591,1629,2783,1449,3060,60,1913,444,249,901,1501,2819,1611,1354,1409,2314,1649,1744,2524,202,1097,1311,387,257,1532,2073,1008,1269,1505,1707,1220,2510,2319,1105,914,372,2750,1159,886]
["LC2101EW0292:Females, Age 25 to 49, White: Irish",99,20,9,6,9,35,84,11,23,5,45,48,96,25,18,33,27,85,19,28,52,27,91,73,3,15,89,9,22,9,32,28,47,57,40,3,77,22,20,46,35,53,38,23,28,61,22,10,44,13,44,41,28,18,47,68,14,15,20,24,22,64,37,35,37,14,52,35,29]
["LC2101EW0293:Females, Age 25 to 49, White: Gypsy or Irish Traveller",0,0,0,1,3,3,2,1,1,2,0,1,3,2,1,0,0,0,0,0,0,1,1,0,2,1,3,0,1,1,0,2,1,1,0,0,3,0,0,6,0,0,0,0,0,3,0,0,1,0,3,0,6,4,0,1,0,0,1,0,1,3,0,0,0,1,0,1,0]
["LC2101EW0294:Females, Age 25 to 49, White: Other White",300,48,75,97,68,85,91,100,142,36,142,131,163,62,30,57,199,217,28,46,82,149,138,40,98,233,288,50,44,189,63,39,105,542,48,18,239,58,65,447,38,98,153,78,81,109,24,34,64,53,363,81,97,78,84,341,42,50,52,46,63,87,66,44,122,47,169,29,65]
["LC2101EW0295:Females, Age 25 to 49, Mixed/multiple ethnic group: Total",157,74,75,96,98,150,138,70,140,59,77,84,119,115,80,84,103,101,92,55,161,96,95,29,66,115,146,70,39,92,54,104,100,209,92,54,156,124,110,158,42,88,109,84,68,140,64,93,79,56,218,52,113,50,64,191,11,25,38,21,26,55,35,20,68,56,125,49,70]
["LC2101EW0296:Females, Age 25 to 49, Mixed/multiple ethnic group: White and Black Caribbean",89,45,34,43,57,104,68,36,78,27,33,34,63,66,63,46,46,54,64,39,107,56,43,12,44,76,49,28,21,54,34,69,69,100,49,31,74,67,76,72,22,46,69,52,48,76,38,65,39,12,137,25,48,14,33,122,4,11,19,6,15,24,14,7,37,27,70,28,39]
["LC2101EW0297:Females, Age 25 to 49, Mixed/multiple ethnic group: White and Black African",7,6,10,15,6,6,9,11,11,12,12,6,7,6,5,17,7,6,2,2,10,4,3,3,7,4,18,4,2,3,4,7,3,23,10,7,7,14,5,11,1,5,7,2,2,10,3,3,6,6,14,3,6,8,4,14,1,1,2,1,0,4,8,3,5,7,6,3,3]
["LC2101EW0298:Females, Age 25 to 49, Mixed/multiple ethnic group: White and Asian",42,11,17,22,16,25,38,11,24,10,16,25,33,23,6,11,25,19,12,7,24,14,34,8,8,19,44,27,11,15,6,15,17,40,19,11,44,24,15,35,8,19,15,11,8,29,5,13,21,21,33,16,38,16,16,37,3,5,10,9,5,15,5,7,17,16,25,9,15]
["LC2101EW0299:Females, Age 25 to 49, Mixed/multiple ethnic group: Other Mixed",19,12,14,16,19,15,23,12,27,10,16,19,16,20,6,10,25,22,14,7,20,22,15,6,7,16,35,11,5,20,10,13,11,46,14,5,31,19,14,40,11,18,18,19,10,25,18,12,13,17,34,8,21,12,11,18,3,8,7,5,6,12,8,3,9,6,24,9,13]
["LC2101EW0313:Females, Age 50 to 64, All categories: Ethnic group",1633,931,1189,1233,643,2052,1685,622,524,578,620,1760,1618,1419,754,901,1093,1557,1114,697,1702,698,1648,974,706,1608,1656,618,949,639,1078,1032,1616,753,1691,447,1719,591,442,1174,993,1574,1598,950,888,1778,792,911,1702,1001,1093,866,1280,1131,782,1539,958,999,930,1075,905,2040,1832,1103,703,627,1797,888,805]
["LC2101EW0314:Females, Age 50 to 64, White: Total",1296,846,240,222,201,1883,1365,103,231,163,481,1636,1308,1069,694,806,705,1382,1042,618,1450,481,987,752,111,465,1406,286,890,123,1014,955,1436,442,1609,68,1142,337,154,497,942,1419,1141,796,779,1414,750,842,1588,170,371,743,273,202,684,1138,864,941,879,1014,865,1839,1722,1021,562,334,1586,777,603]
["LC2101EW0315:Females, Age 50 to 64, White: English/Welsh/Scottish/Northern Irish/British",1150,801,217,186,175,1831,1252,76,184,141,409,1556,1201,1006,667,764,626,1248,987,580,1361,436,842,675,73,401,1284,261,847,84,975,905,1362,385,1533,52,1026,296,133,416,889,1350,1074,753,729,1331,721,822,1500,138,302,683,234,151,628,1049,832,903,853,982,833,1745,1637,969,502,316,1489,740,570]
["LC2101EW0316:Females, Age 50 to 64, White: Irish",111,34,14,17,15,40,86,5,24,15,44,43,73,50,20,33,31,100,44,30,73,29,114,63,9,27,56,17,32,6,23,37,57,28,60,10,61,29,16,35,45,48,46,28,42,62,19,17,65,24,31,38,21,28,36,66,15,18,19,23,22,68,53,28,49,12,49,27,30]
["LC2101EW0317:Females, Age 50 to 64, White: Gypsy or Irish Traveller",0,0,0,1,0,0,1,1,2,2,0,0,0,1,0,0,1,0,0,0,0,0,2,0,1,1,0,0,1,0,0,0,2,1,1,0,1,2,0,3,0,0,0,0,1,0,1,1,1,0,2,0,1,3,0,0,1,1,0,0,0,2,0,0,0,0,0,0,0]
["LC2101EW0318:Females, Age 50 to 64, White: Other White",35,11,9,18,11,12,26,21,21,5,28,37,34,12,7,9,47,34,11,8,16,16,29,14,28,36,66,8,10,33,16,13,15,28,15,6,54,10,5,43,8,21,21,15,7,21,9,2,22,8,36,22,17,20,20,23,16,19,7,9,10,24,32,24,11,6,48,10,3]
["LC2101EW0319:Females, Age 50 to 64, Mixed/multiple ethnic group: Total",21,13,10,9,13,16,25,16,11,12,11,20,21,12,13,16,17,20,15,8,29,15,8,4,13,24,26,11,9,12,8,15,9,21,17,5,31,17,12,20,8,16,20,13,13,28,9,14,14,6,36,9,18,13,3,33,5,8,5,11,8,16,14,5,13,5,20,12,9]
["LC2101EW0320:Females, Age 50 to 64, Mixed/multiple ethnic group: White and Black Caribbean",13,7,3,4,3,11,9,9,4,8,4,8,8,3,8,10,5,8,4,1,15,8,2,3,7,16,9,2,2,7,5,4,5,11,7,3,9,11,5,11,6,9,12,8,7,11,4,9,8,0,14,5,11,5,2,22,2,3,2,6,3,4,4,2,5,3,7,1,2]
["LC2101EW0321:Females, Age 50 to 64, Mixed/multiple ethnic group: White and Black African",1,1,1,0,3,1,1,0,3,0,1,3,2,1,1,0,1,1,2,0,5,2,1,0,0,5,2,1,0,3,2,2,0,4,3,1,2,0,1,0,1,1,0,0,2,7,1,0,2,0,5,1,1,1,0,4,0,0,0,0,1,3,4,2,3,1,3,1,1]
["LC2101EW0322:Females, Age 50 to 64, Mixed/multiple ethnic group: White and Asian",5,2,3,4,4,0,11,2,1,3,6,6,2,6,3,6,7,3,6,5,6,5,2,1,3,2,9,8,6,0,1,4,2,3,5,0,11,3,5,7,1,5,3,2,3,3,3,2,2,2,5,3,4,5,1,3,2,4,3,3,3,4,4,1,1,1,4,9,2]
["LC2101EW0323:Females, Age 50 to 64, Mixed/multiple ethnic group: Other Mixed",2,3,3,1,3,4,4,5,3,1,0,3,9,2,1,0,4,8,3,2,3,0,3,0,3,1,6,0,1,2,0,5,2,3,2,1,9,3,1,2,0,1,5,3,1,7,1,3,2,4,12,0,2,2,0,4,1,1,0,2,1,5,2,0,4,0,6,1,4]
["LC2101EW0337:Females, Age 65 and over, All categories: Ethnic group",1771,949,1004,1026,565,1796,1781,519,380,528,776,1836,1450,1654,996,1044,1154,1797,714,747,1587,632,1626,924,591,1297,1832,605,948,617,1058,905,1611,596,1835,355,1529,523,389,1072,1021,1855,1686,1044,891,1877,787,1111,2032,929,874,731,955,876,686,1417,1278,1283,944,1212,1072,2111,1781,1128,687,609,1924,1062,849]
["LC2101EW0338:Females, Age 65 and over, White: Total",1554,917,285,258,182,1728,1633,116,174,193,704,1775,1276,1471,958,998,968,1691,684,695,1478,480,1267,819,94,735,1689,420,914,179,1029,872,1497,404,1793,69,1187,346,181,558,1000,1772,1444,970,849,1725,776,1074,1963,276,345,676,271,278,624,1160,1237,1263,914,1186,1057,2035,1734,1081,594,399,1834,998,727]
["LC2101EW0339:Females, Age 65 and over, White: English/Welsh/Scottish/Northern Irish/British",1330,857,233,205,144,1669,1441,81,138,145,554,1663,1120,1350,905,916,878,1443,645,634,1394,399,1065,715,66,654,1529,376,852,133,956,830,1357,335,1707,49,1014,291,147,456,918,1619,1309,875,768,1612,732,1008,1795,189,290,592,192,171,552,1021,1198,1221,872,1148,1000,1925,1652,1031,498,354,1731,922,641]
["LC2101EW0340:Females, Age 65 and over, White: Irish",203,57,43,42,29,43,170,20,32,44,130,93,135,111,48,77,52,229,30,58,79,60,172,94,19,59,115,41,59,37,55,32,128,58,69,17,124,50,29,83,68,136,111,86,74,91,37,61,149,78,49,79,66,97,52,122,21,29,33,27,36,95,67,38,93,36,76,70,80]
["LC2101EW0341:Females, Age 65 and over, White: Gypsy or Irish Traveller",0,0,0,0,1,0,1,0,0,1,0,0,0,0,0,0,0,1,0,0,0,0,0,0,0,1,0,0,0,0,0,0,0,0,0,1,1,0,0,0,0,0,1,0,0,0,0,1,1,0,0,0,0,1,0,0,0,1,0,1,0,0,0,0,0,1,0,0,0]
["LC2101EW0342:Females, Age 65 and over, White: Other White",21,3,9,11,8,16,21,15,4,3,20,19,21,10,5,5,38,18,9,3,5,21,30,10,9,21,45,3,3,9,18,10,12,11,17,2,48,5,5,19,14,17,23,9,7,22,7,4,18,9,6,5,13,9,20,17,18,12,9,10,21,15,15,12,3,8,27,6,6]
["LC2101EW0343:Females, Age 65 and over, Mixed/multiple ethnic group: Total",7,3,3,11,11,3,11,7,2,9,5,4,9,7,3,6,7,8,1,3,1,7,6,1,7,4,11,7,6,8,1,3,8,10,8,5,7,17,6,7,0,7,5,5,1,6,3,7,3,3,15,2,7,8,6,10,2,1,4,5,1,6,3,3,4,2,6,1,1]
["LC2101EW0344:Females, Age 65 and over, Mixed/multiple ethnic group: White and Black Caribbean",6,3,0,10,8,1,6,7,1,7,2,3,5,4,2,2,1,4,1,0,0,7,5,1,6,1,4,4,5,2,1,1,5,9,4,3,1,7,3,4,0,2,4,4,1,2,2,5,1,2,7,1,6,4,5,5,0,0,2,0,1,3,1,1,1,2,2,0,0]
["LC2101EW0345:Females, Age 65 and over, Mixed/multiple ethnic group: White and Black African",0,0,1,0,1,0,1,0,1,0,0,0,0,0,0,1,1,1,0,0,0,0,0,0,1,0,0,0,0,0,0,1,2,0,0,2,0,4,0,0,0,0,0,0,0,0,0,0,0,1,1,0,1,0,0,1,0,0,1,0,0,0,0,0,1,0,1,1,1]
["LC2101EW0346:Females, Age 65 and over, Mixed/multiple ethnic group: White and Asian",0,0,2,0,1,0,2,0,0,2,1,1,2,0,0,1,3,1,0,2,0,0,0,0,0,2,2,2,1,3,0,0,0,0,1,0,2,3,3,1,0,4,0,0,0,2,0,2,0,0,3,0,0,2,0,2,2,1,1,2,0,1,2,0,2,0,2,0,0]
["LC2101EW0347:Females, Age 65 and over, Mixed/multiple ethnic group: Other Mixed",1,0,0,1,1,2,2,0,0,0,2,0,2,3,1,2,2,2,0,1,1,0,1,0,0,1,5,1,0,3,0,1,1,1,3,0,4,3,0,2,0,1,1,1,0,2,1,0,2,0,4,1,0,2,1,2,0,0,0,3,0,2,0,2,0,0,1,0,0]
["LC2101EW0012:All categories: Sex, All categories: Age, Asian/Asian British: Total",5714,783,19765,15641,4819,981,3709,5988,5416,7208,3624,962,3152,6697,149,650,4809,1465,289,1147,4150,2297,10388,2747,7104,9992,3375,7380,668,5820,439,368,1315,5279,453,6554,6704,3521,3626,8926,330,1225,4920,1019,943,2952,154,358,1558,15253,7688,1679,16823,15712,1179,3595,775,544,496,739,474,1625,884,799,3854,7706,2521,1643,4118]
["LC2101EW0013:All categories: Sex, All categories: Age, Asian/Asian British: Indian",1561,153,491,2886,538,227,1016,1621,538,263,1163,340,970,303,46,219,2355,479,79,135,285,341,2652,1188,2873,6680,1561,323,255,2985,132,110,494,1801,123,495,1466,792,1052,2970,80,717,2415,376,256,1732,50,36,368,507,3336,482,1300,1766,307,831,584,346,274,441,246,929,537,420,534,272,796,295,427]
["LC2101EW0014:All categories: Sex, All categories: Age, Asian/Asian British: Pakistani",2908,101,14926,6993,3117,198,1919,2809,2905,4844,786,178,1541,5293,40,205,863,567,83,661,2914,1432,6034,1115,2516,1593,466,5693,252,1189,102,76,397,592,72,2818,4188,1166,693,3941,50,129,1170,296,337,411,39,199,671,10806,2179,889,11668,11562,388,1810,82,85,107,104,96,321,113,211,2278,6244,357,1071,2768]
["LC2101EW0015:All categories: Sex, All categories: Age, Asian/Asian British: Bangladeshi",491,21,1901,4714,334,26,209,831,794,1530,234,42,119,416,10,19,146,130,9,112,237,127,626,97,904,403,106,576,15,944,40,37,113,146,17,2827,302,520,1128,394,7,149,638,146,52,79,3,33,266,2822,544,157,2590,961,245,295,17,18,15,13,15,71,6,34,679,406,103,111,410]
["LC2101EW0016:All categories: Sex, All categories: Age, Asian/Asian British: Chinese",153,163,96,190,271,118,125,127,653,48,865,177,191,94,25,75,720,115,52,20,54,106,100,55,109,154,596,54,22,115,49,40,80,1777,90,85,162,666,288,366,79,87,253,72,169,207,23,20,74,57,612,44,128,124,75,269,23,33,30,71,66,113,115,68,34,55,492,28,45]
["LC2101EW0017:All categories: Sex, All categories: Age, Asian/Asian British: Other Asian",601,345,2351,858,559,412,440,600,526,523,576,225,331,591,28,132,725,174,66,219,660,291,976,292,702,1162,646,734,124,587,116,105,231,963,151,329,586,377,465,1255,114,143,444,129,129,523,39,70,179,1061,1017,107,1137,1299,164,390,69,62,70,110,51,191,113,66,329,729,773,138,468]
["LC2101EW0018:All categories: Sex, All categories: Age, Black/African/Caribbean/Black British: Total",1221,566,2276,3703,1683,1600,844,3093,2784,1746,708,674,880,1830,579,768,1113,1501,521,701,1648,1553,749,162,2281,3124,1386,1242,360,2492,505,732,1557,4043,732,1511,1282,4172,4894,3297,308,1280,2716,1105,784,1381,329,536,515,1904,5477,346,2317,1008,470,3318,111,142,297,164,108,581,323,167,599,943,1337,426,855]
["LC2101EW0019:All categories: Sex, All categories: Age, Black/African/Caribbean/Black British: African",248,237,1108,1301,519,520,208,846,1128,783,379,297,169,683,120,260,470,382,143,192,423,351,233,33,564,531,548,533,129,395,154,207,376,1474,263,497,320,1846,2017,1147,92,138,415,262,135,420,91,94,170,888,1266,81,851,382,154,678,39,30,66,29,14,70,66,29,163,400,529,133,272]
["LC2101EW0020:All categories: Sex, All categories: Age, Black/African/Caribbean/Black British: Caribbean",741,234,627,1762,861,778,467,1787,1001,504,218,269,579,719,356,384,482,886,274,358,913,920,405,96,1312,2117,570,350,197,1673,253,401,943,1804,328,733,685,1310,1778,1454,136,918,1892,681,503,765,157,330,286,450,3134,196,788,414,241,2067,59,90,164,114,66,440,212,113,305,355,572,236,428]
["LC2101EW0021:All categories: Sex, All categories: Age, Black/African/Caribbean/Black British: Other Black",232,95,541,640,303,302,169,460,655,459,111,108,132,428,103,124,161,233,104,151,312,282,111,33,405,476,268,359,34,424,98,124,238,765,141,281,277,1016,1099,696,80,224,409,162,146,196,81,112,59,566,1077,69,678,212,75,573,13,22,67,21,28,71,45,25,131,188,236,57,155]
["LC2101EW0036:All categories: Sex, Age 0 to 24, Asian/Asian British: Total",2670,322,10135,7742,2222,404,1666,2803,2768,3566,2326,350,1293,3467,57,262,2117,622,103,602,2202,1128,4790,1106,2965,3756,1292,3835,294,2442,175,173,597,2332,184,3363,2852,2311,2404,3730,116,508,2309,458,421,1062,52,168,708,7447,3179,756,8307,7437,513,1656,260,202,205,274,178,626,297,305,2008,4096,1016,785,2102]
["LC2101EW0037:All categories: Sex, Age 0 to 24, Asian/Asian British: Indian",555,55,209,1143,193,76,336,567,182,73,775,127,317,124,13,70,925,165,19,59,126,108,825,387,895,2207,491,115,99,990,40,46,175,571,44,189,414,644,869,914,26,272,955,130,96,564,10,9,127,169,1097,167,387,525,88,268,184,128,97,150,77,329,169,146,216,109,275,98,153]
["LC2101EW0038:All categories: Sex, Age 0 to 24, Asian/Asian British: Pakistani",1523,49,7672,3540,1491,95,978,1445,1593,2415,437,74,735,2772,20,103,413,273,40,362,1592,774,3169,535,1296,812,222,3032,124,623,48,42,207,274,32,1399,1994,689,423,1957,20,57,620,155,180,191,21,116,343,5250,1063,445,5901,5732,209,929,39,39,58,51,44,146,52,95,1247,3355,176,559,1484]
["LC2101EW0039:All categories: Sex, Age 0 to 24, Asian/Asian British: Bangladeshi",248,4,1044,2564,158,8,114,468,411,798,119,15,58,226,4,7,65,65,2,65,132,70,327,43,488,221,60,304,10,524,25,21,61,64,10,1585,146,282,665,217,4,84,347,84,28,42,3,14,139,1532,287,84,1395,493,125,168,6,6,10,2,8,39,2,18,365,224,52,61,230]
["LC2101EW0040:All categories: Sex, Age 0 to 24, Asian/Asian British: Chinese",57,58,43,78,105,41,39,71,353,16,663,56,56,39,8,31,411,48,13,8,19,43,32,14,38,83,266,25,10,58,11,14,33,1032,26,40,54,484,203,129,20,27,182,22,60,72,4,11,27,24,322,14,49,42,32,107,7,8,10,24,29,44,36,23,12,17,192,12,20]
["LC2101EW0041:All categories: Sex, Age 0 to 24, Asian/Asian British: Other Asian",287,156,1167,417,275,184,199,252,229,264,332,78,127,306,12,51,303,71,29,108,333,133,437,127,248,433,253,359,51,247,51,50,121,391,72,150,244,212,244,513,46,68,205,67,57,193,14,18,72,472,410,46,575,645,59,184,24,21,30,47,20,68,38,23,168,391,321,55,215]
["LC2101EW0042:All categories: Sex, Age 0 to 24, Black/African/Caribbean/Black British: Total",434,250,1204,1443,646,657,331,1122,1348,875,362,257,249,816,206,329,480,559,178,299,691,546,298,44,877,1141,605,676,120,993,204,300,623,1633,252,592,390,2112,2374,1281,105,493,1025,440,315,567,124,196,169,1060,2220,120,1060,437,151,1196,40,61,116,60,29,180,101,54,219,387,541,156,348]
["LC2101EW0043:All categories: Sex, Age 0 to 24, Black/African/Caribbean/Black British: African",110,113,704,633,275,214,105,363,638,480,221,130,72,344,54,130,269,187,65,104,215,146,121,14,290,253,254,342,68,207,67,92,189,737,117,231,140,1051,1104,491,36,61,194,125,69,196,38,50,87,599,615,39,428,224,68,306,18,9,29,9,3,23,33,8,68,209,252,81,161]
["LC2101EW0044:All categories: Sex, Age 0 to 24, Black/African/Caribbean/Black British: Caribbean",216,81,177,457,210,260,133,521,333,120,77,77,111,216,102,141,135,270,67,102,321,280,121,19,389,667,191,103,40,557,84,141,297,555,73,201,129,444,614,413,31,313,630,220,173,264,45,102,60,89,1009,52,227,97,52,630,17,33,54,41,12,134,56,32,85,94,177,52,107]
["LC2101EW0045:All categories: Sex, Age 0 to 24, Black/African/Caribbean/Black British: Other Black",108,56,323,353,161,183,93,238,377,275,64,50,66,256,50,58,76,102,46,93,155,120,56,11,198,221,160,231,12,229,53,67,137,341,62,160,121,617,656,377,38,119,201,95,73,107,41,44,22,372,596,29,405,116,31,260,5,19,33,10,14,23,12,14,66,84,112,23,80]
["LC2101EW0060:All categories: Sex, Age 25 to 49, Asian/Asian British: Total",2354,382,6957,5597,1731,456,1429,2168,2146,2653,1004,439,1301,2585,66,302,1853,641,143,463,1639,905,3914,1114,2783,3966,1588,2781,298,2365,199,156,532,2641,207,2322,2512,997,1008,3724,152,574,2025,424,431,1299,77,158,665,5349,3365,704,6074,5667,503,1467,306,231,213,352,236,680,399,309,1553,2857,1214,638,1608]
["LC2101EW0061:All categories: Sex, Age 25 to 49, Asian/Asian British: Indian",713,80,192,1072,220,107,404,627,295,130,277,142,421,141,22,110,965,224,48,62,135,169,999,484,1221,2720,756,147,110,1280,64,52,209,1103,58,196,624,127,153,1353,38,344,1072,163,125,781,31,19,178,204,1558,203,514,635,130,380,243,149,133,215,131,398,251,173,251,126,396,109,204]
["LC2101EW0062:All categories: Sex, Age 25 to 49, Asian/Asian British: Pakistani",1124,39,5225,2479,1092,85,708,980,1061,1750,269,74,583,2012,16,86,303,232,31,252,1107,516,2253,453,885,594,198,2088,115,456,38,27,147,275,28,1021,1475,393,219,1467,21,63,448,116,138,162,15,76,256,3749,858,358,4181,4177,144,693,24,34,37,49,39,129,41,77,890,2271,144,413,1050]
["LC2101EW0063:All categories: Sex, Age 25 to 49, Asian/Asian British: Bangladeshi",204,13,658,1641,129,10,78,289,315,560,71,23,47,162,4,9,57,53,5,39,90,50,248,40,307,154,37,210,5,346,14,12,46,73,7,962,112,169,383,150,1,57,260,55,22,29,0,14,113,996,212,68,920,341,106,110,8,6,3,7,6,27,2,12,271,150,32,43,150]
["LC2101EW0064:All categories: Sex, Age 25 to 49, Asian/Asian British: Chinese",71,88,31,89,85,54,68,40,222,20,174,84,102,43,10,34,217,48,30,11,26,54,46,27,48,44,258,23,10,50,32,16,36,663,45,29,79,150,71,194,38,51,56,39,80,87,14,7,32,18,256,25,47,66,31,123,9,16,12,38,33,46,57,17,13,28,251,9,12]
["LC2101EW0065:All categories: Sex, Age 25 to 49, Asian/Asian British: Other Asian",242,162,851,316,205,200,171,232,253,193,213,116,148,227,14,63,311,84,29,99,281,116,368,110,322,454,339,313,58,233,51,49,94,527,69,114,222,158,182,560,54,59,189,51,66,240,17,42,86,382,481,50,412,448,92,161,22,26,28,43,27,80,48,30,128,282,391,64,192]
["LC2101EW0066:All categories: Sex, Age 25 to 49, Black/African/Caribbean/Black British: Total",517,221,745,1377,589,663,334,1237,1048,560,262,298,378,692,246,317,424,664,236,253,677,663,282,77,826,1250,599,394,159,895,213,310,629,1842,361,611,568,1512,1882,1419,147,550,1056,435,318,566,154,231,244,548,2222,153,795,333,213,1445,46,58,118,85,54,242,152,67,263,359,603,192,334]
["LC2101EW0067:All categories: Sex, Age 25 to 49, Black/African/Caribbean/Black British: African",124,104,359,608,197,257,86,447,429,254,139,142,75,280,55,115,162,178,69,70,181,196,91,17,237,238,261,161,52,167,69,93,162,664,123,237,149,691,841,601,54,69,186,113,54,192,45,35,72,249,580,40,335,137,73,326,15,15,28,19,10,30,26,17,87,168,244,49,96]
["LC2101EW0068:All categories: Sex, Age 25 to 49, Black/African/Caribbean/Black British: Caribbean",291,85,215,552,274,309,184,616,391,160,85,106,244,270,143,146,198,381,117,133,356,342,143,38,425,819,240,127,91,570,104,168,382,819,164,283,294,491,686,549,57,394,708,272,202,300,77,135,141,132,1237,85,250,125,104,865,24,41,60,56,31,173,98,40,116,111,255,110,176]
["LC2101EW0069:All categories: Sex, Age 25 to 49, Black/African/Caribbean/Black British: Other Black",102,32,171,217,118,97,64,174,228,146,38,50,59,142,48,56,64,105,50,50,140,125,48,22,164,193,98,106,16,158,40,49,85,359,74,91,125,330,355,269,36,87,162,50,62,74,32,61,31,167,405,28,210,71,36,254,7,2,30,10,13,39,28,10,60,80,104,33,62]
["LC2101EW0084:All categories: Sex, Age 50 to 64, Asian/Asian British: Total",460,55,1563,1409,490,84,438,632,302,565,182,110,349,440,15,57,536,136,28,61,233,189,1158,364,836,1591,315,501,52,653,49,27,131,211,45,500,841,135,145,874,42,91,405,93,63,416,22,25,118,1418,685,156,1464,1625,107,314,137,68,50,79,43,225,133,117,200,461,190,149,276]
["LC2101EW0085:All categories: Sex, Age 50 to 64, Asian/Asian British: Indian",194,11,61,444,76,30,193,244,45,38,60,36,137,24,5,20,283,58,8,13,17,49,571,218,469,1247,186,37,34,462,18,9,81,90,13,64,264,14,18,395,12,68,269,53,27,259,7,6,37,79,404,78,221,367,59,116,100,39,27,49,24,138,81,65,51,31,79,65,48]
["LC2101EW0086:All categories: Sex, Age 50 to 64, Asian/Asian British: Pakistani",173,9,1208,589,312,9,164,247,162,380,47,20,137,349,3,12,101,46,5,30,159,102,415,84,201,116,29,377,11,73,15,4,28,32,8,234,452,54,40,300,9,6,66,20,12,42,3,5,43,1029,151,64,989,1036,23,132,13,8,9,4,11,32,12,23,104,374,25,63,161]
["LC2101EW0087:All categories: Sex, Age 50 to 64, Asian/Asian British: Bangladeshi",24,2,112,295,31,8,14,48,44,101,28,3,9,19,2,3,19,10,0,7,11,1,35,10,63,20,7,37,0,47,0,3,4,8,0,156,24,39,52,18,1,5,26,4,2,8,0,3,11,177,32,5,168,80,7,11,1,4,1,3,1,4,2,2,23,21,12,5,24]
["LC2101EW0088:All categories: Sex, Age 50 to 64, Asian/Asian British: Chinese",16,12,15,14,25,17,12,12,19,6,22,29,26,5,3,6,55,10,7,1,6,9,15,10,15,19,55,2,2,5,4,7,5,47,14,5,17,24,10,31,11,4,8,9,20,38,5,1,9,6,20,2,7,13,9,26,6,7,4,6,4,21,19,19,5,7,31,3,4]
["LC2101EW0089:All categories: Sex, Age 50 to 64, Asian/Asian British: Other Asian",53,21,167,67,46,20,55,81,32,40,25,22,40,43,2,16,78,12,8,10,40,28,122,42,88,189,38,48,5,66,12,4,13,34,10,41,84,4,25,130,9,8,36,7,2,69,7,10,18,127,78,7,79,129,9,29,17,10,9,17,3,30,19,8,17,28,43,13,39]
["LC2101EW0090:All categories: Sex, Age 50 to 64, Black/African/Caribbean/Black British: Total",140,67,168,372,202,189,115,335,218,160,52,76,150,216,70,85,123,163,73,74,171,180,103,22,247,456,128,98,48,241,52,86,174,340,70,154,192,315,370,302,41,147,399,158,105,157,38,63,62,115,548,45,228,99,65,388,23,18,38,13,16,133,45,31,59,113,123,37,87]
["LC2101EW0091:All categories: Sex, Age 50 to 64, Black/African/Caribbean/Black British: African",11,13,35,45,38,40,11,21,44,43,13,20,19,54,8,14,31,13,8,14,26,6,19,0,33,31,29,26,7,18,15,17,14,54,16,20,23,74,50,40,2,6,29,21,10,25,7,9,8,31,58,2,64,18,12,37,6,4,5,1,1,16,3,2,6,21,23,1,12]
["LC2101EW0092:All categories: Sex, Age 50 to 64, Black/African/Caribbean/Black British: Caribbean",116,47,105,289,146,128,94,277,140,85,33,50,125,141,58,64,78,127,58,54,134,150,79,22,191,382,90,56,36,201,34,61,144,238,52,111,146,191,258,225,36,126,333,123,87,122,26,48,49,65,424,34,122,59,45,307,16,13,31,11,14,111,38,28,49,75,86,36,65]
["LC2101EW0093:All categories: Sex, Age 50 to 64, Black/African/Caribbean/Black British: Other Black",13,7,28,38,18,21,10,37,34,32,6,6,6,21,4,7,14,23,7,6,11,24,5,0,23,43,9,16,5,22,3,8,16,48,2,23,23,50,62,37,3,15,37,14,8,10,5,6,5,19,66,9,42,22,8,44,1,1,2,1,1,6,4,1,4,17,14,0,10]
["LC2101EW0108:All categories: Sex, Age 65 and over, Asian/Asian British: Total",230,24,1110,893,376,37,176,385,200,424,112,63,209,205,11,29,303,66,15,21,76,75,526,163,520,679,180,263,24,360,16,12,55,95,17,369,499,78,69,598,20,52,181,44,28,175,3,7,67,1039,459,63,978,983,56,158,72,43,28,34,17,94,55,68,93,292,101,71,132]
["LC2101EW0109:All categories: Sex, Age 65 and over, Asian/Asian British: Indian",99,7,29,227,49,14,83,183,16,22,51,35,95,14,6,19,182,32,4,1,7,15,257,99,288,506,128,24,12,253,10,3,29,37,8,46,164,7,12,308,4,33,119,30,8,128,2,2,26,55,277,34,178,239,30,67,57,30,17,27,14,64,36,36,16,6,46,23,22]
["LC2101EW0110:All categories: Sex, Age 65 and over, Asian/Asian British: Pakistani",88,4,821,385,222,9,69,137,89,299,33,10,86,160,1,4,46,16,7,17,56,40,197,43,134,71,17,196,2,37,1,3,15,11,4,164,267,30,11,217,0,3,36,5,7,16,0,2,29,778,107,22,597,617,12,56,6,4,3,0,2,14,8,16,37,244,12,36,73]
["LC2101EW0111:All categories: Sex, Age 65 and over, Asian/Asian British: Bangladeshi",15,2,87,214,16,0,3,26,24,71,16,1,5,9,0,0,5,2,2,1,4,6,16,4,46,8,2,25,0,27,1,1,2,1,0,124,20,30,28,9,1,3,5,3,0,0,0,2,3,117,13,0,107,47,7,6,2,2,1,1,0,1,0,2,20,11,7,2,6]
["LC2101EW0112:All categories: Sex, Age 65 and over, Asian/Asian British: Chinese",9,5,7,9,56,6,6,4,59,6,6,8,7,7,4,4,37,9,2,0,3,0,7,4,8,8,17,4,0,2,2,3,6,35,5,11,12,8,4,12,10,5,7,2,9,10,0,1,6,9,14,3,25,3,3,13,1,2,4,3,0,2,3,9,4,3,18,4,9]
["LC2101EW0113:All categories: Sex, Age 65 and over, Asian/Asian British: Other Asian",19,6,166,58,33,8,15,35,12,26,6,9,16,15,0,2,33,7,0,2,6,14,49,13,44,86,16,14,10,41,2,2,3,11,0,24,36,3,14,52,5,8,14,4,4,21,1,0,3,80,48,4,71,77,4,16,6,5,3,3,1,13,8,5,16,28,18,6,22]
["LC2101EW0114:All categories: Sex, Age 65 and over, Black/African/Caribbean/Black British: Total",130,28,159,511,246,91,64,399,170,151,32,43,103,106,57,37,86,115,34,75,109,164,66,19,331,277,54,74,33,363,36,36,131,228,49,154,132,233,268,295,15,90,236,72,46,91,13,46,40,181,487,28,234,139,41,289,2,5,25,6,9,26,25,15,58,84,70,41,86]
["LC2101EW0115:All categories: Sex, Age 65 and over, Black/African/Caribbean/Black British: African",3,7,10,15,9,9,6,15,17,6,6,5,3,5,3,1,8,4,1,4,1,3,2,2,4,9,4,4,2,3,3,5,11,19,7,9,8,30,22,15,0,2,6,3,2,7,1,0,3,9,13,0,24,3,1,9,0,2,4,0,0,1,4,2,2,2,10,2,3]
["LC2101EW0116:All categories: Sex, Age 65 and over, Black/African/Caribbean/Black British: Caribbean",118,21,130,464,231,81,56,373,137,139,23,36,99,92,53,33,71,108,32,69,102,148,62,17,307,249,49,64,30,345,31,31,120,192,39,138,116,184,220,267,12,85,221,66,41,79,9,45,36,164,464,25,189,133,40,265,2,3,19,6,9,22,20,13,55,75,54,38,80]
["LC2101EW0117:All categories: Sex, Age 65 and over, Black/African/Caribbean/Black British: Other Black",9,0,19,32,6,1,2,11,16,6,3,2,1,9,1,3,7,3,1,2,6,13,2,0,20,19,1,6,1,15,2,0,0,17,3,7,8,19,26,13,3,3,9,3,3,5,3,1,1,8,10,3,21,3,0,15,0,0,2,0,0,3,1,0,1,7,6,1,3]
["LC2101EW0132:Males, All categories: Age, Asian/Asian British: Total",2815,395,9995,7906,2388,478,1824,3143,2789,3632,1781,501,1544,3272,66,321,2445,741,128,583,2048,1150,5125,1359,3641,4961,1678,3686,345,3004,219,156,629,2862,221,3267,3392,1759,1773,4513,161,617,2460,499,475,1440,75,165,772,7650,4094,838,8492,7977,547,1803,394,263,240,366,230,787,429,389,1911,3805,1240,817,2014]
["LC2101EW0133:Males, All categories: Age, Asian/Asian British: Indian",765,87,254,1535,259,114,486,892,288,139,557,198,472,142,22,105,1190,245,36,78,145,187,1312,587,1486,3309,767,167,137,1545,65,36,236,982,61,252,729,397,485,1524,38,353,1212,169,116,843,25,19,189,253,1821,235,636,909,148,413,293,163,135,222,120,473,268,209,251,139,389,141,196]
["LC2101EW0134:Males, All categories: Age, Asian/Asian British: Pakistani",1438,56,7452,3449,1559,96,962,1446,1494,2446,439,89,749,2587,15,102,440,283,40,334,1442,691,2953,556,1253,777,221,2791,125,612,62,32,183,351,39,1384,2129,594,333,1922,29,74,564,148,175,194,22,83,323,5356,1106,440,5887,5811,182,910,42,41,55,50,49,149,54,101,1137,3082,174,524,1352]
["LC2101EW0135:Males, All categories: Age, Asian/Asian British: Bangladeshi",241,12,962,2348,163,15,99,418,387,744,124,28,64,195,3,10,75,68,4,53,110,64,331,45,456,199,48,291,7,464,20,20,58,80,7,1396,152,254,552,185,2,68,340,75,31,36,2,19,135,1445,268,82,1271,506,108,151,11,7,5,8,6,37,3,11,338,194,50,61,212]
["LC2101EW0136:Males, All categories: Age, Asian/Asian British: Chinese",81,76,48,96,115,58,60,60,317,24,392,84,97,49,12,41,364,61,21,10,22,57,47,30,56,68,300,29,10,68,25,16,42,888,42,47,88,297,139,167,40,45,114,34,90,91,9,12,34,38,333,21,61,73,29,133,15,19,12,38,31,49,50,31,17,27,231,13,22]
["LC2101EW0137:Males, All categories: Age, Asian/Asian British: Other Asian",290,164,1279,478,292,195,217,327,303,279,269,102,162,299,14,63,376,84,27,108,329,151,482,141,390,608,342,408,66,315,47,52,110,561,72,188,294,217,264,715,52,77,230,73,63,276,17,32,91,558,566,60,637,678,80,196,33,33,33,48,24,79,54,37,168,363,396,78,232]
["LC2101EW0138:Males, All categories: Age, Black/African/Caribbean/Black British: Total",590,282,1072,1833,837,733,394,1568,1335,845,341,320,419,855,252,360,531,727,243,346,734,724,375,75,1124,1445,616,562,177,1100,231,344,718,2020,367,758,680,2000,2345,1640,146,537,1251,490,368,628,168,234,242,910,2540,166,1187,480,224,1571,53,72,153,80,58,286,161,80,271,456,633,230,413]
["LC2101EW0139:Males, All categories: Age, Black/African/Caribbean/Black British: African",132,115,528,734,255,229,87,478,550,392,193,137,90,318,47,127,216,190,70,88,200,182,112,15,315,256,246,240,62,212,73,87,184,738,113,268,174,885,1009,606,39,67,210,127,55,210,52,40,85,431,607,40,460,190,77,337,19,12,37,12,8,35,32,15,81,196,248,66,142]
["LC2101EW0140:Males, All categories: Age, Black/African/Caribbean/Black British: Caribbean",336,116,281,788,427,356,227,837,465,234,100,121,277,318,165,171,238,416,117,175,386,404,199,40,603,967,252,152,93,701,109,195,411,865,173,342,356,609,811,690,66,378,851,291,236,326,80,141,127,207,1413,93,364,182,115,966,28,46,79,54,35,208,103,54,126,175,267,133,201]
["LC2101EW0141:Males, All categories: Age, Black/African/Caribbean/Black British: Other Black",122,51,263,311,155,148,80,253,320,219,48,62,52,219,40,62,77,121,56,83,148,138,64,20,206,222,118,170,22,187,49,62,123,417,81,148,150,506,525,344,41,92,190,72,77,92,36,53,30,272,520,33,363,108,32,268,6,14,37,14,15,43,26,11,64,85,118,31,70]
["LC2101EW0156:Males, Age 0 to 24, Asian/Asian British: Total",1361,175,5263,3990,1134,207,864,1500,1426,1835,1113,186,661,1715,27,136,1072,328,47,318,1125,578,2421,574,1534,1906,630,1938,163,1294,93,76,296,1169,89,1709,1479,1149,1118,1880,63,280,1198,232,221,527,27,81,381,3783,1691,386,4274,3842,233,863,134,101,100,147,86,325,157,147,1002,1999,510,388,1039]
["LC2101EW0157:Males, Age 0 to 24, Asian/Asian British: Indian",266,32,113,615,90,38,168,338,92,44,345,83,153,59,8,37,457,92,8,33,77,65,430,205,481,1127,245,66,62,522,22,19,94,281,21,105,238,324,386,490,12,144,521,60,46,286,6,5,70,86,641,84,205,293,38,139,91,60,48,79,33,181,96,73,94,51,141,51,67]
["LC2101EW0158:Males, Age 0 to 24, Asian/Asian British: Pakistani",796,25,3936,1788,771,47,518,764,841,1260,246,36,377,1369,8,55,218,135,22,193,815,377,1585,283,656,407,107,1497,62,328,35,18,99,156,15,708,1014,363,195,969,15,40,304,78,98,90,11,50,178,2646,529,223,3038,2932,104,485,18,19,32,25,21,73,25,44,636,1647,89,269,736]
["LC2101EW0159:Males, Age 0 to 24, Asian/Asian British: Bangladeshi",125,2,545,1303,79,6,55,235,196,389,66,10,31,109,1,4,32,36,1,30,59,38,180,18,252,112,25,155,4,260,13,11,32,39,5,786,74,138,320,101,1,40,197,45,17,17,2,8,78,806,134,43,700,265,50,94,5,3,3,2,4,21,2,5,181,111,25,35,121]
["LC2101EW0160:Males, Age 0 to 24, Asian/Asian British: Chinese",28,34,26,37,44,23,18,31,176,9,289,19,32,22,6,21,210,28,4,5,9,27,15,8,15,35,114,15,4,39,7,5,15,478,13,25,30,205,90,48,13,14,76,8,32,29,1,6,11,16,174,5,19,18,12,52,7,5,4,16,15,21,14,9,6,6,89,4,7]
["LC2101EW0161:Males, Age 0 to 24, Asian/Asian British: Other Asian",146,82,643,247,150,93,105,132,121,133,167,38,68,156,4,19,155,37,12,57,165,71,211,60,130,225,139,205,31,145,16,23,56,215,35,85,123,119,127,272,22,42,100,41,28,105,7,12,44,229,213,31,312,334,29,93,13,14,13,25,13,29,20,16,85,184,166,29,108]
["LC2101EW0162:Males, Age 0 to 24, Black/African/Caribbean/Black British: Total",227,137,605,797,340,319,166,563,662,455,164,135,112,405,86,167,211,279,89,153,325,274,161,23,455,576,283,330,63,503,95,144,316,790,122,311,195,1029,1209,653,48,225,522,223,148,285,76,93,82,533,1102,64,575,214,84,603,22,31,66,30,17,97,58,31,98,187,256,84,175]
["LC2101EW0163:Males, Age 0 to 24, Black/African/Caribbean/Black British: African",56,59,350,364,141,89,47,178,310,266,103,59,40,166,18,63,121,95,30,49,107,70,66,6,148,123,101,164,35,112,32,39,99,353,52,114,66,517,558,257,15,30,99,60,26,96,25,24,45,306,285,21,237,120,42,142,10,2,17,2,3,9,16,5,29,107,115,42,87]
["LC2101EW0164:Males, Age 0 to 24, Black/African/Caribbean/Black British: Caribbean",114,45,91,247,120,129,74,262,163,54,30,43,50,91,48,68,58,130,33,51,141,134,61,11,202,339,99,54,20,276,35,70,144,263,33,101,55,199,320,221,13,145,319,121,81,132,31,50,26,40,511,26,113,40,24,320,10,17,28,21,7,74,31,18,40,41,91,30,55]
["LC2101EW0165:Males, Age 0 to 24, Black/African/Caribbean/Black British: Other Black",57,33,164,186,79,101,45,123,189,135,31,33,22,148,20,36,32,54,26,53,77,70,34,6,105,114,83,112,8,115,28,35,73,174,37,96,74,313,331,175,20,50,104,42,41,57,20,19,11,187,306,17,225,54,18,141,2,12,21,7,7,14,11,8,29,39,50,12,33]
["LC2101EW0180:Males, Age 25 to 49, Asian/Asian British: Total",1126,182,3526,2869,863,212,656,1141,1123,1354,518,225,626,1246,30,145,951,305,62,225,785,442,1893,541,1497,1964,799,1369,139,1239,92,64,242,1543,102,1174,1255,515,547,1954,70,262,975,200,213,621,37,73,311,2687,1861,348,3089,2870,237,708,152,106,102,165,112,305,182,148,764,1443,587,329,782]
["LC2101EW0181:Males, Age 25 to 49, Asian/Asian British: Indian",361,45,98,599,110,54,181,347,166,68,159,82,214,67,11,49,496,102,23,36,61,91,493,234,653,1337,361,72,48,686,32,13,86,643,30,101,281,65,83,709,18,155,507,71,58,365,15,10,89,101,863,97,278,327,66,185,123,71,66,105,68,187,116,82,121,70,186,51,97]
["LC2101EW0182:Males, Age 25 to 49, Asian/Asian British: Pakistani",518,23,2596,1202,538,40,326,482,526,880,149,36,269,969,6,40,149,112,11,120,530,240,1070,215,447,286,92,1007,56,233,16,11,64,172,18,492,759,195,112,721,10,31,213,57,69,77,9,31,114,1842,451,175,2083,2084,62,326,14,17,18,23,21,55,21,35,425,1134,67,213,508]
["LC2101EW0183:Males, Age 25 to 49, Asian/Asian British: Bangladeshi",95,7,331,842,67,4,35,153,159,286,35,15,24,72,2,4,32,27,3,20,44,23,124,19,165,73,19,108,3,168,7,8,24,36,2,496,57,85,196,77,0,24,126,28,13,14,0,10,51,512,112,35,454,172,50,50,3,0,1,4,1,14,0,4,142,67,15,22,74]
["LC2101EW0184:Males, Age 25 to 49, Asian/Asian British: Chinese",42,35,16,47,41,24,37,21,112,10,89,46,50,22,2,16,108,24,13,5,9,25,21,15,31,22,153,13,4,26,15,7,19,369,20,17,43,75,39,98,19,26,30,17,41,38,6,5,17,13,142,14,26,46,13,64,5,8,3,18,13,16,26,10,7,16,122,4,7]
["LC2101EW0185:Males, Age 25 to 49, Asian/Asian British: Other Asian",110,72,485,179,107,90,77,138,160,110,86,46,69,116,9,36,166,40,12,44,141,63,185,58,201,246,174,169,28,126,22,25,49,323,32,68,115,95,117,349,23,26,99,27,32,127,7,17,40,219,293,27,248,241,46,83,7,10,14,15,9,33,19,17,69,156,197,39,96]
["LC2101EW0186:Males, Age 25 to 49, Black/African/Caribbean/Black British: Total",247,100,318,644,283,285,153,643,492,242,139,135,186,300,100,140,208,322,106,118,284,312,134,35,386,531,246,162,72,344,96,143,273,960,182,307,312,694,862,704,71,217,451,173,149,242,66,96,113,244,971,70,382,148,95,652,21,28,53,39,29,111,70,27,123,174,288,104,160]
["LC2101EW0187:Males, Age 25 to 49, Black/African/Caribbean/Black British: African",65,46,156,337,91,120,34,276,210,101,79,66,36,120,27,57,73,87,35,30,77,105,34,7,136,112,124,60,23,86,34,40,71,351,49,140,90,317,420,318,22,34,92,54,22,94,22,12,34,105,282,19,172,62,32,166,6,8,15,10,5,17,13,7,47,76,115,22,45]
["LC2101EW0188:Males, Age 25 to 49, Black/African/Caribbean/Black British: Caribbean",125,37,83,217,128,131,88,265,178,78,48,43,122,120,55,62,103,177,46,64,142,150,74,14,168,334,92,51,38,197,44,82,157,403,93,127,157,222,283,240,31,147,288,97,95,120,32,56,65,66,510,38,102,49,50,384,11,19,26,23,16,70,44,17,43,59,118,63,84]
["LC2101EW0189:Males, Age 25 to 49, Black/African/Caribbean/Black British: Other Black",57,17,79,90,64,34,31,102,104,63,12,26,28,60,18,21,32,58,25,24,65,57,26,14,82,85,30,51,11,61,18,21,45,206,40,40,65,155,159,146,18,36,71,22,32,28,12,28,14,73,179,13,108,37,13,102,4,1,12,6,8,24,13,3,33,39,55,19,31]
["LC2101EW0204:Males, Age 50 to 64, Asian/Asian British: Total",225,28,732,632,220,38,225,316,150,254,86,58,154,221,6,26,247,71,11,30,105,94,577,171,384,785,165,242,31,322,25,11,65,103,20,220,408,58,80,414,21,48,211,44,25,204,9,9,54,676,334,72,664,786,51,158,69,30,25,36,23,115,62,62,106,232,88,71,136]
["LC2101EW0205:Males, Age 50 to 64, Asian/Asian British: Indian",92,6,32,216,37,13,95,122,22,20,27,17,61,10,1,9,128,34,3,8,4,23,282,106,229,612,100,13,21,228,6,4,44,41,5,28,132,5,8,190,5,37,133,23,9,128,3,4,17,39,197,38,86,183,30,57,51,14,14,24,12,73,37,39,27,14,37,31,22]
["LC2101EW0206:Males, Age 50 to 64, Asian/Asian British: Pakistani",87,5,567,272,142,5,89,127,80,171,23,9,58,178,1,6,50,26,2,14,75,55,209,38,90,57,15,186,5,37,10,2,13,17,4,111,220,21,21,135,4,2,33,10,5,20,2,2,21,490,74,28,468,496,9,71,6,3,3,2,6,16,5,13,59,191,11,27,81]
["LC2101EW0207:Males, Age 50 to 64, Asian/Asian British: Bangladeshi",15,2,45,107,8,5,8,19,22,37,12,2,6,10,0,2,7,3,0,3,4,1,19,6,19,10,3,17,0,22,0,1,2,4,0,58,9,16,28,5,0,3,16,1,1,5,0,0,6,74,15,4,62,38,4,5,1,3,0,1,1,1,1,1,7,11,6,4,14]
["LC2101EW0208:Males, Age 50 to 64, Asian/Asian British: Chinese",5,7,4,5,9,8,4,7,8,3,10,17,12,2,3,2,22,4,3,0,2,5,6,3,5,8,24,0,2,3,2,1,3,25,6,1,9,14,7,18,6,2,4,8,9,17,2,0,4,3,10,1,2,6,4,10,2,4,3,2,3,11,9,7,3,3,12,2,2]
["LC2101EW0209:Males, Age 50 to 64, Asian/Asian British: Other Asian",26,8,84,32,24,7,29,41,18,23,14,13,17,21,1,7,40,4,3,5,20,10,61,18,41,98,23,26,3,32,7,3,3,16,5,22,38,2,16,66,6,4,25,2,1,34,2,3,6,70,38,1,46,63,4,15,9,6,5,7,1,14,10,2,10,13,22,7,17]
["LC2101EW0210:Males, Age 50 to 64, Black/African/Caribbean/Black British: Total",64,30,65,153,89,86,46,156,101,83,24,32,70,102,35,38,65,78,35,36,79,78,52,8,133,206,63,43,24,92,24,43,74,174,38,62,103,159,163,143,20,56,171,70,53,62,18,24,31,52,235,23,112,49,29,184,9,9,19,8,7,65,23,15,27,57,50,20,38]
["LC2101EW0211:Males, Age 50 to 64, Black/African/Caribbean/Black British: African",8,7,16,23,18,16,4,14,24,23,7,11,11,30,1,7,19,7,5,7,15,4,11,0,28,15,19,16,3,12,6,8,10,26,9,12,12,35,21,22,2,2,16,12,6,14,4,4,6,18,34,0,36,6,3,23,3,1,2,0,0,8,2,1,3,12,11,1,9]
["LC2101EW0212:Males, Age 50 to 64, Black/African/Caribbean/Black British: Caribbean",53,22,38,111,62,58,39,119,58,40,15,19,57,66,33,27,38,62,26,25,59,65,38,8,94,176,40,21,19,74,16,29,59,120,27,42,82,96,115,103,16,51,144,51,44,45,11,15,21,26,170,20,57,26,25,140,6,7,15,7,7,53,19,14,22,38,31,19,24]
["LC2101EW0213:Males, Age 50 to 64, Black/African/Caribbean/Black British: Other Black",3,1,11,19,9,12,3,23,19,20,2,2,2,6,1,4,8,9,4,4,5,9,3,0,11,15,4,6,2,6,2,6,5,28,2,8,9,28,27,18,2,3,11,7,3,3,3,5,4,8,31,3,19,17,1,21,0,1,2,1,0,4,2,0,2,7,8,0,5]
["LC2101EW0228:Males, Age 65 and over, Asian/Asian British: Total",103,10,474,415,171,21,79,186,90,189,64,32,103,90,3,14,175,37,8,10,33,36,234,73,226,306,84,137,12,149,9,5,26,47,10,164,250,37,28,265,7,27,76,23,16,88,2,2,26,504,208,32,465,479,26,74,39,26,13,18,9,42,28,32,39,131,55,29,57]
["LC2101EW0229:Males, Age 65 and over, Asian/Asian British: Indian",46,4,11,105,22,9,42,85,8,7,26,16,44,6,2,10,109,17,2,1,3,8,107,42,123,233,61,16,6,109,5,0,12,17,5,18,78,3,8,135,3,17,51,15,3,64,1,0,13,27,120,16,67,106,14,32,28,18,7,14,7,32,19,15,9,4,25,8,10]
["LC2101EW0230:Males, Age 65 and over, Asian/Asian British: Pakistani",37,3,353,187,108,4,29,73,47,135,21,8,45,71,0,1,23,10,5,7,22,19,89,20,60,27,7,101,2,14,1,1,7,6,2,73,136,15,5,97,0,1,14,3,3,7,0,0,10,378,52,14,298,299,7,28,4,2,2,0,1,5,3,9,17,110,7,15,27]
["LC2101EW0231:Males, Age 65 and over, Asian/Asian British: Bangladeshi",6,1,41,96,9,0,1,11,10,32,11,1,3,4,0,0,4,2,0,0,3,2,8,2,20,4,1,11,0,14,0,0,0,1,0,56,12,15,8,2,1,1,1,1,0,0,0,1,0,53,7,0,55,31,4,2,2,1,1,1,0,1,0,1,8,5,4,0,3]
["LC2101EW0232:Males, Age 65 and over, Asian/Asian British: Chinese",6,0,2,7,21,3,1,1,21,2,4,2,3,3,1,2,24,5,1,0,2,0,5,4,5,3,9,1,0,0,1,3,5,16,3,4,6,3,3,3,2,3,4,1,8,7,0,1,2,6,7,1,14,3,0,7,1,2,2,2,0,1,1,5,1,2,8,3,6]
["LC2101EW0233:Males, Age 65 and over, Asian/Asian British: Other Asian",8,2,67,20,11,5,6,16,4,13,2,5,8,6,0,1,15,3,0,2,3,7,25,5,18,39,6,8,4,12,2,1,2,7,0,13,18,1,4,28,1,5,6,3,2,10,1,0,1,40,22,1,31,40,1,5,4,3,1,1,1,3,5,2,4,10,11,3,11]
["LC2101EW0234:Males, Age 65 and over, Black/African/Caribbean/Black British: Total",52,15,84,239,125,43,29,206,80,65,14,18,51,48,31,15,47,48,13,39,46,60,28,9,150,132,24,27,18,161,16,14,55,96,25,78,70,118,111,140,7,39,107,24,18,39,8,21,16,81,232,9,118,69,16,132,1,4,15,3,5,13,10,7,23,38,39,22,40]
["LC2101EW0235:Males, Age 65 and over, Black/African/Caribbean/Black British: African",3,3,6,10,5,4,2,10,6,2,4,1,3,2,1,0,3,1,0,2,1,3,1,2,3,6,2,0,1,2,1,0,4,8,3,2,6,16,10,9,0,1,3,1,1,6,1,0,0,2,6,0,15,2,0,6,0,1,3,0,0,1,1,2,2,1,7,1,1]
["LC2101EW0236:Males, Age 65 and over, Black/African/Caribbean/Black British: Caribbean",44,12,69,213,117,38,26,191,66,62,7,16,48,41,29,14,39,47,12,35,44,55,26,7,139,118,21,26,16,154,14,14,51,79,20,72,62,92,93,126,6,35,100,22,16,29,6,20,15,75,222,9,92,67,16,122,1,3,10,3,5,11,9,5,21,37,27,21,38]
["LC2101EW0237:Males, Age 65 and over, Black/African/Caribbean/Black British: Other Black",5,0,9,16,3,1,1,5,8,1,3,1,0,5,1,1,5,0,1,2,1,2,1,0,8,8,1,1,1,5,1,0,0,9,2,4,2,10,8,5,1,3,4,1,1,4,1,1,1,4,4,0,11,0,0,4,0,0,2,0,0,1,0,0,0,0,5,0,1]
["LC2101EW0252:Females, All categories: Age, Asian/Asian British: Total",2899,388,9770,7735,2431,503,1885,2845,2627,3576,1843,461,1608,3425,83,329,2364,724,161,564,2102,1147,5263,1388,3463,5031,1697,3694,323,2816,220,212,686,2417,232,3287,3312,1762,1853,4413,169,608,2460,520,468,1512,79,193,786,7603,3594,841,8331,7735,632,1792,381,281,256,373,244,838,455,410,1943,3901,1281,826,2104]
["LC2101EW0253:Females, All categories: Age, Asian/Asian British: Indian",796,66,237,1351,279,113,530,729,250,124,606,142,498,161,24,114,1165,234,43,57,140,154,1340,601,1387,3371,794,156,118,1440,67,74,258,819,62,243,737,395,567,1446,42,364,1203,207,140,889,25,17,179,254,1515,247,664,857,159,418,291,183,139,219,126,456,269,211,283,133,407,154,231]
["LC2101EW0254:Females, All categories: Age, Asian/Asian British: Pakistani",1470,45,7474,3544,1558,102,957,1363,1411,2398,347,89,792,2706,25,103,423,284,43,327,1472,741,3081,559,1263,816,245,2902,127,577,40,44,214,241,33,1434,2059,572,360,2019,21,55,606,148,162,217,17,116,348,5450,1073,449,5781,5751,206,900,40,44,52,54,47,172,59,110,1141,3162,183,547,1416]
["LC2101EW0255:Females, All categories: Age, Asian/Asian British: Bangladeshi",250,9,939,2366,171,11,110,413,407,786,110,14,55,221,7,9,71,62,5,59,127,63,295,52,448,204,58,285,8,480,20,17,55,66,10,1431,150,266,576,209,5,81,298,71,21,43,1,14,131,1377,276,75,1319,455,137,144,6,11,10,5,9,34,3,23,341,212,53,50,198]
["LC2101EW0256:Females, All categories: Age, Asian/Asian British: Chinese",72,87,48,94,156,60,65,67,336,24,473,93,94,45,13,34,356,54,31,10,32,49,53,25,53,86,296,25,12,47,24,24,38,889,48,38,74,369,149,199,39,42,139,38,79,116,14,8,40,19,279,23,67,51,46,136,8,14,18,33,35,64,65,37,17,28,261,15,23]
["LC2101EW0257:Females, All categories: Age, Asian/Asian British: Other Asian",311,181,1072,380,267,217,223,273,223,244,307,123,169,292,14,69,349,90,39,111,331,140,494,151,312,554,304,326,58,272,69,53,121,402,79,141,292,160,201,540,62,66,214,56,66,247,22,38,88,503,451,47,500,621,84,194,36,29,37,62,27,112,59,29,161,366,377,60,236]
["LC2101EW0258:Females, All categories: Age, Black/African/Caribbean/Black British: Total",631,284,1204,1870,846,867,450,1525,1449,901,367,354,461,975,327,408,582,774,278,355,914,829,374,87,1157,1679,770,680,183,1392,274,388,839,2023,365,753,602,2172,2549,1657,162,743,1465,615,416,753,161,302,273,994,2937,180,1130,528,246,1747,58,70,144,84,50,295,162,87,328,487,704,196,442]
["LC2101EW0259:Females, All categories: Age, Black/African/Caribbean/Black British: African",116,122,580,567,264,291,121,368,578,391,186,160,79,365,73,133,254,192,73,104,223,169,121,18,249,275,302,293,67,183,81,120,192,736,150,229,146,961,1008,541,53,71,205,135,80,210,39,54,85,457,659,41,391,192,77,341,20,18,29,17,6,35,34,14,82,204,281,67,130]
["LC2101EW0260:Females, All categories: Age, Black/African/Caribbean/Black British: Caribbean",405,118,346,974,434,422,240,950,536,270,118,148,302,401,191,213,244,470,157,183,527,516,206,56,709,1150,318,198,104,972,144,206,532,939,155,391,329,701,967,764,70,540,1041,390,267,439,77,189,159,243,1721,103,424,232,126,1101,31,44,85,60,31,232,109,59,179,180,305,103,227]
["LC2101EW0261:Females, All categories: Age, Black/African/Caribbean/Black British: Other Black",110,44,278,329,148,154,89,207,335,240,63,46,80,209,63,62,84,112,48,68,164,144,47,13,199,254,150,189,12,237,49,62,115,348,60,133,127,510,574,352,39,132,219,90,69,104,45,59,29,294,557,36,315,104,43,305,7,8,30,7,13,28,19,14,67,103,118,26,85]
["LC2101EW0276:Females, Age 0 to 24, Asian/Asian British: Total",1309,147,4872,3752,1088,197,802,1303,1342,1731,1213,164,632,1752,30,126,1045,294,56,284,1077,550,2369,532,1431,1850,662,1897,131,1148,82,97,301,1163,95,1654,1373,1162,1286,1850,53,228,1111,226,200,535,25,87,327,3664,1488,370,4033,3595,280,793,126,101,105,127,92,301,140,158,1006,2097,506,397,1063]
["LC2101EW0277:Females, Age 0 to 24, Asian/Asian British: Indian",289,23,96,528,103,38,168,229,90,29,430,44,164,65,5,33,468,73,11,26,49,43,395,182,414,1080,246,49,37,468,18,27,81,290,23,84,176,320,483,424,14,128,434,70,50,278,4,4,57,83,456,83,182,232,50,129,93,68,49,71,44,148,73,73,122,58,134,47,86]
["LC2101EW0278:Females, Age 0 to 24, Asian/Asian British: Pakistani",727,24,3736,1752,720,48,460,681,752,1155,191,38,358,1403,12,48,195,138,18,169,777,397,1584,252,640,405,115,1535,62,295,13,24,108,118,17,691,980,326,228,988,5,17,316,77,82,101,10,66,165,2604,534,222,2863,2800,105,444,21,20,26,26,23,73,27,51,611,1708,87,290,748]
["LC2101EW0279:Females, Age 0 to 24, Asian/Asian British: Bangladeshi",123,2,499,1261,79,2,59,233,215,409,53,5,27,117,3,3,33,29,1,35,73,32,147,25,236,109,35,149,6,264,12,10,29,25,5,799,72,144,345,116,3,44,150,39,11,25,1,6,61,726,153,41,695,228,75,74,1,3,7,0,4,18,0,13,184,113,27,26,109]
["LC2101EW0280:Females, Age 0 to 24, Asian/Asian British: Chinese",29,24,17,41,61,18,21,40,177,7,374,37,24,17,2,10,201,20,9,3,10,16,17,6,23,48,152,10,6,19,4,9,18,554,13,15,24,279,113,81,7,13,106,14,28,43,3,5,16,8,148,9,30,24,20,55,0,3,6,8,14,23,22,14,6,11,103,8,13]
["LC2101EW0281:Females, Age 0 to 24, Asian/Asian British: Other Asian",141,74,524,170,125,91,94,120,108,131,165,40,59,150,8,32,148,34,17,51,168,62,226,67,118,208,114,154,20,102,35,27,65,176,37,65,121,93,117,241,24,26,105,26,29,88,7,6,28,243,197,15,263,311,30,91,11,7,17,22,7,39,18,7,83,207,155,26,107]
["LC2101EW0282:Females, Age 0 to 24, Black/African/Caribbean/Black British: Total",207,113,599,646,306,338,165,559,686,420,198,122,137,411,120,162,269,280,89,146,366,272,137,21,422,565,322,346,57,490,109,156,307,843,130,281,195,1083,1165,628,57,268,503,217,167,282,48,103,87,527,1118,56,485,223,67,593,18,30,50,30,12,83,43,23,121,200,285,72,173]
["LC2101EW0283:Females, Age 0 to 24, Black/African/Caribbean/Black British: African",54,54,354,269,134,125,58,185,328,214,118,71,32,178,36,67,148,92,35,55,108,76,55,8,142,130,153,178,33,95,35,53,90,384,65,117,74,534,546,234,21,31,95,65,43,100,13,26,42,293,330,18,191,104,26,164,8,7,12,7,0,14,17,3,39,102,137,39,74]
["LC2101EW0284:Females, Age 0 to 24, Black/African/Caribbean/Black British: Caribbean",102,36,86,210,90,131,59,259,170,66,47,34,61,125,54,73,77,140,34,51,180,146,60,8,187,328,92,49,20,281,49,71,153,292,40,100,74,245,294,192,18,168,311,99,92,132,14,52,34,49,498,26,114,57,28,310,7,16,26,20,5,60,25,14,45,53,86,22,52]
["LC2101EW0285:Females, Age 0 to 24, Black/African/Caribbean/Black British: Other Black",51,23,159,167,82,82,48,115,188,140,33,17,44,108,30,22,44,48,20,40,78,50,22,5,93,107,77,119,4,114,25,32,64,167,25,64,47,304,325,202,18,69,97,53,32,50,21,25,11,185,290,12,180,62,13,119,3,7,12,3,7,9,1,6,37,45,62,11,47]
["LC2101EW0300:Females, Age 25 to 49, Asian/Asian British: Total",1228,200,3431,2728,868,244,773,1027,1023,1299,486,214,675,1339,36,157,902,336,81,238,854,463,2021,573,1286,2002,789,1412,159,1126,107,92,290,1098,105,1148,1257,482,461,1770,82,312,1050,224,218,678,40,85,354,2662,1504,356,2985,2797,266,759,154,125,111,187,124,375,217,161,789,1414,627,309,826]
["LC2101EW0301:Females, Age 25 to 49, Asian/Asian British: Indian",352,35,94,473,110,53,223,280,129,62,118,60,207,74,11,61,469,122,25,26,74,78,506,250,568,1383,395,75,62,594,32,39,123,460,28,95,343,62,70,644,20,189,565,92,67,416,16,9,89,103,695,106,236,308,64,195,120,78,67,110,63,211,135,91,130,56,210,58,107]
["LC2101EW0302:Females, Age 25 to 49, Asian/Asian British: Pakistani",606,16,2629,1277,554,45,382,498,535,870,120,38,314,1043,10,46,154,120,20,132,577,276,1183,238,438,308,106,1081,59,223,22,16,83,103,10,529,716,198,107,746,11,32,235,59,69,85,6,45,142,1907,407,183,2098,2093,82,367,10,17,19,26,18,74,20,42,465,1137,77,200,542]
["LC2101EW0303:Females, Age 25 to 49, Asian/Asian British: Bangladeshi",109,6,327,799,62,6,43,136,156,274,36,8,23,90,2,5,25,26,2,19,46,27,124,21,142,81,18,102,2,178,7,4,22,37,5,466,55,84,187,73,1,33,134,27,9,15,0,4,62,484,100,33,466,169,56,60,5,6,2,3,5,13,2,8,129,83,17,21,76]
["LC2101EW0304:Females, Age 25 to 49, Asian/Asian British: Chinese",29,53,15,42,44,30,31,19,110,10,85,38,52,21,8,18,109,24,17,6,17,29,25,12,17,22,105,10,6,24,17,9,17,294,25,12,36,75,32,96,19,25,26,22,39,49,8,2,15,5,114,11,21,20,18,59,4,8,9,20,20,30,31,7,6,12,129,5,5]
["LC2101EW0305:Females, Age 25 to 49, Asian/Asian British: Other Asian",132,90,366,137,98,110,94,94,93,83,127,70,79,111,5,27,145,44,17,55,140,53,183,52,121,208,165,144,30,107,29,24,45,204,37,46,107,63,65,211,31,33,90,24,34,113,10,25,46,163,188,23,164,207,46,78,15,16,14,28,18,47,29,13,59,126,194,25,96]
["LC2101EW0306:Females, Age 25 to 49, Black/African/Caribbean/Black British: Total",270,121,427,733,306,378,181,594,556,318,123,163,192,392,146,177,216,342,130,135,393,351,148,42,440,719,353,232,87,551,117,167,356,882,179,304,256,818,1020,715,76,333,605,262,169,324,88,135,131,304,1251,83,413,185,118,793,25,30,65,46,25,131,82,40,140,185,315,88,174]
["LC2101EW0307:Females, Age 25 to 49, Black/African/Caribbean/Black British: African",59,58,203,271,106,137,52,171,219,153,60,76,39,160,28,58,89,91,34,40,104,91,57,10,101,126,137,101,29,81,35,53,91,313,74,97,59,374,421,283,32,35,94,59,32,98,23,23,38,144,298,21,163,75,41,160,9,7,13,9,5,13,13,10,40,92,129,27,51]
["LC2101EW0308:Females, Age 25 to 49, Black/African/Caribbean/Black British: Caribbean",166,48,132,335,146,178,96,351,213,82,37,63,122,150,88,84,95,204,71,69,214,192,69,24,257,485,148,76,53,373,60,86,225,416,71,156,137,269,403,309,26,247,420,175,107,180,45,79,76,66,727,47,148,76,54,481,13,22,34,33,15,103,54,23,73,52,137,47,92]
["LC2101EW0309:Females, Age 25 to 49, Black/African/Caribbean/Black British: Other Black",45,15,92,127,54,63,33,72,124,83,26,24,31,82,30,35,32,47,25,26,75,68,22,8,82,108,68,55,5,97,22,28,40,153,34,51,60,175,196,123,18,51,91,28,30,46,20,33,17,94,226,15,102,34,23,152,3,1,18,4,5,15,15,7,27,41,49,14,31]
["LC2101EW0324:Females, Age 50 to 64, Asian/Asian British: Total",235,27,831,777,270,46,213,316,152,311,96,52,195,219,9,31,289,65,17,31,128,95,581,193,452,806,150,259,21,331,24,16,66,108,25,280,433,77,65,460,21,43,194,49,38,212,13,16,64,742,351,84,800,839,56,156,68,38,25,43,20,110,71,55,94,229,102,78,140]
["LC2101EW0325:Females, Age 50 to 64, Asian/Asian British: Indian",102,5,29,228,39,17,98,122,23,18,33,19,76,14,4,11,155,24,5,5,13,26,289,112,240,635,86,24,13,234,12,5,37,49,8,36,132,9,10,205,7,31,136,30,18,131,4,2,20,40,207,40,135,184,29,59,49,25,13,25,12,65,44,26,24,17,42,34,26]
["LC2101EW0326:Females, Age 50 to 64, Asian/Asian British: Pakistani",86,4,641,317,170,4,75,120,82,209,24,11,79,171,2,6,51,20,3,16,84,47,206,46,111,59,14,191,6,36,5,2,15,15,4,123,232,33,19,165,5,4,33,10,7,22,1,3,22,539,77,36,521,540,14,61,7,5,6,2,5,16,7,10,45,183,14,36,80]
["LC2101EW0327:Females, Age 50 to 64, Asian/Asian British: Bangladeshi",9,0,67,188,23,3,6,29,22,64,16,1,3,9,2,1,12,7,0,4,7,0,16,4,44,10,4,20,0,25,0,2,2,4,0,98,15,23,24,13,1,2,10,3,1,3,0,3,5,103,17,1,106,42,3,6,0,1,1,2,0,3,1,1,16,10,6,1,10]
["LC2101EW0328:Females, Age 50 to 64, Asian/Asian British: Chinese",11,5,11,9,16,9,8,5,11,3,12,12,14,3,0,4,33,6,4,1,4,4,9,7,10,11,31,2,0,2,2,6,2,22,8,4,8,10,3,13,5,2,4,1,11,21,3,1,5,3,10,1,5,7,5,16,4,3,1,4,1,10,10,12,2,4,19,1,2]
["LC2101EW0329:Females, Age 50 to 64, Asian/Asian British: Other Asian",27,13,83,35,22,13,26,40,14,17,11,9,23,22,1,9,38,8,5,5,20,18,61,24,47,91,15,22,2,34,5,1,10,18,5,19,46,2,9,64,3,4,11,5,1,35,5,7,12,57,40,6,33,66,5,14,8,4,4,10,2,16,9,6,7,15,21,6,22]
["LC2101EW0330:Females, Age 50 to 64, Black/African/Caribbean/Black British: Total",76,37,103,219,113,103,69,179,117,77,28,44,80,114,35,47,58,85,38,38,92,102,51,14,114,250,65,55,24,149,28,43,100,166,32,92,89,156,207,159,21,91,228,88,52,95,20,39,31,63,313,22,116,50,36,204,14,9,19,5,9,68,22,16,32,56,73,17,49]
["LC2101EW0331:Females, Age 50 to 64, Black/African/Caribbean/Black British: African",3,6,19,22,20,24,7,7,20,20,6,9,8,24,7,7,12,6,3,7,11,2,8,0,5,16,10,10,4,6,9,9,4,28,7,8,11,39,29,18,0,4,13,9,4,11,3,5,2,13,24,2,28,12,9,14,3,3,3,1,1,8,1,1,3,9,12,0,3]
["LC2101EW0332:Females, Age 50 to 64, Black/African/Caribbean/Black British: Caribbean",63,25,67,178,84,70,55,158,82,45,18,31,68,75,25,37,40,65,32,29,75,85,41,14,97,206,50,35,17,127,18,32,85,118,25,69,64,95,143,122,20,75,189,72,43,77,15,33,28,39,254,14,65,33,20,167,10,6,16,4,7,58,19,14,27,37,55,17,41]
["LC2101EW0333:Females, Age 50 to 64, Black/African/Caribbean/Black British: Other Black",10,6,17,19,9,9,7,14,15,12,4,4,4,15,3,3,6,14,3,2,6,15,2,0,12,28,5,10,3,16,1,2,11,20,0,15,14,22,35,19,1,12,26,7,5,7,2,1,1,11,35,6,23,5,7,23,1,0,0,0,1,2,2,1,2,10,6,0,5]
["LC2101EW0348:Females, Age 65 and over, Asian/Asian British: Total",127,14,636,478,205,16,97,199,110,235,48,31,106,115,8,15,128,29,7,11,43,39,292,90,294,373,96,126,12,211,7,7,29,48,7,205,249,41,41,333,13,25,105,21,12,87,1,5,41,535,251,31,513,504,30,84,33,17,15,16,8,52,27,36,54,161,46,42,75]
["LC2101EW0349:Females, Age 65 and over, Asian/Asian British: Indian",53,3,18,122,27,5,41,98,8,15,25,19,51,8,4,9,73,15,2,0,4,7,150,57,165,273,67,8,6,144,5,3,17,20,3,28,86,4,4,173,1,16,68,15,5,64,1,2,13,28,157,18,111,133,16,35,29,12,10,13,7,32,17,21,7,2,21,15,12]
["LC2101EW0350:Females, Age 65 and over, Asian/Asian British: Pakistani",51,1,468,198,114,5,40,64,42,164,12,2,41,89,1,3,23,6,2,10,34,21,108,23,74,44,10,95,0,23,0,2,8,5,2,91,131,15,6,120,0,2,22,2,4,9,0,2,19,400,55,8,299,318,5,28,2,2,1,0,1,9,5,7,20,134,5,21,46]
["LC2101EW0351:Females, Age 65 and over, Asian/Asian British: Bangladeshi",9,1,46,118,7,0,2,15,14,39,5,0,2,5,0,0,1,0,2,1,1,4,8,2,26,4,1,14,0,13,1,1,2,0,0,68,8,15,20,7,0,2,4,2,0,0,0,1,3,64,6,0,52,16,3,4,0,1,0,0,0,0,0,1,12,6,3,2,3]
["LC2101EW0352:Females, Age 65 and over, Asian/Asian British: Chinese",3,5,5,2,35,3,5,3,38,4,2,6,4,4,3,2,13,4,1,0,1,0,2,0,3,5,8,3,0,2,1,0,1,19,2,7,6,5,1,9,8,2,3,1,1,3,0,0,4,3,7,2,11,0,3,6,0,0,2,1,0,1,2,4,3,1,10,1,3]
["LC2101EW0353:Females, Age 65 and over, Asian/Asian British: Other Asian",11,4,99,38,22,3,9,19,8,13,4,4,8,9,0,1,18,4,0,0,3,7,24,8,26,47,10,6,6,29,0,1,1,4,0,11,18,2,10,24,4,3,8,1,2,11,0,0,2,40,26,3,40,37,3,11,2,2,2,2,0,10,3,3,12,18,7,3,11]
["LC2101EW0354:Females, Age 65 and over, Black/African/Caribbean/Black British: Total",78,13,75,272,121,48,35,193,90,86,18,25,52,58,26,22,39,67,21,36,63,104,38,10,181,145,30,47,15,202,20,22,76,132,24,76,62,115,157,155,8,51,129,48,28,52,5,25,24,100,255,19,116,70,25,157,1,1,10,3,4,13,15,8,35,46,31,19,46]
["LC2101EW0355:Females, Age 65 and over, Black/African/Caribbean/Black British: African",0,4,4,5,4,5,4,5,11,4,2,4,0,3,2,1,5,3,1,2,0,0,1,0,1,3,2,4,1,1,2,5,7,11,4,7,2,14,12,6,0,1,3,2,1,1,0,0,3,7,7,0,9,1,1,3,0,1,1,0,0,0,3,0,0,1,3,1,2]
["LC2101EW0356:Females, Age 65 and over, Black/African/Caribbean/Black British: Caribbean",74,9,61,251,114,43,30,182,71,77,16,20,51,51,24,19,32,61,20,34,58,93,36,10,168,131,28,38,14,191,17,17,69,113,19,66,54,92,127,141,6,50,121,44,25,50,3,25,21,89,242,16,97,66,24,143,1,0,9,3,4,11,11,8,34,38,27,17,42]
["LC2101EW0357:Females, Age 65 and over, Black/African/Caribbean/Black British: Other Black",4,0,10,16,3,0,1,6,8,5,0,1,1,4,0,2,2,3,0,0,5,11,1,0,12,11,0,5,0,10,1,0,0,8,1,3,6,9,18,8,2,0,5,2,2,1,2,0,0,4,6,3,10,3,0,11,0,0,0,0,0,2,1,0,1,7,1,1,2]
["LC2101EW0022:All categories: Sex, All categories: Age, Other ethnic group: Total",267,97,436,329,1698,181,227,254,806,595,306,174,221,247,54,143,536,112,46,41,215,143,494,155,432,781,454,381,71,439,117,95,91,967,83,157,701,499,401,853,52,62,219,60,81,385,22,52,113,913,683,119,2151,681,85,215,101,20,32,53,29,120,67,60,198,209,475,76,172]
["LC2101EW0023:All categories: Sex, All categories: Age, Other ethnic group: Arab",143,37,252,126,1500,71,120,77,524,384,137,76,81,146,14,51,217,35,7,9,77,40,208,43,62,54,204,207,28,37,49,49,20,453,35,63,432,201,185,307,16,8,32,12,43,110,5,27,54,587,123,72,1825,411,47,62,15,5,13,7,8,38,27,12,120,109,237,32,92]
["LC2101EW0024:All categories: Sex, All categories: Age, Other ethnic group: Any other ethnic group",124,60,184,203,198,110,107,177,282,211,169,98,140,101,40,92,319,77,39,32,138,103,286,112,370,727,250,174,43,402,68,46,71,514,48,94,269,298,216,546,36,54,187,48,38,275,17,25,59,326,560,47,326,270,38,153,86,15,19,46,21,82,40,48,78,100,238,44,80]
["LC2101EW0046:All categories: Sex, Age 0 to 24, Other ethnic group: Total",122,41,242,165,982,83,94,108,438,338,186,79,93,140,21,70,232,33,21,16,109,73,224,66,180,295,177,208,29,160,65,59,35,434,24,93,325,286,234,342,18,20,92,27,34,147,6,26,55,560,254,54,1241,347,45,105,40,5,13,20,9,53,19,22,107,105,206,36,82]
["LC2101EW0047:All categories: Sex, Age 0 to 24, Other ethnic group: Arab",75,20,149,83,894,34,51,42,313,218,77,39,34,84,9,33,102,12,3,5,45,21,106,23,25,30,92,122,12,19,35,38,8,204,11,42,224,136,118,157,9,4,15,7,22,50,0,19,28,374,59,39,1083,247,29,36,5,2,7,4,3,18,8,6,70,65,106,17,53]
["LC2101EW0048:All categories: Sex, Age 0 to 24, Other ethnic group: Any other ethnic group",47,21,93,82,88,49,43,66,125,120,109,40,59,56,12,37,130,21,18,11,64,52,118,43,155,265,85,86,17,141,30,21,27,230,13,51,101,150,116,185,9,16,77,20,12,97,6,7,27,186,195,15,158,100,16,69,35,3,6,16,6,35,11,16,37,40,100,19,29]
["LC2101EW0070:All categories: Sex, Age 25 to 49, Other ethnic group: Total",113,43,172,129,502,87,95,112,331,217,105,69,85,89,23,59,225,61,16,17,95,54,175,62,185,291,235,151,32,199,40,31,43,488,41,53,273,194,151,383,29,31,92,23,32,178,13,26,44,285,362,45,647,243,33,83,36,9,14,24,11,45,35,27,81,91,218,27,79]
["LC2101EW0071:All categories: Sex, Age 25 to 49, Other ethnic group: Arab",53,12,87,36,427,30,52,29,186,135,51,26,38,55,3,16,91,19,3,4,30,16,77,16,35,16,100,78,12,15,13,10,8,235,19,17,162,58,63,123,7,4,16,4,16,54,4,8,21,171,61,24,517,128,13,23,4,3,6,3,4,12,18,6,46,40,114,11,35]
["LC2101EW0072:All categories: Sex, Age 25 to 49, Other ethnic group: Any other ethnic group",60,31,85,93,75,57,43,83,145,82,54,43,47,34,20,43,134,42,13,13,65,38,98,46,150,275,135,73,20,184,27,21,35,253,22,36,111,136,88,260,22,27,76,19,16,124,9,18,23,114,301,21,130,115,20,60,32,6,8,21,7,33,17,21,35,51,104,16,44]
["LC2101EW0094:All categories: Sex, Age 50 to 64, Other ethnic group: Total",19,9,13,21,101,10,25,23,28,23,13,21,28,12,5,7,53,10,7,4,7,13,49,20,35,125,32,12,6,44,11,4,11,37,15,7,57,12,10,78,5,9,28,8,13,45,0,0,10,32,43,13,146,51,5,15,14,5,3,5,6,15,9,9,8,8,36,8,10]
["LC2101EW0095:All categories: Sex, Age 50 to 64, Other ethnic group: Arab",7,3,9,6,86,7,8,5,17,17,8,10,4,4,1,1,18,2,0,0,1,3,16,4,1,5,9,4,2,2,1,0,4,11,4,2,26,4,3,15,0,0,0,1,5,3,0,0,2,20,1,7,122,20,4,2,5,0,0,0,1,7,1,0,3,3,16,1,4]
["LC2101EW0096:All categories: Sex, Age 50 to 64, Other ethnic group: Any other ethnic group",12,6,4,15,15,3,17,18,11,6,5,11,24,8,4,6,35,8,7,4,6,10,33,16,34,120,23,8,4,42,10,4,7,26,11,5,31,8,7,63,5,9,28,7,8,42,0,0,8,12,42,6,24,31,1,13,9,5,3,5,5,8,8,9,5,5,20,7,6]
["LC2101EW0118:All categories: Sex, Age 65 and over, Other ethnic group: Total",13,4,9,14,113,1,13,11,9,17,2,5,15,6,5,7,26,8,2,4,4,3,46,7,32,70,10,10,4,36,1,1,2,8,3,4,46,7,6,50,0,2,7,2,2,15,3,0,4,36,24,7,117,40,2,12,11,1,2,4,3,7,4,2,2,5,15,5,1]
["LC2101EW0119:All categories: Sex, Age 65 and over, Other ethnic group: Arab",8,2,7,1,93,0,9,1,8,14,1,1,5,3,1,1,6,2,1,0,1,0,9,0,1,3,3,3,2,1,0,1,0,3,1,2,20,3,1,12,0,0,1,0,0,3,1,0,3,22,2,2,103,16,1,1,1,0,0,0,0,1,0,0,1,1,1,3,0]
["LC2101EW0120:All categories: Sex, Age 65 and over, Other ethnic group: Any other ethnic group",5,2,2,13,20,1,4,10,1,3,1,4,10,3,4,6,20,6,1,4,3,3,37,7,31,67,7,7,2,35,1,0,2,5,2,2,26,4,5,38,0,2,6,2,2,12,2,0,1,14,22,5,14,24,1,11,10,1,2,4,3,6,4,2,1,4,14,2,1]
["LC2101EW0142:Males, All categories: Age, Other ethnic group: Total",151,43,219,194,897,92,109,171,462,325,163,86,119,132,27,87,314,67,24,23,131,76,242,78,285,410,252,196,41,255,65,43,52,658,45,91,393,261,227,492,27,31,124,37,42,198,11,26,61,459,412,60,1140,367,45,125,53,7,16,29,13,61,36,32,109,116,275,28,81]
["LC2101EW0143:Males, All categories: Age, Other ethnic group: Arab",76,18,124,64,793,39,59,49,294,214,82,35,47,86,9,29,131,20,4,4,45,18,108,19,47,31,113,96,16,22,29,22,12,316,24,34,234,107,99,178,7,3,16,8,22,64,4,11,31,293,67,34,957,217,28,41,9,2,7,5,4,21,16,7,69,51,141,12,42]
["LC2101EW0144:Males, All categories: Age, Other ethnic group: Any other ethnic group",75,25,95,130,104,53,50,122,168,111,81,51,72,46,18,58,183,47,20,19,86,58,134,59,238,379,139,100,25,233,36,21,40,342,21,57,159,154,128,314,20,28,108,29,20,134,7,15,30,166,345,26,183,150,17,84,44,5,9,24,9,40,20,25,40,65,134,16,39]
["LC2101EW0166:Males, Age 0 to 24, Other ethnic group: Total",68,17,111,87,510,39,44,65,245,169,88,38,52,75,7,42,133,18,9,6,65,34,108,32,119,159,87,97,18,92,31,25,20,288,13,51,166,140,127,181,8,6,48,15,19,79,2,10,32,273,139,27,620,171,27,60,26,2,8,13,5,25,8,9,54,51,118,12,31]
["LC2101EW0167:Males, Age 0 to 24, Other ethnic group: Arab",37,9,67,41,466,16,22,26,180,109,43,18,18,51,4,16,58,8,3,1,28,8,58,12,21,17,48,48,6,10,19,15,4,139,7,22,106,66,61,80,4,0,6,4,12,28,0,7,18,181,36,18,536,125,19,25,3,1,4,3,1,9,4,3,36,30,58,7,19]
["LC2101EW0168:Males, Age 0 to 24, Other ethnic group: Any other ethnic group",31,8,44,46,44,23,22,39,65,60,45,20,34,24,3,26,75,10,6,5,37,26,50,20,98,142,39,49,12,82,12,10,16,149,6,29,60,74,66,101,4,6,42,11,7,51,2,3,14,92,103,9,84,46,8,35,23,1,4,10,4,16,4,6,18,21,60,5,12]
["LC2101EW0190:Males, Age 25 to 49, Other ethnic group: Total",61,23,96,85,265,47,45,84,197,136,65,31,45,47,14,35,138,38,9,13,60,33,83,34,130,159,138,89,19,124,27,17,25,343,25,31,172,110,92,240,15,19,59,16,15,95,8,16,21,153,236,24,378,148,15,52,14,3,6,11,4,26,20,18,47,56,129,9,43]
["LC2101EW0191:Males, Age 25 to 49, Other ethnic group: Arab",28,7,49,20,226,17,27,20,101,88,32,11,22,30,3,11,60,9,1,3,15,7,34,6,24,9,56,45,8,10,9,7,5,170,14,8,104,37,36,80,3,3,9,3,7,33,3,4,10,94,30,12,302,71,6,14,2,1,3,2,2,8,11,4,29,18,73,3,21]
["LC2101EW0192:Males, Age 25 to 49, Other ethnic group: Any other ethnic group",33,16,47,65,39,30,18,64,96,48,33,20,23,17,11,24,78,29,8,10,45,26,49,28,106,150,82,44,11,114,18,10,20,173,11,23,68,73,56,160,12,16,50,13,8,62,5,12,11,59,206,12,76,77,9,38,12,2,3,9,2,18,9,14,18,38,56,6,22]
["LC2101EW0214:Males, Age 50 to 64, Other ethnic group: Total",14,1,8,15,55,6,12,15,15,8,9,13,14,7,2,6,29,5,5,2,4,8,28,9,19,62,23,5,1,20,7,1,6,21,7,5,33,8,6,40,4,4,13,4,7,16,0,0,5,12,21,5,73,24,2,7,7,2,1,3,3,8,6,3,6,5,20,4,6]
["LC2101EW0215:Males, Age 50 to 64, Other ethnic group: Arab",4,1,5,3,45,6,4,2,8,6,6,5,2,3,1,1,9,1,0,0,1,3,10,1,1,3,7,1,0,1,1,0,3,5,3,2,14,2,2,8,0,0,0,1,3,1,0,0,1,6,0,3,56,9,2,1,3,0,0,0,1,4,1,0,3,2,10,1,2]
["LC2101EW0216:Males, Age 50 to 64, Other ethnic group: Any other ethnic group",10,0,3,12,10,0,8,13,7,2,3,8,12,4,1,5,20,4,5,2,3,5,18,8,18,59,16,4,1,19,6,1,3,16,4,3,19,6,4,32,4,4,13,3,4,15,0,0,4,6,21,2,17,15,0,6,4,2,1,3,2,4,5,3,3,3,10,3,4]
["LC2101EW0238:Males, Age 65 and over, Other ethnic group: Total",8,2,4,7,67,0,8,7,5,12,1,4,8,3,4,4,14,6,1,2,2,1,23,3,17,30,4,5,3,19,0,0,1,6,0,4,22,3,2,31,0,2,4,2,1,8,1,0,3,21,16,4,69,24,1,6,6,0,1,2,1,2,2,2,2,4,8,3,1]
["LC2101EW0239:Males, Age 65 and over, Other ethnic group: Arab",7,1,3,0,56,0,6,1,5,11,1,1,5,2,1,1,4,2,0,0,1,0,6,0,1,2,2,2,2,1,0,0,0,2,0,2,10,2,0,10,0,0,1,0,0,2,1,0,2,12,1,1,63,12,1,1,1,0,0,0,0,0,0,0,1,1,0,1,0]
["LC2101EW0240:Males, Age 65 and over, Other ethnic group: Any other ethnic group",1,1,1,7,11,0,2,6,0,1,0,3,3,1,3,3,10,4,1,2,1,1,17,3,16,28,2,3,1,18,0,0,1,4,0,2,12,1,2,21,0,2,3,2,1,6,0,0,1,9,15,3,6,12,0,5,5,0,1,2,1,2,2,2,1,3,8,2,1]
["LC2101EW0262:Females, All categories: Age, Other ethnic group: Total",116,54,217,135,801,89,118,83,344,270,143,88,102,115,27,56,222,45,22,18,84,67,252,77,147,371,202,185,30,184,52,52,39,309,38,66,308,238,174,361,25,31,95,23,39,187,11,26,52,454,271,59,1011,314,40,90,48,13,16,24,16,59,31,28,89,93,200,48,91]
["LC2101EW0263:Females, All categories: Age, Other ethnic group: Arab",67,19,128,62,707,32,61,28,230,170,55,41,34,60,5,22,86,15,3,5,32,22,100,24,15,23,91,111,12,15,20,27,8,137,11,29,198,94,86,129,9,5,16,4,21,46,1,16,23,294,56,38,868,194,19,21,6,3,6,2,4,17,11,5,51,58,96,20,50]
["LC2101EW0264:Females, All categories: Age, Other ethnic group: Any other ethnic group",49,35,89,73,94,57,57,55,114,100,88,47,68,55,22,34,136,30,19,13,52,45,152,53,132,348,111,74,18,169,32,25,31,172,27,37,110,144,88,232,16,26,79,19,18,141,10,10,29,160,215,21,143,120,21,69,42,10,10,22,12,42,20,23,38,35,104,28,41]
["LC2101EW0286:Females, Age 0 to 24, Other ethnic group: Total",54,24,131,78,472,44,50,43,193,169,98,41,41,65,14,28,99,15,12,10,44,39,116,34,61,136,90,111,11,68,34,34,15,146,11,42,159,146,107,161,10,14,44,12,15,68,4,16,23,287,115,27,621,176,18,45,14,3,5,7,4,28,11,13,53,54,88,24,51]
["LC2101EW0287:Females, Age 0 to 24, Other ethnic group: Arab",38,11,82,42,428,18,29,16,133,109,34,21,16,33,5,17,44,4,0,4,17,13,48,11,4,13,44,74,6,9,16,23,4,65,4,20,118,70,57,77,5,4,9,3,10,22,0,12,10,193,23,21,547,122,10,11,2,1,3,1,2,9,4,3,34,35,48,10,34]
["LC2101EW0288:Females, Age 0 to 24, Other ethnic group: Any other ethnic group",16,13,49,36,44,26,21,27,60,60,64,20,25,32,9,11,55,11,12,6,27,26,68,23,57,123,46,37,5,59,18,11,11,81,7,22,41,76,50,84,5,10,35,9,5,46,4,4,13,94,92,6,74,54,8,34,12,2,2,6,2,19,7,10,19,19,40,14,17]
["LC2101EW0310:Females, Age 25 to 49, Other ethnic group: Total",52,20,76,44,237,40,50,28,134,81,40,38,40,42,9,24,87,23,7,4,35,21,92,28,55,132,97,62,13,75,13,14,18,145,16,22,101,84,59,143,14,12,33,7,17,83,5,10,23,132,126,21,269,95,18,31,22,6,8,13,7,19,15,9,34,35,89,18,36]
["LC2101EW0311:Females, Age 25 to 49, Other ethnic group: Arab",25,5,38,16,201,13,25,9,85,47,19,15,16,25,0,5,31,10,2,1,15,9,43,10,11,7,44,33,4,5,4,3,3,65,5,9,58,21,27,43,4,1,7,1,9,21,1,4,11,77,31,12,215,57,7,9,2,2,3,1,2,4,7,2,17,22,41,8,14]
["LC2101EW0312:Females, Age 25 to 49, Other ethnic group: Any other ethnic group",27,15,38,28,36,27,25,19,49,34,21,23,24,17,9,19,56,13,5,3,20,12,49,18,44,125,53,29,9,70,9,11,15,80,11,13,43,63,32,100,10,11,26,6,8,62,4,6,12,55,95,9,54,38,11,22,20,4,5,12,5,15,8,7,17,13,48,10,22]
["LC2101EW0334:Females, Age 50 to 64, Other ethnic group: Total",5,8,5,6,46,4,13,8,13,15,4,8,14,5,3,1,24,5,2,2,3,5,21,11,16,63,9,7,5,24,4,3,5,16,8,2,24,4,4,38,1,5,15,4,6,29,0,0,5,20,22,8,73,27,3,8,7,3,2,2,3,7,3,6,2,3,16,4,4]
["LC2101EW0335:Females, Age 50 to 64, Other ethnic group: Arab",3,2,4,3,41,1,4,3,9,11,2,5,2,1,0,0,9,1,0,0,0,0,6,3,0,2,2,3,2,1,0,0,1,6,1,0,12,2,1,7,0,0,0,0,2,2,0,0,1,14,1,4,66,11,2,1,2,0,0,0,0,3,0,0,0,1,6,0,2]
["LC2101EW0336:Females, Age 50 to 64, Other ethnic group: Any other ethnic group",2,6,1,3,5,3,9,5,4,4,2,3,12,4,3,1,15,4,2,2,3,5,15,8,16,61,7,4,3,23,4,3,4,10,7,2,12,2,3,31,1,5,15,4,4,27,0,0,4,6,21,4,7,16,1,7,5,3,2,2,3,4,3,6,2,2,10,4,2]
["LC2101EW0358:Females, Age 65 and over, Other ethnic group: Total",5,2,5,7,46,1,5,4,4,5,1,1,7,3,1,3,12,2,1,2,2,2,23,4,15,40,6,5,1,17,1,1,1,2,3,0,24,4,4,19,0,0,3,0,1,7,2,0,1,15,8,3,48,16,1,6,5,1,1,2,2,5,2,0,0,1,7,2,0]
["LC2101EW0359:Females, Age 65 and over, Other ethnic group: Arab",1,1,4,1,37,0,3,0,3,3,0,0,0,1,0,0,2,0,1,0,0,0,3,0,0,1,1,1,0,0,0,1,0,1,1,0,10,1,1,2,0,0,0,0,0,1,0,0,1,10,1,1,40,4,0,0,0,0,0,0,0,1,0,0,0,0,1,2,0]
["LC2101EW0360:Females, Age 65 and over, Other ethnic group: Any other ethnic group",4,1,1,6,9,1,2,4,1,2,1,1,7,2,1,3,10,2,0,2,2,2,20,4,15,39,5,4,1,17,1,0,1,1,2,0,14,3,3,17,0,0,3,0,1,6,2,0,0,5,7,2,8,12,1,6,5,1,1,2,2,4,2,0,0,1,6,0,0]

{"sheet":"All","index":3,"n_rows":71,"n_cols":57,"rows_kept":71,"cut":false,"hidden":true,"merged":[]}
[null,1,{"$f":"B1+1","v":2},{"$f":"C1+1","v":3},4,5,6,7,8,9,10,11,12,13,14,15,16,17,18,19,20,21,22,23,24,25,26,27,28,29,30,31,32,33,34,35,36,37,38,39,40,41,42,43,44,45,46,47,48,49,50,51,52,53,54,55,56]
["ZONEID","ZoneName","LC2101EW0001:All categories: Sex, All categories: Age, All categories: Ethnic group","LC2101EW0002:All categories: Sex, All categories: Age, White: Total","LC2101EW0003:All categories: Sex, All categories: Age, White: English/Welsh/Scottish/Northern Irish/British","LC2101EW0004:All categories: Sex, All categories: Age, White: Irish","LC2101EW0005:All categories: Sex, All categories: Age, White: Gypsy or Irish Traveller","LC2101EW0006:All categories: Sex, All categories: Age, White: Other White","LC2101EW0007:All categories: Sex, All categories: Age, Mixed/multiple ethnic group: Total","LC2101EW0008:All categories: Sex, All categories: Age, Mixed/multiple ethnic group: White and Black Caribbean","LC2101EW0009:All categories: Sex, All categories: Age, Mixed/multiple ethnic group: White and Black African","LC2101EW0010:All categories: Sex, All categories: Age, Mixed/multiple ethnic group: White and Asian","LC2101EW0011:All categories: Sex, All categories: Age, Mixed/multiple ethnic group: Other Mixed","LC2101EW0025:All categories: Sex, Age 0 to 24, All categories: Ethnic group","LC2101EW0026:All categories: Sex, Age 0 to 24, White: Total","LC2101EW0027:All categories: Sex, Age 0 to 24, White: English/Welsh/Scottish/Northern Irish/British","LC2101EW0028:All categories: Sex, Age 0 to 24, White: Irish","LC2101EW0029:All categories: Sex, Age 0 to 24, White: Gypsy or Irish Traveller","LC2101EW0030:All categories: Sex, Age 0 to 24, White: Other White","LC2101EW0031:All categories: Sex, Age 0 to 24, Mixed/multiple ethnic group: Total","LC2101EW0032:All categories: Sex, Age 0 to 24, Mixed/multiple ethnic group: White and Black Caribbean","LC2101EW0033:All categories: Sex, Age 0 to 24, Mixed/multiple ethnic group: White and Black African","LC2101EW0034:All categories: Sex, Age 0 to 24, Mixed/multiple ethnic group: White and Asian","LC2101EW0035:All categories: Sex, Age 0 to 24, Mixed/multiple ethnic group: Other Mixed","LC2101EW0049:All categories: Sex, Age 25 to 49, All categories: Ethnic group","LC2101EW0050:All categories: Sex, Age 25 to 49, White: Total","LC2101EW0051:All categories: Sex, Age 25 to 49, White: English/Welsh/Scottish/Northern Irish/British","LC2101EW0052:All categories: Sex, Age 25 to 49, White: Irish","LC2101EW0053:All categories: Sex, Age 25 to 49, White: Gypsy or Irish Traveller","LC2101EW0054:All categories: Sex, Age 25 to 49, White: Other White","LC2101EW0055:All categories: Sex, Age 25 to 49, Mixed/multiple ethnic group: Total","LC2101EW0056:All categories: Sex, Age 25 to 49, Mixed/multiple ethnic group: White and Black Caribbean","LC2101EW0057:All categories: Sex, Age 25 to 49, Mixed/multiple ethnic group: White and Black African","LC2101EW0058:All categories: Sex, Age 25 to 49, Mixed/multiple ethnic group: White and Asian","LC2101EW0059:All categories: Sex, Age 25 to 49, Mixed/multiple ethnic group: Other Mixed","LC2101EW0073:All categories: Sex, Age 50 to 64, All categories: Ethnic group","LC2101EW0074:All categories: Sex, Age 50 to 64, White: Total","LC2101EW0075:All categories: Sex, Age 50 to 64, White: English/Welsh/Scottish/Northern Irish/British","LC2101EW0076:All categories: Sex, Age 50 to 64, White: Irish","LC2101EW0077:All categories: Sex, Age 50 to 64, White: Gypsy or Irish Traveller","LC2101EW0078:All categories: Sex, Age 50 to 64, White: Other White","LC2101EW0079:All categories: Sex, Age 50 to 64, Mixed/multiple ethnic group: Total","LC2101EW0080:All categories: Sex, Age 50 to 64, Mixed/multiple ethnic group: White and Black Caribbean","LC2101EW0081:All categories: Sex, Age 50 to 64, Mixed/multiple ethnic group: White and Black African","LC2101EW0082:All categories: Sex, Age 50 to 64, Mixed/multiple ethnic group: White and Asian","LC2101EW0083:All categories: Sex, Age 50 to 64, Mixed/multiple ethnic group: Other Mixed","LC2101EW0097:All categories: Sex, Age 65 and over, All categories: Ethnic group","LC2101EW0098:All categories: Sex, Age 65 and over, White: Total","LC2101EW0099:All categories: Sex, Age 65 and over, White: English/Welsh/Scottish/Northern Irish/British","LC2101EW0100:All categories: Sex, Age 65 and over, White: Irish","LC2101EW0101:All categories: Sex, Age 65 and over, White: Gypsy or Irish Traveller","LC2101EW0102:All categories: Sex, Age 65 and over, White: Other White","LC2101EW0103:All categories: Sex, Age 65 and over, Mixed/multiple ethnic group: Total","LC2101EW0104:All categories: Sex, Age 65 and over, Mixed/multiple ethnic group: White and Black Caribbean","LC2101EW0105:All categories: Sex, Age 65 and over, Mixed/multiple ethnic group: White and Black African","LC2101EW0106:All categories: Sex, Age 65 and over, Mixed/multiple ethnic group: White and Asian","LC2101EW0107:All categories: Sex, Age 65 and over, Mixed/multiple ethnic group: Other Mixed"]
["E05011118","Acocks Green",23117,14863,12996,860,2,1005,1052,571,51,283,147,8235,4275,3892,86,2,295,734,389,36,207,102,8566,5312,4520,187,0,605,270,155,13,64,38,3262,2609,2335,203,0,71,34,16,2,12,4,3054,2667,2249,384,0,34,14,11,0,0,3]
["E05011119","Allens Cross",10962,9034,8652,219,0,163,482,299,32,78,73,3855,2912,2845,18,0,49,330,204,18,58,50,3687,2921,2795,39,0,87,120,78,8,16,18,1776,1621,1540,61,0,20,24,10,5,4,5,1644,1580,1472,101,0,7,8,7,1,0,0]
["E05011120","Alum Rock",25487,2347,1909,126,2,310,663,257,64,212,130,12653,579,428,2,0,149,493,192,44,164,93,8712,694,542,20,2,130,144,55,17,41,31,2296,534,491,26,0,17,18,7,1,5,5,1826,540,448,78,0,14,8,3,2,2,1]
["E05011121","Aston",22636,2294,1774,136,5,379,669,276,79,193,121,10442,652,513,9,1,129,440,177,49,135,79,8020,739,518,15,2,204,178,72,28,46,32,2270,441,373,37,2,29,27,10,2,10,5,1904,462,370,75,0,17,24,17,0,2,5]
["E05011122","Balsall Heath West",11165,2368,1945,135,9,279,597,287,32,144,134,4984,753,627,12,3,111,381,173,15,100,93,3835,839,684,21,4,130,174,95,11,34,34,1266,447,382,42,0,23,26,9,5,8,4,1080,329,252,60,2,15,16,10,1,2,3]
["E05011123","Bartley Green",22014,18037,17408,310,9,310,1215,759,60,210,186,7620,5570,5429,38,3,100,906,560,39,158,149,7291,5826,5601,75,6,144,259,168,18,43,30,3910,3589,3457,90,0,42,38,23,3,7,5,3193,3052,2921,107,0,24,12,8,0,2,2]
["E05011124","Billesley",19748,14011,12879,756,7,369,957,472,40,278,167,6714,3954,3743,99,2,110,669,346,24,189,110,6611,4525,4181,168,3,173,228,102,12,71,43,3341,2721,2484,185,1,51,42,15,3,16,8,3082,2811,2471,304,1,35,18,9,1,2,6]
["E05011125","Birchfield",11465,1576,1007,106,8,455,554,272,34,97,151,4910,511,320,10,4,177,366,180,12,70,104,4234,579,325,37,3,214,138,59,21,22,36,1293,268,202,23,1,42,35,18,1,5,11,1028,218,160,36,0,22,15,15,0,0,0]
["E05011126","Bordesley & Highgate",13242,3344,2604,236,14,490,892,430,68,200,194,6093,932,760,11,9,152,607,284,36,141,146,5313,1528,1182,55,2,289,260,134,27,56,43,1075,510,403,68,2,37,17,8,3,2,4,761,374,259,102,1,12,8,4,2,1,1]
["E05011127","Bordesley Green",11796,1705,1335,159,10,201,542,190,62,137,153,5568,415,310,2,4,99,374,110,40,99,125,4097,540,439,16,2,83,127,60,20,26,21,1137,364,303,45,3,13,25,10,2,8,5,994,386,283,96,1,6,16,10,0,4,2]
["E05011128","Bournbrook & Selly Park",19636,14179,12817,496,15,851,819,292,76,256,195,12914,9405,8817,115,12,461,635,211,56,211,157,4070,2545,2121,106,3,315,154,68,17,36,33,1304,1035,908,84,0,43,22,11,3,7,1,1348,1194,971,191,0,32,8,2,0,2,4]
["E05011129","Bournville & Cotteridge",17501,15019,14194,381,2,442,672,325,46,179,122,5396,4247,4098,33,0,116,463,234,33,119,77,5707,4740,4406,105,2,227,161,74,8,41,38,3321,3078,2920,95,0,63,36,11,4,16,5,3077,2954,2770,148,0,36,12,6,1,3,2]
["E05011130","Brandwood & King's Heath",18948,13759,12520,692,12,535,936,450,49,272,165,6041,3762,3515,91,7,149,644,308,29,189,118,7187,5181,4696,193,5,287,242,120,18,71,33,3128,2570,2346,163,0,61,31,11,2,7,11,2592,2246,1963,245,0,38,19,11,0,5,3]
["E05011131","Bromford & Hodge Hill",20446,10714,10108,333,8,265,958,579,62,188,129,8078,2940,2812,28,5,95,715,437,51,145,82,6655,3083,2911,50,2,120,206,129,9,31,37,2839,2152,2045,80,1,26,19,6,1,9,3,2874,2539,2340,175,0,24,18,7,1,3,7]
["E05011132","Castle Vale",9971,8590,8280,209,1,100,599,472,28,52,47,3529,2796,2753,19,0,24,449,356,20,35,38,3250,2789,2704,29,1,55,126,101,7,11,7,1461,1354,1283,56,0,15,17,11,1,4,1,1731,1651,1540,105,0,6,7,4,0,2,1]
["E05011133","Druids Heath & Monyhull",11653,9465,8989,299,1,176,627,390,48,110,79,3889,2815,2721,35,0,59,413,267,23,67,56,4197,3338,3183,64,0,91,181,104,23,36,18,1788,1616,1526,76,0,14,23,13,1,6,3,1779,1696,1559,124,1,12,10,6,1,1,2]
["E05011134","Edgbaston",18260,10928,9756,248,6,918,874,262,63,341,208,8647,5202,4772,45,2,383,616,172,41,263,140,5181,2463,2018,57,2,386,216,74,19,65,58,2237,1494,1345,61,2,86,31,12,2,10,7,2195,1769,1621,85,0,63,11,4,1,3,3]
["E05011135","Erdington",18603,14545,12899,916,4,726,980,542,67,223,148,5569,3655,3357,93,1,204,700,395,44,169,92,6681,5096,4460,203,2,431,219,125,20,38,36,3197,2845,2577,210,0,58,43,13,2,13,15,3156,2949,2505,410,1,33,18,9,1,3,5]
["E05011136","Frankley Great Park",11032,9596,9304,185,2,105,580,403,31,86,60,3648,2957,2918,12,0,27,389,283,22,50,34,3981,3422,3338,39,2,43,164,113,7,24,20,2076,1946,1855,70,0,21,22,5,2,10,5,1327,1271,1193,64,0,14,5,2,0,2,1]
["E05011137","Garretts Green",9431,7147,6770,218,2,157,395,229,14,83,69,3602,2397,2332,21,1,43,288,170,9,56,53,3171,2347,2205,48,1,93,91,57,4,18,12,1384,1233,1164,53,0,16,12,1,1,7,3,1274,1170,1069,96,0,5,4,1,0,2,1]
["E05011138","Glebe Farm & Tile Cross",23038,15660,14939,407,1,313,1365,833,75,268,189,9167,5163,5010,45,0,108,1002,608,50,207,137,7861,5128,4867,90,1,170,322,207,19,51,45,3259,2811,2661,123,0,27,37,17,6,8,6,2751,2558,2401,149,0,8,4,1,0,2,1]
["E05011139","Gravelly Hill",9875,5183,4374,282,11,516,699,402,36,162,99,3650,1438,1263,25,6,144,465,272,25,116,52,3685,1883,1507,63,4,309,180,100,9,32,39,1433,1015,910,73,1,31,36,15,2,12,7,1107,847,694,121,0,32,18,15,0,2,1]
["E05011140","Hall Green North",21509,9119,7757,832,5,525,759,288,45,277,149,8088,2209,1939,105,0,165,567,200,37,214,116,7329,2791,2332,197,3,259,167,75,5,58,29,3267,1941,1666,219,2,54,16,5,3,5,3,2825,2178,1820,311,0,47,9,8,0,0,1]
["E05011141","Hall Green South",10420,7072,6392,542,2,136,284,107,9,107,61,3177,1755,1630,92,0,33,206,76,6,77,47,3657,2338,2108,161,2,67,66,25,3,27,11,1892,1476,1333,122,0,21,10,5,0,2,3,1694,1503,1321,167,0,15,2,1,0,1,0]
["E05011142","Handsworth",11733,1359,804,56,11,488,557,267,65,112,113,4800,414,219,2,4,189,364,176,32,87,69,4475,526,287,8,5,226,155,70,30,20,35,1374,235,165,12,2,56,21,10,1,4,6,1084,184,133,34,0,17,17,11,2,1,3]
["E05011143","Handsworth Wood",19731,4968,3786,227,7,948,866,455,43,193,175,6983,1205,824,25,2,354,586,291,22,136,137,7272,1545,1013,39,3,490,220,128,13,45,34,3172,957,837,50,1,69,43,26,8,7,2,2304,1261,1112,113,1,35,17,10,0,5,2]
["E05011144","Harborne",21856,15505,14008,543,4,950,1136,454,81,398,203,6793,3975,3637,80,1,257,744,318,44,272,110,8616,5872,5191,162,3,516,322,112,28,105,77,3316,2787,2567,118,0,102,54,16,9,18,11,3131,2871,2613,183,0,75,16,8,0,3,5]
["E05011145","Heartlands",12287,2689,2351,153,3,182,595,208,25,215,147,5811,674,584,11,2,77,418,136,17,143,122,4204,739,626,23,0,90,139,57,6,55,21,1191,559,509,37,1,12,21,4,2,14,1,1081,717,632,82,0,3,17,11,0,3,3]
["E05011146","Highter's Heath",11182,9685,9312,223,3,147,398,253,18,73,54,3654,2931,2892,9,0,30,280,192,9,40,39,3993,3416,3266,57,2,91,88,45,8,23,12,1862,1736,1656,58,1,21,20,7,1,9,3,1673,1602,1498,99,0,5,10,9,0,1,0]
["E05011147","Holyhead",11133,1822,889,98,4,831,560,298,34,99,129,4555,579,237,4,2,336,381,192,25,68,96,4283,680,257,18,2,403,144,86,6,27,25,1227,272,176,17,0,79,17,9,3,0,5,1068,291,219,59,0,13,18,11,0,4,3]
["E05011148","King's Norton North",11493,9924,9465,232,4,223,508,319,41,66,82,3682,2875,2768,33,2,72,363,233,28,42,60,3816,3242,3087,56,2,97,122,75,11,17,19,2110,1978,1897,57,0,24,20,9,2,7,2,1885,1829,1713,86,0,30,3,2,0,0,1]
["E05011149","King's Norton South",11665,9712,9347,223,3,139,758,470,55,115,118,4271,3191,3129,27,0,35,548,352,35,75,86,3851,3174,3061,47,3,63,180,110,15,31,24,1939,1800,1713,63,0,24,22,6,3,8,5,1604,1547,1444,86,0,17,8,2,2,1,3]
["E05011150","Kingstanding",20880,17056,16270,426,13,347,861,546,58,168,89,7866,5978,5841,25,4,108,633,403,48,125,57,6892,5509,5226,89,4,190,179,114,8,36,21,3303,2952,2822,97,5,28,35,19,0,7,9,2819,2617,2381,215,0,21,14,10,2,0,2]
["E05011151","Ladywood",22250,10434,8219,351,10,1854,1527,722,175,327,303,8716,3419,2717,56,4,642,898,449,91,181,177,10588,5062,3813,127,4,1118,555,236,74,130,115,1807,1163,1019,67,2,75,56,24,10,15,7,1139,790,670,101,0,19,18,13,0,1,4]
["E05011152","Longbridge & West Heath",19948,17916,17335,375,4,202,764,473,64,104,123,6402,5395,5305,34,1,55,547,353,44,64,86,6801,6018,5841,86,2,89,174,101,16,28,29,3501,3339,3194,110,1,34,32,12,4,11,5,3244,3164,2995,145,0,24,11,7,0,1,3]
["E05011153","Lozells",9153,633,458,66,1,108,298,145,33,66,54,4403,169,128,1,0,40,186,90,15,42,39,3263,184,126,4,0,54,93,44,15,23,11,813,142,112,21,0,9,10,6,1,1,2,674,138,92,40,1,5,9,5,2,0,2]
["E05011154","Moseley",21676,11866,10469,618,14,765,1123,492,58,336,237,6579,2331,2114,60,4,153,681,296,33,200,152,8791,5068,4428,202,7,431,370,171,21,111,67,3570,2420,2168,139,1,112,60,20,4,22,14,2736,2047,1759,217,2,69,12,5,0,3,4]
["E05011155","Nechells",13980,4808,3977,223,6,602,980,515,91,208,166,7796,2403,1941,18,1,443,684,359,60,150,115,4001,1071,886,44,2,139,227,120,22,47,38,1202,704,632,55,3,14,36,18,5,8,5,981,630,518,106,0,6,33,18,4,3,8]
["E05011156","Newtown",12485,2758,2218,152,0,388,806,414,74,186,132,6813,1251,1026,19,0,206,550,267,53,126,104,4049,792,605,33,0,154,216,128,17,47,24,930,379,324,34,0,21,26,12,3,9,2,693,336,263,66,0,7,14,7,1,4,2]
["E05011157","North Edgbaston",21934,7699,5782,403,23,1491,1159,505,96,303,255,8415,2317,1770,36,8,503,745,320,55,195,175,9108,3229,2238,116,10,865,353,150,39,92,72,2447,1152,967,92,5,88,41,22,2,12,5,1964,1001,807,159,0,35,20,13,0,4,3]
["E05011158","Northfield",10554,9455,9000,310,3,142,409,226,16,95,72,3206,2675,2595,40,0,40,292,163,11,66,52,3533,3111,2971,68,2,70,94,51,3,22,18,1960,1855,1763,77,1,14,17,9,2,4,2,1855,1814,1671,125,0,18,6,3,0,3,0]
["E05011159","Oscott",19823,16608,15833,424,4,347,648,397,29,132,90,6473,4996,4857,33,2,104,456,289,16,86,65,7055,5745,5473,88,1,183,155,89,9,35,22,3082,2808,2677,95,1,35,27,15,3,7,2,3213,3059,2826,208,0,25,10,4,1,4,1]
["E05011160","Perry Barr",20566,11856,10825,442,2,587,855,487,56,173,139,7456,3421,3148,66,0,207,609,337,43,131,98,6967,3600,3219,84,1,296,194,118,11,35,30,3137,2262,2117,96,0,49,43,26,1,7,9,3006,2573,2341,196,1,35,9,6,1,0,2]
["E05011161","Perry Common",10968,8240,7687,277,4,272,544,336,22,109,77,3589,2298,2196,24,2,76,366,230,17,74,45,3749,2723,2506,59,2,156,144,86,4,30,24,1850,1567,1491,55,0,21,24,12,1,5,6,1780,1652,1494,139,0,19,10,8,0,0,2]
["E05011162","Pype Hayes",10701,8363,7783,312,1,267,530,344,30,86,70,3533,2385,2277,26,0,82,378,247,23,63,45,3812,2903,2685,62,0,156,128,85,5,16,22,1744,1542,1443,83,1,15,21,10,2,7,2,1612,1533,1378,141,0,14,3,2,0,0,1]
["E05011163","Quinton",20251,14501,13641,441,11,408,1032,544,70,248,170,6384,3878,3710,55,6,107,730,380,43,188,119,7048,4758,4443,107,4,204,247,139,18,51,39,3424,2761,2599,114,1,47,45,20,9,7,9,3395,3104,2889,165,0,50,10,5,0,2,3]
["E05011164","Rubery & Rednal",9957,9053,8816,140,4,93,399,253,18,61,67,3377,2935,2896,9,2,28,260,171,8,45,36,3613,3248,3166,39,0,43,121,72,8,13,28,1595,1522,1472,38,2,10,13,6,2,3,2,1372,1348,1282,54,0,12,5,4,0,0,1]
["E05011165","Shard End",11660,9993,9691,183,3,116,721,521,23,91,86,4072,3155,3099,17,0,39,527,379,18,67,63,3893,3318,3235,20,0,63,160,120,4,18,18,1829,1718,1671,41,1,5,23,15,0,3,5,1866,1802,1686,105,2,9,11,7,1,3,0]
["E05011166","Sheldon",18986,16259,15436,545,4,274,541,281,29,137,94,5691,4376,4275,38,1,62,383,205,15,93,70,6314,5234,4984,109,1,140,127,60,11,38,18,3372,3159,2996,126,1,36,23,13,3,4,3,3609,3490,3181,272,1,36,8,3,0,2,3]
["E05011167","Small Heath",20403,1848,1369,231,1,247,485,150,44,156,135,9886,458,346,11,0,101,361,108,34,115,104,6822,535,398,25,1,111,105,37,8,38,22,1953,378,302,54,0,22,10,0,0,3,7,1742,477,323,141,0,13,9,5,2,0,2]
["E05011168","Soho & Jewellery Quarter",22606,7219,5698,286,20,1215,1539,834,119,239,347,8344,1737,1297,21,6,413,954,513,76,144,221,10395,3950,3108,110,10,722,496,283,34,80,99,2218,889,749,71,3,66,53,22,5,9,17,1649,643,544,84,1,14,36,16,4,6,10]
["E05011169","South Yardley",10295,7771,7117,354,0,300,380,215,20,93,52,3379,2200,2065,44,0,91,249,149,9,56,35,3821,2812,2554,90,0,168,107,55,9,30,13,1767,1535,1430,76,0,29,18,8,1,7,2,1328,1224,1068,144,0,12,6,3,1,0,2]
["E05011170","Sparkbrook & Balsall Heath East",25211,3059,2322,263,35,439,861,327,39,311,184,11994,811,604,6,22,179,575,214,18,208,135,8864,1113,840,63,11,199,235,90,15,90,40,2495,623,521,61,1,40,34,15,4,10,5,1858,512,357,133,1,21,17,8,2,3,4]
["E05011171","Sparkhill",20309,2387,1705,309,18,355,521,150,51,209,111,9216,647,477,10,10,150,348,94,31,143,80,7132,757,554,49,4,150,132,40,15,56,21,2263,462,346,74,3,39,26,7,5,7,7,1698,521,328,176,1,16,15,9,0,3,3]
["E05011172","Stirchley",9932,7751,7158,287,3,303,447,253,21,96,77,3066,2061,1954,25,1,81,296,176,10,59,51,4151,3271,3014,97,2,158,131,69,10,31,21,1537,1349,1244,74,0,31,11,3,1,4,3,1178,1070,946,91,0,33,9,5,0,2,2]
["E05011173","Stockland Green",21572,13033,11366,554,5,1108,1411,887,88,210,226,7677,3755,3367,48,1,339,965,606,58,127,174,8253,4889,4069,136,3,681,369,235,23,73,38,3123,2351,2156,139,0,56,55,31,5,8,11,2519,2038,1774,231,1,32,22,15,2,2,3]
["E05011174","Sutton Four Oaks",9019,7918,7649,105,2,162,114,40,15,43,16,2333,1914,1862,13,0,39,79,28,12,30,9,2504,2091,1999,25,1,66,25,9,2,9,5,1893,1713,1651,31,1,30,6,3,0,2,1,2289,2200,2137,36,0,27,4,0,1,2,1]
["E05011175","Sutton Mere Green",9703,8789,8477,135,3,174,208,99,6,66,37,2557,2160,2105,16,0,39,129,63,3,41,22,2987,2625,2508,31,1,85,64,31,2,18,13,1903,1800,1737,35,1,27,12,4,1,5,2,2256,2204,2127,53,1,23,3,1,0,2,0]
["E05011176","Sutton Reddicap",10170,9041,8733,155,2,151,304,176,18,61,49,3314,2745,2681,21,1,42,235,141,15,40,39,3378,2978,2854,41,1,82,55,29,2,15,9,1846,1745,1694,35,0,16,10,4,0,5,1,1632,1573,1504,58,0,11,4,2,1,1,0]
["E05011177","Sutton Roughley",11674,10499,10184,150,1,164,219,97,11,65,46,3516,3010,2939,26,0,45,152,68,10,45,29,3878,3373,3245,48,0,80,44,20,1,13,10,2084,1972,1925,32,0,15,15,8,0,4,3,2196,2144,2075,44,1,24,8,1,0,3,4]
["E05011178","Sutton Trinity",8976,8138,7776,158,4,200,227,111,15,60,41,2289,1919,1849,20,2,48,154,77,10,38,29,3030,2672,2529,42,2,99,57,26,4,17,10,1798,1722,1661,41,0,20,11,5,1,4,1,1859,1825,1737,55,0,33,5,3,0,1,1]
["E05011179","Sutton Vesey",19695,16913,16121,483,9,300,456,206,44,128,78,5468,4306,4171,66,2,67,303,133,33,85,52,6454,5374,5089,129,3,153,113,60,7,31,15,4015,3613,3428,130,4,51,29,9,4,9,7,3758,3620,3433,158,0,29,11,4,0,3,4]
["E05011180","Sutton Walmley & Minworth",16437,14837,14244,334,1,258,326,176,33,70,47,4399,3760,3662,48,0,50,222,132,16,43,31,5339,4672,4476,74,0,122,81,39,12,17,13,3666,3459,3303,100,1,55,20,4,5,8,3,3033,2946,2803,112,0,31,3,1,0,2,0]
["E05011181","Sutton Wylde Green",9433,8193,7776,228,2,187,214,87,28,51,48,2448,1917,1837,35,2,43,150,64,17,31,38,2774,2328,2176,67,0,85,43,14,7,16,6,2175,2001,1914,48,0,39,17,8,3,4,2,2036,1947,1849,78,0,20,4,1,1,0,2]
["E05011182","Tyseley & Hay Mills",11295,6024,5248,376,1,399,620,291,24,190,115,4556,1776,1619,36,0,121,446,202,12,141,91,4029,1997,1688,67,0,242,135,75,7,37,16,1467,1170,1042,100,0,28,30,9,4,10,7,1243,1081,899,173,1,8,9,5,1,2,1]
["E05011183","Ward End",12255,2986,2683,117,11,175,411,178,32,117,84,5610,735,653,5,6,71,287,120,18,86,63,4254,843,736,17,3,87,104,49,10,28,17,1317,719,681,30,0,8,16,6,4,3,3,1074,689,613,65,2,9,4,3,0,0,1]
["E05011184","Weoley & Selly Oak",22990,17491,16499,389,4,599,1166,596,82,262,226,8271,5654,5429,41,1,183,854,452,45,195,162,7910,5616,5216,99,0,301,259,124,27,56,52,3409,3024,2855,94,2,73,36,11,9,6,10,3400,3197,2999,155,1,42,17,9,1,5,2]
["E05011185","Yardley East",10327,7819,7406,294,1,118,363,208,27,81,47,3303,2064,1995,38,0,31,262,155,19,56,32,3345,2406,2282,63,1,60,82,49,6,14,13,1817,1606,1523,68,0,15,17,3,1,11,2,1862,1743,1606,125,0,12,2,1,1,0,0]
["E05011186","Yardley West & Stechford",11936,6203,5676,287,1,239,588,327,31,141,89,4697,1749,1635,24,0,90,416,234,21,102,59,4083,1919,1737,54,0,128,143,83,8,33,19,1637,1244,1173,60,1,10,20,6,1,3,10,1519,1291,1131,149,0,11,9,4,1,3,1]

{"sheet":"Male","index":4,"n_rows":71,"n_cols":57,"rows_kept":71,"cut":false,"hidden":true,"merged":[]}
[null,1,{"$f":"B1+1","v":2},{"$f":"C1+1","v":3},4,5,6,7,8,9,10,11,12,13,14,15,16,17,18,19,20,21,22,23,24,25,26,27,28,29,30,31,32,33,34,35,36,37,38,39,40,41,42,43,44,45,46,47,48,49,50,51,52,53,54,55,56]
["ZONEID","ZoneName","LC2101EW0121:Males, All categories: Age, All categories: Ethnic group","LC2101EW0122:Males, All categories: Age, White: Total","LC2101EW0123:Males, All categories: Age, White: English/Welsh/Scottish/Northern Irish/British","LC2101EW0124:Males, All categories: Age, White: Irish","LC2101EW0125:Males, All categories: Age, White: Gypsy or Irish Traveller","LC2101EW0126:Males, All categories: Age, White: Other White","LC2101EW0127:Males, All categories: Age, Mixed/multiple ethnic group: Total","LC2101EW0128:Males, All categories: Age, Mixed/multiple ethnic group: White and Black Caribbean","LC2101EW0129:Males, All categories: Age, Mixed/multiple ethnic group: White and Black African","LC2101EW0130:Males, All categories: Age, Mixed/multiple ethnic group: White and Asian","LC2101EW0131:Males, All categories: Age, Mixed/multiple ethnic group: Other Mixed","LC2101EW0145:Males, Age 0 to 24, All categories: Ethnic group","LC2101EW0146:Males, Age 0 to 24, White: Total","LC2101EW0147:Males, Age 0 to 24, White: English/Welsh/Scottish/Northern Irish/British","LC2101EW0148:Males, Age 0 to 24, White: Irish","LC2101EW0149:Males, Age 0 to 24, White: Gypsy or Irish Traveller","LC2101EW0150:Males, Age 0 to 24, White: Other White","LC2101EW0151:Males, Age 0 to 24, Mixed/multiple ethnic group: Total","LC2101EW0152:Males, Age 0 to 24, Mixed/multiple ethnic group: White and Black Caribbean","LC2101EW0153:Males, Age 0 to 24, Mixed/multiple ethnic group: White and Black African","LC2101EW0154:Males, Age 0 to 24, Mixed/multiple ethnic group: White and Asian","LC2101EW0155:Males, Age 0 to 24, Mixed/multiple ethnic group: Other Mixed","LC2101EW0169:Males, Age 25 to 49, All categories: Ethnic group","LC2101EW0170:Males, Age 25 to 49, White: Total","LC2101EW0171:Males, Age 25 to 49, White: English/Welsh/Scottish/Northern Irish/British","LC2101EW0172:Males, Age 25 to 49, White: Irish","LC2101EW0173:Males, Age 25 to 49, White: Gypsy or Irish Traveller","LC2101EW0174:Males, Age 25 to 49, White: Other White","LC2101EW0175:Males, Age 25 to 49, Mixed/multiple ethnic group: Total","LC2101EW0176:Males, Age 25 to 49, Mixed/multiple ethnic group: White and Black Caribbean","LC2101EW0177:Males, Age 25 to 49, Mixed/multiple ethnic group: White and Black African","LC2101EW0178:Males, Age 25 to 49, Mixed/multiple ethnic group: White and Asian","LC2101EW0179:Males, Age 25 to 49, Mixed/multiple ethnic group: Other Mixed","LC2101EW0193:Males, Age 50 to 64, All categories: Ethnic group","LC2101EW0194:Males, Age 50 to 64, White: Total","LC2101EW0195:Males, Age 50 to 64, White: English/Welsh/Scottish/Northern Irish/British","LC2101EW0196:Males, Age 50 to 64, White: Irish","LC2101EW0197:Males, Age 50 to 64, White: Gypsy or Irish Traveller","LC2101EW0198:Males, Age 50 to 64, White: Other White","LC2101EW0199:Males, Age 50 to 64, Mixed/multiple ethnic group: Total","LC2101EW0200:Males, Age 50 to 64, Mixed/multiple ethnic group: White and Black Caribbean","LC2101EW0201:Males, Age 50 to 64, Mixed/multiple ethnic group: White and Black African","LC2101EW0202:Males, Age 50 to 64, Mixed/multiple ethnic group: White and Asian","LC2101EW0203:Males, Age 50 to 64, Mixed/multiple ethnic group: Other Mixed","LC2101EW0217:Males, Age 65 and over, All categories: Ethnic group","LC2101EW0218:Males, Age 65 and over, White: Total","LC2101EW0219:Males, Age 65 and over, White: English/Welsh/Scottish/Northern Irish/British","LC2101EW0220:Males, Age 65 and over, White: Irish","LC2101EW0221:Males, Age 65 and over, White: Gypsy or Irish Traveller","LC2101EW0222:Males, Age 65 and over, White: Other White","LC2101EW0223:Males, Age 65 and over, Mixed/multiple ethnic group: Total","LC2101EW0224:Males, Age 65 and over, Mixed/multiple ethnic group: White and Black Caribbean","LC2101EW0225:Males, Age 65 and over, Mixed/multiple ethnic group: White and Black African","LC2101EW0226:Males, Age 65 and over, Mixed/multiple ethnic group: White and Asian","LC2101EW0227:Males, Age 65 and over, Mixed/multiple ethnic group: Other Mixed"]
["E05011118","Acocks Green",11306,7232,6336,403,1,492,518,261,24,154,79,4206,2165,1984,42,1,138,385,187,17,125,56,4188,2641,2248,88,0,305,113,66,6,22,19,1629,1313,1185,92,0,36,13,3,1,7,2,1283,1113,919,181,0,13,7,5,0,0,2]
["E05011119","Allens Cross",5236,4274,4105,98,0,71,242,158,16,34,34,1976,1467,1440,8,0,19,180,118,9,27,26,1720,1369,1311,19,0,39,46,33,2,5,6,845,775,739,27,0,9,11,3,4,2,2,695,663,615,44,0,4,5,4,1,0,0]
["E05011120","Alum Rock",12884,1237,1025,59,2,151,361,147,29,119,66,6585,327,243,1,0,83,279,119,21,93,46,4370,361,293,11,2,55,69,21,7,24,17,1107,294,274,12,0,8,8,4,0,2,2,822,255,215,35,0,5,5,3,1,0,1]
["E05011121","Aston",11426,1157,908,63,2,184,336,117,45,110,64,5430,333,272,1,0,60,223,75,30,78,40,4081,401,284,9,1,107,82,29,13,24,16,1037,219,187,20,1,11,18,6,2,6,4,878,204,165,33,0,6,13,7,0,2,4]
["E05011122","Balsall Heath West",5616,1213,995,77,4,137,281,128,14,69,70,2532,361,296,7,2,56,187,82,7,46,52,1946,459,384,12,1,62,76,38,5,18,15,623,246,207,27,0,12,13,6,2,4,1,515,147,108,31,1,7,5,2,0,1,2]
["E05011123","Bartley Green",10400,8503,8180,173,4,146,594,359,38,106,91,3792,2773,2704,19,1,49,454,276,24,79,75,3353,2700,2598,40,3,59,109,64,12,18,15,1858,1706,1626,50,0,30,22,12,2,7,1,1397,1324,1252,64,0,8,9,7,0,2,0]
["E05011124","Billesley",9485,6701,6150,379,1,171,457,226,15,129,87,3406,1989,1877,62,0,50,343,183,10,91,59,3122,2178,2011,84,1,82,90,34,3,33,20,1656,1356,1232,99,0,25,17,6,2,5,4,1301,1178,1030,134,0,14,7,3,0,0,4]
["E05011125","Birchfield",6042,866,560,67,3,236,294,137,20,51,86,2593,266,164,7,1,94,199,97,9,37,56,2269,333,191,26,2,114,68,23,10,11,24,671,165,126,18,0,21,19,9,1,3,6,509,102,79,16,0,7,8,8,0,0,0]
["E05011126","Bordesley & Highgate",6855,1836,1437,151,6,242,433,219,36,94,84,3119,485,405,5,4,71,301,156,19,60,66,2804,872,692,32,1,147,120,56,16,32,16,551,279,219,44,0,16,6,4,0,1,1,381,200,121,70,1,8,6,3,1,1,1]
["E05011127","Bordesley Green",5971,880,680,94,2,104,289,100,32,73,84,2859,199,151,1,1,46,201,62,22,50,67,2087,287,229,11,0,47,68,33,8,16,11,559,201,162,30,1,8,13,2,2,5,4,466,193,138,52,0,3,7,3,0,2,2]
["E05011128","Bournbrook & Selly Park",9473,6786,6159,215,10,402,402,151,45,112,94,6034,4358,4096,53,7,202,311,109,38,90,74,2183,1384,1147,61,3,173,77,35,5,20,17,684,554,499,40,0,15,11,7,2,1,1,572,490,417,61,0,12,3,0,0,1,2]
["E05011129","Bournville & Cotteridge",8280,7056,6695,177,1,183,317,149,20,85,63,2692,2117,2060,13,0,44,216,103,16,57,40,2786,2318,2164,57,1,96,77,40,2,16,19,1561,1442,1364,52,0,26,16,3,1,10,2,1241,1179,1107,55,0,17,8,3,1,2,2]
["E05011130","Brandwood & King's Heath",9204,6678,6083,345,5,245,444,198,22,158,66,3061,1935,1807,48,3,77,301,132,11,112,46,3491,2511,2288,97,2,124,123,57,11,38,17,1510,1262,1145,90,0,27,10,3,0,5,2,1142,970,843,110,0,17,10,6,0,3,1]
["E05011131","Bromford & Hodge Hill",9868,5130,4858,133,4,135,479,283,27,95,74,4080,1515,1448,14,4,49,370,214,23,81,52,3148,1464,1381,25,0,58,91,63,3,8,17,1420,1083,1039,30,0,14,7,3,0,3,1,1220,1068,990,64,0,14,11,3,1,3,4]
["E05011132","Castle Vale",4582,3965,3804,115,0,46,272,211,13,27,21,1776,1438,1415,11,0,12,218,168,11,19,20,1364,1174,1138,11,0,25,46,38,2,5,1,707,660,616,36,0,8,4,3,0,1,0,735,693,635,57,0,1,4,2,0,2,0]
["E05011133","Druids Heath & Monyhull",5698,4594,4377,140,1,76,336,215,19,64,38,2014,1441,1392,19,0,30,228,150,12,39,27,2062,1645,1580,31,0,34,97,58,6,25,8,887,810,762,43,0,5,7,3,1,0,3,735,698,643,47,1,7,4,4,0,0,0]
["E05011134","Edgbaston",9024,5285,4743,109,4,429,449,122,37,186,104,4054,2320,2125,16,1,178,318,84,24,143,67,2785,1375,1156,30,2,187,113,28,12,40,33,1144,789,719,30,1,39,14,7,1,3,3,1041,801,743,33,0,25,4,3,0,0,1]
["E05011135","Erdington",9132,7111,6332,449,3,327,486,260,36,124,66,2788,1828,1713,40,1,74,335,179,21,93,42,3345,2562,2228,118,2,214,118,71,14,19,14,1640,1463,1329,110,0,24,23,5,1,10,7,1359,1258,1062,181,0,15,10,5,0,2,3]
["E05011136","Frankley Great Park",5319,4632,4499,89,2,42,292,201,13,48,30,1859,1505,1484,9,0,12,209,150,8,30,21,1885,1636,1599,20,2,15,72,49,5,12,6,962,904,868,26,0,10,7,1,0,4,2,613,587,548,34,0,5,4,1,0,2,1]
["E05011137","Garretts Green",4559,3412,3238,92,2,80,195,106,10,47,32,1854,1223,1188,11,1,23,154,87,7,34,26,1491,1099,1031,20,1,47,36,18,2,11,5,687,615,584,23,0,8,4,0,1,2,1,527,475,435,38,0,2,1,1,0,0,0]
["E05011138","Glebe Farm & Tile Cross",11007,7435,7101,176,1,157,659,399,32,135,93,4614,2612,2539,18,0,55,487,296,22,104,65,3672,2382,2255,38,1,88,161,100,9,27,25,1557,1361,1300,50,0,11,8,2,1,2,3,1164,1080,1007,70,0,3,3,1,0,2,0]
["E05011139","Gravelly Hill",4876,2549,2129,155,7,258,377,205,18,99,55,1819,672,583,14,3,72,261,146,13,72,30,1847,976,777,36,3,160,84,44,5,18,17,735,534,474,44,1,15,21,7,0,7,7,475,367,295,61,0,11,11,8,0,2,1]
["E05011140","Hall Green North",10549,4412,3749,409,2,252,395,147,21,152,75,4161,1159,1011,59,0,89,312,109,17,125,61,3570,1388,1159,106,2,121,72,32,2,24,14,1619,954,824,105,0,25,8,3,2,3,0,1199,911,755,139,0,17,3,3,0,0,0]
["E05011141","Hall Green South",5139,3477,3159,263,2,53,150,59,3,53,35,1643,908,851,43,0,14,106,44,3,32,27,1808,1161,1044,88,2,27,37,13,0,19,5,918,724,658,59,0,7,6,2,0,1,3,770,684,606,73,0,5,1,0,0,1,0]
["E05011142","Handsworth",6045,696,417,23,6,250,299,126,42,60,71,2507,207,119,0,2,86,192,92,17,46,37,2377,275,139,5,3,128,89,26,23,12,28,668,124,92,3,1,28,8,3,1,1,3,493,90,67,15,0,8,10,5,1,1,3]
["E05011143","Handsworth Wood",9643,2406,1811,111,4,480,421,217,20,96,88,3491,566,378,10,2,176,284,146,8,62,68,3581,822,539,24,2,257,105,52,9,26,18,1564,492,436,23,0,33,19,10,3,5,1,1007,526,458,54,0,14,13,9,0,3,1]
["E05011144","Harborne",10503,7364,6702,247,1,414,593,238,36,218,101,3296,1912,1747,44,1,120,384,164,19,147,54,4248,2889,2588,73,0,228,176,63,10,61,42,1660,1381,1283,62,0,36,28,7,7,9,5,1299,1182,1084,68,0,30,5,4,0,1,0]
["E05011145","Heartlands",5999,1266,1093,84,2,87,289,106,12,95,76,2903,338,285,9,1,43,200,68,9,60,63,2047,358,304,14,0,40,69,29,2,28,10,573,273,248,20,1,4,10,2,1,6,1,476,297,256,41,0,0,10,7,0,1,2]
["E05011146","Highter's Heath",5470,4696,4518,105,1,72,211,137,11,34,29,1900,1509,1493,4,0,12,147,104,4,19,20,1932,1653,1570,35,1,47,49,24,6,12,7,913,846,809,26,0,11,11,5,1,3,2,725,688,646,40,0,2,4,4,0,0,0]
["E05011147","Holyhead",5509,880,418,44,1,417,270,148,14,52,56,2360,268,113,2,0,153,203,105,11,39,48,2110,351,127,9,1,214,52,32,3,12,5,588,149,92,11,0,46,5,2,0,0,3,451,112,86,22,0,4,10,9,0,1,0]
["E05011148","King's Norton North",5564,4788,4582,110,3,93,261,157,24,38,42,1866,1468,1407,21,1,39,179,111,17,21,30,1839,1556,1496,24,2,34,68,41,7,11,9,1032,964,922,34,0,8,12,4,0,6,2,827,800,757,31,0,12,2,1,0,0,1]
["E05011149","King's Norton South",5507,4593,4426,108,1,58,371,217,28,66,60,2125,1597,1572,9,0,16,283,173,18,45,47,1776,1476,1432,19,1,24,76,41,8,16,11,907,845,808,26,0,11,7,2,1,4,0,699,675,614,54,0,7,5,1,1,1,2]
["E05011150","Kingstanding",10083,8264,7913,181,9,161,420,249,37,92,42,3996,3055,2986,12,3,54,309,185,32,68,24,3192,2573,2443,42,3,85,79,45,5,19,10,1687,1516,1460,40,3,13,26,14,0,5,7,1208,1120,1024,87,0,9,6,5,0,0,1]
["E05011151","Ladywood",12106,5745,4624,175,6,940,821,374,102,190,155,4304,1625,1291,23,2,309,432,221,45,87,79,6205,3013,2364,70,3,576,346,136,51,90,69,1054,721,634,39,1,47,35,13,6,12,4,543,386,335,43,0,8,8,4,0,1,3]
["E05011152","Longbridge & West Heath",9661,8683,8389,190,2,102,345,215,23,46,61,3181,2712,2659,18,0,35,245,155,16,31,43,3261,2870,2781,46,2,41,82,52,6,9,15,1810,1730,1661,50,0,19,15,5,1,6,3,1409,1371,1288,76,0,7,3,3,0,0,0]
["E05011153","Lozells",4595,328,234,35,0,59,151,68,12,41,30,2256,82,65,0,0,17,103,50,4,28,21,1654,103,66,1,0,36,39,13,8,12,6,366,74,60,11,0,3,5,3,0,1,1,319,69,43,23,0,3,4,2,0,0,2]
["E05011154","Moseley",11195,6117,5444,323,8,342,613,269,27,185,132,3348,1143,1042,27,3,71,365,157,11,106,91,4789,2836,2515,125,4,192,214,97,14,67,36,1851,1278,1142,78,0,58,29,11,2,11,5,1207,860,745,93,1,21,5,4,0,1,0]
["E05011155","Nechells",6884,2393,1976,112,4,301,471,240,46,106,79,3846,1195,971,8,1,215,333,169,33,78,53,1969,547,442,22,2,81,103,53,8,23,19,611,367,336,26,1,4,19,7,5,5,2,458,284,227,56,0,1,16,11,0,0,5]
["E05011156","Newtown",6232,1502,1226,78,0,198,385,195,37,97,56,3375,664,563,10,0,91,257,132,22,60,43,2065,458,356,13,0,89,106,52,12,32,10,488,225,191,18,0,16,14,7,2,4,1,304,155,116,37,0,2,8,4,1,1,2]
["E05011157","North Edgbaston",11329,4078,3127,224,8,719,606,268,61,165,112,4242,1151,888,21,2,240,377,170,31,100,76,4922,1829,1337,70,4,418,195,78,28,57,32,1273,655,551,57,2,45,21,11,2,5,3,892,443,351,76,0,16,13,9,0,3,1]
["E05011158","Northfield",5207,4656,4446,147,3,60,217,116,7,54,40,1661,1392,1349,25,0,18,150,81,4,34,31,1745,1537,1470,33,2,32,52,29,2,14,7,967,913,874,32,1,6,9,3,1,3,2,834,814,753,57,0,4,6,3,0,3,0]
["E05011159","Oscott",9437,7965,7637,172,4,152,287,186,13,59,29,3231,2514,2449,18,2,45,206,135,6,41,24,3340,2775,2654,35,1,85,67,43,4,16,4,1508,1389,1327,47,1,14,11,6,2,2,1,1358,1287,1207,72,0,8,3,2,1,0,0]
["E05011160","Perry Barr",9911,5681,5184,209,1,287,395,226,22,94,53,3684,1633,1501,28,0,104,283,161,16,70,36,3368,1798,1608,46,1,143,85,49,4,20,12,1539,1121,1043,50,0,28,23,14,1,4,4,1320,1129,1032,85,0,12,4,2,1,0,1]
["E05011161","Perry Common",5218,3928,3659,132,2,135,264,163,14,54,33,1865,1207,1150,16,0,41,188,121,11,32,24,1717,1268,1152,36,2,78,60,34,2,19,5,900,771,738,27,0,6,11,4,1,3,3,736,682,619,53,0,10,5,4,0,0,1]
["E05011162","Pype Hayes",5148,4003,3718,157,0,128,260,163,15,48,34,1749,1171,1118,15,0,38,190,122,12,36,20,1822,1385,1276,34,0,75,60,37,3,8,12,856,763,714,41,0,8,8,3,0,4,1,721,684,610,67,0,7,2,1,0,0,1]
["E05011163","Quinton",9693,6951,6553,195,6,197,476,247,32,126,71,3193,1954,1879,23,4,48,348,172,22,100,54,3336,2271,2129,46,1,95,107,63,8,22,14,1646,1347,1268,52,1,26,17,9,2,4,2,1518,1379,1277,74,0,28,4,3,0,0,1]
["E05011164","Rubery & Rednal",4832,4387,4293,56,1,37,191,124,9,34,24,1723,1490,1475,3,0,12,128,86,3,26,13,1721,1553,1517,17,0,19,57,34,5,8,10,803,772,751,19,1,1,4,2,1,0,1,585,572,550,17,0,5,2,2,0,0,0]
["E05011165","Shard End",5430,4677,4534,86,1,56,328,234,12,40,42,1975,1543,1516,8,0,19,248,171,10,33,34,1782,1530,1491,10,0,29,67,55,1,5,6,918,876,849,24,0,3,9,6,0,1,2,755,728,678,44,1,5,4,2,1,1,0]
["E05011166","Sheldon",9320,7981,7572,277,0,132,264,144,10,61,49,2979,2282,2230,28,0,24,202,116,4,40,42,3094,2601,2460,65,0,76,48,21,5,17,5,1670,1571,1496,61,0,14,9,5,1,2,1,1577,1527,1386,123,0,18,5,2,0,2,1]
["E05011167","Small Heath",10170,908,668,113,1,126,243,93,18,80,52,5005,232,174,8,0,50,184,65,15,62,42,3400,267,196,12,1,58,49,25,2,17,5,952,208,164,30,0,14,4,0,0,1,3,813,201,134,63,0,4,6,3,1,0,2]
["E05011168","Soho & Jewellery Quarter",11976,4116,3365,152,12,587,814,424,72,126,192,4287,857,653,11,3,190,498,261,49,72,116,5789,2443,2011,66,7,359,278,146,20,47,65,1125,518,447,40,1,30,17,8,0,4,5,775,298,254,35,1,8,21,9,3,3,6]
["E05011169","South Yardley",5087,3827,3509,175,0,143,196,113,12,49,22,1713,1108,1043,23,0,42,128,78,5,31,14,1876,1379,1243,49,0,87,55,30,6,14,5,901,792,747,38,0,7,9,3,0,4,2,597,548,476,65,0,7,4,2,1,0,1]
["E05011170","Sparkbrook & Balsall Heath East",12824,1579,1194,146,22,217,426,151,23,172,80,6140,393,289,4,16,84,278,103,10,111,54,4566,595,453,35,5,102,122,42,9,52,19,1215,350,287,40,0,23,16,4,3,6,3,903,241,165,67,1,8,10,2,1,3,4]
["E05011171","Sparkhill",10343,1229,889,158,7,175,290,75,30,130,55,4741,326,240,2,7,77,188,42,19,87,40,3648,400,297,31,0,72,82,26,7,40,9,1132,260,195,46,0,19,13,2,4,2,5,822,243,157,79,0,7,7,5,0,1,1]
["E05011172","Stirchley",4770,3733,3465,134,3,131,221,121,13,46,41,1501,1014,973,7,1,33,143,84,6,26,27,2022,1608,1482,50,2,74,67,36,6,15,10,755,665,616,38,0,11,8,1,1,3,3,492,446,394,39,0,13,3,0,0,2,1]
["E05011173","Stockland Green",10596,6403,5566,274,4,559,694,451,40,101,102,3914,1906,1710,24,1,171,482,319,29,60,74,3996,2406,1996,68,2,340,178,113,9,36,20,1584,1213,1107,73,0,33,22,9,1,5,7,1102,878,753,109,1,15,12,10,1,0,1]
["E05011174","Sutton Four Oaks",4401,3842,3725,50,1,66,59,18,8,26,7,1227,1003,976,8,0,19,42,12,6,20,4,1228,1027,991,11,1,24,14,5,1,6,2,935,849,819,16,0,14,1,1,0,0,0,1011,963,939,15,0,9,2,0,1,0,1]
["E05011175","Sutton Mere Green",4612,4164,4025,64,1,74,106,53,4,33,16,1268,1073,1046,7,0,20,61,31,2,18,10,1467,1291,1239,16,1,35,39,20,1,13,5,904,859,834,17,0,8,4,1,1,1,1,973,941,906,24,0,11,2,1,0,1,0]
["E05011176","Sutton Reddicap",4894,4330,4195,70,1,64,155,94,9,29,23,1712,1405,1373,8,1,23,133,82,9,22,20,1578,1400,1349,21,0,30,17,10,0,5,2,916,866,841,16,0,9,5,2,0,2,1,688,659,632,25,0,2,0,0,0,0,0]
["E05011177","Sutton Roughley",5636,5054,4923,59,0,72,107,56,3,28,20,1809,1542,1515,9,0,18,77,39,3,22,13,1834,1596,1538,24,0,34,23,14,0,4,5,1009,958,943,9,0,6,4,2,0,1,1,984,958,927,17,0,14,3,1,0,1,1]
["E05011178","Sutton Trinity",4384,3950,3805,63,2,80,133,65,8,39,21,1162,959,931,5,1,22,95,50,4,25,16,1542,1366,1309,20,1,36,31,11,4,12,4,893,857,828,19,0,10,3,2,0,1,0,787,768,737,19,0,12,4,2,0,1,1]
["E05011179","Sutton Vesey",9634,8263,7896,229,3,135,237,119,24,66,28,2802,2194,2126,39,1,28,161,77,20,43,21,3210,2710,2579,65,0,66,58,36,3,16,3,1975,1774,1683,62,2,27,13,5,1,5,2,1647,1585,1508,63,0,14,5,1,0,2,2]
["E05011180","Sutton Walmley & Minworth",7959,7156,6887,152,1,116,177,106,12,39,20,2305,1957,1913,23,0,21,125,81,7,23,14,2568,2250,2157,37,0,56,46,25,4,12,5,1834,1737,1666,47,1,23,6,0,1,4,1,1252,1212,1151,45,0,16,0,0,0,0,0]
["E05011181","Sutton Wylde Green",4555,3943,3749,108,2,84,111,45,15,27,24,1215,953,915,16,2,20,75,32,9,15,19,1360,1144,1071,32,0,41,23,7,4,9,3,1072,980,945,20,0,15,12,6,1,3,2,908,866,818,40,0,8,1,0,1,0,0]
["E05011182","Tyseley & Hay Mills",5525,2917,2528,183,1,205,317,147,11,96,63,2280,898,813,22,0,63,228,101,8,67,52,1925,924,774,30,0,120,67,38,2,20,7,764,608,540,51,0,17,17,4,1,9,3,556,487,401,80,1,5,5,4,0,0,1]
["E05011183","Ward End",6024,1457,1311,54,6,86,190,82,16,54,38,2739,373,323,4,3,43,129,56,10,40,23,2130,409,364,3,2,40,48,22,3,12,11,690,385,365,18,0,2,11,3,3,2,3,465,290,259,29,1,1,2,1,0,0,1]
["E05011184","Weoley & Selly Oak",11037,8315,7860,193,3,259,574,276,48,142,108,4166,2869,2760,22,0,87,413,211,21,106,75,3783,2645,2466,47,0,132,134,54,21,31,28,1612,1438,1366,45,2,25,16,4,6,2,4,1476,1363,1268,79,1,15,11,7,0,3,1]
["E05011185","Yardley East",5067,3820,3620,145,0,55,172,103,15,35,19,1681,1064,1030,21,0,13,133,79,12,28,14,1657,1182,1123,28,0,31,33,21,3,5,4,929,829,783,41,0,5,5,2,0,2,1,800,745,684,55,0,6,1,1,0,0,0]
["E05011186","Yardley West & Stechford",5860,3041,2781,138,1,121,311,180,12,78,41,2361,897,837,14,0,46,219,128,7,56,28,1997,939,851,25,0,63,73,44,5,18,6,832,641,603,30,1,7,11,4,0,1,6,670,564,490,69,0,5,8,4,0,3,1]

{"sheet":"female","index":5,"n_rows":71,"n_cols":57,"rows_kept":71,"cut":false,"hidden":true,"merged":[]}
[null,1,{"$f":"B1+1","v":2},3,4,5,6,7,8,9,10,11,12,13,14,15,16,17,18,19,20,21,22,23,24,25,26,27,28,29,30,31,32,33,{"$f":"AH1+1","v":34},35,36,37,38,39,40,41,42,43,44,45,46,47,48,49,50,51,52,53,54,55,56]
["ZONEID","ZoneName","LC2101EW0241:Females, All categories: Age, All categories: Ethnic group","LC2101EW0242:Females, All categories: Age, White: Total","LC2101EW0243:Females, All categories: Age, White: English/Welsh/Scottish/Northern Irish/British","LC2101EW0244:Females, All categories: Age, White: Irish","LC2101EW0245:Females, All categories: Age, White: Gypsy or Irish Traveller","LC2101EW0246:Females, All categories: Age, White: Other White","LC2101EW0247:Females, All categories: Age, Mixed/multiple ethnic group: Total","LC2101EW0248:Females, All categories: Age, Mixed/multiple ethnic group: White and Black Caribbean","LC2101EW0249:Females, All categories: Age, Mixed/multiple ethnic group: White and Black African","LC2101EW0250:Females, All categories: Age, Mixed/multiple ethnic group: White and Asian","LC2101EW0251:Females, All categories: Age, Mixed/multiple ethnic group: Other Mixed","LC2101EW0265:Females, Age 0 to 24, All categories: Ethnic group","LC2101EW0266:Females, Age 0 to 24, White: Total","LC2101EW0267:Females, Age 0 to 24, White: English/Welsh/Scottish/Northern Irish/British","LC2101EW0268:Females, Age 0 to 24, White: Irish","LC2101EW0269:Females, Age 0 to 24, White: Gypsy or Irish Traveller","LC2101EW0270:Females, Age 0 to 24, White: Other White","LC2101EW0271:Females, Age 0 to 24, Mixed/multiple ethnic group: Total","LC2101EW0272:Females, Age 0 to 24, Mixed/multiple ethnic group: White and Black Caribbean","LC2101EW0273:Females, Age 0 to 24, Mixed/multiple ethnic group: White and Black African","LC2101EW0274:Females, Age 0 to 24, Mixed/multiple ethnic group: White and Asian","LC2101EW0275:Females, Age 0 to 24, Mixed/multiple ethnic group: Other Mixed","LC2101EW0289:Females, Age 25 to 49, All categories: Ethnic group","LC2101EW0290:Females, Age 25 to 49, White: Total","LC2101EW0291:Females, Age 25 to 49, White: English/Welsh/Scottish/Northern Irish/British","LC2101EW0292:Females, Age 25 to 49, White: Irish","LC2101EW0293:Females, Age 25 to 49, White: Gypsy or Irish Traveller","LC2101EW0294:Females, Age 25 to 49, White: Other White","LC2101EW0295:Females, Age 25 to 49, Mixed/multiple ethnic group: Total","LC2101EW0296:Females, Age 25 to 49, Mixed/multiple ethnic group: White and Black Caribbean","LC2101EW0297:Females, Age 25 to 49, Mixed/multiple ethnic group: White and Black African","LC2101EW0298:Females, Age 25 to 49, Mixed/multiple ethnic group: White and Asian","LC2101EW0299:Females, Age 25 to 49, Mixed/multiple ethnic group: Other Mixed","LC2101EW0313:Females, Age 50 to 64, All categories: Ethnic group","LC2101EW0314:Females, Age 50 to 64, White: Total","LC2101EW0315:Females, Age 50 to 64, White: English/Welsh/Scottish/Northern Irish/British","LC2101EW0316:Females, Age 50 to 64, White: Irish","LC2101EW0317:Females, Age 50 to 64, White: Gypsy or Irish Traveller","LC2101EW0318:Females, Age 50 to 64, White: Other White","LC2101EW0319:Females, Age 50 to 64, Mixed/multiple ethnic group: Total","LC2101EW0320:Females, Age 50 to 64, Mixed/multiple ethnic group: White and Black Caribbean","LC2101EW0321:Females, Age 50 to 64, Mixed/multiple ethnic group: White and Black African","LC2101EW0322:Females, Age 50 to 64, Mixed/multiple ethnic group: White and Asian","LC2101EW0323:Females, Age 50 to 64, Mixed/multiple ethnic group: Other Mixed","LC2101EW0337:Females, Age 65 and over, All categories: Ethnic group","LC2101EW0338:Females, Age 65 and over, White: Total","LC2101EW0339:Females, Age 65 and over, White: English/Welsh/Scottish/Northern Irish/British","LC2101EW0340:Females, Age 65 and over, White: Irish","LC2101EW0341:Females, Age 65 and over, White: Gypsy or Irish Traveller","LC2101EW0342:Females, Age 65 and over, White: Other White","LC2101EW0343:Females, Age 65 and over, Mixed/multiple ethnic group: Total","LC2101EW0344:Females, Age 65 and over, Mixed/multiple ethnic group: White and Black Caribbean","LC2101EW0345:Females, Age 65 and over, Mixed/multiple ethnic group: White and Black African","LC2101EW0346:Females, Age 65 and over, Mixed/multiple ethnic group: White and Asian","LC2101EW0347:Females, Age 65 and over, Mixed/multiple ethnic group: Other Mixed"]
["E05011118","Acocks Green",11811,7631,6660,457,1,513,534,310,27,129,68,4029,2110,1908,44,1,157,349,202,19,82,46,4378,2671,2272,99,0,300,157,89,7,42,19,1633,1296,1150,111,0,35,21,13,1,5,2,1771,1554,1330,203,0,21,7,6,0,0,1]
["E05011119","Allens Cross",5726,4760,4547,121,0,92,240,141,16,44,39,1879,1445,1405,10,0,30,150,86,9,31,24,1967,1552,1484,20,0,48,74,45,6,11,12,931,846,801,34,0,11,13,7,1,2,3,949,917,857,57,0,3,3,3,0,0,0]
["E05011120","Alum Rock",12603,1110,884,67,0,159,302,110,35,93,64,6068,252,185,1,0,66,214,73,23,71,47,4342,333,249,9,0,75,75,34,10,17,14,1189,240,217,14,0,9,10,3,1,3,3,1004,285,233,43,0,9,3,0,1,2,0]
["E05011121","Aston",11210,1137,866,73,3,195,333,159,34,83,57,5012,319,241,8,1,69,217,102,19,57,39,3939,338,234,6,1,97,96,43,15,22,16,1233,222,186,17,1,18,9,4,0,4,1,1026,258,205,42,0,11,11,10,0,0,1]
["E05011122","Balsall Heath West",5549,1155,950,58,5,142,316,159,18,75,64,2452,392,331,5,1,55,194,91,8,54,41,1889,380,300,9,3,68,98,57,6,16,19,643,201,175,15,0,11,13,3,3,4,3,565,182,144,29,1,8,11,8,1,1,1]
["E05011123","Bartley Green",11614,9534,9228,137,5,164,621,400,22,104,95,3828,2797,2725,19,2,51,452,284,15,79,74,3938,3126,3003,35,3,85,150,104,6,25,15,2052,1883,1831,40,0,12,16,11,1,0,4,1796,1728,1669,43,0,16,3,1,0,0,2]
["E05011124","Billesley",10263,7310,6729,377,6,198,500,246,25,149,80,3308,1965,1866,37,2,60,326,163,14,98,51,3489,2347,2170,84,2,91,138,68,9,38,23,1685,1365,1252,86,1,26,25,9,1,11,4,1781,1633,1441,170,1,21,11,6,1,2,2]
["E05011125","Birchfield",5423,710,447,39,5,219,260,135,14,46,65,2317,245,156,3,3,83,167,83,3,33,48,1965,246,134,11,1,100,70,36,11,11,12,622,103,76,5,1,21,16,9,0,2,5,519,116,81,20,0,15,7,7,0,0,0]
["E05011126","Bordesley & Highgate",6387,1508,1167,85,8,248,459,211,32,106,110,2974,447,355,6,5,81,306,128,17,81,80,2509,656,490,23,1,142,140,78,11,24,27,524,231,184,24,2,21,11,4,3,1,3,380,174,138,32,0,4,2,1,1,0,0]
["E05011127","Bordesley Green",5825,825,655,65,8,97,253,90,30,64,69,2709,216,159,1,3,53,173,48,18,49,58,2010,253,210,5,2,36,59,27,12,10,10,578,163,141,15,2,5,12,8,0,3,1,528,193,145,44,1,3,9,7,0,2,0]
["E05011128","Bournbrook & Selly Park",10163,7393,6658,281,5,449,417,141,31,144,101,6880,5047,4721,62,5,259,324,102,18,121,83,1887,1161,974,45,0,142,77,33,12,16,16,620,481,409,44,0,28,11,4,1,6,0,776,704,554,130,0,20,5,2,0,1,2]
["E05011129","Bournville & Cotteridge",9221,7963,7499,204,1,259,355,176,26,94,59,2704,2130,2038,20,0,72,247,131,17,62,37,2921,2422,2242,48,1,131,84,34,6,25,19,1760,1636,1556,43,0,37,20,8,3,6,3,1836,1775,1663,93,0,19,4,3,0,1,0]
["E05011130","Brandwood & King's Heath",9744,7081,6437,347,7,290,492,252,27,114,99,2980,1827,1708,43,4,72,343,176,18,77,72,3696,2670,2408,96,3,163,119,63,7,33,16,1618,1308,1201,73,0,34,21,8,2,2,9,1450,1276,1120,135,0,21,9,5,0,2,2]
["E05011131","Bromford & Hodge Hill",10578,5584,5250,200,4,130,479,296,35,93,55,3998,1425,1364,14,1,46,345,223,28,64,30,3507,1619,1530,25,2,62,115,66,6,23,20,1419,1069,1006,50,1,12,12,3,1,6,2,1654,1471,1350,111,0,10,7,4,0,0,3]
["E05011132","Castle Vale",5389,4625,4476,94,1,54,327,261,15,25,26,1753,1358,1338,8,0,12,231,188,9,16,18,1886,1615,1566,18,1,30,80,63,5,6,6,754,694,667,20,0,7,13,8,1,3,1,996,958,905,48,0,5,3,2,0,0,1]
["E05011133","Druids Heath & Monyhull",5955,4871,4612,159,0,100,291,175,29,46,41,1875,1374,1329,16,0,29,185,117,11,28,29,2135,1693,1603,33,0,57,84,46,17,11,10,901,806,764,33,0,9,16,10,0,6,0,1044,998,916,77,0,5,6,2,1,1,2]
["E05011134","Edgbaston",9236,5643,5013,139,2,489,425,140,26,155,104,4593,2882,2647,29,1,205,298,88,17,120,73,2396,1088,862,27,0,199,103,46,7,25,25,1093,705,626,31,1,47,17,5,1,7,4,1154,968,878,52,0,38,7,1,1,3,2]
["E05011135","Erdington",9471,7434,6567,467,1,399,494,282,31,99,82,2781,1827,1644,53,0,130,365,216,23,76,50,3336,2534,2232,85,0,217,101,54,6,19,22,1557,1382,1248,100,0,34,20,8,1,3,8,1797,1691,1443,229,1,18,8,4,1,1,2]
["E05011136","Frankley Great Park",5713,4964,4805,96,0,63,288,202,18,38,30,1789,1452,1434,3,0,15,180,133,14,20,13,2096,1786,1739,19,0,28,92,64,2,12,14,1114,1042,987,44,0,11,15,4,2,6,3,714,684,645,30,0,9,1,1,0,0,0]
["E05011137","Garretts Green",4872,3735,3532,126,0,77,200,123,4,36,37,1748,1174,1144,10,0,20,134,83,2,22,27,1680,1248,1174,28,0,46,55,39,2,7,7,697,618,580,30,0,8,8,1,0,5,2,747,695,634,58,0,3,3,0,0,2,1]
["E05011138","Glebe Farm & Tile Cross",12031,8225,7838,231,0,156,706,434,43,133,96,4553,2551,2471,27,0,53,515,312,28,103,72,4189,2746,2612,52,0,82,161,107,10,24,20,1702,1450,1361,73,0,16,29,15,5,6,3,1587,1478,1394,79,0,5,1,0,0,0,1]
["E05011139","Gravelly Hill",4999,2634,2245,127,4,258,322,197,18,63,44,1831,766,680,11,3,72,204,126,12,44,22,1838,907,730,27,1,149,96,56,4,14,22,698,481,436,29,0,16,15,8,2,5,0,632,480,399,60,0,21,7,7,0,0,0]
["E05011140","Hall Green North",10960,4707,4008,423,3,273,364,141,24,125,74,3927,1050,928,46,0,76,255,91,20,89,55,3759,1403,1173,91,1,138,95,43,3,34,15,1648,987,842,114,2,29,8,2,1,2,3,1626,1267,1065,172,0,30,6,5,0,0,1]
["E05011141","Hall Green South",5281,3595,3233,279,0,83,134,48,6,54,26,1534,847,779,49,0,19,100,32,3,45,20,1849,1177,1064,73,0,40,29,12,3,8,6,974,752,675,63,0,14,4,3,0,1,0,924,819,715,94,0,10,1,1,0,0,0]
["E05011142","Handsworth",5688,663,387,33,5,238,258,141,23,52,42,2293,207,100,2,2,103,172,84,15,41,32,2098,251,148,3,2,98,66,44,7,8,7,706,111,73,9,1,28,13,7,0,3,3,591,94,66,19,0,9,7,6,1,0,0]
["E05011143","Handsworth Wood",10088,2562,1975,116,3,468,445,238,23,97,87,3492,639,446,15,0,178,302,145,14,74,69,3691,723,474,15,1,233,115,76,4,19,16,1608,465,401,27,1,36,24,16,5,2,1,1297,735,654,59,1,21,4,1,0,2,1]
["E05011144","Harborne",11353,8141,7306,296,3,536,543,216,45,180,102,3497,2063,1890,36,0,137,360,154,25,125,56,4368,2983,2603,89,3,288,146,49,18,44,35,1656,1406,1284,56,0,66,26,9,2,9,6,1832,1689,1529,115,0,45,11,4,0,2,5]
["E05011145","Heartlands",6288,1423,1258,69,1,95,306,102,13,120,71,2908,336,299,2,1,34,218,68,8,83,59,2157,381,322,9,0,50,70,28,4,27,11,618,286,261,17,0,8,11,2,1,8,0,605,420,376,41,0,3,7,4,0,2,1]
["E05011146","Highter's Heath",5712,4989,4794,118,2,75,187,116,7,39,25,1754,1422,1399,5,0,18,133,88,5,21,19,2061,1763,1696,22,1,44,39,21,2,11,5,949,890,847,32,1,10,9,2,0,6,1,948,914,852,59,0,3,6,5,0,1,0]
["E05011147","Holyhead",5624,942,471,54,3,414,290,150,20,47,73,2195,311,124,2,2,183,178,87,14,29,48,2173,329,130,9,1,189,92,54,3,15,20,639,123,84,6,0,33,12,7,3,0,2,617,179,133,37,0,9,8,2,0,3,3]
["E05011148","King's Norton North",5929,5136,4883,122,1,130,247,162,17,28,40,1816,1407,1361,12,1,33,184,122,11,21,30,1977,1686,1591,32,0,63,54,34,4,6,10,1078,1014,975,23,0,16,8,5,2,1,0,1058,1029,956,55,0,18,1,1,0,0,0]
["E05011149","King's Norton South",6158,5119,4921,115,2,81,387,253,27,49,58,2146,1594,1557,18,0,19,265,179,17,30,39,2075,1698,1629,28,2,39,104,69,7,15,13,1032,955,905,37,0,13,15,4,2,4,5,905,872,830,32,0,10,3,1,1,0,1]
["E05011150","Kingstanding",10797,8792,8357,245,4,186,441,297,21,76,47,3870,2923,2855,13,1,54,324,218,16,57,33,3700,2936,2783,47,1,105,100,69,3,17,11,1616,1436,1362,57,2,15,9,5,0,2,2,1611,1497,1357,128,0,12,8,5,2,0,1]
["E05011151","Ladywood",10144,4689,3595,176,4,914,706,348,73,137,148,4412,1794,1426,33,2,333,466,228,46,94,98,4383,2049,1449,57,1,542,209,100,23,40,46,753,442,385,28,1,28,21,11,4,3,3,596,404,335,58,0,11,10,9,0,0,1]
["E05011152","Longbridge & West Heath",10287,9233,8946,185,2,100,419,258,41,58,62,3221,2683,2646,16,1,20,302,198,28,33,43,3540,3148,3060,40,0,48,92,49,10,19,14,1691,1609,1533,60,1,15,17,7,3,5,2,1835,1793,1707,69,0,17,8,4,0,1,3]
["E05011153","Lozells",4558,305,224,31,1,49,147,77,21,25,24,2147,87,63,1,0,23,83,40,11,14,18,1609,81,60,3,0,18,54,31,7,11,5,447,68,52,10,0,6,5,3,1,0,1,355,69,49,17,1,2,5,3,2,0,0]
["E05011154","Moseley",10481,5749,5025,295,6,423,510,223,31,151,105,3231,1188,1072,33,1,82,316,139,22,94,61,4002,2232,1913,77,3,239,156,74,7,44,31,1719,1142,1026,61,1,54,31,9,2,11,9,1529,1187,1014,124,1,48,7,1,0,2,4]
["E05011155","Nechells",7096,2415,2001,111,2,301,509,275,45,102,87,3950,1208,970,10,0,228,351,190,27,72,62,2032,524,444,22,0,58,124,67,14,24,19,591,337,296,29,2,10,17,11,0,3,3,523,346,291,50,0,5,17,7,4,3,3]
["E05011156","Newtown",6253,1256,992,74,0,190,421,219,37,89,76,3438,587,463,9,0,115,293,135,31,66,61,1984,334,249,20,0,65,110,76,5,15,14,442,154,133,16,0,5,12,5,1,5,1,389,181,147,29,0,5,6,3,0,3,0]
["E05011157","North Edgbaston",10605,3621,2655,179,15,772,553,237,35,138,143,4173,1166,882,15,6,263,368,150,24,95,99,4186,1400,901,46,6,447,158,72,11,35,40,1174,497,416,35,3,43,20,11,0,7,2,1072,558,456,83,0,19,7,4,0,1,2]
["E05011158","Northfield",5347,4799,4554,163,0,82,192,110,9,41,32,1545,1283,1246,15,0,22,142,82,7,32,21,1788,1574,1501,35,0,38,42,22,1,8,11,993,942,889,45,0,8,8,6,1,1,0,1021,1000,918,68,0,14,0,0,0,0,0]
["E05011159","Oscott",10386,8643,8196,252,0,195,361,211,16,73,61,3242,2482,2408,15,0,59,250,154,10,45,41,3715,2970,2819,53,0,98,88,46,5,19,18,1574,1419,1350,48,0,21,16,9,1,5,1,1855,1772,1619,136,0,17,7,2,0,4,1]
["E05011160","Perry Barr",10655,6175,5641,233,1,300,460,261,34,79,86,3772,1788,1647,38,0,103,326,176,27,61,62,3599,1802,1611,38,0,153,109,69,7,15,18,1598,1141,1074,46,0,21,20,12,0,3,5,1686,1444,1309,111,1,23,5,4,0,0,1]
["E05011161","Perry Common",5750,4312,4028,145,2,137,280,173,8,55,44,1724,1091,1046,8,2,35,178,109,6,42,21,2032,1455,1354,23,0,78,84,52,2,11,19,950,796,753,28,0,15,13,8,0,2,3,1044,970,875,86,0,9,5,4,0,0,1]
["E05011162","Pype Hayes",5553,4360,4065,155,1,139,270,181,15,38,36,1784,1214,1159,11,0,44,188,125,11,27,25,1990,1518,1409,28,0,81,68,48,2,8,10,888,779,729,42,1,7,13,7,2,3,1,891,849,768,74,0,7,1,1,0,0,0]
["E05011163","Quinton",10558,7550,7088,246,5,211,556,297,38,122,99,3191,1924,1831,32,2,59,382,208,21,88,65,3712,2487,2314,61,3,109,140,76,10,29,25,1778,1414,1331,62,0,21,28,11,7,3,7,1877,1725,1612,91,0,22,6,2,0,2,2]
["E05011164","Rubery & Rednal",5125,4666,4523,84,3,56,208,129,9,27,43,1654,1445,1421,6,2,16,132,85,5,19,23,1892,1695,1649,22,0,24,64,38,3,5,18,792,750,721,19,1,9,9,4,1,3,1,787,776,732,37,0,7,3,2,0,0,1]
["E05011165","Shard End",6230,5316,5157,97,2,60,393,287,11,51,44,2097,1612,1583,9,0,20,279,208,8,34,29,2111,1788,1744,10,0,34,93,65,3,13,12,911,842,822,17,1,2,14,9,0,2,3,1111,1074,1008,61,1,4,7,5,0,2,0]
["E05011166","Sheldon",9666,8278,7864,268,4,142,277,137,19,76,45,2712,2094,2045,10,1,38,181,89,11,53,28,3220,2633,2524,44,1,64,79,39,6,21,13,1702,1588,1500,65,1,22,14,8,2,2,2,2032,1963,1795,149,1,18,3,1,0,0,2]
["E05011167","Small Heath",10233,940,701,118,0,121,242,57,26,76,83,4881,226,172,3,0,51,177,43,19,53,62,3422,268,202,13,0,53,56,12,6,21,17,1001,170,138,24,0,8,6,0,0,2,4,929,276,189,78,0,9,3,2,1,0,0]
["E05011168","Soho & Jewellery Quarter",10630,3103,2333,134,8,628,725,410,47,113,155,4057,880,644,10,3,223,456,252,27,72,105,4606,1507,1097,44,3,363,218,137,14,33,34,1093,371,302,31,2,36,36,14,5,5,12,874,345,290,49,0,6,15,7,1,3,4]
["E05011169","South Yardley",5208,3944,3608,179,0,157,184,102,8,44,30,1666,1092,1022,21,0,49,121,71,4,25,21,1945,1433,1311,41,0,81,52,25,3,16,8,866,743,683,38,0,22,9,5,1,3,0,731,676,592,79,0,5,2,1,0,0,1]
["E05011170","Sparkbrook & Balsall Heath East",12387,1480,1128,117,13,222,435,176,16,139,104,5854,418,315,2,6,95,297,111,8,97,81,4298,518,387,28,6,97,113,48,6,38,21,1280,273,234,21,1,17,18,11,1,4,2,955,271,192,66,0,13,7,6,1,0,0]
["E05011171","Sparkhill",9966,1158,816,151,11,180,231,75,21,79,56,4475,321,237,8,3,73,160,52,12,56,40,3484,357,257,18,4,78,50,14,8,16,12,1131,202,151,28,3,20,13,5,1,5,2,876,278,171,97,1,9,8,4,0,2,2]
["E05011172","Stirchley",5162,4018,3693,153,0,172,226,132,8,50,36,1565,1047,981,18,0,48,153,92,4,33,24,2129,1663,1532,47,0,84,64,33,4,16,11,782,684,628,36,0,20,3,2,0,1,0,686,624,552,52,0,20,6,5,0,0,1]
["E05011173","Stockland Green",10976,6630,5800,280,1,549,717,436,48,109,124,3763,1849,1657,24,0,168,483,287,29,67,100,4257,2483,2073,68,1,341,191,122,14,37,18,1539,1138,1049,66,0,23,33,22,4,3,4,1417,1160,1021,122,0,17,10,5,1,2,2]
["E05011174","Sutton Four Oaks",4618,4076,3924,55,1,96,55,22,7,17,9,1106,911,886,5,0,20,37,16,6,10,5,1276,1064,1008,14,0,42,11,4,1,3,3,958,864,832,15,1,16,5,2,0,2,1,1278,1237,1198,21,0,18,2,0,0,2,0]
["E05011175","Sutton Mere Green",5091,4625,4452,71,2,100,102,46,2,33,21,1289,1087,1059,9,0,19,68,32,1,23,12,1520,1334,1269,15,0,50,25,11,1,5,8,999,941,903,18,1,19,8,3,0,4,1,1283,1263,1221,29,1,12,1,0,0,1,0]
["E05011176","Sutton Reddicap",5276,4711,4538,85,1,87,149,82,9,32,26,1602,1340,1308,13,0,19,102,59,6,18,19,1800,1578,1505,20,1,52,38,19,2,10,7,930,879,853,19,0,7,5,2,0,3,0,944,914,872,33,0,9,4,2,1,1,0]
["E05011177","Sutton Roughley",6038,5445,5261,91,1,92,112,41,8,37,26,1707,1468,1424,17,0,27,75,29,7,23,16,2044,1777,1707,24,0,46,21,6,1,9,5,1075,1014,982,23,0,9,11,6,0,3,2,1212,1186,1148,27,1,10,5,0,0,2,3]
["E05011178","Sutton Trinity",4592,4188,3971,95,2,120,94,46,7,21,20,1127,960,918,15,1,26,59,27,6,13,13,1488,1306,1220,22,1,63,26,15,0,5,6,905,865,833,22,0,10,8,3,1,3,1,1072,1057,1000,36,0,21,1,1,0,0,0]
["E05011179","Sutton Vesey",10061,8650,8225,254,6,165,219,87,20,62,50,2666,2112,2045,27,1,39,142,56,13,42,31,3244,2664,2510,64,3,87,55,24,4,15,12,2040,1839,1745,68,2,24,16,4,3,4,5,2111,2035,1925,95,0,15,6,3,0,1,2]
["E05011180","Sutton Walmley & Minworth",8478,7681,7357,182,0,142,149,70,21,31,27,2094,1803,1749,25,0,29,97,51,9,20,17,2771,2422,2319,37,0,66,35,14,8,5,8,1832,1722,1637,53,0,32,14,4,4,4,2,1781,1734,1652,67,0,15,3,1,0,2,0]
["E05011181","Sutton Wylde Green",4878,4250,4027,120,0,103,103,42,13,24,24,1233,964,922,19,0,23,75,32,8,16,19,1414,1184,1105,35,0,44,20,7,3,7,3,1103,1021,969,28,0,24,5,2,2,1,0,1128,1081,1031,38,0,12,3,1,0,0,2]
["E05011182","Tyseley & Hay Mills",5770,3107,2720,193,0,194,303,144,13,94,52,2276,878,806,14,0,58,218,101,4,74,39,2104,1073,914,37,0,122,68,37,5,17,9,703,562,502,49,0,11,13,5,3,1,4,687,594,498,93,0,3,4,1,1,2,0]
["E05011183","Ward End",6231,1529,1372,63,5,89,221,96,16,63,46,2871,362,330,1,3,28,158,64,8,46,40,2124,434,372,14,1,47,56,27,7,16,6,627,334,316,12,0,6,5,3,1,1,0,609,399,354,36,1,8,2,2,0,0,0]
["E05011184","Weoley & Selly Oak",11953,9176,8639,196,1,340,592,320,34,120,118,4105,2785,2669,19,1,96,441,241,24,89,87,4127,2971,2750,52,0,169,125,70,6,25,24,1797,1586,1489,49,0,48,20,7,3,4,6,1924,1834,1731,76,0,27,6,2,1,2,1]
["E05011185","Yardley East",5260,3999,3786,149,1,63,191,105,12,46,28,1622,1000,965,17,0,18,129,76,7,28,18,1688,1224,1159,35,1,29,49,28,3,9,9,888,777,740,27,0,10,12,1,1,9,1,1062,998,922,70,0,6,1,0,1,0,0]
["E05011186","Yardley West & Stechford",6076,3162,2895,149,0,118,277,147,19,63,48,2336,852,798,10,0,44,197,106,14,46,31,2086,980,886,29,0,65,70,39,3,15,13,805,603,570,30,0,3,9,2,1,2,4,849,727,641,80,0,6,1,0,1,0,0]

{"sheet":"All2","index":6,"n_rows":71,"n_cols":52,"rows_kept":71,"cut":false,"hidden":true,"merged":[]}
[null,1,{"$f":"B1+1","v":2},3,4,5,6,7,8,9,10,11,12,13,14,15,16,17,18,19,20,21,22,23,24,25,26,27,28,29,30,31,32,33,{"$f":"AH1+1","v":34},35,36,37,38,39,40,41,42,43,44,45,46,47,48,49,50,51]
["ZONEID","ZoneName","LC2101EW0012:All categories: Sex, All categories: Age, Asian/Asian British: Total","LC2101EW0013:All categories: Sex, All categories: Age, Asian/Asian British: Indian","LC2101EW0014:All categories: Sex, All categories: Age, Asian/Asian British: Pakistani","LC2101EW0015:All categories: Sex, All categories: Age, Asian/Asian British: Bangladeshi","LC2101EW0016:All categories: Sex, All categories: Age, Asian/Asian British: Chinese","LC2101EW0017:All categories: Sex, All categories: Age, Asian/Asian British: Other Asian","LC2101EW0018:All categories: Sex, All categories: Age, Black/African/Caribbean/Black British: Total","LC2101EW0019:All categories: Sex, All categories: Age, Black/African/Caribbean/Black British: African","LC2101EW0020:All categories: Sex, All categories: Age, Black/African/Caribbean/Black British: Caribbean","LC2101EW0021:All categories: Sex, All categories: Age, Black/African/Caribbean/Black British: Other Black","LC2101EW0036:All categories: Sex, Age 0 to 24, Asian/Asian British: Total","LC2101EW0037:All categories: Sex, Age 0 to 24, Asian/Asian British: Indian","LC2101EW0038:All categories: Sex, Age 0 to 24, Asian/Asian British: Pakistani","LC2101EW0039:All categories: Sex, Age 0 to 24, Asian/Asian British: Bangladeshi","LC2101EW0040:All categories: Sex, Age 0 to 24, Asian/Asian British: Chinese","LC2101EW0041:All categories: Sex, Age 0 to 24, Asian/Asian British: Other Asian","LC2101EW0042:All categories: Sex, Age 0 to 24, Black/African/Caribbean/Black British: Total","LC2101EW0043:All categories: Sex, Age 0 to 24, Black/African/Caribbean/Black British: African","LC2101EW0044:All categories: Sex, Age 0 to 24, Black/African/Caribbean/Black British: Caribbean","LC2101EW0045:All categories: Sex, Age 0 to 24, Black/African/Caribbean/Black British: Other Black","LC2101EW0060:All categories: Sex, Age 25 to 49, Asian/Asian British: Total","LC2101EW0061:All categories: Sex, Age 25 to 49, Asian/Asian British: Indian","LC2101EW0062:All categories: Sex, Age 25 to 49, Asian/Asian British: Pakistani","LC2101EW0063:All categories: Sex, Age 25 to 49, Asian/Asian British: Bangladeshi","LC2101EW0064:All categories: Sex, Age 25 to 49, Asian/Asian British: Chinese","LC2101EW0065:All categories: Sex, Age 25 to 49, Asian/Asian British: Other Asian","LC2101EW0066:All categories: Sex, Age 25 to 49, Black/African/Caribbean/Black British: Total","LC2101EW0067:All categories: Sex, Age 25 to 49, Black/African/Caribbean/Black British: African","LC2101EW0068:All categories: Sex, Age 25 to 49, Black/African/Caribbean/Black British: Caribbean","LC2101EW0069:All categories: Sex, Age 25 to 49, Black/African/Caribbean/Black British: Other Black","LC2101EW0084:All categories: Sex, Age 50 to 64, Asian/Asian British: Total","LC2101EW0085:All categories: Sex, Age 50 to 64, Asian/Asian British: Indian","LC2101EW0086:All categories: Sex, Age 50 to 64, Asian/Asian British: Pakistani","LC2101EW0087:All categories: Sex, Age 50 to 64, Asian/Asian British: Bangladeshi","LC2101EW0088:All categories: Sex, Age 50 to 64, Asian/Asian British: Chinese","LC2101EW0089:All categories: Sex, Age 50 to 64, Asian/Asian British: Other Asian","LC2101EW0090:All categories: Sex, Age 50 to 64, Black/African/Caribbean/Black British: Total","LC2101EW0091:All categories: Sex, Age 50 to 64, Black/African/Caribbean/Black British: African","LC2101EW0092:All categories: Sex, Age 50 to 64, Black/African/Caribbean/Black British: Caribbean","LC2101EW0093:All categories: Sex, Age 50 to 64, Black/African/Caribbean/Black British: Other Black","LC2101EW0108:All categories: Sex, Age 65 and over, Asian/Asian British: Total","LC2101EW0109:All categories: Sex, Age 65 and over, Asian/Asian British: Indian","LC2101EW0110:All categories: Sex, Age 65 and over, Asian/Asian British: Pakistani","LC2101EW0111:All categories: Sex, Age 65 and over, Asian/Asian British: Bangladeshi","LC2101EW0112:All categories: Sex, Age 65 and over, Asian/Asian British: Chinese","LC2101EW0113:All categories: Sex, Age 65 and over, Asian/Asian British: Other Asian","LC2101EW0114:All categories: Sex, Age 65 and over, Black/African/Caribbean/Black British: Total","LC2101EW0115:All categories: Sex, Age 65 and over, Black/African/Caribbean/Black British: African","LC2101EW0116:All categories: Sex, Age 65 and over, Black/African/Caribbean/Black British: Caribbean","LC2101EW0117:All categories: Sex, Age 65 and over, Black/African/Caribbean/Black British: Other Black"]
["E05011118","Acocks Green",5714,1561,2908,491,153,601,1221,248,741,232,2670,555,1523,248,57,287,434,110,216,108,2354,713,1124,204,71,242,517,124,291,102,460,194,173,24,16,53,140,11,116,13,230,99,88,15,9,19,130,3,118,9]
["E05011119","Allens Cross",783,153,101,21,163,345,566,237,234,95,322,55,49,4,58,156,250,113,81,56,382,80,39,13,88,162,221,104,85,32,55,11,9,2,12,21,67,13,47,7,24,7,4,2,5,6,28,7,21,0]
["E05011120","Alum Rock",19765,491,14926,1901,96,2351,2276,1108,627,541,10135,209,7672,1044,43,1167,1204,704,177,323,6957,192,5225,658,31,851,745,359,215,171,1563,61,1208,112,15,167,168,35,105,28,1110,29,821,87,7,166,159,10,130,19]
["E05011121","Aston",15641,2886,6993,4714,190,858,3703,1301,1762,640,7742,1143,3540,2564,78,417,1443,633,457,353,5597,1072,2479,1641,89,316,1377,608,552,217,1409,444,589,295,14,67,372,45,289,38,893,227,385,214,9,58,511,15,464,32]
["E05011122","Balsall Heath West",4819,538,3117,334,271,559,1683,519,861,303,2222,193,1491,158,105,275,646,275,210,161,1731,220,1092,129,85,205,589,197,274,118,490,76,312,31,25,46,202,38,146,18,376,49,222,16,56,33,246,9,231,6]
["E05011123","Bartley Green",981,227,198,26,118,412,1600,520,778,302,404,76,95,8,41,184,657,214,260,183,456,107,85,10,54,200,663,257,309,97,84,30,9,8,17,20,189,40,128,21,37,14,9,0,6,8,91,9,81,1]
["E05011124","Billesley",3709,1016,1919,209,125,440,844,208,467,169,1666,336,978,114,39,199,331,105,133,93,1429,404,708,78,68,171,334,86,184,64,438,193,164,14,12,55,115,11,94,10,176,83,69,3,6,15,64,6,56,2]
["E05011125","Birchfield",5988,1621,2809,831,127,600,3093,846,1787,460,2803,567,1445,468,71,252,1122,363,521,238,2168,627,980,289,40,232,1237,447,616,174,632,244,247,48,12,81,335,21,277,37,385,183,137,26,4,35,399,15,373,11]
["E05011126","Bordesley & Highgate",5416,538,2905,794,653,526,2784,1128,1001,655,2768,182,1593,411,353,229,1348,638,333,377,2146,295,1061,315,222,253,1048,429,391,228,302,45,162,44,19,32,218,44,140,34,200,16,89,24,59,12,170,17,137,16]
["E05011127","Bordesley Green",7208,263,4844,1530,48,523,1746,783,504,459,3566,73,2415,798,16,264,875,480,120,275,2653,130,1750,560,20,193,560,254,160,146,565,38,380,101,6,40,160,43,85,32,424,22,299,71,6,26,151,6,139,6]
["E05011128","Bournbrook & Selly Park",3624,1163,786,234,865,576,708,379,218,111,2326,775,437,119,663,332,362,221,77,64,1004,277,269,71,174,213,262,139,85,38,182,60,47,28,22,25,52,13,33,6,112,51,33,16,6,6,32,6,23,3]
["E05011129","Bournville & Cotteridge",962,340,178,42,177,225,674,297,269,108,350,127,74,15,56,78,257,130,77,50,439,142,74,23,84,116,298,142,106,50,110,36,20,3,29,22,76,20,50,6,63,35,10,1,8,9,43,5,36,2]
["E05011130","Brandwood & King's Heath",3152,970,1541,119,191,331,880,169,579,132,1293,317,735,58,56,127,249,72,111,66,1301,421,583,47,102,148,378,75,244,59,349,137,137,9,26,40,150,19,125,6,209,95,86,5,7,16,103,3,99,1]
["E05011131","Bromford & Hodge Hill",6697,303,5293,416,94,591,1830,683,719,428,3467,124,2772,226,39,306,816,344,216,256,2585,141,2012,162,43,227,692,280,270,142,440,24,349,19,5,43,216,54,141,21,205,14,160,9,7,15,106,5,92,9]
["E05011132","Castle Vale",149,46,40,10,25,28,579,120,356,103,57,13,20,4,8,12,206,54,102,50,66,22,16,4,10,14,246,55,143,48,15,5,3,2,3,2,70,8,58,4,11,6,1,0,4,0,57,3,53,1]
["E05011133","Druids Heath & Monyhull",650,219,205,19,75,132,768,260,384,124,262,70,103,7,31,51,329,130,141,58,302,110,86,9,34,63,317,115,146,56,57,20,12,3,6,16,85,14,64,7,29,19,4,0,4,2,37,1,33,3]
["E05011134","Edgbaston",4809,2355,863,146,720,725,1113,470,482,161,2117,925,413,65,411,303,480,269,135,76,1853,965,303,57,217,311,424,162,198,64,536,283,101,19,55,78,123,31,78,14,303,182,46,5,37,33,86,8,71,7]
["E05011135","Erdington",1465,479,567,130,115,174,1501,382,886,233,622,165,273,65,48,71,559,187,270,102,641,224,232,53,48,84,664,178,381,105,136,58,46,10,10,12,163,13,127,23,66,32,16,2,9,7,115,4,108,3]
["E05011136","Frankley Great Park",289,79,83,9,52,66,521,143,274,104,103,19,40,2,13,29,178,65,67,46,143,48,31,5,30,29,236,69,117,50,28,8,5,0,7,8,73,8,58,7,15,4,7,2,2,0,34,1,32,1]
["E05011137","Garretts Green",1147,135,661,112,20,219,701,192,358,151,602,59,362,65,8,108,299,104,102,93,463,62,252,39,11,99,253,70,133,50,61,13,30,7,1,10,74,14,54,6,21,1,17,1,0,2,75,4,69,2]
["E05011138","Glebe Farm & Tile Cross",4150,285,2914,237,54,660,1648,423,913,312,2202,126,1592,132,19,333,691,215,321,155,1639,135,1107,90,26,281,677,181,356,140,233,17,159,11,6,40,171,26,134,11,76,7,56,4,3,6,109,1,102,6]
["E05011139","Gravelly Hill",2297,341,1432,127,106,291,1553,351,920,282,1128,108,774,70,43,133,546,146,280,120,905,169,516,50,54,116,663,196,342,125,189,49,102,1,9,28,180,6,150,24,75,15,40,6,0,14,164,3,148,13]
["E05011140","Hall Green North",10388,2652,6034,626,100,976,749,233,405,111,4790,825,3169,327,32,437,298,121,121,56,3914,999,2253,248,46,368,282,91,143,48,1158,571,415,35,15,122,103,19,79,5,526,257,197,16,7,49,66,2,62,2]
["E05011141","Hall Green South",2747,1188,1115,97,55,292,162,33,96,33,1106,387,535,43,14,127,44,14,19,11,1114,484,453,40,27,110,77,17,38,22,364,218,84,10,10,42,22,0,22,0,163,99,43,4,4,13,19,2,17,0]
["E05011142","Handsworth",7104,2873,2516,904,109,702,2281,564,1312,405,2965,895,1296,488,38,248,877,290,389,198,2783,1221,885,307,48,322,826,237,425,164,836,469,201,63,15,88,247,33,191,23,520,288,134,46,8,44,331,4,307,20]
["E05011143","Handsworth Wood",9992,6680,1593,403,154,1162,3124,531,2117,476,3756,2207,812,221,83,433,1141,253,667,221,3966,2720,594,154,44,454,1250,238,819,193,1591,1247,116,20,19,189,456,31,382,43,679,506,71,8,8,86,277,9,249,19]
["E05011144","Harborne",3375,1561,466,106,596,646,1386,548,570,268,1292,491,222,60,266,253,605,254,191,160,1588,756,198,37,258,339,599,261,240,98,315,186,29,7,55,38,128,29,90,9,180,128,17,2,17,16,54,4,49,1]
["E05011145","Heartlands",7380,323,5693,576,54,734,1242,533,350,359,3835,115,3032,304,25,359,676,342,103,231,2781,147,2088,210,23,313,394,161,127,106,501,37,377,37,2,48,98,26,56,16,263,24,196,25,4,14,74,4,64,6]
["E05011146","Highter's Heath",668,255,252,15,22,124,360,129,197,34,294,99,124,10,10,51,120,68,40,12,298,110,115,5,10,58,159,52,91,16,52,34,11,0,2,5,48,7,36,5,24,12,2,0,0,10,33,2,30,1]
["E05011147","Holyhead",5820,2985,1189,944,115,587,2492,395,1673,424,2442,990,623,524,58,247,993,207,557,229,2365,1280,456,346,50,233,895,167,570,158,653,462,73,47,5,66,241,18,201,22,360,253,37,27,2,41,363,3,345,15]
["E05011148","King's Norton North",439,132,102,40,49,116,505,154,253,98,175,40,48,25,11,51,204,67,84,53,199,64,38,14,32,51,213,69,104,40,49,18,15,0,4,12,52,15,34,3,16,10,1,1,2,2,36,3,31,2]
["E05011149","King's Norton South",368,110,76,37,40,105,732,207,401,124,173,46,42,21,14,50,300,92,141,67,156,52,27,12,16,49,310,93,168,49,27,9,4,3,7,4,86,17,61,8,12,3,3,1,3,2,36,5,31,0]
["E05011150","Kingstanding",1315,494,397,113,80,231,1557,376,943,238,597,175,207,61,33,121,623,189,297,137,532,209,147,46,36,94,629,162,382,85,131,81,28,4,5,13,174,14,144,16,55,29,15,2,6,3,131,11,120,0]
["E05011151","Ladywood",5279,1801,592,146,1777,963,4043,1474,1804,765,2332,571,274,64,1032,391,1633,737,555,341,2641,1103,275,73,663,527,1842,664,819,359,211,90,32,8,47,34,340,54,238,48,95,37,11,1,35,11,228,19,192,17]
["E05011152","Longbridge & West Heath",453,123,72,17,90,151,732,263,328,141,184,44,32,10,26,72,252,117,73,62,207,58,28,7,45,69,361,123,164,74,45,13,8,0,14,10,70,16,52,2,17,8,4,0,5,0,49,7,39,3]
["E05011153","Lozells",6554,495,2818,2827,85,329,1511,497,733,281,3363,189,1399,1585,40,150,592,231,201,160,2322,196,1021,962,29,114,611,237,283,91,500,64,234,156,5,41,154,20,111,23,369,46,164,124,11,24,154,9,138,7]
["E05011154","Moseley",6704,1466,4188,302,162,586,1282,320,685,277,2852,414,1994,146,54,244,390,140,129,121,2512,624,1475,112,79,222,568,149,294,125,841,264,452,24,17,84,192,23,146,23,499,164,267,20,12,36,132,8,116,8]
["E05011155","Nechells",3521,792,1166,520,666,377,4172,1846,1310,1016,2311,644,689,282,484,212,2112,1051,444,617,997,127,393,169,150,158,1512,691,491,330,135,14,54,39,24,4,315,74,191,50,78,7,30,30,8,3,233,30,184,19]
["E05011156","Newtown",3626,1052,693,1128,288,465,4894,2017,1778,1099,2404,869,423,665,203,244,2374,1104,614,656,1008,153,219,383,71,182,1882,841,686,355,145,18,40,52,10,25,370,50,258,62,69,12,11,28,4,14,268,22,220,26]
["E05011157","North Edgbaston",8926,2970,3941,394,366,1255,3297,1147,1454,696,3730,914,1957,217,129,513,1281,491,413,377,3724,1353,1467,150,194,560,1419,601,549,269,874,395,300,18,31,130,302,40,225,37,598,308,217,9,12,52,295,15,267,13]
["E05011158","Northfield",330,80,50,7,79,114,308,92,136,80,116,26,20,4,20,46,105,36,31,38,152,38,21,1,38,54,147,54,57,36,42,12,9,1,11,9,41,2,36,3,20,4,0,1,10,5,15,0,12,3]
["E05011159","Oscott",1225,717,129,149,87,143,1280,138,918,224,508,272,57,84,27,68,493,61,313,119,574,344,63,57,51,59,550,69,394,87,91,68,6,5,4,8,147,6,126,15,52,33,3,3,5,8,90,2,85,3]
["E05011160","Perry Barr",4920,2415,1170,638,253,444,2716,415,1892,409,2309,955,620,347,182,205,1025,194,630,201,2025,1072,448,260,56,189,1056,186,708,162,405,269,66,26,8,36,399,29,333,37,181,119,36,5,7,14,236,6,221,9]
["E05011161","Perry Common",1019,376,296,146,72,129,1105,262,681,162,458,130,155,84,22,67,440,125,220,95,424,163,116,55,39,51,435,113,272,50,93,53,20,4,9,7,158,21,123,14,44,30,5,3,2,4,72,3,66,3]
["E05011162","Pype Hayes",943,256,337,52,169,129,784,135,503,146,421,96,180,28,60,57,315,69,173,73,431,125,138,22,80,66,318,54,202,62,63,27,12,2,20,2,105,10,87,8,28,8,7,0,9,4,46,2,41,3]
["E05011163","Quinton",2952,1732,411,79,207,523,1381,420,765,196,1062,564,191,42,72,193,567,196,264,107,1299,781,162,29,87,240,566,192,300,74,416,259,42,8,38,69,157,25,122,10,175,128,16,0,10,21,91,7,79,5]
["E05011164","Rubery & Rednal",154,50,39,3,23,39,329,91,157,81,52,10,21,3,4,14,124,38,45,41,77,31,15,0,14,17,154,45,77,32,22,7,3,0,5,7,38,7,26,5,3,2,0,0,0,1,13,1,9,3]
["E05011165","Shard End",358,36,199,33,20,70,536,94,330,112,168,9,116,14,11,18,196,50,102,44,158,19,76,14,7,42,231,35,135,61,25,6,5,3,1,10,63,9,48,6,7,2,2,2,1,0,46,0,45,1]
["E05011166","Sheldon",1558,368,671,266,74,179,515,170,286,59,708,127,343,139,27,72,169,87,60,22,665,178,256,113,32,86,244,72,141,31,118,37,43,11,9,18,62,8,49,5,67,26,29,3,6,3,40,3,36,1]
["E05011167","Small Heath",15253,507,10806,2822,57,1061,1904,888,450,566,7447,169,5250,1532,24,472,1060,599,89,372,5349,204,3749,996,18,382,548,249,132,167,1418,79,1029,177,6,127,115,31,65,19,1039,55,778,117,9,80,181,9,164,8]
["E05011168","Soho & Jewellery Quarter",7688,3336,2179,544,612,1017,5477,1266,3134,1077,3179,1097,1063,287,322,410,2220,615,1009,596,3365,1558,858,212,256,481,2222,580,1237,405,685,404,151,32,20,78,548,58,424,66,459,277,107,13,14,48,487,13,464,10]
["E05011169","South Yardley",1679,482,889,157,44,107,346,81,196,69,756,167,445,84,14,46,120,39,52,29,704,203,358,68,25,50,153,40,85,28,156,78,64,5,2,7,45,2,34,9,63,34,22,0,3,4,28,0,25,3]
["E05011170","Sparkbrook & Balsall Heath East",16823,1300,11668,2590,128,1137,2317,851,788,678,8307,387,5901,1395,49,575,1060,428,227,405,6074,514,4181,920,47,412,795,335,250,210,1464,221,989,168,7,79,228,64,122,42,978,178,597,107,25,71,234,24,189,21]
["E05011171","Sparkhill",15712,1766,11562,961,124,1299,1008,382,414,212,7437,525,5732,493,42,645,437,224,97,116,5667,635,4177,341,66,448,333,137,125,71,1625,367,1036,80,13,129,99,18,59,22,983,239,617,47,3,77,139,3,133,3]
["E05011172","Stirchley",1179,307,388,245,75,164,470,154,241,75,513,88,209,125,32,59,151,68,52,31,503,130,144,106,31,92,213,73,104,36,107,59,23,7,9,9,65,12,45,8,56,30,12,7,3,4,41,1,40,0]
["E05011173","Stockland Green",3595,831,1810,295,269,390,3318,678,2067,573,1656,268,929,168,107,184,1196,306,630,260,1467,380,693,110,123,161,1445,326,865,254,314,116,132,11,26,29,388,37,307,44,158,67,56,6,13,16,289,9,265,15]
["E05011174","Sutton Four Oaks",775,584,82,17,23,69,111,39,59,13,260,184,39,6,7,24,40,18,17,5,306,243,24,8,9,22,46,15,24,7,137,100,13,1,6,17,23,6,16,1,72,57,6,2,1,6,2,0,2,0]
["E05011175","Sutton Mere Green",544,346,85,18,33,62,142,30,90,22,202,128,39,6,8,21,61,9,33,19,231,149,34,6,16,26,58,15,41,2,68,39,8,4,7,10,18,4,13,1,43,30,4,2,2,5,5,2,3,0]
["E05011176","Sutton Reddicap",496,274,107,15,30,70,297,66,164,67,205,97,58,10,10,30,116,29,54,33,213,133,37,3,12,28,118,28,60,30,50,27,9,1,4,9,38,5,31,2,28,17,3,1,4,3,25,4,19,2]
["E05011177","Sutton Roughley",739,441,104,13,71,110,164,29,114,21,274,150,51,2,24,47,60,9,41,10,352,215,49,7,38,43,85,19,56,10,79,49,4,3,6,17,13,1,11,1,34,27,0,1,3,3,6,0,6,0]
["E05011178","Sutton Trinity",474,246,96,15,66,51,108,14,66,28,178,77,44,8,29,20,29,3,12,14,236,131,39,6,33,27,54,10,31,13,43,24,11,1,4,3,16,1,14,1,17,14,2,0,0,1,9,0,9,0]
["E05011179","Sutton Vesey",1625,929,321,71,113,191,581,70,440,71,626,329,146,39,44,68,180,23,134,23,680,398,129,27,46,80,242,30,173,39,225,138,32,4,21,30,133,16,111,6,94,64,14,1,2,13,26,1,22,3]
["E05011180","Sutton Walmley & Minworth",884,537,113,6,115,113,323,66,212,45,297,169,52,2,36,38,101,33,56,12,399,251,41,2,57,48,152,26,98,28,133,81,12,2,19,19,45,3,38,4,55,36,8,0,3,8,25,4,20,1]
["E05011181","Sutton Wylde Green",799,420,211,34,68,66,167,29,113,25,305,146,95,18,23,23,54,8,32,14,309,173,77,12,17,30,67,17,40,10,117,65,23,2,19,8,31,2,28,1,68,36,16,2,9,5,15,2,13,0]
["E05011182","Tyseley & Hay Mills",3854,534,2278,679,34,329,599,163,305,131,2008,216,1247,365,12,168,219,68,85,66,1553,251,890,271,13,128,263,87,116,60,200,51,104,23,5,17,59,6,49,4,93,16,37,20,4,16,58,2,55,1]
["E05011183","Ward End",7706,272,6244,406,55,729,943,400,355,188,4096,109,3355,224,17,391,387,209,94,84,2857,126,2271,150,28,282,359,168,111,80,461,31,374,21,7,28,113,21,75,17,292,6,244,11,3,28,84,2,75,7]
["E05011184","Weoley & Selly Oak",2521,796,357,103,492,773,1337,529,572,236,1016,275,176,52,192,321,541,252,177,112,1214,396,144,32,251,391,603,244,255,104,190,79,25,12,31,43,123,23,86,14,101,46,12,7,18,18,70,10,54,6]
["E05011185","Yardley East",1643,295,1071,111,28,138,426,133,236,57,785,98,559,61,12,55,156,81,52,23,638,109,413,43,9,64,192,49,110,33,149,65,63,5,3,13,37,1,36,0,71,23,36,2,4,6,41,2,38,1]
["E05011186","Yardley West & Stechford",4118,427,2768,410,45,468,855,272,428,155,2102,153,1484,230,20,215,348,161,107,80,1608,204,1050,150,12,192,334,96,176,62,276,48,161,24,4,39,87,12,65,10,132,22,73,6,9,22,86,3,80,3]

{"sheet":"Male2","index":7,"n_rows":71,"n_cols":52,"rows_kept":71,"cut":false,"hidden":true,"merged":[]}
[null,1,{"$f":"B1+1","v":2},3,4,5,6,7,8,9,10,11,12,13,14,15,16,17,18,19,20,21,22,23,24,25,26,27,28,29,30,31,32,33,{"$f":"AH1+1","v":34},35,36,37,38,39,40,41,42,43,44,45,46,47,48,49,50,51]
["ZONEID","ZoneName","LC2101EW0132:Males, All categories: Age, Asian/Asian British: Total","LC2101EW0133:Males, All categories: Age, Asian/Asian British: Indian","LC2101EW0134:Males, All categories: Age, Asian/Asian British: Pakistani","LC2101EW0135:Males, All categories: Age, Asian/Asian British: Bangladeshi","LC2101EW0136:Males, All categories: Age, Asian/Asian British: Chinese","LC2101EW0137:Males, All categories: Age, Asian/Asian British: Other Asian","LC2101EW0138:Males, All categories: Age, Black/African/Caribbean/Black British: Total","LC2101EW0139:Males, All categories: Age, Black/African/Caribbean/Black British: African","LC2101EW0140:Males, All categories: Age, Black/African/Caribbean/Black British: Caribbean","LC2101EW0141:Males, All categories: Age, Black/African/Caribbean/Black British: Other Black","LC2101EW0156:Males, Age 0 to 24, Asian/Asian British: Total","LC2101EW0157:Males, Age 0 to 24, Asian/Asian British: Indian","LC2101EW0158:Males, Age 0 to 24, Asian/Asian British: Pakistani","LC2101EW0159:Males, Age 0 to 24, Asian/Asian British: Bangladeshi","LC2101EW0160:Males, Age 0 to 24, Asian/Asian British: Chinese","LC2101EW0161:Males, Age 0 to 24, Asian/Asian British: Other Asian","LC2101EW0162:Males, Age 0 to 24, Black/African/Caribbean/Black British: Total","LC2101EW0163:Males, Age 0 to 24, Black/African/Caribbean/Black British: African","LC2101EW0164:Males, Age 0 to 24, Black/African/Caribbean/Black British: Caribbean","LC2101EW0165:Males, Age 0 to 24, Black/African/Caribbean/Black British: Other Black","LC2101EW0180:Males, Age 25 to 49, Asian/Asian British: Total","LC2101EW0181:Males, Age 25 to 49, Asian/Asian British: Indian","LC2101EW0182:Males, Age 25 to 49, Asian/Asian British: Pakistani","LC2101EW0183:Males, Age 25 to 49, Asian/Asian British: Bangladeshi","LC2101EW0184:Males, Age 25 to 49, Asian/Asian British: Chinese","LC2101EW0185:Males, Age 25 to 49, Asian/Asian British: Other Asian","LC2101EW0186:Males, Age 25 to 49, Black/African/Caribbean/Black British: Total","LC2101EW0187:Males, Age 25 to 49, Black/African/Caribbean/Black British: African","LC2101EW0188:Males, Age 25 to 49, Black/African/Caribbean/Black British: Caribbean","LC2101EW0189:Males, Age 25 to 49, Black/African/Caribbean/Black British: Other Black","LC2101EW0204:Males, Age 50 to 64, Asian/Asian British: Total","LC2101EW0205:Males, Age 50 to 64, Asian/Asian British: Indian","LC2101EW0206:Males, Age 50 to 64, Asian/Asian British: Pakistani","LC2101EW0207:Males, Age 50 to 64, Asian/Asian British: Bangladeshi","LC2101EW0208:Males, Age 50 to 64, Asian/Asian British: Chinese","LC2101EW0209:Males, Age 50 to 64, Asian/Asian British: Other Asian","LC2101EW0210:Males, Age 50 to 64, Black/African/Caribbean/Black British: Total","LC2101EW0211:Males, Age 50 to 64, Black/African/Caribbean/Black British: African","LC2101EW0212:Males, Age 50 to 64, Black/African/Caribbean/Black British: Caribbean","LC2101EW0213:Males, Age 50 to 64, Black/African/Caribbean/Black British: Other Black","LC2101EW0228:Males, Age 65 and over, Asian/Asian British: Total","LC2101EW0229:Males, Age 65 and over, Asian/Asian British: Indian","LC2101EW0230:Males, Age 65 and over, Asian/Asian British: Pakistani","LC2101EW0231:Males, Age 65 and over, Asian/Asian British: Bangladeshi","LC2101EW0232:Males, Age 65 and over, Asian/Asian British: Chinese","LC2101EW0233:Males, Age 65 and over, Asian/Asian British: Other Asian","LC2101EW0234:Males, Age 65 and over, Black/African/Caribbean/Black British: Total","LC2101EW0235:Males, Age 65 and over, Black/African/Caribbean/Black British: African","LC2101EW0236:Males, Age 65 and over, Black/African/Caribbean/Black British: Caribbean","LC2101EW0237:Males, Age 65 and over, Black/African/Caribbean/Black British: Other Black"]
["E05011118","Acocks Green",2815,765,1438,241,81,290,590,132,336,122,1361,266,796,125,28,146,227,56,114,57,1126,361,518,95,42,110,247,65,125,57,225,92,87,15,5,26,64,8,53,3,103,46,37,6,6,8,52,3,44,5]
["E05011119","Allens Cross",395,87,56,12,76,164,282,115,116,51,175,32,25,2,34,82,137,59,45,33,182,45,23,7,35,72,100,46,37,17,28,6,5,2,7,8,30,7,22,1,10,4,3,1,0,2,15,3,12,0]
["E05011120","Alum Rock",9995,254,7452,962,48,1279,1072,528,281,263,5263,113,3936,545,26,643,605,350,91,164,3526,98,2596,331,16,485,318,156,83,79,732,32,567,45,4,84,65,16,38,11,474,11,353,41,2,67,84,6,69,9]
["E05011121","Aston",7906,1535,3449,2348,96,478,1833,734,788,311,3990,615,1788,1303,37,247,797,364,247,186,2869,599,1202,842,47,179,644,337,217,90,632,216,272,107,5,32,153,23,111,19,415,105,187,96,7,20,239,10,213,16]
["E05011122","Balsall Heath West",2388,259,1559,163,115,292,837,255,427,155,1134,90,771,79,44,150,340,141,120,79,863,110,538,67,41,107,283,91,128,64,220,37,142,8,9,24,89,18,62,9,171,22,108,9,21,11,125,5,117,3]
["E05011123","Bartley Green",478,114,96,15,58,195,733,229,356,148,207,38,47,6,23,93,319,89,129,101,212,54,40,4,24,90,285,120,131,34,38,13,5,5,8,7,86,16,58,12,21,9,4,0,3,5,43,4,38,1]
["E05011124","Billesley",1824,486,962,99,60,217,394,87,227,80,864,168,518,55,18,105,166,47,74,45,656,181,326,35,37,77,153,34,88,31,225,95,89,8,4,29,46,4,39,3,79,42,29,1,1,6,29,2,26,1]
["E05011125","Birchfield",3143,892,1446,418,60,327,1568,478,837,253,1500,338,764,235,31,132,563,178,262,123,1141,347,482,153,21,138,643,276,265,102,316,122,127,19,7,41,156,14,119,23,186,85,73,11,1,16,206,10,191,5]
["E05011126","Bordesley & Highgate",2789,288,1494,387,317,303,1335,550,465,320,1426,92,841,196,176,121,662,310,163,189,1123,166,526,159,112,160,492,210,178,104,150,22,80,22,8,18,101,24,58,19,90,8,47,10,21,4,80,6,66,8]
["E05011127","Bordesley Green",3632,139,2446,744,24,279,845,392,234,219,1835,44,1260,389,9,133,455,266,54,135,1354,68,880,286,10,110,242,101,78,63,254,20,171,37,3,23,83,23,40,20,189,7,135,32,2,13,65,2,62,1]
["E05011128","Bournbrook & Selly Park",1781,557,439,124,392,269,341,193,100,48,1113,345,246,66,289,167,164,103,30,31,518,159,149,35,89,86,139,79,48,12,86,27,23,12,10,14,24,7,15,2,64,26,21,11,4,2,14,4,7,3]
["E05011129","Bournville & Cotteridge",501,198,89,28,84,102,320,137,121,62,186,83,36,10,19,38,135,59,43,33,225,82,36,15,46,46,135,66,43,26,58,17,9,2,17,13,32,11,19,2,32,16,8,1,2,5,18,1,16,1]
["E05011130","Brandwood & King's Heath",1544,472,749,64,97,162,419,90,277,52,661,153,377,31,32,68,112,40,50,22,626,214,269,24,50,69,186,36,122,28,154,61,58,6,12,17,70,11,57,2,103,44,45,3,3,8,51,3,48,0]
["E05011131","Bromford & Hodge Hill",3272,142,2587,195,49,299,855,318,318,219,1715,59,1369,109,22,156,405,166,91,148,1246,67,969,72,22,116,300,120,120,60,221,10,178,10,2,21,102,30,66,6,90,6,71,4,3,6,48,2,41,5]
["E05011132","Castle Vale",66,22,15,3,12,14,252,47,165,40,27,8,8,1,6,4,86,18,48,20,30,11,6,2,2,9,100,27,55,18,6,1,1,0,3,1,35,1,33,1,3,2,0,0,1,0,31,1,29,1]
["E05011133","Druids Heath & Monyhull",321,105,102,10,41,63,360,127,171,62,136,37,55,4,21,19,167,63,68,36,145,49,40,4,16,36,140,57,62,21,26,9,6,2,2,7,38,7,27,4,14,10,1,0,2,1,15,0,14,1]
["E05011134","Edgbaston",2445,1190,440,75,364,376,531,216,238,77,1072,457,218,32,210,155,211,121,58,32,951,496,149,32,108,166,208,73,103,32,247,128,50,7,22,40,65,19,38,8,175,109,23,4,24,15,47,3,39,5]
["E05011135","Erdington",741,245,283,68,61,84,727,190,416,121,328,92,135,36,28,37,279,95,130,54,305,102,112,27,24,40,322,87,177,58,71,34,26,3,4,4,78,7,62,9,37,17,10,2,5,3,48,1,47,0]
["E05011136","Frankley Great Park",128,36,40,4,21,27,243,70,117,56,47,8,22,1,4,12,89,30,33,26,62,23,11,3,13,12,106,35,46,25,11,3,2,0,3,3,35,5,26,4,8,2,5,0,1,0,13,0,12,1]
["E05011137","Garretts Green",583,78,334,53,10,108,346,88,175,83,318,33,193,30,5,57,153,49,51,53,225,36,120,20,5,44,118,30,64,24,30,8,14,3,0,5,36,7,25,4,10,1,7,0,0,2,39,2,35,2]
["E05011138","Glebe Farm & Tile Cross",2048,145,1442,110,22,329,734,200,386,148,1125,77,815,59,9,165,325,107,141,77,785,61,530,44,9,141,284,77,142,65,105,4,75,4,2,20,79,15,59,5,33,3,22,3,2,3,46,1,44,1]
["E05011139","Gravelly Hill",1150,187,691,64,57,151,724,182,404,138,578,65,377,38,27,71,274,70,134,70,442,91,240,23,25,63,312,105,150,57,94,23,55,1,5,10,78,4,65,9,36,8,19,2,0,7,60,3,55,2]
["E05011140","Hall Green North",5125,1312,2953,331,47,482,375,112,199,64,2421,430,1585,180,15,211,161,66,61,34,1893,493,1070,124,21,185,134,34,74,26,577,282,209,19,6,61,52,11,38,3,234,107,89,8,5,25,28,1,26,1]
["E05011141","Hall Green South",1359,587,556,45,30,141,75,15,40,20,574,205,283,18,8,60,23,6,11,6,541,234,215,19,15,58,35,7,14,14,171,106,38,6,3,18,8,0,8,0,73,42,20,2,4,5,9,2,7,0]
["E05011142","Handsworth",3641,1486,1253,456,56,390,1124,315,603,206,1534,481,656,252,15,130,455,148,202,105,1497,653,447,165,31,201,386,136,168,82,384,229,90,19,5,41,133,28,94,11,226,123,60,20,5,18,150,3,139,8]
["E05011143","Handsworth Wood",4961,3309,777,199,68,608,1445,256,967,222,1906,1127,407,112,35,225,576,123,339,114,1964,1337,286,73,22,246,531,112,334,85,785,612,57,10,8,98,206,15,176,15,306,233,27,4,3,39,132,6,118,8]
["E05011144","Harborne",1678,767,221,48,300,342,616,246,252,118,630,245,107,25,114,139,283,101,99,83,799,361,92,19,153,174,246,124,92,30,165,100,15,3,24,23,63,19,40,4,84,61,7,1,9,6,24,2,21,1]
["E05011145","Heartlands",3686,167,2791,291,29,408,562,240,152,170,1938,66,1497,155,15,205,330,164,54,112,1369,72,1007,108,13,169,162,60,51,51,242,13,186,17,0,26,43,16,21,6,137,16,101,11,1,8,27,0,26,1]
["E05011146","Highter's Heath",345,137,125,7,10,66,177,62,93,22,163,62,62,4,4,31,63,35,20,8,139,48,56,3,4,28,72,23,38,11,31,21,5,0,2,3,24,3,19,2,12,6,2,0,0,4,18,1,16,1]
["E05011147","Holyhead",3004,1545,612,464,68,315,1100,212,701,187,1294,522,328,260,39,145,503,112,276,115,1239,686,233,168,26,126,344,86,197,61,322,228,37,22,3,32,92,12,74,6,149,109,14,14,0,12,161,2,154,5]
["E05011148","King's Norton North",219,65,62,20,25,47,231,73,109,49,93,22,35,13,7,16,95,32,35,28,92,32,16,7,15,22,96,34,44,18,25,6,10,0,2,7,24,6,16,2,9,5,1,0,1,2,16,1,14,1]
["E05011149","King's Norton South",156,36,32,20,16,52,344,87,195,62,76,19,18,11,5,23,144,39,70,35,64,13,11,8,7,25,143,40,82,21,11,4,2,1,1,3,43,8,29,6,5,0,1,0,3,1,14,0,14,0]
["E05011150","Kingstanding",629,236,183,58,42,110,718,184,411,123,296,94,99,32,15,56,316,99,144,73,242,86,64,24,19,49,273,71,157,45,65,44,13,2,3,3,74,10,59,5,26,12,7,0,5,2,55,4,51,0]
["E05011151","Ladywood",2862,982,351,80,888,561,2020,738,865,417,1169,281,156,39,478,215,790,353,263,174,1543,643,172,36,369,323,960,351,403,206,103,41,17,4,25,16,174,26,120,28,47,17,6,1,16,7,96,8,79,9]
["E05011152","Longbridge & West Heath",221,61,39,7,42,72,367,113,173,81,89,21,15,5,13,35,122,52,33,37,102,30,18,2,20,32,182,49,93,40,20,5,4,0,6,5,38,9,27,2,10,5,2,0,3,0,25,3,20,2]
["E05011153","Lozells",3267,252,1384,1396,47,188,758,268,342,148,1709,105,708,786,25,85,311,114,101,96,1174,101,492,496,17,68,307,140,127,40,220,28,111,58,1,22,62,12,42,8,164,18,73,56,4,13,78,2,72,4]
["E05011154","Moseley",3392,729,2129,152,88,294,680,174,356,150,1479,238,1014,74,30,123,195,66,55,74,1255,281,759,57,43,115,312,90,157,65,408,132,220,9,9,38,103,12,82,9,250,78,136,12,6,18,70,6,62,2]
["E05011155","Nechells",1759,397,594,254,297,217,2000,885,609,506,1149,324,363,138,205,119,1029,517,199,313,515,65,195,85,75,95,694,317,222,155,58,5,21,16,14,2,159,35,96,28,37,3,15,15,3,1,118,16,92,10]
["E05011156","Newtown",1773,485,333,552,139,264,2345,1009,811,525,1118,386,195,320,90,127,1209,558,320,331,547,83,112,196,39,117,862,420,283,159,80,8,21,28,7,16,163,21,115,27,28,8,5,8,3,4,111,10,93,8]
["E05011157","North Edgbaston",4513,1524,1922,185,167,715,1640,606,690,344,1880,490,969,101,48,272,653,257,221,175,1954,709,721,77,98,349,704,318,240,146,414,190,135,5,18,66,143,22,103,18,265,135,97,2,3,28,140,9,126,5]
["E05011158","Northfield",161,38,29,2,40,52,146,39,66,41,63,12,15,1,13,22,48,15,13,20,70,18,10,0,19,23,71,22,31,18,21,5,4,0,6,6,20,2,16,2,7,3,0,1,2,1,7,0,6,1]
["E05011159","Oscott",617,353,74,68,45,77,537,67,378,92,280,144,40,40,14,42,225,30,145,50,262,155,31,24,26,26,217,34,147,36,48,37,2,3,2,4,56,2,51,3,27,17,1,1,3,5,39,1,35,3]
["E05011160","Perry Barr",2460,1212,564,340,114,230,1251,210,851,190,1198,521,304,197,76,100,522,99,319,104,975,507,213,126,30,99,451,92,288,71,211,133,33,16,4,25,171,16,144,11,76,51,14,1,4,6,107,3,100,4]
["E05011161","Perry Common",499,169,148,75,34,73,490,127,291,72,232,60,78,45,8,41,223,60,121,42,200,71,57,28,17,27,173,54,97,22,44,23,10,1,8,2,70,12,51,7,23,15,3,1,1,3,24,1,22,1]
["E05011162","Pype Hayes",475,116,175,31,90,63,368,55,236,77,221,46,98,17,32,28,148,26,81,41,213,58,69,13,41,32,149,22,95,32,25,9,5,1,9,1,53,6,44,3,16,3,3,0,8,2,18,1,16,1]
["E05011163","Quinton",1440,843,194,36,91,276,628,210,326,92,527,286,90,17,29,105,285,96,132,57,621,365,77,14,38,127,242,94,120,28,204,128,20,5,17,34,62,14,45,3,88,64,7,0,7,10,39,6,29,4]
["E05011164","Rubery & Rednal",75,25,22,2,9,17,168,52,80,36,27,6,11,2,1,7,76,25,31,20,37,15,9,0,6,7,66,22,32,12,9,3,2,0,2,2,18,4,11,3,2,1,0,0,0,1,8,1,6,1]
["E05011165","Shard End",165,19,83,19,12,32,234,40,141,53,81,5,50,8,6,12,93,24,50,19,73,10,31,10,5,17,96,12,56,28,9,4,2,0,0,3,24,4,15,5,2,0,0,1,1,0,21,0,20,1]
["E05011166","Sheldon",772,189,323,135,34,91,242,85,127,30,381,70,178,78,11,44,82,45,26,11,311,89,114,51,17,40,113,34,65,14,54,17,21,6,4,6,31,6,21,4,26,13,10,0,2,1,16,0,15,1]
["E05011167","Small Heath",7650,253,5356,1445,38,558,910,431,207,272,3783,86,2646,806,16,229,533,306,40,187,2687,101,1842,512,13,219,244,105,66,73,676,39,490,74,3,70,52,18,26,8,504,27,378,53,6,40,81,2,75,4]
["E05011168","Soho & Jewellery Quarter",4094,1821,1106,268,333,566,2540,607,1413,520,1691,641,529,134,174,213,1102,285,511,306,1861,863,451,112,142,293,971,282,510,179,334,197,74,15,10,38,235,34,170,31,208,120,52,7,7,22,232,6,222,4]
["E05011169","South Yardley",838,235,440,82,21,60,166,40,93,33,386,84,223,43,5,31,64,21,26,17,348,97,175,35,14,27,70,19,38,13,72,38,28,4,1,1,23,0,20,3,32,16,14,0,1,1,9,0,9,0]
["E05011170","Sparkbrook & Balsall Heath East",8492,636,5887,1271,61,637,1187,460,364,363,4274,205,3038,700,19,312,575,237,113,225,3089,278,2083,454,26,248,382,172,102,108,664,86,468,62,2,46,112,36,57,19,465,67,298,55,14,31,118,15,92,11]
["E05011171","Sparkhill",7977,909,5811,506,73,678,480,190,182,108,3842,293,2932,265,18,334,214,120,40,54,2870,327,2084,172,46,241,148,62,49,37,786,183,496,38,6,63,49,6,26,17,479,106,299,31,3,40,69,2,67,0]
["E05011172","Stirchley",547,148,182,108,29,80,224,77,115,32,233,38,104,50,12,29,84,42,24,18,237,66,62,50,13,46,95,32,50,13,51,30,9,4,4,4,29,3,25,1,26,14,7,4,0,1,16,0,16,0]
["E05011173","Stockland Green",1803,413,910,151,133,196,1571,337,966,268,863,139,485,94,52,93,603,142,320,141,708,185,326,50,64,83,652,166,384,102,158,57,71,5,10,15,184,23,140,21,74,32,28,2,7,5,132,6,122,4]
["E05011174","Sutton Four Oaks",394,293,42,11,15,33,53,19,28,6,134,91,18,5,7,13,22,10,10,2,152,123,14,3,5,7,21,6,11,4,69,51,6,1,2,9,9,3,6,0,39,28,4,2,1,4,1,0,1,0]
["E05011175","Sutton Mere Green",263,163,41,7,19,33,72,12,46,14,101,60,19,3,5,14,31,2,17,12,106,71,17,0,8,10,28,8,19,1,30,14,3,3,4,6,9,1,7,1,26,18,2,1,2,3,4,1,3,0]
["E05011176","Sutton Reddicap",240,135,55,5,12,33,153,37,79,37,100,48,32,3,4,13,66,17,28,21,102,66,18,1,3,14,53,15,26,12,25,14,3,0,3,5,19,2,15,2,13,7,2,1,2,1,15,3,10,2]
["E05011177","Sutton Roughley",366,222,50,8,38,48,80,12,54,14,147,79,25,2,16,25,30,2,21,7,165,105,23,4,18,15,39,10,23,6,36,24,2,1,2,7,8,0,7,1,18,14,0,1,2,1,3,0,3,0]
["E05011178","Sutton Trinity",230,120,49,6,31,24,58,8,35,15,86,33,21,4,15,13,17,3,7,7,112,68,21,1,13,9,29,5,16,8,23,12,6,1,3,1,7,0,7,0,9,7,1,0,0,1,5,0,5,0]
["E05011179","Sutton Vesey",787,473,149,37,49,79,286,35,208,43,325,181,73,21,21,29,97,9,74,14,305,187,55,14,16,33,111,17,70,24,115,73,16,1,11,14,65,8,53,4,42,32,5,1,1,3,13,1,11,1]
["E05011180","Sutton Walmley & Minworth",429,268,54,3,50,54,161,32,103,26,157,96,25,2,14,20,58,16,31,11,182,116,21,0,26,19,70,13,44,13,62,37,5,1,9,10,23,2,19,2,28,19,3,0,1,5,10,1,9,0]
["E05011181","Sutton Wylde Green",389,209,101,11,31,37,80,15,54,11,147,73,44,5,9,16,31,5,18,8,148,82,35,4,10,17,27,7,17,3,62,39,13,1,7,2,15,1,14,0,32,15,9,1,5,2,7,2,5,0]
["E05011182","Tyseley & Hay Mills",1911,251,1137,338,17,168,271,81,126,64,1002,94,636,181,6,85,98,29,40,29,764,121,425,142,7,69,123,47,43,33,106,27,59,7,3,10,27,3,22,2,39,9,17,8,1,4,23,2,21,0]
["E05011183","Ward End",3805,139,3082,194,27,363,456,196,175,85,1999,51,1647,111,6,184,187,107,41,39,1443,70,1134,67,16,156,174,76,59,39,232,14,191,11,3,13,57,12,38,7,131,4,110,5,2,10,38,1,37,0]
["E05011184","Weoley & Selly Oak",1240,389,174,50,231,396,633,248,267,118,510,141,89,25,89,166,256,115,91,50,587,186,67,15,122,197,288,115,118,55,88,37,11,6,12,22,50,11,31,8,55,25,7,4,8,11,39,7,27,5]
["E05011185","Yardley East",817,141,524,61,13,78,230,66,133,31,388,51,269,35,4,29,84,42,30,12,329,51,213,22,4,39,104,22,63,19,71,31,27,4,2,7,20,1,19,0,29,8,15,0,3,3,22,1,21,0]
["E05011186","Yardley West & Stechford",2014,196,1352,212,22,232,413,142,201,70,1039,67,736,121,7,108,175,87,55,33,782,97,508,74,7,96,160,45,84,31,136,22,81,14,2,17,38,9,24,5,57,10,27,3,6,11,40,1,38,1]

{"sheet":"female2","index":8,"n_rows":71,"n_cols":52,"rows_kept":71,"cut":false,"hidden":true,"merged":[]}
[null,1,{"$f":"B1+1","v":2},3,4,5,6,7,8,9,10,11,12,13,14,15,16,17,18,19,20,21,22,23,24,25,26,27,28,29,30,31,32,33,{"$f":"AH1+1","v":34},35,36,37,38,39,40,41,42,43,44,45,46,47,48,49,50,51]
["ZONEID","ZoneName","LC2101EW0252:Females, All categories: Age, Asian/Asian British: Total","LC2101EW0253:Females, All categories: Age, Asian/Asian British: Indian","LC2101EW0254:Females, All categories: Age, Asian/Asian British: Pakistani","LC2101EW0255:Females, All categories: Age, Asian/Asian British: Bangladeshi","LC2101EW0256:Females, All categories: Age, Asian/Asian British: Chinese","LC2101EW0257:Females, All categories: Age, Asian/Asian British: Other Asian","LC2101EW0258:Females, All categories: Age, Black/African/Caribbean/Black British: Total","LC2101EW0259:Females, All categories: Age, Black/African/Caribbean/Black British: African","LC2101EW0260:Females, All categories: Age, Black/African/Caribbean/Black British: Caribbean","LC2101EW0261:Females, All categories: Age, Black/African/Caribbean/Black British: Other Black","LC2101EW0276:Females, Age 0 to 24, Asian/Asian British: Total","LC2101EW0277:Females, Age 0 to 24, Asian/Asian British: Indian","LC2101EW0278:Females, Age 0 to 24, Asian/Asian British: Pakistani","LC2101EW0279:Females, Age 0 to 24, Asian/Asian British: Bangladeshi","LC2101EW0280:Females, Age 0 to 24, Asian/Asian British: Chinese","LC2101EW0281:Females, Age 0 to 24, Asian/Asian British: Other Asian","LC2101EW0282:Females, Age 0 to 24, Black/African/Caribbean/Black British: Total","LC2101EW0283:Females, Age 0 to 24, Black/African/Caribbean/Black British: African","LC2101EW0284:Females, Age 0 to 24, Black/African/Caribbean/Black British: Caribbean","LC2101EW0285:Females, Age 0 to 24, Black/African/Caribbean/Black British: Other Black","LC2101EW0300:Females, Age 25 to 49, Asian/Asian British: Total","LC2101EW0301:Females, Age 25 to 49, Asian/Asian British: Indian","LC2101EW0302:Females, Age 25 to 49, Asian/Asian British: Pakistani","LC2101EW0303:Females, Age 25 to 49, Asian/Asian British: Bangladeshi","LC2101EW0304:Females, Age 25 to 49, Asian/Asian British: Chinese","LC2101EW0305:Females, Age 25 to 49, Asian/Asian British: Other Asian","LC2101EW0306:Females, Age 25 to 49, Black/African/Caribbean/Black British: Total","LC2101EW0307:Females, Age 25 to 49, Black/African/Caribbean/Black British: African","LC2101EW0308:Females, Age 25 to 49, Black/African/Caribbean/Black British: Caribbean","LC2101EW0309:Females, Age 25 to 49, Black/African/Caribbean/Black British: Other Black","LC2101EW0324:Females, Age 50 to 64, Asian/Asian British: Total","LC2101EW0325:Females, Age 50 to 64, Asian/Asian British: Indian","LC2101EW0326:Females, Age 50 to 64, Asian/Asian British: Pakistani","LC2101EW0327:Females, Age 50 to 64, Asian/Asian British: Bangladeshi","LC2101EW0328:Females, Age 50 to 64, Asian/Asian British: Chinese","LC2101EW0329:Females, Age 50 to 64, Asian/Asian British: Other Asian","LC2101EW0330:Females, Age 50 to 64, Black/African/Caribbean/Black British: Total","LC2101EW0331:Females, Age 50 to 64, Black/African/Caribbean/Black British: African","LC2101EW0332:Females, Age 50 to 64, Black/African/Caribbean/Black British: Caribbean","LC2101EW0333:Females, Age 50 to 64, Black/African/Caribbean/Black British: Other Black","LC2101EW0348:Females, Age 65 and over, Asian/Asian British: Total","LC2101EW0349:Females, Age 65 and over, Asian/Asian British: Indian","LC2101EW0350:Females, Age 65 and over, Asian/Asian British: Pakistani","LC2101EW0351:Females, Age 65 and over, Asian/Asian British: Bangladeshi","LC2101EW0352:Females, Age 65 and over, Asian/Asian British: Chinese","LC2101EW0353:Females, Age 65 and over, Asian/Asian British: Other Asian","LC2101EW0354:Females, Age 65 and over, Black/African/Caribbean/Black British: Total","LC2101EW0355:Females, Age 65 and over, Black/African/Caribbean/Black British: African","LC2101EW0356:Females, Age 65 and over, Black/African/Caribbean/Black British: Caribbean","LC2101EW0357:Females, Age 65 and over, Black/African/Caribbean/Black British: Other Black"]
["E05011118","Acocks Green",2899,796,1470,250,72,311,631,116,405,110,1309,289,727,123,29,141,207,54,102,51,1228,352,606,109,29,132,270,59,166,45,235,102,86,9,11,27,76,3,63,10,127,53,51,9,3,11,78,0,74,4]
["E05011119","Allens Cross",388,66,45,9,87,181,284,122,118,44,147,23,24,2,24,74,113,54,36,23,200,35,16,6,53,90,121,58,48,15,27,5,4,0,5,13,37,6,25,6,14,3,1,1,5,4,13,4,9,0]
["E05011120","Alum Rock",9770,237,7474,939,48,1072,1204,580,346,278,4872,96,3736,499,17,524,599,354,86,159,3431,94,2629,327,15,366,427,203,132,92,831,29,641,67,11,83,103,19,67,17,636,18,468,46,5,99,75,4,61,10]
["E05011121","Aston",7735,1351,3544,2366,94,380,1870,567,974,329,3752,528,1752,1261,41,170,646,269,210,167,2728,473,1277,799,42,137,733,271,335,127,777,228,317,188,9,35,219,22,178,19,478,122,198,118,2,38,272,5,251,16]
["E05011122","Balsall Heath West",2431,279,1558,171,156,267,846,264,434,148,1088,103,720,79,61,125,306,134,90,82,868,110,554,62,44,98,306,106,146,54,270,39,170,23,16,22,113,20,84,9,205,27,114,7,35,22,121,4,114,3]
["E05011123","Bartley Green",503,113,102,11,60,217,867,291,422,154,197,38,48,2,18,91,338,125,131,82,244,53,45,6,30,110,378,137,178,63,46,17,4,3,9,13,103,24,70,9,16,5,5,0,3,3,48,5,43,0]
["E05011124","Billesley",1885,530,957,110,65,223,450,121,240,89,802,168,460,59,21,94,165,58,59,48,773,223,382,43,31,94,181,52,96,33,213,98,75,6,8,26,69,7,55,7,97,41,40,2,5,9,35,4,30,1]
["E05011125","Birchfield",2845,729,1363,413,67,273,1525,368,950,207,1303,229,681,233,40,120,559,185,259,115,1027,280,498,136,19,94,594,171,351,72,316,122,120,29,5,40,179,7,158,14,199,98,64,15,3,19,193,5,182,6]
["E05011126","Bordesley & Highgate",2627,250,1411,407,336,223,1449,578,536,335,1342,90,752,215,177,108,686,328,170,188,1023,129,535,156,110,93,556,219,213,124,152,23,82,22,11,14,117,20,82,15,110,8,42,14,38,8,90,11,71,8]
["E05011127","Bordesley Green",3576,124,2398,786,24,244,901,391,270,240,1731,29,1155,409,7,131,420,214,66,140,1299,62,870,274,10,83,318,153,82,83,311,18,209,64,3,17,77,20,45,12,235,15,164,39,4,13,86,4,77,5]
["E05011128","Bournbrook & Selly Park",1843,606,347,110,473,307,367,186,118,63,1213,430,191,53,374,165,198,118,47,33,486,118,120,36,85,127,123,60,37,26,96,33,24,16,12,11,28,6,18,4,48,25,12,5,2,4,18,2,16,0]
["E05011129","Bournville & Cotteridge",461,142,89,14,93,123,354,160,148,46,164,44,38,5,37,40,122,71,34,17,214,60,38,8,38,70,163,76,63,24,52,19,11,1,12,9,44,9,31,4,31,19,2,0,6,4,25,4,20,1]
["E05011130","Brandwood & King's Heath",1608,498,792,55,94,169,461,79,302,80,632,164,358,27,24,59,137,32,61,44,675,207,314,23,52,79,192,39,122,31,195,76,79,3,14,23,80,8,68,4,106,51,41,2,4,8,52,0,51,1]
["E05011131","Bromford & Hodge Hill",3425,161,2706,221,45,292,975,365,401,209,1752,65,1403,117,17,150,411,178,125,108,1339,74,1043,90,21,111,392,160,150,82,219,14,171,9,3,22,114,24,75,15,115,8,89,5,4,9,58,3,51,4]
["E05011132","Castle Vale",83,24,25,7,13,14,327,73,191,63,30,5,12,3,2,8,120,36,54,30,36,11,10,2,8,5,146,28,88,30,9,4,2,2,0,1,35,7,25,3,8,4,1,0,3,0,26,2,24,0]
["E05011133","Druids Heath & Monyhull",329,114,103,9,34,69,408,133,213,62,126,33,48,3,10,32,162,67,73,22,157,61,46,5,18,27,177,58,84,35,31,11,6,1,4,9,47,7,37,3,15,9,3,0,2,1,22,1,19,2]
["E05011134","Edgbaston",2364,1165,423,71,356,349,582,254,244,84,1045,468,195,33,201,148,269,148,77,44,902,469,154,25,109,145,216,89,95,32,289,155,51,12,33,38,58,12,40,6,128,73,23,1,13,18,39,5,32,2]
["E05011135","Erdington",724,234,284,62,54,90,774,192,470,112,294,73,138,29,20,34,280,92,140,48,336,122,120,26,24,44,342,91,204,47,65,24,20,7,6,8,85,6,65,14,29,15,6,0,4,4,67,3,61,3]
["E05011136","Frankley Great Park",161,43,43,5,31,39,278,73,157,48,56,11,18,1,9,17,89,35,34,20,81,25,20,2,17,17,130,34,71,25,17,5,3,0,4,5,38,3,32,3,7,2,2,2,1,0,21,1,20,0]
["E05011137","Garretts Green",564,57,327,59,10,111,355,104,183,68,284,26,169,35,3,51,146,55,51,40,238,26,132,19,6,55,135,40,69,26,31,5,16,4,1,5,38,7,29,2,11,0,10,1,0,0,36,2,34,0]
["E05011138","Glebe Farm & Tile Cross",2102,140,1472,127,32,331,914,223,527,164,1077,49,777,73,10,168,366,108,180,78,854,74,577,46,17,140,393,104,214,75,128,13,84,7,4,20,92,11,75,6,43,4,34,1,1,3,63,0,58,5]
["E05011139","Gravelly Hill",1147,154,741,63,49,140,829,169,516,144,550,43,397,32,16,62,272,76,146,50,463,78,276,27,29,53,351,91,192,68,95,26,47,0,4,18,102,2,85,15,39,7,21,4,0,7,104,0,93,11]
["E05011140","Hall Green North",5263,1340,3081,295,53,494,374,121,206,47,2369,395,1584,147,17,226,137,55,60,22,2021,506,1183,124,25,183,148,57,69,22,581,289,206,16,9,61,51,8,41,2,292,150,108,8,2,24,38,1,36,1]
["E05011141","Hall Green South",1388,601,559,52,25,151,87,18,56,13,532,182,252,25,6,67,21,8,8,5,573,250,238,21,12,52,42,10,24,8,193,112,46,4,7,24,14,0,14,0,90,57,23,2,0,8,10,0,10,0]
["E05011142","Handsworth",3463,1387,1263,448,53,312,1157,249,709,199,1431,414,640,236,23,118,422,142,187,93,1286,568,438,142,17,121,440,101,257,82,452,240,111,44,10,47,114,5,97,12,294,165,74,26,3,26,181,1,168,12]
["E05011143","Handsworth Wood",5031,3371,816,204,86,554,1679,275,1150,254,1850,1080,405,109,48,208,565,130,328,107,2002,1383,308,81,22,208,719,126,485,108,806,635,59,10,11,91,250,16,206,28,373,273,44,4,5,47,145,3,131,11]
["E05011144","Harborne",1697,794,245,58,296,304,770,302,318,150,662,246,115,35,152,114,322,153,92,77,789,395,106,18,105,165,353,137,148,68,150,86,14,4,31,15,65,10,50,5,96,67,10,1,8,10,30,2,28,0]
["E05011145","Heartlands",3694,156,2902,285,25,326,680,293,198,189,1897,49,1535,149,10,154,346,178,49,119,1412,75,1081,102,10,144,232,101,76,55,259,24,191,20,2,22,55,10,35,10,126,8,95,14,3,6,47,4,38,5]
["E05011146","Highter's Heath",323,118,127,8,12,58,183,67,104,12,131,37,62,6,6,20,57,33,20,4,159,62,59,2,6,30,87,29,53,5,21,13,6,0,0,2,24,4,17,3,12,6,0,0,0,6,15,1,14,0]
["E05011147","Holyhead",2816,1440,577,480,47,272,1392,183,972,237,1148,468,295,264,19,102,490,95,281,114,1126,594,223,178,24,107,551,81,373,97,331,234,36,25,2,34,149,6,127,16,211,144,23,13,2,29,202,1,191,10]
["E05011148","King's Norton North",220,67,40,20,24,69,274,81,144,49,82,18,13,12,4,35,109,35,49,25,107,32,22,7,17,29,117,35,60,22,24,12,5,0,2,5,28,9,18,1,7,5,0,1,1,0,20,2,17,1]
["E05011149","King's Norton South",212,74,44,17,24,53,388,120,206,62,97,27,24,10,9,27,156,53,71,32,92,39,16,4,9,24,167,53,86,28,16,5,2,2,6,1,43,9,32,2,7,3,2,1,0,1,22,5,17,0]
["E05011150","Kingstanding",686,258,214,55,38,121,839,192,532,115,301,81,108,29,18,65,307,90,153,64,290,123,83,22,17,45,356,91,225,40,66,37,15,2,2,10,100,4,85,11,29,17,8,2,1,1,76,7,69,0]
["E05011151","Ladywood",2417,819,241,66,889,402,2023,736,939,348,1163,290,118,25,554,176,843,384,292,167,1098,460,103,37,294,204,882,313,416,153,108,49,15,4,22,18,166,28,118,20,48,20,5,0,19,4,132,11,113,8]
["E05011152","Longbridge & West Heath",232,62,33,10,48,79,365,150,155,60,95,23,17,5,13,37,130,65,40,25,105,28,10,5,25,37,179,74,71,34,25,8,4,0,8,5,32,7,25,0,7,3,2,0,2,0,24,4,19,1]
["E05011153","Lozells",3287,243,1434,1431,38,141,753,229,391,133,1654,84,691,799,15,65,281,117,100,64,1148,95,529,466,12,46,304,97,156,51,280,36,123,98,4,19,92,8,69,15,205,28,91,68,7,11,76,7,66,3]
["E05011154","Moseley",3312,737,2059,150,74,292,602,146,329,127,1373,176,980,72,24,121,195,74,74,47,1257,343,716,55,36,107,256,59,137,60,433,132,232,15,8,46,89,11,64,14,249,86,131,8,6,18,62,2,54,6]
["E05011155","Nechells",1762,395,572,266,369,160,2172,961,701,510,1162,320,326,144,279,93,1083,534,245,304,482,62,198,84,75,63,818,374,269,175,77,9,33,23,10,2,156,39,95,22,41,4,15,15,5,2,115,14,92,9]
["E05011156","Newtown",1853,567,360,576,149,201,2549,1008,967,574,1286,483,228,345,113,117,1165,546,294,325,461,70,107,187,32,65,1020,421,403,196,65,10,19,24,3,9,207,29,143,35,41,4,6,20,1,10,157,12,127,18]
["E05011157","North Edgbaston",4413,1446,2019,209,199,540,1657,541,764,352,1850,424,988,116,81,241,628,234,192,202,1770,644,746,73,96,211,715,283,309,123,460,205,165,13,13,64,159,18,122,19,333,173,120,7,9,24,155,6,141,8]
["E05011158","Northfield",169,42,21,5,39,62,162,53,70,39,53,14,5,3,7,24,57,21,18,18,82,20,11,1,19,31,76,32,26,18,21,7,5,1,5,3,21,0,20,1,13,1,0,0,8,4,8,0,6,2]
["E05011159","Oscott",608,364,55,81,42,66,743,71,540,132,228,128,17,44,13,26,268,31,168,69,312,189,32,33,25,33,333,35,247,51,43,31,4,2,2,4,91,4,75,12,25,16,2,2,2,3,51,1,50,0]
["E05011160","Perry Barr",2460,1203,606,298,139,214,1465,205,1041,219,1111,434,316,150,106,105,503,95,311,97,1050,565,235,134,26,90,605,94,420,91,194,136,33,10,4,11,228,13,189,26,105,68,22,4,3,8,129,3,121,5]
["E05011161","Perry Common",520,207,148,71,38,56,615,135,390,90,226,70,77,39,14,26,217,65,99,53,224,92,59,27,22,24,262,59,175,28,49,30,10,3,1,5,88,9,72,7,21,15,2,2,1,1,48,2,44,2]
["E05011162","Pype Hayes",468,140,162,21,79,66,416,80,267,69,200,50,82,11,28,29,167,43,92,32,218,67,69,9,39,34,169,32,107,30,38,18,7,1,11,1,52,4,43,5,12,5,4,0,1,2,28,1,25,2]
["E05011163","Quinton",1512,889,217,43,116,247,753,210,439,104,535,278,101,25,43,88,282,100,132,50,678,416,85,15,49,113,324,98,180,46,212,131,22,3,21,35,95,11,77,7,87,64,9,0,3,11,52,1,50,1]
["E05011164","Rubery & Rednal",79,25,17,1,14,22,161,39,77,45,25,4,10,1,3,7,48,13,14,21,40,16,6,0,8,10,88,23,45,20,13,4,1,0,3,5,20,3,15,2,1,1,0,0,0,0,5,0,3,2]
["E05011165","Shard End",193,17,116,14,8,38,302,54,189,59,87,4,66,6,5,6,103,26,52,25,85,9,45,4,2,25,135,23,79,33,16,2,3,3,1,7,39,5,33,1,5,2,2,1,0,0,25,0,25,0]
["E05011166","Sheldon",786,179,348,131,40,88,273,85,159,29,327,57,165,61,16,28,87,42,34,11,354,89,142,62,15,46,131,38,76,17,64,20,22,5,5,12,31,2,28,1,41,13,19,3,4,2,24,3,21,0]
["E05011167","Small Heath",7603,254,5450,1377,19,503,994,457,243,294,3664,83,2604,726,8,243,527,293,49,185,2662,103,1907,484,5,163,304,144,66,94,742,40,539,103,3,57,63,13,39,11,535,28,400,64,3,40,100,7,89,4]
["E05011168","Soho & Jewellery Quarter",3594,1515,1073,276,279,451,2937,659,1721,557,1488,456,534,153,148,197,1118,330,498,290,1504,695,407,100,114,188,1251,298,727,226,351,207,77,17,10,40,313,24,254,35,251,157,55,6,7,26,255,7,242,6]
["E05011169","South Yardley",841,247,449,75,23,47,180,41,103,36,370,83,222,41,9,15,56,18,26,12,356,106,183,33,11,23,83,21,47,15,84,40,36,1,1,6,22,2,14,6,31,18,8,0,2,3,19,0,16,3]
["E05011170","Sparkbrook & Balsall Heath East",8331,664,5781,1319,67,500,1130,391,424,315,4033,182,2863,695,30,263,485,191,114,180,2985,236,2098,466,21,164,413,163,148,102,800,135,521,106,5,33,116,28,65,23,513,111,299,52,11,40,116,9,97,10]
["E05011171","Sparkhill",7735,857,5751,455,51,621,528,192,232,104,3595,232,2800,228,24,311,223,104,57,62,2797,308,2093,169,20,207,185,75,76,34,839,184,540,42,7,66,50,12,33,5,504,133,318,16,0,37,70,1,66,3]
["E05011172","Stirchley",632,159,206,137,46,84,246,77,126,43,280,50,105,75,20,30,67,26,28,13,266,64,82,56,18,46,118,41,54,23,56,29,14,3,5,5,36,9,20,7,30,16,5,3,3,3,25,1,24,0]
["E05011173","Stockland Green",1792,418,900,144,136,194,1747,341,1101,305,793,129,444,74,55,91,593,164,310,119,759,195,367,60,59,78,793,160,481,152,156,59,61,6,16,14,204,14,167,23,84,35,28,4,6,11,157,3,143,11]
["E05011174","Sutton Four Oaks",381,291,40,6,8,36,58,20,31,7,126,93,21,1,0,11,18,8,7,3,154,120,10,5,4,15,25,9,13,3,68,49,7,0,4,8,14,3,10,1,33,29,2,0,0,2,1,0,1,0]
["E05011175","Sutton Mere Green",281,183,44,11,14,29,70,18,44,8,101,68,20,3,3,7,30,7,16,7,125,78,17,6,8,16,30,7,22,1,38,25,5,1,3,4,9,3,6,0,17,12,2,1,0,2,1,1,0,0]
["E05011176","Sutton Reddicap",256,139,52,10,18,37,144,29,85,30,105,49,26,7,6,17,50,12,26,12,111,67,19,2,9,14,65,13,34,18,25,13,6,1,1,4,19,3,16,0,15,10,1,0,2,2,10,1,9,0]
["E05011177","Sutton Roughley",373,219,54,5,33,62,84,17,60,7,127,71,26,0,8,22,30,7,20,3,187,110,26,3,20,28,46,9,33,4,43,25,2,2,4,10,5,1,4,0,16,13,0,0,1,2,3,0,3,0]
["E05011178","Sutton Trinity",244,126,47,9,35,27,50,6,31,13,92,44,23,4,14,7,12,0,5,7,124,63,18,5,20,18,25,5,15,5,20,12,5,0,1,2,9,1,7,1,8,7,1,0,0,0,4,0,4,0]
["E05011179","Sutton Vesey",838,456,172,34,64,112,295,35,232,28,301,148,73,18,23,39,83,14,60,9,375,211,74,13,30,47,131,13,103,15,110,65,16,3,10,16,68,8,58,2,52,32,9,0,1,10,13,0,11,2]
["E05011180","Sutton Walmley & Minworth",455,269,59,3,65,59,162,34,109,19,140,73,27,0,22,18,43,17,25,1,217,135,20,2,31,29,82,13,54,15,71,44,7,1,10,9,22,1,19,2,27,17,5,0,2,3,15,3,11,1]
["E05011181","Sutton Wylde Green",410,211,110,23,37,29,87,14,59,14,158,73,51,13,14,7,23,3,14,6,161,91,42,8,7,13,40,10,23,7,55,26,10,1,12,6,16,1,14,1,36,21,7,1,4,3,8,0,8,0]
["E05011182","Tyseley & Hay Mills",1943,283,1141,341,17,161,328,82,179,67,1006,122,611,184,6,83,121,39,45,37,789,130,465,129,6,59,140,40,73,27,94,24,45,16,2,7,32,3,27,2,54,7,20,12,3,12,35,0,34,1]
["E05011183","Ward End",3901,133,3162,212,28,366,487,204,180,103,2097,58,1708,113,11,207,200,102,53,45,1414,56,1137,83,12,126,185,92,52,41,229,17,183,10,4,15,56,9,37,10,161,2,134,6,1,18,46,1,38,7]
["E05011184","Weoley & Selly Oak",1281,407,183,53,261,377,704,281,305,118,506,134,87,27,103,155,285,137,86,62,627,210,77,17,129,194,315,129,137,49,102,42,14,6,19,21,73,12,55,6,46,21,5,3,10,7,31,3,27,1]
["E05011185","Yardley East",826,154,547,50,15,60,196,67,103,26,397,47,290,26,8,26,72,39,22,11,309,58,200,21,5,25,88,27,47,14,78,34,36,1,1,6,17,0,17,0,42,15,21,2,1,3,19,1,17,1]
["E05011186","Yardley West & Stechford",2104,231,1416,198,23,236,442,130,227,85,1063,86,748,109,13,107,173,74,52,47,826,107,542,76,5,96,174,51,92,31,140,26,80,10,2,22,49,3,41,5,75,12,46,3,3,11,46,2,42,2]

{"sheet":"All3","index":9,"n_rows":71,"n_cols":17,"rows_kept":71,"cut":false,"hidden":true,"merged":[]}
[null,1,{"$f":"B1+1","v":2},3,4,5,6,7,8,9,10,11,12,13,14,15,16]
["ZONEID","ZoneName","LC2101EW0022:All categories: Sex, All categories: Age, Other ethnic group: Total","LC2101EW0023:All categories: Sex, All categories: Age, Other ethnic group: Arab","LC2101EW0024:All categories: Sex, All categories: Age, Other ethnic group: Any other ethnic group","LC2101EW0046:All categories: Sex, Age 0 to 24, Other ethnic group: Total","LC2101EW0047:All categories: Sex, Age 0 to 24, Other ethnic group: Arab","LC2101EW0048:All categories: Sex, Age 0 to 24, Other ethnic group: Any other ethnic group","LC2101EW0070:All categories: Sex, Age 25 to 49, Other ethnic group: Total","LC2101EW0071:All categories: Sex, Age 25 to 49, Other ethnic group: Arab","LC2101EW0072:All categories: Sex, Age 25 to 49, Other ethnic group: Any other ethnic group","LC2101EW0094:All categories: Sex, Age 50 to 64, Other ethnic group: Total","LC2101EW0095:All categories: Sex, Age 50 to 64, Other ethnic group: Arab","LC2101EW0096:All categories: Sex, Age 50 to 64, Other ethnic group: Any other ethnic group","LC2101EW0118:All categories: Sex, Age 65 and over, Other ethnic group: Total","LC2101EW0119:All categories: Sex, Age 65 and over, Other ethnic group: Arab","LC2101EW0120:All categories: Sex, Age 65 and over, Other ethnic group: Any other ethnic group"]
["E05011118","Acocks Green",267,143,124,122,75,47,113,53,60,19,7,12,13,8,5]
["E05011119","Allens Cross",97,37,60,41,20,21,43,12,31,9,3,6,4,2,2]
["E05011120","Alum Rock",436,252,184,242,149,93,172,87,85,13,9,4,9,7,2]
["E05011121","Aston",329,126,203,165,83,82,129,36,93,21,6,15,14,1,13]
["E05011122","Balsall Heath West",1698,1500,198,982,894,88,502,427,75,101,86,15,113,93,20]
["E05011123","Bartley Green",181,71,110,83,34,49,87,30,57,10,7,3,1,0,1]
["E05011124","Billesley",227,120,107,94,51,43,95,52,43,25,8,17,13,9,4]
["E05011125","Birchfield",254,77,177,108,42,66,112,29,83,23,5,18,11,1,10]
["E05011126","Bordesley & Highgate",806,524,282,438,313,125,331,186,145,28,17,11,9,8,1]
["E05011127","Bordesley Green",595,384,211,338,218,120,217,135,82,23,17,6,17,14,3]
["E05011128","Bournbrook & Selly Park",306,137,169,186,77,109,105,51,54,13,8,5,2,1,1]
["E05011129","Bournville & Cotteridge",174,76,98,79,39,40,69,26,43,21,10,11,5,1,4]
["E05011130","Brandwood & King's Heath",221,81,140,93,34,59,85,38,47,28,4,24,15,5,10]
["E05011131","Bromford & Hodge Hill",247,146,101,140,84,56,89,55,34,12,4,8,6,3,3]
["E05011132","Castle Vale",54,14,40,21,9,12,23,3,20,5,1,4,5,1,4]
["E05011133","Druids Heath & Monyhull",143,51,92,70,33,37,59,16,43,7,1,6,7,1,6]
["E05011134","Edgbaston",536,217,319,232,102,130,225,91,134,53,18,35,26,6,20]
["E05011135","Erdington",112,35,77,33,12,21,61,19,42,10,2,8,8,2,6]
["E05011136","Frankley Great Park",46,7,39,21,3,18,16,3,13,7,0,7,2,1,1]
["E05011137","Garretts Green",41,9,32,16,5,11,17,4,13,4,0,4,4,0,4]
["E05011138","Glebe Farm & Tile Cross",215,77,138,109,45,64,95,30,65,7,1,6,4,1,3]
["E05011139","Gravelly Hill",143,40,103,73,21,52,54,16,38,13,3,10,3,0,3]
["E05011140","Hall Green North",494,208,286,224,106,118,175,77,98,49,16,33,46,9,37]
["E05011141","Hall Green South",155,43,112,66,23,43,62,16,46,20,4,16,7,0,7]
["E05011142","Handsworth",432,62,370,180,25,155,185,35,150,35,1,34,32,1,31]
["E05011143","Handsworth Wood",781,54,727,295,30,265,291,16,275,125,5,120,70,3,67]
["E05011144","Harborne",454,204,250,177,92,85,235,100,135,32,9,23,10,3,7]
["E05011145","Heartlands",381,207,174,208,122,86,151,78,73,12,4,8,10,3,7]
["E05011146","Highter's Heath",71,28,43,29,12,17,32,12,20,6,2,4,4,2,2]
["E05011147","Holyhead",439,37,402,160,19,141,199,15,184,44,2,42,36,1,35]
["E05011148","King's Norton North",117,49,68,65,35,30,40,13,27,11,1,10,1,0,1]
["E05011149","King's Norton South",95,49,46,59,38,21,31,10,21,4,0,4,1,1,0]
["E05011150","Kingstanding",91,20,71,35,8,27,43,8,35,11,4,7,2,0,2]
["E05011151","Ladywood",967,453,514,434,204,230,488,235,253,37,11,26,8,3,5]
["E05011152","Longbridge & West Heath",83,35,48,24,11,13,41,19,22,15,4,11,3,1,2]
["E05011153","Lozells",157,63,94,93,42,51,53,17,36,7,2,5,4,2,2]
["E05011154","Moseley",701,432,269,325,224,101,273,162,111,57,26,31,46,20,26]
["E05011155","Nechells",499,201,298,286,136,150,194,58,136,12,4,8,7,3,4]
["E05011156","Newtown",401,185,216,234,118,116,151,63,88,10,3,7,6,1,5]
["E05011157","North Edgbaston",853,307,546,342,157,185,383,123,260,78,15,63,50,12,38]
["E05011158","Northfield",52,16,36,18,9,9,29,7,22,5,0,5,0,0,0]
["E05011159","Oscott",62,8,54,20,4,16,31,4,27,9,0,9,2,0,2]
["E05011160","Perry Barr",219,32,187,92,15,77,92,16,76,28,0,28,7,1,6]
["E05011161","Perry Common",60,12,48,27,7,20,23,4,19,8,1,7,2,0,2]
["E05011162","Pype Hayes",81,43,38,34,22,12,32,16,16,13,5,8,2,0,2]
["E05011163","Quinton",385,110,275,147,50,97,178,54,124,45,3,42,15,3,12]
["E05011164","Rubery & Rednal",22,5,17,6,0,6,13,4,9,0,0,0,3,1,2]
["E05011165","Shard End",52,27,25,26,19,7,26,8,18,0,0,0,0,0,0]
["E05011166","Sheldon",113,54,59,55,28,27,44,21,23,10,2,8,4,3,1]
["E05011167","Small Heath",913,587,326,560,374,186,285,171,114,32,20,12,36,22,14]
["E05011168","Soho & Jewellery Quarter",683,123,560,254,59,195,362,61,301,43,1,42,24,2,22]
["E05011169","South Yardley",119,72,47,54,39,15,45,24,21,13,7,6,7,2,5]
["E05011170","Sparkbrook & Balsall Heath East",2151,1825,326,1241,1083,158,647,517,130,146,122,24,117,103,14]
["E05011171","Sparkhill",681,411,270,347,247,100,243,128,115,51,20,31,40,16,24]
["E05011172","Stirchley",85,47,38,45,29,16,33,13,20,5,4,1,2,1,1]
["E05011173","Stockland Green",215,62,153,105,36,69,83,23,60,15,2,13,12,1,11]
["E05011174","Sutton Four Oaks",101,15,86,40,5,35,36,4,32,14,5,9,11,1,10]
["E05011175","Sutton Mere Green",20,5,15,5,2,3,9,3,6,5,0,5,1,0,1]
["E05011176","Sutton Reddicap",32,13,19,13,7,6,14,6,8,3,0,3,2,0,2]
["E05011177","Sutton Roughley",53,7,46,20,4,16,24,3,21,5,0,5,4,0,4]
["E05011178","Sutton Trinity",29,8,21,9,3,6,11,4,7,6,1,5,3,0,3]
["E05011179","Sutton Vesey",120,38,82,53,18,35,45,12,33,15,7,8,7,1,6]
["E05011180","Sutton Walmley & Minworth",67,27,40,19,8,11,35,18,17,9,1,8,4,0,4]
["E05011181","Sutton Wylde Green",60,12,48,22,6,16,27,6,21,9,0,9,2,0,2]
["E05011182","Tyseley & Hay Mills",198,120,78,107,70,37,81,46,35,8,3,5,2,1,1]
["E05011183","Ward End",209,109,100,105,65,40,91,40,51,8,3,5,5,1,4]
["E05011184","Weoley & Selly Oak",475,237,238,206,106,100,218,114,104,36,16,20,15,1,14]
["E05011185","Yardley East",76,32,44,36,17,19,27,11,16,8,1,7,5,3,2]
["E05011186","Yardley West & Stechford",172,92,80,82,53,29,79,35,44,10,4,6,1,0,1]

{"sheet":"male3","index":10,"n_rows":71,"n_cols":17,"rows_kept":71,"cut":false,"hidden":true,"merged":[]}
[null,1,{"$f":"B1+1","v":2},3,4,5,6,7,8,9,10,11,12,13,14,15,16]
["ZONEID","ZoneName","LC2101EW0142:Males, All categories: Age, Other ethnic group: Total","LC2101EW0143:Males, All categories: Age, Other ethnic group: Arab","LC2101EW0144:Males, All categories: Age, Other ethnic group: Any other ethnic group","LC2101EW0166:Males, Age 0 to 24, Other ethnic group: Total","LC2101EW0167:Males, Age 0 to 24, Other ethnic group: Arab","LC2101EW0168:Males, Age 0 to 24, Other ethnic group: Any other ethnic group","LC2101EW0190:Males, Age 25 to 49, Other ethnic group: Total","LC2101EW0191:Males, Age 25 to 49, Other ethnic group: Arab","LC2101EW0192:Males, Age 25 to 49, Other ethnic group: Any other ethnic group","LC2101EW0214:Males, Age 50 to 64, Other ethnic group: Total","LC2101EW0215:Males, Age 50 to 64, Other ethnic group: Arab","LC2101EW0216:Males, Age 50 to 64, Other ethnic group: Any other ethnic group","LC2101EW0238:Males, Age 65 and over, Other ethnic group: Total","LC2101EW0239:Males, Age 65 and over, Other ethnic group: Arab","LC2101EW0240:Males, Age 65 and over, Other ethnic group: Any other ethnic group"]
["E05011118","Acocks Green",151,76,75,68,37,31,61,28,33,14,4,10,8,7,1]
["E05011119","Allens Cross",43,18,25,17,9,8,23,7,16,1,1,0,2,1,1]
["E05011120","Alum Rock",219,124,95,111,67,44,96,49,47,8,5,3,4,3,1]
["E05011121","Aston",194,64,130,87,41,46,85,20,65,15,3,12,7,0,7]
["E05011122","Balsall Heath West",897,793,104,510,466,44,265,226,39,55,45,10,67,56,11]
["E05011123","Bartley Green",92,39,53,39,16,23,47,17,30,6,6,0,0,0,0]
["E05011124","Billesley",109,59,50,44,22,22,45,27,18,12,4,8,8,6,2]
["E05011125","Birchfield",171,49,122,65,26,39,84,20,64,15,2,13,7,1,6]
["E05011126","Bordesley & Highgate",462,294,168,245,180,65,197,101,96,15,8,7,5,5,0]
["E05011127","Bordesley Green",325,214,111,169,109,60,136,88,48,8,6,2,12,11,1]
["E05011128","Bournbrook & Selly Park",163,82,81,88,43,45,65,32,33,9,6,3,1,1,0]
["E05011129","Bournville & Cotteridge",86,35,51,38,18,20,31,11,20,13,5,8,4,1,3]
["E05011130","Brandwood & King's Heath",119,47,72,52,18,34,45,22,23,14,2,12,8,5,3]
["E05011131","Bromford & Hodge Hill",132,86,46,75,51,24,47,30,17,7,3,4,3,2,1]
["E05011132","Castle Vale",27,9,18,7,4,3,14,3,11,2,1,1,4,1,3]
["E05011133","Druids Heath & Monyhull",87,29,58,42,16,26,35,11,24,6,1,5,4,1,3]
["E05011134","Edgbaston",314,131,183,133,58,75,138,60,78,29,9,20,14,4,10]
["E05011135","Erdington",67,20,47,18,8,10,38,9,29,5,1,4,6,2,4]
["E05011136","Frankley Great Park",24,4,20,9,3,6,9,1,8,5,0,5,1,0,1]
["E05011137","Garretts Green",23,4,19,6,1,5,13,3,10,2,0,2,2,0,2]
["E05011138","Glebe Farm & Tile Cross",131,45,86,65,28,37,60,15,45,4,1,3,2,1,1]
["E05011139","Gravelly Hill",76,18,58,34,8,26,33,7,26,8,3,5,1,0,1]
["E05011140","Hall Green North",242,108,134,108,58,50,83,34,49,28,10,18,23,6,17]
["E05011141","Hall Green South",78,19,59,32,12,20,34,6,28,9,1,8,3,0,3]
["E05011142","Handsworth",285,47,238,119,21,98,130,24,106,19,1,18,17,1,16]
["E05011143","Handsworth Wood",410,31,379,159,17,142,159,9,150,62,3,59,30,2,28]
["E05011144","Harborne",252,113,139,87,48,39,138,56,82,23,7,16,4,2,2]
["E05011145","Heartlands",196,96,100,97,48,49,89,45,44,5,1,4,5,2,3]
["E05011146","Highter's Heath",41,16,25,18,6,12,19,8,11,1,0,1,3,2,1]
["E05011147","Holyhead",255,22,233,92,10,82,124,10,114,20,1,19,19,1,18]
["E05011148","King's Norton North",65,29,36,31,19,12,27,9,18,7,1,6,0,0,0]
["E05011149","King's Norton South",43,22,21,25,15,10,17,7,10,1,0,1,0,0,0]
["E05011150","Kingstanding",52,12,40,20,4,16,25,5,20,6,3,3,1,0,1]
["E05011151","Ladywood",658,316,342,288,139,149,343,170,173,21,5,16,6,2,4]
["E05011152","Longbridge & West Heath",45,24,21,13,7,6,25,14,11,7,3,4,0,0,0]
["E05011153","Lozells",91,34,57,51,22,29,31,8,23,5,2,3,4,2,2]
["E05011154","Moseley",393,234,159,166,106,60,172,104,68,33,14,19,22,10,12]
["E05011155","Nechells",261,107,154,140,66,74,110,37,73,8,2,6,3,2,1]
["E05011156","Newtown",227,99,128,127,61,66,92,36,56,6,2,4,2,0,2]
["E05011157","North Edgbaston",492,178,314,181,80,101,240,80,160,40,8,32,31,10,21]
["E05011158","Northfield",27,7,20,8,4,4,15,3,12,4,0,4,0,0,0]
["E05011159","Oscott",31,3,28,6,0,6,19,3,16,4,0,4,2,0,2]
["E05011160","Perry Barr",124,16,108,48,6,42,59,9,50,13,0,13,4,1,3]
["E05011161","Perry Common",37,8,29,15,4,11,16,3,13,4,1,3,2,0,2]
["E05011162","Pype Hayes",42,22,20,19,12,7,15,7,8,7,3,4,1,0,1]
["E05011163","Quinton",198,64,134,79,28,51,95,33,62,16,1,15,8,2,6]
["E05011164","Rubery & Rednal",11,4,7,2,0,2,8,3,5,0,0,0,1,1,0]
["E05011165","Shard End",26,11,15,10,7,3,16,4,12,0,0,0,0,0,0]
["E05011166","Sheldon",61,31,30,32,18,14,21,10,11,5,1,4,3,2,1]
["E05011167","Small Heath",459,293,166,273,181,92,153,94,59,12,6,6,21,12,9]
["E05011168","Soho & Jewellery Quarter",412,67,345,139,36,103,236,30,206,21,0,21,16,1,15]
["E05011169","South Yardley",60,34,26,27,18,9,24,12,12,5,3,2,4,1,3]
["E05011170","Sparkbrook & Balsall Heath East",1140,957,183,620,536,84,378,302,76,73,56,17,69,63,6]
["E05011171","Sparkhill",367,217,150,171,125,46,148,71,77,24,9,15,24,12,12]
["E05011172","Stirchley",45,28,17,27,19,8,15,6,9,2,2,0,1,1,0]
["E05011173","Stockland Green",125,41,84,60,25,35,52,14,38,7,1,6,6,1,5]
["E05011174","Sutton Four Oaks",53,9,44,26,3,23,14,2,12,7,3,4,6,1,5]
["E05011175","Sutton Mere Green",7,2,5,2,1,1,3,1,2,2,0,2,0,0,0]
["E05011176","Sutton Reddicap",16,7,9,8,4,4,6,3,3,1,0,1,1,0,1]
["E05011177","Sutton Roughley",29,5,24,13,3,10,11,2,9,3,0,3,2,0,2]
["E05011178","Sutton Trinity",13,4,9,5,1,4,4,2,2,3,1,2,1,0,1]
["E05011179","Sutton Vesey",61,21,40,25,9,16,26,8,18,8,4,4,2,0,2]
["E05011180","Sutton Walmley & Minworth",36,16,20,8,4,4,20,11,9,6,1,5,2,0,2]
["E05011181","Sutton Wylde Green",32,7,25,9,3,6,18,4,14,3,0,3,2,0,2]
["E05011182","Tyseley & Hay Mills",109,69,40,54,36,18,47,29,18,6,3,3,2,1,1]
["E05011183","Ward End",116,51,65,51,30,21,56,18,38,5,2,3,4,1,3]
["E05011184","Weoley & Selly Oak",275,141,134,118,58,60,129,73,56,20,10,10,8,0,8]
["E05011185","Yardley East",28,12,16,12,7,5,9,3,6,4,1,3,3,1,2]
["E05011186","Yardley West & Stechford",81,42,39,31,19,12,43,21,22,6,2,4,1,0,1]

{"sheet":"female3","index":11,"n_rows":71,"n_cols":17,"rows_kept":71,"cut":false,"hidden":true,"merged":[]}
[null,1,{"$f":"B1+1","v":2},3,4,5,6,7,8,9,10,11,12,13,14,15,16]
["ZONEID","ZoneName","LC2101EW0262:Females, All categories: Age, Other ethnic group: Total","LC2101EW0263:Females, All categories: Age, Other ethnic group: Arab","LC2101EW0264:Females, All categories: Age, Other ethnic group: Any other ethnic group","LC2101EW0286:Females, Age 0 to 24, Other ethnic group: Total","LC2101EW0287:Females, Age 0 to 24, Other ethnic group: Arab","LC2101EW0288:Females, Age 0 to 24, Other ethnic group: Any other ethnic group","LC2101EW0310:Females, Age 25 to 49, Other ethnic group: Total","LC2101EW0311:Females, Age 25 to 49, Other ethnic group: Arab","LC2101EW0312:Females, Age 25 to 49, Other ethnic group: Any other ethnic group","LC2101EW0334:Females, Age 50 to 64, Other ethnic group: Total","LC2101EW0335:Females, Age 50 to 64, Other ethnic group: Arab","LC2101EW0336:Females, Age 50 to 64, Other ethnic group: Any other ethnic group","LC2101EW0358:Females, Age 65 and over, Other ethnic group: Total","LC2101EW0359:Females, Age 65 and over, Other ethnic group: Arab","LC2101EW0360:Females, Age 65 and over, Other ethnic group: Any other ethnic group"]
["E05011118","Acocks Green",116,67,49,54,38,16,52,25,27,5,3,2,5,1,4]
["E05011119","Allens Cross",54,19,35,24,11,13,20,5,15,8,2,6,2,1,1]
["E05011120","Alum Rock",217,128,89,131,82,49,76,38,38,5,4,1,5,4,1]
["E05011121","Aston",135,62,73,78,42,36,44,16,28,6,3,3,7,1,6]
["E05011122","Balsall Heath West",801,707,94,472,428,44,237,201,36,46,41,5,46,37,9]
["E05011123","Bartley Green",89,32,57,44,18,26,40,13,27,4,1,3,1,0,1]
["E05011124","Billesley",118,61,57,50,29,21,50,25,25,13,4,9,5,3,2]
["E05011125","Birchfield",83,28,55,43,16,27,28,9,19,8,3,5,4,0,4]
["E05011126","Bordesley & Highgate",344,230,114,193,133,60,134,85,49,13,9,4,4,3,1]
["E05011127","Bordesley Green",270,170,100,169,109,60,81,47,34,15,11,4,5,3,2]
["E05011128","Bournbrook & Selly Park",143,55,88,98,34,64,40,19,21,4,2,2,1,0,1]
["E05011129","Bournville & Cotteridge",88,41,47,41,21,20,38,15,23,8,5,3,1,0,1]
["E05011130","Brandwood & King's Heath",102,34,68,41,16,25,40,16,24,14,2,12,7,0,7]
["E05011131","Bromford & Hodge Hill",115,60,55,65,33,32,42,25,17,5,1,4,3,1,2]
["E05011132","Castle Vale",27,5,22,14,5,9,9,0,9,3,0,3,1,0,1]
["E05011133","Druids Heath & Monyhull",56,22,34,28,17,11,24,5,19,1,0,1,3,0,3]
["E05011134","Edgbaston",222,86,136,99,44,55,87,31,56,24,9,15,12,2,10]
["E05011135","Erdington",45,15,30,15,4,11,23,10,13,5,1,4,2,0,2]
["E05011136","Frankley Great Park",22,3,19,12,0,12,7,2,5,2,0,2,1,1,0]
["E05011137","Garretts Green",18,5,13,10,4,6,4,1,3,2,0,2,2,0,2]
["E05011138","Glebe Farm & Tile Cross",84,32,52,44,17,27,35,15,20,3,0,3,2,0,2]
["E05011139","Gravelly Hill",67,22,45,39,13,26,21,9,12,5,0,5,2,0,2]
["E05011140","Hall Green North",252,100,152,116,48,68,92,43,49,21,6,15,23,3,20]
["E05011141","Hall Green South",77,24,53,34,11,23,28,10,18,11,3,8,4,0,4]
["E05011142","Handsworth",147,15,132,61,4,57,55,11,44,16,0,16,15,0,15]
["E05011143","Handsworth Wood",371,23,348,136,13,123,132,7,125,63,2,61,40,1,39]
["E05011144","Harborne",202,91,111,90,44,46,97,44,53,9,2,7,6,1,5]
["E05011145","Heartlands",185,111,74,111,74,37,62,33,29,7,3,4,5,1,4]
["E05011146","Highter's Heath",30,12,18,11,6,5,13,4,9,5,2,3,1,0,1]
["E05011147","Holyhead",184,15,169,68,9,59,75,5,70,24,1,23,17,0,17]
["E05011148","King's Norton North",52,20,32,34,16,18,13,4,9,4,0,4,1,0,1]
["E05011149","King's Norton South",52,27,25,34,23,11,14,3,11,3,0,3,1,1,0]
["E05011150","Kingstanding",39,8,31,15,4,11,18,3,15,5,1,4,1,0,1]
["E05011151","Ladywood",309,137,172,146,65,81,145,65,80,16,6,10,2,1,1]
["E05011152","Longbridge & West Heath",38,11,27,11,4,7,16,5,11,8,1,7,3,1,2]
["E05011153","Lozells",66,29,37,42,20,22,22,9,13,2,0,2,0,0,0]
["E05011154","Moseley",308,198,110,159,118,41,101,58,43,24,12,12,24,10,14]
["E05011155","Nechells",238,94,144,146,70,76,84,21,63,4,2,2,4,1,3]
["E05011156","Newtown",174,86,88,107,57,50,59,27,32,4,1,3,4,1,3]
["E05011157","North Edgbaston",361,129,232,161,77,84,143,43,100,38,7,31,19,2,17]
["E05011158","Northfield",25,9,16,10,5,5,14,4,10,1,0,1,0,0,0]
["E05011159","Oscott",31,5,26,14,4,10,12,1,11,5,0,5,0,0,0]
["E05011160","Perry Barr",95,16,79,44,9,35,33,7,26,15,0,15,3,0,3]
["E05011161","Perry Common",23,4,19,12,3,9,7,1,6,4,0,4,0,0,0]
["E05011162","Pype Hayes",39,21,18,15,10,5,17,9,8,6,2,4,1,0,1]
["E05011163","Quinton",187,46,141,68,22,46,83,21,62,29,2,27,7,1,6]
["E05011164","Rubery & Rednal",11,1,10,4,0,4,5,1,4,0,0,0,2,0,2]
["E05011165","Shard End",26,16,10,16,12,4,10,4,6,0,0,0,0,0,0]
["E05011166","Sheldon",52,23,29,23,10,13,23,11,12,5,1,4,1,1,0]
["E05011167","Small Heath",454,294,160,287,193,94,132,77,55,20,14,6,15,10,5]
["E05011168","Soho & Jewellery Quarter",271,56,215,115,23,92,126,31,95,22,1,21,8,1,7]
["E05011169","South Yardley",59,38,21,27,21,6,21,12,9,8,4,4,3,1,2]
["E05011170","Sparkbrook & Balsall Heath East",1011,868,143,621,547,74,269,215,54,73,66,7,48,40,8]
["E05011171","Sparkhill",314,194,120,176,122,54,95,57,38,27,11,16,16,4,12]
["E05011172","Stirchley",40,19,21,18,10,8,18,7,11,3,2,1,1,0,1]
["E05011173","Stockland Green",90,21,69,45,11,34,31,9,22,8,1,7,6,0,6]
["E05011174","Sutton Four Oaks",48,6,42,14,2,12,22,2,20,7,2,5,5,0,5]
["E05011175","Sutton Mere Green",13,3,10,3,1,2,6,2,4,3,0,3,1,0,1]
["E05011176","Sutton Reddicap",16,6,10,5,3,2,8,3,5,2,0,2,1,0,1]
["E05011177","Sutton Roughley",24,2,22,7,1,6,13,1,12,2,0,2,2,0,2]
["E05011178","Sutton Trinity",16,4,12,4,2,2,7,2,5,3,0,3,2,0,2]
["E05011179","Sutton Vesey",59,17,42,28,9,19,19,4,15,7,3,4,5,1,4]
["E05011180","Sutton Walmley & Minworth",31,11,20,11,4,7,15,7,8,3,0,3,2,0,2]
["E05011181","Sutton Wylde Green",28,5,23,13,3,10,9,2,7,6,0,6,0,0,0]
["E05011182","Tyseley & Hay Mills",89,51,38,53,34,19,34,17,17,2,0,2,0,0,0]
["E05011183","Ward End",93,58,35,54,35,19,35,22,13,3,1,2,1,0,1]
["E05011184","Weoley & Selly Oak",200,96,104,88,48,40,89,41,48,16,6,10,7,1,6]
["E05011185","Yardley East",48,20,28,24,10,14,18,8,10,4,0,4,2,2,0]
["E05011186","Yardley West & Stechford",91,50,41,51,34,17,36,14,22,4,2,2,0,0,0]

{"sheet":"Introduction","index":12,"n_rows":41,"n_cols":7,"rows_kept":41,"cut":false,"hidden":false,"merged":[]}
["2011 Census: Key Statistics for Birmingham and it's constituent areas"]
["LC2101 Ethnic group by sex and age"]
[null,null,null,null,null,null,"BCC interim estimates - 2011 Local Characteristics for 2018 wards"]
[]
["This table is part of the 'Key Statistics for local authorities and local areas in England and Wales', the first release of the key statistics that add detail"]
["to the population estimates from the 2011 Census of Population for England and Wales that were published in July 2012. "]
[]
["This workbook provides Key Statistics for Birmingham Constituencies, wards and other selected areas wards as at "]
["3rd May 2018"]
[]
["Wards are based on 'Best Fit' approximations calculated by Birmingham city council."]
["Results for Birmingham wards are based on allocation of whole Census Output Areas."]
["Data for any Census Output Area that is split by a new ward boundary are allocated to the ward that contains the greatest"]
["share of its population."]
[]
["Notes and Definitions"]
["1. The main population base for outputs from the 2011 Census is the usual resident population as at census day (27 March 2011). "]
["Although the population base for enumeration included non-UK short-term residents, these are not included in the main outputs from the "]
["2011 Census, but are analysed separately. All outputs, unless specified, are produced using only usual residents of the UK. "]
["For 2011 Census purposes, a usual resident of the UK is anyone who, on census day, was in the UK and had stayed or intended to "]
["stay in the UK for a period of 12 months or more, or had a permanent UK address and was outside the UK and intended to be outside "]
["the UK for less than 12 months."]
["2. Further information about the census estimates, including details about the methodology used, information about data quality and a "]
["range of supporting information are available on the ONS website at"]
["http://www.ons.gov.uk/census"]
[]
["Terms and Conditions"]
["1. All material on the Office for National Statistics (ONS) website is subject to Crown Copyright protection unless otherwise indicated."]
["2. These statistics may be used, excluding logos, under the terms of the Open Government Licence. "]
["http://www.nationalarchives.gov.uk/doc/open-government-licence/"]
[]
["Source: Office for National Statistics   © Crown Copyright 2018"]
[]
[]
["Transportation & Connectivity"]
["Economy Directorate"]
["wwww.birmingham.gov.uk/census"]
["brenda.henry@birmingham.gov.uk"]
["0121 303 4208"]
[]
["3rd May 2018"]

{"sheet":"Acocks Green","index":13,"n_rows":33,"n_cols":20,"rows_kept":33,"cut":false,"hidden":false,"merged":[[24,0,26,0],[24,1,24,19],[25,1,26,1],[25,2,25,5],[25,6,25,9],[25,10,25,14],[25,15,25,17],[25,18,25,19],[14,0,16,0],[14,1,14,19],[15,1,16,1],[15,2,15,5],[15,6,15,9],[15,10,15,14],[15,15,15,17],[15,18,15,19],[4,0,6,0],[4,1,4,19],[5,1,6,1],[5,2,5,5],[5,6,5,9],[5,10,5,14],[5,15,5,17],[5,18,5,19]]}
["2011 Census Local Characteristics: Table LC2101EW Ethnic group by sex by age"]
[{"$f":"'2018wards'!A2","v":"Acocks Green"},null,null,null,null,null,null,null,null,null,null,null,null,null,"BCC estimates for 2018 wards"]
[]
["All people"]
[null,"All People"]
[null,"All people","White",null,null,null,"Mixed",null,null,null,"Asian",null,null,null,null,"Black",null,null,"Other ethnic group"]
[null,null,"British"," Irish"," Gypsy or Irish Traveller","Other White"," White and Black Caribbean"," White and Black African","White and Asian","Other Mixed"," Indian"," Pakistani"," Bangladeshi","Chinese","Other Asian"," African"," Caribbean"," Other Black"," Arab"," Any other ethnic group"]
["All usual residents",23117,12996,860,2,1005,571,51,283,147,1561,2908,491,153,601,248,741,232,143,124]
["0 to 24",8235,3892,86,2,295,389,36,207,102,555,1523,248,57,287,110,216,108,75,47]
["25 to 49",8566,4520,187,0,605,155,13,64,38,713,1124,204,71,242,124,291,102,53,60]
["50 to 64",3262,2335,203,0,71,16,2,12,4,194,173,24,16,53,11,116,13,7,12]
["65 and over",3054,2249,384,0,34,11,0,0,3,99,88,15,9,19,3,118,9,8,5]
[]
["Males"]
[null,"All People"]
[null,"All people","White",null,null,null,"Mixed",null,null,null,"Asian",null,null,null,null,"Black",null,null,"Other ethnic group"]
[null,null,"British"," Irish"," Gypsy or Irish Traveller","Other White"," White and Black Caribbean"," White and Black African","White and Asian","Other Mixed"," Indian"," Pakistani"," Bangladeshi","Chinese","Other Asian"," African"," Caribbean"," Other Black"," Arab"," Any other ethnic group"]
["All usual residents",11306,6336,403,1,492,261,24,154,79,765,1438,241,81,290,132,336,122,76,75]
["0 to 24",4206,1984,42,1,138,187,17,125,56,266,796,125,28,146,56,114,57,37,31]
["25 to 49",4188,2248,88,0,305,66,6,22,19,361,518,95,42,110,65,125,57,28,33]
["50 to 64",1629,1185,92,0,36,3,1,7,2,92,87,15,5,26,8,53,3,4,10]
["65 and over",1283,919,181,0,13,5,0,0,2,46,37,6,6,8,3,44,5,7,1]
[]
["Females"]
[null,"All People"]
[null,"All people","White",null,null,null,"Mixed",null,null,null,"Asian",null,null,null,null,"Black",null,null,"Other ethnic group"]
[null,null,"British"," Irish"," Gypsy or Irish Traveller","Other White"," White and Black Caribbean"," White and Black African","White and Asian","Other Mixed"," Indian"," Pakistani"," Bangladeshi","Chinese","Other Asian"," African"," Caribbean"," Other Black"," Arab"," Any other ethnic group"]
["All usual residents",11811,6660,457,1,513,310,27,129,68,796,1470,250,72,311,116,405,110,67,49]
["0 to 24",4029,1908,44,1,157,202,19,82,46,289,727,123,29,141,54,102,51,38,16]
["25 to 49",4378,2272,99,0,300,89,7,42,19,352,606,109,29,132,59,166,45,25,27]
["50 to 64",1633,1150,111,0,35,13,1,5,2,102,86,9,11,27,3,63,10,3,2]
["65 and over",1771,1330,203,0,21,6,0,0,1,53,51,9,3,11,0,74,4,1,4]
["Source: ONS, Crown Copyright, 2018",null,null,null,null,null,null,null,null,null,null,null,null,null,null,null,null,null,null,"Transportation & Connectivity, www.birmingham.gov.uk/census, brenda.henry@birmingham.gov.uk, 0121 303 4208"]

{"sheet":"Allens Cross","index":14,"n_rows":33,"n_cols":20,"rows_kept":33,"cut":false,"hidden":false,"merged":[[24,0,26,0],[24,1,24,19],[25,1,26,1],[25,2,25,5],[25,6,25,9],[25,10,25,14],[25,15,25,17],[25,18,25,19],[14,0,16,0],[14,1,14,19],[15,1,16,1],[15,2,15,5],[15,6,15,9],[15,10,15,14],[15,15,15,17],[15,18,15,19],[4,0,6,0],[4,1,4,19],[5,1,6,1],[5,2,5,5],[5,6,5,9],[5,10,5,14],[5,15,5,17],[5,18,5,19]]}
["2011 Census Local Characteristics: Table LC2101EW Ethnic group by sex by age"]
[{"$f":"'2018wards'!A3","v":"Allens Cross"},null,null,null,null,null,null,null,null,null,null,null,null,null,"BCC estimates for 2018 wards"]
[]
["All people"]
[null,"All People"]
[null,"All people","White",null,null,null,"Mixed",null,null,null,"Asian",null,null,null,null,"Black",null,null,"Other ethnic group"]
[null,null,"British"," Irish"," Gypsy or Irish Traveller","Other White"," White and Black Caribbean"," White and Black African","White and Asian","Other Mixed"," Indian"," Pakistani"," Bangladeshi","Chinese","Other Asian"," African"," Caribbean"," Other Black"," Arab"," Any other ethnic group"]
["All usual residents",10962,8652,219,0,163,299,32,78,73,153,101,21,163,345,237,234,95,37,60]
["0 to 24",3855,2845,18,0,49,204,18,58,50,55,49,4,58,156,113,81,56,20,21]
["25 to 49",3687,2795,39,0,87,78,8,16,18,80,39,13,88,162,104,85,32,12,31]
["50 to 64",1776,1540,61,0,20,10,5,4,5,11,9,2,12,21,13,47,7,3,6]
["65 and over",1644,1472,101,0,7,7,1,0,0,7,4,2,5,6,7,21,0,2,2]
[]
["Males"]
[null,"All People"]
[null,"All people","White",null,null,null,"Mixed",null,null,null,"Asian",null,null,null,null,"Black",null,null,"Other ethnic group"]
[null,null,"British"," Irish"," Gypsy or Irish Traveller","Other White"," White and Black Caribbean"," White and Black African","White and Asian","Other Mixed"," Indian"," Pakistani"," Bangladeshi","Chinese","Other Asian"," African"," Caribbean"," Other Black"," Arab"," Any other ethnic group"]
["All usual residents",5236,4105,98,0,71,158,16,34,34,87,56,12,76,164,115,116,51,18,25]
["0 to 24",1976,1440,8,0,19,118,9,27,26,32,25,2,34,82,59,45,33,9,8]
["25 to 49",1720,1311,19,0,39,33,2,5,6,45,23,7,35,72,46,37,17,7,16]
["50 to 64",845,739,27,0,9,3,4,2,2,6,5,2,7,8,7,22,1,1,0]
["65 and over",695,615,44,0,4,4,1,0,0,4,3,1,0,2,3,12,0,1,1]
[]
["Females"]
[null,"All People"]
[null,"All people","White",null,null,null,"Mixed",null,null,null,"Asian",null,null,null,null,"Black",null,null,"Other ethnic group"]
[null,null,"British"," Irish"," Gypsy or Irish Traveller","Other White"," White and Black Caribbean"," White and Black African","White and Asian","Other Mixed"," Indian"," Pakistani"," Bangladeshi","Chinese","Other Asian"," African"," Caribbean"," Other Black"," Arab"," Any other ethnic group"]
["All usual residents",5726,4547,121,0,92,141,16,44,39,66,45,9,87,181,122,118,44,19,35]
["0 to 24",1879,1405,10,0,30,86,9,31,24,23,24,2,24,74,54,36,23,11,13]
["25 to 49",1967,1484,20,0,48,45,6,11,12,35,16,6,53,90,58,48,15,5,15]
["50 to 64",931,801,34,0,11,7,1,2,3,5,4,0,5,13,6,25,6,2,6]
["65 and over",949,857,57,0,3,3,0,0,0,3,1,1,5,4,4,9,0,1,1]
["Source: ONS, Crown Copyright, 2018",null,null,null,null,null,null,null,null,null,null,null,null,null,null,null,null,null,null,"Transportation & Connectivity, www.birmingham.gov.uk/census, brenda.henry@birmingham.gov.uk, 0121 303 4208"]

{"sheet":"Alum Rock","index":15,"n_rows":33,"n_cols":20,"rows_kept":33,"cut":false,"hidden":false,"merged":[[24,0,26,0],[24,1,24,19],[25,1,26,1],[25,2,25,5],[25,6,25,9],[25,10,25,14],[25,15,25,17],[25,18,25,19],[14,0,16,0],[14,1,14,19],[15,1,16,1],[15,2,15,5],[15,6,15,9],[15,10,15,14],[15,15,15,17],[15,18,15,19],[4,0,6,0],[4,1,4,19],[5,1,6,1],[5,2,5,5],[5,6,5,9],[5,10,5,14],[5,15,5,17],[5,18,5,19]]}
["2011 Census Local Characteristics: Table LC2101EW Ethnic group by sex by age"]
[{"$f":"'2018wards'!A4","v":"Alum Rock"},null,null,null,null,null,null,null,null,null,null,null,null,null,"BCC estimates for 2018 wards"]
[]
["All people"]
[null,"All People"]
[null,"All people","White",null,null,null,"Mixed",null,null,null,"Asian",null,null,null,null,"Black",null,null,"Other ethnic group"]
[null,null,"British"," Irish"," Gypsy or Irish Traveller","Other White"," White and Black Caribbean"," White and Black African","White and Asian","Other Mixed"," Indian"," Pakistani"," Bangladeshi","Chinese","Other Asian"," African"," Caribbean"," Other Black"," Arab"," Any other ethnic group"]
["All usual residents",25487,1909,126,2,310,257,64,212,130,491,14926,1901,96,2351,1108,627,541,252,184]
["0 to 24",12653,428,2,0,149,192,44,164,93,209,7672,1044,43,1167,704,177,323,149,93]
["25 to 49",8712,542,20,2,130,55,17,41,31,192,5225,658,31,851,359,215,171,87,85]
["50 to 64",2296,491,26,0,17,7,1,5,5,61,1208,112,15,167,35,105,28,9,4]
["65 and over",1826,448,78,0,14,3,2,2,1,29,821,87,7,166,10,130,19,7,2]
[]
["Males"]
[null,"All People"]
[null,"All people","White",null,null,null,"Mixed",null,null,null,"Asian",null,null,null,null,"Black",null,null,"Other ethnic group"]
[null,null,"British"," Irish"," Gypsy or Irish Traveller","Other White"," White and Black Caribbean"," White and Black African","White and Asian","Other Mixed"," Indian"," Pakistani"," Bangladeshi","Chinese","Other Asian"," African"," Caribbean"," Other Black"," Arab"," Any other ethnic group"]
["All usual residents",12884,1025,59,2,151,147,29,119,66,254,7452,962,48,1279,528,281,263,124,95]
["0 to 24",6585,243,1,0,83,119,21,93,46,113,3936,545,26,643,350,91,164,67,44]
["25 to 49",4370,293,11,2,55,21,7,24,17,98,2596,331,16,485,156,83,79,49,47]
["50 to 64",1107,274,12,0,8,4,0,2,2,32,567,45,4,84,16,38,11,5,3]
["65 and over",822,215,35,0,5,3,1,0,1,11,353,41,2,67,6,69,9,3,1]
[]
["Females"]
[null,"All People"]
[null,"All people","White",null,null,null,"Mixed",null,null,null,"Asian",null,null,null,null,"Black",null,null,"Other ethnic group"]
[null,null,"British"," Irish"," Gypsy or Irish Traveller","Other White"," White and Black Caribbean"," White and Black African","White and Asian","Other Mixed"," Indian"," Pakistani"," Bangladeshi","Chinese","Other Asian"," African"," Caribbean"," Other Black"," Arab"," Any other ethnic group"]
["All usual residents",12603,884,67,0,159,110,35,93,64,237,7474,939,48,1072,580,346,278,128,89]
["0 to 24",6068,185,1,0,66,73,23,71,47,96,3736,499,17,524,354,86,159,82,49]
["25 to 49",4342,249,9,0,75,34,10,17,14,94,2629,327,15,366,203,132,92,38,38]
["50 to 64",1189,217,14,0,9,3,1,3,3,29,641,67,11,83,19,67,17,4,1]
["65 and over",1004,233,43,0,9,0,1,2,0,18,468,46,5,99,4,61,10,4,1]
["Source: ONS, Crown Copyright, 2018",null,null,null,null,null,null,null,null,null,null,null,null,null,null,null,null,null,null,"Transportation & Connectivity, www.birmingham.gov.uk/census, brenda.henry@birmingham.gov.uk, 0121 303 4208"]

{"sheet":"Aston","index":16,"n_rows":33,"n_cols":20,"rows_kept":33,"cut":false,"hidden":false,"merged":[[24,0,26,0],[24,1,24,19],[25,1,26,1],[25,2,25,5],[25,6,25,9],[25,10,25,14],[25,15,25,17],[25,18,25,19],[14,0,16,0],[14,1,14,19],[15,1,16,1],[15,2,15,5],[15,6,15,9],[15,10,15,14],[15,15,15,17],[15,18,15,19],[4,0,6,0],[4,1,4,19],[5,1,6,1],[5,2,5,5],[5,6,5,9],[5,10,5,14],[5,15,5,17],[5,18,5,19]]}
["2011 Census Local Characteristics: Table LC2101EW Ethnic group by sex by age"]
[{"$f":"'2018wards'!A5","v":"Aston"},null,null,null,null,null,null,null,null,null,null,null,null,null,"BCC estimates for 2018 wards"]
[]
["All people"]
[null,"All People"]
[null,"All people","White",null,null,null,"Mixed",null,null,null,"Asian",null,null,null,null,"Black",null,null,"Other ethnic group"]
[null,null,"British"," Irish"," Gypsy or Irish Traveller","Other White"," White and Black Caribbean"," White and Black African","White and Asian","Other Mixed"," Indian"," Pakistani"," Bangladeshi","Chinese","Other Asian"," African"," Caribbean"," Other Black"," Arab"," Any other ethnic group"]
["All usual residents",22636,1774,136,5,379,276,79,193,121,2886,6993,4714,190,858,1301,1762,640,126,203]
["0 to 24",10442,513,9,1,129,177,49,135,79,1143,3540,2564,78,417,633,457,353,83,82]
["25 to 49",8020,518,15,2,204,72,28,46,32,1072,2479,1641,89,316,608,552,217,36,93]
["50 to 64",2270,373,37,2,29,10,2,10,5,444,589,295,14,67,45,289,38,6,15]
["65 and over",1904,370,75,0,17,17,0,2,5,227,385,214,9,58,15,464,32,1,13]
[]
["Males"]
[null,"All People"]
[null,"All people","White",null,null,null,"Mixed",null,null,null,"Asian",null,null,null,null,"Black",null,null,"Other ethnic group"]
[null,null,"British"," Irish"," Gypsy or Irish Traveller","Other White"," White and Black Caribbean"," White and Black African","White and Asian","Other Mixed"," Indian"," Pakistani"," Bangladeshi","Chinese","Other Asian"," African"," Caribbean"," Other Black"," Arab"," Any other ethnic group"]
["All usual residents",11426,908,63,2,184,117,45,110,64,1535,3449,2348,96,478,734,788,311,64,130]
["0 to 24",5430,272,1,0,60,75,30,78,40,615,1788,1303,37,247,364,247,186,41,46]
["25 to 49",4081,284,9,1,107,29,13,24,16,599,1202,842,47,179,337,217,90,20,65]
["50 to 64",1037,187,20,1,11,6,2,6,4,216,272,107,5,32,23,111,19,3,12]
["65 and over",878,165,33,0,6,7,0,2,4,105,187,96,7,20,10,213,16,0,7]
[]
["Females"]
[null,"All People"]
[null,"All people","White",null,null,null,"Mixed",null,null,null,"Asian",null,null,null,null,"Black",null,null,"Other ethnic group"]
[null,null,"British"," Irish"," Gypsy or Irish Traveller","Other White"," White and Black Caribbean"," White and Black African","White and Asian","Other Mixed"," Indian"," Pakistani"," Bangladeshi","Chinese","Other Asian"," African"," Caribbean"," Other Black"," Arab"," Any other ethnic group"]
["All usual residents",11210,866,73,3,195,159,34,83,57,1351,3544,2366,94,380,567,974,329,62,73]
["0 to 24",5012,241,8,1,69,102,19,57,39,528,1752,1261,41,170,269,210,167,42,36]
["25 to 49",3939,234,6,1,97,43,15,22,16,473,1277,799,42,137,271,335,127,16,28]
["50 to 64",1233,186,17,1,18,4,0,4,1,228,317,188,9,35,22,178,19,3,3]
["65 and over",1026,205,42,0,11,10,0,0,1,122,198,118,2,38,5,251,16,1,6]
["Source: ONS, Crown Copyright, 2018",null,null,null,null,null,null,null,null,null,null,null,null,null,null,null,null,null,null,"Transportation & Connectivity, www.birmingham.gov.uk/census, brenda.henry@birmingham.gov.uk, 0121 303 4208"]

{"sheet":"Balsall Heath West","index":17,"n_rows":33,"n_cols":20,"rows_kept":33,"cut":false,"hidden":false,"merged":[[24,0,26,0],[24,1,24,19],[25,1,26,1],[25,2,25,5],[25,6,25,9],[25,10,25,14],[25,15,25,17],[25,18,25,19],[14,0,16,0],[14,1,14,19],[15,1,16,1],[15,2,15,5],[15,6,15,9],[15,10,15,14],[15,15,15,17],[15,18,15,19],[4,0,6,0],[4,1,4,19],[5,1,6,1],[5,2,5,5],[5,6,5,9],[5,10,5,14],[5,15,5,17],[5,18,5,19]]}
["2011 Census Local Characteristics: Table LC2101EW Ethnic group by sex by age"]
[{"$f":"'2018wards'!A6","v":"Balsall Heath West"},null,null,null,null,null,null,null,null,null,null,null,null,null,"BCC estimates for 2018 wards"]
[]
["All people"]
[null,"All People"]
[null,"All people","White",null,null,null,"Mixed",null,null,null,"Asian",null,null,null,null,"Black",null,null,"Other ethnic group"]
[null,null,"British"," Irish"," Gypsy or Irish Traveller","Other White"," White and Black Caribbean"," White and Black African","White and Asian","Other Mixed"," Indian"," Pakistani"," Bangladeshi","Chinese","Other Asian"," African"," Caribbean"," Other Black"," Arab"," Any other ethnic group"]
["All usual residents",11165,1945,135,9,279,287,32,144,134,538,3117,334,271,559,519,861,303,1500,198]
["0 to 24",4984,627,12,3,111,173,15,100,93,193,1491,158,105,275,275,210,161,894,88]
["25 to 49",3835,684,21,4,130,95,11,34,34,220,1092,129,85,205,197,274,118,427,75]
["50 to 64",1266,382,42,0,23,9,5,8,4,76,312,31,25,46,38,146,18,86,15]
["65 and over",1080,252,60,2,15,10,1,2,3,49,222,16,56,33,9,231,6,93,20]
[]
["Males"]
[null,"All People"]
[null,"All people","White",null,null,null,"Mixed",null,null,null,"Asian",null,null,null,null,"Black",null,null,"Other ethnic group"]
[null,null,"British"," Irish"," Gypsy or Irish Traveller","Other White"," White and Black Caribbean"," White and Black African","White and Asian","Other Mixed"," Indian"," Pakistani"," Bangladeshi","Chinese","Other Asian"," African"," Caribbean"," Other Black"," Arab"," Any other ethnic group"]
["All usual residents",5616,995,77,4,137,128,14,69,70,259,1559,163,115,292,255,427,155,793,104]
["0 to 24",2532,296,7,2,56,82,7,46,52,90,771,79,44,150,141,120,79,466,44]
["25 to 49",1946,384,12,1,62,38,5,18,15,110,538,67,41,107,91,128,64,226,39]
["50 to 64",623,207,27,0,12,6,2,4,1,37,142,8,9,24,18,62,9,45,10]
["65 and over",515,108,31,1,7,2,0,1,2,22,108,9,21,11,5,117,3,56,11]
[]
["Females"]
[null,"All People"]
[null,"All people","White",null,null,null,"Mixed",null,null,null,"Asian",null,null,null,null,"Black",null,null,"Other ethnic group"]
[null,null,"British"," Irish"," Gypsy or Irish Traveller","Other White"," White and Black Caribbean"," White and Black African","White and Asian","Other Mixed"," Indian"," Pakistani"," Bangladeshi","Chinese","Other Asian"," African"," Caribbean"," Other Black"," Arab"," Any other ethnic group"]
["All usual residents",5549,950,58,5,142,159,18,75,64,279,1558,171,156,267,264,434,148,707,94]
["0 to 24",2452,331,5,1,55,91,8,54,41,103,720,79,61,125,134,90,82,428,44]
["25 to 49",1889,300,9,3,68,57,6,16,19,110,554,62,44,98,106,146,54,201,36]
["50 to 64",643,175,15,0,11,3,3,4,3,39,170,23,16,22,20,84,9,41,5]
["65 and over",565,144,29,1,8,8,1,1,1,27,114,7,35,22,4,114,3,37,9]
["Source: ONS, Crown Copyright, 2018",null,null,null,null,null,null,null,null,null,null,null,null,null,null,null,null,null,null,"Transportation & Connectivity, www.birmingham.gov.uk/census, brenda.henry@birmingham.gov.uk, 0121 303 4208"]

{"sheet":"Bartley Green","index":18,"n_rows":33,"n_cols":20,"rows_kept":33,"cut":false,"hidden":false,"merged":[[24,0,26,0],[24,1,24,19],[25,1,26,1],[25,2,25,5],[25,6,25,9],[25,10,25,14],[25,15,25,17],[25,18,25,19],[14,0,16,0],[14,1,14,19],[15,1,16,1],[15,2,15,5],[15,6,15,9],[15,10,15,14],[15,15,15,17],[15,18,15,19],[4,0,6,0],[4,1,4,19],[5,1,6,1],[5,2,5,5],[5,6,5,9],[5,10,5,14],[5,15,5,17],[5,18,5,19]]}
["2011 Census Local Characteristics: Table LC2101EW Ethnic group by sex by age"]
[{"$f":"'2018wards'!A7","v":"Bartley Green"},null,null,null,null,null,null,null,null,null,null,null,null,null,"BCC estimates for 2018 wards"]
[]
["All people"]
[null,"All People"]
[null,"All people","White",null,null,null,"Mixed",null,null,null,"Asian",null,null,null,null,"Black",null,null,"Other ethnic group"]
[null,null,"British"," Irish"," Gypsy or Irish Traveller","Other White"," White and Black Caribbean"," White and Black African","White and Asian","Other Mixed"," Indian"," Pakistani"," Bangladeshi","Chinese","Other Asian"," African"," Caribbean"," Other Black"," Arab"," Any other ethnic group"]
["All usual residents",22014,17408,310,9,310,759,60,210,186,227,198,26,118,412,520,778,302,71,110]
["0 to 24",7620,5429,38,3,100,560,39,158,149,76,95,8,41,184,214,260,183,34,49]
["25 to 49",7291,5601,75,6,144,168,18,43,30,107,85,10,54,200,257,309,97,30,57]
["50 to 64",3910,3457,90,0,42,23,3,7,5,30,9,8,17,20,40,128,21,7,3]
["65 and over",3193,2921,107,0,24,8,0,2,2,14,9,0,6,8,9,81,1,0,1]
[]
["Males"]
[null,"All People"]
[null,"All people","White",null,null,null,"Mixed",null,null,null,"Asian",null,null,null,null,"Black",null,null,"Other ethnic group"]
[null,null,"British"," Irish"," Gypsy or Irish Traveller","Other White"," White and Black Caribbean"," White and Black African","White and Asian","Other Mixed"," Indian"," Pakistani"," Bangladeshi","Chinese","Other Asian"," African"," Caribbean"," Other Black"," Arab"," Any other ethnic group"]
["All usual residents",10400,8180,173,4,146,359,38,106,91,114,96,15,58,195,229,356,148,39,53]
["0 to 24",3792,2704,19,1,49,276,24,79,75,38,47,6,23,93,89,129,101,16,23]
["25 to 49",3353,2598,40,3,59,64,12,18,15,54,40,4,24,90,120,131,34,17,30]
["50 to 64",1858,1626,50,0,30,12,2,7,1,13,5,5,8,7,16,58,12,6,0]
["65 and over",1397,1252,64,0,8,7,0,2,0,9,4,0,3,5,4,38,1,0,0]
[]
["Females"]
[null,"All People"]
[null,"All people","White",null,null,null,"Mixed",null,null,null,"Asian",null,null,null,null,"Black",null,null,"Other ethnic group"]
[null,null,"British"," Irish"," Gypsy or Irish Traveller","Other White"," White and Black Caribbean"," White and Black African","White and Asian","Other Mixed"," Indian"," Pakistani"," Bangladeshi","Chinese","Other Asian"," African"," Caribbean"," Other Black"," Arab"," Any other ethnic group"]
["All usual residents",11614,9228,137,5,164,400,22,104,95,113,102,11,60,217,291,422,154,32,57]
["0 to 24",3828,2725,19,2,51,284,15,79,74,38,48,2,18,91,125,131,82,18,26]
["25 to 49",3938,3003,35,3,85,104,6,25,15,53,45,6,30,110,137,178,63,13,27]
["50 to 64",2052,1831,40,0,12,11,1,0,4,17,4,3,9,13,24,70,9,1,3]
["65 and over",1796,1669,43,0,16,1,0,0,2,5,5,0,3,3,5,43,0,0,1]
["Source: ONS, Crown Copyright, 2018",null,null,null,null,null,null,null,null,null,null,null,null,null,null,null,null,null,null,"Transportation & Connectivity, www.birmingham.gov.uk/census, brenda.henry@birmingham.gov.uk, 0121 303 4208"]

{"sheet":"Billesley","index":19,"n_rows":33,"n_cols":20,"rows_kept":33,"cut":false,"hidden":false,"merged":[[24,0,26,0],[24,1,24,19],[25,1,26,1],[25,2,25,5],[25,6,25,9],[25,10,25,14],[25,15,25,17],[25,18,25,19],[14,0,16,0],[14,1,14,19],[15,1,16,1],[15,2,15,5],[15,6,15,9],[15,10,15,14],[15,15,15,17],[15,18,15,19],[4,0,6,0],[4,1,4,19],[5,1,6,1],[5,2,5,5],[5,6,5,9],[5,10,5,14],[5,15,5,17],[5,18,5,19]]}
["2011 Census Local Characteristics: Table LC2101EW Ethnic group by sex by age"]
[{"$f":"'2018wards'!A8","v":"Billesley"},null,null,null,null,null,null,null,null,null,null,null,null,null,"BCC estimates for 2018 wards"]
[]
["All people"]
[null,"All People"]
[null,"All people","White",null,null,null,"Mixed",null,null,null,"Asian",null,null,null,null,"Black",null,null,"Other ethnic group"]
[null,null,"British"," Irish"," Gypsy or Irish Traveller","Other White"," White and Black Caribbean"," White and Black African","White and Asian","Other Mixed"," Indian"," Pakistani"," Bangladeshi","Chinese","Other Asian"," African"," Caribbean"," Other Black"," Arab"," Any other ethnic group"]
["All usual residents",19748,12879,756,7,369,472,40,278,167,1016,1919,209,125,440,208,467,169,120,107]
["0 to 24",6714,3743,99,2,110,346,24,189,110,336,978,114,39,199,105,133,93,51,43]
["25 to 49",6611,4181,168,3,173,102,12,71,43,404,708,78,68,171,86,184,64,52,43]
["50 to 64",3341,2484,185,1,51,15,3,16,8,193,164,14,12,55,11,94,10,8,17]
["65 and over",3082,2471,304,1,35,9,1,2,6,83,69,3,6,15,6,56,2,9,4]
[]
["Males"]
[null,"All People"]
[null,"All people","White",null,null,null,"Mixed",null,null,null,"Asian",null,null,null,null,"Black",null,null,"Other ethnic group"]
[null,null,"British"," Irish"," Gypsy or Irish Traveller","Other White"," White and Black Caribbean"," White and Black African","White and Asian","Other Mixed"," Indian"," Pakistani"," Bangladeshi","Chinese","Other Asian"," African"," Caribbean"," Other Black"," Arab"," Any other ethnic group"]
["All usual residents",9485,6150,379,1,171,226,15,129,87,486,962,99,60,217,87,227,80,59,50]
["0 to 24",3406,1877,62,0,50,183,10,91,59,168,518,55,18,105,47,74,45,22,22]
["25 to 49",3122,2011,84,1,82,34,3,33,20,181,326,35,37,77,34,88,31,27,18]
["50 to 64",1656,1232,99,0,25,6,2,5,4,95,89,8,4,29,4,39,3,4,8]
["65 and over",1301,1030,134,0,14,3,0,0,4,42,29,1,1,6,2,26,1,6,2]
[]
["Females"]
[null,"All People"]
[null,"All people","White",null,null,null,"Mixed",null,null,null,"Asian",null,null,null,null,"Black",null,null,"Other ethnic group"]
[null,null,"British"," Irish"," Gypsy or Irish Traveller","Other White"," White and Black Caribbean"," White and Black African","White and Asian","Other Mixed"," Indian"," Pakistani"," Bangladeshi","Chinese","Other Asian"," African"," Caribbean"," Other Black"," Arab"," Any other ethnic group"]
["All usual residents",10263,6729,377,6,198,246,25,149,80,530,957,110,65,223,121,240,89,61,57]
["0 to 24",3308,1866,37,2,60,163,14,98,51,168,460,59,21,94,58,59,48,29,21]
["25 to 49",3489,2170,84,2,91,68,9,38,23,223,382,43,31,94,52,96,33,25,25]
["50 to 64",1685,1252,86,1,26,9,1,11,4,98,75,6,8,26,7,55,7,4,9]
["65 and over",1781,1441,170,1,21,6,1,2,2,41,40,2,5,9,4,30,1,3,2]
["Source: ONS, Crown Copyright, 2018",null,null,null,null,null,null,null,null,null,null,null,null,null,null,null,null,null,null,"Transportation & Connectivity, www.birmingham.gov.uk/census, brenda.henry@birmingham.gov.uk, 0121 303 4208"]

{"sheet":"Birchfield","index":20,"n_rows":33,"n_cols":20,"rows_kept":33,"cut":false,"hidden":false,"merged":[[24,0,26,0],[24,1,24,19],[25,1,26,1],[25,2,25,5],[25,6,25,9],[25,10,25,14],[25,15,25,17],[25,18,25,19],[14,0,16,0],[14,1,14,19],[15,1,16,1],[15,2,15,5],[15,6,15,9],[15,10,15,14],[15,15,15,17],[15,18,15,19],[4,0,6,0],[4,1,4,19],[5,1,6,1],[5,2,5,5],[5,6,5,9],[5,10,5,14],[5,15,5,17],[5,18,5,19]]}
["2011 Census Local Characteristics: Table LC2101EW Ethnic group by sex by age"]
[{"$f":"'2018wards'!A9","v":"Birchfield"},null,null,null,null,null,null,null,null,null,null,null,null,null,"BCC estimates for 2018 wards"]
[]
["All people"]
[null,"All People"]
[null,"All people","White",null,null,null,"Mixed",null,null,null,"Asian",null,null,null,null,"Black",null,null,"Other ethnic group"]
[null,null,"British"," Irish"," Gypsy or Irish Traveller","Other White"," White and Black Caribbean"," White and Black African","White and Asian","Other Mixed"," Indian"," Pakistani"," Bangladeshi","Chinese","Other Asian"," African"," Caribbean"," Other Black"," Arab"," Any other ethnic group"]
["All usual residents",11465,1007,106,8,455,272,34,97,151,1621,2809,831,127,600,846,1787,460,77,177]
["0 to 24",4910,320,10,4,177,180,12,70,104,567,1445,468,71,252,363,521,238,42,66]
["25 to 49",4234,325,37,3,214,59,21,22,36,627,980,289,40,232,447,616,174,29,83]
["50 to 64",1293,202,23,1,42,18,1,5,11,244,247,48,12,81,21,277,37,5,18]
["65 and over",1028,160,36,0,22,15,0,0,0,183,137,26,4,35,15,373,11,1,10]
[]
["Males"]
[null,"All People"]
[null,"All people","White",null,null,null,"Mixed",null,null,null,"Asian",null,null,null,null,"Black",null,null,"Other ethnic group"]
[null,null,"British"," Irish"," Gypsy or Irish Traveller","Other White"," White and Black Caribbean"," White and Black African","White and Asian","Other Mixed"," Indian"," Pakistani"," Bangladeshi","Chinese","Other Asian"," African"," Caribbean"," Other Black"," Arab"," Any other ethnic group"]
["All usual residents",6042,560,67,3,236,137,20,51,86,892,1446,418,60,327,478,837,253,49,122]
["0 to 24",2593,164,7,1,94,97,9,37,56,338,764,235,31,132,178,262,123,26,39]
["25 to 49",2269,191,26,2,114,23,10,11,24,347,482,153,21,138,276,265,102,20,64]
["50 to 64",671,126,18,0,21,9,1,3,6,122,127,19,7,41,14,119,23,2,13]
["65 and over",509,79,16,0,7,8,0,0,0,85,73,11,1,16,10,191,5,1,6]
[]
["Females"]
[null,"All People"]
[null,"All people","White",null,null,null,"Mixed",null,null,null,"Asian",null,null,null,null,"Black",null,null,"Other ethnic group"]
[null,null,"British"," Irish"," Gypsy or Irish Traveller","Other White"," White and Black Caribbean"," White and Black African","White and Asian","Other Mixed"," Indian"," Pakistani"," Bangladeshi","Chinese","Other Asian"," African"," Caribbean"," Other Black"," Arab"," Any other ethnic group"]
["All usual residents",5423,447,39,5,219,135,14,46,65,729,1363,413,67,273,368,950,207,28,55]
["0 to 24",2317,156,3,3,83,83,3,33,48,229,681,233,40,120,185,259,115,16,27]
["25 to 49",1965,134,11,1,100,36,11,11,12,280,498,136,19,94,171,351,72,9,19]
["50 to 64",622,76,5,1,21,9,0,2,5,122,120,29,5,40,7,158,14,3,5]
["65 and over",519,81,20,0,15,7,0,0,0,98,64,15,3,19,5,182,6,0,4]
["Source: ONS, Crown Copyright, 2018",null,null,null,null,null,null,null,null,null,null,null,null,null,null,null,null,null,null,"Transportation & Connectivity, www.birmingham.gov.uk/census, brenda.henry@birmingham.gov.uk, 0121 303 4208"]

{"sheet":"Bordesley & Highgate","index":21,"n_rows":33,"n_cols":20,"rows_kept":33,"cut":false,"hidden":false,"merged":[[24,0,26,0],[24,1,24,19],[25,1,26,1],[25,2,25,5],[25,6,25,9],[25,10,25,14],[25,15,25,17],[25,18,25,19],[14,0,16,0],[14,1,14,19],[15,1,16,1],[15,2,15,5],[15,6,15,9],[15,10,15,14],[15,15,15,17],[15,18,15,19],[4,0,6,0],[4,1,4,19],[5,1,6,1],[5,2,5,5],[5,6,5,9],[5,10,5,14],[5,15,5,17],[5,18,5,19]]}
["2011 Census Local Characteristics: Table LC2101EW Ethnic group by sex by age"]
[{"$f":"'2018wards'!A10","v":"Bordesley & Highgate"},null,null,null,null,null,null,null,null,null,null,null,null,null,"BCC estimates for 2018 wards"]
[]
["All people"]
[null,"All People"]
[null,"All people","White",null,null,null,"Mixed",null,null,null,"Asian",null,null,null,null,"Black",null,null,"Other ethnic group"]
[null,null,"British"," Irish"," Gypsy or Irish Traveller","Other White"," White and Black Caribbean"," White and Black African","White and Asian","Other Mixed"," Indian"," Pakistani"," Bangladeshi","Chinese","Other Asian"," African"," Caribbean"," Other Black"," Arab"," Any other ethnic group"]
["All usual residents",13242,2604,236,14,490,430,68,200,194,538,2905,794,653,526,1128,1001,655,524,282]
["0 to 24",6093,760,11,9,152,284,36,141,146,182,1593,411,353,229,638,333,377,313,125]
["25 to 49",5313,1182,55,2,289,134,27,56,43,295,1061,315,222,253,429,391,228,186,145]
["50 to 64",1075,403,68,2,37,8,3,2,4,45,162,44,19,32,44,140,34,17,11]
["65 and over",761,259,102,1,12,4,2,1,1,16,89,24,59,12,17,137,16,8,1]
[]
["Males"]
[null,"All People"]
[null,"All people","White",null,null,null,"Mixed",null,null,null,"Asian",null,null,null,null,"Black",null,null,"Other ethnic group"]
[null,null,"British"," Irish"," Gypsy or Irish Traveller","Other White"," White and Black Caribbean"," White and Black African","White and Asian","Other Mixed"," Indian"," Pakistani"," Bangladeshi","Chinese","Other Asian"," African"," Caribbean"," Other Black"," Arab"," Any other ethnic group"]
["All usual residents",6855,1437,151,6,242,219,36,94,84,288,1494,387,317,303,550,465,320,294,168]
["0 to 24",3119,405,5,4,71,156,19,60,66,92,841,196,176,121,310,163,189,180,65]
["25 to 49",2804,692,32,1,147,56,16,32,16,166,526,159,112,160,210,178,104,101,96]
["50 to 64",551,219,44,0,16,4,0,1,1,22,80,22,8,18,24,58,19,8,7]
["65 and over",381,121,70,1,8,3,1,1,1,8,47,10,21,4,6,66,8,5,0]
[]
["Females"]
[null,"All People"]
[null,"All people","White",null,null,null,"Mixed",null,null,null,"Asian",null,null,null,null,"Black",null,null,"Other ethnic group"]
[null,null,"British"," Irish"," Gypsy or Irish Traveller","Other White"," White and Black Caribbean"," White and Black African","White and Asian","Other Mixed"," Indian"," Pakistani"," Bangladeshi","Chinese","Other Asian"," African"," Caribbean"," Other Black"," Arab"," Any other ethnic group"]
["All usual residents",6387,1167,85,8,248,211,32,106,110,250,1411,407,336,223,578,536,335,230,114]
["0 to 24",2974,355,6,5,81,128,17,81,80,90,752,215,177,108,328,170,188,133,60]
["25 to 49",2509,490,23,1,142,78,11,24,27,129,535,156,110,93,219,213,124,85,49]
["50 to 64",524,184,24,2,21,4,3,1,3,23,82,22,11,14,20,82,15,9,4]
["65 and over",380,138,32,0,4,1,1,0,0,8,42,14,38,8,11,71,8,3,1]
["Source: ONS, Crown Copyright, 2018",null,null,null,null,null,null,null,null,null,null,null,null,null,null,null,null,null,null,"Transportation & Connectivity, www.birmingham.gov.uk/census, brenda.henry@birmingham.gov.uk, 0121 303 4208"]

{"sheet":"Bordesley Green","index":22,"n_rows":33,"n_cols":20,"rows_kept":33,"cut":false,"hidden":false,"merged":[[24,0,26,0],[24,1,24,19],[25,1,26,1],[25,2,25,5],[25,6,25,9],[25,10,25,14],[25,15,25,17],[25,18,25,19],[14,0,16,0],[14,1,14,19],[15,1,16,1],[15,2,15,5],[15,6,15,9],[15,10,15,14],[15,15,15,17],[15,18,15,19],[4,0,6,0],[4,1,4,19],[5,1,6,1],[5,2,5,5],[5,6,5,9],[5,10,5,14],[5,15,5,17],[5,18,5,19]]}
["2011 Census Local Characteristics: Table LC2101EW Ethnic group by sex by age"]
[{"$f":"'2018wards'!A11","v":"Bordesley Green"},null,null,null,null,null,null,null,null,null,null,null,null,null,"BCC estimates for 2018 wards"]
[]
["All people"]
[null,"All People"]
[null,"All people","White",null,null,null,"Mixed",null,null,null,"Asian",null,null,null,null,"Black",null,null,"Other ethnic group"]
[null,null,"British"," Irish"," Gypsy or Irish Traveller","Other White"," White and Black Caribbean"," White and Black African","White and Asian","Other Mixed"," Indian"," Pakistani"," Bangladeshi","Chinese","Other Asian"," African"," Caribbean"," Other Black"," Arab"," Any other ethnic group"]
["All usual residents",11796,1335,159,10,201,190,62,137,153,263,4844,1530,48,523,783,504,459,384,211]
["0 to 24",5568,310,2,4,99,110,40,99,125,73,2415,798,16,264,480,120,275,218,120]
["25 to 49",4097,439,16,2,83,60,20,26,21,130,1750,560,20,193,254,160,146,135,82]
["50 to 64",1137,303,45,3,13,10,2,8,5,38,380,101,6,40,43,85,32,17,6]
["65 and over",994,283,96,1,6,10,0,4,2,22,299,71,6,26,6,139,6,14,3]
[]
["Males"]
[null,"All People"]
[null,"All people","White",null,null,null,"Mixed",null,null,null,"Asian",null,null,null,null,"Black",null,null,"Other ethnic group"]
[null,null,"British"," Irish"," Gypsy or Irish Traveller","Other White"," White and Black Caribbean"," White and Black African","White and Asian","Other Mixed"," Indian"," Pakistani"," Bangladeshi","Chinese","Other Asian"," African"," Caribbean"," Other Black"," Arab"," Any other ethnic group"]
["All usual residents",5971,680,94,2,104,100,32,73,84,139,2446,744,24,279,392,234,219,214,111]
["0 to 24",2859,151,1,1,46,62,22,50,67,44,1260,389,9,133,266,54,135,109,60]
["25 to 49",2087,229,11,0,47,33,8,16,11,68,880,286,10,110,101,78,63,88,48]
["50 to 64",559,162,30,1,8,2,2,5,4,20,171,37,3,23,23,40,20,6,2]
["65 and over",466,138,52,0,3,3,0,2,2,7,135,32,2,13,2,62,1,11,1]
[]
["Females"]
[null,"All People"]
[null,"All people","White",null,null,null,"Mixed",null,null,null,"Asian",null,null,null,null,"Black",null,null,"Other ethnic group"]
[null,null,"British"," Irish"," Gypsy or Irish Traveller","Other White"," White and Black Caribbean"," White and Black African","White and Asian","Other Mixed"," Indian"," Pakistani"," Bangladeshi","Chinese","Other Asian"," African"," Caribbean"," Other Black"," Arab"," Any other ethnic group"]
["All usual residents",5825,655,65,8,97,90,30,64,69,124,2398,786,24,244,391,270,240,170,100]
["0 to 24",2709,159,1,3,53,48,18,49,58,29,1155,409,7,131,214,66,140,109,60]
["25 to 49",2010,210,5,2,36,27,12,10,10,62,870,274,10,83,153,82,83,47,34]
["50 to 64",578,141,15,2,5,8,0,3,1,18,209,64,3,17,20,45,12,11,4]
["65 and over",528,145,44,1,3,7,0,2,0,15,164,39,4,13,4,77,5,3,2]
["Source: ONS, Crown Copyright, 2018",null,null,null,null,null,null,null,null,null,null,null,null,null,null,null,null,null,null,"Transportation & Connectivity, www.birmingham.gov.uk/census, brenda.henry@birmingham.gov.uk, 0121 303 4208"]

{"sheet":"Bournbrook & Selly Park","index":23,"n_rows":33,"n_cols":20,"rows_kept":33,"cut":false,"hidden":false,"merged":[[24,0,26,0],[24,1,24,19],[25,1,26,1],[25,2,25,5],[25,6,25,9],[25,10,25,14],[25,15,25,17],[25,18,25,19],[14,0,16,0],[14,1,14,19],[15,1,16,1],[15,2,15,5],[15,6,15,9],[15,10,15,14],[15,15,15,17],[15,18,15,19],[4,0,6,0],[4,1,4,19],[5,1,6,1],[5,2,5,5],[5,6,5,9],[5,10,5,14],[5,15,5,17],[5,18,5,19]]}
["2011 Census Local Characteristics: Table LC2101EW Ethnic group by sex by age"]
[{"$f":"'2018wards'!A12","v":"Bournbrook & Selly Park"},null,null,null,null,null,null,null,null,null,null,null,null,null,"BCC estimates for 2018 wards"]
[]
["All people"]
[null,"All People"]
[null,"All people","White",null,null,null,"Mixed",null,null,null,"Asian",null,null,null,null,"Black",null,null,"Other ethnic group"]
[null,null,"British"," Irish"," Gypsy or Irish Traveller","Other White"," White and Black Caribbean"," White and Black African","White and Asian","Other Mixed"," Indian"," Pakistani"," Bangladeshi","Chinese","Other Asian"," African"," Caribbean"," Other Black"," Arab"," Any other ethnic group"]
["All usual residents",19636,12817,496,15,851,292,76,256,195,1163,786,234,865,576,379,218,111,137,169]
["0 to 24",12914,8817,115,12,461,211,56,211,157,775,437,119,663,332,221,77,64,77,109]
["25 to 49",4070,2121,106,3,315,68,17,36,33,277,269,71,174,213,139,85,38,51,54]
["50 to 64",1304,908,84,0,43,11,3,7,1,60,47,28,22,25,13,33,6,8,5]
["65 and over",1348,971,191,0,32,2,0,2,4,51,33,16,6,6,6,23,3,1,1]
[]
["Males"]
[null,"All People"]
[null,"All people","White",null,null,null,"Mixed",null,null,null,"Asian",null,null,null,null,"Black",null,null,"Other ethnic group"]
[null,null,"British"," Irish"," Gypsy or Irish Traveller","Other White"," White and Black Caribbean"," White and Black African","White and Asian","Other Mixed"," Indian"," Pakistani"," Bangladeshi","Chinese","Other Asian"," African"," Caribbean"," Other Black"," Arab"," Any other ethnic group"]
["All usual residents",9473,6159,215,10,402,151,45,112,94,557,439,124,392,269,193,100,48,82,81]
["0 to 24",6034,4096,53,7,202,109,38,90,74,345,246,66,289,167,103,30,31,43,45]
["25 to 49",2183,1147,61,3,173,35,5,20,17,159,149,35,89,86,79,48,12,32,33]
["50 to 64",684,499,40,0,15,7,2,1,1,27,23,12,10,14,7,15,2,6,3]
["65 and over",572,417,61,0,12,0,0,1,2,26,21,11,4,2,4,7,3,1,0]
[]
["Females"]
[null,"All People"]
[null,"All people","White",null,null,null,"Mixed",null,null,null,"Asian",null,null,null,null,"Black",null,null,"Other ethnic group"]
[null,null,"British"," Irish"," Gypsy or Irish Traveller","Other White"," White and Black Caribbean"," White and Black African","White and Asian","Other Mixed"," Indian"," Pakistani"," Bangladeshi","Chinese","Other Asian"," African"," Caribbean"," Other Black"," Arab"," Any other ethnic group"]
["All usual residents",10163,6658,281,5,449,141,31,144,101,606,347,110,473,307,186,118,63,55,88]
["0 to 24",6880,4721,62,5,259,102,18,121,83,430,191,53,374,165,118,47,33,34,64]
["25 to 49",1887,974,45,0,142,33,12,16,16,118,120,36,85,127,60,37,26,19,21]
["50 to 64",620,409,44,0,28,4,1,6,0,33,24,16,12,11,6,18,4,2,2]
["65 and over",776,554,130,0,20,2,0,1,2,25,12,5,2,4,2,16,0,0,1]
["Source: ONS, Crown Copyright, 2018",null,null,null,null,null,null,null,null,null,null,null,null,null,null,null,null,null,null,"Transportation & Connectivity, www.birmingham.gov.uk/census, brenda.henry@birmingham.gov.uk, 0121 303 4208"]

{"sheet":"Bournville & Cotteridge","index":24,"n_rows":33,"n_cols":20,"rows_kept":33,"cut":false,"hidden":false,"merged":[[24,0,26,0],[24,1,24,19],[25,1,26,1],[25,2,25,5],[25,6,25,9],[25,10,25,14],[25,15,25,17],[25,18,25,19],[14,0,16,0],[14,1,14,19],[15,1,16,1],[15,2,15,5],[15,6,15,9],[15,10,15,14],[15,15,15,17],[15,18,15,19],[4,0,6,0],[4,1,4,19],[5,1,6,1],[5,2,5,5],[5,6,5,9],[5,10,5,14],[5,15,5,17],[5,18,5,19]]}
["2011 Census Local Characteristics: Table LC2101EW Ethnic group by sex by age"]
[{"$f":"'2018wards'!A13","v":"Bournville & Cotteridge"},null,null,null,null,null,null,null,null,null,null,null,null,null,"BCC estimates for 2018 wards"]
[]
["All people"]
[null,"All People"]
[null,"All people","White",null,null,null,"Mixed",null,null,null,"Asian",null,null,null,null,"Black",null,null,"Other ethnic group"]
[null,null,"British"," Irish"," Gypsy or Irish Traveller","Other White"," White and Black Caribbean"," White and Black African","White and Asian","Other Mixed"," Indian"," Pakistani"," Bangladeshi","Chinese","Other Asian"," African"," Caribbean"," Other Black"," Arab"," Any other ethnic group"]
["All usual residents",17501,14194,381,2,442,325,46,179,122,340,178,42,177,225,297,269,108,76,98]
["0 to 24",5396,4098,33,0,116,234,33,119,77,127,74,15,56,78,130,77,50,39,40]
["25 to 49",5707,4406,105,2,227,74,8,41,38,142,74,23,84,116,142,106,50,26,43]
["50 to 64",3321,2920,95,0,63,11,4,16,5,36,20,3,29,22,20,50,6,10,11]
["65 and over",3077,2770,148,0,36,6,1,3,2,35,10,1,8,9,5,36,2,1,4]
[]
["Males"]
[null,"All People"]
[null,"All people","White",null,null,null,"Mixed",null,null,null,"Asian",null,null,null,null,"Black",null,null,"Other ethnic group"]
[null,null,"British"," Irish"," Gypsy or Irish Traveller","Other White"," White and Black Caribbean"," White and Black African","White and Asian","Other Mixed"," Indian"," Pakistani"," Bangladeshi","Chinese","Other Asian"," African"," Caribbean"," Other Black"," Arab"," Any other ethnic group"]
["All usual residents",8280,6695,177,1,183,149,20,85,63,198,89,28,84,102,137,121,62,35,51]
["0 to 24",2692,2060,13,0,44,103,16,57,40,83,36,10,19,38,59,43,33,18,20]
["25 to 49",2786,2164,57,1,96,40,2,16,19,82,36,15,46,46,66,43,26,11,20]
["50 to 64",1561,1364,52,0,26,3,1,10,2,17,9,2,17,13,11,19,2,5,8]
["65 and over",1241,1107,55,0,17,3,1,2,2,16,8,1,2,5,1,16,1,1,3]
[]
["Females"]
[null,"All People"]
[null,"All people","White",null,null,null,"Mixed",null,null,null,"Asian",null,null,null,null,"Black",null,null,"Other ethnic group"]
[null,null,"British"," Irish"," Gypsy or Irish Traveller","Other White"," White and Black Caribbean"," White and Black African","White and Asian","Other Mixed"," Indian"," Pakistani"," Bangladeshi","Chinese","Other Asian"," African"," Caribbean"," Other Black"," Arab"," Any other ethnic group"]
["All usual residents",9221,7499,204,1,259,176,26,94,59,142,89,14,93,123,160,148,46,41,47]
["0 to 24",2704,2038,20,0,72,131,17,62,37,44,38,5,37,40,71,34,17,21,20]
["25 to 49",2921,2242,48,1,131,34,6,25,19,60,38,8,38,70,76,63,24,15,23]
["50 to 64",1760,1556,43,0,37,8,3,6,3,19,11,1,12,9,9,31,4,5,3]
["65 and over",1836,1663,93,0,19,3,0,1,0,19,2,0,6,4,4,20,1,0,1]
["Source: ONS, Crown Copyright, 2018",null,null,null,null,null,null,null,null,null,null,null,null,null,null,null,null,null,null,"Transportation & Connectivity, www.birmingham.gov.uk/census, brenda.henry@birmingham.gov.uk, 0121 303 4208"]

{"sheet":"Brandwood & King's Heath","index":25,"n_rows":33,"n_cols":20,"rows_kept":33,"cut":false,"hidden":false,"merged":[[24,0,26,0],[24,1,24,19],[25,1,26,1],[25,2,25,5],[25,6,25,9],[25,10,25,14],[25,15,25,17],[25,18,25,19],[14,0,16,0],[14,1,14,19],[15,1,16,1],[15,2,15,5],[15,6,15,9],[15,10,15,14],[15,15,15,17],[15,18,15,19],[4,0,6,0],[4,1,4,19],[5,1,6,1],[5,2,5,5],[5,6,5,9],[5,10,5,14],[5,15,5,17],[5,18,5,19]]}
["2011 Census Local Characteristics: Table LC2101EW Ethnic group by sex by age"]
[{"$f":"'2018wards'!A14","v":"Brandwood & King's Heath"},null,null,null,null,null,null,null,null,null,null,null,null,null,"BCC estimates for 2018 wards"]
[]
["All people"]
[null,"All People"]
[null,"All people","White",null,null,null,"Mixed",null,null,null,"Asian",null,null,null,null,"Black",null,null,"Other ethnic group"]
[null,null,"British"," Irish"," Gypsy or Irish Traveller","Other White"," White and Black Caribbean"," White and Black African","White and Asian","Other Mixed"," Indian"," Pakistani"," Bangladeshi","Chinese","Other Asian"," African"," Caribbean"," Other Black"," Arab"," Any other ethnic group"]
["All usual residents",18948,12520,692,12,535,450,49,272,165,970,1541,119,191,331,169,579,132,81,140]
["0 to 24",6041,3515,91,7,149,308,29,189,118,317,735,58,56,127,72,111,66,34,59]
["25 to 49",7187,4696,193,5,287,120,18,71,33,421,583,47,102,148,75,244,59,38,47]
["50 to 64",3128,2346,163,0,61,11,2,7,11,137,137,9,26,40,19,125,6,4,24]
["65 and over",2592,1963,245,0,38,11,0,5,3,95,86,5,7,16,3,99,1,5,10]
[]
["Males"]
[null,"All People"]
[null,"All people","White",null,null,null,"Mixed",null,null,null,"Asian",null,null,null,null,"Black",null,null,"Other ethnic group"]
[null,null,"British"," Irish"," Gypsy or Irish Traveller","Other White"," White and Black Caribbean"," White and Black African","White and Asian","Other Mixed"," Indian"," Pakistani"," Bangladeshi","Chinese","Other Asian"," African"," Caribbean"," Other Black"," Arab"," Any other ethnic group"]
["All usual residents",9204,6083,345,5,245,198,22,158,66,472,749,64,97,162,90,277,52,47,72]
["0 to 24",3061,1807,48,3,77,132,11,112,46,153,377,31,32,68,40,50,22,18,34]
["25 to 49",3491,2288,97,2,124,57,11,38,17,214,269,24,50,69,36,122,28,22,23]
["50 to 64",1510,1145,90,0,27,3,0,5,2,61,58,6,12,17,11,57,2,2,12]
["65 and over",1142,843,110,0,17,6,0,3,1,44,45,3,3,8,3,48,0,5,3]
[]
["Females"]
[null,"All People"]
[null,"All people","White",null,null,null,"Mixed",null,null,null,"Asian",null,null,null,null,"Black",null,null,"Other ethnic group"]
[null,null,"British"," Irish"," Gypsy or Irish Traveller","Other White"," White and Black Caribbean"," White and Black African","White and Asian","Other Mixed"," Indian"," Pakistani"," Bangladeshi","Chinese","Other Asian"," African"," Caribbean"," Other Black"," Arab"," Any other ethnic group"]
["All usual residents",9744,6437,347,7,290,252,27,114,99,498,792,55,94,169,79,302,80,34,68]
["0 to 24",2980,1708,43,4,72,176,18,77,72,164,358,27,24,59,32,61,44,16,25]
["25 to 49",3696,2408,96,3,163,63,7,33,16,207,314,23,52,79,39,122,31,16,24]
["50 to 64",1618,1201,73,0,34,8,2,2,9,76,79,3,14,23,8,68,4,2,12]
["65 and over",1450,1120,135,0,21,5,0,2,2,51,41,2,4,8,0,51,1,0,7]
["Source: ONS, Crown Copyright, 2018",null,null,null,null,null,null,null,null,null,null,null,null,null,null,null,null,null,null,"Transportation & Connectivity, www.birmingham.gov.uk/census, brenda.henry@birmingham.gov.uk, 0121 303 4208"]

{"sheet":"Bromford & Hodge Hill","index":26,"n_rows":33,"n_cols":20,"rows_kept":33,"cut":false,"hidden":false,"merged":[[24,0,26,0],[24,1,24,19],[25,1,26,1],[25,2,25,5],[25,6,25,9],[25,10,25,14],[25,15,25,17],[25,18,25,19],[14,0,16,0],[14,1,14,19],[15,1,16,1],[15,2,15,5],[15,6,15,9],[15,10,15,14],[15,15,15,17],[15,18,15,19],[4,0,6,0],[4,1,4,19],[5,1,6,1],[5,2,5,5],[5,6,5,9],[5,10,5,14],[5,15,5,17],[5,18,5,19]]}
["2011 Census Local Characteristics: Table LC2101EW Ethnic group by sex by age"]
[{"$f":"'2018wards'!A15","v":"Bromford & Hodge Hill"},null,null,null,null,null,null,null,null,null,null,null,null,null,"BCC estimates for 2018 wards"]
[]
["All people"]
[null,"All People"]
[null,"All people","White",null,null,null,"Mixed",null,null,null,"Asian",null,null,null,null,"Black",null,null,"Other ethnic group"]
[null,null,"British"," Irish"," Gypsy or Irish Traveller","Other White"," White and Black Caribbean"," White and Black African","White and Asian","Other Mixed"," Indian"," Pakistani"," Bangladeshi","Chinese","Other Asian"," African"," Caribbean"," Other Black"," Arab"," Any other ethnic group"]
["All usual residents",20446,10108,333,8,265,579,62,188,129,303,5293,416,94,591,683,719,428,146,101]
["0 to 24",8078,2812,28,5,95,437,51,145,82,124,2772,226,39,306,344,216,256,84,56]
["25 to 49",6655,2911,50,2,120,129,9,31,37,141,2012,162,43,227,280,270,142,55,34]
["50 to 64",2839,2045,80,1,26,6,1,9,3,24,349,19,5,43,54,141,21,4,8]
["65 and over",2874,2340,175,0,24,7,1,3,7,14,160,9,7,15,5,92,9,3,3]
[]
["Males"]
[null,"All People"]
[null,"All people","White",null,null,null,"Mixed",null,null,null,"Asian",null,null,null,null,"Black",null,null,"Other ethnic group"]
[null,null,"British"," Irish"," Gypsy or Irish Traveller","Other White"," White and Black Caribbean"," White and Black African","White and Asian","Other Mixed"," Indian"," Pakistani"," Bangladeshi","Chinese","Other Asian"," African"," Caribbean"," Other Black"," Arab"," Any other ethnic group"]
["All usual residents",9868,4858,133,4,135,283,27,95,74,142,2587,195,49,299,318,318,219,86,46]
["0 to 24",4080,1448,14,4,49,214,23,81,52,59,1369,109,22,156,166,91,148,51,24]
["25 to 49",3148,1381,25,0,58,63,3,8,17,67,969,72,22,116,120,120,60,30,17]
["50 to 64",1420,1039,30,0,14,3,0,3,1,10,178,10,2,21,30,66,6,3,4]
["65 and over",1220,990,64,0,14,3,1,3,4,6,71,4,3,6,2,41,5,2,1]
[]
["Females"]
[null,"All People"]
[null,"All people","White",null,null,null,"Mixed",null,null,null,"Asian",null,null,null,null,"Black",null,null,"Other ethnic group"]
[null,null,"British"," Irish"," Gypsy or Irish Traveller","Other White"," White and Black Caribbean"," White and Black African","White and Asian","Other Mixed"," Indian"," Pakistani"," Bangladeshi","Chinese","Other Asian"," African"," Caribbean"," Other Black"," Arab"," Any other ethnic group"]
["All usual residents",10578,5250,200,4,130,296,35,93,55,161,2706,221,45,292,365,401,209,60,55]
["0 to 24",3998,1364,14,1,46,223,28,64,30,65,1403,117,17,150,178,125,108,33,32]
["25 to 49",3507,1530,25,2,62,66,6,23,20,74,1043,90,21,111,160,150,82,25,17]
["50 to 64",1419,1006,50,1,12,3,1,6,2,14,171,9,3,22,24,75,15,1,4]
["65 and over",1654,1350,111,0,10,4,0,0,3,8,89,5,4,9,3,51,4,1,2]
["Source: ONS, Crown Copyright, 2018",null,null,null,null,null,null,null,null,null,null,null,null,null,null,null,null,null,null,"Transportation & Connectivity, www.birmingham.gov.uk/census, brenda.henry@birmingham.gov.uk, 0121 303 4208"]

{"sheet":"Castle Vale","index":27,"n_rows":33,"n_cols":20,"rows_kept":33,"cut":false,"hidden":false,"merged":[[24,0,26,0],[24,1,24,19],[25,1,26,1],[25,2,25,5],[25,6,25,9],[25,10,25,14],[25,15,25,17],[25,18,25,19],[14,0,16,0],[14,1,14,19],[15,1,16,1],[15,2,15,5],[15,6,15,9],[15,10,15,14],[15,15,15,17],[15,18,15,19],[4,0,6,0],[4,1,4,19],[5,1,6,1],[5,2,5,5],[5,6,5,9],[5,10,5,14],[5,15,5,17],[5,18,5,19]]}
["2011 Census Local Characteristics: Table LC2101EW Ethnic group by sex by age"]
[{"$f":"'2018wards'!A16","v":"Castle Vale"},null,null,null,null,null,null,null,null,null,null,null,null,null,"BCC estimates for 2018 wards"]
[]
["All people"]
[null,"All People"]
[null,"All people","White",null,null,null,"Mixed",null,null,null,"Asian",null,null,null,null,"Black",null,null,"Other ethnic group"]
[null,null,"British"," Irish"," Gypsy or Irish Traveller","Other White"," White and Black Caribbean"," White and Black African","White and Asian","Other Mixed"," Indian"," Pakistani"," Bangladeshi","Chinese","Other Asian"," African"," Caribbean"," Other Black"," Arab"," Any other ethnic group"]
["All usual residents",9971,8280,209,1,100,472,28,52,47,46,40,10,25,28,120,356,103,14,40]
["0 to 24",3529,2753,19,0,24,356,20,35,38,13,20,4,8,12,54,102,50,9,12]
["25 to 49",3250,2704,29,1,55,101,7,11,7,22,16,4,10,14,55,143,48,3,20]
["50 to 64",1461,1283,56,0,15,11,1,4,1,5,3,2,3,2,8,58,4,1,4]
["65 and over",1731,1540,105,0,6,4,0,2,1,6,1,0,4,0,3,53,1,1,4]
[]
["Males"]
[null,"All People"]
[null,"All people","White",null,null,null,"Mixed",null,null,null,"Asian",null,null,null,null,"Black",null,null,"Other ethnic group"]
[null,null,"British"," Irish"," Gypsy or Irish Traveller","Other White"," White and Black Caribbean"," White and Black African","White and Asian","Other Mixed"," Indian"," Pakistani"," Bangladeshi","Chinese","Other Asian"," African"," Caribbean"," Other Black"," Arab"," Any other ethnic group"]
["All usual residents",4582,3804,115,0,46,211,13,27,21,22,15,3,12,14,47,165,40,9,18]
["0 to 24",1776,1415,11,0,12,168,11,19,20,8,8,1,6,4,18,48,20,4,3]
["25 to 49",1364,1138,11,0,25,38,2,5,1,11,6,2,2,9,27,55,18,3,11]
["50 to 64",707,616,36,0,8,3,0,1,0,1,1,0,3,1,1,33,1,1,1]
["65 and over",735,635,57,0,1,2,0,2,0,2,0,0,1,0,1,29,1,1,3]
[]
["Females"]
[null,"All People"]
[null,"All people","White",null,null,null,"Mixed",null,null,null,"Asian",null,null,null,null,"Black",null,null,"Other ethnic group"]
[null,null,"British"," Irish"," Gypsy or Irish Traveller","Other White"," White and Black Caribbean"," White and Black African","White and Asian","Other Mixed"," Indian"," Pakistani"," Bangladeshi","Chinese","Other Asian"," African"," Caribbean"," Other Black"," Arab"," Any other ethnic group"]
["All usual residents",5389,4476,94,1,54,261,15,25,26,24,25,7,13,14,73,191,63,5,22]
["0 to 24",1753,1338,8,0,12,188,9,16,18,5,12,3,2,8,36,54,30,5,9]
["25 to 49",1886,1566,18,1,30,63,5,6,6,11,10,2,8,5,28,88,30,0,9]
["50 to 64",754,667,20,0,7,8,1,3,1,4,2,2,0,1,7,25,3,0,3]
["65 and over",996,905,48,0,5,2,0,0,1,4,1,0,3,0,2,24,0,0,1]
["Source: ONS, Crown Copyright, 2018",null,null,null,null,null,null,null,null,null,null,null,null,null,null,null,null,null,null,"Transportation & Connectivity, www.birmingham.gov.uk/census, brenda.henry@birmingham.gov.uk, 0121 303 4208"]

{"sheet":"Druids Heath & Monyhull","index":28,"n_rows":33,"n_cols":20,"rows_kept":33,"cut":false,"hidden":false,"merged":[[24,0,26,0],[24,1,24,19],[25,1,26,1],[25,2,25,5],[25,6,25,9],[25,10,25,14],[25,15,25,17],[25,18,25,19],[14,0,16,0],[14,1,14,19],[15,1,16,1],[15,2,15,5],[15,6,15,9],[15,10,15,14],[15,15,15,17],[15,18,15,19],[4,0,6,0],[4,1,4,19],[5,1,6,1],[5,2,5,5],[5,6,5,9],[5,10,5,14],[5,15,5,17],[5,18,5,19]]}
["2011 Census Local Characteristics: Table LC2101EW Ethnic group by sex by age"]
[{"$f":"'2018wards'!A17","v":"Druids Heath & Monyhull"},null,null,null,null,null,null,null,null,null,null,null,null,null,"BCC estimates for 2018 wards"]
[]
["All people"]
[null,"All People"]
[null,"All people","White",null,null,null,"Mixed",null,null,null,"Asian",null,null,null,null,"Black",null,null,"Other ethnic group"]
[null,null,"British"," Irish"," Gypsy or Irish Traveller","Other White"," White and Black Caribbean"," White and Black African","White and Asian","Other Mixed"," Indian"," Pakistani"," Bangladeshi","Chinese","Other Asian"," African"," Caribbean"," Other Black"," Arab"," Any other ethnic group"]
["All usual residents",11653,8989,299,1,176,390,48,110,79,219,205,19,75,132,260,384,124,51,92]
["0 to 24",3889,2721,35,0,59,267,23,67,56,70,103,7,31,51,130,141,58,33,37]
["25 to 49",4197,3183,64,0,91,104,23,36,18,110,86,9,34,63,115,146,56,16,43]
["50 to 64",1788,1526,76,0,14,13,1,6,3,20,12,3,6,16,14,64,7,1,6]
["65 and over",1779,1559,124,1,12,6,1,1,2,19,4,0,4,2,1,33,3,1,6]
[]
["Males"]
[null,"All People"]
[null,"All people","White",null,null,null,"Mixed",null,null,null,"Asian",null,null,null,null,"Black",null,null,"Other ethnic group"]
[null,null,"British"," Irish"," Gypsy or Irish Traveller","Other White"," White and Black Caribbean"," White and Black African","White and Asian","Other Mixed"," Indian"," Pakistani"," Bangladeshi","Chinese","Other Asian"," African"," Caribbean"," Other Black"," Arab"," Any other ethnic group"]
["All usual residents",5698,4377,140,1,76,215,19,64,38,105,102,10,41,63,127,171,62,29,58]
["0 to 24",2014,1392,19,0,30,150,12,39,27,37,55,4,21,19,63,68,36,16,26]
["25 to 49",2062,1580,31,0,34,58,6,25,8,49,40,4,16,36,57,62,21,11,24]
["50 to 64",887,762,43,0,5,3,1,0,3,9,6,2,2,7,7,27,4,1,5]
["65 and over",735,643,47,1,7,4,0,0,0,10,1,0,2,1,0,14,1,1,3]
[]
["Females"]
[null,"All People"]
[null,"All people","White",null,null,null,"Mixed",null,null,null,"Asian",null,null,null,null,"Black",null,null,"Other ethnic group"]
[null,null,"British"," Irish"," Gypsy or Irish Traveller","Other White"," White and Black Caribbean"," White and Black African","White and Asian","Other Mixed"," Indian"," Pakistani"," Bangladeshi","Chinese","Other Asian"," African"," Caribbean"," Other Black"," Arab"," Any other ethnic group"]
["All usual residents",5955,4612,159,0,100,175,29,46,41,114,103,9,34,69,133,213,62,22,34]
["0 to 24",1875,1329,16,0,29,117,11,28,29,33,48,3,10,32,67,73,22,17,11]
["25 to 49",2135,1603,33,0,57,46,17,11,10,61,46,5,18,27,58,84,35,5,19]
["50 to 64",901,764,33,0,9,10,0,6,0,11,6,1,4,9,7,37,3,0,1]
["65 and over",1044,916,77,0,5,2,1,1,2,9,3,0,2,1,1,19,2,0,3]
["Source: ONS, Crown Copyright, 2018",null,null,null,null,null,null,null,null,null,null,null,null,null,null,null,null,null,null,"Transportation & Connectivity, www.birmingham.gov.uk/census, brenda.henry@birmingham.gov.uk, 0121 303 4208"]

{"sheet":"Edgbaston","index":29,"n_rows":33,"n_cols":20,"rows_kept":33,"cut":false,"hidden":false,"merged":[[24,0,26,0],[24,1,24,19],[25,1,26,1],[25,2,25,5],[25,6,25,9],[25,10,25,14],[25,15,25,17],[25,18,25,19],[14,0,16,0],[14,1,14,19],[15,1,16,1],[15,2,15,5],[15,6,15,9],[15,10,15,14],[15,15,15,17],[15,18,15,19],[4,0,6,0],[4,1,4,19],[5,1,6,1],[5,2,5,5],[5,6,5,9],[5,10,5,14],[5,15,5,17],[5,18,5,19]]}
["2011 Census Local Characteristics: Table LC2101EW Ethnic group by sex by age"]
[{"$f":"'2018wards'!A18","v":"Edgbaston"},null,null,null,null,null,null,null,null,null,null,null,null,null,"BCC estimates for 2018 wards"]
[]
["All people"]
[null,"All People"]
[null,"All people","White",null,null,null,"Mixed",null,null,null,"Asian",null,null,null,null,"Black",null,null,"Other ethnic group"]
[null,null,"British"," Irish"," Gypsy or Irish Traveller","Other White"," White and Black Caribbean"," White and Black African","White and Asian","Other Mixed"," Indian"," Pakistani"," Bangladeshi","Chinese","Other Asian"," African"," Caribbean"," Other Black"," Arab"," Any other ethnic group"]
["All usual residents",18260,9756,248,6,918,262,63,341,208,2355,863,146,720,725,470,482,161,217,319]
["0 to 24",8647,4772,45,2,383,172,41,263,140,925,413,65,411,303,269,135,76,102,130]
["25 to 49",5181,2018,57,2,386,74,19,65,58,965,303,57,217,311,162,198,64,91,134]
["50 to 64",2237,1345,61,2,86,12,2,10,7,283,101,19,55,78,31,78,14,18,35]
["65 and over",2195,1621,85,0,63,4,1,3,3,182,46,5,37,33,8,71,7,6,20]
[]
["Males"]
[null,"All People"]
[null,"All people","White",null,null,null,"Mixed",null,null,null,"Asian",null,null,null,null,"Black",null,null,"Other ethnic group"]
[null,null,"British"," Irish"," Gypsy or Irish Traveller","Other White"," White and Black Caribbean"," White and Black African","White and Asian","Other Mixed"," Indian"," Pakistani"," Bangladeshi","Chinese","Other Asian"," African"," Caribbean"," Other Black"," Arab"," Any other ethnic group"]
["All usual residents",9024,4743,109,4,429,122,37,186,104,1190,440,75,364,376,216,238,77,131,183]
["0 to 24",4054,2125,16,1,178,84,24,143,67,457,218,32,210,155,121,58,32,58,75]
["25 to 49",2785,1156,30,2,187,28,12,40,33,496,149,32,108,166,73,103,32,60,78]
["50 to 64",1144,719,30,1,39,7,1,3,3,128,50,7,22,40,19,38,8,9,20]
["65 and over",1041,743,33,0,25,3,0,0,1,109,23,4,24,15,3,39,5,4,10]
[]
["Females"]
[null,"All People"]
[null,"All people","White",null,null,null,"Mixed",null,null,null,"Asian",null,null,null,null,"Black",null,null,"Other ethnic group"]
[null,null,"British"," Irish"," Gypsy or Irish Traveller","Other White"," White and Black Caribbean"," White and Black African","White and Asian","Other Mixed"," Indian"," Pakistani"," Bangladeshi","Chinese","Other Asian"," African"," Caribbean"," Other Black"," Arab"," Any other ethnic group"]
["All usual residents",9236,5013,139,2,489,140,26,155,104,1165,423,71,356,349,254,244,84,86,136]
["0 to 24",4593,2647,29,1,205,88,17,120,73,468,195,33,201,148,148,77,44,44,55]
["25 to 49",2396,862,27,0,199,46,7,25,25,469,154,25,109,145,89,95,32,31,56]
["50 to 64",1093,626,31,1,47,5,1,7,4,155,51,12,33,38,12,40,6,9,15]
["65 and over",1154,878,52,0,38,1,1,3,2,73,23,1,13,18,5,32,2,2,10]
["Source: ONS, Crown Copyright, 2018",null,null,null,null,null,null,null,null,null,null,null,null,null,null,null,null,null,null,"Transportation & Connectivity, www.birmingham.gov.uk/census, brenda.henry@birmingham.gov.uk, 0121 303 4208"]

{"sheet":"Erdington","index":30,"n_rows":33,"n_cols":20,"rows_kept":33,"cut":false,"hidden":false,"merged":[[24,0,26,0],[24,1,24,19],[25,1,26,1],[25,2,25,5],[25,6,25,9],[25,10,25,14],[25,15,25,17],[25,18,25,19],[14,0,16,0],[14,1,14,19],[15,1,16,1],[15,2,15,5],[15,6,15,9],[15,10,15,14],[15,15,15,17],[15,18,15,19],[4,0,6,0],[4,1,4,19],[5,1,6,1],[5,2,5,5],[5,6,5,9],[5,10,5,14],[5,15,5,17],[5,18,5,19]]}
["2011 Census Local Characteristics: Table LC2101EW Ethnic group by sex by age"]
[{"$f":"'2018wards'!A19","v":"Erdington"},null,null,null,null,null,null,null,null,null,null,null,null,null,"BCC estimates for 2018 wards"]
[]
["All people"]
[null,"All People"]
[null,"All people","White",null,null,null,"Mixed",null,null,null,"Asian",null,null,null,null,"Black",null,null,"Other ethnic group"]
[null,null,"British"," Irish"," Gypsy or Irish Traveller","Other White"," White and Black Caribbean"," White and Black African","White and Asian","Other Mixed"," Indian"," Pakistani"," Bangladeshi","Chinese","Other Asian"," African"," Caribbean"," Other Black"," Arab"," Any other ethnic group"]
["All usual residents",18603,12899,916,4,726,542,67,223,148,479,567,130,115,174,382,886,233,35,77]
["0 to 24",5569,3357,93,1,204,395,44,169,92,165,273,65,48,71,187,270,102,12,21]
["25 to 49",6681,4460,203,2,431,125,20,38,36,224,232,53,48,84,178,381,105,19,42]
["50 to 64",3197,2577,210,0,58,13,2,13,15,58,46,10,10,12,13,127,23,2,8]
["65 and over",3156,2505,410,1,33,9,1,3,5,32,16,2,9,7,4,108,3,2,6]
[]
["Males"]
[null,"All People"]
[null,"All people","White",null,null,null,"Mixed",null,null,null,"Asian",null,null,null,null,"Black",null,null,"Other ethnic group"]
[null,null,"British"," Irish"," Gypsy or Irish Traveller","Other White"," White and Black Caribbean"," White and Black African","White and Asian","Other Mixed"," Indian"," Pakistani"," Bangladeshi","Chinese","Other Asian"," African"," Caribbean"," Other Black"," Arab"," Any other ethnic group"]
["All usual residents",9132,6332,449,3,327,260,36,124,66,245,283,68,61,84,190,416,121,20,47]
["0 to 24",2788,1713,40,1,74,179,21,93,42,92,135,36,28,37,95,130,54,8,10]
["25 to 49",3345,2228,118,2,214,71,14,19,14,102,112,27,24,40,87,177,58,9,29]
["50 to 64",1640,1329,110,0,24,5,1,10,7,34,26,3,4,4,7,62,9,1,4]
["65 and over",1359,1062,181,0,15,5,0,2,3,17,10,2,5,3,1,47,0,2,4]
[]
["Females"]
[null,"All People"]
[null,"All people","White",null,null,null,"Mixed",null,null,null,"Asian",null,null,null,null,"Black",null,null,"Other ethnic group"]
[null,null,"British"," Irish"," Gypsy or Irish Traveller","Other White"," White and Black Caribbean"," White and Black African","White and Asian","Other Mixed"," Indian"," Pakistani"," Bangladeshi","Chinese","Other Asian"," African"," Caribbean"," Other Black"," Arab"," Any other ethnic group"]
["All usual residents",9471,6567,467,1,399,282,31,99,82,234,284,62,54,90,192,470,112,15,30]
["0 to 24",2781,1644,53,0,130,216,23,76,50,73,138,29,20,34,92,140,48,4,11]
["25 to 49",3336,2232,85,0,217,54,6,19,22,122,120,26,24,44,91,204,47,10,13]
["50 to 64",1557,1248,100,0,34,8,1,3,8,24,20,7,6,8,6,65,14,1,4]
["65 and over",1797,1443,229,1,18,4,1,1,2,15,6,0,4,4,3,61,3,0,2]
["Source: ONS, Crown Copyright, 2018",null,null,null,null,null,null,null,null,null,null,null,null,null,null,null,null,null,null,"Transportation & Connectivity, www.birmingham.gov.uk/census, brenda.henry@birmingham.gov.uk, 0121 303 4208"]

{"sheet":"Frankley Great Park","index":31,"n_rows":33,"n_cols":20,"rows_kept":33,"cut":false,"hidden":false,"merged":[[24,0,26,0],[24,1,24,19],[25,1,26,1],[25,2,25,5],[25,6,25,9],[25,10,25,14],[25,15,25,17],[25,18,25,19],[14,0,16,0],[14,1,14,19],[15,1,16,1],[15,2,15,5],[15,6,15,9],[15,10,15,14],[15,15,15,17],[15,18,15,19],[4,0,6,0],[4,1,4,19],[5,1,6,1],[5,2,5,5],[5,6,5,9],[5,10,5,14],[5,15,5,17],[5,18,5,19]]}
["2011 Census Local Characteristics: Table LC2101EW Ethnic group by sex by age"]
[{"$f":"'2018wards'!A20","v":"Frankley Great Park"},null,null,null,null,null,null,null,null,null,null,null,null,null,"BCC estimates for 2018 wards"]
[]
["All people"]
[null,"All People"]
[null,"All people","White",null,null,null,"Mixed",null,null,null,"Asian",null,null,null,null,"Black",null,null,"Other ethnic group"]
[null,null,"British"," Irish"," Gypsy or Irish Traveller","Other White"," White and Black Caribbean"," White and Black African","White and Asian","Other Mixed"," Indian"," Pakistani"," Bangladeshi","Chinese","Other Asian"," African"," Caribbean"," Other Black"," Arab"," Any other ethnic group"]
["All usual residents",11032,9304,185,2,105,403,31,86,60,79,83,9,52,66,143,274,104,7,39]
["0 to 24",3648,2918,12,0,27,283,22,50,34,19,40,2,13,29,65,67,46,3,18]
["25 to 49",3981,3338,39,2,43,113,7,24,20,48,31,5,30,29,69,117,50,3,13]
["50 to 64",2076,1855,70,0,21,5,2,10,5,8,5,0,7,8,8,58,7,0,7]
["65 and over",1327,1193,64,0,14,2,0,2,1,4,7,2,2,0,1,32,1,1,1]
[]
["Males"]
[null,"All People"]
[null,"All people","White",null,null,null,"Mixed",null,null,null,"Asian",null,null,null,null,"Black",null,null,"Other ethnic group"]
[null,null,"British"," Irish"," Gypsy or Irish Traveller","Other White"," White and Black Caribbean"," White and Black African","White and Asian","Other Mixed"," Indian"," Pakistani"," Bangladeshi","Chinese","Other Asian"," African"," Caribbean"," Other Black"," Arab"," Any other ethnic group"]
["All usual residents",5319,4499,89,2,42,201,13,48,30,36,40,4,21,27,70,117,56,4,20]
["0 to 24",1859,1484,9,0,12,150,8,30,21,8,22,1,4,12,30,33,26,3,6]
["25 to 49",1885,1599,20,2,15,49,5,12,6,23,11,3,13,12,35,46,25,1,8]
["50 to 64",962,868,26,0,10,1,0,4,2,3,2,0,3,3,5,26,4,0,5]
["65 and over",613,548,34,0,5,1,0,2,1,2,5,0,1,0,0,12,1,0,1]
[]
["Females"]
[null,"All People"]
[null,"All people","White",null,null,null,"Mixed",null,null,null,"Asian",null,null,null,null,"Black",null,null,"Other ethnic group"]
[null,null,"British"," Irish"," Gypsy or Irish Traveller","Other White"," White and Black Caribbean"," White and Black African","White and Asian","Other Mixed"," Indian"," Pakistani"," Bangladeshi","Chinese","Other Asian"," African"," Caribbean"," Other Black"," Arab"," Any other ethnic group"]
["All usual residents",5713,4805,96,0,63,202,18,38,30,43,43,5,31,39,73,157,48,3,19]
["0 to 24",1789,1434,3,0,15,133,14,20,13,11,18,1,9,17,35,34,20,0,12]
["25 to 49",2096,1739,19,0,28,64,2,12,14,25,20,2,17,17,34,71,25,2,5]
["50 to 64",1114,987,44,0,11,4,2,6,3,5,3,0,4,5,3,32,3,0,2]
["65 and over",714,645,30,0,9,1,0,0,0,2,2,2,1,0,1,20,0,1,0]
["Source: ONS, Crown Copyright, 2018",null,null,null,null,null,null,null,null,null,null,null,null,null,null,null,null,null,null,"Transportation & Connectivity, www.birmingham.gov.uk/census, brenda.henry@birmingham.gov.uk, 0121 303 4208"]

{"sheet":"Garretts Green","index":32,"n_rows":33,"n_cols":20,"rows_kept":33,"cut":false,"hidden":false,"merged":[[24,0,26,0],[24,1,24,19],[25,1,26,1],[25,2,25,5],[25,6,25,9],[25,10,25,14],[25,15,25,17],[25,18,25,19],[14,0,16,0],[14,1,14,19],[15,1,16,1],[15,2,15,5],[15,6,15,9],[15,10,15,14],[15,15,15,17],[15,18,15,19],[4,0,6,0],[4,1,4,19],[5,1,6,1],[5,2,5,5],[5,6,5,9],[5,10,5,14],[5,15,5,17],[5,18,5,19]]}
["2011 Census Local Characteristics: Table LC2101EW Ethnic group by sex by age"]
[{"$f":"'2018wards'!A21","v":"Garretts Green"},null,null,null,null,null,null,null,null,null,null,null,null,null,"BCC estimates for 2018 wards"]
[]
["All people"]
[null,"All People"]
[null,"All people","White",null,null,null,"Mixed",null,null,null,"Asian",null,null,null,null,"Black",null,null,"Other ethnic group"]
[null,null,"British"," Irish"," Gypsy or Irish Traveller","Other White"," White and Black Caribbean"," White and Black African","White and Asian","Other Mixed"," Indian"," Pakistani"," Bangladeshi","Chinese","Other Asian"," African"," Caribbean"," Other Black"," Arab"," Any other ethnic group"]
["All usual residents",9431,6770,218,2,157,229,14,83,69,135,661,112,20,219,192,358,151,9,32]
["0 to 24",3602,2332,21,1,43,170,9,56,53,59,362,65,8,108,104,102,93,5,11]
["25 to 49",3171,2205,48,1,93,57,4,18,12,62,252,39,11,99,70,133,50,4,13]
["50 to 64",1384,1164,53,0,16,1,1,7,3,13,30,7,1,10,14,54,6,0,4]
["65 and over",1274,1069,96,0,5,1,0,2,1,1,17,1,0,2,4,69,2,0,4]
[]
["Males"]
[null,"All People"]
[null,"All people","White",null,null,null,"Mixed",null,null,null,"Asian",null,null,null,null,"Black",null,null,"Other ethnic group"]
[null,null,"British"," Irish"," Gypsy or Irish Traveller","Other White"," White and Black Caribbean"," White and Black African","White and Asian","Other Mixed"," Indian"," Pakistani"," Bangladeshi","Chinese","Other Asian"," African"," Caribbean"," Other Black"," Arab"," Any other ethnic group"]
["All usual residents",4559,3238,92,2,80,106,10,47,32,78,334,53,10,108,88,175,83,4,19]
["0 to 24",1854,1188,11,1,23,87,7,34,26,33,193,30,5,57,49,51,53,1,5]
["25 to 49",1491,1031,20,1,47,18,2,11,5,36,120,20,5,44,30,64,24,3,10]
["50 to 64",687,584,23,0,8,0,1,2,1,8,14,3,0,5,7,25,4,0,2]
["65 and over",527,435,38,0,2,1,0,0,0,1,7,0,0,2,2,35,2,0,2]
[]
["Females"]
[null,"All People"]
[null,"All people","White",null,null,null,"Mixed",null,null,null,"Asian",null,null,null,null,"Black",null,null,"Other ethnic group"]
[null,null,"British"," Irish"," Gypsy or Irish Traveller","Other White"," White and Black Caribbean"," White and Black African","White and Asian","Other Mixed"," Indian"," Pakistani"," Bangladeshi","Chinese","Other Asian"," African"," Caribbean"," Other Black"," Arab"," Any other ethnic group"]
["All usual residents",4872,3532,126,0,77,123,4,36,37,57,327,59,10,111,104,183,68,5,13]
["0 to 24",1748,1144,10,0,20,83,2,22,27,26,169,35,3,51,55,51,40,4,6]
["25 to 49",1680,1174,28,0,46,39,2,7,7,26,132,19,6,55,40,69,26,1,3]
["50 to 64",697,580,30,0,8,1,0,5,2,5,16,4,1,5,7,29,2,0,2]
["65 and over",747,634,58,0,3,0,0,2,1,0,10,1,0,0,2,34,0,0,2]
["Source: ONS, Crown Copyright, 2018",null,null,null,null,null,null,null,null,null,null,null,null,null,null,null,null,null,null,"Transportation & Connectivity, www.birmingham.gov.uk/census, brenda.henry@birmingham.gov.uk, 0121 303 4208"]

{"sheet":"Glebe Farm & Tile Cross","index":33,"n_rows":33,"n_cols":20,"rows_kept":33,"cut":false,"hidden":false,"merged":[[24,0,26,0],[24,1,24,19],[25,1,26,1],[25,2,25,5],[25,6,25,9],[25,10,25,14],[25,15,25,17],[25,18,25,19],[14,0,16,0],[14,1,14,19],[15,1,16,1],[15,2,15,5],[15,6,15,9],[15,10,15,14],[15,15,15,17],[15,18,15,19],[4,0,6,0],[4,1,4,19],[5,1,6,1],[5,2,5,5],[5,6,5,9],[5,10,5,14],[5,15,5,17],[5,18,5,19]]}
["2011 Census Local Characteristics: Table LC2101EW Ethnic group by sex by age"]
[{"$f":"'2018wards'!A22","v":"Glebe Farm & Tile Cross"},null,null,null,null,null,null,null,null,null,null,null,null,null,"BCC estimates for 2018 wards"]
[]
["All people"]
[null,"All People"]
[null,"All people","White",null,null,null,"Mixed",null,null,null,"Asian",null,null,null,null,"Black",null,null,"Other ethnic group"]
[null,null,"British"," Irish"," Gypsy or Irish Traveller","Other White"," White and Black Caribbean"," White and Black African","White and Asian","Other Mixed"," Indian"," Pakistani"," Bangladeshi","Chinese","Other Asian"," African"," Caribbean"," Other Black"," Arab"," Any other ethnic group"]
["All usual residents",23038,14939,407,1,313,833,75,268,189,285,2914,237,54,660,423,913,312,77,138]
["0 to 24",9167,5010,45,0,108,608,50,207,137,126,1592,132,19,333,215,321,155,45,64]
["25 to 49",7861,4867,90,1,170,207,19,51,45,135,1107,90,26,281,181,356,140,30,65]
["50 to 64",3259,2661,123,0,27,17,6,8,6,17,159,11,6,40,26,134,11,1,6]
["65 and over",2751,2401,149,0,8,1,0,2,1,7,56,4,3,6,1,102,6,1,3]
[]
["Males"]
[null,"All People"]
[null,"All people","White",null,null,null,"Mixed",null,null,null,"Asian",null,null,null,null,"Black",null,null,"Other ethnic group"]
[null,null,"British"," Irish"," Gypsy or Irish Traveller","Other White"," White and Black Caribbean"," White and Black African","White and Asian","Other Mixed"," Indian"," Pakistani"," Bangladeshi","Chinese","Other Asian"," African"," Caribbean"," Other Black"," Arab"," Any other ethnic group"]
["All usual residents",11007,7101,176,1,157,399,32,135,93,145,1442,110,22,329,200,386,148,45,86]
["0 to 24",4614,2539,18,0,55,296,22,104,65,77,815,59,9,165,107,141,77,28,37]
["25 to 49",3672,2255,38,1,88,100,9,27,25,61,530,44,9,141,77,142,65,15,45]
["50 to 64",1557,1300,50,0,11,2,1,2,3,4,75,4,2,20,15,59,5,1,3]
["65 and over",1164,1007,70,0,3,1,0,2,0,3,22,3,2,3,1,44,1,1,1]
[]
["Females"]
[null,"All People"]
[null,"All people","White",null,null,null,"Mixed",null,null,null,"Asian",null,null,null,null,"Black",null,null,"Other ethnic group"]
[null,null,"British"," Irish"," Gypsy or Irish Traveller","Other White"," White and Black Caribbean"," White and Black African","White and Asian","Other Mixed"," Indian"," Pakistani"," Bangladeshi","Chinese","Other Asian"," African"," Caribbean"," Other Black"," Arab"," Any other ethnic group"]
["All usual residents",12031,7838,231,0,156,434,43,133,96,140,1472,127,32,331,223,527,164,32,52]
["0 to 24",4553,2471,27,0,53,312,28,103,72,49,777,73,10,168,108,180,78,17,27]
["25 to 49",4189,2612,52,0,82,107,10,24,20,74,577,46,17,140,104,214,75,15,20]
["50 to 64",1702,1361,73,0,16,15,5,6,3,13,84,7,4,20,11,75,6,0,3]
["65 and over",1587,1394,79,0,5,0,0,0,1,4,34,1,1,3,0,58,5,0,2]
["Source: ONS, Crown Copyright, 2018",null,null,null,null,null,null,null,null,null,null,null,null,null,null,null,null,null,null,"Transportation & Connectivity, www.birmingham.gov.uk/census, brenda.henry@birmingham.gov.uk, 0121 303 4208"]

{"sheet":"Gravelly Hill","index":34,"n_rows":33,"n_cols":20,"rows_kept":33,"cut":false,"hidden":false,"merged":[[24,0,26,0],[24,1,24,19],[25,1,26,1],[25,2,25,5],[25,6,25,9],[25,10,25,14],[25,15,25,17],[25,18,25,19],[14,0,16,0],[14,1,14,19],[15,1,16,1],[15,2,15,5],[15,6,15,9],[15,10,15,14],[15,15,15,17],[15,18,15,19],[4,0,6,0],[4,1,4,19],[5,1,6,1],[5,2,5,5],[5,6,5,9],[5,10,5,14],[5,15,5,17],[5,18,5,19]]}
["2011 Census Local Characteristics: Table LC2101EW Ethnic group by sex by age"]
[{"$f":"'2018wards'!A23","v":"Gravelly Hill"},null,null,null,null,null,null,null,null,null,null,null,null,null,"BCC estimates for 2018 wards"]
[]
["All people"]
[null,"All People"]
[null,"All people","White",null,null,null,"Mixed",null,null,null,"Asian",null,null,null,null,"Black",null,null,"Other ethnic group"]
[null,null,"British"," Irish"," Gypsy or Irish Traveller","Other White"," White and Black Caribbean"," White and Black African","White and Asian","Other Mixed"," Indian"," Pakistani"," Bangladeshi","Chinese","Other Asian"," African"," Caribbean"," Other Black"," Arab"," Any other ethnic group"]
["All usual residents",9875,4374,282,11,516,402,36,162,99,341,1432,127,106,291,351,920,282,40,103]
["0 to 24",3650,1263,25,6,144,272,25,116,52,108,774,70,43,133,146,280,120,21,52]
["25 to 49",3685,1507,63,4,309,100,9,32,39,169,516,50,54,116,196,342,125,16,38]
["50 to 64",1433,910,73,1,31,15,2,12,7,49,102,1,9,28,6,150,24,3,10]
["65 and over",1107,694,121,0,32,15,0,2,1,15,40,6,0,14,3,148,13,0,3]
[]
["Males"]
[null,"All People"]
[null,"All people","White",null,null,null,"Mixed",null,null,null,"Asian",null,null,null,null,"Black",null,null,"Other ethnic group"]
[null,null,"British"," Irish"," Gypsy or Irish Traveller","Other White"," White and Black Caribbean"," White and Black African","White and Asian","Other Mixed"," Indian"," Pakistani"," Bangladeshi","Chinese","Other Asian"," African"," Caribbean"," Other Black"," Arab"," Any other ethnic group"]
["All usual residents",4876,2129,155,7,258,205,18,99,55,187,691,64,57,151,182,404,138,18,58]
["0 to 24",1819,583,14,3,72,146,13,72,30,65,377,38,27,71,70,134,70,8,26]
["25 to 49",1847,777,36,3,160,44,5,18,17,91,240,23,25,63,105,150,57,7,26]
["50 to 64",735,474,44,1,15,7,0,7,7,23,55,1,5,10,4,65,9,3,5]
["65 and over",475,295,61,0,11,8,0,2,1,8,19,2,0,7,3,55,2,0,1]
[]
["Females"]
[null,"All People"]
[null,"All people","White",null,null,null,"Mixed",null,null,null,"Asian",null,null,null,null,"Black",null,null,"Other ethnic group"]
[null,null,"British"," Irish"," Gypsy or Irish Traveller","Other White"," White and Black Caribbean"," White and Black African","White and Asian","Other Mixed"," Indian"," Pakistani"," Bangladeshi","Chinese","Other Asian"," African"," Caribbean"," Other Black"," Arab"," Any other ethnic group"]
["All usual residents",4999,2245,127,4,258,197,18,63,44,154,741,63,49,140,169,516,144,22,45]
["0 to 24",1831,680,11,3,72,126,12,44,22,43,397,32,16,62,76,146,50,13,26]
["25 to 49",1838,730,27,1,149,56,4,14,22,78,276,27,29,53,91,192,68,9,12]
["50 to 64",698,436,29,0,16,8,2,5,0,26,47,0,4,18,2,85,15,0,5]
["65 and over",632,399,60,0,21,7,0,0,0,7,21,4,0,7,0,93,11,0,2]
["Source: ONS, Crown Copyright, 2018",null,null,null,null,null,null,null,null,null,null,null,null,null,null,null,null,null,null,"Transportation & Connectivity, www.birmingham.gov.uk/census, brenda.henry@birmingham.gov.uk, 0121 303 4208"]

{"sheet":"Hall Green North","index":35,"n_rows":33,"n_cols":20,"rows_kept":33,"cut":false,"hidden":false,"merged":[[24,0,26,0],[24,1,24,19],[25,1,26,1],[25,2,25,5],[25,6,25,9],[25,10,25,14],[25,15,25,17],[25,18,25,19],[14,0,16,0],[14,1,14,19],[15,1,16,1],[15,2,15,5],[15,6,15,9],[15,10,15,14],[15,15,15,17],[15,18,15,19],[4,0,6,0],[4,1,4,19],[5,1,6,1],[5,2,5,5],[5,6,5,9],[5,10,5,14],[5,15,5,17],[5,18,5,19]]}
["2011 Census Local Characteristics: Table LC2101EW Ethnic group by sex by age"]
[{"$f":"'2018wards'!A24","v":"Hall Green North"},null,null,null,null,null,null,null,null,null,null,null,null,null,"BCC estimates for 2018 wards"]
[]
["All people"]
[null,"All People"]
[null,"All people","White",null,null,null,"Mixed",null,null,null,"Asian",null,null,null,null,"Black",null,null,"Other ethnic group"]
[null,null,"British"," Irish"," Gypsy or Irish Traveller","Other White"," White and Black Caribbean"," White and Black African","White and Asian","Other Mixed"," Indian"," Pakistani"," Bangladeshi","Chinese","Other Asian"," African"," Caribbean"," Other Black"," Arab"," Any other ethnic group"]
["All usual residents",21509,7757,832,5,525,288,45,277,149,2652,6034,626,100,976,233,405,111,208,286]
["0 to 24",8088,1939,105,0,165,200,37,214,116,825,3169,327,32,437,121,121,56,106,118]
["25 to 49",7329,2332,197,3,259,75,5,58,29,999,2253,248,46,368,91,143,48,77,98]
["50 to 64",3267,1666,219,2,54,5,3,5,3,571,415,35,15,122,19,79,5,16,33]
["65 and over",2825,1820,311,0,47,8,0,0,1,257,197,16,7,49,2,62,2,9,37]
[]
["Males"]
[null,"All People"]
[null,"All people","White",null,null,null,"Mixed",null,null,null,"Asian",null,null,null,null,"Black",null,null,"Other ethnic group"]
[null,null,"British"," Irish"," Gypsy or Irish Traveller","Other White"," White and Black Caribbean"," White and Black African","White and Asian","Other Mixed"," Indian"," Pakistani"," Bangladeshi","Chinese","Other Asian"," African"," Caribbean"," Other Black"," Arab"," Any other ethnic group"]
["All usual residents",10549,3749,409,2,252,147,21,152,75,1312,2953,331,47,482,112,199,64,108,134]
["0 to 24",4161,1011,59,0,89,109,17,125,61,430,1585,180,15,211,66,61,34,58,50]
["25 to 49",3570,1159,106,2,121,32,2,24,14,493,1070,124,21,185,34,74,26,34,49]
["50 to 64",1619,824,105,0,25,3,2,3,0,282,209,19,6,61,11,38,3,10,18]
["65 and over",1199,755,139,0,17,3,0,0,0,107,89,8,5,25,1,26,1,6,17]
[]
["Females"]
[null,"All People"]
[null,"All people","White",null,null,null,"Mixed",null,null,null,"Asian",null,null,null,null,"Black",null,null,"Other ethnic group"]
[null,null,"British"," Irish"," Gypsy or Irish Traveller","Other White"," White and Black Caribbean"," White and Black African","White and Asian","Other Mixed"," Indian"," Pakistani"," Bangladeshi","Chinese","Other Asian"," African"," Caribbean"," Other Black"," Arab"," Any other ethnic group"]
["All usual residents",10960,4008,423,3,273,141,24,125,74,1340,3081,295,53,494,121,206,47,100,152]
["0 to 24",3927,928,46,0,76,91,20,89,55,395,1584,147,17,226,55,60,22,48,68]
["25 to 49",3759,1173,91,1,138,43,3,34,15,506,1183,124,25,183,57,69,22,43,49]
["50 to 64",1648,842,114,2,29,2,1,2,3,289,206,16,9,61,8,41,2,6,15]
["65 and over",1626,1065,172,0,30,5,0,0,1,150,108,8,2,24,1,36,1,3,20]
["Source: ONS, Crown Copyright, 2018",null,null,null,null,null,null,null,null,null,null,null,null,null,null,null,null,null,null,"Transportation & Connectivity, www.birmingham.gov.uk/census, brenda.henry@birmingham.gov.uk, 0121 303 4208"]

{"sheet":"Hall Green South","index":36,"n_rows":33,"n_cols":20,"rows_kept":33,"cut":false,"hidden":false,"merged":[[24,0,26,0],[24,1,24,19],[25,1,26,1],[25,2,25,5],[25,6,25,9],[25,10,25,14],[25,15,25,17],[25,18,25,19],[14,0,16,0],[14,1,14,19],[15,1,16,1],[15,2,15,5],[15,6,15,9],[15,10,15,14],[15,15,15,17],[15,18,15,19],[4,0,6,0],[4,1,4,19],[5,1,6,1],[5,2,5,5],[5,6,5,9],[5,10,5,14],[5,15,5,17],[5,18,5,19]]}
["2011 Census Local Characteristics: Table LC2101EW Ethnic group by sex by age"]
[{"$f":"'2018wards'!A25","v":"Hall Green South"},null,null,null,null,null,null,null,null,null,null,null,null,null,"BCC estimates for 2018 wards"]
[]
["All people"]
[null,"All People"]
[null,"All people","White",null,null,null,"Mixed",null,null,null,"Asian",null,null,null,null,"Black",null,null,"Other ethnic group"]
[null,null,"British"," Irish"," Gypsy or Irish Traveller","Other White"," White and Black Caribbean"," White and Black African","White and Asian","Other Mixed"," Indian"," Pakistani"," Bangladeshi","Chinese","Other Asian"," African"," Caribbean"," Other Black"," Arab"," Any other ethnic group"]
["All usual residents",10420,6392,542,2,136,107,9,107,61,1188,1115,97,55,292,33,96,33,43,112]
["0 to 24",3177,1630,92,0,33,76,6,77,47,387,535,43,14,127,14,19,11,23,43]
["25 to 49",3657,2108,161,2,67,25,3,27,11,484,453,40,27,110,17,38,22,16,46]
["50 to 64",1892,1333,122,0,21,5,0,2,3,218,84,10,10,42,0,22,0,4,16]
["65 and over",1694,1321,167,0,15,1,0,1,0,99,43,4,4,13,2,17,0,0,7]
[]
["Males"]
[null,"All People"]
[null,"All people","White",null,null,null,"Mixed",null,null,null,"Asian",null,null,null,null,"Black",null,null,"Other ethnic group"]
[null,null,"British"," Irish"," Gypsy or Irish Traveller","Other White"," White and Black Caribbean"," White and Black African","White and Asian","Other Mixed"," Indian"," Pakistani"," Bangladeshi","Chinese","Other Asian"," African"," Caribbean"," Other Black"," Arab"," Any other ethnic group"]
["All usual residents",5139,3159,263,2,53,59,3,53,35,587,556,45,30,141,15,40,20,19,59]
["0 to 24",1643,851,43,0,14,44,3,32,27,205,283,18,8,60,6,11,6,12,20]
["25 to 49",1808,1044,88,2,27,13,0,19,5,234,215,19,15,58,7,14,14,6,28]
["50 to 64",918,658,59,0,7,2,0,1,3,106,38,6,3,18,0,8,0,1,8]
["65 and over",770,606,73,0,5,0,0,1,0,42,20,2,4,5,2,7,0,0,3]
[]
["Females"]
[null,"All People"]
[null,"All people","White",null,null,null,"Mixed",null,null,null,"Asian",null,null,null,null,"Black",null,null,"Other ethnic group"]
[null,null,"British"," Irish"," Gypsy or Irish Traveller","Other White"," White and Black Caribbean"," White and Black African","White and Asian","Other Mixed"," Indian"," Pakistani"," Bangladeshi","Chinese","Other Asian"," African"," Caribbean"," Other Black"," Arab"," Any other ethnic group"]
["All usual residents",5281,3233,279,0,83,48,6,54,26,601,559,52,25,151,18,56,13,24,53]
["0 to 24",1534,779,49,0,19,32,3,45,20,182,252,25,6,67,8,8,5,11,23]
["25 to 49",1849,1064,73,0,40,12,3,8,6,250,238,21,12,52,10,24,8,10,18]
["50 to 64",974,675,63,0,14,3,0,1,0,112,46,4,7,24,0,14,0,3,8]
["65 and over",924,715,94,0,10,1,0,0,0,57,23,2,0,8,0,10,0,0,4]
["Source: ONS, Crown Copyright, 2018",null,null,null,null,null,null,null,null,null,null,null,null,null,null,null,null,null,null,"Transportation & Connectivity, www.birmingham.gov.uk/census, brenda.henry@birmingham.gov.uk, 0121 303 4208"]

{"sheet":"Handsworth","index":37,"n_rows":33,"n_cols":20,"rows_kept":33,"cut":false,"hidden":false,"merged":[[24,0,26,0],[24,1,24,19],[25,1,26,1],[25,2,25,5],[25,6,25,9],[25,10,25,14],[25,15,25,17],[25,18,25,19],[14,0,16,0],[14,1,14,19],[15,1,16,1],[15,2,15,5],[15,6,15,9],[15,10,15,14],[15,15,15,17],[15,18,15,19],[4,0,6,0],[4,1,4,19],[5,1,6,1],[5,2,5,5],[5,6,5,9],[5,10,5,14],[5,15,5,17],[5,18,5,19]]}
["2011 Census Local Characteristics: Table LC2101EW Ethnic group by sex by age"]
[{"$f":"'2018wards'!A26","v":"Handsworth"},null,null,null,null,null,null,null,null,null,null,null,null,null,"BCC estimates for 2018 wards"]
[]
["All people"]
[null,"All People"]
[null,"All people","White",null,null,null,"Mixed",null,null,null,"Asian",null,null,null,null,"Black",null,null,"Other ethnic group"]
[null,null,"British"," Irish"," Gypsy or Irish Traveller","Other White"," White and Black Caribbean"," White and Black African","White and Asian","Other Mixed"," Indian"," Pakistani"," Bangladeshi","Chinese","Other Asian"," African"," Caribbean"," Other Black"," Arab"," Any other ethnic group"]
["All usual residents",11733,804,56,11,488,267,65,112,113,2873,2516,904,109,702,564,1312,405,62,370]
["0 to 24",4800,219,2,4,189,176,32,87,69,895,1296,488,38,248,290,389,198,25,155]
["25 to 49",4475,287,8,5,226,70,30,20,35,1221,885,307,48,322,237,425,164,35,150]
["50 to 64",1374,165,12,2,56,10,1,4,6,469,201,63,15,88,33,191,23,1,34]
["65 and over",1084,133,34,0,17,11,2,1,3,288,134,46,8,44,4,307,20,1,31]
[]
["Males"]
[null,"All People"]
[null,"All people","White",null,null,null,"Mixed",null,null,null,"Asian",null,null,null,null,"Black",null,null,"Other ethnic group"]
[null,null,"British"," Irish"," Gypsy or Irish Traveller","Other White"," White and Black Caribbean"," White and Black African","White and Asian","Other Mixed"," Indian"," Pakistani"," Bangladeshi","Chinese","Other Asian"," African"," Caribbean"," Other Black"," Arab"," Any other ethnic group"]
["All usual residents",6045,417,23,6,250,126,42,60,71,1486,1253,456,56,390,315,603,206,47,238]
["0 to 24",2507,119,0,2,86,92,17,46,37,481,656,252,15,130,148,202,105,21,98]
["25 to 49",2377,139,5,3,128,26,23,12,28,653,447,165,31,201,136,168,82,24,106]
["50 to 64",668,92,3,1,28,3,1,1,3,229,90,19,5,41,28,94,11,1,18]
["65 and over",493,67,15,0,8,5,1,1,3,123,60,20,5,18,3,139,8,1,16]
[]
["Females"]
[null,"All People"]
[null,"All people","White",null,null,null,"Mixed",null,null,null,"Asian",null,null,null,null,"Black",null,null,"Other ethnic group"]
[null,null,"British"," Irish"," Gypsy or Irish Traveller","Other White"," White and Black Caribbean"," White and Black African","White and Asian","Other Mixed"," Indian"," Pakistani"," Bangladeshi","Chinese","Other Asian"," African"," Caribbean"," Other Black"," Arab"," Any other ethnic group"]
["All usual residents",5688,387,33,5,238,141,23,52,42,1387,1263,448,53,312,249,709,199,15,132]
["0 to 24",2293,100,2,2,103,84,15,41,32,414,640,236,23,118,142,187,93,4,57]
["25 to 49",2098,148,3,2,98,44,7,8,7,568,438,142,17,121,101,257,82,11,44]
["50 to 64",706,73,9,1,28,7,0,3,3,240,111,44,10,47,5,97,12,0,16]
["65 and over",591,66,19,0,9,6,1,0,0,165,74,26,3,26,1,168,12,0,15]
["Source: ONS, Crown Copyright, 2018",null,null,null,null,null,null,null,null,null,null,null,null,null,null,null,null,null,null,"Transportation & Connectivity, www.birmingham.gov.uk/census, brenda.henry@birmingham.gov.uk, 0121 303 4208"]

{"sheet":"Handsworth Wood","index":38,"n_rows":33,"n_cols":20,"rows_kept":33,"cut":false,"hidden":false,"merged":[[24,0,26,0],[24,1,24,19],[25,1,26,1],[25,2,25,5],[25,6,25,9],[25,10,25,14],[25,15,25,17],[25,18,25,19],[14,0,16,0],[14,1,14,19],[15,1,16,1],[15,2,15,5],[15,6,15,9],[15,10,15,14],[15,15,15,17],[15,18,15,19],[4,0,6,0],[4,1,4,19],[5,1,6,1],[5,2,5,5],[5,6,5,9],[5,10,5,14],[5,15,5,17],[5,18,5,19]]}
["2011 Census Local Characteristics: Table LC2101EW Ethnic group by sex by age"]
[{"$f":"'2018wards'!A27","v":"Handsworth Wood"},null,null,null,null,null,null,null,null,null,null,null,null,null,"BCC estimates for 2018 wards"]
[]
["All people"]
[null,"All People"]
[null,"All people","White",null,null,null,"Mixed",null,null,null,"Asian",null,null,null,null,"Black",null,null,"Other ethnic group"]
[null,null,"British"," Irish"," Gypsy or Irish Traveller","Other White"," White and Black Caribbean"," White and Black African","White and Asian","Other Mixed"," Indian"," Pakistani"," Bangladeshi","Chinese","Other Asian"," African"," Caribbean"," Other Black"," Arab"," Any other ethnic group"]
["All usual residents",19731,3786,227,7,948,455,43,193,175,6680,1593,403,154,1162,531,2117,476,54,727]
["0 to 24",6983,824,25,2,354,291,22,136,137,2207,812,221,83,433,253,667,221,30,265]
["25 to 49",7272,1013,39,3,490,128,13,45,34,2720,594,154,44,454,238,819,193,16,275]
["50 to 64",3172,837,50,1,69,26,8,7,2,1247,116,20,19,189,31,382,43,5,120]
["65 and over",2304,1112,113,1,35,10,0,5,2,506,71,8,8,86,9,249,19,3,67]
[]
["Males"]
[null,"All People"]
[null,"All people","White",null,null,null,"Mixed",null,null,null,"Asian",null,null,null,null,"Black",null,null,"Other ethnic group"]
[null,null,"British"," Irish"," Gypsy or Irish Traveller","Other White"," White and Black Caribbean"," White and Black African","White and Asian","Other Mixed"," Indian"," Pakistani"," Bangladeshi","Chinese","Other Asian"," African"," Caribbean"," Other Black"," Arab"," Any other ethnic group"]
["All usual residents",9643,1811,111,4,480,217,20,96,88,3309,777,199,68,608,256,967,222,31,379]
["0 to 24",3491,378,10,2,176,146,8,62,68,1127,407,112,35,225,123,339,114,17,142]
["25 to 49",3581,539,24,2,257,52,9,26,18,1337,286,73,22,246,112,334,85,9,150]
["50 to 64",1564,436,23,0,33,10,3,5,1,612,57,10,8,98,15,176,15,3,59]
["65 and over",1007,458,54,0,14,9,0,3,1,233,27,4,3,39,6,118,8,2,28]
[]
["Females"]
[null,"All People"]
[null,"All people","White",null,null,null,"Mixed",null,null,null,"Asian",null,null,null,null,"Black",null,null,"Other ethnic group"]
[null,null,"British"," Irish"," Gypsy or Irish Traveller","Other White"," White and Black Caribbean"," White and Black African","White and Asian","Other Mixed"," Indian"," Pakistani"," Bangladeshi","Chinese","Other Asian"," African"," Caribbean"," Other Black"," Arab"," Any other ethnic group"]
["All usual residents",10088,1975,116,3,468,238,23,97,87,3371,816,204,86,554,275,1150,254,23,348]
["0 to 24",3492,446,15,0,178,145,14,74,69,1080,405,109,48,208,130,328,107,13,123]
["25 to 49",3691,474,15,1,233,76,4,19,16,1383,308,81,22,208,126,485,108,7,125]
["50 to 64",1608,401,27,1,36,16,5,2,1,635,59,10,11,91,16,206,28,2,61]
["65 and over",1297,654,59,1,21,1,0,2,1,273,44,4,5,47,3,131,11,1,39]
["Source: ONS, Crown Copyright, 2018",null,null,null,null,null,null,null,null,null,null,null,null,null,null,null,null,null,null,"Transportation & Connectivity, www.birmingham.gov.uk/census, brenda.henry@birmingham.gov.uk, 0121 303 4208"]

{"sheet":"Harborne","index":39,"n_rows":33,"n_cols":20,"rows_kept":33,"cut":false,"hidden":false,"merged":[[24,0,26,0],[24,1,24,19],[25,1,26,1],[25,2,25,5],[25,6,25,9],[25,10,25,14],[25,15,25,17],[25,18,25,19],[14,0,16,0],[14,1,14,19],[15,1,16,1],[15,2,15,5],[15,6,15,9],[15,10,15,14],[15,15,15,17],[15,18,15,19],[4,0,6,0],[4,1,4,19],[5,1,6,1],[5,2,5,5],[5,6,5,9],[5,10,5,14],[5,15,5,17],[5,18,5,19]]}
["2011 Census Local Characteristics: Table LC2101EW Ethnic group by sex by age"]
[{"$f":"'2018wards'!A28","v":"Harborne"},null,null,null,null,null,null,null,null,null,null,null,null,null,"BCC estimates for 2018 wards"]
[]
["All people"]
[null,"All People"]
[null,"All people","White",null,null,null,"Mixed",null,null,null,"Asian",null,null,null,null,"Black",null,null,"Other ethnic group"]
[null,null,"British"," Irish"," Gypsy or Irish Traveller","Other White"," White and Black Caribbean"," White and Black African","White and Asian","Other Mixed"," Indian"," Pakistani"," Bangladeshi","Chinese","Other Asian"," African"," Caribbean"," Other Black"," Arab"," Any other ethnic group"]
["All usual residents",21856,14008,543,4,950,454,81,398,203,1561,466,106,596,646,548,570,268,204,250]
["0 to 24",6793,3637,80,1,257,318,44,272,110,491,222,60,266,253,254,191,160,92,85]
["25 to 49",8616,5191,162,3,516,112,28,105,77,756,198,37,258,339,261,240,98,100,135]
["50 to 64",3316,2567,118,0,102,16,9,18,11,186,29,7,55,38,29,90,9,9,23]
["65 and over",3131,2613,183,0,75,8,0,3,5,128,17,2,17,16,4,49,1,3,7]
[]
["Males"]
[null,"All People"]
[null,"All people","White",null,null,null,"Mixed",null,null,null,"Asian",null,null,null,null,"Black",null,null,"Other ethnic group"]
[null,null,"British"," Irish"," Gypsy or Irish Traveller","Other White"," White and Black Caribbean"," White and Black African","White and Asian","Other Mixed"," Indian"," Pakistani"," Bangladeshi","Chinese","Other Asian"," African"," Caribbean"," Other Black"," Arab"," Any other ethnic group"]
["All usual residents",10503,6702,247,1,414,238,36,218,101,767,221,48,300,342,246,252,118,113,139]
["0 to 24",3296,1747,44,1,120,164,19,147,54,245,107,25,114,139,101,99,83,48,39]
["25 to 49",4248,2588,73,0,228,63,10,61,42,361,92,19,153,174,124,92,30,56,82]
["50 to 64",1660,1283,62,0,36,7,7,9,5,100,15,3,24,23,19,40,4,7,16]
["65 and over",1299,1084,68,0,30,4,0,1,0,61,7,1,9,6,2,21,1,2,2]
[]
["Females"]
[null,"All People"]
[null,"All people","White",null,null,null,"Mixed",null,null,null,"Asian",null,null,null,null,"Black",null,null,"Other ethnic group"]
[null,null,"British"," Irish"," Gypsy or Irish Traveller","Other White"," White and Black Caribbean"," White and Black African","White and Asian","Other Mixed"," Indian"," Pakistani"," Bangladeshi","Chinese","Other Asian"," African"," Caribbean"," Other Black"," Arab"," Any other ethnic group"]
["All usual residents",11353,7306,296,3,536,216,45,180,102,794,245,58,296,304,302,318,150,91,111]
["0 to 24",3497,1890,36,0,137,154,25,125,56,246,115,35,152,114,153,92,77,44,46]
["25 to 49",4368,2603,89,3,288,49,18,44,35,395,106,18,105,165,137,148,68,44,53]
["50 to 64",1656,1284,56,0,66,9,2,9,6,86,14,4,31,15,10,50,5,2,7]
["65 and over",1832,1529,115,0,45,4,0,2,5,67,10,1,8,10,2,28,0,1,5]
["Source: ONS, Crown Copyright, 2018",null,null,null,null,null,null,null,null,null,null,null,null,null,null,null,null,null,null,"Transportation & Connectivity, www.birmingham.gov.uk/census, brenda.henry@birmingham.gov.uk, 0121 303 4208"]

{"sheet":"Heartlands","index":40,"n_rows":33,"n_cols":20,"rows_kept":33,"cut":false,"hidden":false,"merged":[[24,0,26,0],[24,1,24,19],[25,1,26,1],[25,2,25,5],[25,6,25,9],[25,10,25,14],[25,15,25,17],[25,18,25,19],[14,0,16,0],[14,1,14,19],[15,1,16,1],[15,2,15,5],[15,6,15,9],[15,10,15,14],[15,15,15,17],[15,18,15,19],[4,0,6,0],[4,1,4,19],[5,1,6,1],[5,2,5,5],[5,6,5,9],[5,10,5,14],[5,15,5,17],[5,18,5,19]]}
["2011 Census Local Characteristics: Table LC2101EW Ethnic group by sex by age"]
[{"$f":"'2018wards'!A29","v":"Heartlands"},null,null,null,null,null,null,null,null,null,null,null,null,null,"BCC estimates for 2018 wards"]
[]
["All people"]
[null,"All People"]
[null,"All people","White",null,null,null,"Mixed",null,null,null,"Asian",null,null,null,null,"Black",null,null,"Other ethnic group"]
[null,null,"British"," Irish"," Gypsy or Irish Traveller","Other White"," White and Black Caribbean"," White and Black African","White and Asian","Other Mixed"," Indian"," Pakistani"," Bangladeshi","Chinese","Other Asian"," African"," Caribbean"," Other Black"," Arab"," Any other ethnic group"]
["All usual residents",12287,2351,153,3,182,208,25,215,147,323,5693,576,54,734,533,350,359,207,174]
["0 to 24",5811,584,11,2,77,136,17,143,122,115,3032,304,25,359,342,103,231,122,86]
["25 to 49",4204,626,23,0,90,57,6,55,21,147,2088,210,23,313,161,127,106,78,73]
["50 to 64",1191,509,37,1,12,4,2,14,1,37,377,37,2,48,26,56,16,4,8]
["65 and over",1081,632,82,0,3,11,0,3,3,24,196,25,4,14,4,64,6,3,7]
[]
["Males"]
[null,"All People"]
[null,"All people","White",null,null,null,"Mixed",null,null,null,"Asian",null,null,null,null,"Black",null,null,"Other ethnic group"]
[null,null,"British"," Irish"," Gypsy or Irish Traveller","Other White"," White and Black Caribbean"," White and Black African","White and Asian","Other Mixed"," Indian"," Pakistani"," Bangladeshi","Chinese","Other Asian"," African"," Caribbean"," Other Black"," Arab"," Any other ethnic group"]
["All usual residents",5999,1093,84,2,87,106,12,95,76,167,2791,291,29,408,240,152,170,96,100]
["0 to 24",2903,285,9,1,43,68,9,60,63,66,1497,155,15,205,164,54,112,48,49]
["25 to 49",2047,304,14,0,40,29,2,28,10,72,1007,108,13,169,60,51,51,45,44]
["50 to 64",573,248,20,1,4,2,1,6,1,13,186,17,0,26,16,21,6,1,4]
["65 and over",476,256,41,0,0,7,0,1,2,16,101,11,1,8,0,26,1,2,3]
[]
["Females"]
[null,"All People"]
[null,"All people","White",null,null,null,"Mixed",null,null,null,"Asian",null,null,null,null,"Black",null,null,"Other ethnic group"]
[null,null,"British"," Irish"," Gypsy or Irish Traveller","Other White"," White and Black Caribbean"," White and Black African","White and Asian","Other Mixed"," Indian"," Pakistani"," Bangladeshi","Chinese","Other Asian"," African"," Caribbean"," Other Black"," Arab"," Any other ethnic group"]
["All usual residents",6288,1258,69,1,95,102,13,120,71,156,2902,285,25,326,293,198,189,111,74]
["0 to 24",2908,299,2,1,34,68,8,83,59,49,1535,149,10,154,178,49,119,74,37]
["25 to 49",2157,322,9,0,50,28,4,27,11,75,1081,102,10,144,101,76,55,33,29]
["50 to 64",618,261,17,0,8,2,1,8,0,24,191,20,2,22,10,35,10,3,4]
["65 and over",605,376,41,0,3,4,0,2,1,8,95,14,3,6,4,38,5,1,4]
["Source: ONS, Crown Copyright, 2018",null,null,null,null,null,null,null,null,null,null,null,null,null,null,null,null,null,null,"Transportation & Connectivity, www.birmingham.gov.uk/census, brenda.henry@birmingham.gov.uk, 0121 303 4208"]

{"sheet":"Highter's Heath","index":41,"n_rows":33,"n_cols":20,"rows_kept":33,"cut":false,"hidden":false,"merged":[[24,0,26,0],[24,1,24,19],[25,1,26,1],[25,2,25,5],[25,6,25,9],[25,10,25,14],[25,15,25,17],[25,18,25,19],[14,0,16,0],[14,1,14,19],[15,1,16,1],[15,2,15,5],[15,6,15,9],[15,10,15,14],[15,15,15,17],[15,18,15,19],[4,0,6,0],[4,1,4,19],[5,1,6,1],[5,2,5,5],[5,6,5,9],[5,10,5,14],[5,15,5,17],[5,18,5,19]]}
["2011 Census Local Characteristics: Table LC2101EW Ethnic group by sex by age"]
[{"$f":"'2018wards'!A30","v":"Highter's Heath"},null,null,null,null,null,null,null,null,null,null,null,null,null,"BCC estimates for 2018 wards"]
[]
["All people"]
[null,"All People"]
[null,"All people","White",null,null,null,"Mixed",null,null,null,"Asian",null,null,null,null,"Black",null,null,"Other ethnic group"]
[null,null,"British"," Irish"," Gypsy or Irish Traveller","Other White"," White and Black Caribbean"," White and Black African","White and Asian","Other Mixed"," Indian"," Pakistani"," Bangladeshi","Chinese","Other Asian"," African"," Caribbean"," Other Black"," Arab"," Any other ethnic group"]
["All usual residents",11182,9312,223,3,147,253,18,73,54,255,252,15,22,124,129,197,34,28,43]
["0 to 24",3654,2892,9,0,30,192,9,40,39,99,124,10,10,51,68,40,12,12,17]
["25 to 49",3993,3266,57,2,91,45,8,23,12,110,115,5,10,58,52,91,16,12,20]
["50 to 64",1862,1656,58,1,21,7,1,9,3,34,11,0,2,5,7,36,5,2,4]
["65 and over",1673,1498,99,0,5,9,0,1,0,12,2,0,0,10,2,30,1,2,2]
[]
["Males"]
[null,"All People"]
[null,"All people","White",null,null,null,"Mixed",null,null,null,"Asian",null,null,null,null,"Black",null,null,"Other ethnic group"]
[null,null,"British"," Irish"," Gypsy or Irish Traveller","Other White"," White and Black Caribbean"," White and Black African","White and Asian","Other Mixed"," Indian"," Pakistani"," Bangladeshi","Chinese","Other Asian"," African"," Caribbean"," Other Black"," Arab"," Any other ethnic group"]
["All usual residents",5470,4518,105,1,72,137,11,34,29,137,125,7,10,66,62,93,22,16,25]
["0 to 24",1900,1493,4,0,12,104,4,19,20,62,62,4,4,31,35,20,8,6,12]
["25 to 49",1932,1570,35,1,47,24,6,12,7,48,56,3,4,28,23,38,11,8,11]
["50 to 64",913,809,26,0,11,5,1,3,2,21,5,0,2,3,3,19,2,0,1]
["65 and over",725,646,40,0,2,4,0,0,0,6,2,0,0,4,1,16,1,2,1]
[]
["Females"]
[null,"All People"]
[null,"All people","White",null,null,null,"Mixed",null,null,null,"Asian",null,null,null,null,"Black",null,null,"Other ethnic group"]
[null,null,"British"," Irish"," Gypsy or Irish Traveller","Other White"," White and Black Caribbean"," White and Black African","White and Asian","Other Mixed"," Indian"," Pakistani"," Bangladeshi","Chinese","Other Asian"," African"," Caribbean"," Other Black"," Arab"," Any other ethnic group"]
["All usual residents",5712,4794,118,2,75,116,7,39,25,118,127,8,12,58,67,104,12,12,18]
["0 to 24",1754,1399,5,0,18,88,5,21,19,37,62,6,6,20,33,20,4,6,5]
["25 to 49",2061,1696,22,1,44,21,2,11,5,62,59,2,6,30,29,53,5,4,9]
["50 to 64",949,847,32,1,10,2,0,6,1,13,6,0,0,2,4,17,3,2,3]
["65 and over",948,852,59,0,3,5,0,1,0,6,0,0,0,6,1,14,0,0,1]
["Source: ONS, Crown Copyright, 2018",null,null,null,null,null,null,null,null,null,null,null,null,null,null,null,null,null,null,"Transportation & Connectivity, www.birmingham.gov.uk/census, brenda.henry@birmingham.gov.uk, 0121 303 4208"]

{"sheet":"Holyhead","index":42,"n_rows":33,"n_cols":20,"rows_kept":33,"cut":false,"hidden":false,"merged":[[24,0,26,0],[24,1,24,19],[25,1,26,1],[25,2,25,5],[25,6,25,9],[25,10,25,14],[25,15,25,17],[25,18,25,19],[14,0,16,0],[14,1,14,19],[15,1,16,1],[15,2,15,5],[15,6,15,9],[15,10,15,14],[15,15,15,17],[15,18,15,19],[4,0,6,0],[4,1,4,19],[5,1,6,1],[5,2,5,5],[5,6,5,9],[5,10,5,14],[5,15,5,17],[5,18,5,19]]}
["2011 Census Local Characteristics: Table LC2101EW Ethnic group by sex by age"]
[{"$f":"'2018wards'!A31","v":"Holyhead"},null,null,null,null,null,null,null,null,null,null,null,null,null,"BCC estimates for 2018 wards"]
[]
["All people"]
[null,"All People"]
[null,"All people","White",null,null,null,"Mixed",null,null,null,"Asian",null,null,null,null,"Black",null,null,"Other ethnic group"]
[null,null,"British"," Irish"," Gypsy or Irish Traveller","Other White"," White and Black Caribbean"," White and Black African","White and Asian","Other Mixed"," Indian"," Pakistani"," Bangladeshi","Chinese","Other Asian"," African"," Caribbean"," Other Black"," Arab"," Any other ethnic group"]
["All usual residents",11133,889,98,4,831,298,34,99,129,2985,1189,944,115,587,395,1673,424,37,402]
["0 to 24",4555,237,4,2,336,192,25,68,96,990,623,524,58,247,207,557,229,19,141]
["25 to 49",4283,257,18,2,403,86,6,27,25,1280,456,346,50,233,167,570,158,15,184]
["50 to 64",1227,176,17,0,79,9,3,0,5,462,73,47,5,66,18,201,22,2,42]
["65 and over",1068,219,59,0,13,11,0,4,3,253,37,27,2,41,3,345,15,1,35]
[]
["Males"]
[null,"All People"]
[null,"All people","White",null,null,null,"Mixed",null,null,null,"Asian",null,null,null,null,"Black",null,null,"Other ethnic group"]
[null,null,"British"," Irish"," Gypsy or Irish Traveller","Other White"," White and Black Caribbean"," White and Black African","White and Asian","Other Mixed"," Indian"," Pakistani"," Bangladeshi","Chinese","Other Asian"," African"," Caribbean"," Other Black"," Arab"," Any other ethnic group"]
["All usual residents",5509,418,44,1,417,148,14,52,56,1545,612,464,68,315,212,701,187,22,233]
["0 to 24",2360,113,2,0,153,105,11,39,48,522,328,260,39,145,112,276,115,10,82]
["25 to 49",2110,127,9,1,214,32,3,12,5,686,233,168,26,126,86,197,61,10,114]
["50 to 64",588,92,11,0,46,2,0,0,3,228,37,22,3,32,12,74,6,1,19]
["65 and over",451,86,22,0,4,9,0,1,0,109,14,14,0,12,2,154,5,1,18]
[]
["Females"]
[null,"All People"]
[null,"All people","White",null,null,null,"Mixed",null,null,null,"Asian",null,null,null,null,"Black",null,null,"Other ethnic group"]
[null,null,"British"," Irish"," Gypsy or Irish Traveller","Other White"," White and Black Caribbean"," White and Black African","White and Asian","Other Mixed"," Indian"," Pakistani"," Bangladeshi","Chinese","Other Asian"," African"," Caribbean"," Other Black"," Arab"," Any other ethnic group"]
["All usual residents",5624,471,54,3,414,150,20,47,73,1440,577,480,47,272,183,972,237,15,169]
["0 to 24",2195,124,2,2,183,87,14,29,48,468,295,264,19,102,95,281,114,9,59]
["25 to 49",2173,130,9,1,189,54,3,15,20,594,223,178,24,107,81,373,97,5,70]
["50 to 64",639,84,6,0,33,7,3,0,2,234,36,25,2,34,6,127,16,1,23]
["65 and over",617,133,37,0,9,2,0,3,3,144,23,13,2,29,1,191,10,0,17]
["Source: ONS, Crown Copyright, 2018",null,null,null,null,null,null,null,null,null,null,null,null,null,null,null,null,null,null,"Transportation & Connectivity, www.birmingham.gov.uk/census, brenda.henry@birmingham.gov.uk, 0121 303 4208"]

{"sheet":"King's Norton North","index":43,"n_rows":33,"n_cols":20,"rows_kept":33,"cut":false,"hidden":false,"merged":[[24,0,26,0],[24,1,24,19],[25,1,26,1],[25,2,25,5],[25,6,25,9],[25,10,25,14],[25,15,25,17],[25,18,25,19],[14,0,16,0],[14,1,14,19],[15,1,16,1],[15,2,15,5],[15,6,15,9],[15,10,15,14],[15,15,15,17],[15,18,15,19],[4,0,6,0],[4,1,4,19],[5,1,6,1],[5,2,5,5],[5,6,5,9],[5,10,5,14],[5,15,5,17],[5,18,5,19]]}
["2011 Census Local Characteristics: Table LC2101EW Ethnic group by sex by age"]
[{"$f":"'2018wards'!A32","v":"King's Norton North"},null,null,null,null,null,null,null,null,null,null,null,null,null,"BCC estimates for 2018 wards"]
[]
["All people"]
[null,"All People"]
[null,"All people","White",null,null,null,"Mixed",null,null,null,"Asian",null,null,null,null,"Black",null,null,"Other ethnic group"]
[null,null,"British"," Irish"," Gypsy or Irish Traveller","Other White"," White and Black Caribbean"," White and Black African","White and Asian","Other Mixed"," Indian"," Pakistani"," Bangladeshi","Chinese","Other Asian"," African"," Caribbean"," Other Black"," Arab"," Any other ethnic group"]
["All usual residents",11493,9465,232,4,223,319,41,66,82,132,102,40,49,116,154,253,98,49,68]
["0 to 24",3682,2768,33,2,72,233,28,42,60,40,48,25,11,51,67,84,53,35,30]
["25 to 49",3816,3087,56,2,97,75,11,17,19,64,38,14,32,51,69,104,40,13,27]
["50 to 64",2110,1897,57,0,24,9,2,7,2,18,15,0,4,12,15,34,3,1,10]
["65 and over",1885,1713,86,0,30,2,0,0,1,10,1,1,2,2,3,31,2,0,1]
[]
["Males"]
[null,"All People"]
[null,"All people","White",null,null,null,"Mixed",null,null,null,"Asian",null,null,null,null,"Black",null,null,"Other ethnic group"]
[null,null,"British"," Irish"," Gypsy or Irish Traveller","Other White"," White and Black Caribbean"," White and Black African","White and Asian","Other Mixed"," Indian"," Pakistani"," Bangladeshi","Chinese","Other Asian"," African"," Caribbean"," Other Black"," Arab"," Any other ethnic group"]
["All usual residents",5564,4582,110,3,93,157,24,38,42,65,62,20,25,47,73,109,49,29,36]
["0 to 24",1866,1407,21,1,39,111,17,21,30,22,35,13,7,16,32,35,28,19,12]
["25 to 49",1839,1496,24,2,34,41,7,11,9,32,16,7,15,22,34,44,18,9,18]
["50 to 64",1032,922,34,0,8,4,0,6,2,6,10,0,2,7,6,16,2,1,6]
["65 and over",827,757,31,0,12,1,0,0,1,5,1,0,1,2,1,14,1,0,0]
[]
["Females"]
[null,"All People"]
[null,"All people","White",null,null,null,"Mixed",null,null,null,"Asian",null,null,null,null,"Black",null,null,"Other ethnic group"]
[null,null,"British"," Irish"," Gypsy or Irish Traveller","Other White"," White and Black Caribbean"," White and Black African","White and Asian","Other Mixed"," Indian"," Pakistani"," Bangladeshi","Chinese","Other Asian"," African"," Caribbean"," Other Black"," Arab"," Any other ethnic group"]
["All usual residents",5929,4883,122,1,130,162,17,28,40,67,40,20,24,69,81,144,49,20,32]
["0 to 24",1816,1361,12,1,33,122,11,21,30,18,13,12,4,35,35,49,25,16,18]
["25 to 49",1977,1591,32,0,63,34,4,6,10,32,22,7,17,29,35,60,22,4,9]
["50 to 64",1078,975,23,0,16,5,2,1,0,12,5,0,2,5,9,18,1,0,4]
["65 and over",1058,956,55,0,18,1,0,0,0,5,0,1,1,0,2,17,1,0,1]
["Source: ONS, Crown Copyright, 2018",null,null,null,null,null,null,null,null,null,null,null,null,null,null,null,null,null,null,"Transportation & Connectivity, www.birmingham.gov.uk/census, brenda.henry@birmingham.gov.uk, 0121 303 4208"]

{"sheet":"King's Norton South","index":44,"n_rows":33,"n_cols":20,"rows_kept":33,"cut":false,"hidden":false,"merged":[[24,0,26,0],[24,1,24,19],[25,1,26,1],[25,2,25,5],[25,6,25,9],[25,10,25,14],[25,15,25,17],[25,18,25,19],[14,0,16,0],[14,1,14,19],[15,1,16,1],[15,2,15,5],[15,6,15,9],[15,10,15,14],[15,15,15,17],[15,18,15,19],[4,0,6,0],[4,1,4,19],[5,1,6,1],[5,2,5,5],[5,6,5,9],[5,10,5,14],[5,15,5,17],[5,18,5,19]]}
["2011 Census Local Characteristics: Table LC2101EW Ethnic group by sex by age"]
[{"$f":"'2018wards'!A33","v":"King's Norton South"},null,null,null,null,null,null,null,null,null,null,null,null,null,"BCC estimates for 2018 wards"]
[]
["All people"]
[null,"All People"]
[null,"All people","White",null,null,null,"Mixed",null,null,null,"Asian",null,null,null,null,"Black",null,null,"Other ethnic group"]
[null,null,"British"," Irish"," Gypsy or Irish Traveller","Other White"," White and Black Caribbean"," White and Black African","White and Asian","Other Mixed"," Indian"," Pakistani"," Bangladeshi","Chinese","Other Asian"," African"," Caribbean"," Other Black"," Arab"," Any other ethnic group"]
["All usual residents",11665,9347,223,3,139,470,55,115,118,110,76,37,40,105,207,401,124,49,46]
["0 to 24",4271,3129,27,0,35,352,35,75,86,46,42,21,14,50,92,141,67,38,21]
["25 to 49",3851,3061,47,3,63,110,15,31,24,52,27,12,16,49,93,168,49,10,21]
["50 to 64",1939,1713,63,0,24,6,3,8,5,9,4,3,7,4,17,61,8,0,4]
["65 and over",1604,1444,86,0,17,2,2,1,3,3,3,1,3,2,5,31,0,1,0]
[]
["Males"]
[null,"All People"]
[null,"All people","White",null,null,null,"Mixed",null,null,null,"Asian",null,null,null,null,"Black",null,null,"Other ethnic group"]
[null,null,"British"," Irish"," Gypsy or Irish Traveller","Other White"," White and Black Caribbean"," White and Black African","White and Asian","Other Mixed"," Indian"," Pakistani"," Bangladeshi","Chinese","Other Asian"," African"," Caribbean"," Other Black"," Arab"," Any other ethnic group"]
["All usual residents",5507,4426,108,1,58,217,28,66,60,36,32,20,16,52,87,195,62,22,21]
["0 to 24",2125,1572,9,0,16,173,18,45,47,19,18,11,5,23,39,70,35,15,10]
["25 to 49",1776,1432,19,1,24,41,8,16,11,13,11,8,7,25,40,82,21,7,10]
["50 to 64",907,808,26,0,11,2,1,4,0,4,2,1,1,3,8,29,6,0,1]
["65 and over",699,614,54,0,7,1,1,1,2,0,1,0,3,1,0,14,0,0,0]
[]
["Females"]
[null,"All People"]
[null,"All people","White",null,null,null,"Mixed",null,null,null,"Asian",null,null,null,null,"Black",null,null,"Other ethnic group"]
[null,null,"British"," Irish"," Gypsy or Irish Traveller","Other White"," White and Black Caribbean"," White and Black African","White and Asian","Other Mixed"," Indian"," Pakistani"," Bangladeshi","Chinese","Other Asian"," African"," Caribbean"," Other Black"," Arab"," Any other ethnic group"]
["All usual residents",6158,4921,115,2,81,253,27,49,58,74,44,17,24,53,120,206,62,27,25]
["0 to 24",2146,1557,18,0,19,179,17,30,39,27,24,10,9,27,53,71,32,23,11]
["25 to 49",2075,1629,28,2,39,69,7,15,13,39,16,4,9,24,53,86,28,3,11]
["50 to 64",1032,905,37,0,13,4,2,4,5,5,2,2,6,1,9,32,2,0,3]
["65 and over",905,830,32,0,10,1,1,0,1,3,2,1,0,1,5,17,0,1,0]
["Source: ONS, Crown Copyright, 2018",null,null,null,null,null,null,null,null,null,null,null,null,null,null,null,null,null,null,"Transportation & Connectivity, www.birmingham.gov.uk/census, brenda.henry@birmingham.gov.uk, 0121 303 4208"]

{"sheet":"Kingstanding","index":45,"n_rows":33,"n_cols":20,"rows_kept":33,"cut":false,"hidden":false,"merged":[[24,0,26,0],[24,1,24,19],[25,1,26,1],[25,2,25,5],[25,6,25,9],[25,10,25,14],[25,15,25,17],[25,18,25,19],[14,0,16,0],[14,1,14,19],[15,1,16,1],[15,2,15,5],[15,6,15,9],[15,10,15,14],[15,15,15,17],[15,18,15,19],[4,0,6,0],[4,1,4,19],[5,1,6,1],[5,2,5,5],[5,6,5,9],[5,10,5,14],[5,15,5,17],[5,18,5,19]]}
["2011 Census Local Characteristics: Table LC2101EW Ethnic group by sex by age"]
[{"$f":"'2018wards'!A34","v":"Kingstanding"},null,null,null,null,null,null,null,null,null,null,null,null,null,"BCC estimates for 2018 wards"]
[]
["All people"]
[null,"All People"]
[null,"All people","White",null,null,null,"Mixed",null,null,null,"Asian",null,null,null,null,"Black",null,null,"Other ethnic group"]
[null,null,"British"," Irish"," Gypsy or Irish Traveller","Other White"," White and Black Caribbean"," White and Black African","White and Asian","Other Mixed"," Indian"," Pakistani"," Bangladeshi","Chinese","Other Asian"," African"," Caribbean"," Other Black"," Arab"," Any other ethnic group"]
["All usual residents",20880,16270,426,13,347,546,58,168,89,494,397,113,80,231,376,943,238,20,71]
["0 to 24",7866,5841,25,4,108,403,48,125,57,175,207,61,33,121,189,297,137,8,27]
["25 to 49",6892,5226,89,4,190,114,8,36,21,209,147,46,36,94,162,382,85,8,35]
["50 to 64",3303,2822,97,5,28,19,0,7,9,81,28,4,5,13,14,144,16,4,7]
["65 and over",2819,2381,215,0,21,10,2,0,2,29,15,2,6,3,11,120,0,0,2]
[]
["Males"]
[null,"All People"]
[null,"All people","White",null,null,null,"Mixed",null,null,null,"Asian",null,null,null,null,"Black",null,null,"Other ethnic group"]
[null,null,"British"," Irish"," Gypsy or Irish Traveller","Other White"," White and Black Caribbean"," White and Black African","White and Asian","Other Mixed"," Indian"," Pakistani"," Bangladeshi","Chinese","Other Asian"," African"," Caribbean"," Other Black"," Arab"," Any other ethnic group"]
["All usual residents",10083,7913,181,9,161,249,37,92,42,236,183,58,42,110,184,411,123,12,40]
["0 to 24",3996,2986,12,3,54,185,32,68,24,94,99,32,15,56,99,144,73,4,16]
["25 to 49",3192,2443,42,3,85,45,5,19,10,86,64,24,19,49,71,157,45,5,20]
["50 to 64",1687,1460,40,3,13,14,0,5,7,44,13,2,3,3,10,59,5,3,3]
["65 and over",1208,1024,87,0,9,5,0,0,1,12,7,0,5,2,4,51,0,0,1]
[]
["Females"]
[null,"All People"]
[null,"All people","White",null,null,null,"Mixed",null,null,null,"Asian",null,null,null,null,"Black",null,null,"Other ethnic group"]
[null,null,"British"," Irish"," Gypsy or Irish Traveller","Other White"," White and Black Caribbean"," White and Black African","White and Asian","Other Mixed"," Indian"," Pakistani"," Bangladeshi","Chinese","Other Asian"," African"," Caribbean"," Other Black"," Arab"," Any other ethnic group"]
["All usual residents",10797,8357,245,4,186,297,21,76,47,258,214,55,38,121,192,532,115,8,31]
["0 to 24",3870,2855,13,1,54,218,16,57,33,81,108,29,18,65,90,153,64,4,11]
["25 to 49",3700,2783,47,1,105,69,3,17,11,123,83,22,17,45,91,225,40,3,15]
["50 to 64",1616,1362,57,2,15,5,0,2,2,37,15,2,2,10,4,85,11,1,4]
["65 and over",1611,1357,128,0,12,5,2,0,1,17,8,2,1,1,7,69,0,0,1]
["Source: ONS, Crown Copyright, 2018",null,null,null,null,null,null,null,null,null,null,null,null,null,null,null,null,null,null,"Transportation & Connectivity, www.birmingham.gov.uk/census, brenda.henry@birmingham.gov.uk, 0121 303 4208"]

{"sheet":"Ladywood","index":46,"n_rows":33,"n_cols":20,"rows_kept":33,"cut":false,"hidden":false,"merged":[[24,0,26,0],[24,1,24,19],[25,1,26,1],[25,2,25,5],[25,6,25,9],[25,10,25,14],[25,15,25,17],[25,18,25,19],[14,0,16,0],[14,1,14,19],[15,1,16,1],[15,2,15,5],[15,6,15,9],[15,10,15,14],[15,15,15,17],[15,18,15,19],[4,0,6,0],[4,1,4,19],[5,1,6,1],[5,2,5,5],[5,6,5,9],[5,10,5,14],[5,15,5,17],[5,18,5,19]]}
["2011 Census Local Characteristics: Table LC2101EW Ethnic group by sex by age"]
[{"$f":"'2018wards'!A35","v":"Ladywood"},null,null,null,null,null,null,null,null,null,null,null,null,null,"BCC estimates for 2018 wards"]
[]
["All people"]
[null,"All People"]
[null,"All people","White",null,null,null,"Mixed",null,null,null,"Asian",null,null,null,null,"Black",null,null,"Other ethnic group"]
[null,null,"British"," Irish"," Gypsy or Irish Traveller","Other White"," White and Black Caribbean"," White and Black African","White and Asian","Other Mixed"," Indian"," Pakistani"," Bangladeshi","Chinese","Other Asian"," African"," Caribbean"," Other Black"," Arab"," Any other ethnic group"]
["All usual residents",22250,8219,351,10,1854,722,175,327,303,1801,592,146,1777,963,1474,1804,765,453,514]
["0 to 24",8716,2717,56,4,642,449,91,181,177,571,274,64,1032,391,737,555,341,204,230]
["25 to 49",10588,3813,127,4,1118,236,74,130,115,1103,275,73,663,527,664,819,359,235,253]
["50 to 64",1807,1019,67,2,75,24,10,15,7,90,32,8,47,34,54,238,48,11,26]
["65 and over",1139,670,101,0,19,13,0,1,4,37,11,1,35,11,19,192,17,3,5]
[]
["Males"]
[null,"All People"]
[null,"All people","White",null,null,null,"Mixed",null,null,null,"Asian",null,null,null,null,"Black",null,null,"Other ethnic group"]
[null,null,"British"," Irish"," Gypsy or Irish Traveller","Other White"," White and Black Caribbean"," White and Black African","White and Asian","Other Mixed"," Indian"," Pakistani"," Bangladeshi","Chinese","Other Asian"," African"," Caribbean"," Other Black"," Arab"," Any other ethnic group"]
["All usual residents",12106,4624,175,6,940,374,102,190,155,982,351,80,888,561,738,865,417,316,342]
["0 to 24",4304,1291,23,2,309,221,45,87,79,281,156,39,478,215,353,263,174,139,149]
["25 to 49",6205,2364,70,3,576,136,51,90,69,643,172,36,369,323,351,403,206,170,173]
["50 to 64",1054,634,39,1,47,13,6,12,4,41,17,4,25,16,26,120,28,5,16]
["65 and over",543,335,43,0,8,4,0,1,3,17,6,1,16,7,8,79,9,2,4]
[]
["Females"]
[null,"All People"]
[null,"All people","White",null,null,null,"Mixed",null,null,null,"Asian",null,null,null,null,"Black",null,null,"Other ethnic group"]
[null,null,"British"," Irish"," Gypsy or Irish Traveller","Other White"," White and Black Caribbean"," White and Black African","White and Asian","Other Mixed"," Indian"," Pakistani"," Bangladeshi","Chinese","Other Asian"," African"," Caribbean"," Other Black"," Arab"," Any other ethnic group"]
["All usual residents",10144,3595,176,4,914,348,73,137,148,819,241,66,889,402,736,939,348,137,172]
["0 to 24",4412,1426,33,2,333,228,46,94,98,290,118,25,554,176,384,292,167,65,81]
["25 to 49",4383,1449,57,1,542,100,23,40,46,460,103,37,294,204,313,416,153,65,80]
["50 to 64",753,385,28,1,28,11,4,3,3,49,15,4,22,18,28,118,20,6,10]
["65 and over",596,335,58,0,11,9,0,0,1,20,5,0,19,4,11,113,8,1,1]
["Source: ONS, Crown Copyright, 2018",null,null,null,null,null,null,null,null,null,null,null,null,null,null,null,null,null,null,"Transportation & Connectivity, www.birmingham.gov.uk/census, brenda.henry@birmingham.gov.uk, 0121 303 4208"]

{"sheet":"Longbridge & West Heath","index":47,"n_rows":33,"n_cols":20,"rows_kept":33,"cut":false,"hidden":false,"merged":[[24,0,26,0],[24,1,24,19],[25,1,26,1],[25,2,25,5],[25,6,25,9],[25,10,25,14],[25,15,25,17],[25,18,25,19],[14,0,16,0],[14,1,14,19],[15,1,16,1],[15,2,15,5],[15,6,15,9],[15,10,15,14],[15,15,15,17],[15,18,15,19],[4,0,6,0],[4,1,4,19],[5,1,6,1],[5,2,5,5],[5,6,5,9],[5,10,5,14],[5,15,5,17],[5,18,5,19]]}
["2011 Census Local Characteristics: Table LC2101EW Ethnic group by sex by age"]
[{"$f":"'2018wards'!A36","v":"Longbridge & West Heath"},null,null,null,null,null,null,null,null,null,null,null,null,null,"BCC estimates for 2018 wards"]
[]
["All people"]
[null,"All People"]
[null,"All people","White",null,null,null,"Mixed",null,null,null,"Asian",null,null,null,null,"Black",null,null,"Other ethnic group"]
[null,null,"British"," Irish"," Gypsy or Irish Traveller","Other White"," White and Black Caribbean"," White and Black African","White and Asian","Other Mixed"," Indian"," Pakistani"," Bangladeshi","Chinese","Other Asian"," African"," Caribbean"," Other Black"," Arab"," Any other ethnic group"]
["All usual residents",19948,17335,375,4,202,473,64,104,123,123,72,17,90,151,263,328,141,35,48]
["0 to 24",6402,5305,34,1,55,353,44,64,86,44,32,10,26,72,117,73,62,11,13]
["25 to 49",6801,5841,86,2,89,101,16,28,29,58,28,7,45,69,123,164,74,19,22]
["50 to 64",3501,3194,110,1,34,12,4,11,5,13,8,0,14,10,16,52,2,4,11]
["65 and over",3244,2995,145,0,24,7,0,1,3,8,4,0,5,0,7,39,3,1,2]
[]
["Males"]
[null,"All People"]
[null,"All people","White",null,null,null,"Mixed",null,null,null,"Asian",null,null,null,null,"Black",null,null,"Other ethnic group"]
[null,null,"British"," Irish"," Gypsy or Irish Traveller","Other White"," White and Black Caribbean"," White and Black African","White and Asian","Other Mixed"," Indian"," Pakistani"," Bangladeshi","Chinese","Other Asian"," African"," Caribbean"," Other Black"," Arab"," Any other ethnic group"]
["All usual residents",9661,8389,190,2,102,215,23,46,61,61,39,7,42,72,113,173,81,24,21]
["0 to 24",3181,2659,18,0,35,155,16,31,43,21,15,5,13,35,52,33,37,7,6]
["25 to 49",3261,2781,46,2,41,52,6,9,15,30,18,2,20,32,49,93,40,14,11]
["50 to 64",1810,1661,50,0,19,5,1,6,3,5,4,0,6,5,9,27,2,3,4]
["65 and over",1409,1288,76,0,7,3,0,0,0,5,2,0,3,0,3,20,2,0,0]
[]
["Females"]
[null,"All People"]
[null,"All people","White",null,null,null,"Mixed",null,null,null,"Asian",null,null,null,null,"Black",null,null,"Other ethnic group"]
[null,null,"British"," Irish"," Gypsy or Irish Traveller","Other White"," White and Black Caribbean"," White and Black African","White and Asian","Other Mixed"," Indian"," Pakistani"," Bangladeshi","Chinese","Other Asian"," African"," Caribbean"," Other Black"," Arab"," Any other ethnic group"]
["All usual residents",10287,8946,185,2,100,258,41,58,62,62,33,10,48,79,150,155,60,11,27]
["0 to 24",3221,2646,16,1,20,198,28,33,43,23,17,5,13,37,65,40,25,4,7]
["25 to 49",3540,3060,40,0,48,49,10,19,14,28,10,5,25,37,74,71,34,5,11]
["50 to 64",1691,1533,60,1,15,7,3,5,2,8,4,0,8,5,7,25,0,1,7]
["65 and over",1835,1707,69,0,17,4,0,1,3,3,2,0,2,0,4,19,1,1,2]
["Source: ONS, Crown Copyright, 2018",null,null,null,null,null,null,null,null,null,null,null,null,null,null,null,null,null,null,"Transportation & Connectivity, www.birmingham.gov.uk/census, brenda.henry@birmingham.gov.uk, 0121 303 4208"]

{"sheet":"Lozells","index":48,"n_rows":33,"n_cols":20,"rows_kept":33,"cut":false,"hidden":false,"merged":[[24,0,26,0],[24,1,24,19],[25,1,26,1],[25,2,25,5],[25,6,25,9],[25,10,25,14],[25,15,25,17],[25,18,25,19],[14,0,16,0],[14,1,14,19],[15,1,16,1],[15,2,15,5],[15,6,15,9],[15,10,15,14],[15,15,15,17],[15,18,15,19],[4,0,6,0],[4,1,4,19],[5,1,6,1],[5,2,5,5],[5,6,5,9],[5,10,5,14],[5,15,5,17],[5,18,5,19]]}
["2011 Census Local Characteristics: Table LC2101EW Ethnic group by sex by age"]
[{"$f":"'2018wards'!A37","v":"Lozells"},null,null,null,null,null,null,null,null,null,null,null,null,null,"BCC estimates for 2018 wards"]
[]
["All people"]
[null,"All People"]
[null,"All people","White",null,null,null,"Mixed",null,null,null,"Asian",null,null,null,null,"Black",null,null,"Other ethnic group"]
[null,null,"British"," Irish"," Gypsy or Irish Traveller","Other White"," White and Black Caribbean"," White and Black African","White and Asian","Other Mixed"," Indian"," Pakistani"," Bangladeshi","Chinese","Other Asian"," African"," Caribbean"," Other Black"," Arab"," Any other ethnic group"]
["All usual residents",9153,458,66,1,108,145,33,66,54,495,2818,2827,85,329,497,733,281,63,94]
["0 to 24",4403,128,1,0,40,90,15,42,39,189,1399,1585,40,150,231,201,160,42,51]
["25 to 49",3263,126,4,0,54,44,15,23,11,196,1021,962,29,114,237,283,91,17,36]
["50 to 64",813,112,21,0,9,6,1,1,2,64,234,156,5,41,20,111,23,2,5]
["65 and over",674,92,40,1,5,5,2,0,2,46,164,124,11,24,9,138,7,2,2]
[]
["Males"]
[null,"All People"]
[null,"All people","White",null,null,null,"Mixed",null,null,null,"Asian",null,null,null,null,"Black",null,null,"Other ethnic group"]
[null,null,"British"," Irish"," Gypsy or Irish Traveller","Other White"," White and Black Caribbean"," White and Black African","White and Asian","Other Mixed"," Indian"," Pakistani"," Bangladeshi","Chinese","Other Asian"," African"," Caribbean"," Other Black"," Arab"," Any other ethnic group"]
["All usual residents",4595,234,35,0,59,68,12,41,30,252,1384,1396,47,188,268,342,148,34,57]
["0 to 24",2256,65,0,0,17,50,4,28,21,105,708,786,25,85,114,101,96,22,29]
["25 to 49",1654,66,1,0,36,13,8,12,6,101,492,496,17,68,140,127,40,8,23]
["50 to 64",366,60,11,0,3,3,0,1,1,28,111,58,1,22,12,42,8,2,3]
["65 and over",319,43,23,0,3,2,0,0,2,18,73,56,4,13,2,72,4,2,2]
[]
["Females"]
[null,"All People"]
[null,"All people","White",null,null,null,"Mixed",null,null,null,"Asian",null,null,null,null,"Black",null,null,"Other ethnic group"]
[null,null,"British"," Irish"," Gypsy or Irish Traveller","Other White"," White and Black Caribbean"," White and Black African","White and Asian","Other Mixed"," Indian"," Pakistani"," Bangladeshi","Chinese","Other Asian"," African"," Caribbean"," Other Black"," Arab"," Any other ethnic group"]
["All usual residents",4558,224,31,1,49,77,21,25,24,243,1434,1431,38,141,229,391,133,29,37]
["0 to 24",2147,63,1,0,23,40,11,14,18,84,691,799,15,65,117,100,64,20,22]
["25 to 49",1609,60,3,0,18,31,7,11,5,95,529,466,12,46,97,156,51,9,13]
["50 to 64",447,52,10,0,6,3,1,0,1,36,123,98,4,19,8,69,15,0,2]
["65 and over",355,49,17,1,2,3,2,0,0,28,91,68,7,11,7,66,3,0,0]
["Source: ONS, Crown Copyright, 2018",null,null,null,null,null,null,null,null,null,null,null,null,null,null,null,null,null,null,"Transportation & Connectivity, www.birmingham.gov.uk/census, brenda.henry@birmingham.gov.uk, 0121 303 4208"]

{"sheet":"Moseley","index":49,"n_rows":33,"n_cols":20,"rows_kept":33,"cut":false,"hidden":false,"merged":[[24,0,26,0],[24,1,24,19],[25,1,26,1],[25,2,25,5],[25,6,25,9],[25,10,25,14],[25,15,25,17],[25,18,25,19],[14,0,16,0],[14,1,14,19],[15,1,16,1],[15,2,15,5],[15,6,15,9],[15,10,15,14],[15,15,15,17],[15,18,15,19],[4,0,6,0],[4,1,4,19],[5,1,6,1],[5,2,5,5],[5,6,5,9],[5,10,5,14],[5,15,5,17],[5,18,5,19]]}
["2011 Census Local Characteristics: Table LC2101EW Ethnic group by sex by age"]
[{"$f":"'2018wards'!A38","v":"Moseley"},null,null,null,null,null,null,null,null,null,null,null,null,null,"BCC estimates for 2018 wards"]
[]
["All people"]
[null,"All People"]
[null,"All people","White",null,null,null,"Mixed",null,null,null,"Asian",null,null,null,null,"Black",null,null,"Other ethnic group"]
[null,null,"British"," Irish"," Gypsy or Irish Traveller","Other White"," White and Black Caribbean"," White and Black African","White and Asian","Other Mixed"," Indian"," Pakistani"," Bangladeshi","Chinese","Other Asian"," African"," Caribbean"," Other Black"," Arab"," Any other ethnic group"]
["All usual residents",21676,10469,618,14,765,492,58,336,237,1466,4188,302,162,586,320,685,277,432,269]
["0 to 24",6579,2114,60,4,153,296,33,200,152,414,1994,146,54,244,140,129,121,224,101]
["25 to 49",8791,4428,202,7,431,171,21,111,67,624,1475,112,79,222,149,294,125,162,111]
["50 to 64",3570,2168,139,1,112,20,4,22,14,264,452,24,17,84,23,146,23,26,31]
["65 and over",2736,1759,217,2,69,5,0,3,4,164,267,20,12,36,8,116,8,20,26]
[]
["Males"]
[null,"All People"]
[null,"All people","White",null,null,null,"Mixed",null,null,null,"Asian",null,null,null,null,"Black",null,null,"Other ethnic group"]
[null,null,"British"," Irish"," Gypsy or Irish Traveller","Other White"," White and Black Caribbean"," White and Black African","White and Asian","Other Mixed"," Indian"," Pakistani"," Bangladeshi","Chinese","Other Asian"," African"," Caribbean"," Other Black"," Arab"," Any other ethnic group"]
["All usual residents",11195,5444,323,8,342,269,27,185,132,729,2129,152,88,294,174,356,150,234,159]
["0 to 24",3348,1042,27,3,71,157,11,106,91,238,1014,74,30,123,66,55,74,106,60]
["25 to 49",4789,2515,125,4,192,97,14,67,36,281,759,57,43,115,90,157,65,104,68]
["50 to 64",1851,1142,78,0,58,11,2,11,5,132,220,9,9,38,12,82,9,14,19]
["65 and over",1207,745,93,1,21,4,0,1,0,78,136,12,6,18,6,62,2,10,12]
[]
["Females"]
[null,"All People"]
[null,"All people","White",null,null,null,"Mixed",null,null,null,"Asian",null,null,null,null,"Black",null,null,"Other ethnic group"]
[null,null,"British"," Irish"," Gypsy or Irish Traveller","Other White"," White and Black Caribbean"," White and Black African","White and Asian","Other Mixed"," Indian"," Pakistani"," Bangladeshi","Chinese","Other Asian"," African"," Caribbean"," Other Black"," Arab"," Any other ethnic group"]
["All usual residents",10481,5025,295,6,423,223,31,151,105,737,2059,150,74,292,146,329,127,198,110]
["0 to 24",3231,1072,33,1,82,139,22,94,61,176,980,72,24,121,74,74,47,118,41]
["25 to 49",4002,1913,77,3,239,74,7,44,31,343,716,55,36,107,59,137,60,58,43]
["50 to 64",1719,1026,61,1,54,9,2,11,9,132,232,15,8,46,11,64,14,12,12]
["65 and over",1529,1014,124,1,48,1,0,2,4,86,131,8,6,18,2,54,6,10,14]
["Source: ONS, Crown Copyright, 2018",null,null,null,null,null,null,null,null,null,null,null,null,null,null,null,null,null,null,"Transportation & Connectivity, www.birmingham.gov.uk/census, brenda.henry@birmingham.gov.uk, 0121 303 4208"]

{"sheet":"Nechells","index":50,"n_rows":33,"n_cols":20,"rows_kept":33,"cut":false,"hidden":false,"merged":[[24,0,26,0],[24,1,24,19],[25,1,26,1],[25,2,25,5],[25,6,25,9],[25,10,25,14],[25,15,25,17],[25,18,25,19],[14,0,16,0],[14,1,14,19],[15,1,16,1],[15,2,15,5],[15,6,15,9],[15,10,15,14],[15,15,15,17],[15,18,15,19],[4,0,6,0],[4,1,4,19],[5,1,6,1],[5,2,5,5],[5,6,5,9],[5,10,5,14],[5,15,5,17],[5,18,5,19]]}
["2011 Census Local Characteristics: Table LC2101EW Ethnic group by sex by age"]
[{"$f":"'2018wards'!A39","v":"Nechells"},null,null,null,null,null,null,null,null,null,null,null,null,null,"BCC estimates for 2018 wards"]
[]
["All people"]
[null,"All People"]
[null,"All people","White",null,null,null,"Mixed",null,null,null,"Asian",null,null,null,null,"Black",null,null,"Other ethnic group"]
[null,null,"British"," Irish"," Gypsy or Irish Traveller","Other White"," White and Black Caribbean"," White and Black African","White and Asian","Other Mixed"," Indian"," Pakistani"," Bangladeshi","Chinese","Other Asian"," African"," Caribbean"," Other Black"," Arab"," Any other ethnic group"]
["All usual residents",13980,3977,223,6,602,515,91,208,166,792,1166,520,666,377,1846,1310,1016,201,298]
["0 to 24",7796,1941,18,1,443,359,60,150,115,644,689,282,484,212,1051,444,617,136,150]
["25 to 49",4001,886,44,2,139,120,22,47,38,127,393,169,150,158,691,491,330,58,136]
["50 to 64",1202,632,55,3,14,18,5,8,5,14,54,39,24,4,74,191,50,4,8]
["65 and over",981,518,106,0,6,18,4,3,8,7,30,30,8,3,30,184,19,3,4]
[]
["Males"]
[null,"All People"]
[null,"All people","White",null,null,null,"Mixed",null,null,null,"Asian",null,null,null,null,"Black",null,null,"Other ethnic group"]
[null,null,"British"," Irish"," Gypsy or Irish Traveller","Other White"," White and Black Caribbean"," White and Black African","White and Asian","Other Mixed"," Indian"," Pakistani"," Bangladeshi","Chinese","Other Asian"," African"," Caribbean"," Other Black"," Arab"," Any other ethnic group"]
["All usual residents",6884,1976,112,4,301,240,46,106,79,397,594,254,297,217,885,609,506,107,154]
["0 to 24",3846,971,8,1,215,169,33,78,53,324,363,138,205,119,517,199,313,66,74]
["25 to 49",1969,442,22,2,81,53,8,23,19,65,195,85,75,95,317,222,155,37,73]
["50 to 64",611,336,26,1,4,7,5,5,2,5,21,16,14,2,35,96,28,2,6]
["65 and over",458,227,56,0,1,11,0,0,5,3,15,15,3,1,16,92,10,2,1]
[]
["Females"]
[null,"All People"]
[null,"All people","White",null,null,null,"Mixed",null,null,null,"Asian",null,null,null,null,"Black",null,null,"Other ethnic group"]
[null,null,"British"," Irish"," Gypsy or Irish Traveller","Other White"," White and Black Caribbean"," White and Black African","White and Asian","Other Mixed"," Indian"," Pakistani"," Bangladeshi","Chinese","Other Asian"," African"," Caribbean"," Other Black"," Arab"," Any other ethnic group"]
["All usual residents",7096,2001,111,2,301,275,45,102,87,395,572,266,369,160,961,701,510,94,144]
["0 to 24",3950,970,10,0,228,190,27,72,62,320,326,144,279,93,534,245,304,70,76]
["25 to 49",2032,444,22,0,58,67,14,24,19,62,198,84,75,63,374,269,175,21,63]
["50 to 64",591,296,29,2,10,11,0,3,3,9,33,23,10,2,39,95,22,2,2]
["65 and over",523,291,50,0,5,7,4,3,3,4,15,15,5,2,14,92,9,1,3]
["Source: ONS, Crown Copyright, 2018",null,null,null,null,null,null,null,null,null,null,null,null,null,null,null,null,null,null,"Transportation & Connectivity, www.birmingham.gov.uk/census, brenda.henry@birmingham.gov.uk, 0121 303 4208"]

{"sheet":"Newtown","index":51,"n_rows":33,"n_cols":20,"rows_kept":33,"cut":false,"hidden":false,"merged":[[24,0,26,0],[24,1,24,19],[25,1,26,1],[25,2,25,5],[25,6,25,9],[25,10,25,14],[25,15,25,17],[25,18,25,19],[14,0,16,0],[14,1,14,19],[15,1,16,1],[15,2,15,5],[15,6,15,9],[15,10,15,14],[15,15,15,17],[15,18,15,19],[4,0,6,0],[4,1,4,19],[5,1,6,1],[5,2,5,5],[5,6,5,9],[5,10,5,14],[5,15,5,17],[5,18,5,19]]}
["2011 Census Local Characteristics: Table LC2101EW Ethnic group by sex by age"]
[{"$f":"'2018wards'!A40","v":"Newtown"},null,null,null,null,null,null,null,null,null,null,null,null,null,"BCC estimates for 2018 wards"]
[]
["All people"]
[null,"All People"]
[null,"All people","White",null,null,null,"Mixed",null,null,null,"Asian",null,null,null,null,"Black",null,null,"Other ethnic group"]
[null,null,"British"," Irish"," Gypsy or Irish Traveller","Other White"," White and Black Caribbean"," White and Black African","White and Asian","Other Mixed"," Indian"," Pakistani"," Bangladeshi","Chinese","Other Asian"," African"," Caribbean"," Other Black"," Arab"," Any other ethnic group"]
["All usual residents",12485,2218,152,0,388,414,74,186,132,1052,693,1128,288,465,2017,1778,1099,185,216]
["0 to 24",6813,1026,19,0,206,267,53,126,104,869,423,665,203,244,1104,614,656,118,116]
["25 to 49",4049,605,33,0,154,128,17,47,24,153,219,383,71,182,841,686,355,63,88]
["50 to 64",930,324,34,0,21,12,3,9,2,18,40,52,10,25,50,258,62,3,7]
["65 and over",693,263,66,0,7,7,1,4,2,12,11,28,4,14,22,220,26,1,5]
[]
["Males"]
[null,"All People"]
[null,"All people","White",null,null,null,"Mixed",null,null,null,"Asian",null,null,null,null,"Black",null,null,"Other ethnic group"]
[null,null,"British"," Irish"," Gypsy or Irish Traveller","Other White"," White and Black Caribbean"," White and Black African","White and Asian","Other Mixed"," Indian"," Pakistani"," Bangladeshi","Chinese","Other Asian"," African"," Caribbean"," Other Black"," Arab"," Any other ethnic group"]
["All usual residents",6232,1226,78,0,198,195,37,97,56,485,333,552,139,264,1009,811,525,99,128]
["0 to 24",3375,563,10,0,91,132,22,60,43,386,195,320,90,127,558,320,331,61,66]
["25 to 49",2065,356,13,0,89,52,12,32,10,83,112,196,39,117,420,283,159,36,56]
["50 to 64",488,191,18,0,16,7,2,4,1,8,21,28,7,16,21,115,27,2,4]
["65 and over",304,116,37,0,2,4,1,1,2,8,5,8,3,4,10,93,8,0,2]
[]
["Females"]
[null,"All People"]
[null,"All people","White",null,null,null,"Mixed",null,null,null,"Asian",null,null,null,null,"Black",null,null,"Other ethnic group"]
[null,null,"British"," Irish"," Gypsy or Irish Traveller","Other White"," White and Black Caribbean"," White and Black African","White and Asian","Other Mixed"," Indian"," Pakistani"," Bangladeshi","Chinese","Other Asian"," African"," Caribbean"," Other Black"," Arab"," Any other ethnic group"]
["All usual residents",6253,992,74,0,190,219,37,89,76,567,360,576,149,201,1008,967,574,86,88]
["0 to 24",3438,463,9,0,115,135,31,66,61,483,228,345,113,117,546,294,325,57,50]
["25 to 49",1984,249,20,0,65,76,5,15,14,70,107,187,32,65,421,403,196,27,32]
["50 to 64",442,133,16,0,5,5,1,5,1,10,19,24,3,9,29,143,35,1,3]
["65 and over",389,147,29,0,5,3,0,3,0,4,6,20,1,10,12,127,18,1,3]
["Source: ONS, Crown Copyright, 2018",null,null,null,null,null,null,null,null,null,null,null,null,null,null,null,null,null,null,"Transportation & Connectivity, www.birmingham.gov.uk/census, brenda.henry@birmingham.gov.uk, 0121 303 4208"]

{"sheet":"North Edgbaston","index":52,"n_rows":33,"n_cols":20,"rows_kept":33,"cut":false,"hidden":false,"merged":[[24,0,26,0],[24,1,24,19],[25,1,26,1],[25,2,25,5],[25,6,25,9],[25,10,25,14],[25,15,25,17],[25,18,25,19],[14,0,16,0],[14,1,14,19],[15,1,16,1],[15,2,15,5],[15,6,15,9],[15,10,15,14],[15,15,15,17],[15,18,15,19],[4,0,6,0],[4,1,4,19],[5,1,6,1],[5,2,5,5],[5,6,5,9],[5,10,5,14],[5,15,5,17],[5,18,5,19]]}
["2011 Census Local Characteristics: Table LC2101EW Ethnic group by sex by age"]
[{"$f":"'2018wards'!A41","v":"North Edgbaston"},null,null,null,null,null,null,null,null,null,null,null,null,null,"BCC estimates for 2018 wards"]
[]
["All people"]
[null,"All People"]
[null,"All people","White",null,null,null,"Mixed",null,null,null,"Asian",null,null,null,null,"Black",null,null,"Other ethnic group"]
[null,null,"British"," Irish"," Gypsy or Irish Traveller","Other White"," White and Black Caribbean"," White and Black African","White and Asian","Other Mixed"," Indian"," Pakistani"," Bangladeshi","Chinese","Other Asian"," African"," Caribbean"," Other Black"," Arab"," Any other ethnic group"]
["All usual residents",21934,5782,403,23,1491,505,96,303,255,2970,3941,394,366,1255,1147,1454,696,307,546]
["0 to 24",8415,1770,36,8,503,320,55,195,175,914,1957,217,129,513,491,413,377,157,185]
["25 to 49",9108,2238,116,10,865,150,39,92,72,1353,1467,150,194,560,601,549,269,123,260]
["50 to 64",2447,967,92,5,88,22,2,12,5,395,300,18,31,130,40,225,37,15,63]
["65 and over",1964,807,159,0,35,13,0,4,3,308,217,9,12,52,15,267,13,12,38]
[]
["Males"]
[null,"All People"]
[null,"All people","White",null,null,null,"Mixed",null,null,null,"Asian",null,null,null,null,"Black",null,null,"Other ethnic group"]
[null,null,"British"," Irish"," Gypsy or Irish Traveller","Other White"," White and Black Caribbean"," White and Black African","White and Asian","Other Mixed"," Indian"," Pakistani"," Bangladeshi","Chinese","Other Asian"," African"," Caribbean"," Other Black"," Arab"," Any other ethnic group"]
["All usual residents",11329,3127,224,8,719,268,61,165,112,1524,1922,185,167,715,606,690,344,178,314]
["0 to 24",4242,888,21,2,240,170,31,100,76,490,969,101,48,272,257,221,175,80,101]
["25 to 49",4922,1337,70,4,418,78,28,57,32,709,721,77,98,349,318,240,146,80,160]
["50 to 64",1273,551,57,2,45,11,2,5,3,190,135,5,18,66,22,103,18,8,32]
["65 and over",892,351,76,0,16,9,0,3,1,135,97,2,3,28,9,126,5,10,21]
[]
["Females"]
[null,"All People"]
[null,"All people","White",null,null,null,"Mixed",null,null,null,"Asian",null,null,null,null,"Black",null,null,"Other ethnic group"]
[null,null,"British"," Irish"," Gypsy or Irish Traveller","Other White"," White and Black Caribbean"," White and Black African","White and Asian","Other Mixed"," Indian"," Pakistani"," Bangladeshi","Chinese","Other Asian"," African"," Caribbean"," Other Black"," Arab"," Any other ethnic group"]
["All usual residents",10605,2655,179,15,772,237,35,138,143,1446,2019,209,199,540,541,764,352,129,232]
["0 to 24",4173,882,15,6,263,150,24,95,99,424,988,116,81,241,234,192,202,77,84]
["25 to 49",4186,901,46,6,447,72,11,35,40,644,746,73,96,211,283,309,123,43,100]
["50 to 64",1174,416,35,3,43,11,0,7,2,205,165,13,13,64,18,122,19,7,31]
["65 and over",1072,456,83,0,19,4,0,1,2,173,120,7,9,24,6,141,8,2,17]
["Source: ONS, Crown Copyright, 2018",null,null,null,null,null,null,null,null,null,null,null,null,null,null,null,null,null,null,"Transportation & Connectivity, www.birmingham.gov.uk/census, brenda.henry@birmingham.gov.uk, 0121 303 4208"]

{"sheet":"Northfield","index":53,"n_rows":33,"n_cols":20,"rows_kept":33,"cut":false,"hidden":false,"merged":[[24,0,26,0],[24,1,24,19],[25,1,26,1],[25,2,25,5],[25,6,25,9],[25,10,25,14],[25,15,25,17],[25,18,25,19],[14,0,16,0],[14,1,14,19],[15,1,16,1],[15,2,15,5],[15,6,15,9],[15,10,15,14],[15,15,15,17],[15,18,15,19],[4,0,6,0],[4,1,4,19],[5,1,6,1],[5,2,5,5],[5,6,5,9],[5,10,5,14],[5,15,5,17],[5,18,5,19]]}
["2011 Census Local Characteristics: Table LC2101EW Ethnic group by sex by age"]
[{"$f":"'2018wards'!A42","v":"Northfield"},null,null,null,null,null,null,null,null,null,null,null,null,null,"BCC estimates for 2018 wards"]
[]
["All people"]
[null,"All People"]
[null,"All people","White",null,null,null,"Mixed",null,null,null,"Asian",null,null,null,null,"Black",null,null,"Other ethnic group"]
[null,null,"British"," Irish"," Gypsy or Irish Traveller","Other White"," White and Black Caribbean"," White and Black African","White and Asian","Other Mixed"," Indian"," Pakistani"," Bangladeshi","Chinese","Other Asian"," African"," Caribbean"," Other Black"," Arab"," Any other ethnic group"]
["All usual residents",10554,9000,310,3,142,226,16,95,72,80,50,7,79,114,92,136,80,16,36]
["0 to 24",3206,2595,40,0,40,163,11,66,52,26,20,4,20,46,36,31,38,9,9]
["25 to 49",3533,2971,68,2,70,51,3,22,18,38,21,1,38,54,54,57,36,7,22]
["50 to 64",1960,1763,77,1,14,9,2,4,2,12,9,1,11,9,2,36,3,0,5]
["65 and over",1855,1671,125,0,18,3,0,3,0,4,0,1,10,5,0,12,3,0,0]
[]
["Males"]
[null,"All People"]
[null,"All people","White",null,null,null,"Mixed",null,null,null,"Asian",null,null,null,null,"Black",null,null,"Other ethnic group"]
[null,null,"British"," Irish"," Gypsy or Irish Traveller","Other White"," White and Black Caribbean"," White and Black African","White and Asian","Other Mixed"," Indian"," Pakistani"," Bangladeshi","Chinese","Other Asian"," African"," Caribbean"," Other Black"," Arab"," Any other ethnic group"]
["All usual residents",5207,4446,147,3,60,116,7,54,40,38,29,2,40,52,39,66,41,7,20]
["0 to 24",1661,1349,25,0,18,81,4,34,31,12,15,1,13,22,15,13,20,4,4]
["25 to 49",1745,1470,33,2,32,29,2,14,7,18,10,0,19,23,22,31,18,3,12]
["50 to 64",967,874,32,1,6,3,1,3,2,5,4,0,6,6,2,16,2,0,4]
["65 and over",834,753,57,0,4,3,0,3,0,3,0,1,2,1,0,6,1,0,0]
[]
["Females"]
[null,"All People"]
[null,"All people","White",null,null,null,"Mixed",null,null,null,"Asian",null,null,null,null,"Black",null,null,"Other ethnic group"]
[null,null,"British"," Irish"," Gypsy or Irish Traveller","Other White"," White and Black Caribbean"," White and Black African","White and Asian","Other Mixed"," Indian"," Pakistani"," Bangladeshi","Chinese","Other Asian"," African"," Caribbean"," Other Black"," Arab"," Any other ethnic group"]
["All usual residents",5347,4554,163,0,82,110,9,41,32,42,21,5,39,62,53,70,39,9,16]
["0 to 24",1545,1246,15,0,22,82,7,32,21,14,5,3,7,24,21,18,18,5,5]
["25 to 49",1788,1501,35,0,38,22,1,8,11,20,11,1,19,31,32,26,18,4,10]
["50 to 64",993,889,45,0,8,6,1,1,0,7,5,1,5,3,0,20,1,0,1]
["65 and over",1021,918,68,0,14,0,0,0,0,1,0,0,8,4,0,6,2,0,0]
["Source: ONS, Crown Copyright, 2018",null,null,null,null,null,null,null,null,null,null,null,null,null,null,null,null,null,null,"Transportation & Connectivity, www.birmingham.gov.uk/census, brenda.henry@birmingham.gov.uk, 0121 303 4208"]

{"sheet":"Oscott","index":54,"n_rows":33,"n_cols":20,"rows_kept":33,"cut":false,"hidden":false,"merged":[[24,0,26,0],[24,1,24,19],[25,1,26,1],[25,2,25,5],[25,6,25,9],[25,10,25,14],[25,15,25,17],[25,18,25,19],[14,0,16,0],[14,1,14,19],[15,1,16,1],[15,2,15,5],[15,6,15,9],[15,10,15,14],[15,15,15,17],[15,18,15,19],[4,0,6,0],[4,1,4,19],[5,1,6,1],[5,2,5,5],[5,6,5,9],[5,10,5,14],[5,15,5,17],[5,18,5,19]]}
["2011 Census Local Characteristics: Table LC2101EW Ethnic group by sex by age"]
[{"$f":"'2018wards'!A43","v":"Oscott"},null,null,null,null,null,null,null,null,null,null,null,null,null,"BCC estimates for 2018 wards"]
[]
["All people"]
[null,"All People"]
[null,"All people","White",null,null,null,"Mixed",null,null,null,"Asian",null,null,null,null,"Black",null,null,"Other ethnic group"]
[null,null,"British"," Irish"," Gypsy or Irish Traveller","Other White"," White and Black Caribbean"," White and Black African","White and Asian","Other Mixed"," Indian"," Pakistani"," Bangladeshi","Chinese","Other Asian"," African"," Caribbean"," Other Black"," Arab"," Any other ethnic group"]
["All usual residents",19823,15833,424,4,347,397,29,132,90,717,129,149,87,143,138,918,224,8,54]
["0 to 24",6473,4857,33,2,104,289,16,86,65,272,57,84,27,68,61,313,119,4,16]
["25 to 49",7055,5473,88,1,183,89,9,35,22,344,63,57,51,59,69,394,87,4,27]
["50 to 64",3082,2677,95,1,35,15,3,7,2,68,6,5,4,8,6,126,15,0,9]
["65 and over",3213,2826,208,0,25,4,1,4,1,33,3,3,5,8,2,85,3,0,2]
[]
["Males"]
[null,"All People"]
[null,"All people","White",null,null,null,"Mixed",null,null,null,"Asian",null,null,null,null,"Black",null,null,"Other ethnic group"]
[null,null,"British"," Irish"," Gypsy or Irish Traveller","Other White"," White and Black Caribbean"," White and Black African","White and Asian","Other Mixed"," Indian"," Pakistani"," Bangladeshi","Chinese","Other Asian"," African"," Caribbean"," Other Black"," Arab"," Any other ethnic group"]
["All usual residents",9437,7637,172,4,152,186,13,59,29,353,74,68,45,77,67,378,92,3,28]
["0 to 24",3231,2449,18,2,45,135,6,41,24,144,40,40,14,42,30,145,50,0,6]
["25 to 49",3340,2654,35,1,85,43,4,16,4,155,31,24,26,26,34,147,36,3,16]
["50 to 64",1508,1327,47,1,14,6,2,2,1,37,2,3,2,4,2,51,3,0,4]
["65 and over",1358,1207,72,0,8,2,1,0,0,17,1,1,3,5,1,35,3,0,2]
[]
["Females"]
[null,"All People"]
[null,"All people","White",null,null,null,"Mixed",null,null,null,"Asian",null,null,null,null,"Black",null,null,"Other ethnic group"]
[null,null,"British"," Irish"," Gypsy or Irish Traveller","Other White"," White and Black Caribbean"," White and Black African","White and Asian","Other Mixed"," Indian"," Pakistani"," Bangladeshi","Chinese","Other Asian"," African"," Caribbean"," Other Black"," Arab"," Any other ethnic group"]
["All usual residents",10386,8196,252,0,195,211,16,73,61,364,55,81,42,66,71,540,132,5,26]
["0 to 24",3242,2408,15,0,59,154,10,45,41,128,17,44,13,26,31,168,69,4,10]
["25 to 49",3715,2819,53,0,98,46,5,19,18,189,32,33,25,33,35,247,51,1,11]
["50 to 64",1574,1350,48,0,21,9,1,5,1,31,4,2,2,4,4,75,12,0,5]
["65 and over",1855,1619,136,0,17,2,0,4,1,16,2,2,2,3,1,50,0,0,0]
["Source: ONS, Crown Copyright, 2018",null,null,null,null,null,null,null,null,null,null,null,null,null,null,null,null,null,null,"Transportation & Connectivity, www.birmingham.gov.uk/census, brenda.henry@birmingham.gov.uk, 0121 303 4208"]

{"sheet":"Perry Barr","index":55,"n_rows":33,"n_cols":20,"rows_kept":33,"cut":false,"hidden":false,"merged":[[24,0,26,0],[24,1,24,19],[25,1,26,1],[25,2,25,5],[25,6,25,9],[25,10,25,14],[25,15,25,17],[25,18,25,19],[14,0,16,0],[14,1,14,19],[15,1,16,1],[15,2,15,5],[15,6,15,9],[15,10,15,14],[15,15,15,17],[15,18,15,19],[4,0,6,0],[4,1,4,19],[5,1,6,1],[5,2,5,5],[5,6,5,9],[5,10,5,14],[5,15,5,17],[5,18,5,19]]}
["2011 Census Local Characteristics: Table LC2101EW Ethnic group by sex by age"]
[{"$f":"'2018wards'!A44","v":"Perry Barr"},null,null,null,null,null,null,null,null,null,null,null,null,null,"BCC estimates for 2018 wards"]
[]
["All people"]
[null,"All People"]
[null,"All people","White",null,null,null,"Mixed",null,null,null,"Asian",null,null,null,null,"Black",null,null,"Other ethnic group"]
[null,null,"British"," Irish"," Gypsy or Irish Traveller","Other White"," White and Black Caribbean"," White and Black African","White and Asian","Other Mixed"," Indian"," Pakistani"," Bangladeshi","Chinese","Other Asian"," African"," Caribbean"," Other Black"," Arab"," Any other ethnic group"]
["All usual residents",20566,10825,442,2,587,487,56,173,139,2415,1170,638,253,444,415,1892,409,32,187]
["0 to 24",7456,3148,66,0,207,337,43,131,98,955,620,347,182,205,194,630,201,15,77]
["25 to 49",6967,3219,84,1,296,118,11,35,30,1072,448,260,56,189,186,708,162,16,76]
["50 to 64",3137,2117,96,0,49,26,1,7,9,269,66,26,8,36,29,333,37,0,28]
["65 and over",3006,2341,196,1,35,6,1,0,2,119,36,5,7,14,6,221,9,1,6]
[]
["Males"]
[null,"All People"]
[null,"All people","White",null,null,null,"Mixed",null,null,null,"Asian",null,null,null,null,"Black",null,null,"Other ethnic group"]
[null,null,"British"," Irish"," Gypsy or Irish Traveller","Other White"," White and Black Caribbean"," White and Black African","White and Asian","Other Mixed"," Indian"," Pakistani"," Bangladeshi","Chinese","Other Asian"," African"," Caribbean"," Other Black"," Arab"," Any other ethnic group"]
["All usual residents",9911,5184,209,1,287,226,22,94,53,1212,564,340,114,230,210,851,190,16,108]
["0 to 24",3684,1501,28,0,104,161,16,70,36,521,304,197,76,100,99,319,104,6,42]
["25 to 49",3368,1608,46,1,143,49,4,20,12,507,213,126,30,99,92,288,71,9,50]
["50 to 64",1539,1043,50,0,28,14,1,4,4,133,33,16,4,25,16,144,11,0,13]
["65 and over",1320,1032,85,0,12,2,1,0,1,51,14,1,4,6,3,100,4,1,3]
[]
["Females"]
[null,"All People"]
[null,"All people","White",null,null,null,"Mixed",null,null,null,"Asian",null,null,null,null,"Black",null,null,"Other ethnic group"]
[null,null,"British"," Irish"," Gypsy or Irish Traveller","Other White"," White and Black Caribbean"," White and Black African","White and Asian","Other Mixed"," Indian"," Pakistani"," Bangladeshi","Chinese","Other Asian"," African"," Caribbean"," Other Black"," Arab"," Any other ethnic group"]
["All usual residents",10655,5641,233,1,300,261,34,79,86,1203,606,298,139,214,205,1041,219,16,79]
["0 to 24",3772,1647,38,0,103,176,27,61,62,434,316,150,106,105,95,311,97,9,35]
["25 to 49",3599,1611,38,0,153,69,7,15,18,565,235,134,26,90,94,420,91,7,26]
["50 to 64",1598,1074,46,0,21,12,0,3,5,136,33,10,4,11,13,189,26,0,15]
["65 and over",1686,1309,111,1,23,4,0,0,1,68,22,4,3,8,3,121,5,0,3]
["Source: ONS, Crown Copyright, 2018",null,null,null,null,null,null,null,null,null,null,null,null,null,null,null,null,null,null,"Transportation & Connectivity, www.birmingham.gov.uk/census, brenda.henry@birmingham.gov.uk, 0121 303 4208"]

{"sheet":"Perry Common","index":56,"n_rows":33,"n_cols":20,"rows_kept":33,"cut":false,"hidden":false,"merged":[[24,0,26,0],[24,1,24,19],[25,1,26,1],[25,2,25,5],[25,6,25,9],[25,10,25,14],[25,15,25,17],[25,18,25,19],[14,0,16,0],[14,1,14,19],[15,1,16,1],[15,2,15,5],[15,6,15,9],[15,10,15,14],[15,15,15,17],[15,18,15,19],[4,0,6,0],[4,1,4,19],[5,1,6,1],[5,2,5,5],[5,6,5,9],[5,10,5,14],[5,15,5,17],[5,18,5,19]]}
["2011 Census Local Characteristics: Table LC2101EW Ethnic group by sex by age"]
[{"$f":"'2018wards'!A45","v":"Perry Common"},null,null,null,null,null,null,null,null,null,null,null,null,null,"BCC estimates for 2018 wards"]
[]
["All people"]
[null,"All People"]
[null,"All people","White",null,null,null,"Mixed",null,null,null,"Asian",null,null,null,null,"Black",null,null,"Other ethnic group"]
[null,null,"British"," Irish"," Gypsy or Irish Traveller","Other White"," White and Black Caribbean"," White and Black African","White and Asian","Other Mixed"," Indian"," Pakistani"," Bangladeshi","Chinese","Other Asian"," African"," Caribbean"," Other Black"," Arab"," Any other ethnic group"]
["All usual residents",10968,7687,277,4,272,336,22,109,77,376,296,146,72,129,262,681,162,12,48]
["0 to 24",3589,2196,24,2,76,230,17,74,45,130,155,84,22,67,125,220,95,7,20]
["25 to 49",3749,2506,59,2,156,86,4,30,24,163,116,55,39,51,113,272,50,4,19]
["50 to 64",1850,1491,55,0,21,12,1,5,6,53,20,4,9,7,21,123,14,1,7]
["65 and over",1780,1494,139,0,19,8,0,0,2,30,5,3,2,4,3,66,3,0,2]
[]
["Males"]
[null,"All People"]
[null,"All people","White",null,null,null,"Mixed",null,null,null,"Asian",null,null,null,null,"Black",null,null,"Other ethnic group"]
[null,null,"British"," Irish"," Gypsy or Irish Traveller","Other White"," White and Black Caribbean"," White and Black African","White and Asian","Other Mixed"," Indian"," Pakistani"," Bangladeshi","Chinese","Other Asian"," African"," Caribbean"," Other Black"," Arab"," Any other ethnic group"]
["All usual residents",5218,3659,132,2,135,163,14,54,33,169,148,75,34,73,127,291,72,8,29]
["0 to 24",1865,1150,16,0,41,121,11,32,24,60,78,45,8,41,60,121,42,4,11]
["25 to 49",1717,1152,36,2,78,34,2,19,5,71,57,28,17,27,54,97,22,3,13]
["50 to 64",900,738,27,0,6,4,1,3,3,23,10,1,8,2,12,51,7,1,3]
["65 and over",736,619,53,0,10,4,0,0,1,15,3,1,1,3,1,22,1,0,2]
[]
["Females"]
[null,"All People"]
[null,"All people","White",null,null,null,"Mixed",null,null,null,"Asian",null,null,null,null,"Black",null,null,"Other ethnic group"]
[null,null,"British"," Irish"," Gypsy or Irish Traveller","Other White"," White and Black Caribbean"," White and Black African","White and Asian","Other Mixed"," Indian"," Pakistani"," Bangladeshi","Chinese","Other Asian"," African"," Caribbean"," Other Black"," Arab"," Any other ethnic group"]
["All usual residents",5750,4028,145,2,137,173,8,55,44,207,148,71,38,56,135,390,90,4,19]
["0 to 24",1724,1046,8,2,35,109,6,42,21,70,77,39,14,26,65,99,53,3,9]
["25 to 49",2032,1354,23,0,78,52,2,11,19,92,59,27,22,24,59,175,28,1,6]
["50 to 64",950,753,28,0,15,8,0,2,3,30,10,3,1,5,9,72,7,0,4]
["65 and over",1044,875,86,0,9,4,0,0,1,15,2,2,1,1,2,44,2,0,0]
["Source: ONS, Crown Copyright, 2018",null,null,null,null,null,null,null,null,null,null,null,null,null,null,null,null,null,null,"Transportation & Connectivity, www.birmingham.gov.uk/census, brenda.henry@birmingham.gov.uk, 0121 303 4208"]

{"sheet":"Pype Hayes","index":57,"n_rows":33,"n_cols":20,"rows_kept":33,"cut":false,"hidden":false,"merged":[[24,0,26,0],[24,1,24,19],[25,1,26,1],[25,2,25,5],[25,6,25,9],[25,10,25,14],[25,15,25,17],[25,18,25,19],[14,0,16,0],[14,1,14,19],[15,1,16,1],[15,2,15,5],[15,6,15,9],[15,10,15,14],[15,15,15,17],[15,18,15,19],[4,0,6,0],[4,1,4,19],[5,1,6,1],[5,2,5,5],[5,6,5,9],[5,10,5,14],[5,15,5,17],[5,18,5,19]]}
["2011 Census Local Characteristics: Table LC2101EW Ethnic group by sex by age"]
[{"$f":"'2018wards'!A46","v":"Pype Hayes"},null,null,null,null,null,null,null,null,null,null,null,null,null,"BCC estimates for 2018 wards"]
[]
["All people"]
[null,"All People"]
[null,"All people","White",null,null,null,"Mixed",null,null,null,"Asian",null,null,null,null,"Black",null,null,"Other ethnic group"]
[null,null,"British"," Irish"," Gypsy or Irish Traveller","Other White"," White and Black Caribbean"," White and Black African","White and Asian","Other Mixed"," Indian"," Pakistani"," Bangladeshi","Chinese","Other Asian"," African"," Caribbean"," Other Black"," Arab"," Any other ethnic group"]
["All usual residents",10701,7783,312,1,267,344,30,86,70,256,337,52,169,129,135,503,146,43,38]
["0 to 24",3533,2277,26,0,82,247,23,63,45,96,180,28,60,57,69,173,73,22,12]
["25 to 49",3812,2685,62,0,156,85,5,16,22,125,138,22,80,66,54,202,62,16,16]
["50 to 64",1744,1443,83,1,15,10,2,7,2,27,12,2,20,2,10,87,8,5,8]
["65 and over",1612,1378,141,0,14,2,0,0,1,8,7,0,9,4,2,41,3,0,2]
[]
["Males"]
[null,"All People"]
[null,"All people","White",null,null,null,"Mixed",null,null,null,"Asian",null,null,null,null,"Black",null,null,"Other ethnic group"]
[null,null,"British"," Irish"," Gypsy or Irish Traveller","Other White"," White and Black Caribbean"," White and Black African","White and Asian","Other Mixed"," Indian"," Pakistani"," Bangladeshi","Chinese","Other Asian"," African"," Caribbean"," Other Black"," Arab"," Any other ethnic group"]
["All usual residents",5148,3718,157,0,128,163,15,48,34,116,175,31,90,63,55,236,77,22,20]
["0 to 24",1749,1118,15,0,38,122,12,36,20,46,98,17,32,28,26,81,41,12,7]
["25 to 49",1822,1276,34,0,75,37,3,8,12,58,69,13,41,32,22,95,32,7,8]
["50 to 64",856,714,41,0,8,3,0,4,1,9,5,1,9,1,6,44,3,3,4]
["65 and over",721,610,67,0,7,1,0,0,1,3,3,0,8,2,1,16,1,0,1]
[]
["Females"]
[null,"All People"]
[null,"All people","White",null,null,null,"Mixed",null,null,null,"Asian",null,null,null,null,"Black",null,null,"Other ethnic group"]
[null,null,"British"," Irish"," Gypsy or Irish Traveller","Other White"," White and Black Caribbean"," White and Black African","White and Asian","Other Mixed"," Indian"," Pakistani"," Bangladeshi","Chinese","Other Asian"," African"," Caribbean"," Other Black"," Arab"," Any other ethnic group"]
["All usual residents",5553,4065,155,1,139,181,15,38,36,140,162,21,79,66,80,267,69,21,18]
["0 to 24",1784,1159,11,0,44,125,11,27,25,50,82,11,28,29,43,92,32,10,5]
["25 to 49",1990,1409,28,0,81,48,2,8,10,67,69,9,39,34,32,107,30,9,8]
["50 to 64",888,729,42,1,7,7,2,3,1,18,7,1,11,1,4,43,5,2,4]
["65 and over",891,768,74,0,7,1,0,0,0,5,4,0,1,2,1,25,2,0,1]
["Source: ONS, Crown Copyright, 2018",null,null,null,null,null,null,null,null,null,null,null,null,null,null,null,null,null,null,"Transportation & Connectivity, www.birmingham.gov.uk/census, brenda.henry@birmingham.gov.uk, 0121 303 4208"]

{"sheet":"Quinton","index":58,"n_rows":33,"n_cols":20,"rows_kept":33,"cut":false,"hidden":false,"merged":[[24,0,26,0],[24,1,24,19],[25,1,26,1],[25,2,25,5],[25,6,25,9],[25,10,25,14],[25,15,25,17],[25,18,25,19],[14,0,16,0],[14,1,14,19],[15,1,16,1],[15,2,15,5],[15,6,15,9],[15,10,15,14],[15,15,15,17],[15,18,15,19],[4,0,6,0],[4,1,4,19],[5,1,6,1],[5,2,5,5],[5,6,5,9],[5,10,5,14],[5,15,5,17],[5,18,5,19]]}
["2011 Census Local Characteristics: Table LC2101EW Ethnic group by sex by age"]
[{"$f":"'2018wards'!A47","v":"Quinton"},null,null,null,null,null,null,null,null,null,null,null,null,null,"BCC estimates for 2018 wards"]
[]
["All people"]
[null,"All People"]
[null,"All people","White",null,null,null,"Mixed",null,null,null,"Asian",null,null,null,null,"Black",null,null,"Other ethnic group"]
[null,null,"British"," Irish"," Gypsy or Irish Traveller","Other White"," White and Black Caribbean"," White and Black African","White and Asian","Other Mixed"," Indian"," Pakistani"," Bangladeshi","Chinese","Other Asian"," African"," Caribbean"," Other Black"," Arab"," Any other ethnic group"]
["All usual residents",20251,13641,441,11,408,544,70,248,170,1732,411,79,207,523,420,765,196,110,275]
["0 to 24",6384,3710,55,6,107,380,43,188,119,564,191,42,72,193,196,264,107,50,97]
["25 to 49",7048,4443,107,4,204,139,18,51,39,781,162,29,87,240,192,300,74,54,124]
["50 to 64",3424,2599,114,1,47,20,9,7,9,259,42,8,38,69,25,122,10,3,42]
["65 and over",3395,2889,165,0,50,5,0,2,3,128,16,0,10,21,7,79,5,3,12]
[]
["Males"]
[null,"All People"]
[null,"All people","White",null,null,null,"Mixed",null,null,null,"Asian",null,null,null,null,"Black",null,null,"Other ethnic group"]
[null,null,"British"," Irish"," Gypsy or Irish Traveller","Other White"," White and Black Caribbean"," White and Black African","White and Asian","Other Mixed"," Indian"," Pakistani"," Bangladeshi","Chinese","Other Asian"," African"," Caribbean"," Other Black"," Arab"," Any other ethnic group"]
["All usual residents",9693,6553,195,6,197,247,32,126,71,843,194,36,91,276,210,326,92,64,134]
["0 to 24",3193,1879,23,4,48,172,22,100,54,286,90,17,29,105,96,132,57,28,51]
["25 to 49",3336,2129,46,1,95,63,8,22,14,365,77,14,38,127,94,120,28,33,62]
["50 to 64",1646,1268,52,1,26,9,2,4,2,128,20,5,17,34,14,45,3,1,15]
["65 and over",1518,1277,74,0,28,3,0,0,1,64,7,0,7,10,6,29,4,2,6]
[]
["Females"]
[null,"All People"]
[null,"All people","White",null,null,null,"Mixed",null,null,null,"Asian",null,null,null,null,"Black",null,null,"Other ethnic group"]
[null,null,"British"," Irish"," Gypsy or Irish Traveller","Other White"," White and Black Caribbean"," White and Black African","White and Asian","Other Mixed"," Indian"," Pakistani"," Bangladeshi","Chinese","Other Asian"," African"," Caribbean"," Other Black"," Arab"," Any other ethnic group"]
["All usual residents",10558,7088,246,5,211,297,38,122,99,889,217,43,116,247,210,439,104,46,141]
["0 to 24",3191,1831,32,2,59,208,21,88,65,278,101,25,43,88,100,132,50,22,46]
["25 to 49",3712,2314,61,3,109,76,10,29,25,416,85,15,49,113,98,180,46,21,62]
["50 to 64",1778,1331,62,0,21,11,7,3,7,131,22,3,21,35,11,77,7,2,27]
["65 and over",1877,1612,91,0,22,2,0,2,2,64,9,0,3,11,1,50,1,1,6]
["Source: ONS, Crown Copyright, 2018",null,null,null,null,null,null,null,null,null,null,null,null,null,null,null,null,null,null,"Transportation & Connectivity, www.birmingham.gov.uk/census, brenda.henry@birmingham.gov.uk, 0121 303 4208"]

{"sheet":"Rubery & Rednal","index":59,"n_rows":33,"n_cols":20,"rows_kept":33,"cut":false,"hidden":false,"merged":[[24,0,26,0],[24,1,24,19],[25,1,26,1],[25,2,25,5],[25,6,25,9],[25,10,25,14],[25,15,25,17],[25,18,25,19],[14,0,16,0],[14,1,14,19],[15,1,16,1],[15,2,15,5],[15,6,15,9],[15,10,15,14],[15,15,15,17],[15,18,15,19],[4,0,6,0],[4,1,4,19],[5,1,6,1],[5,2,5,5],[5,6,5,9],[5,10,5,14],[5,15,5,17],[5,18,5,19]]}
["2011 Census Local Characteristics: Table LC2101EW Ethnic group by sex by age"]
[{"$f":"'2018wards'!A48","v":"Rubery & Rednal"},null,null,null,null,null,null,null,null,null,null,null,null,null,"BCC estimates for 2018 wards"]
[]
["All people"]
[null,"All People"]
[null,"All people","White",null,null,null,"Mixed",null,null,null,"Asian",null,null,null,null,"Black",null,null,"Other ethnic group"]
[null,null,"British"," Irish"," Gypsy or Irish Traveller","Other White"," White and Black Caribbean"," White and Black African","White and Asian","Other Mixed"," Indian"," Pakistani"," Bangladeshi","Chinese","Other Asian"," African"," Caribbean"," Other Black"," Arab"," Any other ethnic group"]
["All usual residents",9957,8816,140,4,93,253,18,61,67,50,39,3,23,39,91,157,81,5,17]
["0 to 24",3377,2896,9,2,28,171,8,45,36,10,21,3,4,14,38,45,41,0,6]
["25 to 49",3613,3166,39,0,43,72,8,13,28,31,15,0,14,17,45,77,32,4,9]
["50 to 64",1595,1472,38,2,10,6,2,3,2,7,3,0,5,7,7,26,5,0,0]
["65 and over",1372,1282,54,0,12,4,0,0,1,2,0,0,0,1,1,9,3,1,2]
[]
["Males"]
[null,"All People"]
[null,"All people","White",null,null,null,"Mixed",null,null,null,"Asian",null,null,null,null,"Black",null,null,"Other ethnic group"]
[null,null,"British"," Irish"," Gypsy or Irish Traveller","Other White"," White and Black Caribbean"," White and Black African","White and Asian","Other Mixed"," Indian"," Pakistani"," Bangladeshi","Chinese","Other Asian"," African"," Caribbean"," Other Black"," Arab"," Any other ethnic group"]
["All usual residents",4832,4293,56,1,37,124,9,34,24,25,22,2,9,17,52,80,36,4,7]
["0 to 24",1723,1475,3,0,12,86,3,26,13,6,11,2,1,7,25,31,20,0,2]
["25 to 49",1721,1517,17,0,19,34,5,8,10,15,9,0,6,7,22,32,12,3,5]
["50 to 64",803,751,19,1,1,2,1,0,1,3,2,0,2,2,4,11,3,0,0]
["65 and over",585,550,17,0,5,2,0,0,0,1,0,0,0,1,1,6,1,1,0]
[]
["Females"]
[null,"All People"]
[null,"All people","White",null,null,null,"Mixed",null,null,null,"Asian",null,null,null,null,"Black",null,null,"Other ethnic group"]
[null,null,"British"," Irish"," Gypsy or Irish Traveller","Other White"," White and Black Caribbean"," White and Black African","White and Asian","Other Mixed"," Indian"," Pakistani"," Bangladeshi","Chinese","Other Asian"," African"," Caribbean"," Other Black"," Arab"," Any other ethnic group"]
["All usual residents",5125,4523,84,3,56,129,9,27,43,25,17,1,14,22,39,77,45,1,10]
["0 to 24",1654,1421,6,2,16,85,5,19,23,4,10,1,3,7,13,14,21,0,4]
["25 to 49",1892,1649,22,0,24,38,3,5,18,16,6,0,8,10,23,45,20,1,4]
["50 to 64",792,721,19,1,9,4,1,3,1,4,1,0,3,5,3,15,2,0,0]
["65 and over",787,732,37,0,7,2,0,0,1,1,0,0,0,0,0,3,2,0,2]
["Source: ONS, Crown Copyright, 2018",null,null,null,null,null,null,null,null,null,null,null,null,null,null,null,null,null,null,"Transportation & Connectivity, www.birmingham.gov.uk/census, brenda.henry@birmingham.gov.uk, 0121 303 4208"]

{"sheet":"Shard End","index":60,"n_rows":33,"n_cols":20,"rows_kept":33,"cut":false,"hidden":false,"merged":[[24,0,26,0],[24,1,24,19],[25,1,26,1],[25,2,25,5],[25,6,25,9],[25,10,25,14],[25,15,25,17],[25,18,25,19],[14,0,16,0],[14,1,14,19],[15,1,16,1],[15,2,15,5],[15,6,15,9],[15,10,15,14],[15,15,15,17],[15,18,15,19],[4,0,6,0],[4,1,4,19],[5,1,6,1],[5,2,5,5],[5,6,5,9],[5,10,5,14],[5,15,5,17],[5,18,5,19]]}
["2011 Census Local Characteristics: Table LC2101EW Ethnic group by sex by age"]
[{"$f":"'2018wards'!A49","v":"Shard End"},null,null,null,null,null,null,null,null,null,null,null,null,null,"BCC estimates for 2018 wards"]
[]
["All people"]
[null,"All People"]
[null,"All people","White",null,null,null,"Mixed",null,null,null,"Asian",null,null,null,null,"Black",null,null,"Other ethnic group"]
[null,null,"British"," Irish"," Gypsy or Irish Traveller","Other White"," White and Black Caribbean"," White and Black African","White and Asian","Other Mixed"," Indian"," Pakistani"," Bangladeshi","Chinese","Other Asian"," African"," Caribbean"," Other Black"," Arab"," Any other ethnic group"]
["All usual residents",11660,9691,183,3,116,521,23,91,86,36,199,33,20,70,94,330,112,27,25]
["0 to 24",4072,3099,17,0,39,379,18,67,63,9,116,14,11,18,50,102,44,19,7]
["25 to 49",3893,3235,20,0,63,120,4,18,18,19,76,14,7,42,35,135,61,8,18]
["50 to 64",1829,1671,41,1,5,15,0,3,5,6,5,3,1,10,9,48,6,0,0]
["65 and over",1866,1686,105,2,9,7,1,3,0,2,2,2,1,0,0,45,1,0,0]
[]
["Males"]
[null,"All People"]
[null,"All people","White",null,null,null,"Mixed",null,null,null,"Asian",null,null,null,null,"Black",null,null,"Other ethnic group"]
[null,null,"British"," Irish"," Gypsy or Irish Traveller","Other White"," White and Black Caribbean"," White and Black African","White and Asian","Other Mixed"," Indian"," Pakistani"," Bangladeshi","Chinese","Other Asian"," African"," Caribbean"," Other Black"," Arab"," Any other ethnic group"]
["All usual residents",5430,4534,86,1,56,234,12,40,42,19,83,19,12,32,40,141,53,11,15]
["0 to 24",1975,1516,8,0,19,171,10,33,34,5,50,8,6,12,24,50,19,7,3]
["25 to 49",1782,1491,10,0,29,55,1,5,6,10,31,10,5,17,12,56,28,4,12]
["50 to 64",918,849,24,0,3,6,0,1,2,4,2,0,0,3,4,15,5,0,0]
["65 and over",755,678,44,1,5,2,1,1,0,0,0,1,1,0,0,20,1,0,0]
[]
["Females"]
[null,"All People"]
[null,"All people","White",null,null,null,"Mixed",null,null,null,"Asian",null,null,null,null,"Black",null,null,"Other ethnic group"]
[null,null,"British"," Irish"," Gypsy or Irish Traveller","Other White"," White and Black Caribbean"," White and Black African","White and Asian","Other Mixed"," Indian"," Pakistani"," Bangladeshi","Chinese","Other Asian"," African"," Caribbean"," Other Black"," Arab"," Any other ethnic group"]
["All usual residents",6230,5157,97,2,60,287,11,51,44,17,116,14,8,38,54,189,59,16,10]
["0 to 24",2097,1583,9,0,20,208,8,34,29,4,66,6,5,6,26,52,25,12,4]
["25 to 49",2111,1744,10,0,34,65,3,13,12,9,45,4,2,25,23,79,33,4,6]
["50 to 64",911,822,17,1,2,9,0,2,3,2,3,3,1,7,5,33,1,0,0]
["65 and over",1111,1008,61,1,4,5,0,2,0,2,2,1,0,0,0,25,0,0,0]
["Source: ONS, Crown Copyright, 2018",null,null,null,null,null,null,null,null,null,null,null,null,null,null,null,null,null,null,"Transportation & Connectivity, www.birmingham.gov.uk/census, brenda.henry@birmingham.gov.uk, 0121 303 4208"]

{"sheet":"Sheldon","index":61,"n_rows":33,"n_cols":20,"rows_kept":33,"cut":false,"hidden":false,"merged":[[24,0,26,0],[24,1,24,19],[25,1,26,1],[25,2,25,5],[25,6,25,9],[25,10,25,14],[25,15,25,17],[25,18,25,19],[14,0,16,0],[14,1,14,19],[15,1,16,1],[15,2,15,5],[15,6,15,9],[15,10,15,14],[15,15,15,17],[15,18,15,19],[4,0,6,0],[4,1,4,19],[5,1,6,1],[5,2,5,5],[5,6,5,9],[5,10,5,14],[5,15,5,17],[5,18,5,19]]}
["2011 Census Local Characteristics: Table LC2101EW Ethnic group by sex by age"]
[{"$f":"'2018wards'!A50","v":"Sheldon"},null,null,null,null,null,null,null,null,null,null,null,null,null,"BCC estimates for 2018 wards"]
[]
["All people"]
[null,"All People"]
[null,"All people","White",null,null,null,"Mixed",null,null,null,"Asian",null,null,null,null,"Black",null,null,"Other ethnic group"]
[null,null,"British"," Irish"," Gypsy or Irish Traveller","Other White"," White and Black Caribbean"," White and Black African","White and Asian","Other Mixed"," Indian"," Pakistani"," Bangladeshi","Chinese","Other Asian"," African"," Caribbean"," Other Black"," Arab"," Any other ethnic group"]
["All usual residents",18986,15436,545,4,274,281,29,137,94,368,671,266,74,179,170,286,59,54,59]
["0 to 24",5691,4275,38,1,62,205,15,93,70,127,343,139,27,72,87,60,22,28,27]
["25 to 49",6314,4984,109,1,140,60,11,38,18,178,256,113,32,86,72,141,31,21,23]
["50 to 64",3372,2996,126,1,36,13,3,4,3,37,43,11,9,18,8,49,5,2,8]
["65 and over",3609,3181,272,1,36,3,0,2,3,26,29,3,6,3,3,36,1,3,1]
[]
["Males"]
[null,"All People"]
[null,"All people","White",null,null,null,"Mixed",null,null,null,"Asian",null,null,null,null,"Black",null,null,"Other ethnic group"]
[null,null,"British"," Irish"," Gypsy or Irish Traveller","Other White"," White and Black Caribbean"," White and Black African","White and Asian","Other Mixed"," Indian"," Pakistani"," Bangladeshi","Chinese","Other Asian"," African"," Caribbean"," Other Black"," Arab"," Any other ethnic group"]
["All usual residents",9320,7572,277,0,132,144,10,61,49,189,323,135,34,91,85,127,30,31,30]
["0 to 24",2979,2230,28,0,24,116,4,40,42,70,178,78,11,44,45,26,11,18,14]
["25 to 49",3094,2460,65,0,76,21,5,17,5,89,114,51,17,40,34,65,14,10,11]
["50 to 64",1670,1496,61,0,14,5,1,2,1,17,21,6,4,6,6,21,4,1,4]
["65 and over",1577,1386,123,0,18,2,0,2,1,13,10,0,2,1,0,15,1,2,1]
[]
["Females"]
[null,"All People"]
[null,"All people","White",null,null,null,"Mixed",null,null,null,"Asian",null,null,null,null,"Black",null,null,"Other ethnic group"]
[null,null,"British"," Irish"," Gypsy or Irish Traveller","Other White"," White and Black Caribbean"," White and Black African","White and Asian","Other Mixed"," Indian"," Pakistani"," Bangladeshi","Chinese","Other Asian"," African"," Caribbean"," Other Black"," Arab"," Any other ethnic group"]
["All usual residents",9666,7864,268,4,142,137,19,76,45,179,348,131,40,88,85,159,29,23,29]
["0 to 24",2712,2045,10,1,38,89,11,53,28,57,165,61,16,28,42,34,11,10,13]
["25 to 49",3220,2524,44,1,64,39,6,21,13,89,142,62,15,46,38,76,17,11,12]
["50 to 64",1702,1500,65,1,22,8,2,2,2,20,22,5,5,12,2,28,1,1,4]
["65 and over",2032,1795,149,1,18,1,0,0,2,13,19,3,4,2,3,21,0,1,0]
["Source: ONS, Crown Copyright, 2018",null,null,null,null,null,null,null,null,null,null,null,null,null,null,null,null,null,null,"Transportation & Connectivity, www.birmingham.gov.uk/census, brenda.henry@birmingham.gov.uk, 0121 303 4208"]

{"sheet":"Small Heath","index":62,"n_rows":33,"n_cols":20,"rows_kept":33,"cut":false,"hidden":false,"merged":[[24,0,26,0],[24,1,24,19],[25,1,26,1],[25,2,25,5],[25,6,25,9],[25,10,25,14],[25,15,25,17],[25,18,25,19],[14,0,16,0],[14,1,14,19],[15,1,16,1],[15,2,15,5],[15,6,15,9],[15,10,15,14],[15,15,15,17],[15,18,15,19],[4,0,6,0],[4,1,4,19],[5,1,6,1],[5,2,5,5],[5,6,5,9],[5,10,5,14],[5,15,5,17],[5,18,5,19]]}
["2011 Census Local Characteristics: Table LC2101EW Ethnic group by sex by age"]
[{"$f":"'2018wards'!A51","v":"Small Heath"},null,null,null,null,null,null,null,null,null,null,null,null,null,"BCC estimates for 2018 wards"]
[]
["All people"]
[null,"All People"]
[null,"All people","White",null,null,null,"Mixed",null,null,null,"Asian",null,null,null,null,"Black",null,null,"Other ethnic group"]
[null,null,"British"," Irish"," Gypsy or Irish Traveller","Other White"," White and Black Caribbean"," White and Black African","White and Asian","Other Mixed"," Indian"," Pakistani"," Bangladeshi","Chinese","Other Asian"," African"," Caribbean"," Other Black"," Arab"," Any other ethnic group"]
["All usual residents",20403,1369,231,1,247,150,44,156,135,507,10806,2822,57,1061,888,450,566,587,326]
["0 to 24",9886,346,11,0,101,108,34,115,104,169,5250,1532,24,472,599,89,372,374,186]
["25 to 49",6822,398,25,1,111,37,8,38,22,204,3749,996,18,382,249,132,167,171,114]
["50 to 64",1953,302,54,0,22,0,0,3,7,79,1029,177,6,127,31,65,19,20,12]
["65 and over",1742,323,141,0,13,5,2,0,2,55,778,117,9,80,9,164,{"$error":"#N/A"},22,14]
[]
["Males"]
[null,"All People"]
[null,"All people","White",null,null,null,"Mixed",null,null,null,"Asian",null,null,null,null,"Black",null,null,"Other ethnic group"]
[null,null,"British"," Irish"," Gypsy or Irish Traveller","Other White"," White and Black Caribbean"," White and Black African","White and Asian","Other Mixed"," Indian"," Pakistani"," Bangladeshi","Chinese","Other Asian"," African"," Caribbean"," Other Black"," Arab"," Any other ethnic group"]
["All usual residents",10170,668,113,1,126,93,18,80,52,253,5356,1445,38,558,431,207,272,293,166]
["0 to 24",5005,174,8,0,50,65,15,62,42,86,2646,806,16,229,306,40,187,181,92]
["25 to 49",3400,196,12,1,58,25,2,17,5,101,1842,512,13,219,105,66,73,94,59]
["50 to 64",952,164,30,0,14,0,0,1,3,39,490,74,3,70,18,26,8,6,6]
["65 and over",813,134,63,0,4,3,1,0,2,27,378,53,6,40,2,75,{"$error":"#N/A"},12,9]
[]
["Females"]
[null,"All People"]
[null,"All people","White",null,null,null,"Mixed",null,null,null,"Asian",null,null,null,null,"Black",null,null,"Other ethnic group"]
[null,null,"British"," Irish"," Gypsy or Irish Traveller","Other White"," White and Black Caribbean"," White and Black African","White and Asian","Other Mixed"," Indian"," Pakistani"," Bangladeshi","Chinese","Other Asian"," African"," Caribbean"," Other Black"," Arab"," Any other ethnic group"]
["All usual residents",10233,701,118,0,121,57,26,76,83,254,5450,1377,19,503,457,243,294,294,160]
["0 to 24",4881,172,3,0,51,43,19,53,62,83,2604,726,8,243,293,49,185,193,94]
["25 to 49",3422,202,13,0,53,12,6,21,17,103,1907,484,5,163,144,66,94,77,55]
["50 to 64",1001,138,24,0,8,0,0,2,4,40,539,103,3,57,13,39,11,14,6]
["65 and over",929,189,78,0,9,2,1,0,0,28,400,64,3,40,7,89,{"$error":"#N/A"},10,5]
["Source: ONS, Crown Copyright, 2018",null,null,null,null,null,null,null,null,null,null,null,null,null,null,null,null,null,null,"Transportation & Connectivity, www.birmingham.gov.uk/census, brenda.henry@birmingham.gov.uk, 0121 303 4208"]

{"sheet":"Soho & Jewellery Quarter","index":63,"n_rows":33,"n_cols":20,"rows_kept":33,"cut":false,"hidden":false,"merged":[[24,0,26,0],[24,1,24,19],[25,1,26,1],[25,2,25,5],[25,6,25,9],[25,10,25,14],[25,15,25,17],[25,18,25,19],[14,0,16,0],[14,1,14,19],[15,1,16,1],[15,2,15,5],[15,6,15,9],[15,10,15,14],[15,15,15,17],[15,18,15,19],[4,0,6,0],[4,1,4,19],[5,1,6,1],[5,2,5,5],[5,6,5,9],[5,10,5,14],[5,15,5,17],[5,18,5,19]]}
["2011 Census Local Characteristics: Table LC2101EW Ethnic group by sex by age"]
[{"$f":"'2018wards'!A52","v":"Soho & Jewellery Quarter"},null,null,null,null,null,null,null,null,null,null,null,null,null,"BCC estimates for 2018 wards"]
[]
["All people"]
[null,"All People"]
[null,"All people","White",null,null,null,"Mixed",null,null,null,"Asian",null,null,null,null,"Black",null,null,"Other ethnic group"]
[null,null,"British"," Irish"," Gypsy or Irish Traveller","Other White"," White and Black Caribbean"," White and Black African","White and Asian","Other Mixed"," Indian"," Pakistani"," Bangladeshi","Chinese","Other Asian"," African"," Caribbean"," Other Black"," Arab"," Any other ethnic group"]
["All usual residents",22606,5698,286,20,1215,834,119,239,347,3336,2179,544,612,1017,1266,3134,1077,123,560]
["0 to 24",8344,1297,21,6,413,513,76,144,221,1097,1063,287,322,410,615,1009,596,59,195]
["25 to 49",10395,3108,110,10,722,283,34,80,99,1558,858,212,256,481,580,1237,405,61,301]
["50 to 64",2218,749,71,3,66,22,5,9,17,404,151,32,20,78,58,424,66,1,42]
["65 and over",1649,544,84,1,14,16,4,6,10,277,107,13,14,48,13,464,{"$error":"#N/A"},2,22]
[]
["Males"]
[null,"All People"]
[null,"All people","White",null,null,null,"Mixed",null,null,null,"Asian",null,null,null,null,"Black",null,null,"Other ethnic group"]
[null,null,"British"," Irish"," Gypsy or Irish Traveller","Other White"," White and Black Caribbean"," White and Black African","White and Asian","Other Mixed"," Indian"," Pakistani"," Bangladeshi","Chinese","Other Asian"," African"," Caribbean"," Other Black"," Arab"," Any other ethnic group"]
["All usual residents",11976,3365,152,12,587,424,72,126,192,1821,1106,268,333,566,607,1413,520,67,345]
["0 to 24",4287,653,11,3,190,261,49,72,116,641,529,134,174,213,285,511,306,36,103]
["25 to 49",5789,2011,66,7,359,146,20,47,65,863,451,112,142,293,282,510,179,30,206]
["50 to 64",1125,447,40,1,30,8,0,4,5,197,74,15,10,38,34,170,31,0,21]
["65 and over",775,254,35,1,8,9,3,3,6,120,52,7,7,22,6,222,{"$error":"#N/A"},1,15]
[]
["Females"]
[null,"All People"]
[null,"All people","White",null,null,null,"Mixed",null,null,null,"Asian",null,null,null,null,"Black",null,null,"Other ethnic group"]
[null,null,"British"," Irish"," Gypsy or Irish Traveller","Other White"," White and Black Caribbean"," White and Black African","White and Asian","Other Mixed"," Indian"," Pakistani"," Bangladeshi","Chinese","Other Asian"," African"," Caribbean"," Other Black"," Arab"," Any other ethnic group"]
["All usual residents",10630,2333,134,8,628,410,47,113,155,1515,1073,276,279,451,659,1721,557,56,215]
["0 to 24",4057,644,10,3,223,252,27,72,105,456,534,153,148,197,330,498,290,23,92]
["25 to 49",4606,1097,44,3,363,137,14,33,34,695,407,100,114,188,298,727,226,31,95]
["50 to 64",1093,302,31,2,36,14,5,5,12,207,77,17,10,40,24,254,35,1,21]
["65 and over",874,290,49,0,6,7,1,3,4,157,55,6,7,26,7,242,{"$error":"#N/A"},1,7]
["Source: ONS, Crown Copyright, 2018",null,null,null,null,null,null,null,null,null,null,null,null,null,null,null,null,null,null,"Transportation & Connectivity, www.birmingham.gov.uk/census, brenda.henry@birmingham.gov.uk, 0121 303 4208"]

{"sheet":"South Yardley","index":64,"n_rows":33,"n_cols":20,"rows_kept":33,"cut":false,"hidden":false,"merged":[[24,0,26,0],[24,1,24,19],[25,1,26,1],[25,2,25,5],[25,6,25,9],[25,10,25,14],[25,15,25,17],[25,18,25,19],[14,0,16,0],[14,1,14,19],[15,1,16,1],[15,2,15,5],[15,6,15,9],[15,10,15,14],[15,15,15,17],[15,18,15,19],[4,0,6,0],[4,1,4,19],[5,1,6,1],[5,2,5,5],[5,6,5,9],[5,10,5,14],[5,15,5,17],[5,18,5,19]]}
["2011 Census Local Characteristics: Table LC2101EW Ethnic group by sex by age"]
[{"$f":"'2018wards'!A53","v":"South Yardley"},null,null,null,null,null,null,null,null,null,null,null,null,null,"BCC estimates for 2018 wards"]
[]
["All people"]
[null,"All People"]
[null,"All people","White",null,null,null,"Mixed",null,null,null,"Asian",null,null,null,null,"Black",null,null,"Other ethnic group"]
[null,null,"British"," Irish"," Gypsy or Irish Traveller","Other White"," White and Black Caribbean"," White and Black African","White and Asian","Other Mixed"," Indian"," Pakistani"," Bangladeshi","Chinese","Other Asian"," African"," Caribbean"," Other Black"," Arab"," Any other ethnic group"]
["All usual residents",10295,7117,354,0,300,215,20,93,52,482,889,157,44,107,81,196,69,72,47]
["0 to 24",3379,2065,44,0,91,149,9,56,35,167,445,84,14,46,39,52,29,39,15]
["25 to 49",3821,2554,90,0,168,55,9,30,13,203,358,68,25,50,40,85,28,24,21]
["50 to 64",1767,1430,76,0,29,8,1,7,2,78,64,5,2,7,2,34,9,7,6]
["65 and over",1328,1068,144,0,12,3,1,0,2,34,22,0,3,4,0,25,{"$error":"#N/A"},2,5]
[]
["Males"]
[null,"All People"]
[null,"All people","White",null,null,null,"Mixed",null,null,null,"Asian",null,null,null,null,"Black",null,null,"Other ethnic group"]
[null,null,"British"," Irish"," Gypsy or Irish Traveller","Other White"," White and Black Caribbean"," White and Black African","White and Asian","Other Mixed"," Indian"," Pakistani"," Bangladeshi","Chinese","Other Asian"," African"," Caribbean"," Other Black"," Arab"," Any other ethnic group"]
["All usual residents",5087,3509,175,0,143,113,12,49,22,235,440,82,21,60,40,93,33,34,26]
["0 to 24",1713,1043,23,0,42,78,5,31,14,84,223,43,5,31,21,26,17,18,9]
["25 to 49",1876,1243,49,0,87,30,6,14,5,97,175,35,14,27,19,38,13,12,12]
["50 to 64",901,747,38,0,7,3,0,4,2,38,28,4,1,1,0,20,3,3,2]
["65 and over",597,476,65,0,7,2,1,0,1,16,14,0,1,1,0,9,{"$error":"#N/A"},1,3]
[]
["Females"]
[null,"All People"]
[null,"All people","White",null,null,null,"Mixed",null,null,null,"Asian",null,null,null,null,"Black",null,null,"Other ethnic group"]
[null,null,"British"," Irish"," Gypsy or Irish Traveller","Other White"," White and Black Caribbean"," White and Black African","White and Asian","Other Mixed"," Indian"," Pakistani"," Bangladeshi","Chinese","Other Asian"," African"," Caribbean"," Other Black"," Arab"," Any other ethnic group"]
["All usual residents",5208,3608,179,0,157,102,8,44,30,247,449,75,23,47,41,103,36,38,21]
["0 to 24",1666,1022,21,0,49,71,4,25,21,83,222,41,9,15,18,26,12,21,6]
["25 to 49",1945,1311,41,0,81,25,3,16,8,106,183,33,11,23,21,47,15,12,9]
["50 to 64",866,683,38,0,22,5,1,3,0,40,36,1,1,6,2,14,6,4,4]
["65 and over",731,592,79,0,5,1,0,0,1,18,8,0,2,3,0,16,{"$error":"#N/A"},1,2]
["Source: ONS, Crown Copyright, 2018",null,null,null,null,null,null,null,null,null,null,null,null,null,null,null,null,null,null,"Transportation & Connectivity, www.birmingham.gov.uk/census, brenda.henry@birmingham.gov.uk, 0121 303 4208"]

{"sheet":"Sparkbrook & Balsall Heath East","index":65,"n_rows":33,"n_cols":20,"rows_kept":33,"cut":false,"hidden":false,"merged":[[24,0,26,0],[24,1,24,19],[25,1,26,1],[25,2,25,5],[25,6,25,9],[25,10,25,14],[25,15,25,17],[25,18,25,19],[14,0,16,0],[14,1,14,19],[15,1,16,1],[15,2,15,5],[15,6,15,9],[15,10,15,14],[15,15,15,17],[15,18,15,19],[4,0,6,0],[4,1,4,19],[5,1,6,1],[5,2,5,5],[5,6,5,9],[5,10,5,14],[5,15,5,17],[5,18,5,19]]}
["2011 Census Local Characteristics: Table LC2101EW Ethnic group by sex by age"]
[{"$f":"'2018wards'!A54","v":"Sparkbrook & Balsall Heath East"},null,null,null,null,null,null,null,null,null,null,null,null,null,"BCC estimates for 2018 wards"]
[]
["All people"]
[null,"All People"]
[null,"All people","White",null,null,null,"Mixed",null,null,null,"Asian",null,null,null,null,"Black",null,null,"Other ethnic group"]
[null,null,"British"," Irish"," Gypsy or Irish Traveller","Other White"," White and Black Caribbean"," White and Black African","White and Asian","Other Mixed"," Indian"," Pakistani"," Bangladeshi","Chinese","Other Asian"," African"," Caribbean"," Other Black"," Arab"," Any other ethnic group"]
["All usual residents",25211,2322,263,35,439,327,39,311,184,1300,11668,2590,128,1137,851,788,678,1825,326]
["0 to 24",11994,604,6,22,179,214,18,208,135,387,5901,1395,49,575,428,227,405,1083,158]
["25 to 49",8864,840,63,11,199,90,15,90,40,514,4181,920,47,412,335,250,210,517,130]
["50 to 64",2495,521,61,1,40,15,4,10,5,221,989,168,7,79,64,122,42,122,24]
["65 and over",1858,357,133,1,21,8,2,3,4,178,597,107,25,71,24,189,{"$error":"#N/A"},103,14]
[]
["Males"]
[null,"All People"]
[null,"All people","White",null,null,null,"Mixed",null,null,null,"Asian",null,null,null,null,"Black",null,null,"Other ethnic group"]
[null,null,"British"," Irish"," Gypsy or Irish Traveller","Other White"," White and Black Caribbean"," White and Black African","White and Asian","Other Mixed"," Indian"," Pakistani"," Bangladeshi","Chinese","Other Asian"," African"," Caribbean"," Other Black"," Arab"," Any other ethnic group"]
["All usual residents",12824,1194,146,22,217,151,23,172,80,636,5887,1271,61,637,460,364,363,957,183]
["0 to 24",6140,289,4,16,84,103,10,111,54,205,3038,700,19,312,237,113,225,536,84]
["25 to 49",4566,453,35,5,102,42,9,52,19,278,2083,454,26,248,172,102,108,302,76]
["50 to 64",1215,287,40,0,23,4,3,6,3,86,468,62,2,46,36,57,19,56,17]
["65 and over",903,165,67,1,8,2,1,3,4,67,298,55,14,31,15,92,{"$error":"#N/A"},63,6]
[]
["Females"]
[null,"All People"]
[null,"All people","White",null,null,null,"Mixed",null,null,null,"Asian",null,null,null,null,"Black",null,null,"Other ethnic group"]
[null,null,"British"," Irish"," Gypsy or Irish Traveller","Other White"," White and Black Caribbean"," White and Black African","White and Asian","Other Mixed"," Indian"," Pakistani"," Bangladeshi","Chinese","Other Asian"," African"," Caribbean"," Other Black"," Arab"," Any other ethnic group"]
["All usual residents",12387,1128,117,13,222,176,16,139,104,664,5781,1319,67,500,391,424,315,868,143]
["0 to 24",5854,315,2,6,95,111,8,97,81,182,2863,695,30,263,191,114,180,547,74]
["25 to 49",4298,387,28,6,97,48,6,38,21,236,2098,466,21,164,163,148,102,215,54]
["50 to 64",1280,234,21,1,17,11,1,4,2,135,521,106,5,33,28,65,23,66,7]
["65 and over",955,192,66,0,13,6,1,0,0,111,299,52,11,40,9,97,{"$error":"#N/A"},40,8]
["Source: ONS, Crown Copyright, 2018",null,null,null,null,null,null,null,null,null,null,null,null,null,null,null,null,null,null,"Transportation & Connectivity, www.birmingham.gov.uk/census, brenda.henry@birmingham.gov.uk, 0121 303 4208"]

{"sheet":"Sparkhill","index":66,"n_rows":33,"n_cols":20,"rows_kept":33,"cut":false,"hidden":false,"merged":[[24,0,26,0],[24,1,24,19],[25,1,26,1],[25,2,25,5],[25,6,25,9],[25,10,25,14],[25,15,25,17],[25,18,25,19],[14,0,16,0],[14,1,14,19],[15,1,16,1],[15,2,15,5],[15,6,15,9],[15,10,15,14],[15,15,15,17],[15,18,15,19],[4,0,6,0],[4,1,4,19],[5,1,6,1],[5,2,5,5],[5,6,5,9],[5,10,5,14],[5,15,5,17],[5,18,5,19]]}
["2011 Census Local Characteristics: Table LC2101EW Ethnic group by sex by age"]
[{"$f":"'2018wards'!A55","v":"Sparkhill"},null,null,null,null,null,null,null,null,null,null,null,null,null,"BCC estimates for 2018 wards"]
[]
["All people"]
[null,"All People"]
[null,"All people","White",null,null,null,"Mixed",null,null,null,"Asian",null,null,null,null,"Black",null,null,"Other ethnic group"]
[null,null,"British"," Irish"," Gypsy or Irish Traveller","Other White"," White and Black Caribbean"," White and Black African","White and Asian","Other Mixed"," Indian"," Pakistani"," Bangladeshi","Chinese","Other Asian"," African"," Caribbean"," Other Black"," Arab"," Any other ethnic group"]
["All usual residents",20309,1705,309,18,355,150,51,209,111,1766,11562,961,124,1299,382,414,212,411,270]
["0 to 24",9216,477,10,10,150,94,31,143,80,525,5732,493,42,645,224,97,116,247,100]
["25 to 49",7132,554,49,4,150,40,15,56,21,635,4177,341,66,448,137,125,71,128,115]
["50 to 64",2263,346,74,3,39,7,5,7,7,367,1036,80,13,129,18,59,22,20,31]
["65 and over",1698,328,176,1,16,9,0,3,3,239,617,47,3,77,3,133,{"$error":"#N/A"},16,24]
[]
["Males"]
[null,"All People"]
[null,"All people","White",null,null,null,"Mixed",null,null,null,"Asian",null,null,null,null,"Black",null,null,"Other ethnic group"]
[null,null,"British"," Irish"," Gypsy or Irish Traveller","Other White"," White and Black Caribbean"," White and Black African","White and Asian","Other Mixed"," Indian"," Pakistani"," Bangladeshi","Chinese","Other Asian"," African"," Caribbean"," Other Black"," Arab"," Any other ethnic group"]
["All usual residents",10343,889,158,7,175,75,30,130,55,909,5811,506,73,678,190,182,108,217,150]
["0 to 24",4741,240,2,7,77,42,19,87,40,293,2932,265,18,334,120,40,54,125,46]
["25 to 49",3648,297,31,0,72,26,7,40,9,327,2084,172,46,241,62,49,37,71,77]
["50 to 64",1132,195,46,0,19,2,4,2,5,183,496,38,6,63,6,26,17,9,15]
["65 and over",822,157,79,0,7,5,0,1,1,106,299,31,3,40,2,67,{"$error":"#N/A"},12,12]
[]
["Females"]
[null,"All People"]
[null,"All people","White",null,null,null,"Mixed",null,null,null,"Asian",null,null,null,null,"Black",null,null,"Other ethnic group"]
[null,null,"British"," Irish"," Gypsy or Irish Traveller","Other White"," White and Black Caribbean"," White and Black African","White and Asian","Other Mixed"," Indian"," Pakistani"," Bangladeshi","Chinese","Other Asian"," African"," Caribbean"," Other Black"," Arab"," Any other ethnic group"]
["All usual residents",9966,816,151,11,180,75,21,79,56,857,5751,455,51,621,192,232,104,194,120]
["0 to 24",4475,237,8,3,73,52,12,56,40,232,2800,228,24,311,104,57,62,122,54]
["25 to 49",3484,257,18,4,78,14,8,16,12,308,2093,169,20,207,75,76,34,57,38]
["50 to 64",1131,151,28,3,20,5,1,5,2,184,540,42,7,66,12,33,5,11,16]
["65 and over",876,171,97,1,9,4,0,2,2,133,318,16,0,37,1,66,{"$error":"#N/A"},4,12]
["Source: ONS, Crown Copyright, 2018",null,null,null,null,null,null,null,null,null,null,null,null,null,null,null,null,null,null,"Transportation & Connectivity, www.birmingham.gov.uk/census, brenda.henry@birmingham.gov.uk, 0121 303 4208"]

{"sheet":"Stirchley","index":67,"n_rows":33,"n_cols":20,"rows_kept":33,"cut":false,"hidden":false,"merged":[[24,0,26,0],[24,1,24,19],[25,1,26,1],[25,2,25,5],[25,6,25,9],[25,10,25,14],[25,15,25,17],[25,18,25,19],[14,0,16,0],[14,1,14,19],[15,1,16,1],[15,2,15,5],[15,6,15,9],[15,10,15,14],[15,15,15,17],[15,18,15,19],[4,0,6,0],[4,1,4,19],[5,1,6,1],[5,2,5,5],[5,6,5,9],[5,10,5,14],[5,15,5,17],[5,18,5,19]]}
["2011 Census Local Characteristics: Table LC2101EW Ethnic group by sex by age"]
[{"$f":"'2018wards'!A56","v":"Stirchley"},null,null,null,null,null,null,null,null,null,null,null,null,null,"BCC estimates for 2018 wards"]
[]
["All people"]
[null,"All People"]
[null,"All people","White",null,null,null,"Mixed",null,null,null,"Asian",null,null,null,null,"Black",null,null,"Other ethnic group"]
[null,null,"British"," Irish"," Gypsy or Irish Traveller","Other White"," White and Black Caribbean"," White and Black African","White and Asian","Other Mixed"," Indian"," Pakistani"," Bangladeshi","Chinese","Other Asian"," African"," Caribbean"," Other Black"," Arab"," Any other ethnic group"]
["All usual residents",9932,7158,287,3,303,253,21,96,77,307,388,245,75,164,154,241,75,47,38]
["0 to 24",3066,1954,25,1,81,176,10,59,51,88,209,125,32,59,68,52,31,29,16]
["25 to 49",4151,3014,97,2,158,69,10,31,21,130,144,106,31,92,73,104,36,13,20]
["50 to 64",1537,1244,74,0,31,3,1,4,3,59,23,7,9,9,12,45,8,4,1]
["65 and over",1178,946,91,0,33,5,0,2,2,30,12,7,3,4,1,40,{"$error":"#N/A"},1,1]
[]
["Males"]
[null,"All People"]
[null,"All people","White",null,null,null,"Mixed",null,null,null,"Asian",null,null,null,null,"Black",null,null,"Other ethnic group"]
[null,null,"British"," Irish"," Gypsy or Irish Traveller","Other White"," White and Black Caribbean"," White and Black African","White and Asian","Other Mixed"," Indian"," Pakistani"," Bangladeshi","Chinese","Other Asian"," African"," Caribbean"," Other Black"," Arab"," Any other ethnic group"]
["All usual residents",4770,3465,134,3,131,121,13,46,41,148,182,108,29,80,77,115,32,28,17]
["0 to 24",1501,973,7,1,33,84,6,26,27,38,104,50,12,29,42,24,18,19,8]
["25 to 49",2022,1482,50,2,74,36,6,15,10,66,62,50,13,46,32,50,13,6,9]
["50 to 64",755,616,38,0,11,1,1,3,3,30,9,4,4,4,3,25,1,2,0]
["65 and over",492,394,39,0,13,0,0,2,1,14,7,4,0,1,0,16,{"$error":"#N/A"},1,0]
[]
["Females"]
[null,"All People"]
[null,"All people","White",null,null,null,"Mixed",null,null,null,"Asian",null,null,null,null,"Black",null,null,"Other ethnic group"]
[null,null,"British"," Irish"," Gypsy or Irish Traveller","Other White"," White and Black Caribbean"," White and Black African","White and Asian","Other Mixed"," Indian"," Pakistani"," Bangladeshi","Chinese","Other Asian"," African"," Caribbean"," Other Black"," Arab"," Any other ethnic group"]
["All usual residents",5162,3693,153,0,172,132,8,50,36,159,206,137,46,84,77,126,43,19,21]
["0 to 24",1565,981,18,0,48,92,4,33,24,50,105,75,20,30,26,28,13,10,8]
["25 to 49",2129,1532,47,0,84,33,4,16,11,64,82,56,18,46,41,54,23,7,11]
["50 to 64",782,628,36,0,20,2,0,1,0,29,14,3,5,5,9,20,7,2,1]
["65 and over",686,552,52,0,20,5,0,0,1,16,5,3,3,3,1,24,{"$error":"#N/A"},0,1]
["Source: ONS, Crown Copyright, 2018",null,null,null,null,null,null,null,null,null,null,null,null,null,null,null,null,null,null,"Transportation & Connectivity, www.birmingham.gov.uk/census, brenda.henry@birmingham.gov.uk, 0121 303 4208"]

{"sheet":"Stockland Green","index":68,"n_rows":33,"n_cols":20,"rows_kept":33,"cut":false,"hidden":false,"merged":[[24,0,26,0],[24,1,24,19],[25,1,26,1],[25,2,25,5],[25,6,25,9],[25,10,25,14],[25,15,25,17],[25,18,25,19],[14,0,16,0],[14,1,14,19],[15,1,16,1],[15,2,15,5],[15,6,15,9],[15,10,15,14],[15,15,15,17],[15,18,15,19],[4,0,6,0],[4,1,4,19],[5,1,6,1],[5,2,5,5],[5,6,5,9],[5,10,5,14],[5,15,5,17],[5,18,5,19]]}
["2011 Census Local Characteristics: Table LC2101EW Ethnic group by sex by age"]
[{"$f":"'2018wards'!A57","v":"Stockland Green"},null,null,null,null,null,null,null,null,null,null,null,null,null,"BCC estimates for 2018 wards"]
[]
["All people"]
[null,"All People"]
[null,"All people","White",null,null,null,"Mixed",null,null,null,"Asian",null,null,null,null,"Black",null,null,"Other ethnic group"]
[null,null,"British"," Irish"," Gypsy or Irish Traveller","Other White"," White and Black Caribbean"," White and Black African","White and Asian","Other Mixed"," Indian"," Pakistani"," Bangladeshi","Chinese","Other Asian"," African"," Caribbean"," Other Black"," Arab"," Any other ethnic group"]
["All usual residents",21572,11366,554,5,1108,887,88,210,226,831,1810,295,269,390,678,2067,573,62,153]
["0 to 24",7677,3367,48,1,339,606,58,127,174,268,929,168,107,184,306,630,260,36,69]
["25 to 49",8253,4069,136,3,681,235,23,73,38,380,693,110,123,161,326,865,254,23,60]
["50 to 64",3123,2156,139,0,56,31,5,8,11,116,132,11,26,29,37,307,44,2,13]
["65 and over",2519,1774,231,1,32,15,2,2,3,67,56,6,13,16,9,265,{"$error":"#N/A"},1,11]
[]
["Males"]
[null,"All People"]
[null,"All people","White",null,null,null,"Mixed",null,null,null,"Asian",null,null,null,null,"Black",null,null,"Other ethnic group"]
[null,null,"British"," Irish"," Gypsy or Irish Traveller","Other White"," White and Black Caribbean"," White and Black African","White and Asian","Other Mixed"," Indian"," Pakistani"," Bangladeshi","Chinese","Other Asian"," African"," Caribbean"," Other Black"," Arab"," Any other ethnic group"]
["All usual residents",10596,5566,274,4,559,451,40,101,102,413,910,151,133,196,337,966,268,41,84]
["0 to 24",3914,1710,24,1,171,319,29,60,74,139,485,94,52,93,142,320,141,25,35]
["25 to 49",3996,1996,68,2,340,113,9,36,20,185,326,50,64,83,166,384,102,14,38]
["50 to 64",1584,1107,73,0,33,9,1,5,7,57,71,5,10,15,23,140,21,1,6]
["65 and over",1102,753,109,1,15,10,1,0,1,32,28,2,7,5,6,122,{"$error":"#N/A"},1,5]
[]
["Females"]
[null,"All People"]
[null,"All people","White",null,null,null,"Mixed",null,null,null,"Asian",null,null,null,null,"Black",null,null,"Other ethnic group"]
[null,null,"British"," Irish"," Gypsy or Irish Traveller","Other White"," White and Black Caribbean"," White and Black African","White and Asian","Other Mixed"," Indian"," Pakistani"," Bangladeshi","Chinese","Other Asian"," African"," Caribbean"," Other Black"," Arab"," Any other ethnic group"]
["All usual residents",10976,5800,280,1,549,436,48,109,124,418,900,144,136,194,341,1101,305,21,69]
["0 to 24",3763,1657,24,0,168,287,29,67,100,129,444,74,55,91,164,310,119,11,34]
["25 to 49",4257,2073,68,1,341,122,14,37,18,195,367,60,59,78,160,481,152,9,22]
["50 to 64",1539,1049,66,0,23,22,4,3,4,59,61,6,16,14,14,167,23,1,7]
["65 and over",1417,1021,122,0,17,5,1,2,2,35,28,4,6,11,3,143,{"$error":"#N/A"},0,6]
["Source: ONS, Crown Copyright, 2018",null,null,null,null,null,null,null,null,null,null,null,null,null,null,null,null,null,null,"Transportation & Connectivity, www.birmingham.gov.uk/census, brenda.henry@birmingham.gov.uk, 0121 303 4208"]

{"sheet":"Sutton Four Oaks","index":69,"n_rows":33,"n_cols":20,"rows_kept":33,"cut":false,"hidden":false,"merged":[[24,0,26,0],[24,1,24,19],[25,1,26,1],[25,2,25,5],[25,6,25,9],[25,10,25,14],[25,15,25,17],[25,18,25,19],[14,0,16,0],[14,1,14,19],[15,1,16,1],[15,2,15,5],[15,6,15,9],[15,10,15,14],[15,15,15,17],[15,18,15,19],[4,0,6,0],[4,1,4,19],[5,1,6,1],[5,2,5,5],[5,6,5,9],[5,10,5,14],[5,15,5,17],[5,18,5,19]]}
["2011 Census Local Characteristics: Table LC2101EW Ethnic group by sex by age"]
[{"$f":"'2018wards'!A58","v":"Sutton Four Oaks"},null,null,null,null,null,null,null,null,null,null,null,null,null,"BCC estimates for 2018 wards"]
[]
["All people"]
[null,"All People"]
[null,"All people","White",null,null,null,"Mixed",null,null,null,"Asian",null,null,null,null,"Black",null,null,"Other ethnic group"]
[null,null,"British"," Irish"," Gypsy or Irish Traveller","Other White"," White and Black Caribbean"," White and Black African","White and Asian","Other Mixed"," Indian"," Pakistani"," Bangladeshi","Chinese","Other Asian"," African"," Caribbean"," Other Black"," Arab"," Any other ethnic group"]
["All usual residents",9019,7649,105,2,162,40,15,43,16,584,82,17,23,69,39,59,13,15,86]
["0 to 24",2333,1862,13,0,39,28,12,30,9,184,39,6,7,24,18,17,5,5,35]
["25 to 49",2504,1999,25,1,66,9,2,9,5,243,24,8,9,22,15,24,7,4,32]
["50 to 64",1893,1651,31,1,30,3,0,2,1,100,13,1,6,17,6,16,1,5,9]
["65 and over",2289,2137,36,0,27,0,1,2,1,57,6,2,1,6,0,2,{"$error":"#N/A"},1,10]
[]
["Males"]
[null,"All People"]
[null,"All people","White",null,null,null,"Mixed",null,null,null,"Asian",null,null,null,null,"Black",null,null,"Other ethnic group"]
[null,null,"British"," Irish"," Gypsy or Irish Traveller","Other White"," White and Black Caribbean"," White and Black African","White and Asian","Other Mixed"," Indian"," Pakistani"," Bangladeshi","Chinese","Other Asian"," African"," Caribbean"," Other Black"," Arab"," Any other ethnic group"]
["All usual residents",4401,3725,50,1,66,18,8,26,7,293,42,11,15,33,19,28,6,9,44]
["0 to 24",1227,976,8,0,19,12,6,20,4,91,18,5,7,13,10,10,2,3,23]
["25 to 49",1228,991,11,1,24,5,1,6,2,123,14,3,5,7,6,11,4,2,12]
["50 to 64",935,819,16,0,14,1,0,0,0,51,6,1,2,9,3,6,0,3,4]
["65 and over",1011,939,15,0,9,0,1,0,1,28,4,2,1,4,0,1,{"$error":"#N/A"},1,5]
[]
["Females"]
[null,"All People"]
[null,"All people","White",null,null,null,"Mixed",null,null,null,"Asian",null,null,null,null,"Black",null,null,"Other ethnic group"]
[null,null,"British"," Irish"," Gypsy or Irish Traveller","Other White"," White and Black Caribbean"," White and Black African","White and Asian","Other Mixed"," Indian"," Pakistani"," Bangladeshi","Chinese","Other Asian"," African"," Caribbean"," Other Black"," Arab"," Any other ethnic group"]
["All usual residents",4618,3924,55,1,96,22,7,17,9,291,40,6,8,36,20,31,7,6,42]
["0 to 24",1106,886,5,0,20,16,6,10,5,93,21,1,0,11,8,7,3,2,12]
["25 to 49",1276,1008,14,0,42,4,1,3,3,120,10,5,4,15,9,13,3,2,20]
["50 to 64",958,832,15,1,16,2,0,2,1,49,7,0,4,8,3,10,1,2,5]
["65 and over",1278,1198,21,0,18,0,0,2,0,29,2,0,0,2,0,1,{"$error":"#N/A"},0,5]
["Source: ONS, Crown Copyright, 2018",null,null,null,null,null,null,null,null,null,null,null,null,null,null,null,null,null,null,"Transportation & Connectivity, www.birmingham.gov.uk/census, brenda.henry@birmingham.gov.uk, 0121 303 4208"]

{"sheet":"Sutton Mere Green","index":70,"n_rows":33,"n_cols":20,"rows_kept":33,"cut":false,"hidden":false,"merged":[[24,0,26,0],[24,1,24,19],[25,1,26,1],[25,2,25,5],[25,6,25,9],[25,10,25,14],[25,15,25,17],[25,18,25,19],[14,0,16,0],[14,1,14,19],[15,1,16,1],[15,2,15,5],[15,6,15,9],[15,10,15,14],[15,15,15,17],[15,18,15,19],[4,0,6,0],[4,1,4,19],[5,1,6,1],[5,2,5,5],[5,6,5,9],[5,10,5,14],[5,15,5,17],[5,18,5,19]]}
["2011 Census Local Characteristics: Table LC2101EW Ethnic group by sex by age"]
[{"$f":"'2018wards'!A59","v":"Sutton Mere Green"},null,null,null,null,null,null,null,null,null,null,null,null,null,"BCC estimates for 2018 wards"]
[]
["All people"]
[null,"All People"]
[null,"All people","White",null,null,null,"Mixed",null,null,null,"Asian",null,null,null,null,"Black",null,null,"Other ethnic group"]
[null,null,"British"," Irish"," Gypsy or Irish Traveller","Other White"," White and Black Caribbean"," White and Black African","White and Asian","Other Mixed"," Indian"," Pakistani"," Bangladeshi","Chinese","Other Asian"," African"," Caribbean"," Other Black"," Arab"," Any other ethnic group"]
["All usual residents",9703,8477,135,3,174,99,6,66,37,346,85,18,33,62,30,90,22,5,15]
["0 to 24",2557,2105,16,0,39,63,3,41,22,128,39,6,8,21,9,33,19,2,3]
["25 to 49",2987,2508,31,1,85,31,2,18,13,149,34,6,16,26,15,41,2,3,6]
["50 to 64",1903,1737,35,1,27,4,1,5,2,39,8,4,7,10,4,13,1,0,5]
["65 and over",2256,2127,53,1,23,1,0,2,0,30,4,2,2,5,2,3,{"$error":"#N/A"},0,1]
[]
["Males"]
[null,"All People"]
[null,"All people","White",null,null,null,"Mixed",null,null,null,"Asian",null,null,null,null,"Black",null,null,"Other ethnic group"]
[null,null,"British"," Irish"," Gypsy or Irish Traveller","Other White"," White and Black Caribbean"," White and Black African","White and Asian","Other Mixed"," Indian"," Pakistani"," Bangladeshi","Chinese","Other Asian"," African"," Caribbean"," Other Black"," Arab"," Any other ethnic group"]
["All usual residents",4612,4025,64,1,74,53,4,33,16,163,41,7,19,33,12,46,14,2,5]
["0 to 24",1268,1046,7,0,20,31,2,18,10,60,19,3,5,14,2,17,12,1,1]
["25 to 49",1467,1239,16,1,35,20,1,13,5,71,17,0,8,10,8,19,1,1,2]
["50 to 64",904,834,17,0,8,1,1,1,1,14,3,3,4,6,1,7,1,0,2]
["65 and over",973,906,24,0,11,1,0,1,0,18,2,1,2,3,1,3,{"$error":"#N/A"},0,0]
[]
["Females"]
[null,"All People"]
[null,"All people","White",null,null,null,"Mixed",null,null,null,"Asian",null,null,null,null,"Black",null,null,"Other ethnic group"]
[null,null,"British"," Irish"," Gypsy or Irish Traveller","Other White"," White and Black Caribbean"," White and Black African","White and Asian","Other Mixed"," Indian"," Pakistani"," Bangladeshi","Chinese","Other Asian"," African"," Caribbean"," Other Black"," Arab"," Any other ethnic group"]
["All usual residents",5091,4452,71,2,100,46,2,33,21,183,44,11,14,29,18,44,8,3,10]
["0 to 24",1289,1059,9,0,19,32,1,23,12,68,20,3,3,7,7,16,7,1,2]
["25 to 49",1520,1269,15,0,50,11,1,5,8,78,17,6,8,16,7,22,1,2,4]
["50 to 64",999,903,18,1,19,3,0,4,1,25,5,1,3,4,3,6,0,0,3]
["65 and over",1283,1221,29,1,12,0,0,1,0,12,2,1,0,2,1,0,{"$error":"#N/A"},0,1]
["Source: ONS, Crown Copyright, 2018",null,null,null,null,null,null,null,null,null,null,null,null,null,null,null,null,null,null,"Transportation & Connectivity, www.birmingham.gov.uk/census, brenda.henry@birmingham.gov.uk, 0121 303 4208"]

{"sheet":"Sutton Reddicap","index":71,"n_rows":33,"n_cols":20,"rows_kept":33,"cut":false,"hidden":false,"merged":[[24,0,26,0],[24,1,24,19],[25,1,26,1],[25,2,25,5],[25,6,25,9],[25,10,25,14],[25,15,25,17],[25,18,25,19],[14,0,16,0],[14,1,14,19],[15,1,16,1],[15,2,15,5],[15,6,15,9],[15,10,15,14],[15,15,15,17],[15,18,15,19],[4,0,6,0],[4,1,4,19],[5,1,6,1],[5,2,5,5],[5,6,5,9],[5,10,5,14],[5,15,5,17],[5,18,5,19]]}
["2011 Census Local Characteristics: Table LC2101EW Ethnic group by sex by age"]
[{"$f":"'2018wards'!A60","v":"Sutton Reddicap"},null,null,null,null,null,null,null,null,null,null,null,null,null,"BCC estimates for 2018 wards"]
[]
["All people"]
[null,"All People"]
[null,"All people","White",null,null,null,"Mixed",null,null,null,"Asian",null,null,null,null,"Black",null,null,"Other ethnic group"]
[null,null,"British"," Irish"," Gypsy or Irish Traveller","Other White"," White and Black Caribbean"," White and Black African","White and Asian","Other Mixed"," Indian"," Pakistani"," Bangladeshi","Chinese","Other Asian"," African"," Caribbean"," Other Black"," Arab"," Any other ethnic group"]
["All usual residents",10170,8733,155,2,151,176,18,61,49,274,107,15,30,70,66,164,67,13,19]
["0 to 24",3314,2681,21,1,42,141,15,40,39,97,58,10,10,30,29,54,33,7,6]
["25 to 49",3378,2854,41,1,82,29,2,15,9,133,37,3,12,28,28,60,30,6,8]
["50 to 64",1846,1694,35,0,16,4,0,5,1,27,9,1,4,9,5,31,2,0,3]
["65 and over",1632,1504,58,0,11,2,1,1,0,17,3,1,4,3,4,19,{"$error":"#N/A"},0,2]
[]
["Males"]
[null,"All People"]
[null,"All people","White",null,null,null,"Mixed",null,null,null,"Asian",null,null,null,null,"Black",null,null,"Other ethnic group"]
[null,null,"British"," Irish"," Gypsy or Irish Traveller","Other White"," White and Black Caribbean"," White and Black African","White and Asian","Other Mixed"," Indian"," Pakistani"," Bangladeshi","Chinese","Other Asian"," African"," Caribbean"," Other Black"," Arab"," Any other ethnic group"]
["All usual residents",4894,4195,70,1,64,94,9,29,23,135,55,5,12,33,37,79,37,7,9]
["0 to 24",1712,1373,8,1,23,82,9,22,20,48,32,3,4,13,17,28,21,4,4]
["25 to 49",1578,1349,21,0,30,10,0,5,2,66,18,1,3,14,15,26,12,3,3]
["50 to 64",916,841,16,0,9,2,0,2,1,14,3,0,3,5,2,15,2,0,1]
["65 and over",688,632,25,0,2,0,0,0,0,7,2,1,2,1,3,10,{"$error":"#N/A"},0,1]
[]
["Females"]
[null,"All People"]
[null,"All people","White",null,null,null,"Mixed",null,null,null,"Asian",null,null,null,null,"Black",null,null,"Other ethnic group"]
[null,null,"British"," Irish"," Gypsy or Irish Traveller","Other White"," White and Black Caribbean"," White and Black African","White and Asian","Other Mixed"," Indian"," Pakistani"," Bangladeshi","Chinese","Other Asian"," African"," Caribbean"," Other Black"," Arab"," Any other ethnic group"]
["All usual residents",5276,4538,85,1,87,82,9,32,26,139,52,10,18,37,29,85,30,6,10]
["0 to 24",1602,1308,13,0,19,59,6,18,19,49,26,7,6,17,12,26,12,3,2]
["25 to 49",1800,1505,20,1,52,19,2,10,7,67,19,2,9,14,13,34,18,3,5]
["50 to 64",930,853,19,0,7,2,0,3,0,13,6,1,1,4,3,16,0,0,2]
["65 and over",944,872,33,0,9,2,1,1,0,10,1,0,2,2,1,9,{"$error":"#N/A"},0,1]
["Source: ONS, Crown Copyright, 2018",null,null,null,null,null,null,null,null,null,null,null,null,null,null,null,null,null,null,"Transportation & Connectivity, www.birmingham.gov.uk/census, brenda.henry@birmingham.gov.uk, 0121 303 4208"]

{"sheet":"Sutton Roughley","index":72,"n_rows":33,"n_cols":20,"rows_kept":33,"cut":false,"hidden":false,"merged":[[24,0,26,0],[24,1,24,19],[25,1,26,1],[25,2,25,5],[25,6,25,9],[25,10,25,14],[25,15,25,17],[25,18,25,19],[14,0,16,0],[14,1,14,19],[15,1,16,1],[15,2,15,5],[15,6,15,9],[15,10,15,14],[15,15,15,17],[15,18,15,19],[4,0,6,0],[4,1,4,19],[5,1,6,1],[5,2,5,5],[5,6,5,9],[5,10,5,14],[5,15,5,17],[5,18,5,19]]}
["2011 Census Local Characteristics: Table LC2101EW Ethnic group by sex by age"]
[{"$f":"'2018wards'!A61","v":"Sutton Roughley"},null,null,null,null,null,null,null,null,null,null,null,null,null,"BCC estimates for 2018 wards"]
[]
["All people"]
[null,"All People"]
[null,"All people","White",null,null,null,"Mixed",null,null,null,"Asian",null,null,null,null,"Black",null,null,"Other ethnic group"]
[null,null,"British"," Irish"," Gypsy or Irish Traveller","Other White"," White and Black Caribbean"," White and Black African","White and Asian","Other Mixed"," Indian"," Pakistani"," Bangladeshi","Chinese","Other Asian"," African"," Caribbean"," Other Black"," Arab"," Any other ethnic group"]
["All usual residents",11674,10184,150,1,164,97,11,65,46,441,104,13,71,110,29,114,21,7,46]
["0 to 24",3516,2939,26,0,45,68,10,45,29,150,51,2,24,47,9,41,10,4,16]
["25 to 49",3878,3245,48,0,80,20,1,13,10,215,49,7,38,43,19,56,10,3,21]
["50 to 64",2084,1925,32,0,15,8,0,4,3,49,4,3,6,17,1,11,1,0,5]
["65 and over",2196,2075,44,1,24,1,0,3,4,27,0,1,3,3,0,6,{"$error":"#N/A"},0,4]
[]
["Males"]
[null,"All People"]
[null,"All people","White",null,null,null,"Mixed",null,null,null,"Asian",null,null,null,null,"Black",null,null,"Other ethnic group"]
[null,null,"British"," Irish"," Gypsy or Irish Traveller","Other White"," White and Black Caribbean"," White and Black African","White and Asian","Other Mixed"," Indian"," Pakistani"," Bangladeshi","Chinese","Other Asian"," African"," Caribbean"," Other Black"," Arab"," Any other ethnic group"]
["All usual residents",5636,4923,59,0,72,56,3,28,20,222,50,8,38,48,12,54,14,5,24]
["0 to 24",1809,1515,9,0,18,39,3,22,13,79,25,2,16,25,2,21,7,3,10]
["25 to 49",1834,1538,24,0,34,14,0,4,5,105,23,4,18,15,10,23,6,2,9]
["50 to 64",1009,943,9,0,6,2,0,1,1,24,2,1,2,7,0,7,1,0,3]
["65 and over",984,927,17,0,14,1,0,1,1,14,0,1,2,1,0,3,{"$error":"#N/A"},0,2]
[]
["Females"]
[null,"All People"]
[null,"All people","White",null,null,null,"Mixed",null,null,null,"Asian",null,null,null,null,"Black",null,null,"Other ethnic group"]
[null,null,"British"," Irish"," Gypsy or Irish Traveller","Other White"," White and Black Caribbean"," White and Black African","White and Asian","Other Mixed"," Indian"," Pakistani"," Bangladeshi","Chinese","Other Asian"," African"," Caribbean"," Other Black"," Arab"," Any other ethnic group"]
["All usual residents",6038,5261,91,1,92,41,8,37,26,219,54,5,33,62,17,60,7,2,22]
["0 to 24",1707,1424,17,0,27,29,7,23,16,71,26,0,8,22,7,20,3,1,6]
["25 to 49",2044,1707,24,0,46,6,1,9,5,110,26,3,20,28,9,33,4,1,12]
["50 to 64",1075,982,23,0,9,6,0,3,2,25,2,2,4,10,1,4,0,0,2]
["65 and over",1212,1148,27,1,10,0,0,2,3,13,0,0,1,2,0,3,{"$error":"#N/A"},0,2]
["Source: ONS, Crown Copyright, 2018",null,null,null,null,null,null,null,null,null,null,null,null,null,null,null,null,null,null,"Transportation & Connectivity, www.birmingham.gov.uk/census, brenda.henry@birmingham.gov.uk, 0121 303 4208"]

{"sheet":"Sutton Trinity","index":73,"n_rows":33,"n_cols":20,"rows_kept":33,"cut":false,"hidden":false,"merged":[[24,0,26,0],[24,1,24,19],[25,1,26,1],[25,2,25,5],[25,6,25,9],[25,10,25,14],[25,15,25,17],[25,18,25,19],[14,0,16,0],[14,1,14,19],[15,1,16,1],[15,2,15,5],[15,6,15,9],[15,10,15,14],[15,15,15,17],[15,18,15,19],[4,0,6,0],[4,1,4,19],[5,1,6,1],[5,2,5,5],[5,6,5,9],[5,10,5,14],[5,15,5,17],[5,18,5,19]]}
["2011 Census Local Characteristics: Table LC2101EW Ethnic group by sex by age"]
[{"$f":"'2018wards'!A62","v":"Sutton Trinity"},null,null,null,null,null,null,null,null,null,null,null,null,null,"BCC estimates for 2018 wards"]
[]
["All people"]
[null,"All People"]
[null,"All people","White",null,null,null,"Mixed",null,null,null,"Asian",null,null,null,null,"Black",null,null,"Other ethnic group"]
[null,null,"British"," Irish"," Gypsy or Irish Traveller","Other White"," White and Black Caribbean"," White and Black African","White and Asian","Other Mixed"," Indian"," Pakistani"," Bangladeshi","Chinese","Other Asian"," African"," Caribbean"," Other Black"," Arab"," Any other ethnic group"]
["All usual residents",8976,7776,158,4,200,111,15,60,41,246,96,15,66,51,14,66,28,8,21]
["0 to 24",2289,1849,20,2,48,77,10,38,29,77,44,8,29,20,3,12,14,3,6]
["25 to 49",3030,2529,42,2,99,26,4,17,10,131,39,6,33,27,10,31,13,4,7]
["50 to 64",1798,1661,41,0,20,5,1,4,1,24,11,1,4,3,1,14,1,1,5]
["65 and over",1859,1737,55,0,33,3,0,1,1,14,2,0,0,1,0,9,{"$error":"#N/A"},0,3]
[]
["Males"]
[null,"All People"]
[null,"All people","White",null,null,null,"Mixed",null,null,null,"Asian",null,null,null,null,"Black",null,null,"Other ethnic group"]
[null,null,"British"," Irish"," Gypsy or Irish Traveller","Other White"," White and Black Caribbean"," White and Black African","White and Asian","Other Mixed"," Indian"," Pakistani"," Bangladeshi","Chinese","Other Asian"," African"," Caribbean"," Other Black"," Arab"," Any other ethnic group"]
["All usual residents",4384,3805,63,2,80,65,8,39,21,120,49,6,31,24,8,35,15,4,9]
["0 to 24",1162,931,5,1,22,50,4,25,16,33,21,4,15,13,3,7,7,1,4]
["25 to 49",1542,1309,20,1,36,11,4,12,4,68,21,1,13,9,5,16,8,2,2]
["50 to 64",893,828,19,0,10,2,0,1,0,12,6,1,3,1,0,7,0,1,2]
["65 and over",787,737,19,0,12,2,0,1,1,7,1,0,0,1,0,5,{"$error":"#N/A"},0,1]
[]
["Females"]
[null,"All People"]
[null,"All people","White",null,null,null,"Mixed",null,null,null,"Asian",null,null,null,null,"Black",null,null,"Other ethnic group"]
[null,null,"British"," Irish"," Gypsy or Irish Traveller","Other White"," White and Black Caribbean"," White and Black African","White and Asian","Other Mixed"," Indian"," Pakistani"," Bangladeshi","Chinese","Other Asian"," African"," Caribbean"," Other Black"," Arab"," Any other ethnic group"]
["All usual residents",4592,3971,95,2,120,46,7,21,20,126,47,9,35,27,6,31,13,4,12]
["0 to 24",1127,918,15,1,26,27,6,13,13,44,23,4,14,7,0,5,7,2,2]
["25 to 49",1488,1220,22,1,63,15,0,5,6,63,18,5,20,18,5,15,5,2,5]
["50 to 64",905,833,22,0,10,3,1,3,1,12,5,0,1,2,1,7,1,0,3]
["65 and over",1072,1000,36,0,21,1,0,0,0,7,1,0,0,0,0,4,{"$error":"#N/A"},0,2]
["Source: ONS, Crown Copyright, 2018",null,null,null,null,null,null,null,null,null,null,null,null,null,null,null,null,null,null,"Transportation & Connectivity, www.birmingham.gov.uk/census, brenda.henry@birmingham.gov.uk, 0121 303 4208"]

{"sheet":"Sutton Vesey","index":74,"n_rows":33,"n_cols":20,"rows_kept":33,"cut":false,"hidden":false,"merged":[[24,0,26,0],[24,1,24,19],[25,1,26,1],[25,2,25,5],[25,6,25,9],[25,10,25,14],[25,15,25,17],[25,18,25,19],[14,0,16,0],[14,1,14,19],[15,1,16,1],[15,2,15,5],[15,6,15,9],[15,10,15,14],[15,15,15,17],[15,18,15,19],[4,0,6,0],[4,1,4,19],[5,1,6,1],[5,2,5,5],[5,6,5,9],[5,10,5,14],[5,15,5,17],[5,18,5,19]]}
["2011 Census Local Characteristics: Table LC2101EW Ethnic group by sex by age"]
[{"$f":"'2018wards'!A63","v":"Sutton Vesey"},null,null,null,null,null,null,null,null,null,null,null,null,null,"BCC estimates for 2018 wards"]
[]
["All people"]
[null,"All People"]
[null,"All people","White",null,null,null,"Mixed",null,null,null,"Asian",null,null,null,null,"Black",null,null,"Other ethnic group"]
[null,null,"British"," Irish"," Gypsy or Irish Traveller","Other White"," White and Black Caribbean"," White and Black African","White and Asian","Other Mixed"," Indian"," Pakistani"," Bangladeshi","Chinese","Other Asian"," African"," Caribbean"," Other Black"," Arab"," Any other ethnic group"]
["All usual residents",19695,16121,483,9,300,206,44,128,78,929,321,71,113,191,70,440,71,38,82]
["0 to 24",5468,4171,66,2,67,133,33,85,52,329,146,39,44,68,23,134,23,18,35]
["25 to 49",6454,5089,129,3,153,60,7,31,15,398,129,27,46,80,30,173,39,12,33]
["50 to 64",4015,3428,130,4,51,9,4,9,7,138,32,4,21,30,16,111,6,7,8]
["65 and over",3758,3433,158,0,29,4,0,3,4,64,14,1,2,13,1,22,{"$error":"#N/A"},1,6]
[]
["Males"]
[null,"All People"]
[null,"All people","White",null,null,null,"Mixed",null,null,null,"Asian",null,null,null,null,"Black",null,null,"Other ethnic group"]
[null,null,"British"," Irish"," Gypsy or Irish Traveller","Other White"," White and Black Caribbean"," White and Black African","White and Asian","Other Mixed"," Indian"," Pakistani"," Bangladeshi","Chinese","Other Asian"," African"," Caribbean"," Other Black"," Arab"," Any other ethnic group"]
["All usual residents",9634,7896,229,3,135,119,24,66,28,473,149,37,49,79,35,208,43,21,40]
["0 to 24",2802,2126,39,1,28,77,20,43,21,181,73,21,21,29,9,74,14,9,16]
["25 to 49",3210,2579,65,0,66,36,3,16,3,187,55,14,16,33,17,70,24,8,18]
["50 to 64",1975,1683,62,2,27,5,1,5,2,73,16,1,11,14,8,53,4,4,4]
["65 and over",1647,1508,63,0,14,1,0,2,2,32,5,1,1,3,1,11,{"$error":"#N/A"},0,2]
[]
["Females"]
[null,"All People"]
[null,"All people","White",null,null,null,"Mixed",null,null,null,"Asian",null,null,null,null,"Black",null,null,"Other ethnic group"]
[null,null,"British"," Irish"," Gypsy or Irish Traveller","Other White"," White and Black Caribbean"," White and Black African","White and Asian","Other Mixed"," Indian"," Pakistani"," Bangladeshi","Chinese","Other Asian"," African"," Caribbean"," Other Black"," Arab"," Any other ethnic group"]
["All usual residents",10061,8225,254,6,165,87,20,62,50,456,172,34,64,112,35,232,28,17,42]
["0 to 24",2666,2045,27,1,39,56,13,42,31,148,73,18,23,39,14,60,9,9,19]
["25 to 49",3244,2510,64,3,87,24,4,15,12,211,74,13,30,47,13,103,15,4,15]
["50 to 64",2040,1745,68,2,24,4,3,4,5,65,16,3,10,16,8,58,2,3,4]
["65 and over",2111,1925,95,0,15,3,0,1,2,32,9,0,1,10,0,11,{"$error":"#N/A"},1,4]
["Source: ONS, Crown Copyright, 2018",null,null,null,null,null,null,null,null,null,null,null,null,null,null,null,null,null,null,"Transportation & Connectivity, www.birmingham.gov.uk/census, brenda.henry@birmingham.gov.uk, 0121 303 4208"]

{"sheet":"Sutton Walmley & Minworth","index":75,"n_rows":33,"n_cols":20,"rows_kept":33,"cut":false,"hidden":false,"merged":[[24,0,26,0],[24,1,24,19],[25,1,26,1],[25,2,25,5],[25,6,25,9],[25,10,25,14],[25,15,25,17],[25,18,25,19],[14,0,16,0],[14,1,14,19],[15,1,16,1],[15,2,15,5],[15,6,15,9],[15,10,15,14],[15,15,15,17],[15,18,15,19],[4,0,6,0],[4,1,4,19],[5,1,6,1],[5,2,5,5],[5,6,5,9],[5,10,5,14],[5,15,5,17],[5,18,5,19]]}
["2011 Census Local Characteristics: Table LC2101EW Ethnic group by sex by age"]
[{"$f":"'2018wards'!A64","v":"Sutton Walmley & Minworth"},null,null,null,null,null,null,null,null,null,null,null,null,null,"BCC estimates for 2018 wards"]
[]
["All people"]
[null,"All People"]
[null,"All people","White",null,null,null,"Mixed",null,null,null,"Asian",null,null,null,null,"Black",null,null,"Other ethnic group"]
[null,null,"British"," Irish"," Gypsy or Irish Traveller","Other White"," White and Black Caribbean"," White and Black African","White and Asian","Other Mixed"," Indian"," Pakistani"," Bangladeshi","Chinese","Other Asian"," African"," Caribbean"," Other Black"," Arab"," Any other ethnic group"]
["All usual residents",16437,14244,334,1,258,176,33,70,47,537,113,6,115,113,66,212,45,27,40]
["0 to 24",4399,3662,48,0,50,132,16,43,31,169,52,2,36,38,33,56,12,8,11]
["25 to 49",5339,4476,74,0,122,39,12,17,13,251,41,2,57,48,26,98,28,18,17]
["50 to 64",3666,3303,100,1,55,4,5,8,3,81,12,2,19,19,3,38,4,1,8]
["65 and over",3033,2803,112,0,31,1,0,2,0,36,8,0,3,8,4,20,{"$error":"#N/A"},0,4]
[]
["Males"]
[null,"All People"]
[null,"All people","White",null,null,null,"Mixed",null,null,null,"Asian",null,null,null,null,"Black",null,null,"Other ethnic group"]
[null,null,"British"," Irish"," Gypsy or Irish Traveller","Other White"," White and Black Caribbean"," White and Black African","White and Asian","Other Mixed"," Indian"," Pakistani"," Bangladeshi","Chinese","Other Asian"," African"," Caribbean"," Other Black"," Arab"," Any other ethnic group"]
["All usual residents",7959,6887,152,1,116,106,12,39,20,268,54,3,50,54,32,103,26,16,20]
["0 to 24",2305,1913,23,0,21,81,7,23,14,96,25,2,14,20,16,31,11,4,4]
["25 to 49",2568,2157,37,0,56,25,4,12,5,116,21,0,26,19,13,44,13,11,9]
["50 to 64",1834,1666,47,1,23,0,1,4,1,37,5,1,9,10,2,19,2,1,5]
["65 and over",1252,1151,45,0,16,0,0,0,0,19,3,0,1,5,1,9,{"$error":"#N/A"},0,2]
[]
["Females"]
[null,"All People"]
[null,"All people","White",null,null,null,"Mixed",null,null,null,"Asian",null,null,null,null,"Black",null,null,"Other ethnic group"]
[null,null,"British"," Irish"," Gypsy or Irish Traveller","Other White"," White and Black Caribbean"," White and Black African","White and Asian","Other Mixed"," Indian"," Pakistani"," Bangladeshi","Chinese","Other Asian"," African"," Caribbean"," Other Black"," Arab"," Any other ethnic group"]
["All usual residents",8478,7357,182,0,142,70,21,31,27,269,59,3,65,59,34,109,19,11,20]
["0 to 24",2094,1749,25,0,29,51,9,20,17,73,27,0,22,18,17,25,1,4,7]
["25 to 49",2771,2319,37,0,66,14,8,5,8,135,20,2,31,29,13,54,15,7,8]
["50 to 64",1832,1637,53,0,32,4,4,4,2,44,7,1,10,9,1,19,2,0,3]
["65 and over",1781,1652,67,0,15,1,0,2,0,17,5,0,2,3,3,11,{"$error":"#N/A"},0,2]
["Source: ONS, Crown Copyright, 2018",null,null,null,null,null,null,null,null,null,null,null,null,null,null,null,null,null,null,"Transportation & Connectivity, www.birmingham.gov.uk/census, brenda.henry@birmingham.gov.uk, 0121 303 4208"]

{"sheet":"Sutton Wylde Green","index":76,"n_rows":33,"n_cols":20,"rows_kept":33,"cut":false,"hidden":false,"merged":[[24,0,26,0],[24,1,24,19],[25,1,26,1],[25,2,25,5],[25,6,25,9],[25,10,25,14],[25,15,25,17],[25,18,25,19],[14,0,16,0],[14,1,14,19],[15,1,16,1],[15,2,15,5],[15,6,15,9],[15,10,15,14],[15,15,15,17],[15,18,15,19],[4,0,6,0],[4,1,4,19],[5,1,6,1],[5,2,5,5],[5,6,5,9],[5,10,5,14],[5,15,5,17],[5,18,5,19]]}
["2011 Census Local Characteristics: Table LC2101EW Ethnic group by sex by age"]
[{"$f":"'2018wards'!A65","v":"Sutton Wylde Green"},null,null,null,null,null,null,null,null,null,null,null,null,null,"BCC estimates for 2018 wards"]
[]
["All people"]
[null,"All People"]
[null,"All people","White",null,null,null,"Mixed",null,null,null,"Asian",null,null,null,null,"Black",null,null,"Other ethnic group"]
[null,null,"British"," Irish"," Gypsy or Irish Traveller","Other White"," White and Black Caribbean"," White and Black African","White and Asian","Other Mixed"," Indian"," Pakistani"," Bangladeshi","Chinese","Other Asian"," African"," Caribbean"," Other Black"," Arab"," Any other ethnic group"]
["All usual residents",9433,7776,228,2,187,87,28,51,48,420,211,34,68,66,29,113,25,12,48]
["0 to 24",2448,1837,35,2,43,64,17,31,38,146,95,18,23,23,8,32,14,6,16]
["25 to 49",2774,2176,67,0,85,14,7,16,6,173,77,12,17,30,17,40,10,6,21]
["50 to 64",2175,1914,48,0,39,8,3,4,2,65,23,2,19,8,2,28,1,0,9]
["65 and over",2036,1849,78,0,20,1,1,0,2,36,16,2,9,5,2,13,{"$error":"#N/A"},0,2]
[]
["Males"]
[null,"All People"]
[null,"All people","White",null,null,null,"Mixed",null,null,null,"Asian",null,null,null,null,"Black",null,null,"Other ethnic group"]
[null,null,"British"," Irish"," Gypsy or Irish Traveller","Other White"," White and Black Caribbean"," White and Black African","White and Asian","Other Mixed"," Indian"," Pakistani"," Bangladeshi","Chinese","Other Asian"," African"," Caribbean"," Other Black"," Arab"," Any other ethnic group"]
["All usual residents",4555,3749,108,2,84,45,15,27,24,209,101,11,31,37,15,54,11,7,25]
["0 to 24",1215,915,16,2,20,32,9,15,19,73,44,5,9,16,5,18,8,3,6]
["25 to 49",1360,1071,32,0,41,7,4,9,3,82,35,4,10,17,7,17,3,4,14]
["50 to 64",1072,945,20,0,15,6,1,3,2,39,13,1,7,2,1,14,0,0,3]
["65 and over",908,818,40,0,8,0,1,0,0,15,9,1,5,2,2,5,{"$error":"#N/A"},0,2]
[]
["Females"]
[null,"All People"]
[null,"All people","White",null,null,null,"Mixed",null,null,null,"Asian",null,null,null,null,"Black",null,null,"Other ethnic group"]
[null,null,"British"," Irish"," Gypsy or Irish Traveller","Other White"," White and Black Caribbean"," White and Black African","White and Asian","Other Mixed"," Indian"," Pakistani"," Bangladeshi","Chinese","Other Asian"," African"," Caribbean"," Other Black"," Arab"," Any other ethnic group"]
["All usual residents",4878,4027,120,0,103,42,13,24,24,211,110,23,37,29,14,59,14,5,23]
["0 to 24",1233,922,19,0,23,32,8,16,19,73,51,13,14,7,3,14,6,3,10]
["25 to 49",1414,1105,35,0,44,7,3,7,3,91,42,8,7,13,10,23,7,2,7]
["50 to 64",1103,969,28,0,24,2,2,1,0,26,10,1,12,6,1,14,1,0,6]
["65 and over",1128,1031,38,0,12,1,0,0,2,21,7,1,4,3,0,8,{"$error":"#N/A"},0,0]
["Source: ONS, Crown Copyright, 2018",null,null,null,null,null,null,null,null,null,null,null,null,null,null,null,null,null,null,"Transportation & Connectivity, www.birmingham.gov.uk/census, brenda.henry@birmingham.gov.uk, 0121 303 4208"]

{"sheet":"Tyseley & Hay Mills","index":77,"n_rows":33,"n_cols":20,"rows_kept":33,"cut":false,"hidden":false,"merged":[[24,0,26,0],[24,1,24,19],[25,1,26,1],[25,2,25,5],[25,6,25,9],[25,10,25,14],[25,15,25,17],[25,18,25,19],[14,0,16,0],[14,1,14,19],[15,1,16,1],[15,2,15,5],[15,6,15,9],[15,10,15,14],[15,15,15,17],[15,18,15,19],[4,0,6,0],[4,1,4,19],[5,1,6,1],[5,2,5,5],[5,6,5,9],[5,10,5,14],[5,15,5,17],[5,18,5,19]]}
["2011 Census Local Characteristics: Table LC2101EW Ethnic group by sex by age"]
[{"$f":"'2018wards'!A66","v":"Tyseley & Hay Mills"},null,null,null,null,null,null,null,null,null,null,null,null,null,"BCC estimates for 2018 wards"]
[]
["All people"]
[null,"All People"]
[null,"All people","White",null,null,null,"Mixed",null,null,null,"Asian",null,null,null,null,"Black",null,null,"Other ethnic group"]
[null,null,"British"," Irish"," Gypsy or Irish Traveller","Other White"," White and Black Caribbean"," White and Black African","White and Asian","Other Mixed"," Indian"," Pakistani"," Bangladeshi","Chinese","Other Asian"," African"," Caribbean"," Other Black"," Arab"," Any other ethnic group"]
["All usual residents",11295,5248,376,1,399,291,24,190,115,534,2278,679,34,329,163,305,131,120,78]
["0 to 24",4556,1619,36,0,121,202,12,141,91,216,1247,365,12,168,68,85,66,70,37]
["25 to 49",4029,1688,67,0,242,75,7,37,16,251,890,271,13,128,87,116,60,46,35]
["50 to 64",1467,1042,100,0,28,9,4,10,7,51,104,23,5,17,6,49,4,3,5]
["65 and over",1243,899,173,1,8,5,1,2,1,16,37,20,4,16,2,55,{"$error":"#N/A"},1,1]
[]
["Males"]
[null,"All People"]
[null,"All people","White",null,null,null,"Mixed",null,null,null,"Asian",null,null,null,null,"Black",null,null,"Other ethnic group"]
[null,null,"British"," Irish"," Gypsy or Irish Traveller","Other White"," White and Black Caribbean"," White and Black African","White and Asian","Other Mixed"," Indian"," Pakistani"," Bangladeshi","Chinese","Other Asian"," African"," Caribbean"," Other Black"," Arab"," Any other ethnic group"]
["All usual residents",5525,2528,183,1,205,147,11,96,63,251,1137,338,17,168,81,126,64,69,40]
["0 to 24",2280,813,22,0,63,101,8,67,52,94,636,181,6,85,29,40,29,36,18]
["25 to 49",1925,774,30,0,120,38,2,20,7,121,425,142,7,69,47,43,33,29,18]
["50 to 64",764,540,51,0,17,4,1,9,3,27,59,7,3,10,3,22,2,3,3]
["65 and over",556,401,80,1,5,4,0,0,1,9,17,8,1,4,2,21,{"$error":"#N/A"},1,1]
[]
["Females"]
[null,"All People"]
[null,"All people","White",null,null,null,"Mixed",null,null,null,"Asian",null,null,null,null,"Black",null,null,"Other ethnic group"]
[null,null,"British"," Irish"," Gypsy or Irish Traveller","Other White"," White and Black Caribbean"," White and Black African","White and Asian","Other Mixed"," Indian"," Pakistani"," Bangladeshi","Chinese","Other Asian"," African"," Caribbean"," Other Black"," Arab"," Any other ethnic group"]
["All usual residents",5770,2720,193,0,194,144,13,94,52,283,1141,341,17,161,82,179,67,51,38]
["0 to 24",2276,806,14,0,58,101,4,74,39,122,611,184,6,83,39,45,37,34,19]
["25 to 49",2104,914,37,0,122,37,5,17,9,130,465,129,6,59,40,73,27,17,17]
["50 to 64",703,502,49,0,11,5,3,1,4,24,45,16,2,7,3,27,2,0,2]
["65 and over",687,498,93,0,3,1,1,2,0,7,20,12,3,12,0,34,{"$error":"#N/A"},0,0]
["Source: ONS, Crown Copyright, 2018",null,null,null,null,null,null,null,null,null,null,null,null,null,null,null,null,null,null,"Transportation & Connectivity, www.birmingham.gov.uk/census, brenda.henry@birmingham.gov.uk, 0121 303 4208"]

{"sheet":"Ward End","index":78,"n_rows":33,"n_cols":20,"rows_kept":33,"cut":false,"hidden":false,"merged":[[24,0,26,0],[24,1,24,19],[25,1,26,1],[25,2,25,5],[25,6,25,9],[25,10,25,14],[25,15,25,17],[25,18,25,19],[14,0,16,0],[14,1,14,19],[15,1,16,1],[15,2,15,5],[15,6,15,9],[15,10,15,14],[15,15,15,17],[15,18,15,19],[4,0,6,0],[4,1,4,19],[5,1,6,1],[5,2,5,5],[5,6,5,9],[5,10,5,14],[5,15,5,17],[5,18,5,19]]}
["2011 Census Local Characteristics: Table LC2101EW Ethnic group by sex by age"]
[{"$f":"'2018wards'!A67","v":"Ward End"},null,null,null,null,null,null,null,null,null,null,null,null,null,"BCC estimates for 2018 wards"]
[]
["All people"]
[null,"All People"]
[null,"All people","White",null,null,null,"Mixed",null,null,null,"Asian",null,null,null,null,"Black",null,null,"Other ethnic group"]
[null,null,"British"," Irish"," Gypsy or Irish Traveller","Other White"," White and Black Caribbean"," White and Black African","White and Asian","Other Mixed"," Indian"," Pakistani"," Bangladeshi","Chinese","Other Asian"," African"," Caribbean"," Other Black"," Arab"," Any other ethnic group"]
["All usual residents",12255,2683,117,11,175,178,32,117,84,272,6244,406,55,729,400,355,188,109,100]
["0 to 24",5610,653,5,6,71,120,18,86,63,109,3355,224,17,391,209,94,84,65,40]
["25 to 49",4254,736,17,3,87,49,10,28,17,126,2271,150,28,282,168,111,80,40,51]
["50 to 64",1317,681,30,0,8,6,4,3,3,31,374,21,7,28,21,75,17,3,5]
["65 and over",1074,613,65,2,9,3,0,0,1,6,244,11,3,28,2,75,{"$error":"#N/A"},1,4]
[]
["Males"]
[null,"All People"]
[null,"All people","White",null,null,null,"Mixed",null,null,null,"Asian",null,null,null,null,"Black",null,null,"Other ethnic group"]
[null,null,"British"," Irish"," Gypsy or Irish Traveller","Other White"," White and Black Caribbean"," White and Black African","White and Asian","Other Mixed"," Indian"," Pakistani"," Bangladeshi","Chinese","Other Asian"," African"," Caribbean"," Other Black"," Arab"," Any other ethnic group"]
["All usual residents",6024,1311,54,6,86,82,16,54,38,139,3082,194,27,363,196,175,85,51,65]
["0 to 24",2739,323,4,3,43,56,10,40,23,51,1647,111,6,184,107,41,39,30,21]
["25 to 49",2130,364,3,2,40,22,3,12,11,70,1134,67,16,156,76,59,39,18,38]
["50 to 64",690,365,18,0,2,3,3,2,3,14,191,11,3,13,12,38,7,2,3]
["65 and over",465,259,29,1,1,1,0,0,1,4,110,5,2,10,1,37,{"$error":"#N/A"},1,3]
[]
["Females"]
[null,"All People"]
[null,"All people","White",null,null,null,"Mixed",null,null,null,"Asian",null,null,null,null,"Black",null,null,"Other ethnic group"]
[null,null,"British"," Irish"," Gypsy or Irish Traveller","Other White"," White and Black Caribbean"," White and Black African","White and Asian","Other Mixed"," Indian"," Pakistani"," Bangladeshi","Chinese","Other Asian"," African"," Caribbean"," Other Black"," Arab"," Any other ethnic group"]
["All usual residents",6231,1372,63,5,89,96,16,63,46,133,3162,212,28,366,204,180,103,58,35]
["0 to 24",2871,330,1,3,28,64,8,46,40,58,1708,113,11,207,102,53,45,35,19]
["25 to 49",2124,372,14,1,47,27,7,16,6,56,1137,83,12,126,92,52,41,22,13]
["50 to 64",627,316,12,0,6,3,1,1,0,17,183,10,4,15,9,37,10,1,2]
["65 and over",609,354,36,1,8,2,0,0,0,2,134,6,1,18,1,38,{"$error":"#N/A"},0,1]
["Source: ONS, Crown Copyright, 2018",null,null,null,null,null,null,null,null,null,null,null,null,null,null,null,null,null,null,"Transportation & Connectivity, www.birmingham.gov.uk/census, brenda.henry@birmingham.gov.uk, 0121 303 4208"]

{"sheet":"Weoley & Selly Oak","index":79,"n_rows":33,"n_cols":20,"rows_kept":33,"cut":false,"hidden":false,"merged":[[24,0,26,0],[24,1,24,19],[25,1,26,1],[25,2,25,5],[25,6,25,9],[25,10,25,14],[25,15,25,17],[25,18,25,19],[14,0,16,0],[14,1,14,19],[15,1,16,1],[15,2,15,5],[15,6,15,9],[15,10,15,14],[15,15,15,17],[15,18,15,19],[4,0,6,0],[4,1,4,19],[5,1,6,1],[5,2,5,5],[5,6,5,9],[5,10,5,14],[5,15,5,17],[5,18,5,19]]}
["2011 Census Local Characteristics: Table LC2101EW Ethnic group by sex by age"]
[{"$f":"'2018wards'!A68","v":"Weoley & Selly Oak"},null,null,null,null,null,null,null,null,null,null,null,null,null,"BCC estimates for 2018 wards"]
[]
["All people"]
[null,"All People"]
[null,"All people","White",null,null,null,"Mixed",null,null,null,"Asian",null,null,null,null,"Black",null,null,"Other ethnic group"]
[null,null,"British"," Irish"," Gypsy or Irish Traveller","Other White"," White and Black Caribbean"," White and Black African","White and Asian","Other Mixed"," Indian"," Pakistani"," Bangladeshi","Chinese","Other Asian"," African"," Caribbean"," Other Black"," Arab"," Any other ethnic group"]
["All usual residents",22990,16499,389,4,599,596,82,262,226,796,357,103,492,773,529,572,236,237,238]
["0 to 24",8271,5429,41,1,183,452,45,195,162,275,176,52,192,321,252,177,112,106,100]
["25 to 49",7910,5216,99,0,301,124,27,56,52,396,144,32,251,391,244,255,104,114,104]
["50 to 64",3409,2855,94,2,73,11,9,6,10,79,25,12,31,43,23,86,14,16,20]
["65 and over",3400,2999,155,1,42,9,1,5,2,46,12,7,18,18,10,54,{"$error":"#N/A"},1,14]
[]
["Males"]
[null,"All People"]
[null,"All people","White",null,null,null,"Mixed",null,null,null,"Asian",null,null,null,null,"Black",null,null,"Other ethnic group"]
[null,null,"British"," Irish"," Gypsy or Irish Traveller","Other White"," White and Black Caribbean"," White and Black African","White and Asian","Other Mixed"," Indian"," Pakistani"," Bangladeshi","Chinese","Other Asian"," African"," Caribbean"," Other Black"," Arab"," Any other ethnic group"]
["All usual residents",11037,7860,193,3,259,276,48,142,108,389,174,50,231,396,248,267,118,141,134]
["0 to 24",4166,2760,22,0,87,211,21,106,75,141,89,25,89,166,115,91,50,58,60]
["25 to 49",3783,2466,47,0,132,54,21,31,28,186,67,15,122,197,115,118,55,73,56]
["50 to 64",1612,1366,45,2,25,4,6,2,4,37,11,6,12,22,11,31,8,10,10]
["65 and over",1476,1268,79,1,15,7,0,3,1,25,7,4,8,11,7,27,{"$error":"#N/A"},0,8]
[]
["Females"]
[null,"All People"]
[null,"All people","White",null,null,null,"Mixed",null,null,null,"Asian",null,null,null,null,"Black",null,null,"Other ethnic group"]
[null,null,"British"," Irish"," Gypsy or Irish Traveller","Other White"," White and Black Caribbean"," White and Black African","White and Asian","Other Mixed"," Indian"," Pakistani"," Bangladeshi","Chinese","Other Asian"," African"," Caribbean"," Other Black"," Arab"," Any other ethnic group"]
["All usual residents",11953,8639,196,1,340,320,34,120,118,407,183,53,261,377,281,305,118,96,104]
["0 to 24",4105,2669,19,1,96,241,24,89,87,134,87,27,103,155,137,86,62,48,40]
["25 to 49",4127,2750,52,0,169,70,6,25,24,210,77,17,129,194,129,137,49,41,48]
["50 to 64",1797,1489,49,0,48,7,3,4,6,42,14,6,19,21,12,55,6,6,10]
["65 and over",1924,1731,76,0,27,2,1,2,1,21,5,3,10,7,3,27,{"$error":"#N/A"},1,6]
["Source: ONS, Crown Copyright, 2018",null,null,null,null,null,null,null,null,null,null,null,null,null,null,null,null,null,null,"Transportation & Connectivity, www.birmingham.gov.uk/census, brenda.henry@birmingham.gov.uk, 0121 303 4208"]

{"sheet":"Yardley East","index":80,"n_rows":33,"n_cols":20,"rows_kept":33,"cut":false,"hidden":false,"merged":[[24,0,26,0],[24,1,24,19],[25,1,26,1],[25,2,25,5],[25,6,25,9],[25,10,25,14],[25,15,25,17],[25,18,25,19],[14,0,16,0],[14,1,14,19],[15,1,16,1],[15,2,15,5],[15,6,15,9],[15,10,15,14],[15,15,15,17],[15,18,15,19],[4,0,6,0],[4,1,4,19],[5,1,6,1],[5,2,5,5],[5,6,5,9],[5,10,5,14],[5,15,5,17],[5,18,5,19]]}
["2011 Census Local Characteristics: Table LC2101EW Ethnic group by sex by age"]
[{"$f":"'2018wards'!A69","v":"Yardley East"},null,null,null,null,null,null,null,null,null,null,null,null,null,"BCC estimates for 2018 wards"]
[]
["All people"]
[null,"All People"]
[null,"All people","White",null,null,null,"Mixed",null,null,null,"Asian",null,null,null,null,"Black",null,null,"Other ethnic group"]
[null,null,"British"," Irish"," Gypsy or Irish Traveller","Other White"," White and Black Caribbean"," White and Black African","White and Asian","Other Mixed"," Indian"," Pakistani"," Bangladeshi","Chinese","Other Asian"," African"," Caribbean"," Other Black"," Arab"," Any other ethnic group"]
["All usual residents",10327,7406,294,1,118,208,27,81,47,295,1071,111,28,138,133,236,57,32,44]
["0 to 24",3303,1995,38,0,31,155,19,56,32,98,559,61,12,55,81,52,23,17,19]
["25 to 49",3345,2282,63,1,60,49,6,14,13,109,413,43,9,64,49,110,33,11,16]
["50 to 64",1817,1523,68,0,15,3,1,11,2,65,63,5,3,13,1,36,0,1,7]
["65 and over",1862,1606,125,0,12,1,1,0,0,23,36,2,4,6,2,38,{"$error":"#N/A"},3,2]
[]
["Males"]
[null,"All People"]
[null,"All people","White",null,null,null,"Mixed",null,null,null,"Asian",null,null,null,null,"Black",null,null,"Other ethnic group"]
[null,null,"British"," Irish"," Gypsy or Irish Traveller","Other White"," White and Black Caribbean"," White and Black African","White and Asian","Other Mixed"," Indian"," Pakistani"," Bangladeshi","Chinese","Other Asian"," African"," Caribbean"," Other Black"," Arab"," Any other ethnic group"]
["All usual residents",5067,3620,145,0,55,103,15,35,19,141,524,61,13,78,66,133,31,12,16]
["0 to 24",1681,1030,21,0,13,79,12,28,14,51,269,35,4,29,42,30,12,7,5]
["25 to 49",1657,1123,28,0,31,21,3,5,4,51,213,22,4,39,22,63,19,3,6]
["50 to 64",929,783,41,0,5,2,0,2,1,31,27,4,2,7,1,19,0,1,3]
["65 and over",800,684,55,0,6,1,0,0,0,8,15,0,3,3,1,21,{"$error":"#N/A"},1,2]
[]
["Females"]
[null,"All People"]
[null,"All people","White",null,null,null,"Mixed",null,null,null,"Asian",null,null,null,null,"Black",null,null,"Other ethnic group"]
[null,null,"British"," Irish"," Gypsy or Irish Traveller","Other White"," White and Black Caribbean"," White and Black African","White and Asian","Other Mixed"," Indian"," Pakistani"," Bangladeshi","Chinese","Other Asian"," African"," Caribbean"," Other Black"," Arab"," Any other ethnic group"]
["All usual residents",5260,3786,149,1,63,105,12,46,28,154,547,50,15,60,67,103,26,20,28]
["0 to 24",1622,965,17,0,18,76,7,28,18,47,290,26,8,26,39,22,11,10,14]
["25 to 49",1688,1159,35,1,29,28,3,9,9,58,200,21,5,25,27,47,14,8,10]
["50 to 64",888,740,27,0,10,1,1,9,1,34,36,1,1,6,0,17,0,0,4]
["65 and over",1062,922,70,0,6,0,1,0,0,15,21,2,1,3,1,17,{"$error":"#N/A"},2,0]
["Source: ONS, Crown Copyright, 2018",null,null,null,null,null,null,null,null,null,null,null,null,null,null,null,null,null,null,"Transportation & Connectivity, www.birmingham.gov.uk/census, brenda.henry@birmingham.gov.uk, 0121 303 4208"]

{"sheet":"Yardley West & Stechford","index":81,"n_rows":33,"n_cols":20,"rows_kept":33,"cut":false,"hidden":false,"merged":[[24,0,26,0],[24,1,24,19],[25,1,26,1],[25,2,25,5],[25,6,25,9],[25,10,25,14],[25,15,25,17],[25,18,25,19],[14,0,16,0],[14,1,14,19],[15,1,16,1],[15,2,15,5],[15,6,15,9],[15,10,15,14],[15,15,15,17],[15,18,15,19],[4,0,6,0],[4,1,4,19],[5,1,6,1],[5,2,5,5],[5,6,5,9],[5,10,5,14],[5,15,5,17],[5,18,5,19]]}
["2011 Census Local Characteristics: Table LC2101EW Ethnic group by sex by age"]
[{"$f":"'2018wards'!A70","v":"Yardley West & Stechford"},null,null,null,null,null,null,null,null,null,null,null,null,null,"BCC estimates for 2018 wards"]
[]
["All people"]
[null,"All People"]
[null,"All people","White",null,null,null,"Mixed",null,null,null,"Asian",null,null,null,null,"Black",null,null,"Other ethnic group"]
[null,null,"British"," Irish"," Gypsy or Irish Traveller","Other White"," White and Black Caribbean"," White and Black African","White and Asian","Other Mixed"," Indian"," Pakistani"," Bangladeshi","Chinese","Other Asian"," African"," Caribbean"," Other Black"," Arab"," Any other ethnic group"]
["All usual residents",11936,5676,287,1,239,327,31,141,89,427,2768,410,45,468,272,428,155,92,80]
["0 to 24",4697,1635,24,0,90,234,21,102,59,153,1484,230,20,215,161,107,80,53,29]
["25 to 49",4083,1737,54,0,128,83,8,33,19,204,1050,150,12,192,96,176,62,35,44]
["50 to 64",1637,1173,60,1,10,6,1,3,10,48,161,24,4,39,12,65,10,4,6]
["65 and over",1519,1131,149,0,11,4,1,3,1,22,73,6,9,22,3,80,{"$error":"#N/A"},0,1]
[]
["Males"]
[null,"All People"]
[null,"All people","White",null,null,null,"Mixed",null,null,null,"Asian",null,null,null,null,"Black",null,null,"Other ethnic group"]
[null,null,"British"," Irish"," Gypsy or Irish Traveller","Other White"," White and Black Caribbean"," White and Black African","White and Asian","Other Mixed"," Indian"," Pakistani"," Bangladeshi","Chinese","Other Asian"," African"," Caribbean"," Other Black"," Arab"," Any other ethnic group"]
["All usual residents",5860,2781,138,1,121,180,12,78,41,196,1352,212,22,232,142,201,70,42,39]
["0 to 24",2361,837,14,0,46,128,7,56,28,67,736,121,7,108,87,55,33,19,12]
["25 to 49",1997,851,25,0,63,44,5,18,6,97,508,74,7,96,45,84,31,21,22]
["50 to 64",832,603,30,1,7,4,0,1,6,22,81,14,2,17,9,24,5,2,4]
["65 and over",670,490,69,0,5,4,0,3,1,10,27,3,6,11,1,38,{"$error":"#N/A"},0,1]
[]
["Females"]
[null,"All People"]
[null,"All people","White",null,null,null,"Mixed",null,null,null,"Asian",null,null,null,null,"Black",null,null,"Other ethnic group"]
[null,null,"British"," Irish"," Gypsy or Irish Traveller","Other White"," White and Black Caribbean"," White and Black African","White and Asian","Other Mixed"," Indian"," Pakistani"," Bangladeshi","Chinese","Other Asian"," African"," Caribbean"," Other Black"," Arab"," Any other ethnic group"]
["All usual residents",6076,2895,149,0,118,147,19,63,48,231,1416,198,23,236,130,227,85,50,41]
["0 to 24",2336,798,10,0,44,106,14,46,31,86,748,109,13,107,74,52,47,34,17]
["25 to 49",2086,886,29,0,65,39,3,15,13,107,542,76,5,96,51,92,31,14,22]
["50 to 64",805,570,30,0,3,2,1,2,4,26,80,10,2,22,3,41,5,2,2]
["65 and over",849,641,80,0,6,0,1,0,0,12,46,3,3,11,2,42,{"$error":"#N/A"},0,0]
["Source: ONS, Crown Copyright, 2018",null,null,null,null,null,null,null,null,null,null,null,null,null,null,null,null,null,null,"Transportation & Connectivity, www.birmingham.gov.uk/census, brenda.henry@birmingham.gov.uk, 0121 303 4208"]

{"sheet":"65+data","index":82,"n_rows":26,"n_cols":70,"rows_kept":26,"cut":false,"hidden":true,"merged":[]}
["ZONEID","E05011118","E05011119","E05011120","E05011121","E05011122","E05011123","E05011124","E05011125","E05011126","E05011127","E05011128","E05011129","E05011130","E05011131","E05011132","E05011133","E05011134","E05011135","E05011136","E05011137","E05011138","E05011139","E05011140","E05011141","E05011142","E05011143","E05011144","E05011145","E05011146","E05011147","E05011148","E05011149","E05011150","E05011151","E05011152","E05011153","E05011154","E05011155","E05011156","E05011157","E05011158","E05011159","E05011160","E05011161","E05011162","E05011163","E05011164","E05011165","E05011166","E05011167","E05011168","E05011169","E05011170","E05011171","E05011172","E05011173","E05011174","E05011175","E05011176","E05011177","E05011178","E05011179","E05011180","E05011181","E05011182","E05011183","E05011184","E05011185","E05011186"]
["variable","Acocks Green","Allens Cross","Alum Rock","Aston","Balsall Heath West","Bartley Green","Billesley","Birchfield","Bordesley & Highgate","Bordesley Green","Bournbrook & Selly Park","Bournville & Cotteridge","Brandwood & King's Heath","Bromford & Hodge Hill","Castle Vale","Druids Heath & Monyhull","Edgbaston","Erdington","Frankley Great Park","Garretts Green","Glebe Farm & Tile Cross","Gravelly Hill","Hall Green North","Hall Green South","Handsworth","Handsworth Wood","Harborne","Heartlands","Highter's Heath","Holyhead","King's Norton North","King's Norton South","Kingstanding","Ladywood","Longbridge & West Heath","Lozells","Moseley","Nechells","Newtown","North Edgbaston","Northfield","Oscott","Perry Barr","Perry Common","Pype Hayes","Quinton","Rubery & Rednal","Shard End","Sheldon","Small Heath","Soho & Jewellery Quarter","South Yardley","Sparkbrook & Balsall Heath East","Sparkhill","Stirchley","Stockland Green","Sutton Four Oaks","Sutton Mere Green","Sutton Reddicap","Sutton Roughley","Sutton Trinity","Sutton Vesey","Sutton Walmley & Minworth","Sutton Wylde Green","Tyseley & Hay Mills","Ward End","Weoley & Selly Oak","Yardley East","Yardley West & Stechford"]
["LC2101EW0097:All categories: Sex, Age 65 and over, All categories: Ethnic group",3054,1644,1826,1904,1080,3193,3082,1028,761,994,1348,3077,2592,2874,1731,1779,2195,3156,1327,1274,2751,1107,2825,1694,1084,2304,3131,1081,1673,1068,1885,1604,2819,1139,3244,674,2736,981,693,1964,1855,3213,3006,1780,1612,3395,1372,1866,3609,1742,1649,1328,1858,1698,1178,2519,2289,2256,1632,2196,1859,3758,3033,2036,1243,1074,3400,1862,1519]
["LC2101EW0098:All categories: Sex, Age 65 and over, White: Total",2667,1580,540,462,329,3052,2811,218,374,386,1194,2954,2246,2539,1651,1696,1769,2949,1271,1170,2558,847,2178,1503,184,1261,2871,717,1602,291,1829,1547,2617,790,3164,138,2047,630,336,1001,1814,3059,2573,1652,1533,3104,1348,1802,3490,477,643,1224,512,521,1070,2038,2200,2204,1573,2144,1825,3620,2946,1947,1081,689,3197,1743,1291]
["LC2101EW0099:All categories: Sex, Age 65 and over, White: English/Welsh/Scottish/Northern Irish/British",2249,1472,448,370,252,2921,2471,160,259,283,971,2770,1963,2340,1540,1559,1621,2505,1193,1069,2401,694,1820,1321,133,1112,2613,632,1498,219,1713,1444,2381,670,2995,92,1759,518,263,807,1671,2826,2341,1494,1378,2889,1282,1686,3181,323,544,1068,357,328,946,1774,2137,2127,1504,2075,1737,3433,2803,1849,899,613,2999,1606,1131]
["LC2101EW0100:All categories: Sex, Age 65 and over, White: Irish",384,101,78,75,60,107,304,36,102,96,191,148,245,175,105,124,85,410,64,96,149,121,311,167,34,113,183,82,99,59,86,86,215,101,145,40,217,106,66,159,125,208,196,139,141,165,54,105,272,141,84,144,133,176,91,231,36,53,58,44,55,158,112,78,173,65,155,125,149]
["LC2101EW0101:All categories: Sex, Age 65 and over, White: Gypsy or Irish Traveller",0,0,0,0,2,0,1,0,1,1,0,0,0,0,0,1,0,1,0,0,0,0,0,0,0,1,0,0,0,0,0,0,0,0,0,1,2,0,0,0,0,0,1,0,0,0,0,2,1,0,1,0,1,1,0,1,0,1,0,1,0,0,0,0,1,2,1,0,0]
["LC2101EW0102:All categories: Sex, Age 65 and over, White: Other White",34,7,14,17,15,24,35,22,12,6,32,36,38,24,6,12,63,33,14,5,8,32,47,15,17,35,75,3,5,13,30,17,21,19,24,5,69,6,7,35,18,25,35,19,14,50,12,9,36,13,14,12,21,16,33,32,27,23,11,24,33,29,31,20,8,9,42,12,11]
["LC2101EW0103:All categories: Sex, Age 65 and over, Mixed/multiple ethnic group: Total",14,8,8,24,16,12,18,15,8,16,8,12,19,18,7,10,11,18,5,4,4,18,9,2,17,17,16,17,10,18,3,8,14,18,11,9,12,33,14,20,6,10,9,10,3,10,5,11,8,9,36,6,17,15,9,22,4,3,4,8,5,11,3,4,9,4,17,2,9]
["LC2101EW0104:All categories: Sex, Age 65 and over, Mixed/multiple ethnic group: White and Black Caribbean",11,7,3,17,10,8,9,15,4,10,2,6,11,7,4,6,4,9,2,1,1,15,8,1,11,10,8,11,9,11,2,2,10,13,7,5,5,18,7,13,3,4,6,8,2,5,4,7,3,5,16,3,8,9,5,15,0,1,2,1,3,4,1,1,5,3,9,1,4]
["LC2101EW0105:All categories: Sex, Age 65 and over, Mixed/multiple ethnic group: White and Black African",0,1,2,0,1,0,1,0,2,0,0,1,0,1,0,1,1,1,0,0,0,0,0,0,2,0,0,0,0,0,0,2,2,0,0,2,0,4,1,0,0,1,1,0,0,0,0,1,0,2,4,1,2,0,0,2,1,0,1,0,0,0,0,1,1,0,1,1,1]
["LC2101EW0106:All categories: Sex, Age 65 and over, Mixed/multiple ethnic group: White and Asian",0,0,2,2,2,2,2,0,1,4,2,3,5,3,2,1,3,3,2,2,2,2,0,1,1,5,3,3,1,4,0,1,0,1,1,0,3,3,4,4,3,4,0,0,0,2,0,3,2,0,6,0,3,3,2,2,2,2,1,3,1,3,2,0,2,0,5,0,3]
["LC2101EW0107:All categories: Sex, Age 65 and over, Mixed/multiple ethnic group: Other Mixed",3,0,1,5,3,2,6,0,1,2,4,2,3,7,1,2,3,5,1,1,1,1,1,0,3,2,5,3,0,3,1,3,2,4,3,2,4,8,2,3,0,1,2,2,1,3,1,0,3,2,10,2,4,3,2,3,1,0,0,4,1,4,0,2,1,1,2,0,1]
["LC2101EW0108:All categories: Sex, Age 65 and over, Asian/Asian British: Total",230,24,1110,893,376,37,176,385,200,424,112,63,209,205,11,29,303,66,15,21,76,75,526,163,520,679,180,263,24,360,16,12,55,95,17,369,499,78,69,598,20,52,181,44,28,175,3,7,67,1039,459,63,978,983,56,158,72,43,28,34,17,94,55,68,93,292,101,71,132]
["LC2101EW0109:All categories: Sex, Age 65 and over, Asian/Asian British: Indian",99,7,29,227,49,14,83,183,16,22,51,35,95,14,6,19,182,32,4,1,7,15,257,99,288,506,128,24,12,253,10,3,29,37,8,46,164,7,12,308,4,33,119,30,8,128,2,2,26,55,277,34,178,239,30,67,57,30,17,27,14,64,36,36,16,6,46,23,22]
["LC2101EW0110:All categories: Sex, Age 65 and over, Asian/Asian British: Pakistani",88,4,821,385,222,9,69,137,89,299,33,10,86,160,1,4,46,16,7,17,56,40,197,43,134,71,17,196,2,37,1,3,15,11,4,164,267,30,11,217,0,3,36,5,7,16,0,2,29,778,107,22,597,617,12,56,6,4,3,0,2,14,8,16,37,244,12,36,73]
["LC2101EW0111:All categories: Sex, Age 65 and over, Asian/Asian British: Bangladeshi",15,2,87,214,16,0,3,26,24,71,16,1,5,9,0,0,5,2,2,1,4,6,16,4,46,8,2,25,0,27,1,1,2,1,0,124,20,30,28,9,1,3,5,3,0,0,0,2,3,117,13,0,107,47,7,6,2,2,1,1,0,1,0,2,20,11,7,2,6]
["LC2101EW0112:All categories: Sex, Age 65 and over, Asian/Asian British: Chinese",9,5,7,9,56,6,6,4,59,6,6,8,7,7,4,4,37,9,2,0,3,0,7,4,8,8,17,4,0,2,2,3,6,35,5,11,12,8,4,12,10,5,7,2,9,10,0,1,6,9,14,3,25,3,3,13,1,2,4,3,0,2,3,9,4,3,18,4,9]
["LC2101EW0113:All categories: Sex, Age 65 and over, Asian/Asian British: Other Asian",19,6,166,58,33,8,15,35,12,26,6,9,16,15,0,2,33,7,0,2,6,14,49,13,44,86,16,14,10,41,2,2,3,11,0,24,36,3,14,52,5,8,14,4,4,21,1,0,3,80,48,4,71,77,4,16,6,5,3,3,1,13,8,5,16,28,18,6,22]
["LC2101EW0114:All categories: Sex, Age 65 and over, Black/African/Caribbean/Black British: Total",130,28,159,511,246,91,64,399,170,151,32,43,103,106,57,37,86,115,34,75,109,164,66,19,331,277,54,74,33,363,36,36,131,228,49,154,132,233,268,295,15,90,236,72,46,91,13,46,40,181,487,28,234,139,41,289,2,5,25,6,9,26,25,15,58,84,70,41,86]
["LC2101EW0115:All categories: Sex, Age 65 and over, Black/African/Caribbean/Black British: African",3,7,10,15,9,9,6,15,17,6,6,5,3,5,3,1,8,4,1,4,1,3,2,2,4,9,4,4,2,3,3,5,11,19,7,9,8,30,22,15,0,2,6,3,2,7,1,0,3,9,13,0,24,3,1,9,0,2,4,0,0,1,4,2,2,2,10,2,3]
["LC2101EW0116:All categories: Sex, Age 65 and over, Black/African/Caribbean/Black British: Caribbean",118,21,130,464,231,81,56,373,137,139,23,36,99,92,53,33,71,108,32,69,102,148,62,17,307,249,49,64,30,345,31,31,120,192,39,138,116,184,220,267,12,85,221,66,41,79,9,45,36,164,464,25,189,133,40,265,2,3,19,6,9,22,20,13,55,75,54,38,80]
["LC2101EW0117:All categories: Sex, Age 65 and over, Black/African/Caribbean/Black British: Other Black",9,0,19,32,6,1,2,11,16,6,3,2,1,9,1,3,7,3,1,2,6,13,2,0,20,19,1,6,1,15,2,0,0,17,3,7,8,19,26,13,3,3,9,3,3,5,3,1,1,8,10,3,21,3,0,15,0,0,2,0,0,3,1,0,1,7,6,1,3]
["LC2101EW0118:All categories: Sex, Age 65 and over, Other ethnic group: Total",13,4,9,14,113,1,13,11,9,17,2,5,15,6,5,7,26,8,2,4,4,3,46,7,32,70,10,10,4,36,1,1,2,8,3,4,46,7,6,50,0,2,7,2,2,15,3,0,4,36,24,7,117,40,2,12,11,1,2,4,3,7,4,2,2,5,15,5,1]
["LC2101EW0119:All categories: Sex, Age 65 and over, Other ethnic group: Arab",8,2,7,1,93,0,9,1,8,14,1,1,5,3,1,1,6,2,1,0,1,0,9,0,1,3,3,3,2,1,0,1,0,3,1,2,20,3,1,12,0,0,1,0,0,3,1,0,3,22,2,2,103,16,1,1,1,0,0,0,0,1,0,0,1,1,1,3,0]
["LC2101EW0120:All categories: Sex, Age 65 and over, Other ethnic group: Any other ethnic group",5,2,2,13,20,1,4,10,1,3,1,4,10,3,4,6,20,6,1,4,3,3,37,7,31,67,7,7,2,35,1,0,2,5,2,2,26,4,5,38,0,2,6,2,2,12,2,0,1,14,22,5,14,24,1,11,10,1,2,4,3,6,4,2,1,4,14,2,1]

{"sheet":"65+data+","index":83,"n_rows":70,"n_cols":26,"rows_kept":70,"cut":false,"hidden":true,"merged":[]}
["ZONEID","variable","LC2101EW0097:All categories: Sex, Age 65 and over, All categories: Ethnic group","LC2101EW0098:All categories: Sex, Age 65 and over, White: Total","LC2101EW0099:All categories: Sex, Age 65 and over, White: English/Welsh/Scottish/Northern Irish/British","LC2101EW0100:All categories: Sex, Age 65 and over, White: Irish","LC2101EW0101:All categories: Sex, Age 65 and over, White: Gypsy or Irish Traveller","LC2101EW0102:All categories: Sex, Age 65 and over, White: Other White","LC2101EW0103:All categories: Sex, Age 65 and over, Mixed/multiple ethnic group: Total","LC2101EW0104:All categories: Sex, Age 65 and over, Mixed/multiple ethnic group: White and Black Caribbean","LC2101EW0105:All categories: Sex, Age 65 and over, Mixed/multiple ethnic group: White and Black African","LC2101EW0106:All categories: Sex, Age 65 and over, Mixed/multiple ethnic group: White and Asian","LC2101EW0107:All categories: Sex, Age 65 and over, Mixed/multiple ethnic group: Other Mixed","LC2101EW0108:All categories: Sex, Age 65 and over, Asian/Asian British: Total","LC2101EW0109:All categories: Sex, Age 65 and over, Asian/Asian British: Indian","LC2101EW0110:All categories: Sex, Age 65 and over, Asian/Asian British: Pakistani","LC2101EW0111:All categories: Sex, Age 65 and over, Asian/Asian British: Bangladeshi","LC2101EW0112:All categories: Sex, Age 65 and over, Asian/Asian British: Chinese","LC2101EW0113:All categories: Sex, Age 65 and over, Asian/Asian British: Other Asian","LC2101EW0114:All categories: Sex, Age 65 and over, Black/African/Caribbean/Black British: Total","LC2101EW0115:All categories: Sex, Age 65 and over, Black/African/Caribbean/Black British: African","LC2101EW0116:All categories: Sex, Age 65 and over, Black/African/Caribbean/Black British: Caribbean","LC2101EW0117:All categories: Sex, Age 65 and over, Black/African/Caribbean/Black British: Other Black","LC2101EW0118:All categories: Sex, Age 65 and over, Other ethnic group: Total","LC2101EW0119:All categories: Sex, Age 65 and over, Other ethnic group: Arab","LC2101EW0120:All categories: Sex, Age 65 and over, Other ethnic group: Any other ethnic group"]
["E05011118","Acocks Green",3054,2667,2249,384,0,34,14,11,0,0,3,230,99,88,15,9,19,130,3,118,9,13,8,5]
["E05011119","Allens Cross",1644,1580,1472,101,0,7,8,7,1,0,0,24,7,4,2,5,6,28,7,21,0,4,2,2]
["E05011120","Alum Rock",1826,540,448,78,0,14,8,3,2,2,1,1110,29,821,87,7,166,159,10,130,19,9,7,2]
["E05011121","Aston",1904,462,370,75,0,17,24,17,0,2,5,893,227,385,214,9,58,511,15,464,32,14,1,13]
["E05011122","Balsall Heath West",1080,329,252,60,2,15,16,10,1,2,3,376,49,222,16,56,33,246,9,231,6,113,93,20]
["E05011123","Bartley Green",3193,3052,2921,107,0,24,12,8,0,2,2,37,14,9,0,6,8,91,9,81,1,1,0,1]
["E05011124","Billesley",3082,2811,2471,304,1,35,18,9,1,2,6,176,83,69,3,6,15,64,6,56,2,13,9,4]
["E05011125","Birchfield",1028,218,160,36,0,22,15,15,0,0,0,385,183,137,26,4,35,399,15,373,11,11,1,10]
["E05011126","Bordesley & Highgate",761,374,259,102,1,12,8,4,2,1,1,200,16,89,24,59,12,170,17,137,16,9,8,1]
["E05011127","Bordesley Green",994,386,283,96,1,6,16,10,0,4,2,424,22,299,71,6,26,151,6,139,6,17,14,3]
["E05011128","Bournbrook & Selly Park",1348,1194,971,191,0,32,8,2,0,2,4,112,51,33,16,6,6,32,6,23,3,2,1,1]
["E05011129","Bournville & Cotteridge",3077,2954,2770,148,0,36,12,6,1,3,2,63,35,10,1,8,9,43,5,36,2,5,1,4]
["E05011130","Brandwood & King's Heath",2592,2246,1963,245,0,38,19,11,0,5,3,209,95,86,5,7,16,103,3,99,1,15,5,10]
["E05011131","Bromford & Hodge Hill",2874,2539,2340,175,0,24,18,7,1,3,7,205,14,160,9,7,15,106,5,92,9,6,3,3]
["E05011132","Castle Vale",1731,1651,1540,105,0,6,7,4,0,2,1,11,6,1,0,4,0,57,3,53,1,5,1,4]
["E05011133","Druids Heath & Monyhull",1779,1696,1559,124,1,12,10,6,1,1,2,29,19,4,0,4,2,37,1,33,3,7,1,6]
["E05011134","Edgbaston",2195,1769,1621,85,0,63,11,4,1,3,3,303,182,46,5,37,33,86,8,71,7,26,6,20]
["E05011135","Erdington",3156,2949,2505,410,1,33,18,9,1,3,5,66,32,16,2,9,7,115,4,108,3,8,2,6]
["E05011136","Frankley Great Park",1327,1271,1193,64,0,14,5,2,0,2,1,15,4,7,2,2,0,34,1,32,1,2,1,1]
["E05011137","Garretts Green",1274,1170,1069,96,0,5,4,1,0,2,1,21,1,17,1,0,2,75,4,69,2,4,0,4]
["E05011138","Glebe Farm & Tile Cross",2751,2558,2401,149,0,8,4,1,0,2,1,76,7,56,4,3,6,109,1,102,6,4,1,3]
["E05011139","Gravelly Hill",1107,847,694,121,0,32,18,15,0,2,1,75,15,40,6,0,14,164,3,148,13,3,0,3]
["E05011140","Hall Green North",2825,2178,1820,311,0,47,9,8,0,0,1,526,257,197,16,7,49,66,2,62,2,46,9,37]
["E05011141","Hall Green South",1694,1503,1321,167,0,15,2,1,0,1,0,163,99,43,4,4,13,19,2,17,0,7,0,7]
["E05011142","Handsworth",1084,184,133,34,0,17,17,11,2,1,3,520,288,134,46,8,44,331,4,307,20,32,1,31]
["E05011143","Handsworth Wood",2304,1261,1112,113,1,35,17,10,0,5,2,679,506,71,8,8,86,277,9,249,19,70,3,67]
["E05011144","Harborne",3131,2871,2613,183,0,75,16,8,0,3,5,180,128,17,2,17,16,54,4,49,1,10,3,7]
["E05011145","Heartlands",1081,717,632,82,0,3,17,11,0,3,3,263,24,196,25,4,14,74,4,64,6,10,3,7]
["E05011146","Highter's Heath",1673,1602,1498,99,0,5,10,9,0,1,0,24,12,2,0,0,10,33,2,30,1,4,2,2]
["E05011147","Holyhead",1068,291,219,59,0,13,18,11,0,4,3,360,253,37,27,2,41,363,3,345,15,36,1,35]
["E05011148","King's Norton North",1885,1829,1713,86,0,30,3,2,0,0,1,16,10,1,1,2,2,36,3,31,2,1,0,1]
["E05011149","King's Norton South",1604,1547,1444,86,0,17,8,2,2,1,3,12,3,3,1,3,2,36,5,31,0,1,1,0]
["E05011150","Kingstanding",2819,2617,2381,215,0,21,14,10,2,0,2,55,29,15,2,6,3,131,11,120,0,2,0,2]
["E05011151","Ladywood",1139,790,670,101,0,19,18,13,0,1,4,95,37,11,1,35,11,228,19,192,17,8,3,5]
["E05011152","Longbridge & West Heath",3244,3164,2995,145,0,24,11,7,0,1,3,17,8,4,0,5,0,49,7,39,3,3,1,2]
["E05011153","Lozells",674,138,92,40,1,5,9,5,2,0,2,369,46,164,124,11,24,154,9,138,7,4,2,2]
["E05011154","Moseley",2736,2047,1759,217,2,69,12,5,0,3,4,499,164,267,20,12,36,132,8,116,8,46,20,26]
["E05011155","Nechells",981,630,518,106,0,6,33,18,4,3,8,78,7,30,30,8,3,233,30,184,19,7,3,4]
["E05011156","Newtown",693,336,263,66,0,7,14,7,1,4,2,69,12,11,28,4,14,268,22,220,26,6,1,5]
["E05011157","North Edgbaston",1964,1001,807,159,0,35,20,13,0,4,3,598,308,217,9,12,52,295,15,267,13,50,12,38]
["E05011158","Northfield",1855,1814,1671,125,0,18,6,3,0,3,0,20,4,0,1,10,5,15,0,12,3,0,0,0]
["E05011159","Oscott",3213,3059,2826,208,0,25,10,4,1,4,1,52,33,3,3,5,8,90,2,85,3,2,0,2]
["E05011160","Perry Barr",3006,2573,2341,196,1,35,9,6,1,0,2,181,119,36,5,7,14,236,6,221,9,7,1,6]
["E05011161","Perry Common",1780,1652,1494,139,0,19,10,8,0,0,2,44,30,5,3,2,4,72,3,66,3,2,0,2]
["E05011162","Pype Hayes",1612,1533,1378,141,0,14,3,2,0,0,1,28,8,7,0,9,4,46,2,41,3,2,0,2]
["E05011163","Quinton",3395,3104,2889,165,0,50,10,5,0,2,3,175,128,16,0,10,21,91,7,79,5,15,3,12]
["E05011164","Rubery & Rednal",1372,1348,1282,54,0,12,5,4,0,0,1,3,2,0,0,0,1,13,1,9,3,3,1,2]
["E05011165","Shard End",1866,1802,1686,105,2,9,11,7,1,3,0,7,2,2,2,1,0,46,0,45,1,0,0,0]
["E05011166","Sheldon",3609,3490,3181,272,1,36,8,3,0,2,3,67,26,29,3,6,3,40,3,36,1,4,3,1]
["E05011167","Small Heath",1742,477,323,141,0,13,9,5,2,0,2,1039,55,778,117,9,80,181,9,164,8,36,22,14]
["E05011168","Soho & Jewellery Quarter",1649,643,544,84,1,14,36,16,4,6,10,459,277,107,13,14,48,487,13,464,10,24,2,22]
["E05011169","South Yardley",1328,1224,1068,144,0,12,6,3,1,0,2,63,34,22,0,3,4,28,0,25,3,7,2,5]
["E05011170","Sparkbrook & Balsall Heath East",1858,512,357,133,1,21,17,8,2,3,4,978,178,597,107,25,71,234,24,189,21,117,103,14]
["E05011171","Sparkhill",1698,521,328,176,1,16,15,9,0,3,3,983,239,617,47,3,77,139,3,133,3,40,16,24]
["E05011172","Stirchley",1178,1070,946,91,0,33,9,5,0,2,2,56,30,12,7,3,4,41,1,40,0,2,1,1]
["E05011173","Stockland Green",2519,2038,1774,231,1,32,22,15,2,2,3,158,67,56,6,13,16,289,9,265,15,12,1,11]
["E05011174","Sutton Four Oaks",2289,2200,2137,36,0,27,4,0,1,2,1,72,57,6,2,1,6,2,0,2,0,11,1,10]
["E05011175","Sutton Mere Green",2256,2204,2127,53,1,23,3,1,0,2,0,43,30,4,2,2,5,5,2,3,0,1,0,1]
["E05011176","Sutton Reddicap",1632,1573,1504,58,0,11,4,2,1,1,0,28,17,3,1,4,3,25,4,19,2,2,0,2]
["E05011177","Sutton Roughley",2196,2144,2075,44,1,24,8,1,0,3,4,34,27,0,1,3,3,6,0,6,0,4,0,4]
["E05011178","Sutton Trinity",1859,1825,1737,55,0,33,5,3,0,1,1,17,14,2,0,0,1,9,0,9,0,3,0,3]
["E05011179","Sutton Vesey",3758,3620,3433,158,0,29,11,4,0,3,4,94,64,14,1,2,13,26,1,22,3,7,1,6]
["E05011180","Sutton Walmley & Minworth",3033,2946,2803,112,0,31,3,1,0,2,0,55,36,8,0,3,8,25,4,20,1,4,0,4]
["E05011181","Sutton Wylde Green",2036,1947,1849,78,0,20,4,1,1,0,2,68,36,16,2,9,5,15,2,13,0,2,0,2]
["E05011182","Tyseley & Hay Mills",1243,1081,899,173,1,8,9,5,1,2,1,93,16,37,20,4,16,58,2,55,1,2,1,1]
["E05011183","Ward End",1074,689,613,65,2,9,4,3,0,0,1,292,6,244,11,3,28,84,2,75,7,5,1,4]
["E05011184","Weoley & Selly Oak",3400,3197,2999,155,1,42,17,9,1,5,2,101,46,12,7,18,18,70,10,54,6,15,1,14]
["E05011185","Yardley East",1862,1743,1606,125,0,12,2,1,1,0,0,71,23,36,2,4,6,41,2,38,1,5,3,2]
["E05011186","Yardley West & Stechford",1519,1291,1131,149,0,11,9,4,1,3,1,132,22,73,6,9,22,86,3,80,3,1,0,1]

{"sheet":"0_24data","index":84,"n_rows":26,"n_cols":70,"rows_kept":26,"cut":false,"hidden":true,"merged":[]}
["ZONEID","E05011118","E05011119","E05011120","E05011121","E05011122","E05011123","E05011124","E05011125","E05011126","E05011127","E05011128","E05011129","E05011130","E05011131","E05011132","E05011133","E05011134","E05011135","E05011136","E05011137","E05011138","E05011139","E05011140","E05011141","E05011142","E05011143","E05011144","E05011145","E05011146","E05011147","E05011148","E05011149","E05011150","E05011151","E05011152","E05011153","E05011154","E05011155","E05011156","E05011157","E05011158","E05011159","E05011160","E05011161","E05011162","E05011163","E05011164","E05011165","E05011166","E05011167","E05011168","E05011169","E05011170","E05011171","E05011172","E05011173","E05011174","E05011175","E05011176","E05011177","E05011178","E05011179","E05011180","E05011181","E05011182","E05011183","E05011184","E05011185","E05011186"]
["ZoneName","Acocks Green","Allens Cross","Alum Rock","Aston","Balsall Heath West","Bartley Green","Billesley","Birchfield","Bordesley & Highgate","Bordesley Green","Bournbrook & Selly Park","Bournville & Cotteridge","Brandwood & King's Heath","Bromford & Hodge Hill","Castle Vale","Druids Heath & Monyhull","Edgbaston","Erdington","Frankley Great Park","Garretts Green","Glebe Farm & Tile Cross","Gravelly Hill","Hall Green North","Hall Green South","Handsworth","Handsworth Wood","Harborne","Heartlands","Highter's Heath","Holyhead","King's Norton North","King's Norton South","Kingstanding","Ladywood","Longbridge & West Heath","Lozells","Moseley","Nechells","Newtown","North Edgbaston","Northfield","Oscott","Perry Barr","Perry Common","Pype Hayes","Quinton","Rubery & Rednal","Shard End","Sheldon","Small Heath","Soho & Jewellery Quarter","South Yardley","Sparkbrook & Balsall Heath East","Sparkhill","Stirchley","Stockland Green","Sutton Four Oaks","Sutton Mere Green","Sutton Reddicap","Sutton Roughley","Sutton Trinity","Sutton Vesey","Sutton Walmley & Minworth","Sutton Wylde Green","Tyseley & Hay Mills","Ward End","Weoley & Selly Oak","Yardley East","Yardley West & Stechford"]
["LC2101EW0025:All categories: Sex, Age 0 to 24, All categories: Ethnic group",8235,3855,12653,10442,4984,7620,6714,4910,6093,5568,12914,5396,6041,8078,3529,3889,8647,5569,3648,3602,9167,3650,8088,3177,4800,6983,6793,5811,3654,4555,3682,4271,7866,8716,6402,4403,6579,7796,6813,8415,3206,6473,7456,3589,3533,6384,3377,4072,5691,9886,8344,3379,11994,9216,3066,7677,2333,2557,3314,3516,2289,5468,4399,2448,4556,5610,8271,3303,4697]
["LC2101EW0026:All categories: Sex, Age 0 to 24, White: Total",4275,2912,579,652,753,5570,3954,511,932,415,9405,4247,3762,2940,2796,2815,5202,3655,2957,2397,5163,1438,2209,1755,414,1205,3975,674,2931,579,2875,3191,5978,3419,5395,169,2331,2403,1251,2317,2675,4996,3421,2298,2385,3878,2935,3155,4376,458,1737,2200,811,647,2061,3755,1914,2160,2745,3010,1919,4306,3760,1917,1776,735,5654,2064,1749]
["LC2101EW0027:All categories: Sex, Age 0 to 24, White: English/Welsh/Scottish/Northern Irish/British",3892,2845,428,513,627,5429,3743,320,760,310,8817,4098,3515,2812,2753,2721,4772,3357,2918,2332,5010,1263,1939,1630,219,824,3637,584,2892,237,2768,3129,5841,2717,5305,128,2114,1941,1026,1770,2595,4857,3148,2196,2277,3710,2896,3099,4275,346,1297,2065,604,477,1954,3367,1862,2105,2681,2939,1849,4171,3662,1837,1619,653,5429,1995,1635]
["LC2101EW0028:All categories: Sex, Age 0 to 24, White: Irish",86,18,2,9,12,38,99,10,11,2,115,33,91,28,19,35,45,93,12,21,45,25,105,92,2,25,80,11,9,4,33,27,25,56,34,1,60,18,19,36,40,33,66,24,26,55,9,17,38,11,21,44,6,10,25,48,13,16,21,26,20,66,48,35,36,5,41,38,24]
["LC2101EW0029:All categories: Sex, Age 0 to 24, White: Gypsy or Irish Traveller",2,0,0,1,3,3,2,4,9,4,12,0,7,5,0,0,2,1,0,1,0,6,0,0,4,2,1,2,0,2,2,0,4,4,1,0,4,1,0,8,0,2,0,2,0,6,2,0,1,0,6,0,22,10,1,1,0,0,1,0,2,2,0,2,0,6,1,0,0]
["LC2101EW0030:All categories: Sex, Age 0 to 24, White: Other White",295,49,149,129,111,100,110,177,152,99,461,116,149,95,24,59,383,204,27,43,108,144,165,33,189,354,257,77,30,336,72,35,108,642,55,40,153,443,206,503,40,104,207,76,82,107,28,39,62,101,413,91,179,150,81,339,39,39,42,45,48,67,50,43,121,71,183,31,90]
["LC2101EW0031:All categories: Sex, Age 0 to 24, Mixed/multiple ethnic group: Total",734,330,493,440,381,906,669,366,607,374,635,463,644,715,449,413,616,700,389,288,1002,465,567,206,364,586,744,418,280,381,363,548,633,898,547,186,681,684,550,745,292,456,609,366,378,730,260,527,383,361,954,249,575,348,296,965,79,129,235,152,154,303,222,150,446,287,854,262,416]
["LC2101EW0032:All categories: Sex, Age 0 to 24, Mixed/multiple ethnic group: White and Black Caribbean",389,204,192,177,173,560,346,180,284,110,211,234,308,437,356,267,172,395,283,170,608,272,200,76,176,291,318,136,192,192,233,352,403,449,353,90,296,359,267,320,163,289,337,230,247,380,171,379,205,108,513,149,214,94,176,606,28,63,141,68,77,133,132,64,202,120,452,155,234]
["LC2101EW0033:All categories: Sex, Age 0 to 24, Mixed/multiple ethnic group: White and Black African",36,18,44,49,15,39,24,12,36,40,56,33,29,51,20,23,41,44,22,9,50,25,37,6,32,22,44,17,9,25,28,35,48,91,44,15,33,60,53,55,11,16,43,17,23,43,8,18,15,34,76,9,18,31,10,58,12,3,15,10,10,33,16,17,12,18,45,19,21]
["LC2101EW0034:All categories: Sex, Age 0 to 24, Mixed/multiple ethnic group: White and Asian",207,58,164,135,100,158,189,70,141,99,211,119,189,145,35,67,263,169,50,56,207,116,214,77,87,136,272,143,40,68,42,75,125,181,64,42,200,150,126,195,66,86,131,74,63,188,45,67,93,115,144,56,208,143,59,127,30,41,40,45,38,85,43,31,141,86,195,56,102]
["LC2101EW0035:All categories: Sex, Age 0 to 24, Mixed/multiple ethnic group: Other Mixed",102,50,93,79,93,149,110,104,146,125,157,77,118,82,38,56,140,92,34,53,137,52,116,47,69,137,110,122,39,96,60,86,57,177,86,39,152,115,104,175,52,65,98,45,45,119,36,63,70,104,221,35,135,80,51,174,9,22,39,29,29,52,31,38,91,63,162,32,59]
["LC2101EW0036:All categories: Sex, Age 0 to 24, Asian/Asian British: Total",2670,322,10135,7742,2222,404,1666,2803,2768,3566,2326,350,1293,3467,57,262,2117,622,103,602,2202,1128,4790,1106,2965,3756,1292,3835,294,2442,175,173,597,2332,184,3363,2852,2311,2404,3730,116,508,2309,458,421,1062,52,168,708,7447,3179,756,8307,7437,513,1656,260,202,205,274,178,626,297,305,2008,4096,1016,785,2102]
["LC2101EW0037:All categories: Sex, Age 0 to 24, Asian/Asian British: Indian",555,55,209,1143,193,76,336,567,182,73,775,127,317,124,13,70,925,165,19,59,126,108,825,387,895,2207,491,115,99,990,40,46,175,571,44,189,414,644,869,914,26,272,955,130,96,564,10,9,127,169,1097,167,387,525,88,268,184,128,97,150,77,329,169,146,216,109,275,98,153]
["LC2101EW0038:All categories: Sex, Age 0 to 24, Asian/Asian British: Pakistani",1523,49,7672,3540,1491,95,978,1445,1593,2415,437,74,735,2772,20,103,413,273,40,362,1592,774,3169,535,1296,812,222,3032,124,623,48,42,207,274,32,1399,1994,689,423,1957,20,57,620,155,180,191,21,116,343,5250,1063,445,5901,5732,209,929,39,39,58,51,44,146,52,95,1247,3355,176,559,1484]
["LC2101EW0039:All categories: Sex, Age 0 to 24, Asian/Asian British: Bangladeshi",248,4,1044,2564,158,8,114,468,411,798,119,15,58,226,4,7,65,65,2,65,132,70,327,43,488,221,60,304,10,524,25,21,61,64,10,1585,146,282,665,217,4,84,347,84,28,42,3,14,139,1532,287,84,1395,493,125,168,6,6,10,2,8,39,2,18,365,224,52,61,230]
["LC2101EW0040:All categories: Sex, Age 0 to 24, Asian/Asian British: Chinese",57,58,43,78,105,41,39,71,353,16,663,56,56,39,8,31,411,48,13,8,19,43,32,14,38,83,266,25,10,58,11,14,33,1032,26,40,54,484,203,129,20,27,182,22,60,72,4,11,27,24,322,14,49,42,32,107,7,8,10,24,29,44,36,23,12,17,192,12,20]
["LC2101EW0041:All categories: Sex, Age 0 to 24, Asian/Asian British: Other Asian",287,156,1167,417,275,184,199,252,229,264,332,78,127,306,12,51,303,71,29,108,333,133,437,127,248,433,253,359,51,247,51,50,121,391,72,150,244,212,244,513,46,68,205,67,57,193,14,18,72,472,410,46,575,645,59,184,24,21,30,47,20,68,38,23,168,391,321,55,215]
["LC2101EW0042:All categories: Sex, Age 0 to 24, Black/African/Caribbean/Black British: Total",434,250,1204,1443,646,657,331,1122,1348,875,362,257,249,816,206,329,480,559,178,299,691,546,298,44,877,1141,605,676,120,993,204,300,623,1633,252,592,390,2112,2374,1281,105,493,1025,440,315,567,124,196,169,1060,2220,120,1060,437,151,1196,40,61,116,60,29,180,101,54,219,387,541,156,348]
["LC2101EW0043:All categories: Sex, Age 0 to 24, Black/African/Caribbean/Black British: African",110,113,704,633,275,214,105,363,638,480,221,130,72,344,54,130,269,187,65,104,215,146,121,14,290,253,254,342,68,207,67,92,189,737,117,231,140,1051,1104,491,36,61,194,125,69,196,38,50,87,599,615,39,428,224,68,306,18,9,29,9,3,23,33,8,68,209,252,81,161]
["LC2101EW0044:All categories: Sex, Age 0 to 24, Black/African/Caribbean/Black British: Caribbean",216,81,177,457,210,260,133,521,333,120,77,77,111,216,102,141,135,270,67,102,321,280,121,19,389,667,191,103,40,557,84,141,297,555,73,201,129,444,614,413,31,313,630,220,173,264,45,102,60,89,1009,52,227,97,52,630,17,33,54,41,12,134,56,32,85,94,177,52,107]
["LC2101EW0045:All categories: Sex, Age 0 to 24, Black/African/Caribbean/Black British: Other Black",108,56,323,353,161,183,93,238,377,275,64,50,66,256,50,58,76,102,46,93,155,120,56,11,198,221,160,231,12,229,53,67,137,341,62,160,121,617,656,377,38,119,201,95,73,107,41,44,22,372,596,29,405,116,31,260,5,19,33,10,14,23,12,14,66,84,112,23,80]
["LC2101EW0046:All categories: Sex, Age 0 to 24, Other ethnic group: Total",122,41,242,165,982,83,94,108,438,338,186,79,93,140,21,70,232,33,21,16,109,73,224,66,180,295,177,208,29,160,65,59,35,434,24,93,325,286,234,342,18,20,92,27,34,147,6,26,55,560,254,54,1241,347,45,105,40,5,13,20,9,53,19,22,107,105,206,36,82]
["LC2101EW0047:All categories: Sex, Age 0 to 24, Other ethnic group: Arab",75,20,149,83,894,34,51,42,313,218,77,39,34,84,9,33,102,12,3,5,45,21,106,23,25,30,92,122,12,19,35,38,8,204,11,42,224,136,118,157,9,4,15,7,22,50,0,19,28,374,59,39,1083,247,29,36,5,2,7,4,3,18,8,6,70,65,106,17,53]
["LC2101EW0048:All categories: Sex, Age 0 to 24, Other ethnic group: Any other ethnic group",47,21,93,82,88,49,43,66,125,120,109,40,59,56,12,37,130,21,18,11,64,52,118,43,155,265,85,86,17,141,30,21,27,230,13,51,101,150,116,185,9,16,77,20,12,97,6,7,27,186,195,15,158,100,16,69,35,3,6,16,6,35,11,16,37,40,100,19,29]

{"sheet":"0_24data+","index":85,"n_rows":70,"n_cols":26,"rows_kept":70,"cut":false,"hidden":true,"merged":[]}
["ZONEID","ZoneName","LC2101EW0025:All categories: Sex, Age 0 to 24, All categories: Ethnic group","LC2101EW0026:All categories: Sex, Age 0 to 24, White: Total","LC2101EW0027:All categories: Sex, Age 0 to 24, White: English/Welsh/Scottish/Northern Irish/British","LC2101EW0028:All categories: Sex, Age 0 to 24, White: Irish","LC2101EW0029:All categories: Sex, Age 0 to 24, White: Gypsy or Irish Traveller","LC2101EW0030:All categories: Sex, Age 0 to 24, White: Other White","LC2101EW0031:All categories: Sex, Age 0 to 24, Mixed/multiple ethnic group: Total","LC2101EW0032:All categories: Sex, Age 0 to 24, Mixed/multiple ethnic group: White and Black Caribbean","LC2101EW0033:All categories: Sex, Age 0 to 24, Mixed/multiple ethnic group: White and Black African","LC2101EW0034:All categories: Sex, Age 0 to 24, Mixed/multiple ethnic group: White and Asian","LC2101EW0035:All categories: Sex, Age 0 to 24, Mixed/multiple ethnic group: Other Mixed","LC2101EW0036:All categories: Sex, Age 0 to 24, Asian/Asian British: Total","LC2101EW0037:All categories: Sex, Age 0 to 24, Asian/Asian British: Indian","LC2101EW0038:All categories: Sex, Age 0 to 24, Asian/Asian British: Pakistani","LC2101EW0039:All categories: Sex, Age 0 to 24, Asian/Asian British: Bangladeshi","LC2101EW0040:All categories: Sex, Age 0 to 24, Asian/Asian British: Chinese","LC2101EW0041:All categories: Sex, Age 0 to 24, Asian/Asian British: Other Asian","LC2101EW0042:All categories: Sex, Age 0 to 24, Black/African/Caribbean/Black British: Total","LC2101EW0043:All categories: Sex, Age 0 to 24, Black/African/Caribbean/Black British: African","LC2101EW0044:All categories: Sex, Age 0 to 24, Black/African/Caribbean/Black British: Caribbean","LC2101EW0045:All categories: Sex, Age 0 to 24, Black/African/Caribbean/Black British: Other Black","LC2101EW0046:All categories: Sex, Age 0 to 24, Other ethnic group: Total","LC2101EW0047:All categories: Sex, Age 0 to 24, Other ethnic group: Arab","LC2101EW0048:All categories: Sex, Age 0 to 24, Other ethnic group: Any other ethnic group"]
["E05011118","Acocks Green",8235,4275,3892,86,2,295,734,389,36,207,102,2670,555,1523,248,57,287,434,110,216,108,122,75,47]
["E05011119","Allens Cross",3855,2912,2845,18,0,49,330,204,18,58,50,322,55,49,4,58,156,250,113,81,56,41,20,21]
["E05011120","Alum Rock",12653,579,428,2,0,149,493,192,44,164,93,10135,209,7672,1044,43,1167,1204,704,177,323,242,149,93]
["E05011121","Aston",10442,652,513,9,1,129,440,177,49,135,79,7742,1143,3540,2564,78,417,1443,633,457,353,165,83,82]
["E05011122","Balsall Heath West",4984,753,627,12,3,111,381,173,15,100,93,2222,193,1491,158,105,275,646,275,210,161,982,894,88]
["E05011123","Bartley Green",7620,5570,5429,38,3,100,906,560,39,158,149,404,76,95,8,41,184,657,214,260,183,83,34,49]
["E05011124","Billesley",6714,3954,3743,99,2,110,669,346,24,189,110,1666,336,978,114,39,199,331,105,133,93,94,51,43]
["E05011125","Birchfield",4910,511,320,10,4,177,366,180,12,70,104,2803,567,1445,468,71,252,1122,363,521,238,108,42,66]
["E05011126","Bordesley & Highgate",6093,932,760,11,9,152,607,284,36,141,146,2768,182,1593,411,353,229,1348,638,333,377,438,313,125]
["E05011127","Bordesley Green",5568,415,310,2,4,99,374,110,40,99,125,3566,73,2415,798,16,264,875,480,120,275,338,218,120]
["E05011128","Bournbrook & Selly Park",12914,9405,8817,115,12,461,635,211,56,211,157,2326,775,437,119,663,332,362,221,77,64,186,77,109]
["E05011129","Bournville & Cotteridge",5396,4247,4098,33,0,116,463,234,33,119,77,350,127,74,15,56,78,257,130,77,50,79,39,40]
["E05011130","Brandwood & King's Heath",6041,3762,3515,91,7,149,644,308,29,189,118,1293,317,735,58,56,127,249,72,111,66,93,34,59]
["E05011131","Bromford & Hodge Hill",8078,2940,2812,28,5,95,715,437,51,145,82,3467,124,2772,226,39,306,816,344,216,256,140,84,56]
["E05011132","Castle Vale",3529,2796,2753,19,0,24,449,356,20,35,38,57,13,20,4,8,12,206,54,102,50,21,9,12]
["E05011133","Druids Heath & Monyhull",3889,2815,2721,35,0,59,413,267,23,67,56,262,70,103,7,31,51,329,130,141,58,70,33,37]
["E05011134","Edgbaston",8647,5202,4772,45,2,383,616,172,41,263,140,2117,925,413,65,411,303,480,269,135,76,232,102,130]
["E05011135","Erdington",5569,3655,3357,93,1,204,700,395,44,169,92,622,165,273,65,48,71,559,187,270,102,33,12,21]
["E05011136","Frankley Great Park",3648,2957,2918,12,0,27,389,283,22,50,34,103,19,40,2,13,29,178,65,67,46,21,3,18]
["E05011137","Garretts Green",3602,2397,2332,21,1,43,288,170,9,56,53,602,59,362,65,8,108,299,104,102,93,16,5,11]
["E05011138","Glebe Farm & Tile Cross",9167,5163,5010,45,0,108,1002,608,50,207,137,2202,126,1592,132,19,333,691,215,321,155,109,45,64]
["E05011139","Gravelly Hill",3650,1438,1263,25,6,144,465,272,25,116,52,1128,108,774,70,43,133,546,146,280,120,73,21,52]
["E05011140","Hall Green North",8088,2209,1939,105,0,165,567,200,37,214,116,4790,825,3169,327,32,437,298,121,121,56,224,106,118]
["E05011141","Hall Green South",3177,1755,1630,92,0,33,206,76,6,77,47,1106,387,535,43,14,127,44,14,19,11,66,23,43]
["E05011142","Handsworth",4800,414,219,2,4,189,364,176,32,87,69,2965,895,1296,488,38,248,877,290,389,198,180,25,155]
["E05011143","Handsworth Wood",6983,1205,824,25,2,354,586,291,22,136,137,3756,2207,812,221,83,433,1141,253,667,221,295,30,265]
["E05011144","Harborne",6793,3975,3637,80,1,257,744,318,44,272,110,1292,491,222,60,266,253,605,254,191,160,177,92,85]
["E05011145","Heartlands",5811,674,584,11,2,77,418,136,17,143,122,3835,115,3032,304,25,359,676,342,103,231,208,122,86]
["E05011146","Highter's Heath",3654,2931,2892,9,0,30,280,192,9,40,39,294,99,124,10,10,51,120,68,40,12,29,12,17]
["E05011147","Holyhead",4555,579,237,4,2,336,381,192,25,68,96,2442,990,623,524,58,247,993,207,557,229,160,19,141]
["E05011148","King's Norton North",3682,2875,2768,33,2,72,363,233,28,42,60,175,40,48,25,11,51,204,67,84,53,65,35,30]
["E05011149","King's Norton South",4271,3191,3129,27,0,35,548,352,35,75,86,173,46,42,21,14,50,300,92,141,67,59,38,21]
["E05011150","Kingstanding",7866,5978,5841,25,4,108,633,403,48,125,57,597,175,207,61,33,121,623,189,297,137,35,8,27]
["E05011151","Ladywood",8716,3419,2717,56,4,642,898,449,91,181,177,2332,571,274,64,1032,391,1633,737,555,341,434,204,230]
["E05011152","Longbridge & West Heath",6402,5395,5305,34,1,55,547,353,44,64,86,184,44,32,10,26,72,252,117,73,62,24,11,13]
["E05011153","Lozells",4403,169,128,1,0,40,186,90,15,42,39,3363,189,1399,1585,40,150,592,231,201,160,93,42,51]
["E05011154","Moseley",6579,2331,2114,60,4,153,681,296,33,200,152,2852,414,1994,146,54,244,390,140,129,121,325,224,101]
["E05011155","Nechells",7796,2403,1941,18,1,443,684,359,60,150,115,2311,644,689,282,484,212,2112,1051,444,617,286,136,150]
["E05011156","Newtown",6813,1251,1026,19,0,206,550,267,53,126,104,2404,869,423,665,203,244,2374,1104,614,656,234,118,116]
["E05011157","North Edgbaston",8415,2317,1770,36,8,503,745,320,55,195,175,3730,914,1957,217,129,513,1281,491,413,377,342,157,185]
["E05011158","Northfield",3206,2675,2595,40,0,40,292,163,11,66,52,116,26,20,4,20,46,105,36,31,38,18,9,9]
["E05011159","Oscott",6473,4996,4857,33,2,104,456,289,16,86,65,508,272,57,84,27,68,493,61,313,119,20,4,16]
["E05011160","Perry Barr",7456,3421,3148,66,0,207,609,337,43,131,98,2309,955,620,347,182,205,1025,194,630,201,92,15,77]
["E05011161","Perry Common",3589,2298,2196,24,2,76,366,230,17,74,45,458,130,155,84,22,67,440,125,220,95,27,7,20]
["E05011162","Pype Hayes",3533,2385,2277,26,0,82,378,247,23,63,45,421,96,180,28,60,57,315,69,173,73,34,22,12]
["E05011163","Quinton",6384,3878,3710,55,6,107,730,380,43,188,119,1062,564,191,42,72,193,567,196,264,107,147,50,97]
["E05011164","Rubery & Rednal",3377,2935,2896,9,2,28,260,171,8,45,36,52,10,21,3,4,14,124,38,45,41,6,0,6]
["E05011165","Shard End",4072,3155,3099,17,0,39,527,379,18,67,63,168,9,116,14,11,18,196,50,102,44,26,19,7]
["E05011166","Sheldon",5691,4376,4275,38,1,62,383,205,15,93,70,708,127,343,139,27,72,169,87,60,22,55,28,27]
["E05011167","Small Heath",9886,458,346,11,0,101,361,108,34,115,104,7447,169,5250,1532,24,472,1060,599,89,372,560,374,186]
["E05011168","Soho & Jewellery Quarter",8344,1737,1297,21,6,413,954,513,76,144,221,3179,1097,1063,287,322,410,2220,615,1009,596,254,59,195]
["E05011169","South Yardley",3379,2200,2065,44,0,91,249,149,9,56,35,756,167,445,84,14,46,120,39,52,29,54,39,15]
["E05011170","Sparkbrook & Balsall Heath East",11994,811,604,6,22,179,575,214,18,208,135,8307,387,5901,1395,49,575,1060,428,227,405,1241,1083,158]
["E05011171","Sparkhill",9216,647,477,10,10,150,348,94,31,143,80,7437,525,5732,493,42,645,437,224,97,116,347,247,100]
["E05011172","Stirchley",3066,2061,1954,25,1,81,296,176,10,59,51,513,88,209,125,32,59,151,68,52,31,45,29,16]
["E05011173","Stockland Green",7677,3755,3367,48,1,339,965,606,58,127,174,1656,268,929,168,107,184,1196,306,630,260,105,36,69]
["E05011174","Sutton Four Oaks",2333,1914,1862,13,0,39,79,28,12,30,9,260,184,39,6,7,24,40,18,17,5,40,5,35]
["E05011175","Sutton Mere Green",2557,2160,2105,16,0,39,129,63,3,41,22,202,128,39,6,8,21,61,9,33,19,5,2,3]
["E05011176","Sutton Reddicap",3314,2745,2681,21,1,42,235,141,15,40,39,205,97,58,10,10,30,116,29,54,33,13,7,6]
["E05011177","Sutton Roughley",3516,3010,2939,26,0,45,152,68,10,45,29,274,150,51,2,24,47,60,9,41,10,20,4,16]
["E05011178","Sutton Trinity",2289,1919,1849,20,2,48,154,77,10,38,29,178,77,44,8,29,20,29,3,12,14,9,3,6]
["E05011179","Sutton Vesey",5468,4306,4171,66,2,67,303,133,33,85,52,626,329,146,39,44,68,180,23,134,23,53,18,35]
["E05011180","Sutton Walmley & Minworth",4399,3760,3662,48,0,50,222,132,16,43,31,297,169,52,2,36,38,101,33,56,12,19,8,11]
["E05011181","Sutton Wylde Green",2448,1917,1837,35,2,43,150,64,17,31,38,305,146,95,18,23,23,54,8,32,14,22,6,16]
["E05011182","Tyseley & Hay Mills",4556,1776,1619,36,0,121,446,202,12,141,91,2008,216,1247,365,12,168,219,68,85,66,107,70,37]
["E05011183","Ward End",5610,735,653,5,6,71,287,120,18,86,63,4096,109,3355,224,17,391,387,209,94,84,105,65,40]
["E05011184","Weoley & Selly Oak",8271,5654,5429,41,1,183,854,452,45,195,162,1016,275,176,52,192,321,541,252,177,112,206,106,100]
["E05011185","Yardley East",3303,2064,1995,38,0,31,262,155,19,56,32,785,98,559,61,12,55,156,81,52,23,36,17,19]
["E05011186","Yardley West & Stechford",4697,1749,1635,24,0,90,416,234,21,102,59,2102,153,1484,230,20,215,348,161,107,80,82,53,29]

{"sheet":"0_24_format","index":86,"n_rows":73,"n_cols":20,"rows_kept":73,"cut":false,"hidden":true,"merged":[[1,1,2,1],[1,2,1,5],[1,6,1,9],[1,15,1,17],[1,18,1,19]]}
["2018 Wards","2011 Census: Ethnic group of  0-24's living in  Birmingham -  2018 wards                                  (interim estimates calculated by BCC)"]
[null,"All 0-24","White",null,null,null,"Mixed or multiple ethnic group",null,null,null,"Asian or Asian British",null,null,null,null,"Black or African or Caribbean or Black British",null,null,"Other ethnic group"]
[null,null,"British"," Irish"," Gypsy or Irish Traveller","Other White"," White and Black Caribbean"," White and Black African","White and Asian","Other Mixed"," Indian"," Pakistani"," Bangladeshi","Chinese","Other Asian"," African"," Caribbean"," Other Black"," Arab"," Any other ethnic group"]
["Acocks Green",8235,3892,86,2,295,389,36,207,102,555,1523,248,57,287,110,216,108,75,47]
["Allens Cross",3855,2845,18,0,49,204,18,58,50,55,49,4,58,156,113,81,56,20,21]
["Alum Rock",12653,428,2,0,149,192,44,164,93,209,7672,1044,43,1167,704,177,323,149,93]
["Aston",10442,513,9,1,129,177,49,135,79,1143,3540,2564,78,417,633,457,353,83,82]
["Balsall Heath West",4984,627,12,3,111,173,15,100,93,193,1491,158,105,275,275,210,161,894,88]
["Bartley Green",7620,5429,38,3,100,560,39,158,149,76,95,8,41,184,214,260,183,34,49]
["Billesley",6714,3743,99,2,110,346,24,189,110,336,978,114,39,199,105,133,93,51,43]
["Birchfield",4910,320,10,4,177,180,12,70,104,567,1445,468,71,252,363,521,238,42,66]
["Bordesley & Highgate",6093,760,11,9,152,284,36,141,146,182,1593,411,353,229,638,333,377,313,125]
["Bordesley Green",5568,310,2,4,99,110,40,99,125,73,2415,798,16,264,480,120,275,218,120]
["Bournbrook & Selly Park",12914,8817,115,12,461,211,56,211,157,775,437,119,663,332,221,77,64,77,109]
["Bournville & Cotteridge",5396,4098,33,0,116,234,33,119,77,127,74,15,56,78,130,77,50,39,40]
["Brandwood & King's Heath",6041,3515,91,7,149,308,29,189,118,317,735,58,56,127,72,111,66,34,59]
["Bromford & Hodge Hill",8078,2812,28,5,95,437,51,145,82,124,2772,226,39,306,344,216,256,84,56]
["Castle Vale",3529,2753,19,0,24,356,20,35,38,13,20,4,8,12,54,102,50,9,12]
["Druids Heath & Monyhull",3889,2721,35,0,59,267,23,67,56,70,103,7,31,51,130,141,58,33,37]
["Edgbaston",8647,4772,45,2,383,172,41,263,140,925,413,65,411,303,269,135,76,102,130]
["Erdington",5569,3357,93,1,204,395,44,169,92,165,273,65,48,71,187,270,102,12,21]
["Frankley Great Park",3648,2918,12,0,27,283,22,50,34,19,40,2,13,29,65,67,46,3,18]
["Garrett's Green",3602,2332,21,1,43,170,9,56,53,59,362,65,8,108,104,102,93,5,11]
["Glebe Farm & Tile Cross",9167,5010,45,0,108,608,50,207,137,126,1592,132,19,333,215,321,155,45,64]
["Gravelly Hill",3650,1263,25,6,144,272,25,116,52,108,774,70,43,133,146,280,120,21,52]
["Hall Green North",8088,1939,105,0,165,200,37,214,116,825,3169,327,32,437,121,121,56,106,118]
["Hall Green South",3177,1630,92,0,33,76,6,77,47,387,535,43,14,127,14,19,11,23,43]
["Handsworth",4800,219,2,4,189,176,32,87,69,895,1296,488,38,248,290,389,198,25,155]
["Handsworth Wood",6983,824,25,2,354,291,22,136,137,2207,812,221,83,433,253,667,221,30,265]
["Harborne",6793,3637,80,1,257,318,44,272,110,491,222,60,266,253,254,191,160,92,85]
["Heartlands",5811,584,11,2,77,136,17,143,122,115,3032,304,25,359,342,103,231,122,86]
["Highter's Heath",3654,2892,9,0,30,192,9,40,39,99,124,10,10,51,68,40,12,12,17]
["Holyhead",4555,237,4,2,336,192,25,68,96,990,623,524,58,247,207,557,229,19,141]
["King's Norton North",3682,2768,33,2,72,233,28,42,60,40,48,25,11,51,67,84,53,35,30]
["King's Norton South",4271,3129,27,0,35,352,35,75,86,46,42,21,14,50,92,141,67,38,21]
["Kingstanding",7866,5841,25,4,108,403,48,125,57,175,207,61,33,121,189,297,137,8,27]
["Ladywood",8716,2717,56,4,642,449,91,181,177,571,274,64,1032,391,737,555,341,204,230]
["Longbridge & West Heath",6402,5305,34,1,55,353,44,64,86,44,32,10,26,72,117,73,62,11,13]
["Lozells",4403,128,1,0,40,90,15,42,39,189,1399,1585,40,150,231,201,160,42,51]
["Moseley",6579,2114,60,4,153,296,33,200,152,414,1994,146,54,244,140,129,121,224,101]
["Nechells",7796,1941,18,1,443,359,60,150,115,644,689,282,484,212,1051,444,617,136,150]
["Newtown",6813,1026,19,0,206,267,53,126,104,869,423,665,203,244,1104,614,656,118,116]
["North Edgbaston",8415,1770,36,8,503,320,55,195,175,914,1957,217,129,513,491,413,377,157,185]
["Northfield",3206,2595,40,0,40,163,11,66,52,26,20,4,20,46,36,31,38,9,9]
["Oscott",6473,4857,33,2,104,289,16,86,65,272,57,84,27,68,61,313,119,4,16]
["Perry Barr",7456,3148,66,0,207,337,43,131,98,955,620,347,182,205,194,630,201,15,77]
["Perry Common",3589,2196,24,2,76,230,17,74,45,130,155,84,22,67,125,220,95,7,20]
["Pype Hayes",3533,2277,26,0,82,247,23,63,45,96,180,28,60,57,69,173,73,22,12]
["Quinton",6384,3710,55,6,107,380,43,188,119,564,191,42,72,193,196,264,107,50,97]
["Rubery & Rednal",3377,2896,9,2,28,171,8,45,36,10,21,3,4,14,38,45,41,0,6]
["Shard End",4072,3099,17,0,39,379,18,67,63,9,116,14,11,18,50,102,44,19,7]
["Sheldon",5691,4275,38,1,62,205,15,93,70,127,343,139,27,72,87,60,22,28,27]
["Small Heath",9886,346,11,0,101,108,34,115,104,169,5250,1532,24,472,599,89,372,374,186]
["Soho & Jewellery Quarter",8344,1297,21,6,413,513,76,144,221,1097,1063,287,322,410,615,1009,596,59,195]
["South Yardley",3379,2065,44,0,91,149,9,56,35,167,445,84,14,46,39,52,29,39,15]
["Sparkbrook & Balsall Heath East",11994,604,6,22,179,214,18,208,135,387,5901,1395,49,575,428,227,405,1083,158]
["Sparkhill",9216,477,10,10,150,94,31,143,80,525,5732,493,42,645,224,97,116,247,100]
["Stirchley",3066,1954,25,1,81,176,10,59,51,88,209,125,32,59,68,52,31,29,16]
["Stockland Green",7677,3367,48,1,339,606,58,127,174,268,929,168,107,184,306,630,260,36,69]
["Sutton Four Oaks",2333,1862,13,0,39,28,12,30,9,184,39,6,7,24,18,17,5,5,35]
["Sutton Mere Green",2557,2105,16,0,39,63,3,41,22,128,39,6,8,21,9,33,19,2,3]
["Sutton Reddicap",3314,2681,21,1,42,141,15,40,39,97,58,10,10,30,29,54,33,7,6]
["Sutton Roughley",3516,2939,26,0,45,68,10,45,29,150,51,2,24,47,9,41,10,4,16]
["Sutton Trinity",2289,1849,20,2,48,77,10,38,29,77,44,8,29,20,3,12,14,3,6]
["Sutton Vesey",5468,4171,66,2,67,133,33,85,52,329,146,39,44,68,23,134,23,18,35]
["Sutton Walmley & Minworth",4399,3662,48,0,50,132,16,43,31,169,52,2,36,38,33,56,12,8,11]
["Sutton Wylde Green",2448,1837,35,2,43,64,17,31,38,146,95,18,23,23,8,32,14,6,16]
["Tyseley & Hay Mills",4556,1619,36,0,121,202,12,141,91,216,1247,365,12,168,68,85,66,70,37]
["Ward End",5610,653,5,6,71,120,18,86,63,109,3355,224,17,391,209,94,84,65,40]
["Weoley & Selly Oak",8271,5429,41,1,183,452,45,195,162,275,176,52,192,321,252,177,112,106,100]
["Yardley East",3303,1995,38,0,31,155,19,56,32,98,559,61,12,55,81,52,23,17,19]
["Yardley West & Stechford",4697,1635,24,0,90,234,21,102,59,153,1484,230,20,215,161,107,80,53,29]
["Birmingham",{"$f":"SUM(B4:B72)","v":404112},173536,2348,164,9850,17161,2031,7783,5923,23153,73851,17550,6257,14068,15378,14333,10056,6130,4540]

{"sheet":"0_15_format","index":87,"n_rows":73,"n_cols":20,"rows_kept":73,"cut":false,"hidden":true,"merged":[[0,0,2,0],[0,1,0,19],[1,1,2,1],[1,2,1,5],[1,6,1,9],[1,10,1,14],[1,15,1,17],[1,18,1,19]]}
["2018 Wards","2011 Census: Ethnic group of  0-15's living in  Birmingham -  2018 wards                                  (interim estimates calculated by BCC)"]
[null,"All 0-15","White",null,null,null,"Mixed or multiple ethnic group",null,null,null,"Asian or Asian British",null,null,null,null,"Black or African or Caribbean or Black British",null,null,"Other ethnic group"]
[null,null,"British"," Irish"," Gypsy or Irish Traveller","Other White"," White and Black Caribbean"," White and Black African","White and Asian","Other Mixed"," Indian"," Pakistani"," Bangladeshi","Chinese","Other Asian"," African"," Caribbean"," Other Black"," Arab"," Any other ethnic group"]
["Acocks Green",{"$f":"SUMIF('[1]LSOA_0-15'!$B$3:$B$807,$A4,'[1]LSOA_0-15'!C$3:C$807)","v":5328.7079768540907},{"$f":"SUMIF('[1]LSOA_0-15'!$B$3:$B$807,$A4,'[1]LSOA_0-15'!D$3:D$807)","v":2262.3751499593086},{"$f":"SUMIF('[1]LSOA_0-15'!$B$3:$B$807,$A4,'[1]LSOA_0-15'!E$3:E$807)","v":44.735358507426454},{"$f":"SUMIF('[1]LSOA_0-15'!$B$3:$B$807,$A4,'[1]LSOA_0-15'!F$3:F$807)","v":2},{"$f":"SUMIF('[1]LSOA_0-15'!$B$3:$B$807,$A4,'[1]LSOA_0-15'!G$3:G$807)","v":176.24564751216403},{"$f":"SUMIF('[1]LSOA_0-15'!$B$3:$B$807,$A4,'[1]LSOA_0-15'!H$3:H$807)","v":277.75948872355252},{"$f":"SUMIF('[1]LSOA_0-15'!$B$3:$B$807,$A4,'[1]LSOA_0-15'!I$3:I$807)","v":23.163526677658925},{"$f":"SUMIF('[1]LSOA_0-15'!$B$3:$B$807,$A4,'[1]LSOA_0-15'!J$3:J$807)","v":154.35609737037439},{"$f":"SUMIF('[1]LSOA_0-15'!$B$3:$B$807,$A4,'[1]LSOA_0-15'!K$3:K$807)","v":90.332953943719303},{"$f":"SUMIF('[1]LSOA_0-15'!$B$3:$B$807,$A4,'[1]LSOA_0-15'!L$3:L$807)","v":386.66638096866654},{"$f":"SUMIF('[1]LSOA_0-15'!$B$3:$B$807,$A4,'[1]LSOA_0-15'!M$3:M$807)","v":1142.8549474095546},{"$f":"SUMIF('[1]LSOA_0-15'!$B$3:$B$807,$A4,'[1]LSOA_0-15'!N$3:N$807)","v":173.48182633573185},{"$f":"SUMIF('[1]LSOA_0-15'!$B$3:$B$807,$A4,'[1]LSOA_0-15'!O$3:O$807)","v":35.858067989216231},{"$f":"SUMIF('[1]LSOA_0-15'!$B$3:$B$807,$A4,'[1]LSOA_0-15'!P$3:P$807)","v":204.73850769424109},{"$f":"SUMIF('[1]LSOA_0-15'!$B$3:$B$807,$A4,'[1]LSOA_0-15'!Q$3:Q$807)","v":60.911596647043581},{"$f":"SUMIF('[1]LSOA_0-15'!$B$3:$B$807,$A4,'[1]LSOA_0-15'!R$3:R$807)","v":130.89186299353415},{"$f":"SUMIF('[1]LSOA_0-15'!$B$3:$B$807,$A4,'[1]LSOA_0-15'!S$3:S$807)","v":66.559268935524216},{"$f":"SUMIF('[1]LSOA_0-15'!$B$3:$B$807,$A4,'[1]LSOA_0-15'!T$3:T$807)","v":61.078893450672162},{"$f":"SUMIF('[1]LSOA_0-15'!$B$3:$B$807,$A4,'[1]LSOA_0-15'!U$3:U$807)","v":34.698401735702681}]
["Allens Cross",{"$f":"SUMIF('[1]LSOA_0-15'!$B$3:$B$807,$A5,'[1]LSOA_0-15'!C$3:C$807)","v":2536.7442866050828},{"$f":"SUMIF('[1]LSOA_0-15'!$B$3:$B$807,$A5,'[1]LSOA_0-15'!D$3:D$807)","v":1801.9111233694698},{"$f":"SUMIF('[1]LSOA_0-15'!$B$3:$B$807,$A5,'[1]LSOA_0-15'!E$3:E$807)","v":11.533368801907493},{"$f":"SUMIF('[1]LSOA_0-15'!$B$3:$B$807,$A5,'[1]LSOA_0-15'!F$3:F$807)","v":0},{"$f":"SUMIF('[1]LSOA_0-15'!$B$3:$B$807,$A5,'[1]LSOA_0-15'!G$3:G$807)","v":37.620490086912106},{"$f":"SUMIF('[1]LSOA_0-15'!$B$3:$B$807,$A5,'[1]LSOA_0-15'!H$3:H$807)","v":135.90993486787994},{"$f":"SUMIF('[1]LSOA_0-15'!$B$3:$B$807,$A5,'[1]LSOA_0-15'!I$3:I$807)","v":16.320553155352059},{"$f":"SUMIF('[1]LSOA_0-15'!$B$3:$B$807,$A5,'[1]LSOA_0-15'!J$3:J$807)","v":44.597454487687699},{"$f":"SUMIF('[1]LSOA_0-15'!$B$3:$B$807,$A5,'[1]LSOA_0-15'!K$3:K$807)","v":36.357135552606024},{"$f":"SUMIF('[1]LSOA_0-15'!$B$3:$B$807,$A5,'[1]LSOA_0-15'!L$3:L$807)","v":44.308518648838842},{"$f":"SUMIF('[1]LSOA_0-15'!$B$3:$B$807,$A5,'[1]LSOA_0-15'!M$3:M$807)","v":28.031617316503208},{"$f":"SUMIF('[1]LSOA_0-15'!$B$3:$B$807,$A5,'[1]LSOA_0-15'!N$3:N$807)","v":2.2481632653061228},{"$f":"SUMIF('[1]LSOA_0-15'!$B$3:$B$807,$A5,'[1]LSOA_0-15'!O$3:O$807)","v":38.852227304714987},{"$f":"SUMIF('[1]LSOA_0-15'!$B$3:$B$807,$A5,'[1]LSOA_0-15'!P$3:P$807)","v":128.17689448804401},{"$f":"SUMIF('[1]LSOA_0-15'!$B$3:$B$807,$A5,'[1]LSOA_0-15'!Q$3:Q$807)","v":83.598525418897367},{"$f":"SUMIF('[1]LSOA_0-15'!$B$3:$B$807,$A5,'[1]LSOA_0-15'!R$3:R$807)","v":57.07107896323086},{"$f":"SUMIF('[1]LSOA_0-15'!$B$3:$B$807,$A5,'[1]LSOA_0-15'!S$3:S$807)","v":39.560058555067599},{"$f":"SUMIF('[1]LSOA_0-15'!$B$3:$B$807,$A5,'[1]LSOA_0-15'!T$3:T$807)","v":16.397170739094417},{"$f":"SUMIF('[1]LSOA_0-15'!$B$3:$B$807,$A5,'[1]LSOA_0-15'!U$3:U$807)","v":14.249971583570137}]
["Alum Rock",{"$f":"SUMIF('[1]LSOA_0-15'!$B$3:$B$807,$A6,'[1]LSOA_0-15'!C$3:C$807)","v":8693.1249999390075},{"$f":"SUMIF('[1]LSOA_0-15'!$B$3:$B$807,$A6,'[1]LSOA_0-15'!D$3:D$807)","v":243.56251528137906},{"$f":"SUMIF('[1]LSOA_0-15'!$B$3:$B$807,$A6,'[1]LSOA_0-15'!E$3:E$807)","v":0},{"$f":"SUMIF('[1]LSOA_0-15'!$B$3:$B$807,$A6,'[1]LSOA_0-15'!F$3:F$807)","v":0},{"$f":"SUMIF('[1]LSOA_0-15'!$B$3:$B$807,$A6,'[1]LSOA_0-15'!G$3:G$807)","v":88.305301515980773},{"$f":"SUMIF('[1]LSOA_0-15'!$B$3:$B$807,$A6,'[1]LSOA_0-15'!H$3:H$807)","v":144.4730116392941},{"$f":"SUMIF('[1]LSOA_0-15'!$B$3:$B$807,$A6,'[1]LSOA_0-15'!I$3:I$807)","v":34.254456900114086},{"$f":"SUMIF('[1]LSOA_0-15'!$B$3:$B$807,$A6,'[1]LSOA_0-15'!J$3:J$807)","v":126.48887686589099},{"$f":"SUMIF('[1]LSOA_0-15'!$B$3:$B$807,$A6,'[1]LSOA_0-15'!K$3:K$807)","v":83.684013627025564},{"$f":"SUMIF('[1]LSOA_0-15'!$B$3:$B$807,$A6,'[1]LSOA_0-15'!L$3:L$807)","v":116.88694233032149},{"$f":"SUMIF('[1]LSOA_0-15'!$B$3:$B$807,$A6,'[1]LSOA_0-15'!M$3:M$807)","v":5233.1149182358322},{"$f":"SUMIF('[1]LSOA_0-15'!$B$3:$B$807,$A6,'[1]LSOA_0-15'!N$3:N$807)","v":698.99947220844945},{"$f":"SUMIF('[1]LSOA_0-15'!$B$3:$B$807,$A6,'[1]LSOA_0-15'!O$3:O$807)","v":30.700646578747197},{"$f":"SUMIF('[1]LSOA_0-15'!$B$3:$B$807,$A6,'[1]LSOA_0-15'!P$3:P$807)","v":798.60071041225729},{"$f":"SUMIF('[1]LSOA_0-15'!$B$3:$B$807,$A6,'[1]LSOA_0-15'!Q$3:Q$807)","v":528.15589973388614},{"$f":"SUMIF('[1]LSOA_0-15'!$B$3:$B$807,$A6,'[1]LSOA_0-15'!R$3:R$807)","v":104.16192991522578},{"$f":"SUMIF('[1]LSOA_0-15'!$B$3:$B$807,$A6,'[1]LSOA_0-15'!S$3:S$807)","v":256.88772094460904},{"$f":"SUMIF('[1]LSOA_0-15'!$B$3:$B$807,$A6,'[1]LSOA_0-15'!T$3:T$807)","v":117.575767296016},{"$f":"SUMIF('[1]LSOA_0-15'!$B$3:$B$807,$A6,'[1]LSOA_0-15'!U$3:U$807)","v":87.272816453976418}]
["Aston",{"$f":"SUMIF('[1]LSOA_0-15'!$B$3:$B$807,$A7,'[1]LSOA_0-15'!C$3:C$807)","v":6885.2755676336765},{"$f":"SUMIF('[1]LSOA_0-15'!$B$3:$B$807,$A7,'[1]LSOA_0-15'!D$3:D$807)","v":232.91371444213846},{"$f":"SUMIF('[1]LSOA_0-15'!$B$3:$B$807,$A7,'[1]LSOA_0-15'!E$3:E$807)","v":1.2664996314875587},{"$f":"SUMIF('[1]LSOA_0-15'!$B$3:$B$807,$A7,'[1]LSOA_0-15'!F$3:F$807)","v":0},{"$f":"SUMIF('[1]LSOA_0-15'!$B$3:$B$807,$A7,'[1]LSOA_0-15'!G$3:G$807)","v":86.291032658100733},{"$f":"SUMIF('[1]LSOA_0-15'!$B$3:$B$807,$A7,'[1]LSOA_0-15'!H$3:H$807)","v":130.83308719107694},{"$f":"SUMIF('[1]LSOA_0-15'!$B$3:$B$807,$A7,'[1]LSOA_0-15'!I$3:I$807)","v":40.901508530561301},{"$f":"SUMIF('[1]LSOA_0-15'!$B$3:$B$807,$A7,'[1]LSOA_0-15'!J$3:J$807)","v":104.69185839318187},{"$f":"SUMIF('[1]LSOA_0-15'!$B$3:$B$807,$A7,'[1]LSOA_0-15'!K$3:K$807)","v":66.616947603282284},{"$f":"SUMIF('[1]LSOA_0-15'!$B$3:$B$807,$A7,'[1]LSOA_0-15'!L$3:L$807)","v":545.41372130213449},{"$f":"SUMIF('[1]LSOA_0-15'!$B$3:$B$807,$A7,'[1]LSOA_0-15'!M$3:M$807)","v":2386.8322016688135},{"$f":"SUMIF('[1]LSOA_0-15'!$B$3:$B$807,$A7,'[1]LSOA_0-15'!N$3:N$807)","v":1760.6317727120509},{"$f":"SUMIF('[1]LSOA_0-15'!$B$3:$B$807,$A7,'[1]LSOA_0-15'!O$3:O$807)","v":35.617419346090998},{"$f":"SUMIF('[1]LSOA_0-15'!$B$3:$B$807,$A7,'[1]LSOA_0-15'!P$3:P$807)","v":272.38910072953684},{"$f":"SUMIF('[1]LSOA_0-15'!$B$3:$B$807,$A7,'[1]LSOA_0-15'!Q$3:Q$807)","v":507.55322417104082},{"$f":"SUMIF('[1]LSOA_0-15'!$B$3:$B$807,$A7,'[1]LSOA_0-15'!R$3:R$807)","v":295.14892714056896},{"$f":"SUMIF('[1]LSOA_0-15'!$B$3:$B$807,$A7,'[1]LSOA_0-15'!S$3:S$807)","v":295.88404592480322},{"$f":"SUMIF('[1]LSOA_0-15'!$B$3:$B$807,$A7,'[1]LSOA_0-15'!T$3:T$807)","v":66.269268957270953},{"$f":"SUMIF('[1]LSOA_0-15'!$B$3:$B$807,$A7,'[1]LSOA_0-15'!U$3:U$807)","v":56.021237231536411}]
["Balsall Heath West",{"$f":"SUMIF('[1]LSOA_0-15'!$B$3:$B$807,$A8,'[1]LSOA_0-15'!C$3:C$807)","v":2985.025101672562},{"$f":"SUMIF('[1]LSOA_0-15'!$B$3:$B$807,$A8,'[1]LSOA_0-15'!D$3:D$807)","v":178.40376058680363},{"$f":"SUMIF('[1]LSOA_0-15'!$B$3:$B$807,$A8,'[1]LSOA_0-15'!E$3:E$807)","v":2.3485931341370132},{"$f":"SUMIF('[1]LSOA_0-15'!$B$3:$B$807,$A8,'[1]LSOA_0-15'!F$3:F$807)","v":2},{"$f":"SUMIF('[1]LSOA_0-15'!$B$3:$B$807,$A8,'[1]LSOA_0-15'!G$3:G$807)","v":45.221194453133997},{"$f":"SUMIF('[1]LSOA_0-15'!$B$3:$B$807,$A8,'[1]LSOA_0-15'!H$3:H$807)","v":114.15812570034214},{"$f":"SUMIF('[1]LSOA_0-15'!$B$3:$B$807,$A8,'[1]LSOA_0-15'!I$3:I$807)","v":10.465148242658845},{"$f":"SUMIF('[1]LSOA_0-15'!$B$3:$B$807,$A8,'[1]LSOA_0-15'!J$3:J$807)","v":66.043264141124467},{"$f":"SUMIF('[1]LSOA_0-15'!$B$3:$B$807,$A8,'[1]LSOA_0-15'!K$3:K$807)","v":69.35970703073454},{"$f":"SUMIF('[1]LSOA_0-15'!$B$3:$B$807,$A8,'[1]LSOA_0-15'!L$3:L$807)","v":74.39209739233408},{"$f":"SUMIF('[1]LSOA_0-15'!$B$3:$B$807,$A8,'[1]LSOA_0-15'!M$3:M$807)","v":980.20115585774761},{"$f":"SUMIF('[1]LSOA_0-15'!$B$3:$B$807,$A8,'[1]LSOA_0-15'!N$3:N$807)","v":98.210753640171376},{"$f":"SUMIF('[1]LSOA_0-15'!$B$3:$B$807,$A8,'[1]LSOA_0-15'!O$3:O$807)","v":31.131807266389686},{"$f":"SUMIF('[1]LSOA_0-15'!$B$3:$B$807,$A8,'[1]LSOA_0-15'!P$3:P$807)","v":162.11525472424921},{"$f":"SUMIF('[1]LSOA_0-15'!$B$3:$B$807,$A8,'[1]LSOA_0-15'!Q$3:Q$807)","v":198.8987858562835},{"$f":"SUMIF('[1]LSOA_0-15'!$B$3:$B$807,$A8,'[1]LSOA_0-15'!R$3:R$807)","v":122.41126776532664},{"$f":"SUMIF('[1]LSOA_0-15'!$B$3:$B$807,$A8,'[1]LSOA_0-15'!S$3:S$807)","v":110.26318253615443},{"$f":"SUMIF('[1]LSOA_0-15'!$B$3:$B$807,$A8,'[1]LSOA_0-15'!T$3:T$807)","v":663.16968685428458},{"$f":"SUMIF('[1]LSOA_0-15'!$B$3:$B$807,$A8,'[1]LSOA_0-15'!U$3:U$807)","v":56.23131649068614}]
["Bartley Green",{"$f":"SUMIF('[1]LSOA_0-15'!$B$3:$B$807,$A9,'[1]LSOA_0-15'!C$3:C$807)","v":4730.1219101109054},{"$f":"SUMIF('[1]LSOA_0-15'!$B$3:$B$807,$A9,'[1]LSOA_0-15'!D$3:D$807)","v":3189.0547606537862},{"$f":"SUMIF('[1]LSOA_0-15'!$B$3:$B$807,$A9,'[1]LSOA_0-15'!E$3:E$807)","v":13.805064123303094},{"$f":"SUMIF('[1]LSOA_0-15'!$B$3:$B$807,$A9,'[1]LSOA_0-15'!F$3:F$807)","v":2},{"$f":"SUMIF('[1]LSOA_0-15'!$B$3:$B$807,$A9,'[1]LSOA_0-15'!G$3:G$807)","v":64.244096126719555},{"$f":"SUMIF('[1]LSOA_0-15'!$B$3:$B$807,$A9,'[1]LSOA_0-15'!H$3:H$807)","v":380.61996764717304},{"$f":"SUMIF('[1]LSOA_0-15'!$B$3:$B$807,$A9,'[1]LSOA_0-15'!I$3:I$807)","v":24.751836734693878},{"$f":"SUMIF('[1]LSOA_0-15'!$B$3:$B$807,$A9,'[1]LSOA_0-15'!J$3:J$807)","v":119.94270547280422},{"$f":"SUMIF('[1]LSOA_0-15'!$B$3:$B$807,$A9,'[1]LSOA_0-15'!K$3:K$807)","v":123.43496486482989},{"$f":"SUMIF('[1]LSOA_0-15'!$B$3:$B$807,$A9,'[1]LSOA_0-15'!L$3:L$807)","v":50.064865606356683},{"$f":"SUMIF('[1]LSOA_0-15'!$B$3:$B$807,$A9,'[1]LSOA_0-15'!M$3:M$807)","v":67.278562499191182},{"$f":"SUMIF('[1]LSOA_0-15'!$B$3:$B$807,$A9,'[1]LSOA_0-15'!N$3:N$807)","v":6.5495539192214611},{"$f":"SUMIF('[1]LSOA_0-15'!$B$3:$B$807,$A9,'[1]LSOA_0-15'!O$3:O$807)","v":32.740422657331798},{"$f":"SUMIF('[1]LSOA_0-15'!$B$3:$B$807,$A9,'[1]LSOA_0-15'!P$3:P$807)","v":163.50717740996208},{"$f":"SUMIF('[1]LSOA_0-15'!$B$3:$B$807,$A9,'[1]LSOA_0-15'!Q$3:Q$807)","v":145.3776703376341},{"$f":"SUMIF('[1]LSOA_0-15'!$B$3:$B$807,$A9,'[1]LSOA_0-15'!R$3:R$807)","v":152.64459461907782},{"$f":"SUMIF('[1]LSOA_0-15'!$B$3:$B$807,$A9,'[1]LSOA_0-15'!S$3:S$807)","v":139.75104939629625},{"$f":"SUMIF('[1]LSOA_0-15'!$B$3:$B$807,$A9,'[1]LSOA_0-15'!T$3:T$807)","v":21.602781307830679},{"$f":"SUMIF('[1]LSOA_0-15'!$B$3:$B$807,$A9,'[1]LSOA_0-15'!U$3:U$807)","v":32.751836734693882}]
["Billesley",{"$f":"SUMIF('[1]LSOA_0-15'!$B$3:$B$807,$A10,'[1]LSOA_0-15'!C$3:C$807)","v":4391.1108158971447},{"$f":"SUMIF('[1]LSOA_0-15'!$B$3:$B$807,$A10,'[1]LSOA_0-15'!D$3:D$807)","v":2329.9190631844431},{"$f":"SUMIF('[1]LSOA_0-15'!$B$3:$B$807,$A10,'[1]LSOA_0-15'!E$3:E$807)","v":74.604234762970293},{"$f":"SUMIF('[1]LSOA_0-15'!$B$3:$B$807,$A10,'[1]LSOA_0-15'!F$3:F$807)","v":0},{"$f":"SUMIF('[1]LSOA_0-15'!$B$3:$B$807,$A10,'[1]LSOA_0-15'!G$3:G$807)","v":71.161865180368451},{"$f":"SUMIF('[1]LSOA_0-15'!$B$3:$B$807,$A10,'[1]LSOA_0-15'!H$3:H$807)","v":243.41077587508894},{"$f":"SUMIF('[1]LSOA_0-15'!$B$3:$B$807,$A10,'[1]LSOA_0-15'!I$3:I$807)","v":21.558385058933276},{"$f":"SUMIF('[1]LSOA_0-15'!$B$3:$B$807,$A10,'[1]LSOA_0-15'!J$3:J$807)","v":139.08713558768216},{"$f":"SUMIF('[1]LSOA_0-15'!$B$3:$B$807,$A10,'[1]LSOA_0-15'!K$3:K$807)","v":76.793305703587436},{"$f":"SUMIF('[1]LSOA_0-15'!$B$3:$B$807,$A10,'[1]LSOA_0-15'!L$3:L$807)","v":192.2103046985311},{"$f":"SUMIF('[1]LSOA_0-15'!$B$3:$B$807,$A10,'[1]LSOA_0-15'!M$3:M$807)","v":698.10546884628707},{"$f":"SUMIF('[1]LSOA_0-15'!$B$3:$B$807,$A10,'[1]LSOA_0-15'!N$3:N$807)","v":84.426598365100901},{"$f":"SUMIF('[1]LSOA_0-15'!$B$3:$B$807,$A10,'[1]LSOA_0-15'!O$3:O$807)","v":26.343002208677401},{"$f":"SUMIF('[1]LSOA_0-15'!$B$3:$B$807,$A10,'[1]LSOA_0-15'!P$3:P$807)","v":141.62106087527118},{"$f":"SUMIF('[1]LSOA_0-15'!$B$3:$B$807,$A10,'[1]LSOA_0-15'!Q$3:Q$807)","v":91.075263622368041},{"$f":"SUMIF('[1]LSOA_0-15'!$B$3:$B$807,$A10,'[1]LSOA_0-15'!R$3:R$807)","v":70.919480216013284},{"$f":"SUMIF('[1]LSOA_0-15'!$B$3:$B$807,$A10,'[1]LSOA_0-15'!S$3:S$807)","v":63.687652909499874},{"$f":"SUMIF('[1]LSOA_0-15'!$B$3:$B$807,$A10,'[1]LSOA_0-15'!T$3:T$807)","v":38.39573960077422},{"$f":"SUMIF('[1]LSOA_0-15'!$B$3:$B$807,$A10,'[1]LSOA_0-15'!U$3:U$807)","v":27.79147920154843}]
["Birchfield",{"$f":"SUMIF('[1]LSOA_0-15'!$B$3:$B$807,$A11,'[1]LSOA_0-15'!C$3:C$807)","v":3102.0388505182937},{"$f":"SUMIF('[1]LSOA_0-15'!$B$3:$B$807,$A11,'[1]LSOA_0-15'!D$3:D$807)","v":136.00670104352383},{"$f":"SUMIF('[1]LSOA_0-15'!$B$3:$B$807,$A11,'[1]LSOA_0-15'!E$3:E$807)","v":2.81786771964462},{"$f":"SUMIF('[1]LSOA_0-15'!$B$3:$B$807,$A11,'[1]LSOA_0-15'!F$3:F$807)","v":1.9501642935377874},{"$f":"SUMIF('[1]LSOA_0-15'!$B$3:$B$807,$A11,'[1]LSOA_0-15'!G$3:G$807)","v":101.90588944174237},{"$f":"SUMIF('[1]LSOA_0-15'!$B$3:$B$807,$A11,'[1]LSOA_0-15'!H$3:H$807)","v":120.41669707181339},{"$f":"SUMIF('[1]LSOA_0-15'!$B$3:$B$807,$A11,'[1]LSOA_0-15'!I$3:I$807)","v":11.209411112526016},{"$f":"SUMIF('[1]LSOA_0-15'!$B$3:$B$807,$A11,'[1]LSOA_0-15'!J$3:J$807)","v":51.573050953313995},{"$f":"SUMIF('[1]LSOA_0-15'!$B$3:$B$807,$A11,'[1]LSOA_0-15'!K$3:K$807)","v":62.296977302341432},{"$f":"SUMIF('[1]LSOA_0-15'!$B$3:$B$807,$A11,'[1]LSOA_0-15'!L$3:L$807)","v":299.99638938988943},{"$f":"SUMIF('[1]LSOA_0-15'!$B$3:$B$807,$A11,'[1]LSOA_0-15'!M$3:M$807)","v":999.81535009100412},{"$f":"SUMIF('[1]LSOA_0-15'!$B$3:$B$807,$A11,'[1]LSOA_0-15'!N$3:N$807)","v":419.23812482639232},{"$f":"SUMIF('[1]LSOA_0-15'!$B$3:$B$807,$A11,'[1]LSOA_0-15'!O$3:O$807)","v":14.488959356241436},{"$f":"SUMIF('[1]LSOA_0-15'!$B$3:$B$807,$A11,'[1]LSOA_0-15'!P$3:P$807)","v":146.63506515461219},{"$f":"SUMIF('[1]LSOA_0-15'!$B$3:$B$807,$A11,'[1]LSOA_0-15'!Q$3:Q$807)","v":200.38987181533162},{"$f":"SUMIF('[1]LSOA_0-15'!$B$3:$B$807,$A11,'[1]LSOA_0-15'!R$3:R$807)","v":321.69561642733049},{"$f":"SUMIF('[1]LSOA_0-15'!$B$3:$B$807,$A11,'[1]LSOA_0-15'!S$3:S$807)","v":161.41084635496168},{"$f":"SUMIF('[1]LSOA_0-15'!$B$3:$B$807,$A11,'[1]LSOA_0-15'!T$3:T$807)","v":25.957617543019659},{"$f":"SUMIF('[1]LSOA_0-15'!$B$3:$B$807,$A11,'[1]LSOA_0-15'!U$3:U$807)","v":24.234250621067297}]
["Bordesley & Highgate",{"$f":"SUMIF('[1]LSOA_0-15'!$B$3:$B$807,$A12,'[1]LSOA_0-15'!C$3:C$807)","v":3622.875581872504},{"$f":"SUMIF('[1]LSOA_0-15'!$B$3:$B$807,$A12,'[1]LSOA_0-15'!D$3:D$807)","v":260.4464307728984},{"$f":"SUMIF('[1]LSOA_0-15'!$B$3:$B$807,$A12,'[1]LSOA_0-15'!E$3:E$807)","v":3.940311556191384},{"$f":"SUMIF('[1]LSOA_0-15'!$B$3:$B$807,$A12,'[1]LSOA_0-15'!F$3:F$807)","v":7},{"$f":"SUMIF('[1]LSOA_0-15'!$B$3:$B$807,$A12,'[1]LSOA_0-15'!G$3:G$807)","v":61.155364497166858},{"$f":"SUMIF('[1]LSOA_0-15'!$B$3:$B$807,$A12,'[1]LSOA_0-15'!H$3:H$807)","v":177.81407242690105},{"$f":"SUMIF('[1]LSOA_0-15'!$B$3:$B$807,$A12,'[1]LSOA_0-15'!I$3:I$807)","v":20.741734223493879},{"$f":"SUMIF('[1]LSOA_0-15'!$B$3:$B$807,$A12,'[1]LSOA_0-15'!J$3:J$807)","v":73.233641188528821},{"$f":"SUMIF('[1]LSOA_0-15'!$B$3:$B$807,$A12,'[1]LSOA_0-15'!K$3:K$807)","v":112.48555598217965},{"$f":"SUMIF('[1]LSOA_0-15'!$B$3:$B$807,$A12,'[1]LSOA_0-15'!L$3:L$807)","v":82.573559274852116},{"$f":"SUMIF('[1]LSOA_0-15'!$B$3:$B$807,$A12,'[1]LSOA_0-15'!M$3:M$807)","v":1140.9077062732665},{"$f":"SUMIF('[1]LSOA_0-15'!$B$3:$B$807,$A12,'[1]LSOA_0-15'!N$3:N$807)","v":314.20688838686289},{"$f":"SUMIF('[1]LSOA_0-15'!$B$3:$B$807,$A12,'[1]LSOA_0-15'!O$3:O$807)","v":47.460549273380053},{"$f":"SUMIF('[1]LSOA_0-15'!$B$3:$B$807,$A12,'[1]LSOA_0-15'!P$3:P$807)","v":133.48621300612319},{"$f":"SUMIF('[1]LSOA_0-15'!$B$3:$B$807,$A12,'[1]LSOA_0-15'!Q$3:Q$807)","v":417.39436936724064},{"$f":"SUMIF('[1]LSOA_0-15'!$B$3:$B$807,$A12,'[1]LSOA_0-15'!R$3:R$807)","v":195.10899622119186},{"$f":"SUMIF('[1]LSOA_0-15'!$B$3:$B$807,$A12,'[1]LSOA_0-15'!S$3:S$807)","v":261.88662431870051},{"$f":"SUMIF('[1]LSOA_0-15'!$B$3:$B$807,$A12,'[1]LSOA_0-15'!T$3:T$807)","v":216.97086556298441},{"$f":"SUMIF('[1]LSOA_0-15'!$B$3:$B$807,$A12,'[1]LSOA_0-15'!U$3:U$807)","v":96.062699540542084}]
["Bordesley Green",{"$f":"SUMIF('[1]LSOA_0-15'!$B$3:$B$807,$A13,'[1]LSOA_0-15'!C$3:C$807)","v":3932.4068906815642},{"$f":"SUMIF('[1]LSOA_0-15'!$B$3:$B$807,$A13,'[1]LSOA_0-15'!D$3:D$807)","v":164.39693879470255},{"$f":"SUMIF('[1]LSOA_0-15'!$B$3:$B$807,$A13,'[1]LSOA_0-15'!E$3:E$807)","v":0.55571095571095563},{"$f":"SUMIF('[1]LSOA_0-15'!$B$3:$B$807,$A13,'[1]LSOA_0-15'!F$3:F$807)","v":3},{"$f":"SUMIF('[1]LSOA_0-15'!$B$3:$B$807,$A13,'[1]LSOA_0-15'!G$3:G$807)","v":64.740124389106114},{"$f":"SUMIF('[1]LSOA_0-15'!$B$3:$B$807,$A13,'[1]LSOA_0-15'!H$3:H$807)","v":59.321706215540573},{"$f":"SUMIF('[1]LSOA_0-15'!$B$3:$B$807,$A13,'[1]LSOA_0-15'!I$3:I$807)","v":29.147876778287923},{"$f":"SUMIF('[1]LSOA_0-15'!$B$3:$B$807,$A13,'[1]LSOA_0-15'!J$3:J$807)","v":80.95539348558728},{"$f":"SUMIF('[1]LSOA_0-15'!$B$3:$B$807,$A13,'[1]LSOA_0-15'!K$3:K$807)","v":98.886996348092012},{"$f":"SUMIF('[1]LSOA_0-15'!$B$3:$B$807,$A13,'[1]LSOA_0-15'!L$3:L$807)","v":35.693397519952939},{"$f":"SUMIF('[1]LSOA_0-15'!$B$3:$B$807,$A13,'[1]LSOA_0-15'!M$3:M$807)","v":1750.746706115654},{"$f":"SUMIF('[1]LSOA_0-15'!$B$3:$B$807,$A13,'[1]LSOA_0-15'!N$3:N$807)","v":512.0044298257684},{"$f":"SUMIF('[1]LSOA_0-15'!$B$3:$B$807,$A13,'[1]LSOA_0-15'!O$3:O$807)","v":10.590767221178368},{"$f":"SUMIF('[1]LSOA_0-15'!$B$3:$B$807,$A13,'[1]LSOA_0-15'!P$3:P$807)","v":203.11929895900579},{"$f":"SUMIF('[1]LSOA_0-15'!$B$3:$B$807,$A13,'[1]LSOA_0-15'!Q$3:Q$807)","v":370.4929846666497},{"$f":"SUMIF('[1]LSOA_0-15'!$B$3:$B$807,$A13,'[1]LSOA_0-15'!R$3:R$807)","v":62.799916113575868},{"$f":"SUMIF('[1]LSOA_0-15'!$B$3:$B$807,$A13,'[1]LSOA_0-15'!S$3:S$807)","v":218.70333718114898},{"$f":"SUMIF('[1]LSOA_0-15'!$B$3:$B$807,$A13,'[1]LSOA_0-15'!T$3:T$807)","v":176.51658017323808},{"$f":"SUMIF('[1]LSOA_0-15'!$B$3:$B$807,$A13,'[1]LSOA_0-15'!U$3:U$807)","v":90.734725938364321}]
["Bournbrook & Selly Park",{"$f":"SUMIF('[1]LSOA_0-15'!$B$3:$B$807,$A14,'[1]LSOA_0-15'!C$3:C$807)","v":1654.5149996065711},{"$f":"SUMIF('[1]LSOA_0-15'!$B$3:$B$807,$A14,'[1]LSOA_0-15'!D$3:D$807)","v":746.32848037785129},{"$f":"SUMIF('[1]LSOA_0-15'!$B$3:$B$807,$A14,'[1]LSOA_0-15'!E$3:E$807)","v":30.29384965831435},{"$f":"SUMIF('[1]LSOA_0-15'!$B$3:$B$807,$A14,'[1]LSOA_0-15'!F$3:F$807)","v":1.0000000000000002},{"$f":"SUMIF('[1]LSOA_0-15'!$B$3:$B$807,$A14,'[1]LSOA_0-15'!G$3:G$807)","v":59.641260447034995},{"$f":"SUMIF('[1]LSOA_0-15'!$B$3:$B$807,$A14,'[1]LSOA_0-15'!H$3:H$807)","v":107.5675756703483},{"$f":"SUMIF('[1]LSOA_0-15'!$B$3:$B$807,$A14,'[1]LSOA_0-15'!I$3:I$807)","v":17.063622953546489},{"$f":"SUMIF('[1]LSOA_0-15'!$B$3:$B$807,$A14,'[1]LSOA_0-15'!J$3:J$807)","v":43.910844995931242},{"$f":"SUMIF('[1]LSOA_0-15'!$B$3:$B$807,$A14,'[1]LSOA_0-15'!K$3:K$807)","v":43.386768632849034},{"$f":"SUMIF('[1]LSOA_0-15'!$B$3:$B$807,$A14,'[1]LSOA_0-15'!L$3:L$807)","v":70.508983628371908},{"$f":"SUMIF('[1]LSOA_0-15'!$B$3:$B$807,$A14,'[1]LSOA_0-15'!M$3:M$807)","v":230.15087754595899},{"$f":"SUMIF('[1]LSOA_0-15'!$B$3:$B$807,$A14,'[1]LSOA_0-15'!N$3:N$807)","v":50.705516871133561},{"$f":"SUMIF('[1]LSOA_0-15'!$B$3:$B$807,$A14,'[1]LSOA_0-15'!O$3:O$807)","v":28.769139824680053},{"$f":"SUMIF('[1]LSOA_0-15'!$B$3:$B$807,$A14,'[1]LSOA_0-15'!P$3:P$807)","v":56.954344303197331},{"$f":"SUMIF('[1]LSOA_0-15'!$B$3:$B$807,$A14,'[1]LSOA_0-15'!Q$3:Q$807)","v":65.215133970057565},{"$f":"SUMIF('[1]LSOA_0-15'!$B$3:$B$807,$A14,'[1]LSOA_0-15'!R$3:R$807)","v":23.89638573177303},{"$f":"SUMIF('[1]LSOA_0-15'!$B$3:$B$807,$A14,'[1]LSOA_0-15'!S$3:S$807)","v":25.063622953546489},{"$f":"SUMIF('[1]LSOA_0-15'!$B$3:$B$807,$A14,'[1]LSOA_0-15'!T$3:T$807)","v":32.029296020988198},{"$f":"SUMIF('[1]LSOA_0-15'!$B$3:$B$807,$A14,'[1]LSOA_0-15'!U$3:U$807)","v":22.029296020988195}]
["Bournville & Cotteridge",{"$f":"SUMIF('[1]LSOA_0-15'!$B$3:$B$807,$A15,'[1]LSOA_0-15'!C$3:C$807)","v":3266.1442062169112},{"$f":"SUMIF('[1]LSOA_0-15'!$B$3:$B$807,$A15,'[1]LSOA_0-15'!D$3:D$807)","v":2420.6025234009121},{"$f":"SUMIF('[1]LSOA_0-15'!$B$3:$B$807,$A15,'[1]LSOA_0-15'!E$3:E$807)","v":26.552362745424226},{"$f":"SUMIF('[1]LSOA_0-15'!$B$3:$B$807,$A15,'[1]LSOA_0-15'!F$3:F$807)","v":0},{"$f":"SUMIF('[1]LSOA_0-15'!$B$3:$B$807,$A15,'[1]LSOA_0-15'!G$3:G$807)","v":70.467788116530514},{"$f":"SUMIF('[1]LSOA_0-15'!$B$3:$B$807,$A15,'[1]LSOA_0-15'!H$3:H$807)","v":156.85002181062259},{"$f":"SUMIF('[1]LSOA_0-15'!$B$3:$B$807,$A15,'[1]LSOA_0-15'!I$3:I$807)","v":22.116636951626713},{"$f":"SUMIF('[1]LSOA_0-15'!$B$3:$B$807,$A15,'[1]LSOA_0-15'!J$3:J$807)","v":94.118989457685245},{"$f":"SUMIF('[1]LSOA_0-15'!$B$3:$B$807,$A15,'[1]LSOA_0-15'!K$3:K$807)","v":60.426926754617661},{"$f":"SUMIF('[1]LSOA_0-15'!$B$3:$B$807,$A15,'[1]LSOA_0-15'!L$3:L$807)","v":59.124919205741804},{"$f":"SUMIF('[1]LSOA_0-15'!$B$3:$B$807,$A15,'[1]LSOA_0-15'!M$3:M$807)","v":43.379104722522769},{"$f":"SUMIF('[1]LSOA_0-15'!$B$3:$B$807,$A15,'[1]LSOA_0-15'!N$3:N$807)","v":10.245479519822497},{"$f":"SUMIF('[1]LSOA_0-15'!$B$3:$B$807,$A15,'[1]LSOA_0-15'!O$3:O$807)","v":25.594246447251773},{"$f":"SUMIF('[1]LSOA_0-15'!$B$3:$B$807,$A15,'[1]LSOA_0-15'!P$3:P$807)","v":53.213854028321016},{"$f":"SUMIF('[1]LSOA_0-15'!$B$3:$B$807,$A15,'[1]LSOA_0-15'!Q$3:Q$807)","v":89.4863137130816},{"$f":"SUMIF('[1]LSOA_0-15'!$B$3:$B$807,$A15,'[1]LSOA_0-15'!R$3:R$807)","v":44.543848830257737},{"$f":"SUMIF('[1]LSOA_0-15'!$B$3:$B$807,$A15,'[1]LSOA_0-15'!S$3:S$807)","v":38.823906106833},{"$f":"SUMIF('[1]LSOA_0-15'!$B$3:$B$807,$A15,'[1]LSOA_0-15'!T$3:T$807)","v":29.72164580446098},{"$f":"SUMIF('[1]LSOA_0-15'!$B$3:$B$807,$A15,'[1]LSOA_0-15'!U$3:U$807)","v":20.875638601198151}]
["Brandwood & King's Heath",{"$f":"SUMIF('[1]LSOA_0-15'!$B$3:$B$807,$A16,'[1]LSOA_0-15'!C$3:C$807)","v":4024.2870219524971},{"$f":"SUMIF('[1]LSOA_0-15'!$B$3:$B$807,$A16,'[1]LSOA_0-15'!D$3:D$807)","v":2274.5785886271378},{"$f":"SUMIF('[1]LSOA_0-15'!$B$3:$B$807,$A16,'[1]LSOA_0-15'!E$3:E$807)","v":47.843849000521828},{"$f":"SUMIF('[1]LSOA_0-15'!$B$3:$B$807,$A16,'[1]LSOA_0-15'!F$3:F$807)","v":3},{"$f":"SUMIF('[1]LSOA_0-15'!$B$3:$B$807,$A16,'[1]LSOA_0-15'!G$3:G$807)","v":99.89560190044142},{"$f":"SUMIF('[1]LSOA_0-15'!$B$3:$B$807,$A16,'[1]LSOA_0-15'!H$3:H$807)","v":207.29416912987716},{"$f":"SUMIF('[1]LSOA_0-15'!$B$3:$B$807,$A16,'[1]LSOA_0-15'!I$3:I$807)","v":21.154763715677134},{"$f":"SUMIF('[1]LSOA_0-15'!$B$3:$B$807,$A16,'[1]LSOA_0-15'!J$3:J$807)","v":156.98211462171912},{"$f":"SUMIF('[1]LSOA_0-15'!$B$3:$B$807,$A16,'[1]LSOA_0-15'!K$3:K$807)","v":92.776237506513951},{"$f":"SUMIF('[1]LSOA_0-15'!$B$3:$B$807,$A16,'[1]LSOA_0-15'!L$3:L$807)","v":212.43649175828395},{"$f":"SUMIF('[1]LSOA_0-15'!$B$3:$B$807,$A16,'[1]LSOA_0-15'!M$3:M$807)","v":505.68612669249637},{"$f":"SUMIF('[1]LSOA_0-15'!$B$3:$B$807,$A16,'[1]LSOA_0-15'!N$3:N$807)","v":45.052491908362562},{"$f":"SUMIF('[1]LSOA_0-15'!$B$3:$B$807,$A16,'[1]LSOA_0-15'!O$3:O$807)","v":45.655882191927539},{"$f":"SUMIF('[1]LSOA_0-15'!$B$3:$B$807,$A16,'[1]LSOA_0-15'!P$3:P$807)","v":89.871113494915335},{"$f":"SUMIF('[1]LSOA_0-15'!$B$3:$B$807,$A16,'[1]LSOA_0-15'!Q$3:Q$807)","v":48.354904724526271},{"$f":"SUMIF('[1]LSOA_0-15'!$B$3:$B$807,$A16,'[1]LSOA_0-15'!R$3:R$807)","v":60.091133927869194},{"$f":"SUMIF('[1]LSOA_0-15'!$B$3:$B$807,$A16,'[1]LSOA_0-15'!S$3:S$807)","v":56.040939403296861},{"$f":"SUMIF('[1]LSOA_0-15'!$B$3:$B$807,$A16,'[1]LSOA_0-15'!T$3:T$807)","v":23.202059040523597},{"$f":"SUMIF('[1]LSOA_0-15'!$B$3:$B$807,$A16,'[1]LSOA_0-15'!U$3:U$807)","v":34.370554308407165}]
["Bromford & Hodge Hill",{"$f":"SUMIF('[1]LSOA_0-15'!$B$3:$B$807,$A17,'[1]LSOA_0-15'!C$3:C$807)","v":5490.7667617928482},{"$f":"SUMIF('[1]LSOA_0-15'!$B$3:$B$807,$A17,'[1]LSOA_0-15'!D$3:D$807)","v":1657.1789155615243},{"$f":"SUMIF('[1]LSOA_0-15'!$B$3:$B$807,$A17,'[1]LSOA_0-15'!E$3:E$807)","v":16},{"$f":"SUMIF('[1]LSOA_0-15'!$B$3:$B$807,$A17,'[1]LSOA_0-15'!F$3:F$807)","v":5},{"$f":"SUMIF('[1]LSOA_0-15'!$B$3:$B$807,$A17,'[1]LSOA_0-15'!G$3:G$807)","v":54.642672486150744},{"$f":"SUMIF('[1]LSOA_0-15'!$B$3:$B$807,$A17,'[1]LSOA_0-15'!H$3:H$807)","v":291.24773655643219},{"$f":"SUMIF('[1]LSOA_0-15'!$B$3:$B$807,$A17,'[1]LSOA_0-15'!I$3:I$807)","v":46.116440042526996},{"$f":"SUMIF('[1]LSOA_0-15'!$B$3:$B$807,$A17,'[1]LSOA_0-15'!J$3:J$807)","v":112.13393766437245},{"$f":"SUMIF('[1]LSOA_0-15'!$B$3:$B$807,$A17,'[1]LSOA_0-15'!K$3:K$807)","v":57.12385428907168},{"$f":"SUMIF('[1]LSOA_0-15'!$B$3:$B$807,$A17,'[1]LSOA_0-15'!L$3:L$807)","v":73.277930725756818},{"$f":"SUMIF('[1]LSOA_0-15'!$B$3:$B$807,$A17,'[1]LSOA_0-15'!M$3:M$807)","v":2025.1171730736949},{"$f":"SUMIF('[1]LSOA_0-15'!$B$3:$B$807,$A17,'[1]LSOA_0-15'!N$3:N$807)","v":162.45155279503106},{"$f":"SUMIF('[1]LSOA_0-15'!$B$3:$B$807,$A17,'[1]LSOA_0-15'!O$3:O$807)","v":25.397039897039896},{"$f":"SUMIF('[1]LSOA_0-15'!$B$3:$B$807,$A17,'[1]LSOA_0-15'!P$3:P$807)","v":240.74967824967825},{"$f":"SUMIF('[1]LSOA_0-15'!$B$3:$B$807,$A17,'[1]LSOA_0-15'!Q$3:Q$807)","v":264.49126517822174},{"$f":"SUMIF('[1]LSOA_0-15'!$B$3:$B$807,$A17,'[1]LSOA_0-15'!R$3:R$807)","v":142.2900900900901},{"$f":"SUMIF('[1]LSOA_0-15'!$B$3:$B$807,$A17,'[1]LSOA_0-15'!S$3:S$807)","v":199.59557383470425},{"$f":"SUMIF('[1]LSOA_0-15'!$B$3:$B$807,$A17,'[1]LSOA_0-15'!T$3:T$807)","v":77.191119691119695},{"$f":"SUMIF('[1]LSOA_0-15'!$B$3:$B$807,$A17,'[1]LSOA_0-15'!U$3:U$807)","v":40.761781657433829}]
["Castle Vale",{"$f":"SUMIF('[1]LSOA_0-15'!$B$3:$B$807,$A18,'[1]LSOA_0-15'!C$3:C$807)","v":2276},{"$f":"SUMIF('[1]LSOA_0-15'!$B$3:$B$807,$A18,'[1]LSOA_0-15'!D$3:D$807)","v":1699},{"$f":"SUMIF('[1]LSOA_0-15'!$B$3:$B$807,$A18,'[1]LSOA_0-15'!E$3:E$807)","v":8},{"$f":"SUMIF('[1]LSOA_0-15'!$B$3:$B$807,$A18,'[1]LSOA_0-15'!F$3:F$807)","v":0},{"$f":"SUMIF('[1]LSOA_0-15'!$B$3:$B$807,$A18,'[1]LSOA_0-15'!G$3:G$807)","v":17},{"$f":"SUMIF('[1]LSOA_0-15'!$B$3:$B$807,$A18,'[1]LSOA_0-15'!H$3:H$807)","v":263},{"$f":"SUMIF('[1]LSOA_0-15'!$B$3:$B$807,$A18,'[1]LSOA_0-15'!I$3:I$807)","v":18},{"$f":"SUMIF('[1]LSOA_0-15'!$B$3:$B$807,$A18,'[1]LSOA_0-15'!J$3:J$807)","v":30},{"$f":"SUMIF('[1]LSOA_0-15'!$B$3:$B$807,$A18,'[1]LSOA_0-15'!K$3:K$807)","v":34},{"$f":"SUMIF('[1]LSOA_0-15'!$B$3:$B$807,$A18,'[1]LSOA_0-15'!L$3:L$807)","v":10},{"$f":"SUMIF('[1]LSOA_0-15'!$B$3:$B$807,$A18,'[1]LSOA_0-15'!M$3:M$807)","v":14.000000000000002},{"$f":"SUMIF('[1]LSOA_0-15'!$B$3:$B$807,$A18,'[1]LSOA_0-15'!N$3:N$807)","v":1},{"$f":"SUMIF('[1]LSOA_0-15'!$B$3:$B$807,$A18,'[1]LSOA_0-15'!O$3:O$807)","v":3},{"$f":"SUMIF('[1]LSOA_0-15'!$B$3:$B$807,$A18,'[1]LSOA_0-15'!P$3:P$807)","v":7},{"$f":"SUMIF('[1]LSOA_0-15'!$B$3:$B$807,$A18,'[1]LSOA_0-15'!Q$3:Q$807)","v":49},{"$f":"SUMIF('[1]LSOA_0-15'!$B$3:$B$807,$A18,'[1]LSOA_0-15'!R$3:R$807)","v":67},{"$f":"SUMIF('[1]LSOA_0-15'!$B$3:$B$807,$A18,'[1]LSOA_0-15'!S$3:S$807)","v":42},{"$f":"SUMIF('[1]LSOA_0-15'!$B$3:$B$807,$A18,'[1]LSOA_0-15'!T$3:T$807)","v":7},{"$f":"SUMIF('[1]LSOA_0-15'!$B$3:$B$807,$A18,'[1]LSOA_0-15'!U$3:U$807)","v":7}]
["Druids Heath & Monyhull",{"$f":"SUMIF('[1]LSOA_0-15'!$B$3:$B$807,$A19,'[1]LSOA_0-15'!C$3:C$807)","v":2529.6582692979828},{"$f":"SUMIF('[1]LSOA_0-15'!$B$3:$B$807,$A19,'[1]LSOA_0-15'!D$3:D$807)","v":1713.8224186497675},{"$f":"SUMIF('[1]LSOA_0-15'!$B$3:$B$807,$A19,'[1]LSOA_0-15'!E$3:E$807)","v":23.783861776425198},{"$f":"SUMIF('[1]LSOA_0-15'!$B$3:$B$807,$A19,'[1]LSOA_0-15'!F$3:F$807)","v":0},{"$f":"SUMIF('[1]LSOA_0-15'!$B$3:$B$807,$A19,'[1]LSOA_0-15'!G$3:G$807)","v":43.086399483846449},{"$f":"SUMIF('[1]LSOA_0-15'!$B$3:$B$807,$A19,'[1]LSOA_0-15'!H$3:H$807)","v":183.15406493597192},{"$f":"SUMIF('[1]LSOA_0-15'!$B$3:$B$807,$A19,'[1]LSOA_0-15'!I$3:I$807)","v":19.990545383292449},{"$f":"SUMIF('[1]LSOA_0-15'!$B$3:$B$807,$A19,'[1]LSOA_0-15'!J$3:J$807)","v":59.312963816294392},{"$f":"SUMIF('[1]LSOA_0-15'!$B$3:$B$807,$A19,'[1]LSOA_0-15'!K$3:K$807)","v":34.408492901404664},{"$f":"SUMIF('[1]LSOA_0-15'!$B$3:$B$807,$A19,'[1]LSOA_0-15'!L$3:L$807)","v":49.160578182853705},{"$f":"SUMIF('[1]LSOA_0-15'!$B$3:$B$807,$A19,'[1]LSOA_0-15'!M$3:M$807)","v":78.710266108642074},{"$f":"SUMIF('[1]LSOA_0-15'!$B$3:$B$807,$A19,'[1]LSOA_0-15'!N$3:N$807)","v":7.3955928646379849},{"$f":"SUMIF('[1]LSOA_0-15'!$B$3:$B$807,$A19,'[1]LSOA_0-15'!O$3:O$807)","v":20.737607412464879},{"$f":"SUMIF('[1]LSOA_0-15'!$B$3:$B$807,$A19,'[1]LSOA_0-15'!P$3:P$807)","v":39.90514086585253},{"$f":"SUMIF('[1]LSOA_0-15'!$B$3:$B$807,$A19,'[1]LSOA_0-15'!Q$3:Q$807)","v":85.844954648196619},{"$f":"SUMIF('[1]LSOA_0-15'!$B$3:$B$807,$A19,'[1]LSOA_0-15'!R$3:R$807)","v":78.6763367633786},{"$f":"SUMIF('[1]LSOA_0-15'!$B$3:$B$807,$A19,'[1]LSOA_0-15'!S$3:S$807)","v":39.481974973694264},{"$f":"SUMIF('[1]LSOA_0-15'!$B$3:$B$807,$A19,'[1]LSOA_0-15'!T$3:T$807)","v":24.995470178846102},{"$f":"SUMIF('[1]LSOA_0-15'!$B$3:$B$807,$A19,'[1]LSOA_0-15'!U$3:U$807)","v":27.191600352413555}]
["Edgbaston",{"$f":"SUMIF('[1]LSOA_0-15'!$B$3:$B$807,$A20,'[1]LSOA_0-15'!C$3:C$807)","v":2258.0907802728238},{"$f":"SUMIF('[1]LSOA_0-15'!$B$3:$B$807,$A20,'[1]LSOA_0-15'!D$3:D$807)","v":590.80012321939535},{"$f":"SUMIF('[1]LSOA_0-15'!$B$3:$B$807,$A20,'[1]LSOA_0-15'!E$3:E$807)","v":7.3975151718972132},{"$f":"SUMIF('[1]LSOA_0-15'!$B$3:$B$807,$A20,'[1]LSOA_0-15'!F$3:F$807)","v":0},{"$f":"SUMIF('[1]LSOA_0-15'!$B$3:$B$807,$A20,'[1]LSOA_0-15'!G$3:G$807)","v":113.32206871001962},{"$f":"SUMIF('[1]LSOA_0-15'!$B$3:$B$807,$A20,'[1]LSOA_0-15'!H$3:H$807)","v":70.658675844389109},{"$f":"SUMIF('[1]LSOA_0-15'!$B$3:$B$807,$A20,'[1]LSOA_0-15'!I$3:I$807)","v":22.238128296964561},{"$f":"SUMIF('[1]LSOA_0-15'!$B$3:$B$807,$A20,'[1]LSOA_0-15'!J$3:J$807)","v":132.5621652783808},{"$f":"SUMIF('[1]LSOA_0-15'!$B$3:$B$807,$A20,'[1]LSOA_0-15'!K$3:K$807)","v":79.72850073513392},{"$f":"SUMIF('[1]LSOA_0-15'!$B$3:$B$807,$A20,'[1]LSOA_0-15'!L$3:L$807)","v":417.96601278497212},{"$f":"SUMIF('[1]LSOA_0-15'!$B$3:$B$807,$A20,'[1]LSOA_0-15'!M$3:M$807)","v":265.54263392308923},{"$f":"SUMIF('[1]LSOA_0-15'!$B$3:$B$807,$A20,'[1]LSOA_0-15'!N$3:N$807)","v":35.628096002607201},{"$f":"SUMIF('[1]LSOA_0-15'!$B$3:$B$807,$A20,'[1]LSOA_0-15'!O$3:O$807)","v":62.686122515962161},{"$f":"SUMIF('[1]LSOA_0-15'!$B$3:$B$807,$A20,'[1]LSOA_0-15'!P$3:P$807)","v":120.16731889277514},{"$f":"SUMIF('[1]LSOA_0-15'!$B$3:$B$807,$A20,'[1]LSOA_0-15'!Q$3:Q$807)","v":117.56412067598559},{"$f":"SUMIF('[1]LSOA_0-15'!$B$3:$B$807,$A20,'[1]LSOA_0-15'!R$3:R$807)","v":59.211745512256755},{"$f":"SUMIF('[1]LSOA_0-15'!$B$3:$B$807,$A20,'[1]LSOA_0-15'!S$3:S$807)","v":52.194756240540116},{"$f":"SUMIF('[1]LSOA_0-15'!$B$3:$B$807,$A20,'[1]LSOA_0-15'!T$3:T$807)","v":71.173052985280933},{"$f":"SUMIF('[1]LSOA_0-15'!$B$3:$B$807,$A20,'[1]LSOA_0-15'!U$3:U$807)","v":39.249743483174051}]
["Erdington",{"$f":"SUMIF('[1]LSOA_0-15'!$B$3:$B$807,$A21,'[1]LSOA_0-15'!C$3:C$807)","v":3577.4930665853076},{"$f":"SUMIF('[1]LSOA_0-15'!$B$3:$B$807,$A21,'[1]LSOA_0-15'!D$3:D$807)","v":2042.7854446407759},{"$f":"SUMIF('[1]LSOA_0-15'!$B$3:$B$807,$A21,'[1]LSOA_0-15'!E$3:E$807)","v":47.03011066136223},{"$f":"SUMIF('[1]LSOA_0-15'!$B$3:$B$807,$A21,'[1]LSOA_0-15'!F$3:F$807)","v":0},{"$f":"SUMIF('[1]LSOA_0-15'!$B$3:$B$807,$A21,'[1]LSOA_0-15'!G$3:G$807)","v":119.39440832075826},{"$f":"SUMIF('[1]LSOA_0-15'!$B$3:$B$807,$A21,'[1]LSOA_0-15'!H$3:H$807)","v":273.81726675174758},{"$f":"SUMIF('[1]LSOA_0-15'!$B$3:$B$807,$A21,'[1]LSOA_0-15'!I$3:I$807)","v":44.16254352747935},{"$f":"SUMIF('[1]LSOA_0-15'!$B$3:$B$807,$A21,'[1]LSOA_0-15'!J$3:J$807)","v":136.46320356681423},{"$f":"SUMIF('[1]LSOA_0-15'!$B$3:$B$807,$A21,'[1]LSOA_0-15'!K$3:K$807)","v":67.251226338135439},{"$f":"SUMIF('[1]LSOA_0-15'!$B$3:$B$807,$A21,'[1]LSOA_0-15'!L$3:L$807)","v":112.52016966339768},{"$f":"SUMIF('[1]LSOA_0-15'!$B$3:$B$807,$A21,'[1]LSOA_0-15'!M$3:M$807)","v":196.35531135819971},{"$f":"SUMIF('[1]LSOA_0-15'!$B$3:$B$807,$A21,'[1]LSOA_0-15'!N$3:N$807)","v":40.851692917123913},{"$f":"SUMIF('[1]LSOA_0-15'!$B$3:$B$807,$A21,'[1]LSOA_0-15'!O$3:O$807)","v":22.115982719574475},{"$f":"SUMIF('[1]LSOA_0-15'!$B$3:$B$807,$A21,'[1]LSOA_0-15'!P$3:P$807)","v":42.657982634148368},{"$f":"SUMIF('[1]LSOA_0-15'!$B$3:$B$807,$A21,'[1]LSOA_0-15'!Q$3:Q$807)","v":141.48374254868082},{"$f":"SUMIF('[1]LSOA_0-15'!$B$3:$B$807,$A21,'[1]LSOA_0-15'!R$3:R$807)","v":186.0601221665155},{"$f":"SUMIF('[1]LSOA_0-15'!$B$3:$B$807,$A21,'[1]LSOA_0-15'!S$3:S$807)","v":76.464230706674115},{"$f":"SUMIF('[1]LSOA_0-15'!$B$3:$B$807,$A21,'[1]LSOA_0-15'!T$3:T$807)","v":9.5398229004566844},{"$f":"SUMIF('[1]LSOA_0-15'!$B$3:$B$807,$A21,'[1]LSOA_0-15'!U$3:U$807)","v":18.539805163463164}]
["Frankley Great Park",{"$f":"SUMIF('[1]LSOA_0-15'!$B$3:$B$807,$A22,'[1]LSOA_0-15'!C$3:C$807)","v":2479.9949996044725},{"$f":"SUMIF('[1]LSOA_0-15'!$B$3:$B$807,$A22,'[1]LSOA_0-15'!D$3:D$807)","v":1949.1372813217467},{"$f":"SUMIF('[1]LSOA_0-15'!$B$3:$B$807,$A22,'[1]LSOA_0-15'!E$3:E$807)","v":7.5464788732394368},{"$f":"SUMIF('[1]LSOA_0-15'!$B$3:$B$807,$A22,'[1]LSOA_0-15'!F$3:F$807)","v":0},{"$f":"SUMIF('[1]LSOA_0-15'!$B$3:$B$807,$A22,'[1]LSOA_0-15'!G$3:G$807)","v":22.139685299224091},{"$f":"SUMIF('[1]LSOA_0-15'!$B$3:$B$807,$A22,'[1]LSOA_0-15'!H$3:H$807)","v":216.72812584098702},{"$f":"SUMIF('[1]LSOA_0-15'!$B$3:$B$807,$A22,'[1]LSOA_0-15'!I$3:I$807)","v":15.048170569978083},{"$f":"SUMIF('[1]LSOA_0-15'!$B$3:$B$807,$A22,'[1]LSOA_0-15'!J$3:J$807)","v":33.099976079610897},{"$f":"SUMIF('[1]LSOA_0-15'!$B$3:$B$807,$A22,'[1]LSOA_0-15'!K$3:K$807)","v":26.62356113891672},{"$f":"SUMIF('[1]LSOA_0-15'!$B$3:$B$807,$A22,'[1]LSOA_0-15'!L$3:L$807)","v":9.8660947942907491},{"$f":"SUMIF('[1]LSOA_0-15'!$B$3:$B$807,$A22,'[1]LSOA_0-15'!M$3:M$807)","v":23.972905774128165},{"$f":"SUMIF('[1]LSOA_0-15'!$B$3:$B$807,$A22,'[1]LSOA_0-15'!N$3:N$807)","v":2.3581336696090793},{"$f":"SUMIF('[1]LSOA_0-15'!$B$3:$B$807,$A22,'[1]LSOA_0-15'!O$3:O$807)","v":10.817924224312666},{"$f":"SUMIF('[1]LSOA_0-15'!$B$3:$B$807,$A22,'[1]LSOA_0-15'!P$3:P$807)","v":21.021076344106245},{"$f":"SUMIF('[1]LSOA_0-15'!$B$3:$B$807,$A22,'[1]LSOA_0-15'!Q$3:Q$807)","v":50.941449485922668},{"$f":"SUMIF('[1]LSOA_0-15'!$B$3:$B$807,$A22,'[1]LSOA_0-15'!R$3:R$807)","v":46.075890794621856},{"$f":"SUMIF('[1]LSOA_0-15'!$B$3:$B$807,$A22,'[1]LSOA_0-15'!S$3:S$807)","v":36.364777550146599},{"$f":"SUMIF('[1]LSOA_0-15'!$B$3:$B$807,$A22,'[1]LSOA_0-15'!T$3:T$807)","v":1},{"$f":"SUMIF('[1]LSOA_0-15'!$B$3:$B$807,$A22,'[1]LSOA_0-15'!U$3:U$807)","v":7.2534678436317783}]
["Garrett's Green",{"$f":"SUMIF('[1]LSOA_0-15'!$B$3:$B$807,$A23,'[1]LSOA_0-15'!C$3:C$807)","v":2374.0244235107598},{"$f":"SUMIF('[1]LSOA_0-15'!$B$3:$B$807,$A23,'[1]LSOA_0-15'!D$3:D$807)","v":1483.8852872762866},{"$f":"SUMIF('[1]LSOA_0-15'!$B$3:$B$807,$A23,'[1]LSOA_0-15'!E$3:E$807)","v":10.417838593666978},{"$f":"SUMIF('[1]LSOA_0-15'!$B$3:$B$807,$A23,'[1]LSOA_0-15'!F$3:F$807)","v":1.556084296397009},{"$f":"SUMIF('[1]LSOA_0-15'!$B$3:$B$807,$A23,'[1]LSOA_0-15'!G$3:G$807)","v":31.815972940620107},{"$f":"SUMIF('[1]LSOA_0-15'!$B$3:$B$807,$A23,'[1]LSOA_0-15'!H$3:H$807)","v":124.19785775756297},{"$f":"SUMIF('[1]LSOA_0-15'!$B$3:$B$807,$A23,'[1]LSOA_0-15'!I$3:I$807)","v":9.4418604651162781},{"$f":"SUMIF('[1]LSOA_0-15'!$B$3:$B$807,$A23,'[1]LSOA_0-15'!J$3:J$807)","v":46.821777855183363},{"$f":"SUMIF('[1]LSOA_0-15'!$B$3:$B$807,$A23,'[1]LSOA_0-15'!K$3:K$807)","v":48.971867651577277},{"$f":"SUMIF('[1]LSOA_0-15'!$B$3:$B$807,$A23,'[1]LSOA_0-15'!L$3:L$807)","v":42.238191692574816},{"$f":"SUMIF('[1]LSOA_0-15'!$B$3:$B$807,$A23,'[1]LSOA_0-15'!M$3:M$807)","v":243.83304496126323},{"$f":"SUMIF('[1]LSOA_0-15'!$B$3:$B$807,$A23,'[1]LSOA_0-15'!N$3:N$807)","v":42.929168233299123},{"$f":"SUMIF('[1]LSOA_0-15'!$B$3:$B$807,$A23,'[1]LSOA_0-15'!O$3:O$807)","v":5.7012259858442871},{"$f":"SUMIF('[1]LSOA_0-15'!$B$3:$B$807,$A23,'[1]LSOA_0-15'!P$3:P$807)","v":83.337552025372233},{"$f":"SUMIF('[1]LSOA_0-15'!$B$3:$B$807,$A23,'[1]LSOA_0-15'!Q$3:Q$807)","v":77.427143050097641},{"$f":"SUMIF('[1]LSOA_0-15'!$B$3:$B$807,$A23,'[1]LSOA_0-15'!R$3:R$807)","v":58.56819954063014},{"$f":"SUMIF('[1]LSOA_0-15'!$B$3:$B$807,$A23,'[1]LSOA_0-15'!S$3:S$807)","v":51.357193738533795},{"$f":"SUMIF('[1]LSOA_0-15'!$B$3:$B$807,$A23,'[1]LSOA_0-15'!T$3:T$807)","v":3.8750856807616616},{"$f":"SUMIF('[1]LSOA_0-15'!$B$3:$B$807,$A23,'[1]LSOA_0-15'!U$3:U$807)","v":7.6490717659722618}]
["Glebe Farm & Tile Cross",{"$f":"SUMIF('[1]LSOA_0-15'!$B$3:$B$807,$A24,'[1]LSOA_0-15'!C$3:C$807)","v":6158.0091371705521},{"$f":"SUMIF('[1]LSOA_0-15'!$B$3:$B$807,$A24,'[1]LSOA_0-15'!D$3:D$807)","v":3033.5555522840464},{"$f":"SUMIF('[1]LSOA_0-15'!$B$3:$B$807,$A24,'[1]LSOA_0-15'!E$3:E$807)","v":30.234633569739952},{"$f":"SUMIF('[1]LSOA_0-15'!$B$3:$B$807,$A24,'[1]LSOA_0-15'!F$3:F$807)","v":0},{"$f":"SUMIF('[1]LSOA_0-15'!$B$3:$B$807,$A24,'[1]LSOA_0-15'!G$3:G$807)","v":79.323068915195549},{"$f":"SUMIF('[1]LSOA_0-15'!$B$3:$B$807,$A24,'[1]LSOA_0-15'!H$3:H$807)","v":444.24499480645176},{"$f":"SUMIF('[1]LSOA_0-15'!$B$3:$B$807,$A24,'[1]LSOA_0-15'!I$3:I$807)","v":35.283806055192841},{"$f":"SUMIF('[1]LSOA_0-15'!$B$3:$B$807,$A24,'[1]LSOA_0-15'!J$3:J$807)","v":169.00356119020051},{"$f":"SUMIF('[1]LSOA_0-15'!$B$3:$B$807,$A24,'[1]LSOA_0-15'!K$3:K$807)","v":121.17532724784768},{"$f":"SUMIF('[1]LSOA_0-15'!$B$3:$B$807,$A24,'[1]LSOA_0-15'!L$3:L$807)","v":78.759226742077246},{"$f":"SUMIF('[1]LSOA_0-15'!$B$3:$B$807,$A24,'[1]LSOA_0-15'!M$3:M$807)","v":1233.286969071368},{"$f":"SUMIF('[1]LSOA_0-15'!$B$3:$B$807,$A24,'[1]LSOA_0-15'!N$3:N$807)","v":96.448140868967229},{"$f":"SUMIF('[1]LSOA_0-15'!$B$3:$B$807,$A24,'[1]LSOA_0-15'!O$3:O$807)","v":12.617643710934528},{"$f":"SUMIF('[1]LSOA_0-15'!$B$3:$B$807,$A24,'[1]LSOA_0-15'!P$3:P$807)","v":272.20836962066062},{"$f":"SUMIF('[1]LSOA_0-15'!$B$3:$B$807,$A24,'[1]LSOA_0-15'!Q$3:Q$807)","v":153.82824403649801},{"$f":"SUMIF('[1]LSOA_0-15'!$B$3:$B$807,$A24,'[1]LSOA_0-15'!R$3:R$807)","v":215.56165102662374},{"$f":"SUMIF('[1]LSOA_0-15'!$B$3:$B$807,$A24,'[1]LSOA_0-15'!S$3:S$807)","v":96.672082110958911},{"$f":"SUMIF('[1]LSOA_0-15'!$B$3:$B$807,$A24,'[1]LSOA_0-15'!T$3:T$807)","v":42.532970094796532},{"$f":"SUMIF('[1]LSOA_0-15'!$B$3:$B$807,$A24,'[1]LSOA_0-15'!U$3:U$807)","v":43.272895818991479}]
["Gravelly Hill",{"$f":"SUMIF('[1]LSOA_0-15'!$B$3:$B$807,$A25,'[1]LSOA_0-15'!C$3:C$807)","v":2240.4909747699639},{"$f":"SUMIF('[1]LSOA_0-15'!$B$3:$B$807,$A25,'[1]LSOA_0-15'!D$3:D$807)","v":656.82152727716243},{"$f":"SUMIF('[1]LSOA_0-15'!$B$3:$B$807,$A25,'[1]LSOA_0-15'!E$3:E$807)","v":13.481726659192866},{"$f":"SUMIF('[1]LSOA_0-15'!$B$3:$B$807,$A25,'[1]LSOA_0-15'!F$3:F$807)","v":5},{"$f":"SUMIF('[1]LSOA_0-15'!$B$3:$B$807,$A25,'[1]LSOA_0-15'!G$3:G$807)","v":72.550550999230154},{"$f":"SUMIF('[1]LSOA_0-15'!$B$3:$B$807,$A25,'[1]LSOA_0-15'!H$3:H$807)","v":192.13544589284632},{"$f":"SUMIF('[1]LSOA_0-15'!$B$3:$B$807,$A25,'[1]LSOA_0-15'!I$3:I$807)","v":18.160577665200748},{"$f":"SUMIF('[1]LSOA_0-15'!$B$3:$B$807,$A25,'[1]LSOA_0-15'!J$3:J$807)","v":77.277671133404937},{"$f":"SUMIF('[1]LSOA_0-15'!$B$3:$B$807,$A25,'[1]LSOA_0-15'!K$3:K$807)","v":30.308120880913329},{"$f":"SUMIF('[1]LSOA_0-15'!$B$3:$B$807,$A25,'[1]LSOA_0-15'!L$3:L$807)","v":67.920725830138878},{"$f":"SUMIF('[1]LSOA_0-15'!$B$3:$B$807,$A25,'[1]LSOA_0-15'!M$3:M$807)","v":541.78048449369203},{"$f":"SUMIF('[1]LSOA_0-15'!$B$3:$B$807,$A25,'[1]LSOA_0-15'!N$3:N$807)","v":62.440478918935007},{"$f":"SUMIF('[1]LSOA_0-15'!$B$3:$B$807,$A25,'[1]LSOA_0-15'!O$3:O$807)","v":16.896383515082178},{"$f":"SUMIF('[1]LSOA_0-15'!$B$3:$B$807,$A25,'[1]LSOA_0-15'!P$3:P$807)","v":105.56539435040482},{"$f":"SUMIF('[1]LSOA_0-15'!$B$3:$B$807,$A25,'[1]LSOA_0-15'!Q$3:Q$807)","v":95.594286813806875},{"$f":"SUMIF('[1]LSOA_0-15'!$B$3:$B$807,$A25,'[1]LSOA_0-15'!R$3:R$807)","v":175.71322918961735},{"$f":"SUMIF('[1]LSOA_0-15'!$B$3:$B$807,$A25,'[1]LSOA_0-15'!S$3:S$807)","v":64.163872651285601},{"$f":"SUMIF('[1]LSOA_0-15'!$B$3:$B$807,$A25,'[1]LSOA_0-15'!T$3:T$807)","v":15.751395411459962},{"$f":"SUMIF('[1]LSOA_0-15'!$B$3:$B$807,$A25,'[1]LSOA_0-15'!U$3:U$807)","v":28.929103087590352}]
["Hall Green North",{"$f":"SUMIF('[1]LSOA_0-15'!$B$3:$B$807,$A26,'[1]LSOA_0-15'!C$3:C$807)","v":5361.8115401984305},{"$f":"SUMIF('[1]LSOA_0-15'!$B$3:$B$807,$A26,'[1]LSOA_0-15'!D$3:D$807)","v":1118.5268716994333},{"$f":"SUMIF('[1]LSOA_0-15'!$B$3:$B$807,$A26,'[1]LSOA_0-15'!E$3:E$807)","v":55.055802035072652},{"$f":"SUMIF('[1]LSOA_0-15'!$B$3:$B$807,$A26,'[1]LSOA_0-15'!F$3:F$807)","v":0},{"$f":"SUMIF('[1]LSOA_0-15'!$B$3:$B$807,$A26,'[1]LSOA_0-15'!G$3:G$807)","v":121.95473688943056},{"$f":"SUMIF('[1]LSOA_0-15'!$B$3:$B$807,$A26,'[1]LSOA_0-15'!H$3:H$807)","v":120.18924504735878},{"$f":"SUMIF('[1]LSOA_0-15'!$B$3:$B$807,$A26,'[1]LSOA_0-15'!I$3:I$807)","v":24.079587145096486},{"$f":"SUMIF('[1]LSOA_0-15'!$B$3:$B$807,$A26,'[1]LSOA_0-15'!J$3:J$807)","v":167.15255556905333},{"$f":"SUMIF('[1]LSOA_0-15'!$B$3:$B$807,$A26,'[1]LSOA_0-15'!K$3:K$807)","v":100.98905924038905},{"$f":"SUMIF('[1]LSOA_0-15'!$B$3:$B$807,$A26,'[1]LSOA_0-15'!L$3:L$807)","v":463.91888619813335},{"$f":"SUMIF('[1]LSOA_0-15'!$B$3:$B$807,$A26,'[1]LSOA_0-15'!M$3:M$807)","v":2289.242021242002},{"$f":"SUMIF('[1]LSOA_0-15'!$B$3:$B$807,$A26,'[1]LSOA_0-15'!N$3:N$807)","v":217.32498437899281},{"$f":"SUMIF('[1]LSOA_0-15'!$B$3:$B$807,$A26,'[1]LSOA_0-15'!O$3:O$807)","v":20.221985747764123},{"$f":"SUMIF('[1]LSOA_0-15'!$B$3:$B$807,$A26,'[1]LSOA_0-15'!P$3:P$807)","v":311.73935184821403},{"$f":"SUMIF('[1]LSOA_0-15'!$B$3:$B$807,$A26,'[1]LSOA_0-15'!Q$3:Q$807)","v":90.784122414873451},{"$f":"SUMIF('[1]LSOA_0-15'!$B$3:$B$807,$A26,'[1]LSOA_0-15'!R$3:R$807)","v":70.791199473147643},{"$f":"SUMIF('[1]LSOA_0-15'!$B$3:$B$807,$A26,'[1]LSOA_0-15'!S$3:S$807)","v":43.1282860453232},{"$f":"SUMIF('[1]LSOA_0-15'!$B$3:$B$807,$A26,'[1]LSOA_0-15'!T$3:T$807)","v":75.747918058070226},{"$f":"SUMIF('[1]LSOA_0-15'!$B$3:$B$807,$A26,'[1]LSOA_0-15'!U$3:U$807)","v":70.964927166076535}]
["Hall Green South",{"$f":"SUMIF('[1]LSOA_0-15'!$B$3:$B$807,$A27,'[1]LSOA_0-15'!C$3:C$807)","v":2201.8229095461397},{"$f":"SUMIF('[1]LSOA_0-15'!$B$3:$B$807,$A27,'[1]LSOA_0-15'!D$3:D$807)","v":1074.7305294507421},{"$f":"SUMIF('[1]LSOA_0-15'!$B$3:$B$807,$A27,'[1]LSOA_0-15'!E$3:E$807)","v":58.408811228494869},{"$f":"SUMIF('[1]LSOA_0-15'!$B$3:$B$807,$A27,'[1]LSOA_0-15'!F$3:F$807)","v":0},{"$f":"SUMIF('[1]LSOA_0-15'!$B$3:$B$807,$A27,'[1]LSOA_0-15'!G$3:G$807)","v":24.074415308291993},{"$f":"SUMIF('[1]LSOA_0-15'!$B$3:$B$807,$A27,'[1]LSOA_0-15'!H$3:H$807)","v":53.056082960568745},{"$f":"SUMIF('[1]LSOA_0-15'!$B$3:$B$807,$A27,'[1]LSOA_0-15'!I$3:I$807)","v":5},{"$f":"SUMIF('[1]LSOA_0-15'!$B$3:$B$807,$A27,'[1]LSOA_0-15'!J$3:J$807)","v":67.324686787641738},{"$f":"SUMIF('[1]LSOA_0-15'!$B$3:$B$807,$A27,'[1]LSOA_0-15'!K$3:K$807)","v":33.255126045630327},{"$f":"SUMIF('[1]LSOA_0-15'!$B$3:$B$807,$A27,'[1]LSOA_0-15'!L$3:L$807)","v":244.68270465938613},{"$f":"SUMIF('[1]LSOA_0-15'!$B$3:$B$807,$A27,'[1]LSOA_0-15'!M$3:M$807)","v":401.82623980459351},{"$f":"SUMIF('[1]LSOA_0-15'!$B$3:$B$807,$A27,'[1]LSOA_0-15'!N$3:N$807)","v":39.492935669348},{"$f":"SUMIF('[1]LSOA_0-15'!$B$3:$B$807,$A27,'[1]LSOA_0-15'!O$3:O$807)","v":9},{"$f":"SUMIF('[1]LSOA_0-15'!$B$3:$B$807,$A27,'[1]LSOA_0-15'!P$3:P$807)","v":98.886167273190566},{"$f":"SUMIF('[1]LSOA_0-15'!$B$3:$B$807,$A27,'[1]LSOA_0-15'!Q$3:Q$807)","v":13.343019135364989},{"$f":"SUMIF('[1]LSOA_0-15'!$B$3:$B$807,$A27,'[1]LSOA_0-15'!R$3:R$807)","v":11.73625073920757},{"$f":"SUMIF('[1]LSOA_0-15'!$B$3:$B$807,$A27,'[1]LSOA_0-15'!S$3:S$807)","v":9.5372076541459965},{"$f":"SUMIF('[1]LSOA_0-15'!$B$3:$B$807,$A27,'[1]LSOA_0-15'!T$3:T$807)","v":22.681253696037846},{"$f":"SUMIF('[1]LSOA_0-15'!$B$3:$B$807,$A27,'[1]LSOA_0-15'!U$3:U$807)","v":34.787479133495751}]
["Handsworth",{"$f":"SUMIF('[1]LSOA_0-15'!$B$3:$B$807,$A28,'[1]LSOA_0-15'!C$3:C$807)","v":3074.9932652135567},{"$f":"SUMIF('[1]LSOA_0-15'!$B$3:$B$807,$A28,'[1]LSOA_0-15'!D$3:D$807)","v":128.48457030567008},{"$f":"SUMIF('[1]LSOA_0-15'!$B$3:$B$807,$A28,'[1]LSOA_0-15'!E$3:E$807)","v":1.4014188343487881},{"$f":"SUMIF('[1]LSOA_0-15'!$B$3:$B$807,$A28,'[1]LSOA_0-15'!F$3:F$807)","v":3.4728614785784435},{"$f":"SUMIF('[1]LSOA_0-15'!$B$3:$B$807,$A28,'[1]LSOA_0-15'!G$3:G$807)","v":113.24535448129696},{"$f":"SUMIF('[1]LSOA_0-15'!$B$3:$B$807,$A28,'[1]LSOA_0-15'!H$3:H$807)","v":121.1781549615574},{"$f":"SUMIF('[1]LSOA_0-15'!$B$3:$B$807,$A28,'[1]LSOA_0-15'!I$3:I$807)","v":21.336836421036942},{"$f":"SUMIF('[1]LSOA_0-15'!$B$3:$B$807,$A28,'[1]LSOA_0-15'!J$3:J$807)","v":74.546113413523358},{"$f":"SUMIF('[1]LSOA_0-15'!$B$3:$B$807,$A28,'[1]LSOA_0-15'!K$3:K$807)","v":54.766687003995287},{"$f":"SUMIF('[1]LSOA_0-15'!$B$3:$B$807,$A28,'[1]LSOA_0-15'!L$3:L$807)","v":485.49330964252852},{"$f":"SUMIF('[1]LSOA_0-15'!$B$3:$B$807,$A28,'[1]LSOA_0-15'!M$3:M$807)","v":884.619689786501},{"$f":"SUMIF('[1]LSOA_0-15'!$B$3:$B$807,$A28,'[1]LSOA_0-15'!N$3:N$807)","v":327.27090002375382},{"$f":"SUMIF('[1]LSOA_0-15'!$B$3:$B$807,$A28,'[1]LSOA_0-15'!O$3:O$807)","v":22.520191909633827},{"$f":"SUMIF('[1]LSOA_0-15'!$B$3:$B$807,$A28,'[1]LSOA_0-15'!P$3:P$807)","v":160.09481657935552},{"$f":"SUMIF('[1]LSOA_0-15'!$B$3:$B$807,$A28,'[1]LSOA_0-15'!Q$3:Q$807)","v":196.131665101419},{"$f":"SUMIF('[1]LSOA_0-15'!$B$3:$B$807,$A28,'[1]LSOA_0-15'!R$3:R$807)","v":261.40364515020917},{"$f":"SUMIF('[1]LSOA_0-15'!$B$3:$B$807,$A28,'[1]LSOA_0-15'!S$3:S$807)","v":134.44043517429617},{"$f":"SUMIF('[1]LSOA_0-15'!$B$3:$B$807,$A28,'[1]LSOA_0-15'!T$3:T$807)","v":17.967045503452812},{"$f":"SUMIF('[1]LSOA_0-15'!$B$3:$B$807,$A28,'[1]LSOA_0-15'!U$3:U$807)","v":66.61956944239958}]
["Handsworth Wood",{"$f":"SUMIF('[1]LSOA_0-15'!$B$3:$B$807,$A29,'[1]LSOA_0-15'!C$3:C$807)","v":3976.6428362844422},{"$f":"SUMIF('[1]LSOA_0-15'!$B$3:$B$807,$A29,'[1]LSOA_0-15'!D$3:D$807)","v":263.67573408019393},{"$f":"SUMIF('[1]LSOA_0-15'!$B$3:$B$807,$A29,'[1]LSOA_0-15'!E$3:E$807)","v":4.449912744662349},{"$f":"SUMIF('[1]LSOA_0-15'!$B$3:$B$807,$A29,'[1]LSOA_0-15'!F$3:F$807)","v":2.046758853677872},{"$f":"SUMIF('[1]LSOA_0-15'!$B$3:$B$807,$A29,'[1]LSOA_0-15'!G$3:G$807)","v":183.70764753798991},{"$f":"SUMIF('[1]LSOA_0-15'!$B$3:$B$807,$A29,'[1]LSOA_0-15'!H$3:H$807)","v":177.5754809089963},{"$f":"SUMIF('[1]LSOA_0-15'!$B$3:$B$807,$A29,'[1]LSOA_0-15'!I$3:I$807)","v":13.732697434863976},{"$f":"SUMIF('[1]LSOA_0-15'!$B$3:$B$807,$A29,'[1]LSOA_0-15'!J$3:J$807)","v":84.126006150802084},{"$f":"SUMIF('[1]LSOA_0-15'!$B$3:$B$807,$A29,'[1]LSOA_0-15'!K$3:K$807)","v":94.59249457044325},{"$f":"SUMIF('[1]LSOA_0-15'!$B$3:$B$807,$A29,'[1]LSOA_0-15'!L$3:L$807)","v":1216.6137920499086},{"$f":"SUMIF('[1]LSOA_0-15'!$B$3:$B$807,$A29,'[1]LSOA_0-15'!M$3:M$807)","v":629.33543686580686},{"$f":"SUMIF('[1]LSOA_0-15'!$B$3:$B$807,$A29,'[1]LSOA_0-15'!N$3:N$807)","v":170.01226934401154},{"$f":"SUMIF('[1]LSOA_0-15'!$B$3:$B$807,$A29,'[1]LSOA_0-15'!O$3:O$807)","v":22.596249061432907},{"$f":"SUMIF('[1]LSOA_0-15'!$B$3:$B$807,$A29,'[1]LSOA_0-15'!P$3:P$807)","v":272.28615700698276},{"$f":"SUMIF('[1]LSOA_0-15'!$B$3:$B$807,$A29,'[1]LSOA_0-15'!Q$3:Q$807)","v":154.08551079754653},{"$f":"SUMIF('[1]LSOA_0-15'!$B$3:$B$807,$A29,'[1]LSOA_0-15'!R$3:R$807)","v":365.46180144609639},{"$f":"SUMIF('[1]LSOA_0-15'!$B$3:$B$807,$A29,'[1]LSOA_0-15'!S$3:S$807)","v":128.64090339636752},{"$f":"SUMIF('[1]LSOA_0-15'!$B$3:$B$807,$A29,'[1]LSOA_0-15'!T$3:T$807)","v":16.962379207147062},{"$f":"SUMIF('[1]LSOA_0-15'!$B$3:$B$807,$A29,'[1]LSOA_0-15'!U$3:U$807)","v":176.74160482751267}]
["Harborne",{"$f":"SUMIF('[1]LSOA_0-15'!$B$3:$B$807,$A30,'[1]LSOA_0-15'!C$3:C$807)","v":3980.441852165578},{"$f":"SUMIF('[1]LSOA_0-15'!$B$3:$B$807,$A30,'[1]LSOA_0-15'!D$3:D$807)","v":2012.4977265323423},{"$f":"SUMIF('[1]LSOA_0-15'!$B$3:$B$807,$A30,'[1]LSOA_0-15'!E$3:E$807)","v":44.21296334584342},{"$f":"SUMIF('[1]LSOA_0-15'!$B$3:$B$807,$A30,'[1]LSOA_0-15'!F$3:F$807)","v":1},{"$f":"SUMIF('[1]LSOA_0-15'!$B$3:$B$807,$A30,'[1]LSOA_0-15'!G$3:G$807)","v":130.09899530166973},{"$f":"SUMIF('[1]LSOA_0-15'!$B$3:$B$807,$A30,'[1]LSOA_0-15'!H$3:H$807)","v":234.45222598472827},{"$f":"SUMIF('[1]LSOA_0-15'!$B$3:$B$807,$A30,'[1]LSOA_0-15'!I$3:I$807)","v":36.272439963806278},{"$f":"SUMIF('[1]LSOA_0-15'!$B$3:$B$807,$A30,'[1]LSOA_0-15'!J$3:J$807)","v":215.26384707115159},{"$f":"SUMIF('[1]LSOA_0-15'!$B$3:$B$807,$A30,'[1]LSOA_0-15'!K$3:K$807)","v":74.350621070362209},{"$f":"SUMIF('[1]LSOA_0-15'!$B$3:$B$807,$A30,'[1]LSOA_0-15'!L$3:L$807)","v":312.26695655447548},{"$f":"SUMIF('[1]LSOA_0-15'!$B$3:$B$807,$A30,'[1]LSOA_0-15'!M$3:M$807)","v":154.36099161813269},{"$f":"SUMIF('[1]LSOA_0-15'!$B$3:$B$807,$A30,'[1]LSOA_0-15'!N$3:N$807)","v":33.18315387320223},{"$f":"SUMIF('[1]LSOA_0-15'!$B$3:$B$807,$A30,'[1]LSOA_0-15'!O$3:O$807)","v":53.259381392457541},{"$f":"SUMIF('[1]LSOA_0-15'!$B$3:$B$807,$A30,'[1]LSOA_0-15'!P$3:P$807)","v":143.59779127994702},{"$f":"SUMIF('[1]LSOA_0-15'!$B$3:$B$807,$A30,'[1]LSOA_0-15'!Q$3:Q$807)","v":175.59985529052372},{"$f":"SUMIF('[1]LSOA_0-15'!$B$3:$B$807,$A30,'[1]LSOA_0-15'!R$3:R$807)","v":122.44884391256819},{"$f":"SUMIF('[1]LSOA_0-15'!$B$3:$B$807,$A30,'[1]LSOA_0-15'!S$3:S$807)","v":115.26224539330997},{"$f":"SUMIF('[1]LSOA_0-15'!$B$3:$B$807,$A30,'[1]LSOA_0-15'!T$3:T$807)","v":59.504411657375456},{"$f":"SUMIF('[1]LSOA_0-15'!$B$3:$B$807,$A30,'[1]LSOA_0-15'!U$3:U$807)","v":62.809401923681847}]
["Heartlands",{"$f":"SUMIF('[1]LSOA_0-15'!$B$3:$B$807,$A31,'[1]LSOA_0-15'!C$3:C$807)","v":4163.194911552976},{"$f":"SUMIF('[1]LSOA_0-15'!$B$3:$B$807,$A31,'[1]LSOA_0-15'!D$3:D$807)","v":347.88748090171902},{"$f":"SUMIF('[1]LSOA_0-15'!$B$3:$B$807,$A31,'[1]LSOA_0-15'!E$3:E$807)","v":2.7567805027718837},{"$f":"SUMIF('[1]LSOA_0-15'!$B$3:$B$807,$A31,'[1]LSOA_0-15'!F$3:F$807)","v":2},{"$f":"SUMIF('[1]LSOA_0-15'!$B$3:$B$807,$A31,'[1]LSOA_0-15'!G$3:G$807)","v":55.610572247139814},{"$f":"SUMIF('[1]LSOA_0-15'!$B$3:$B$807,$A31,'[1]LSOA_0-15'!H$3:H$807)","v":86.489932946463682},{"$f":"SUMIF('[1]LSOA_0-15'!$B$3:$B$807,$A31,'[1]LSOA_0-15'!I$3:I$807)","v":14.326693024742303},{"$f":"SUMIF('[1]LSOA_0-15'!$B$3:$B$807,$A31,'[1]LSOA_0-15'!J$3:J$807)","v":107.49678029716591},{"$f":"SUMIF('[1]LSOA_0-15'!$B$3:$B$807,$A31,'[1]LSOA_0-15'!K$3:K$807)","v":89.623682712855796},{"$f":"SUMIF('[1]LSOA_0-15'!$B$3:$B$807,$A31,'[1]LSOA_0-15'!L$3:L$807)","v":71.350993104825278},{"$f":"SUMIF('[1]LSOA_0-15'!$B$3:$B$807,$A31,'[1]LSOA_0-15'!M$3:M$807)","v":2213.3089500807791},{"$f":"SUMIF('[1]LSOA_0-15'!$B$3:$B$807,$A31,'[1]LSOA_0-15'!N$3:N$807)","v":210.55198060905519},{"$f":"SUMIF('[1]LSOA_0-15'!$B$3:$B$807,$A31,'[1]LSOA_0-15'!O$3:O$807)","v":18.50048639045416},{"$f":"SUMIF('[1]LSOA_0-15'!$B$3:$B$807,$A31,'[1]LSOA_0-15'!P$3:P$807)","v":266.82468385558212},{"$f":"SUMIF('[1]LSOA_0-15'!$B$3:$B$807,$A31,'[1]LSOA_0-15'!Q$3:Q$807)","v":262.32542819324641},{"$f":"SUMIF('[1]LSOA_0-15'!$B$3:$B$807,$A31,'[1]LSOA_0-15'!R$3:R$807)","v":57.491886766810339},{"$f":"SUMIF('[1]LSOA_0-15'!$B$3:$B$807,$A31,'[1]LSOA_0-15'!S$3:S$807)","v":196.92973893471833},{"$f":"SUMIF('[1]LSOA_0-15'!$B$3:$B$807,$A31,'[1]LSOA_0-15'!T$3:T$807)","v":97.68273883913713},{"$f":"SUMIF('[1]LSOA_0-15'!$B$3:$B$807,$A31,'[1]LSOA_0-15'!U$3:U$807)","v":62.036102145509425}]
["Highter's Heath",{"$f":"SUMIF('[1]LSOA_0-15'!$B$3:$B$807,$A32,'[1]LSOA_0-15'!C$3:C$807)","v":2311.7913156189243},{"$f":"SUMIF('[1]LSOA_0-15'!$B$3:$B$807,$A32,'[1]LSOA_0-15'!D$3:D$807)","v":1760.0045366169797},{"$f":"SUMIF('[1]LSOA_0-15'!$B$3:$B$807,$A32,'[1]LSOA_0-15'!E$3:E$807)","v":5},{"$f":"SUMIF('[1]LSOA_0-15'!$B$3:$B$807,$A32,'[1]LSOA_0-15'!F$3:F$807)","v":0},{"$f":"SUMIF('[1]LSOA_0-15'!$B$3:$B$807,$A32,'[1]LSOA_0-15'!G$3:G$807)","v":22.242384964355153},{"$f":"SUMIF('[1]LSOA_0-15'!$B$3:$B$807,$A32,'[1]LSOA_0-15'!H$3:H$807)","v":132.52106286454958},{"$f":"SUMIF('[1]LSOA_0-15'!$B$3:$B$807,$A32,'[1]LSOA_0-15'!I$3:I$807)","v":5.8969539857420603},{"$f":"SUMIF('[1]LSOA_0-15'!$B$3:$B$807,$A32,'[1]LSOA_0-15'!J$3:J$807)","v":30.036292935839274},{"$f":"SUMIF('[1]LSOA_0-15'!$B$3:$B$807,$A32,'[1]LSOA_0-15'!K$3:K$807)","v":33.793907971484117},{"$f":"SUMIF('[1]LSOA_0-15'!$B$3:$B$807,$A32,'[1]LSOA_0-15'!L$3:L$807)","v":63.108878807517812},{"$f":"SUMIF('[1]LSOA_0-15'!$B$3:$B$807,$A32,'[1]LSOA_0-15'!M$3:M$807)","v":98.660401814646789},{"$f":"SUMIF('[1]LSOA_0-15'!$B$3:$B$807,$A32,'[1]LSOA_0-15'!N$3:N$807)","v":10.139338950097212},{"$f":"SUMIF('[1]LSOA_0-15'!$B$3:$B$807,$A32,'[1]LSOA_0-15'!O$3:O$807)","v":9.4484769928710293},{"$f":"SUMIF('[1]LSOA_0-15'!$B$3:$B$807,$A32,'[1]LSOA_0-15'!P$3:P$807)","v":48.072585871678548},{"$f":"SUMIF('[1]LSOA_0-15'!$B$3:$B$807,$A32,'[1]LSOA_0-15'!Q$3:Q$807)","v":38.933246921581336},{"$f":"SUMIF('[1]LSOA_0-15'!$B$3:$B$807,$A32,'[1]LSOA_0-15'!R$3:R$807)","v":23.484769928710303},{"$f":"SUMIF('[1]LSOA_0-15'!$B$3:$B$807,$A32,'[1]LSOA_0-15'!S$3:S$807)","v":7.4484769928710302},{"$f":"SUMIF('[1]LSOA_0-15'!$B$3:$B$807,$A32,'[1]LSOA_0-15'!T$3:T$807)","v":10},{"$f":"SUMIF('[1]LSOA_0-15'!$B$3:$B$807,$A32,'[1]LSOA_0-15'!U$3:U$807)","v":13}]
["Holyhead",{"$f":"SUMIF('[1]LSOA_0-15'!$B$3:$B$807,$A33,'[1]LSOA_0-15'!C$3:C$807)","v":2939.5305421036205},{"$f":"SUMIF('[1]LSOA_0-15'!$B$3:$B$807,$A33,'[1]LSOA_0-15'!D$3:D$807)","v":142.26400242493364},{"$f":"SUMIF('[1]LSOA_0-15'!$B$3:$B$807,$A33,'[1]LSOA_0-15'!E$3:E$807)","v":0.33080070134424311},{"$f":"SUMIF('[1]LSOA_0-15'!$B$3:$B$807,$A33,'[1]LSOA_0-15'!F$3:F$807)","v":1.5302153742058977},{"$f":"SUMIF('[1]LSOA_0-15'!$B$3:$B$807,$A33,'[1]LSOA_0-15'!G$3:G$807)","v":188.13567888124672},{"$f":"SUMIF('[1]LSOA_0-15'!$B$3:$B$807,$A33,'[1]LSOA_0-15'!H$3:H$807)","v":141.62376683909594},{"$f":"SUMIF('[1]LSOA_0-15'!$B$3:$B$807,$A33,'[1]LSOA_0-15'!I$3:I$807)","v":22.698882796142829},{"$f":"SUMIF('[1]LSOA_0-15'!$B$3:$B$807,$A33,'[1]LSOA_0-15'!J$3:J$807)","v":48.841354356154994},{"$f":"SUMIF('[1]LSOA_0-15'!$B$3:$B$807,$A33,'[1]LSOA_0-15'!K$3:K$807)","v":87.623326442135181},{"$f":"SUMIF('[1]LSOA_0-15'!$B$3:$B$807,$A33,'[1]LSOA_0-15'!L$3:L$807)","v":550.5317064925996},{"$f":"SUMIF('[1]LSOA_0-15'!$B$3:$B$807,$A33,'[1]LSOA_0-15'!M$3:M$807)","v":448.03387401644176},{"$f":"SUMIF('[1]LSOA_0-15'!$B$3:$B$807,$A33,'[1]LSOA_0-15'!N$3:N$807)","v":370.15763978318813},{"$f":"SUMIF('[1]LSOA_0-15'!$B$3:$B$807,$A33,'[1]LSOA_0-15'!O$3:O$807)","v":34.112678100128711},{"$f":"SUMIF('[1]LSOA_0-15'!$B$3:$B$807,$A33,'[1]LSOA_0-15'!P$3:P$807)","v":152.07571314298701},{"$f":"SUMIF('[1]LSOA_0-15'!$B$3:$B$807,$A33,'[1]LSOA_0-15'!Q$3:Q$807)","v":147.69168055438067},{"$f":"SUMIF('[1]LSOA_0-15'!$B$3:$B$807,$A33,'[1]LSOA_0-15'!R$3:R$807)","v":357.6304840231266},{"$f":"SUMIF('[1]LSOA_0-15'!$B$3:$B$807,$A33,'[1]LSOA_0-15'!S$3:S$807)","v":156.60518718674433},{"$f":"SUMIF('[1]LSOA_0-15'!$B$3:$B$807,$A33,'[1]LSOA_0-15'!T$3:T$807)","v":14.125426428628362},{"$f":"SUMIF('[1]LSOA_0-15'!$B$3:$B$807,$A33,'[1]LSOA_0-15'!U$3:U$807)","v":75.518124560135789}]
["King's Norton North",{"$f":"SUMIF('[1]LSOA_0-15'!$B$3:$B$807,$A34,'[1]LSOA_0-15'!C$3:C$807)","v":2419.8578369329571},{"$f":"SUMIF('[1]LSOA_0-15'!$B$3:$B$807,$A34,'[1]LSOA_0-15'!D$3:D$807)","v":1787.3066358073747},{"$f":"SUMIF('[1]LSOA_0-15'!$B$3:$B$807,$A34,'[1]LSOA_0-15'!E$3:E$807)","v":25.047315001118566},{"$f":"SUMIF('[1]LSOA_0-15'!$B$3:$B$807,$A34,'[1]LSOA_0-15'!F$3:F$807)","v":0.77254641909814326},{"$f":"SUMIF('[1]LSOA_0-15'!$B$3:$B$807,$A34,'[1]LSOA_0-15'!G$3:G$807)","v":50.213200022573808},{"$f":"SUMIF('[1]LSOA_0-15'!$B$3:$B$807,$A34,'[1]LSOA_0-15'!H$3:H$807)","v":160.40267733903852},{"$f":"SUMIF('[1]LSOA_0-15'!$B$3:$B$807,$A34,'[1]LSOA_0-15'!I$3:I$807)","v":19.78315365239499},{"$f":"SUMIF('[1]LSOA_0-15'!$B$3:$B$807,$A34,'[1]LSOA_0-15'!J$3:J$807)","v":36.009004056076058},{"$f":"SUMIF('[1]LSOA_0-15'!$B$3:$B$807,$A34,'[1]LSOA_0-15'!K$3:K$807)","v":47.349508539480638},{"$f":"SUMIF('[1]LSOA_0-15'!$B$3:$B$807,$A34,'[1]LSOA_0-15'!L$3:L$807)","v":28.723666524765601},{"$f":"SUMIF('[1]LSOA_0-15'!$B$3:$B$807,$A34,'[1]LSOA_0-15'!M$3:M$807)","v":19.688256951126917},{"$f":"SUMIF('[1]LSOA_0-15'!$B$3:$B$807,$A34,'[1]LSOA_0-15'!N$3:N$807)","v":18.816607463883372},{"$f":"SUMIF('[1]LSOA_0-15'!$B$3:$B$807,$A34,'[1]LSOA_0-15'!O$3:O$807)","v":7.2287143972514842},{"$f":"SUMIF('[1]LSOA_0-15'!$B$3:$B$807,$A34,'[1]LSOA_0-15'!P$3:P$807)","v":35.396266545602352},{"$f":"SUMIF('[1]LSOA_0-15'!$B$3:$B$807,$A34,'[1]LSOA_0-15'!Q$3:Q$807)","v":52.101939799073669},{"$f":"SUMIF('[1]LSOA_0-15'!$B$3:$B$807,$A34,'[1]LSOA_0-15'!R$3:R$807)","v":55.504137739014546},{"$f":"SUMIF('[1]LSOA_0-15'!$B$3:$B$807,$A34,'[1]LSOA_0-15'!S$3:S$807)","v":39.478416550954094},{"$f":"SUMIF('[1]LSOA_0-15'!$B$3:$B$807,$A34,'[1]LSOA_0-15'!T$3:T$807)","v":19.259517999618225},{"$f":"SUMIF('[1]LSOA_0-15'!$B$3:$B$807,$A34,'[1]LSOA_0-15'!U$3:U$807)","v":16.776272124511426}]
["King's Norton South",{"$f":"SUMIF('[1]LSOA_0-15'!$B$3:$B$807,$A35,'[1]LSOA_0-15'!C$3:C$807)","v":2844.4598643745367},{"$f":"SUMIF('[1]LSOA_0-15'!$B$3:$B$807,$A35,'[1]LSOA_0-15'!D$3:D$807)","v":2019.7104572291898},{"$f":"SUMIF('[1]LSOA_0-15'!$B$3:$B$807,$A35,'[1]LSOA_0-15'!E$3:E$807)","v":13.561249090681413},{"$f":"SUMIF('[1]LSOA_0-15'!$B$3:$B$807,$A35,'[1]LSOA_0-15'!F$3:F$807)","v":0},{"$f":"SUMIF('[1]LSOA_0-15'!$B$3:$B$807,$A35,'[1]LSOA_0-15'!G$3:G$807)","v":19.528700590092029},{"$f":"SUMIF('[1]LSOA_0-15'!$B$3:$B$807,$A35,'[1]LSOA_0-15'!H$3:H$807)","v":256.09490432334189},{"$f":"SUMIF('[1]LSOA_0-15'!$B$3:$B$807,$A35,'[1]LSOA_0-15'!I$3:I$807)","v":31.743810264510444},{"$f":"SUMIF('[1]LSOA_0-15'!$B$3:$B$807,$A35,'[1]LSOA_0-15'!J$3:J$807)","v":53.967320750761282},{"$f":"SUMIF('[1]LSOA_0-15'!$B$3:$B$807,$A35,'[1]LSOA_0-15'!K$3:K$807)","v":68.926240689690133},{"$f":"SUMIF('[1]LSOA_0-15'!$B$3:$B$807,$A35,'[1]LSOA_0-15'!L$3:L$807)","v":19.766587949726876},{"$f":"SUMIF('[1]LSOA_0-15'!$B$3:$B$807,$A35,'[1]LSOA_0-15'!M$3:M$807)","v":31.347090361561843},{"$f":"SUMIF('[1]LSOA_0-15'!$B$3:$B$807,$A35,'[1]LSOA_0-15'!N$3:N$807)","v":10.40024426701147},{"$f":"SUMIF('[1]LSOA_0-15'!$B$3:$B$807,$A35,'[1]LSOA_0-15'!O$3:O$807)","v":9},{"$f":"SUMIF('[1]LSOA_0-15'!$B$3:$B$807,$A35,'[1]LSOA_0-15'!P$3:P$807)","v":43.957968993630011},{"$f":"SUMIF('[1]LSOA_0-15'!$B$3:$B$807,$A35,'[1]LSOA_0-15'!Q$3:Q$807)","v":70.094844048376828},{"$f":"SUMIF('[1]LSOA_0-15'!$B$3:$B$807,$A35,'[1]LSOA_0-15'!R$3:R$807)","v":96.902512059174867},{"$f":"SUMIF('[1]LSOA_0-15'!$B$3:$B$807,$A35,'[1]LSOA_0-15'!S$3:S$807)","v":58.525996422678659},{"$f":"SUMIF('[1]LSOA_0-15'!$B$3:$B$807,$A35,'[1]LSOA_0-15'!T$3:T$807)","v":30.156398765658885},{"$f":"SUMIF('[1]LSOA_0-15'!$B$3:$B$807,$A35,'[1]LSOA_0-15'!U$3:U$807)","v":10.775538568450314}]
["Kingstanding",{"$f":"SUMIF('[1]LSOA_0-15'!$B$3:$B$807,$A36,'[1]LSOA_0-15'!C$3:C$807)","v":5144.3920549366512},{"$f":"SUMIF('[1]LSOA_0-15'!$B$3:$B$807,$A36,'[1]LSOA_0-15'!D$3:D$807)","v":3723.6775483383672},{"$f":"SUMIF('[1]LSOA_0-15'!$B$3:$B$807,$A36,'[1]LSOA_0-15'!E$3:E$807)","v":11.109214467806842},{"$f":"SUMIF('[1]LSOA_0-15'!$B$3:$B$807,$A36,'[1]LSOA_0-15'!F$3:F$807)","v":4},{"$f":"SUMIF('[1]LSOA_0-15'!$B$3:$B$807,$A36,'[1]LSOA_0-15'!G$3:G$807)","v":85.492548033139371},{"$f":"SUMIF('[1]LSOA_0-15'!$B$3:$B$807,$A36,'[1]LSOA_0-15'!H$3:H$807)","v":282.50191309215614},{"$f":"SUMIF('[1]LSOA_0-15'!$B$3:$B$807,$A36,'[1]LSOA_0-15'!I$3:I$807)","v":36.377909247964872},{"$f":"SUMIF('[1]LSOA_0-15'!$B$3:$B$807,$A36,'[1]LSOA_0-15'!J$3:J$807)","v":96.861191818743364},{"$f":"SUMIF('[1]LSOA_0-15'!$B$3:$B$807,$A36,'[1]LSOA_0-15'!K$3:K$807)","v":37.916070179598471},{"$f":"SUMIF('[1]LSOA_0-15'!$B$3:$B$807,$A36,'[1]LSOA_0-15'!L$3:L$807)","v":97.896466790444094},{"$f":"SUMIF('[1]LSOA_0-15'!$B$3:$B$807,$A36,'[1]LSOA_0-15'!M$3:M$807)","v":145.03219912589435},{"$f":"SUMIF('[1]LSOA_0-15'!$B$3:$B$807,$A36,'[1]LSOA_0-15'!N$3:N$807)","v":43.785890982467521},{"$f":"SUMIF('[1]LSOA_0-15'!$B$3:$B$807,$A36,'[1]LSOA_0-15'!O$3:O$807)","v":16.33175760907622},{"$f":"SUMIF('[1]LSOA_0-15'!$B$3:$B$807,$A36,'[1]LSOA_0-15'!P$3:P$807)","v":86.623732991696528},{"$f":"SUMIF('[1]LSOA_0-15'!$B$3:$B$807,$A36,'[1]LSOA_0-15'!Q$3:Q$807)","v":155.74456898077869},{"$f":"SUMIF('[1]LSOA_0-15'!$B$3:$B$807,$A36,'[1]LSOA_0-15'!R$3:R$807)","v":197.78952405591875},{"$f":"SUMIF('[1]LSOA_0-15'!$B$3:$B$807,$A36,'[1]LSOA_0-15'!S$3:S$807)","v":98.037358023270997},{"$f":"SUMIF('[1]LSOA_0-15'!$B$3:$B$807,$A36,'[1]LSOA_0-15'!T$3:T$807)","v":6},{"$f":"SUMIF('[1]LSOA_0-15'!$B$3:$B$807,$A36,'[1]LSOA_0-15'!U$3:U$807)","v":19.214161199328071}]
["Ladywood",{"$f":"SUMIF('[1]LSOA_0-15'!$B$3:$B$807,$A37,'[1]LSOA_0-15'!C$3:C$807)","v":2686.7862236421824},{"$f":"SUMIF('[1]LSOA_0-15'!$B$3:$B$807,$A37,'[1]LSOA_0-15'!D$3:D$807)","v":406.79846302947669},{"$f":"SUMIF('[1]LSOA_0-15'!$B$3:$B$807,$A37,'[1]LSOA_0-15'!E$3:E$807)","v":6.8205552312382434},{"$f":"SUMIF('[1]LSOA_0-15'!$B$3:$B$807,$A37,'[1]LSOA_0-15'!F$3:F$807)","v":0},{"$f":"SUMIF('[1]LSOA_0-15'!$B$3:$B$807,$A37,'[1]LSOA_0-15'!G$3:G$807)","v":98.136758920070278},{"$f":"SUMIF('[1]LSOA_0-15'!$B$3:$B$807,$A37,'[1]LSOA_0-15'!H$3:H$807)","v":258.53751344572123},{"$f":"SUMIF('[1]LSOA_0-15'!$B$3:$B$807,$A37,'[1]LSOA_0-15'!I$3:I$807)","v":55.664777515299711},{"$f":"SUMIF('[1]LSOA_0-15'!$B$3:$B$807,$A37,'[1]LSOA_0-15'!J$3:J$807)","v":81.163087732468199},{"$f":"SUMIF('[1]LSOA_0-15'!$B$3:$B$807,$A37,'[1]LSOA_0-15'!K$3:K$807)","v":114.67518367130803},{"$f":"SUMIF('[1]LSOA_0-15'!$B$3:$B$807,$A37,'[1]LSOA_0-15'!L$3:L$807)","v":160.63330258415942},{"$f":"SUMIF('[1]LSOA_0-15'!$B$3:$B$807,$A37,'[1]LSOA_0-15'!M$3:M$807)","v":132.91387169615487},{"$f":"SUMIF('[1]LSOA_0-15'!$B$3:$B$807,$A37,'[1]LSOA_0-15'!N$3:N$807)","v":37.64625120772633},{"$f":"SUMIF('[1]LSOA_0-15'!$B$3:$B$807,$A37,'[1]LSOA_0-15'!O$3:O$807)","v":89.61900667436764},{"$f":"SUMIF('[1]LSOA_0-15'!$B$3:$B$807,$A37,'[1]LSOA_0-15'!P$3:P$807)","v":137.63399517781204},{"$f":"SUMIF('[1]LSOA_0-15'!$B$3:$B$807,$A37,'[1]LSOA_0-15'!Q$3:Q$807)","v":421.91210292123401},{"$f":"SUMIF('[1]LSOA_0-15'!$B$3:$B$807,$A37,'[1]LSOA_0-15'!R$3:R$807)","v":287.15529495982008},{"$f":"SUMIF('[1]LSOA_0-15'!$B$3:$B$807,$A37,'[1]LSOA_0-15'!S$3:S$807)","v":254.8436921536254},{"$f":"SUMIF('[1]LSOA_0-15'!$B$3:$B$807,$A37,'[1]LSOA_0-15'!T$3:T$807)","v":73.700028717984495},{"$f":"SUMIF('[1]LSOA_0-15'!$B$3:$B$807,$A37,'[1]LSOA_0-15'!U$3:U$807)","v":68.932338003715373}]
["Longbridge & West Heath",{"$f":"SUMIF('[1]LSOA_0-15'!$B$3:$B$807,$A38,'[1]LSOA_0-15'!C$3:C$807)","v":3891.3445963962336},{"$f":"SUMIF('[1]LSOA_0-15'!$B$3:$B$807,$A38,'[1]LSOA_0-15'!D$3:D$807)","v":3171.4105593040676},{"$f":"SUMIF('[1]LSOA_0-15'!$B$3:$B$807,$A38,'[1]LSOA_0-15'!E$3:E$807)","v":17.312040700339651},{"$f":"SUMIF('[1]LSOA_0-15'!$B$3:$B$807,$A38,'[1]LSOA_0-15'!F$3:F$807)","v":1.2274535809018567},{"$f":"SUMIF('[1]LSOA_0-15'!$B$3:$B$807,$A38,'[1]LSOA_0-15'!G$3:G$807)","v":32.632580703993824},{"$f":"SUMIF('[1]LSOA_0-15'!$B$3:$B$807,$A38,'[1]LSOA_0-15'!H$3:H$807)","v":246.18744154585892},{"$f":"SUMIF('[1]LSOA_0-15'!$B$3:$B$807,$A38,'[1]LSOA_0-15'!I$3:I$807)","v":39.145365067086026},{"$f":"SUMIF('[1]LSOA_0-15'!$B$3:$B$807,$A38,'[1]LSOA_0-15'!J$3:J$807)","v":32.679660972395538},{"$f":"SUMIF('[1]LSOA_0-15'!$B$3:$B$807,$A38,'[1]LSOA_0-15'!K$3:K$807)","v":58.140623380103378},{"$f":"SUMIF('[1]LSOA_0-15'!$B$3:$B$807,$A38,'[1]LSOA_0-15'!L$3:L$807)","v":15.690230540665137},{"$f":"SUMIF('[1]LSOA_0-15'!$B$3:$B$807,$A38,'[1]LSOA_0-15'!M$3:M$807)","v":24.928092478713641},{"$f":"SUMIF('[1]LSOA_0-15'!$B$3:$B$807,$A38,'[1]LSOA_0-15'!N$3:N$807)","v":6.3508114856429465},{"$f":"SUMIF('[1]LSOA_0-15'!$B$3:$B$807,$A38,'[1]LSOA_0-15'!O$3:O$807)","v":14.616282584627321},{"$f":"SUMIF('[1]LSOA_0-15'!$B$3:$B$807,$A38,'[1]LSOA_0-15'!P$3:P$807)","v":52.170753526301368},{"$f":"SUMIF('[1]LSOA_0-15'!$B$3:$B$807,$A38,'[1]LSOA_0-15'!Q$3:Q$807)","v":74.451992569487331},{"$f":"SUMIF('[1]LSOA_0-15'!$B$3:$B$807,$A38,'[1]LSOA_0-15'!R$3:R$807)","v":44.291624453401305},{"$f":"SUMIF('[1]LSOA_0-15'!$B$3:$B$807,$A38,'[1]LSOA_0-15'!S$3:S$807)","v":44.394183478584743},{"$f":"SUMIF('[1]LSOA_0-15'!$B$3:$B$807,$A38,'[1]LSOA_0-15'!T$3:T$807)","v":7.7012193486269549},{"$f":"SUMIF('[1]LSOA_0-15'!$B$3:$B$807,$A38,'[1]LSOA_0-15'!U$3:U$807)","v":8.0136806754360279}]
["Lozells",{"$f":"SUMIF('[1]LSOA_0-15'!$B$3:$B$807,$A39,'[1]LSOA_0-15'!C$3:C$807)","v":2880.5413574261252},{"$f":"SUMIF('[1]LSOA_0-15'!$B$3:$B$807,$A39,'[1]LSOA_0-15'!D$3:D$807)","v":57.749441775111634},{"$f":"SUMIF('[1]LSOA_0-15'!$B$3:$B$807,$A39,'[1]LSOA_0-15'!E$3:E$807)","v":0},{"$f":"SUMIF('[1]LSOA_0-15'!$B$3:$B$807,$A39,'[1]LSOA_0-15'!F$3:F$807)","v":0},{"$f":"SUMIF('[1]LSOA_0-15'!$B$3:$B$807,$A39,'[1]LSOA_0-15'!G$3:G$807)","v":19.679382611627716},{"$f":"SUMIF('[1]LSOA_0-15'!$B$3:$B$807,$A39,'[1]LSOA_0-15'!H$3:H$807)","v":60.880778392499877},{"$f":"SUMIF('[1]LSOA_0-15'!$B$3:$B$807,$A39,'[1]LSOA_0-15'!I$3:I$807)","v":10.20017639292381},{"$f":"SUMIF('[1]LSOA_0-15'!$B$3:$B$807,$A39,'[1]LSOA_0-15'!J$3:J$807)","v":31.200640988743256},{"$f":"SUMIF('[1]LSOA_0-15'!$B$3:$B$807,$A39,'[1]LSOA_0-15'!K$3:K$807)","v":36.867949833437905},{"$f":"SUMIF('[1]LSOA_0-15'!$B$3:$B$807,$A39,'[1]LSOA_0-15'!L$3:L$807)","v":136.21810922122219},{"$f":"SUMIF('[1]LSOA_0-15'!$B$3:$B$807,$A39,'[1]LSOA_0-15'!M$3:M$807)","v":911.5656320455081},{"$f":"SUMIF('[1]LSOA_0-15'!$B$3:$B$807,$A39,'[1]LSOA_0-15'!N$3:N$807)","v":971.14637492911538},{"$f":"SUMIF('[1]LSOA_0-15'!$B$3:$B$807,$A39,'[1]LSOA_0-15'!O$3:O$807)","v":18.113984928915819},{"$f":"SUMIF('[1]LSOA_0-15'!$B$3:$B$807,$A39,'[1]LSOA_0-15'!P$3:P$807)","v":112.53716169341253},{"$f":"SUMIF('[1]LSOA_0-15'!$B$3:$B$807,$A39,'[1]LSOA_0-15'!Q$3:Q$807)","v":175.73312725230656},{"$f":"SUMIF('[1]LSOA_0-15'!$B$3:$B$807,$A39,'[1]LSOA_0-15'!R$3:R$807)","v":150.47957114630606},{"$f":"SUMIF('[1]LSOA_0-15'!$B$3:$B$807,$A39,'[1]LSOA_0-15'!S$3:S$807)","v":126.80320197078228},{"$f":"SUMIF('[1]LSOA_0-15'!$B$3:$B$807,$A39,'[1]LSOA_0-15'!T$3:T$807)","v":31.235174965917238},{"$f":"SUMIF('[1]LSOA_0-15'!$B$3:$B$807,$A39,'[1]LSOA_0-15'!U$3:U$807)","v":30.13064927829528}]
["Moseley",{"$f":"SUMIF('[1]LSOA_0-15'!$B$3:$B$807,$A40,'[1]LSOA_0-15'!C$3:C$807)","v":4052.9143141390427},{"$f":"SUMIF('[1]LSOA_0-15'!$B$3:$B$807,$A40,'[1]LSOA_0-15'!D$3:D$807)","v":1054.1281883464892},{"$f":"SUMIF('[1]LSOA_0-15'!$B$3:$B$807,$A40,'[1]LSOA_0-15'!E$3:E$807)","v":22.82761074399798},{"$f":"SUMIF('[1]LSOA_0-15'!$B$3:$B$807,$A40,'[1]LSOA_0-15'!F$3:F$807)","v":1.6792452830188678},{"$f":"SUMIF('[1]LSOA_0-15'!$B$3:$B$807,$A40,'[1]LSOA_0-15'!G$3:G$807)","v":77.330276513213292},{"$f":"SUMIF('[1]LSOA_0-15'!$B$3:$B$807,$A40,'[1]LSOA_0-15'!H$3:H$807)","v":199.90215143198182},{"$f":"SUMIF('[1]LSOA_0-15'!$B$3:$B$807,$A40,'[1]LSOA_0-15'!I$3:I$807)","v":21.745639995338966},{"$f":"SUMIF('[1]LSOA_0-15'!$B$3:$B$807,$A40,'[1]LSOA_0-15'!J$3:J$807)","v":155.93278754366168},{"$f":"SUMIF('[1]LSOA_0-15'!$B$3:$B$807,$A40,'[1]LSOA_0-15'!K$3:K$807)","v":115.27751887978056},{"$f":"SUMIF('[1]LSOA_0-15'!$B$3:$B$807,$A40,'[1]LSOA_0-15'!L$3:L$807)","v":228.75979935623525},{"$f":"SUMIF('[1]LSOA_0-15'!$B$3:$B$807,$A40,'[1]LSOA_0-15'!M$3:M$807)","v":1390.774633583909},{"$f":"SUMIF('[1]LSOA_0-15'!$B$3:$B$807,$A40,'[1]LSOA_0-15'!N$3:N$807)","v":112.89009792124507},{"$f":"SUMIF('[1]LSOA_0-15'!$B$3:$B$807,$A40,'[1]LSOA_0-15'!O$3:O$807)","v":27.17613736337244},{"$f":"SUMIF('[1]LSOA_0-15'!$B$3:$B$807,$A40,'[1]LSOA_0-15'!P$3:P$807)","v":158.38310935693977},{"$f":"SUMIF('[1]LSOA_0-15'!$B$3:$B$807,$A40,'[1]LSOA_0-15'!Q$3:Q$807)","v":87.51772736562225},{"$f":"SUMIF('[1]LSOA_0-15'!$B$3:$B$807,$A40,'[1]LSOA_0-15'!R$3:R$807)","v":78.745187629590276},{"$f":"SUMIF('[1]LSOA_0-15'!$B$3:$B$807,$A40,'[1]LSOA_0-15'!S$3:S$807)","v":75.628162539424721},{"$f":"SUMIF('[1]LSOA_0-15'!$B$3:$B$807,$A40,'[1]LSOA_0-15'!T$3:T$807)","v":164.76045117365271},{"$f":"SUMIF('[1]LSOA_0-15'!$B$3:$B$807,$A40,'[1]LSOA_0-15'!U$3:U$807)","v":79.455589111568713}]
["Nechells",{"$f":"SUMIF('[1]LSOA_0-15'!$B$3:$B$807,$A41,'[1]LSOA_0-15'!C$3:C$807)","v":3193.8587461963725},{"$f":"SUMIF('[1]LSOA_0-15'!$B$3:$B$807,$A41,'[1]LSOA_0-15'!D$3:D$807)","v":369.73338949565522},{"$f":"SUMIF('[1]LSOA_0-15'!$B$3:$B$807,$A41,'[1]LSOA_0-15'!E$3:E$807)","v":1.5723524656426839},{"$f":"SUMIF('[1]LSOA_0-15'!$B$3:$B$807,$A41,'[1]LSOA_0-15'!F$3:F$807)","v":1},{"$f":"SUMIF('[1]LSOA_0-15'!$B$3:$B$807,$A41,'[1]LSOA_0-15'!G$3:G$807)","v":46.433511119927807},{"$f":"SUMIF('[1]LSOA_0-15'!$B$3:$B$807,$A41,'[1]LSOA_0-15'!H$3:H$807)","v":210.44834966930094},{"$f":"SUMIF('[1]LSOA_0-15'!$B$3:$B$807,$A41,'[1]LSOA_0-15'!I$3:I$807)","v":32.664275482105843},{"$f":"SUMIF('[1]LSOA_0-15'!$B$3:$B$807,$A41,'[1]LSOA_0-15'!J$3:J$807)","v":86.202798067877453},{"$f":"SUMIF('[1]LSOA_0-15'!$B$3:$B$807,$A41,'[1]LSOA_0-15'!K$3:K$807)","v":72.992877756445225},{"$f":"SUMIF('[1]LSOA_0-15'!$B$3:$B$807,$A41,'[1]LSOA_0-15'!L$3:L$807)","v":43.150598200737939},{"$f":"SUMIF('[1]LSOA_0-15'!$B$3:$B$807,$A41,'[1]LSOA_0-15'!M$3:M$807)","v":472.31203999100552},{"$f":"SUMIF('[1]LSOA_0-15'!$B$3:$B$807,$A41,'[1]LSOA_0-15'!N$3:N$807)","v":211.50308929451947},{"$f":"SUMIF('[1]LSOA_0-15'!$B$3:$B$807,$A41,'[1]LSOA_0-15'!O$3:O$807)","v":41.312556377109637},{"$f":"SUMIF('[1]LSOA_0-15'!$B$3:$B$807,$A41,'[1]LSOA_0-15'!P$3:P$807)","v":71.208712963575636},{"$f":"SUMIF('[1]LSOA_0-15'!$B$3:$B$807,$A41,'[1]LSOA_0-15'!Q$3:Q$807)","v":665.55416040489604},{"$f":"SUMIF('[1]LSOA_0-15'!$B$3:$B$807,$A41,'[1]LSOA_0-15'!R$3:R$807)","v":270.47015653184576},{"$f":"SUMIF('[1]LSOA_0-15'!$B$3:$B$807,$A41,'[1]LSOA_0-15'!S$3:S$807)","v":456.77740168718555},{"$f":"SUMIF('[1]LSOA_0-15'!$B$3:$B$807,$A41,'[1]LSOA_0-15'!T$3:T$807)","v":48.615003378933331},{"$f":"SUMIF('[1]LSOA_0-15'!$B$3:$B$807,$A41,'[1]LSOA_0-15'!U$3:U$807)","v":91.907473309608548}]
["Newtown",{"$f":"SUMIF('[1]LSOA_0-15'!$B$3:$B$807,$A42,'[1]LSOA_0-15'!C$3:C$807)","v":3359.1844467513283},{"$f":"SUMIF('[1]LSOA_0-15'!$B$3:$B$807,$A42,'[1]LSOA_0-15'!D$3:D$807)","v":229.51740542620286},{"$f":"SUMIF('[1]LSOA_0-15'!$B$3:$B$807,$A42,'[1]LSOA_0-15'!E$3:E$807)","v":4.1611479028697573},{"$f":"SUMIF('[1]LSOA_0-15'!$B$3:$B$807,$A42,'[1]LSOA_0-15'!F$3:F$807)","v":0.12826603325415678},{"$f":"SUMIF('[1]LSOA_0-15'!$B$3:$B$807,$A42,'[1]LSOA_0-15'!G$3:G$807)","v":49.433398128480754},{"$f":"SUMIF('[1]LSOA_0-15'!$B$3:$B$807,$A42,'[1]LSOA_0-15'!H$3:H$807)","v":145.95696482924512},{"$f":"SUMIF('[1]LSOA_0-15'!$B$3:$B$807,$A42,'[1]LSOA_0-15'!I$3:I$807)","v":30.81482320962682},{"$f":"SUMIF('[1]LSOA_0-15'!$B$3:$B$807,$A42,'[1]LSOA_0-15'!J$3:J$807)","v":64.432045793330246},{"$f":"SUMIF('[1]LSOA_0-15'!$B$3:$B$807,$A42,'[1]LSOA_0-15'!K$3:K$807)","v":68.36833795455307},{"$f":"SUMIF('[1]LSOA_0-15'!$B$3:$B$807,$A42,'[1]LSOA_0-15'!L$3:L$807)","v":74.735138717748256},{"$f":"SUMIF('[1]LSOA_0-15'!$B$3:$B$807,$A42,'[1]LSOA_0-15'!M$3:M$807)","v":325.98045897130015},{"$f":"SUMIF('[1]LSOA_0-15'!$B$3:$B$807,$A42,'[1]LSOA_0-15'!N$3:N$807)","v":539.2023035941063},{"$f":"SUMIF('[1]LSOA_0-15'!$B$3:$B$807,$A42,'[1]LSOA_0-15'!O$3:O$807)","v":27.017266610340435},{"$f":"SUMIF('[1]LSOA_0-15'!$B$3:$B$807,$A42,'[1]LSOA_0-15'!P$3:P$807)","v":104.08943589031318},{"$f":"SUMIF('[1]LSOA_0-15'!$B$3:$B$807,$A42,'[1]LSOA_0-15'!Q$3:Q$807)","v":739.96593824411707},{"$f":"SUMIF('[1]LSOA_0-15'!$B$3:$B$807,$A42,'[1]LSOA_0-15'!R$3:R$807)","v":342.22490169649313},{"$f":"SUMIF('[1]LSOA_0-15'!$B$3:$B$807,$A42,'[1]LSOA_0-15'!S$3:S$807)","v":482.80202364057391},{"$f":"SUMIF('[1]LSOA_0-15'!$B$3:$B$807,$A42,'[1]LSOA_0-15'!T$3:T$807)","v":79.390857639016048},{"$f":"SUMIF('[1]LSOA_0-15'!$B$3:$B$807,$A42,'[1]LSOA_0-15'!U$3:U$807)","v":50.96373246975714}]
["North Edgbaston",{"$f":"SUMIF('[1]LSOA_0-15'!$B$3:$B$807,$A43,'[1]LSOA_0-15'!C$3:C$807)","v":4597.0452037001232},{"$f":"SUMIF('[1]LSOA_0-15'!$B$3:$B$807,$A43,'[1]LSOA_0-15'!D$3:D$807)","v":574.65594465630602},{"$f":"SUMIF('[1]LSOA_0-15'!$B$3:$B$807,$A43,'[1]LSOA_0-15'!E$3:E$807)","v":8.5283971392511564},{"$f":"SUMIF('[1]LSOA_0-15'!$B$3:$B$807,$A43,'[1]LSOA_0-15'!F$3:F$807)","v":3.2641985696255795},{"$f":"SUMIF('[1]LSOA_0-15'!$B$3:$B$807,$A43,'[1]LSOA_0-15'!G$3:G$807)","v":218.45760859256475},{"$f":"SUMIF('[1]LSOA_0-15'!$B$3:$B$807,$A43,'[1]LSOA_0-15'!H$3:H$807)","v":195.5665744813906},{"$f":"SUMIF('[1]LSOA_0-15'!$B$3:$B$807,$A43,'[1]LSOA_0-15'!I$3:I$807)","v":40.817498654106842},{"$f":"SUMIF('[1]LSOA_0-15'!$B$3:$B$807,$A43,'[1]LSOA_0-15'!J$3:J$807)","v":134.06464718735711},{"$f":"SUMIF('[1]LSOA_0-15'!$B$3:$B$807,$A43,'[1]LSOA_0-15'!K$3:K$807)","v":132.59366148824256},{"$f":"SUMIF('[1]LSOA_0-15'!$B$3:$B$807,$A43,'[1]LSOA_0-15'!L$3:L$807)","v":512.68924761847836},{"$f":"SUMIF('[1]LSOA_0-15'!$B$3:$B$807,$A43,'[1]LSOA_0-15'!M$3:M$807)","v":1301.7123650678534},{"$f":"SUMIF('[1]LSOA_0-15'!$B$3:$B$807,$A43,'[1]LSOA_0-15'!N$3:N$807)","v":139.59700260170396},{"$f":"SUMIF('[1]LSOA_0-15'!$B$3:$B$807,$A43,'[1]LSOA_0-15'!O$3:O$807)","v":57.779395412701987},{"$f":"SUMIF('[1]LSOA_0-15'!$B$3:$B$807,$A43,'[1]LSOA_0-15'!P$3:P$807)","v":291.36795526085018},{"$f":"SUMIF('[1]LSOA_0-15'!$B$3:$B$807,$A43,'[1]LSOA_0-15'!Q$3:Q$807)","v":300.54810534269069},{"$f":"SUMIF('[1]LSOA_0-15'!$B$3:$B$807,$A43,'[1]LSOA_0-15'!R$3:R$807)","v":224.94020171368021},{"$f":"SUMIF('[1]LSOA_0-15'!$B$3:$B$807,$A43,'[1]LSOA_0-15'!S$3:S$807)","v":254.98099560507166},{"$f":"SUMIF('[1]LSOA_0-15'!$B$3:$B$807,$A43,'[1]LSOA_0-15'!T$3:T$807)","v":96.8932140319707},{"$f":"SUMIF('[1]LSOA_0-15'!$B$3:$B$807,$A43,'[1]LSOA_0-15'!U$3:U$807)","v":108.58819027627732}]
["Northfield",{"$f":"SUMIF('[1]LSOA_0-15'!$B$3:$B$807,$A44,'[1]LSOA_0-15'!C$3:C$807)","v":2087.1980936216787},{"$f":"SUMIF('[1]LSOA_0-15'!$B$3:$B$807,$A44,'[1]LSOA_0-15'!D$3:D$807)","v":1655.3113432047542},{"$f":"SUMIF('[1]LSOA_0-15'!$B$3:$B$807,$A44,'[1]LSOA_0-15'!E$3:E$807)","v":16.077926531110606},{"$f":"SUMIF('[1]LSOA_0-15'!$B$3:$B$807,$A44,'[1]LSOA_0-15'!F$3:F$807)","v":0},{"$f":"SUMIF('[1]LSOA_0-15'!$B$3:$B$807,$A44,'[1]LSOA_0-15'!G$3:G$807)","v":20.419114930623923},{"$f":"SUMIF('[1]LSOA_0-15'!$B$3:$B$807,$A44,'[1]LSOA_0-15'!H$3:H$807)","v":127.40980634091663},{"$f":"SUMIF('[1]LSOA_0-15'!$B$3:$B$807,$A44,'[1]LSOA_0-15'!I$3:I$807)","v":11.328917693552619},{"$f":"SUMIF('[1]LSOA_0-15'!$B$3:$B$807,$A44,'[1]LSOA_0-15'!J$3:J$807)","v":54.305346032945991},{"$f":"SUMIF('[1]LSOA_0-15'!$B$3:$B$807,$A44,'[1]LSOA_0-15'!K$3:K$807)","v":36.955076269304584},{"$f":"SUMIF('[1]LSOA_0-15'!$B$3:$B$807,$A44,'[1]LSOA_0-15'!L$3:L$807)","v":17.521207774856094},{"$f":"SUMIF('[1]LSOA_0-15'!$B$3:$B$807,$A44,'[1]LSOA_0-15'!M$3:M$807)","v":11.888595000060803},{"$f":"SUMIF('[1]LSOA_0-15'!$B$3:$B$807,$A44,'[1]LSOA_0-15'!N$3:N$807)","v":5.4323367834622136},{"$f":"SUMIF('[1]LSOA_0-15'!$B$3:$B$807,$A44,'[1]LSOA_0-15'!O$3:O$807)","v":13.103697226453521},{"$f":"SUMIF('[1]LSOA_0-15'!$B$3:$B$807,$A44,'[1]LSOA_0-15'!P$3:P$807)","v":37.621867560344178},{"$f":"SUMIF('[1]LSOA_0-15'!$B$3:$B$807,$A44,'[1]LSOA_0-15'!Q$3:Q$807)","v":26.016912736147287},{"$f":"SUMIF('[1]LSOA_0-15'!$B$3:$B$807,$A44,'[1]LSOA_0-15'!R$3:R$807)","v":13.612531262252432},{"$f":"SUMIF('[1]LSOA_0-15'!$B$3:$B$807,$A44,'[1]LSOA_0-15'!S$3:S$807)","v":24.350265785071358},{"$f":"SUMIF('[1]LSOA_0-15'!$B$3:$B$807,$A44,'[1]LSOA_0-15'!T$3:T$807)","v":8.4948751338458433},{"$f":"SUMIF('[1]LSOA_0-15'!$B$3:$B$807,$A44,'[1]LSOA_0-15'!U$3:U$807)","v":7.3482733559760645}]
["Oscott",{"$f":"SUMIF('[1]LSOA_0-15'!$B$3:$B$807,$A45,'[1]LSOA_0-15'!C$3:C$807)","v":4195.0987631951994},{"$f":"SUMIF('[1]LSOA_0-15'!$B$3:$B$807,$A45,'[1]LSOA_0-15'!D$3:D$807)","v":3018.0824556054508},{"$f":"SUMIF('[1]LSOA_0-15'!$B$3:$B$807,$A45,'[1]LSOA_0-15'!E$3:E$807)","v":25.109180399809901},{"$f":"SUMIF('[1]LSOA_0-15'!$B$3:$B$807,$A45,'[1]LSOA_0-15'!F$3:F$807)","v":2},{"$f":"SUMIF('[1]LSOA_0-15'!$B$3:$B$807,$A45,'[1]LSOA_0-15'!G$3:G$807)","v":60.665641189934192},{"$f":"SUMIF('[1]LSOA_0-15'!$B$3:$B$807,$A45,'[1]LSOA_0-15'!H$3:H$807)","v":211.33239624430288},{"$f":"SUMIF('[1]LSOA_0-15'!$B$3:$B$807,$A45,'[1]LSOA_0-15'!I$3:I$807)","v":12.314844594010843},{"$f":"SUMIF('[1]LSOA_0-15'!$B$3:$B$807,$A45,'[1]LSOA_0-15'!J$3:J$807)","v":72.84340815618782},{"$f":"SUMIF('[1]LSOA_0-15'!$B$3:$B$807,$A45,'[1]LSOA_0-15'!K$3:K$807)","v":53.061265890128901},{"$f":"SUMIF('[1]LSOA_0-15'!$B$3:$B$807,$A45,'[1]LSOA_0-15'!L$3:L$807)","v":187.21727088583143},{"$f":"SUMIF('[1]LSOA_0-15'!$B$3:$B$807,$A45,'[1]LSOA_0-15'!M$3:M$807)","v":51.527139521006369},{"$f":"SUMIF('[1]LSOA_0-15'!$B$3:$B$807,$A45,'[1]LSOA_0-15'!N$3:N$807)","v":66.427605554905725},{"$f":"SUMIF('[1]LSOA_0-15'!$B$3:$B$807,$A45,'[1]LSOA_0-15'!O$3:O$807)","v":17.441062189509598},{"$f":"SUMIF('[1]LSOA_0-15'!$B$3:$B$807,$A45,'[1]LSOA_0-15'!P$3:P$807)","v":63.285473027749298},{"$f":"SUMIF('[1]LSOA_0-15'!$B$3:$B$807,$A45,'[1]LSOA_0-15'!Q$3:Q$807)","v":49.027334840038201},{"$f":"SUMIF('[1]LSOA_0-15'!$B$3:$B$807,$A45,'[1]LSOA_0-15'!R$3:R$807)","v":202.289655071038},{"$f":"SUMIF('[1]LSOA_0-15'!$B$3:$B$807,$A45,'[1]LSOA_0-15'!S$3:S$807)","v":90.871924007120398},{"$f":"SUMIF('[1]LSOA_0-15'!$B$3:$B$807,$A45,'[1]LSOA_0-15'!T$3:T$807)","v":1.9268802228412256},{"$f":"SUMIF('[1]LSOA_0-15'!$B$3:$B$807,$A45,'[1]LSOA_0-15'!U$3:U$807)","v":9.675225795333235}]
["Perry Barr",{"$f":"SUMIF('[1]LSOA_0-15'!$B$3:$B$807,$A46,'[1]LSOA_0-15'!C$3:C$807)","v":4234.3745664835351},{"$f":"SUMIF('[1]LSOA_0-15'!$B$3:$B$807,$A46,'[1]LSOA_0-15'!D$3:D$807)","v":1542.4579447741312},{"$f":"SUMIF('[1]LSOA_0-15'!$B$3:$B$807,$A46,'[1]LSOA_0-15'!E$3:E$807)","v":20.650194875973007},{"$f":"SUMIF('[1]LSOA_0-15'!$B$3:$B$807,$A46,'[1]LSOA_0-15'!F$3:F$807)","v":0},{"$f":"SUMIF('[1]LSOA_0-15'!$B$3:$B$807,$A46,'[1]LSOA_0-15'!G$3:G$807)","v":114.31616975128541},{"$f":"SUMIF('[1]LSOA_0-15'!$B$3:$B$807,$A46,'[1]LSOA_0-15'!H$3:H$807)","v":240.27466502251534},{"$f":"SUMIF('[1]LSOA_0-15'!$B$3:$B$807,$A46,'[1]LSOA_0-15'!I$3:I$807)","v":27.650194875973003},{"$f":"SUMIF('[1]LSOA_0-15'!$B$3:$B$807,$A46,'[1]LSOA_0-15'!J$3:J$807)","v":88.901169255838028},{"$f":"SUMIF('[1]LSOA_0-15'!$B$3:$B$807,$A46,'[1]LSOA_0-15'!K$3:K$807)","v":68.365612648221344},{"$f":"SUMIF('[1]LSOA_0-15'!$B$3:$B$807,$A46,'[1]LSOA_0-15'!L$3:L$807)","v":593.49203155449368},{"$f":"SUMIF('[1]LSOA_0-15'!$B$3:$B$807,$A46,'[1]LSOA_0-15'!M$3:M$807)","v":444.1778408402788},{"$f":"SUMIF('[1]LSOA_0-15'!$B$3:$B$807,$A46,'[1]LSOA_0-15'!N$3:N$807)","v":279.7865034626268},{"$f":"SUMIF('[1]LSOA_0-15'!$B$3:$B$807,$A46,'[1]LSOA_0-15'!O$3:O$807)","v":24.438718662952645},{"$f":"SUMIF('[1]LSOA_0-15'!$B$3:$B$807,$A46,'[1]LSOA_0-15'!P$3:P$807)","v":137.03951192927215},{"$f":"SUMIF('[1]LSOA_0-15'!$B$3:$B$807,$A46,'[1]LSOA_0-15'!Q$3:Q$807)","v":94.519762845849797},{"$f":"SUMIF('[1]LSOA_0-15'!$B$3:$B$807,$A46,'[1]LSOA_0-15'!R$3:R$807)","v":380.39517984740218},{"$f":"SUMIF('[1]LSOA_0-15'!$B$3:$B$807,$A46,'[1]LSOA_0-15'!S$3:S$807)","v":124.25097437986503},{"$f":"SUMIF('[1]LSOA_0-15'!$B$3:$B$807,$A46,'[1]LSOA_0-15'!T$3:T$807)","v":11.073119777158775},{"$f":"SUMIF('[1]LSOA_0-15'!$B$3:$B$807,$A46,'[1]LSOA_0-15'!U$3:U$807)","v":42.58497197969767}]
["Perry Common",{"$f":"SUMIF('[1]LSOA_0-15'!$B$3:$B$807,$A47,'[1]LSOA_0-15'!C$3:C$807)","v":2347.4359488048735},{"$f":"SUMIF('[1]LSOA_0-15'!$B$3:$B$807,$A47,'[1]LSOA_0-15'!D$3:D$807)","v":1357.6327390591709},{"$f":"SUMIF('[1]LSOA_0-15'!$B$3:$B$807,$A47,'[1]LSOA_0-15'!E$3:E$807)","v":17.008837440876277},{"$f":"SUMIF('[1]LSOA_0-15'!$B$3:$B$807,$A47,'[1]LSOA_0-15'!F$3:F$807)","v":0},{"$f":"SUMIF('[1]LSOA_0-15'!$B$3:$B$807,$A47,'[1]LSOA_0-15'!G$3:G$807)","v":52.187179053984792},{"$f":"SUMIF('[1]LSOA_0-15'!$B$3:$B$807,$A47,'[1]LSOA_0-15'!H$3:H$807)","v":169.58235656366577},{"$f":"SUMIF('[1]LSOA_0-15'!$B$3:$B$807,$A47,'[1]LSOA_0-15'!I$3:I$807)","v":12.46942872399655},{"$f":"SUMIF('[1]LSOA_0-15'!$B$3:$B$807,$A47,'[1]LSOA_0-15'!J$3:J$807)","v":52.772940754720118},{"$f":"SUMIF('[1]LSOA_0-15'!$B$3:$B$807,$A47,'[1]LSOA_0-15'!K$3:K$807)","v":34.186282606804966},{"$f":"SUMIF('[1]LSOA_0-15'!$B$3:$B$807,$A47,'[1]LSOA_0-15'!L$3:L$807)","v":83.314493636054578},{"$f":"SUMIF('[1]LSOA_0-15'!$B$3:$B$807,$A47,'[1]LSOA_0-15'!M$3:M$807)","v":123.41511303904535},{"$f":"SUMIF('[1]LSOA_0-15'!$B$3:$B$807,$A47,'[1]LSOA_0-15'!N$3:N$807)","v":64.086307440939478},{"$f":"SUMIF('[1]LSOA_0-15'!$B$3:$B$807,$A47,'[1]LSOA_0-15'!O$3:O$807)","v":16.428335380111058},{"$f":"SUMIF('[1]LSOA_0-15'!$B$3:$B$807,$A47,'[1]LSOA_0-15'!P$3:P$807)","v":43.401642494630266},{"$f":"SUMIF('[1]LSOA_0-15'!$B$3:$B$807,$A47,'[1]LSOA_0-15'!Q$3:Q$807)","v":85.197951238011015},{"$f":"SUMIF('[1]LSOA_0-15'!$B$3:$B$807,$A47,'[1]LSOA_0-15'!R$3:R$807)","v":145.053505194195},{"$f":"SUMIF('[1]LSOA_0-15'!$B$3:$B$807,$A47,'[1]LSOA_0-15'!S$3:S$807)","v":74.04970555619262},{"$f":"SUMIF('[1]LSOA_0-15'!$B$3:$B$807,$A47,'[1]LSOA_0-15'!T$3:T$807)","v":5.5836489593835017},{"$f":"SUMIF('[1]LSOA_0-15'!$B$3:$B$807,$A47,'[1]LSOA_0-15'!U$3:U$807)","v":11.065481663091225}]
["Pype Hayes",{"$f":"SUMIF('[1]LSOA_0-15'!$B$3:$B$807,$A48,'[1]LSOA_0-15'!C$3:C$807)","v":2308.649703557312},{"$f":"SUMIF('[1]LSOA_0-15'!$B$3:$B$807,$A48,'[1]LSOA_0-15'!D$3:D$807)","v":1433.6149950592885},{"$f":"SUMIF('[1]LSOA_0-15'!$B$3:$B$807,$A48,'[1]LSOA_0-15'!E$3:E$807)","v":17.233942687747035},{"$f":"SUMIF('[1]LSOA_0-15'!$B$3:$B$807,$A48,'[1]LSOA_0-15'!F$3:F$807)","v":0},{"$f":"SUMIF('[1]LSOA_0-15'!$B$3:$B$807,$A48,'[1]LSOA_0-15'!G$3:G$807)","v":57.441329051383399},{"$f":"SUMIF('[1]LSOA_0-15'!$B$3:$B$807,$A48,'[1]LSOA_0-15'!H$3:H$807)","v":176.29866600790513},{"$f":"SUMIF('[1]LSOA_0-15'!$B$3:$B$807,$A48,'[1]LSOA_0-15'!I$3:I$807)","v":20.290760869565219},{"$f":"SUMIF('[1]LSOA_0-15'!$B$3:$B$807,$A48,'[1]LSOA_0-15'!J$3:J$807)","v":48.46788537549407},{"$f":"SUMIF('[1]LSOA_0-15'!$B$3:$B$807,$A48,'[1]LSOA_0-15'!K$3:K$807)","v":35.380558300395258},{"$f":"SUMIF('[1]LSOA_0-15'!$B$3:$B$807,$A48,'[1]LSOA_0-15'!L$3:L$807)","v":66.557682806324109},{"$f":"SUMIF('[1]LSOA_0-15'!$B$3:$B$807,$A48,'[1]LSOA_0-15'!M$3:M$807)","v":139.18502964426878},{"$f":"SUMIF('[1]LSOA_0-15'!$B$3:$B$807,$A48,'[1]LSOA_0-15'!N$3:N$807)","v":16},{"$f":"SUMIF('[1]LSOA_0-15'!$B$3:$B$807,$A48,'[1]LSOA_0-15'!O$3:O$807)","v":42.475543478260867},{"$f":"SUMIF('[1]LSOA_0-15'!$B$3:$B$807,$A48,'[1]LSOA_0-15'!P$3:P$807)","v":40.414772727272727},{"$f":"SUMIF('[1]LSOA_0-15'!$B$3:$B$807,$A48,'[1]LSOA_0-15'!Q$3:Q$807)","v":43.99876482213439},{"$f":"SUMIF('[1]LSOA_0-15'!$B$3:$B$807,$A48,'[1]LSOA_0-15'!R$3:R$807)","v":101.67403656126481},{"$f":"SUMIF('[1]LSOA_0-15'!$B$3:$B$807,$A48,'[1]LSOA_0-15'!S$3:S$807)","v":53.615736166007906},{"$f":"SUMIF('[1]LSOA_0-15'!$B$3:$B$807,$A48,'[1]LSOA_0-15'!T$3:T$807)","v":13},{"$f":"SUMIF('[1]LSOA_0-15'!$B$3:$B$807,$A48,'[1]LSOA_0-15'!U$3:U$807)","v":3}]
["Quinton",{"$f":"SUMIF('[1]LSOA_0-15'!$B$3:$B$807,$A49,'[1]LSOA_0-15'!C$3:C$807)","v":4200},{"$f":"SUMIF('[1]LSOA_0-15'!$B$3:$B$807,$A49,'[1]LSOA_0-15'!D$3:D$807)","v":2312},{"$f":"SUMIF('[1]LSOA_0-15'!$B$3:$B$807,$A49,'[1]LSOA_0-15'!E$3:E$807)","v":26},{"$f":"SUMIF('[1]LSOA_0-15'!$B$3:$B$807,$A49,'[1]LSOA_0-15'!F$3:F$807)","v":6},{"$f":"SUMIF('[1]LSOA_0-15'!$B$3:$B$807,$A49,'[1]LSOA_0-15'!G$3:G$807)","v":71},{"$f":"SUMIF('[1]LSOA_0-15'!$B$3:$B$807,$A49,'[1]LSOA_0-15'!H$3:H$807)","v":274},{"$f":"SUMIF('[1]LSOA_0-15'!$B$3:$B$807,$A49,'[1]LSOA_0-15'!I$3:I$807)","v":33},{"$f":"SUMIF('[1]LSOA_0-15'!$B$3:$B$807,$A49,'[1]LSOA_0-15'!J$3:J$807)","v":156},{"$f":"SUMIF('[1]LSOA_0-15'!$B$3:$B$807,$A49,'[1]LSOA_0-15'!K$3:K$807)","v":84},{"$f":"SUMIF('[1]LSOA_0-15'!$B$3:$B$807,$A49,'[1]LSOA_0-15'!L$3:L$807)","v":370},{"$f":"SUMIF('[1]LSOA_0-15'!$B$3:$B$807,$A49,'[1]LSOA_0-15'!M$3:M$807)","v":126},{"$f":"SUMIF('[1]LSOA_0-15'!$B$3:$B$807,$A49,'[1]LSOA_0-15'!N$3:N$807)","v":26},{"$f":"SUMIF('[1]LSOA_0-15'!$B$3:$B$807,$A49,'[1]LSOA_0-15'!O$3:O$807)","v":45},{"$f":"SUMIF('[1]LSOA_0-15'!$B$3:$B$807,$A49,'[1]LSOA_0-15'!P$3:P$807)","v":141},{"$f":"SUMIF('[1]LSOA_0-15'!$B$3:$B$807,$A49,'[1]LSOA_0-15'!Q$3:Q$807)","v":153},{"$f":"SUMIF('[1]LSOA_0-15'!$B$3:$B$807,$A49,'[1]LSOA_0-15'!R$3:R$807)","v":183},{"$f":"SUMIF('[1]LSOA_0-15'!$B$3:$B$807,$A49,'[1]LSOA_0-15'!S$3:S$807)","v":88},{"$f":"SUMIF('[1]LSOA_0-15'!$B$3:$B$807,$A49,'[1]LSOA_0-15'!T$3:T$807)","v":40},{"$f":"SUMIF('[1]LSOA_0-15'!$B$3:$B$807,$A49,'[1]LSOA_0-15'!U$3:U$807)","v":66}]
["Rubery & Rednal",{"$f":"SUMIF('[1]LSOA_0-15'!$B$3:$B$807,$A50,'[1]LSOA_0-15'!C$3:C$807)","v":2228.1986104308012},{"$f":"SUMIF('[1]LSOA_0-15'!$B$3:$B$807,$A50,'[1]LSOA_0-15'!D$3:D$807)","v":1890.5916280334627},{"$f":"SUMIF('[1]LSOA_0-15'!$B$3:$B$807,$A50,'[1]LSOA_0-15'!E$3:E$807)","v":5.436992201140729},{"$f":"SUMIF('[1]LSOA_0-15'!$B$3:$B$807,$A50,'[1]LSOA_0-15'!F$3:F$807)","v":1},{"$f":"SUMIF('[1]LSOA_0-15'!$B$3:$B$807,$A50,'[1]LSOA_0-15'!G$3:G$807)","v":15.723193742789469},{"$f":"SUMIF('[1]LSOA_0-15'!$B$3:$B$807,$A50,'[1]LSOA_0-15'!H$3:H$807)","v":128.5424463688673},{"$f":"SUMIF('[1]LSOA_0-15'!$B$3:$B$807,$A50,'[1]LSOA_0-15'!I$3:I$807)","v":5.953161096231141},{"$f":"SUMIF('[1]LSOA_0-15'!$B$3:$B$807,$A50,'[1]LSOA_0-15'!J$3:J$807)","v":36.369400680272406},{"$f":"SUMIF('[1]LSOA_0-15'!$B$3:$B$807,$A50,'[1]LSOA_0-15'!K$3:K$807)","v":23.413491710950623},{"$f":"SUMIF('[1]LSOA_0-15'!$B$3:$B$807,$A50,'[1]LSOA_0-15'!L$3:L$807)","v":4.5139790064472587},{"$f":"SUMIF('[1]LSOA_0-15'!$B$3:$B$807,$A50,'[1]LSOA_0-15'!M$3:M$807)","v":11.199936367516393},{"$f":"SUMIF('[1]LSOA_0-15'!$B$3:$B$807,$A50,'[1]LSOA_0-15'!N$3:N$807)","v":1.6418663303909204},{"$f":"SUMIF('[1]LSOA_0-15'!$B$3:$B$807,$A50,'[1]LSOA_0-15'!O$3:O$807)","v":2.1834074418965583},{"$f":"SUMIF('[1]LSOA_0-15'!$B$3:$B$807,$A50,'[1]LSOA_0-15'!P$3:P$807)","v":8.8418026979073137},{"$f":"SUMIF('[1]LSOA_0-15'!$B$3:$B$807,$A50,'[1]LSOA_0-15'!Q$3:Q$807)","v":27.474345498473454},{"$f":"SUMIF('[1]LSOA_0-15'!$B$3:$B$807,$A50,'[1]LSOA_0-15'!R$3:R$807)","v":25.892820132156835},{"$f":"SUMIF('[1]LSOA_0-15'!$B$3:$B$807,$A50,'[1]LSOA_0-15'!S$3:S$807)","v":29.690135891549801},{"$f":"SUMIF('[1]LSOA_0-15'!$B$3:$B$807,$A50,'[1]LSOA_0-15'!T$3:T$807)","v":0.98347107438016523},{"$f":"SUMIF('[1]LSOA_0-15'!$B$3:$B$807,$A50,'[1]LSOA_0-15'!U$3:U$807)","v":8.7465321563682217}]
["Shard End",{"$f":"SUMIF('[1]LSOA_0-15'!$B$3:$B$807,$A51,'[1]LSOA_0-15'!C$3:C$807)","v":2653.5828345567479},{"$f":"SUMIF('[1]LSOA_0-15'!$B$3:$B$807,$A51,'[1]LSOA_0-15'!D$3:D$807)","v":1940.4820301199693},{"$f":"SUMIF('[1]LSOA_0-15'!$B$3:$B$807,$A51,'[1]LSOA_0-15'!E$3:E$807)","v":9},{"$f":"SUMIF('[1]LSOA_0-15'!$B$3:$B$807,$A51,'[1]LSOA_0-15'!F$3:F$807)","v":0},{"$f":"SUMIF('[1]LSOA_0-15'!$B$3:$B$807,$A51,'[1]LSOA_0-15'!G$3:G$807)","v":27.548447204968944},{"$f":"SUMIF('[1]LSOA_0-15'!$B$3:$B$807,$A51,'[1]LSOA_0-15'!H$3:H$807)","v":277.61661703394878},{"$f":"SUMIF('[1]LSOA_0-15'!$B$3:$B$807,$A51,'[1]LSOA_0-15'!I$3:I$807)","v":12.024464160021038},{"$f":"SUMIF('[1]LSOA_0-15'!$B$3:$B$807,$A51,'[1]LSOA_0-15'!J$3:J$807)","v":52.583697779290397},{"$f":"SUMIF('[1]LSOA_0-15'!$B$3:$B$807,$A51,'[1]LSOA_0-15'!K$3:K$807)","v":49.196741257551267},{"$f":"SUMIF('[1]LSOA_0-15'!$B$3:$B$807,$A51,'[1]LSOA_0-15'!L$3:L$807)","v":9.5566222937277132},{"$f":"SUMIF('[1]LSOA_0-15'!$B$3:$B$807,$A51,'[1]LSOA_0-15'!M$3:M$807)","v":95.81239606135378},{"$f":"SUMIF('[1]LSOA_0-15'!$B$3:$B$807,$A51,'[1]LSOA_0-15'!N$3:N$807)","v":8.5484472049689444},{"$f":"SUMIF('[1]LSOA_0-15'!$B$3:$B$807,$A51,'[1]LSOA_0-15'!O$3:O$807)","v":7.8978829389788299},{"$f":"SUMIF('[1]LSOA_0-15'!$B$3:$B$807,$A51,'[1]LSOA_0-15'!P$3:P$807)","v":9.3468244084682439},{"$f":"SUMIF('[1]LSOA_0-15'!$B$3:$B$807,$A51,'[1]LSOA_0-15'!Q$3:Q$807)","v":36.790543226874377},{"$f":"SUMIF('[1]LSOA_0-15'!$B$3:$B$807,$A51,'[1]LSOA_0-15'!R$3:R$807)","v":63.320370040917986},{"$f":"SUMIF('[1]LSOA_0-15'!$B$3:$B$807,$A51,'[1]LSOA_0-15'!S$3:S$807)","v":29.02968681110432},{"$f":"SUMIF('[1]LSOA_0-15'!$B$3:$B$807,$A51,'[1]LSOA_0-15'!T$3:T$807)","v":16},{"$f":"SUMIF('[1]LSOA_0-15'!$B$3:$B$807,$A51,'[1]LSOA_0-15'!U$3:U$807)","v":8.8280640146036227}]
["Sheldon",{"$f":"SUMIF('[1]LSOA_0-15'!$B$3:$B$807,$A52,'[1]LSOA_0-15'!C$3:C$807)","v":3689.6700951594189},{"$f":"SUMIF('[1]LSOA_0-15'!$B$3:$B$807,$A52,'[1]LSOA_0-15'!D$3:D$807)","v":2682.1240399782632},{"$f":"SUMIF('[1]LSOA_0-15'!$B$3:$B$807,$A52,'[1]LSOA_0-15'!E$3:E$807)","v":28.080449984073848},{"$f":"SUMIF('[1]LSOA_0-15'!$B$3:$B$807,$A52,'[1]LSOA_0-15'!F$3:F$807)","v":0.44391570360299115},{"$f":"SUMIF('[1]LSOA_0-15'!$B$3:$B$807,$A52,'[1]LSOA_0-15'!G$3:G$807)","v":44.600017147362962},{"$f":"SUMIF('[1]LSOA_0-15'!$B$3:$B$807,$A52,'[1]LSOA_0-15'!H$3:H$807)","v":136.89064001631249},{"$f":"SUMIF('[1]LSOA_0-15'!$B$3:$B$807,$A52,'[1]LSOA_0-15'!I$3:I$807)","v":9.0581133756543046},{"$f":"SUMIF('[1]LSOA_0-15'!$B$3:$B$807,$A52,'[1]LSOA_0-15'!J$3:J$807)","v":68.860898130385024},{"$f":"SUMIF('[1]LSOA_0-15'!$B$3:$B$807,$A52,'[1]LSOA_0-15'!K$3:K$807)","v":43.922499567023237},{"$f":"SUMIF('[1]LSOA_0-15'!$B$3:$B$807,$A52,'[1]LSOA_0-15'!L$3:L$807)","v":75.59463930585305},{"$f":"SUMIF('[1]LSOA_0-15'!$B$3:$B$807,$A52,'[1]LSOA_0-15'!M$3:M$807)","v":231.41473292874886},{"$f":"SUMIF('[1]LSOA_0-15'!$B$3:$B$807,$A52,'[1]LSOA_0-15'!N$3:N$807)","v":109.91689745744698},{"$f":"SUMIF('[1]LSOA_0-15'!$B$3:$B$807,$A52,'[1]LSOA_0-15'!O$3:O$807)","v":23.671570681832492},{"$f":"SUMIF('[1]LSOA_0-15'!$B$3:$B$807,$A52,'[1]LSOA_0-15'!P$3:P$807)","v":56.40323733585047},{"$f":"SUMIF('[1]LSOA_0-15'!$B$3:$B$807,$A52,'[1]LSOA_0-15'!Q$3:Q$807)","v":71.93735809857742},{"$f":"SUMIF('[1]LSOA_0-15'!$B$3:$B$807,$A52,'[1]LSOA_0-15'!R$3:R$807)","v":44.877630458048948},{"$f":"SUMIF('[1]LSOA_0-15'!$B$3:$B$807,$A52,'[1]LSOA_0-15'!S$3:S$807)","v":19.384311245964916},{"$f":"SUMIF('[1]LSOA_0-15'!$B$3:$B$807,$A52,'[1]LSOA_0-15'!T$3:T$807)","v":27.417285277831645},{"$f":"SUMIF('[1]LSOA_0-15'!$B$3:$B$807,$A52,'[1]LSOA_0-15'!U$3:U$807)","v":15.071858466585878}]
["Small Heath",{"$f":"SUMIF('[1]LSOA_0-15'!$B$3:$B$807,$A53,'[1]LSOA_0-15'!C$3:C$807)","v":6777.2621934760482},{"$f":"SUMIF('[1]LSOA_0-15'!$B$3:$B$807,$A53,'[1]LSOA_0-15'!D$3:D$807)","v":190.88353312019427},{"$f":"SUMIF('[1]LSOA_0-15'!$B$3:$B$807,$A53,'[1]LSOA_0-15'!E$3:E$807)","v":3.7533041563265637},{"$f":"SUMIF('[1]LSOA_0-15'!$B$3:$B$807,$A53,'[1]LSOA_0-15'!F$3:F$807)","v":0},{"$f":"SUMIF('[1]LSOA_0-15'!$B$3:$B$807,$A53,'[1]LSOA_0-15'!G$3:G$807)","v":63.190717029875124},{"$f":"SUMIF('[1]LSOA_0-15'!$B$3:$B$807,$A53,'[1]LSOA_0-15'!H$3:H$807)","v":74.029012163703243},{"$f":"SUMIF('[1]LSOA_0-15'!$B$3:$B$807,$A53,'[1]LSOA_0-15'!I$3:I$807)","v":35.873390852584279},{"$f":"SUMIF('[1]LSOA_0-15'!$B$3:$B$807,$A53,'[1]LSOA_0-15'!J$3:J$807)","v":91.358010006494339},{"$f":"SUMIF('[1]LSOA_0-15'!$B$3:$B$807,$A53,'[1]LSOA_0-15'!K$3:K$807)","v":88.308080771326871},{"$f":"SUMIF('[1]LSOA_0-15'!$B$3:$B$807,$A53,'[1]LSOA_0-15'!L$3:L$807)","v":86.205507958025152},{"$f":"SUMIF('[1]LSOA_0-15'!$B$3:$B$807,$A53,'[1]LSOA_0-15'!M$3:M$807)","v":3396.3268011214336},{"$f":"SUMIF('[1]LSOA_0-15'!$B$3:$B$807,$A53,'[1]LSOA_0-15'!N$3:N$807)","v":1106.7176978516527},{"$f":"SUMIF('[1]LSOA_0-15'!$B$3:$B$807,$A53,'[1]LSOA_0-15'!O$3:O$807)","v":14.660828705681332},{"$f":"SUMIF('[1]LSOA_0-15'!$B$3:$B$807,$A53,'[1]LSOA_0-15'!P$3:P$807)","v":320.47716467873357},{"$f":"SUMIF('[1]LSOA_0-15'!$B$3:$B$807,$A53,'[1]LSOA_0-15'!Q$3:Q$807)","v":480.48883236577888},{"$f":"SUMIF('[1]LSOA_0-15'!$B$3:$B$807,$A53,'[1]LSOA_0-15'!R$3:R$807)","v":53.587477733950109},{"$f":"SUMIF('[1]LSOA_0-15'!$B$3:$B$807,$A53,'[1]LSOA_0-15'!S$3:S$807)","v":304.72074125975723},{"$f":"SUMIF('[1]LSOA_0-15'!$B$3:$B$807,$A53,'[1]LSOA_0-15'!T$3:T$807)","v":308.63392769173822},{"$f":"SUMIF('[1]LSOA_0-15'!$B$3:$B$807,$A53,'[1]LSOA_0-15'!U$3:U$807)","v":158.04716600879235}]
["Soho & Jewellery Quarter",{"$f":"SUMIF('[1]LSOA_0-15'!$B$3:$B$807,$A54,'[1]LSOA_0-15'!C$3:C$807)","v":4809.6288733833435},{"$f":"SUMIF('[1]LSOA_0-15'!$B$3:$B$807,$A54,'[1]LSOA_0-15'!D$3:D$807)","v":311.9155006879223},{"$f":"SUMIF('[1]LSOA_0-15'!$B$3:$B$807,$A54,'[1]LSOA_0-15'!E$3:E$807)","v":5.4103068887698589},{"$f":"SUMIF('[1]LSOA_0-15'!$B$3:$B$807,$A54,'[1]LSOA_0-15'!F$3:F$807)","v":1.6075353971202648},{"$f":"SUMIF('[1]LSOA_0-15'!$B$3:$B$807,$A54,'[1]LSOA_0-15'!G$3:G$807)","v":177.2311883508041},{"$f":"SUMIF('[1]LSOA_0-15'!$B$3:$B$807,$A54,'[1]LSOA_0-15'!H$3:H$807)","v":334.42229459430672},{"$f":"SUMIF('[1]LSOA_0-15'!$B$3:$B$807,$A54,'[1]LSOA_0-15'!I$3:I$807)","v":57.884242646785466},{"$f":"SUMIF('[1]LSOA_0-15'!$B$3:$B$807,$A54,'[1]LSOA_0-15'!J$3:J$807)","v":102.90895146884556},{"$f":"SUMIF('[1]LSOA_0-15'!$B$3:$B$807,$A54,'[1]LSOA_0-15'!K$3:K$807)","v":168.9269234511475},{"$f":"SUMIF('[1]LSOA_0-15'!$B$3:$B$807,$A54,'[1]LSOA_0-15'!L$3:L$807)","v":585.08651191088234},{"$f":"SUMIF('[1]LSOA_0-15'!$B$3:$B$807,$A54,'[1]LSOA_0-15'!M$3:M$807)","v":830.167444214037},{"$f":"SUMIF('[1]LSOA_0-15'!$B$3:$B$807,$A54,'[1]LSOA_0-15'!N$3:N$807)","v":240.26312470129994},{"$f":"SUMIF('[1]LSOA_0-15'!$B$3:$B$807,$A54,'[1]LSOA_0-15'!O$3:O$807)","v":76.021682396850295},{"$f":"SUMIF('[1]LSOA_0-15'!$B$3:$B$807,$A54,'[1]LSOA_0-15'!P$3:P$807)","v":260.21611448276786},{"$f":"SUMIF('[1]LSOA_0-15'!$B$3:$B$807,$A54,'[1]LSOA_0-15'!Q$3:Q$807)","v":440.67295647490494},{"$f":"SUMIF('[1]LSOA_0-15'!$B$3:$B$807,$A54,'[1]LSOA_0-15'!R$3:R$807)","v":644.57554001279709},{"$f":"SUMIF('[1]LSOA_0-15'!$B$3:$B$807,$A54,'[1]LSOA_0-15'!S$3:S$807)","v":415.61865157129961},{"$f":"SUMIF('[1]LSOA_0-15'!$B$3:$B$807,$A54,'[1]LSOA_0-15'!T$3:T$807)","v":34.63595200307433},{"$f":"SUMIF('[1]LSOA_0-15'!$B$3:$B$807,$A54,'[1]LSOA_0-15'!U$3:U$807)","v":122.06395212972888}]
["South Yardley",{"$f":"SUMIF('[1]LSOA_0-15'!$B$3:$B$807,$A55,'[1]LSOA_0-15'!C$3:C$807)","v":2269.0116165067457},{"$f":"SUMIF('[1]LSOA_0-15'!$B$3:$B$807,$A55,'[1]LSOA_0-15'!D$3:D$807)","v":1300.9517908291334},{"$f":"SUMIF('[1]LSOA_0-15'!$B$3:$B$807,$A55,'[1]LSOA_0-15'!E$3:E$807)","v":24.7369832737899},{"$f":"SUMIF('[1]LSOA_0-15'!$B$3:$B$807,$A55,'[1]LSOA_0-15'!F$3:F$807)","v":0},{"$f":"SUMIF('[1]LSOA_0-15'!$B$3:$B$807,$A55,'[1]LSOA_0-15'!G$3:G$807)","v":50.871939688789716},{"$f":"SUMIF('[1]LSOA_0-15'!$B$3:$B$807,$A55,'[1]LSOA_0-15'!H$3:H$807)","v":99.920485388930572},{"$f":"SUMIF('[1]LSOA_0-15'!$B$3:$B$807,$A55,'[1]LSOA_0-15'!I$3:I$807)","v":6.7974178784024915},{"$f":"SUMIF('[1]LSOA_0-15'!$B$3:$B$807,$A55,'[1]LSOA_0-15'!J$3:J$807)","v":48.864947580167971},{"$f":"SUMIF('[1]LSOA_0-15'!$B$3:$B$807,$A55,'[1]LSOA_0-15'!K$3:K$807)","v":30.1439621997675},{"$f":"SUMIF('[1]LSOA_0-15'!$B$3:$B$807,$A55,'[1]LSOA_0-15'!L$3:L$807)","v":106.41377485645702},{"$f":"SUMIF('[1]LSOA_0-15'!$B$3:$B$807,$A55,'[1]LSOA_0-15'!M$3:M$807)","v":358.3667638115852},{"$f":"SUMIF('[1]LSOA_0-15'!$B$3:$B$807,$A55,'[1]LSOA_0-15'!N$3:N$807)","v":80.71581913831173},{"$f":"SUMIF('[1]LSOA_0-15'!$B$3:$B$807,$A55,'[1]LSOA_0-15'!O$3:O$807)","v":13.144180417232905},{"$f":"SUMIF('[1]LSOA_0-15'!$B$3:$B$807,$A55,'[1]LSOA_0-15'!P$3:P$807)","v":37.853822788595458},{"$f":"SUMIF('[1]LSOA_0-15'!$B$3:$B$807,$A55,'[1]LSOA_0-15'!Q$3:Q$807)","v":27.333554833357624},{"$f":"SUMIF('[1]LSOA_0-15'!$B$3:$B$807,$A55,'[1]LSOA_0-15'!R$3:R$807)","v":34.193533257445097},{"$f":"SUMIF('[1]LSOA_0-15'!$B$3:$B$807,$A55,'[1]LSOA_0-15'!S$3:S$807)","v":19.671768267872189},{"$f":"SUMIF('[1]LSOA_0-15'!$B$3:$B$807,$A55,'[1]LSOA_0-15'!T$3:T$807)","v":22.773912949598483},{"$f":"SUMIF('[1]LSOA_0-15'!$B$3:$B$807,$A55,'[1]LSOA_0-15'!U$3:U$807)","v":6.2569593473083689}]
["Sparkbrook & Balsall Heath East",{"$f":"SUMIF('[1]LSOA_0-15'!$B$3:$B$807,$A56,'[1]LSOA_0-15'!C$3:C$807)","v":8001.9690976773099},{"$f":"SUMIF('[1]LSOA_0-15'!$B$3:$B$807,$A56,'[1]LSOA_0-15'!D$3:D$807)","v":299.11244646972256},{"$f":"SUMIF('[1]LSOA_0-15'!$B$3:$B$807,$A56,'[1]LSOA_0-15'!E$3:E$807)","v":4.3130227001194745},{"$f":"SUMIF('[1]LSOA_0-15'!$B$3:$B$807,$A56,'[1]LSOA_0-15'!F$3:F$807)","v":19.456603773584906},{"$f":"SUMIF('[1]LSOA_0-15'!$B$3:$B$807,$A56,'[1]LSOA_0-15'!G$3:G$807)","v":107.90392161016166},{"$f":"SUMIF('[1]LSOA_0-15'!$B$3:$B$807,$A56,'[1]LSOA_0-15'!H$3:H$807)","v":140.33459382469641},{"$f":"SUMIF('[1]LSOA_0-15'!$B$3:$B$807,$A56,'[1]LSOA_0-15'!I$3:I$807)","v":19.400989376583428},{"$f":"SUMIF('[1]LSOA_0-15'!$B$3:$B$807,$A56,'[1]LSOA_0-15'!J$3:J$807)","v":144.3340025602877},{"$f":"SUMIF('[1]LSOA_0-15'!$B$3:$B$807,$A56,'[1]LSOA_0-15'!K$3:K$807)","v":99.962575263511312},{"$f":"SUMIF('[1]LSOA_0-15'!$B$3:$B$807,$A56,'[1]LSOA_0-15'!L$3:L$807)","v":205.81567978870822},{"$f":"SUMIF('[1]LSOA_0-15'!$B$3:$B$807,$A56,'[1]LSOA_0-15'!M$3:M$807)","v":4054.5886769775334},{"$f":"SUMIF('[1]LSOA_0-15'!$B$3:$B$807,$A56,'[1]LSOA_0-15'!N$3:N$807)","v":969.27832816116597},{"$f":"SUMIF('[1]LSOA_0-15'!$B$3:$B$807,$A56,'[1]LSOA_0-15'!O$3:O$807)","v":23.921474351056865},{"$f":"SUMIF('[1]LSOA_0-15'!$B$3:$B$807,$A56,'[1]LSOA_0-15'!P$3:P$807)","v":368.84427384487822},{"$f":"SUMIF('[1]LSOA_0-15'!$B$3:$B$807,$A56,'[1]LSOA_0-15'!Q$3:Q$807)","v":296.15508945576522},{"$f":"SUMIF('[1]LSOA_0-15'!$B$3:$B$807,$A56,'[1]LSOA_0-15'!R$3:R$807)","v":123.01791540051669},{"$f":"SUMIF('[1]LSOA_0-15'!$B$3:$B$807,$A56,'[1]LSOA_0-15'!S$3:S$807)","v":276.57366094117907},{"$f":"SUMIF('[1]LSOA_0-15'!$B$3:$B$807,$A56,'[1]LSOA_0-15'!T$3:T$807)","v":756.90753206390059},{"$f":"SUMIF('[1]LSOA_0-15'!$B$3:$B$807,$A56,'[1]LSOA_0-15'!U$3:U$807)","v":92.048311113937856}]
["Sparkhill",{"$f":"SUMIF('[1]LSOA_0-15'!$B$3:$B$807,$A57,'[1]LSOA_0-15'!C$3:C$807)","v":5995.7465146415152},{"$f":"SUMIF('[1]LSOA_0-15'!$B$3:$B$807,$A57,'[1]LSOA_0-15'!D$3:D$807)","v":223.75932845107351},{"$f":"SUMIF('[1]LSOA_0-15'!$B$3:$B$807,$A57,'[1]LSOA_0-15'!E$3:E$807)","v":4.6909422919880228},{"$f":"SUMIF('[1]LSOA_0-15'!$B$3:$B$807,$A57,'[1]LSOA_0-15'!F$3:F$807)","v":7.8641509433962264},{"$f":"SUMIF('[1]LSOA_0-15'!$B$3:$B$807,$A57,'[1]LSOA_0-15'!G$3:G$807)","v":94.958850135482905},{"$f":"SUMIF('[1]LSOA_0-15'!$B$3:$B$807,$A57,'[1]LSOA_0-15'!H$3:H$807)","v":67.769759427553367},{"$f":"SUMIF('[1]LSOA_0-15'!$B$3:$B$807,$A57,'[1]LSOA_0-15'!I$3:I$807)","v":16.118612219650466},{"$f":"SUMIF('[1]LSOA_0-15'!$B$3:$B$807,$A57,'[1]LSOA_0-15'!J$3:J$807)","v":114.10620404571135},{"$f":"SUMIF('[1]LSOA_0-15'!$B$3:$B$807,$A57,'[1]LSOA_0-15'!K$3:K$807)","v":55.934331316021883},{"$f":"SUMIF('[1]LSOA_0-15'!$B$3:$B$807,$A57,'[1]LSOA_0-15'!L$3:L$807)","v":259.00911865014956},{"$f":"SUMIF('[1]LSOA_0-15'!$B$3:$B$807,$A57,'[1]LSOA_0-15'!M$3:M$807)","v":3814.4133955326788},{"$f":"SUMIF('[1]LSOA_0-15'!$B$3:$B$807,$A57,'[1]LSOA_0-15'!N$3:N$807)","v":301.3877333697331},{"$f":"SUMIF('[1]LSOA_0-15'!$B$3:$B$807,$A57,'[1]LSOA_0-15'!O$3:O$807)","v":21.049233144656167},{"$f":"SUMIF('[1]LSOA_0-15'!$B$3:$B$807,$A57,'[1]LSOA_0-15'!P$3:P$807)","v":415.47349374893417},{"$f":"SUMIF('[1]LSOA_0-15'!$B$3:$B$807,$A57,'[1]LSOA_0-15'!Q$3:Q$807)","v":169.25270625984038},{"$f":"SUMIF('[1]LSOA_0-15'!$B$3:$B$807,$A57,'[1]LSOA_0-15'!R$3:R$807)","v":61.428975918039626},{"$f":"SUMIF('[1]LSOA_0-15'!$B$3:$B$807,$A57,'[1]LSOA_0-15'!S$3:S$807)","v":109.16038328227015},{"$f":"SUMIF('[1]LSOA_0-15'!$B$3:$B$807,$A57,'[1]LSOA_0-15'!T$3:T$807)","v":193.5221832521176},{"$f":"SUMIF('[1]LSOA_0-15'!$B$3:$B$807,$A57,'[1]LSOA_0-15'!U$3:U$807)","v":65.847112652217646}]
["Stirchley",{"$f":"SUMIF('[1]LSOA_0-15'!$B$3:$B$807,$A58,'[1]LSOA_0-15'!C$3:C$807)","v":1898.2160777982845},{"$f":"SUMIF('[1]LSOA_0-15'!$B$3:$B$807,$A58,'[1]LSOA_0-15'!D$3:D$807)","v":1160.6335470131221},{"$f":"SUMIF('[1]LSOA_0-15'!$B$3:$B$807,$A58,'[1]LSOA_0-15'!E$3:E$807)","v":19.098839391876172},{"$f":"SUMIF('[1]LSOA_0-15'!$B$3:$B$807,$A58,'[1]LSOA_0-15'!F$3:F$807)","v":0},{"$f":"SUMIF('[1]LSOA_0-15'!$B$3:$B$807,$A58,'[1]LSOA_0-15'!G$3:G$807)","v":50.580248393833124},{"$f":"SUMIF('[1]LSOA_0-15'!$B$3:$B$807,$A58,'[1]LSOA_0-15'!H$3:H$807)","v":109.33117512464655},{"$f":"SUMIF('[1]LSOA_0-15'!$B$3:$B$807,$A58,'[1]LSOA_0-15'!I$3:I$807)","v":7.4679087785709291},{"$f":"SUMIF('[1]LSOA_0-15'!$B$3:$B$807,$A58,'[1]LSOA_0-15'!J$3:J$807)","v":40.489065504202941},{"$f":"SUMIF('[1]LSOA_0-15'!$B$3:$B$807,$A58,'[1]LSOA_0-15'!K$3:K$807)","v":42.424883061344801},{"$f":"SUMIF('[1]LSOA_0-15'!$B$3:$B$807,$A58,'[1]LSOA_0-15'!L$3:L$807)","v":45.021156725632011},{"$f":"SUMIF('[1]LSOA_0-15'!$B$3:$B$807,$A58,'[1]LSOA_0-15'!M$3:M$807)","v":135.97228728726586},{"$f":"SUMIF('[1]LSOA_0-15'!$B$3:$B$807,$A58,'[1]LSOA_0-15'!N$3:N$807)","v":92.507300369264939},{"$f":"SUMIF('[1]LSOA_0-15'!$B$3:$B$807,$A58,'[1]LSOA_0-15'!O$3:O$807)","v":15.315465306652621},{"$f":"SUMIF('[1]LSOA_0-15'!$B$3:$B$807,$A58,'[1]LSOA_0-15'!P$3:P$807)","v":47.722113502935422},{"$f":"SUMIF('[1]LSOA_0-15'!$B$3:$B$807,$A58,'[1]LSOA_0-15'!Q$3:Q$807)","v":46.858134890897695},{"$f":"SUMIF('[1]LSOA_0-15'!$B$3:$B$807,$A58,'[1]LSOA_0-15'!R$3:R$807)","v":25.858134890897698},{"$f":"SUMIF('[1]LSOA_0-15'!$B$3:$B$807,$A58,'[1]LSOA_0-15'!S$3:S$807)","v":22.46790877857093},{"$f":"SUMIF('[1]LSOA_0-15'!$B$3:$B$807,$A58,'[1]LSOA_0-15'!T$3:T$807)","v":21.847556528081693},{"$f":"SUMIF('[1]LSOA_0-15'!$B$3:$B$807,$A58,'[1]LSOA_0-15'!U$3:U$807)","v":14.620352250489237}]
["Stockland Green",{"$f":"SUMIF('[1]LSOA_0-15'!$B$3:$B$807,$A59,'[1]LSOA_0-15'!C$3:C$807)","v":4740.6292314314687},{"$f":"SUMIF('[1]LSOA_0-15'!$B$3:$B$807,$A59,'[1]LSOA_0-15'!D$3:D$807)","v":1889.6525977709061},{"$f":"SUMIF('[1]LSOA_0-15'!$B$3:$B$807,$A59,'[1]LSOA_0-15'!E$3:E$807)","v":23.376792807231851},{"$f":"SUMIF('[1]LSOA_0-15'!$B$3:$B$807,$A59,'[1]LSOA_0-15'!F$3:F$807)","v":1},{"$f":"SUMIF('[1]LSOA_0-15'!$B$3:$B$807,$A59,'[1]LSOA_0-15'!G$3:G$807)","v":189.85924430735511},{"$f":"SUMIF('[1]LSOA_0-15'!$B$3:$B$807,$A59,'[1]LSOA_0-15'!H$3:H$807)","v":419.56907493664539},{"$f":"SUMIF('[1]LSOA_0-15'!$B$3:$B$807,$A59,'[1]LSOA_0-15'!I$3:I$807)","v":46.783168105237031},{"$f":"SUMIF('[1]LSOA_0-15'!$B$3:$B$807,$A59,'[1]LSOA_0-15'!J$3:J$807)","v":106.52902825529577},{"$f":"SUMIF('[1]LSOA_0-15'!$B$3:$B$807,$A59,'[1]LSOA_0-15'!K$3:K$807)","v":135.83322005815924},{"$f":"SUMIF('[1]LSOA_0-15'!$B$3:$B$807,$A59,'[1]LSOA_0-15'!L$3:L$807)","v":157.19765714981384},{"$f":"SUMIF('[1]LSOA_0-15'!$B$3:$B$807,$A59,'[1]LSOA_0-15'!M$3:M$807)","v":648.85280790354057},{"$f":"SUMIF('[1]LSOA_0-15'!$B$3:$B$807,$A59,'[1]LSOA_0-15'!N$3:N$807)","v":125.52859143007231},{"$f":"SUMIF('[1]LSOA_0-15'!$B$3:$B$807,$A59,'[1]LSOA_0-15'!O$3:O$807)","v":39.17457334778986},{"$f":"SUMIF('[1]LSOA_0-15'!$B$3:$B$807,$A59,'[1]LSOA_0-15'!P$3:P$807)","v":118.2209174542535},{"$f":"SUMIF('[1]LSOA_0-15'!$B$3:$B$807,$A59,'[1]LSOA_0-15'!Q$3:Q$807)","v":231.73594481305716},{"$f":"SUMIF('[1]LSOA_0-15'!$B$3:$B$807,$A59,'[1]LSOA_0-15'!R$3:R$807)","v":381.14124623054664},{"$f":"SUMIF('[1]LSOA_0-15'!$B$3:$B$807,$A59,'[1]LSOA_0-15'!S$3:S$807)","v":168.05798302136787},{"$f":"SUMIF('[1]LSOA_0-15'!$B$3:$B$807,$A59,'[1]LSOA_0-15'!T$3:T$807)","v":23.125132728699853},{"$f":"SUMIF('[1]LSOA_0-15'!$B$3:$B$807,$A59,'[1]LSOA_0-15'!U$3:U$807)","v":34.991251111496283}]
["Sutton Four Oaks",{"$f":"SUMIF('[1]LSOA_0-15'!$B$3:$B$807,$A60,'[1]LSOA_0-15'!C$3:C$807)","v":1551.418162386434},{"$f":"SUMIF('[1]LSOA_0-15'!$B$3:$B$807,$A60,'[1]LSOA_0-15'!D$3:D$807)","v":1222.2947420242983},{"$f":"SUMIF('[1]LSOA_0-15'!$B$3:$B$807,$A60,'[1]LSOA_0-15'!E$3:E$807)","v":6.6603082697427247},{"$f":"SUMIF('[1]LSOA_0-15'!$B$3:$B$807,$A60,'[1]LSOA_0-15'!F$3:F$807)","v":0},{"$f":"SUMIF('[1]LSOA_0-15'!$B$3:$B$807,$A60,'[1]LSOA_0-15'!G$3:G$807)","v":33.117665049141642},{"$f":"SUMIF('[1]LSOA_0-15'!$B$3:$B$807,$A60,'[1]LSOA_0-15'!H$3:H$807)","v":26.28650220623479},{"$f":"SUMIF('[1]LSOA_0-15'!$B$3:$B$807,$A60,'[1]LSOA_0-15'!I$3:I$807)","v":5.8739943558445473},{"$f":"SUMIF('[1]LSOA_0-15'!$B$3:$B$807,$A60,'[1]LSOA_0-15'!J$3:J$807)","v":24.758606122412793},{"$f":"SUMIF('[1]LSOA_0-15'!$B$3:$B$807,$A60,'[1]LSOA_0-15'!K$3:K$807)","v":11.043760556781846},{"$f":"SUMIF('[1]LSOA_0-15'!$B$3:$B$807,$A60,'[1]LSOA_0-15'!L$3:L$807)","v":125.07439944682109},{"$f":"SUMIF('[1]LSOA_0-15'!$B$3:$B$807,$A60,'[1]LSOA_0-15'!M$3:M$807)","v":23.438171959793138},{"$f":"SUMIF('[1]LSOA_0-15'!$B$3:$B$807,$A60,'[1]LSOA_0-15'!N$3:N$807)","v":5.55439330543933},{"$f":"SUMIF('[1]LSOA_0-15'!$B$3:$B$807,$A60,'[1]LSOA_0-15'!O$3:O$807)","v":1.5915765004485409},{"$f":"SUMIF('[1]LSOA_0-15'!$B$3:$B$807,$A60,'[1]LSOA_0-15'!P$3:P$807)","v":13.11050974578932},{"$f":"SUMIF('[1]LSOA_0-15'!$B$3:$B$807,$A60,'[1]LSOA_0-15'!Q$3:Q$807)","v":10.276324572735072},{"$f":"SUMIF('[1]LSOA_0-15'!$B$3:$B$807,$A60,'[1]LSOA_0-15'!R$3:R$807)","v":12.570326840683634},{"$f":"SUMIF('[1]LSOA_0-15'!$B$3:$B$807,$A60,'[1]LSOA_0-15'!S$3:S$807)","v":3.4521935681738878},{"$f":"SUMIF('[1]LSOA_0-15'!$B$3:$B$807,$A60,'[1]LSOA_0-15'!T$3:T$807)","v":3.4118761844598864},{"$f":"SUMIF('[1]LSOA_0-15'!$B$3:$B$807,$A60,'[1]LSOA_0-15'!U$3:U$807)","v":22.902811677633395}]
["Sutton Mere Green",{"$f":"SUMIF('[1]LSOA_0-15'!$B$3:$B$807,$A61,'[1]LSOA_0-15'!C$3:C$807)","v":1732.5842499995028},{"$f":"SUMIF('[1]LSOA_0-15'!$B$3:$B$807,$A61,'[1]LSOA_0-15'!D$3:D$807)","v":1404.7837771750787},{"$f":"SUMIF('[1]LSOA_0-15'!$B$3:$B$807,$A61,'[1]LSOA_0-15'!E$3:E$807)","v":8.9774132121939854},{"$f":"SUMIF('[1]LSOA_0-15'!$B$3:$B$807,$A61,'[1]LSOA_0-15'!F$3:F$807)","v":0},{"$f":"SUMIF('[1]LSOA_0-15'!$B$3:$B$807,$A61,'[1]LSOA_0-15'!G$3:G$807)","v":22.328256018417548},{"$f":"SUMIF('[1]LSOA_0-15'!$B$3:$B$807,$A61,'[1]LSOA_0-15'!H$3:H$807)","v":44.743159390587678},{"$f":"SUMIF('[1]LSOA_0-15'!$B$3:$B$807,$A61,'[1]LSOA_0-15'!I$3:I$807)","v":3.9635286361848827},{"$f":"SUMIF('[1]LSOA_0-15'!$B$3:$B$807,$A61,'[1]LSOA_0-15'!J$3:J$807)","v":28.576982176854131},{"$f":"SUMIF('[1]LSOA_0-15'!$B$3:$B$807,$A61,'[1]LSOA_0-15'!K$3:K$807)","v":12.683527654415794},{"$f":"SUMIF('[1]LSOA_0-15'!$B$3:$B$807,$A61,'[1]LSOA_0-15'!L$3:L$807)","v":105.35542145723345},{"$f":"SUMIF('[1]LSOA_0-15'!$B$3:$B$807,$A61,'[1]LSOA_0-15'!M$3:M$807)","v":29.630868933391501},{"$f":"SUMIF('[1]LSOA_0-15'!$B$3:$B$807,$A61,'[1]LSOA_0-15'!N$3:N$807)","v":2.4456066945606696},{"$f":"SUMIF('[1]LSOA_0-15'!$B$3:$B$807,$A61,'[1]LSOA_0-15'!O$3:O$807)","v":2.791806247061603},{"$f":"SUMIF('[1]LSOA_0-15'!$B$3:$B$807,$A61,'[1]LSOA_0-15'!P$3:P$807)","v":16.568743814210062},{"$f":"SUMIF('[1]LSOA_0-15'!$B$3:$B$807,$A61,'[1]LSOA_0-15'!Q$3:Q$807)","v":9.1070581747750694},{"$f":"SUMIF('[1]LSOA_0-15'!$B$3:$B$807,$A61,'[1]LSOA_0-15'!R$3:R$807)","v":23.242538605079304},{"$f":"SUMIF('[1]LSOA_0-15'!$B$3:$B$807,$A61,'[1]LSOA_0-15'!S$3:S$807)","v":11.873000650722298},{"$f":"SUMIF('[1]LSOA_0-15'!$B$3:$B$807,$A61,'[1]LSOA_0-15'!T$3:T$807)","v":1.5881238155401138},{"$f":"SUMIF('[1]LSOA_0-15'!$B$3:$B$807,$A61,'[1]LSOA_0-15'!U$3:U$807)","v":3.9244373431959194}]
["Sutton Reddicap",{"$f":"SUMIF('[1]LSOA_0-15'!$B$3:$B$807,$A62,'[1]LSOA_0-15'!C$3:C$807)","v":2145.5033705119567},{"$f":"SUMIF('[1]LSOA_0-15'!$B$3:$B$807,$A62,'[1]LSOA_0-15'!D$3:D$807)","v":1668.0986449207055},{"$f":"SUMIF('[1]LSOA_0-15'!$B$3:$B$807,$A62,'[1]LSOA_0-15'!E$3:E$807)","v":11.211592726592048},{"$f":"SUMIF('[1]LSOA_0-15'!$B$3:$B$807,$A62,'[1]LSOA_0-15'!F$3:F$807)","v":0},{"$f":"SUMIF('[1]LSOA_0-15'!$B$3:$B$807,$A62,'[1]LSOA_0-15'!G$3:G$807)","v":29.393072242563214},{"$f":"SUMIF('[1]LSOA_0-15'!$B$3:$B$807,$A62,'[1]LSOA_0-15'!H$3:H$807)","v":105.50129313897243},{"$f":"SUMIF('[1]LSOA_0-15'!$B$3:$B$807,$A62,'[1]LSOA_0-15'!I$3:I$807)","v":13.750261577384968},{"$f":"SUMIF('[1]LSOA_0-15'!$B$3:$B$807,$A62,'[1]LSOA_0-15'!J$3:J$807)","v":32.468789471109851},{"$f":"SUMIF('[1]LSOA_0-15'!$B$3:$B$807,$A62,'[1]LSOA_0-15'!K$3:K$807)","v":29.626663669831888},{"$f":"SUMIF('[1]LSOA_0-15'!$B$3:$B$807,$A62,'[1]LSOA_0-15'!L$3:L$807)","v":84.000021578625677},{"$f":"SUMIF('[1]LSOA_0-15'!$B$3:$B$807,$A62,'[1]LSOA_0-15'!M$3:M$807)","v":37.639833343882074},{"$f":"SUMIF('[1]LSOA_0-15'!$B$3:$B$807,$A62,'[1]LSOA_0-15'!N$3:N$807)","v":4.12274094187031},{"$f":"SUMIF('[1]LSOA_0-15'!$B$3:$B$807,$A62,'[1]LSOA_0-15'!O$3:O$807)","v":10.061509569235801},{"$f":"SUMIF('[1]LSOA_0-15'!$B$3:$B$807,$A62,'[1]LSOA_0-15'!P$3:P$807)","v":25.308781710398506},{"$f":"SUMIF('[1]LSOA_0-15'!$B$3:$B$807,$A62,'[1]LSOA_0-15'!Q$3:Q$807)","v":17.279046660658807},{"$f":"SUMIF('[1]LSOA_0-15'!$B$3:$B$807,$A62,'[1]LSOA_0-15'!R$3:R$807)","v":40.974464916120922},{"$f":"SUMIF('[1]LSOA_0-15'!$B$3:$B$807,$A62,'[1]LSOA_0-15'!S$3:S$807)","v":26.908767153817465},{"$f":"SUMIF('[1]LSOA_0-15'!$B$3:$B$807,$A62,'[1]LSOA_0-15'!T$3:T$807)","v":5.2608321608240631},{"$f":"SUMIF('[1]LSOA_0-15'!$B$3:$B$807,$A62,'[1]LSOA_0-15'!U$3:U$807)","v":3.8970547293632269}]
["Sutton Roughley",{"$f":"SUMIF('[1]LSOA_0-15'!$B$3:$B$807,$A63,'[1]LSOA_0-15'!C$3:C$807)","v":2469.1706389859669},{"$f":"SUMIF('[1]LSOA_0-15'!$B$3:$B$807,$A63,'[1]LSOA_0-15'!D$3:D$807)","v":2026.6734867580014},{"$f":"SUMIF('[1]LSOA_0-15'!$B$3:$B$807,$A63,'[1]LSOA_0-15'!E$3:E$807)","v":18.185127114752074},{"$f":"SUMIF('[1]LSOA_0-15'!$B$3:$B$807,$A63,'[1]LSOA_0-15'!F$3:F$807)","v":0},{"$f":"SUMIF('[1]LSOA_0-15'!$B$3:$B$807,$A63,'[1]LSOA_0-15'!G$3:G$807)","v":37.442254165459808},{"$f":"SUMIF('[1]LSOA_0-15'!$B$3:$B$807,$A63,'[1]LSOA_0-15'!H$3:H$807)","v":58.44934727437029},{"$f":"SUMIF('[1]LSOA_0-15'!$B$3:$B$807,$A63,'[1]LSOA_0-15'!I$3:I$807)","v":7.7886513157894735},{"$f":"SUMIF('[1]LSOA_0-15'!$B$3:$B$807,$A63,'[1]LSOA_0-15'!J$3:J$807)","v":33.721491178531643},{"$f":"SUMIF('[1]LSOA_0-15'!$B$3:$B$807,$A63,'[1]LSOA_0-15'!K$3:K$807)","v":19.304518152919613},{"$f":"SUMIF('[1]LSOA_0-15'!$B$3:$B$807,$A63,'[1]LSOA_0-15'!L$3:L$807)","v":116.29555259136295},{"$f":"SUMIF('[1]LSOA_0-15'!$B$3:$B$807,$A63,'[1]LSOA_0-15'!M$3:M$807)","v":33.88167335919691},{"$f":"SUMIF('[1]LSOA_0-15'!$B$3:$B$807,$A63,'[1]LSOA_0-15'!N$3:N$807)","v":2.3194359288779891},{"$f":"SUMIF('[1]LSOA_0-15'!$B$3:$B$807,$A63,'[1]LSOA_0-15'!O$3:O$807)","v":14.233634552717771},{"$f":"SUMIF('[1]LSOA_0-15'!$B$3:$B$807,$A63,'[1]LSOA_0-15'!P$3:P$807)","v":39.546535280551815},{"$f":"SUMIF('[1]LSOA_0-15'!$B$3:$B$807,$A63,'[1]LSOA_0-15'!Q$3:Q$807)","v":9.9551999538940574},{"$f":"SUMIF('[1]LSOA_0-15'!$B$3:$B$807,$A63,'[1]LSOA_0-15'!R$3:R$807)","v":27.609634942690665},{"$f":"SUMIF('[1]LSOA_0-15'!$B$3:$B$807,$A63,'[1]LSOA_0-15'!S$3:S$807)","v":8.268902926086442},{"$f":"SUMIF('[1]LSOA_0-15'!$B$3:$B$807,$A63,'[1]LSOA_0-15'!T$3:T$807)","v":2.3194359288779891},{"$f":"SUMIF('[1]LSOA_0-15'!$B$3:$B$807,$A63,'[1]LSOA_0-15'!U$3:U$807)","v":13.175757561885936}]
["Sutton Trinity",{"$f":"SUMIF('[1]LSOA_0-15'!$B$3:$B$807,$A64,'[1]LSOA_0-15'!C$3:C$807)","v":1533.5411240716899},{"$f":"SUMIF('[1]LSOA_0-15'!$B$3:$B$807,$A64,'[1]LSOA_0-15'!D$3:D$807)","v":1192.4592598305919},{"$f":"SUMIF('[1]LSOA_0-15'!$B$3:$B$807,$A64,'[1]LSOA_0-15'!E$3:E$807)","v":7.7336138691865806},{"$f":"SUMIF('[1]LSOA_0-15'!$B$3:$B$807,$A64,'[1]LSOA_0-15'!F$3:F$807)","v":0.2247191011235955},{"$f":"SUMIF('[1]LSOA_0-15'!$B$3:$B$807,$A64,'[1]LSOA_0-15'!G$3:G$807)","v":29.041603784103369},{"$f":"SUMIF('[1]LSOA_0-15'!$B$3:$B$807,$A64,'[1]LSOA_0-15'!H$3:H$807)","v":55.06900082430775},{"$f":"SUMIF('[1]LSOA_0-15'!$B$3:$B$807,$A64,'[1]LSOA_0-15'!I$3:I$807)","v":10.539732064593634},{"$f":"SUMIF('[1]LSOA_0-15'!$B$3:$B$807,$A64,'[1]LSOA_0-15'!J$3:J$807)","v":34.026519050453885},{"$f":"SUMIF('[1]LSOA_0-15'!$B$3:$B$807,$A64,'[1]LSOA_0-15'!K$3:K$807)","v":28.210907448291479},{"$f":"SUMIF('[1]LSOA_0-15'!$B$3:$B$807,$A64,'[1]LSOA_0-15'!L$3:L$807)","v":68.514520892056979},{"$f":"SUMIF('[1]LSOA_0-15'!$B$3:$B$807,$A64,'[1]LSOA_0-15'!M$3:M$807)","v":36.346425955041894},{"$f":"SUMIF('[1]LSOA_0-15'!$B$3:$B$807,$A64,'[1]LSOA_0-15'!N$3:N$807)","v":4.9288772469995328},{"$f":"SUMIF('[1]LSOA_0-15'!$B$3:$B$807,$A64,'[1]LSOA_0-15'!O$3:O$807)","v":13.761859282966848},{"$f":"SUMIF('[1]LSOA_0-15'!$B$3:$B$807,$A64,'[1]LSOA_0-15'!P$3:P$807)","v":15.195564713539387},{"$f":"SUMIF('[1]LSOA_0-15'!$B$3:$B$807,$A64,'[1]LSOA_0-15'!Q$3:Q$807)","v":4.9776321297804298},{"$f":"SUMIF('[1]LSOA_0-15'!$B$3:$B$807,$A64,'[1]LSOA_0-15'!R$3:R$807)","v":11.726192179687418},{"$f":"SUMIF('[1]LSOA_0-15'!$B$3:$B$807,$A64,'[1]LSOA_0-15'!S$3:S$807)","v":13.477369129266403},{"$f":"SUMIF('[1]LSOA_0-15'!$B$3:$B$807,$A64,'[1]LSOA_0-15'!T$3:T$807)","v":0.99537807785588028},{"$f":"SUMIF('[1]LSOA_0-15'!$B$3:$B$807,$A64,'[1]LSOA_0-15'!U$3:U$807)","v":6.311948491843089}]
["Sutton Vesey",{"$f":"SUMIF('[1]LSOA_0-15'!$B$3:$B$807,$A65,'[1]LSOA_0-15'!C$3:C$807)","v":3476.3869477547987},{"$f":"SUMIF('[1]LSOA_0-15'!$B$3:$B$807,$A65,'[1]LSOA_0-15'!D$3:D$807)","v":2550.0125416564765},{"$f":"SUMIF('[1]LSOA_0-15'!$B$3:$B$807,$A65,'[1]LSOA_0-15'!E$3:E$807)","v":44.250299206906206},{"$f":"SUMIF('[1]LSOA_0-15'!$B$3:$B$807,$A65,'[1]LSOA_0-15'!F$3:F$807)","v":2.7752808988764044},{"$f":"SUMIF('[1]LSOA_0-15'!$B$3:$B$807,$A65,'[1]LSOA_0-15'!G$3:G$807)","v":47.205063103942408},{"$f":"SUMIF('[1]LSOA_0-15'!$B$3:$B$807,$A65,'[1]LSOA_0-15'!H$3:H$807)","v":85.629463430691459},{"$f":"SUMIF('[1]LSOA_0-15'!$B$3:$B$807,$A65,'[1]LSOA_0-15'!I$3:I$807)","v":24.775992847414923},{"$f":"SUMIF('[1]LSOA_0-15'!$B$3:$B$807,$A65,'[1]LSOA_0-15'!J$3:J$807)","v":57.735030026797766},{"$f":"SUMIF('[1]LSOA_0-15'!$B$3:$B$807,$A65,'[1]LSOA_0-15'!K$3:K$807)","v":48.270322390604349},{"$f":"SUMIF('[1]LSOA_0-15'!$B$3:$B$807,$A65,'[1]LSOA_0-15'!L$3:L$807)","v":232.19017724379876},{"$f":"SUMIF('[1]LSOA_0-15'!$B$3:$B$807,$A65,'[1]LSOA_0-15'!M$3:M$807)","v":109.26267991719899},{"$f":"SUMIF('[1]LSOA_0-15'!$B$3:$B$807,$A65,'[1]LSOA_0-15'!N$3:N$807)","v":25.466754764273862},{"$f":"SUMIF('[1]LSOA_0-15'!$B$3:$B$807,$A65,'[1]LSOA_0-15'!O$3:O$807)","v":37.421302652974553},{"$f":"SUMIF('[1]LSOA_0-15'!$B$3:$B$807,$A65,'[1]LSOA_0-15'!P$3:P$807)","v":43.323053244607507},{"$f":"SUMIF('[1]LSOA_0-15'!$B$3:$B$807,$A65,'[1]LSOA_0-15'!Q$3:Q$807)","v":17.896551526994219},{"$f":"SUMIF('[1]LSOA_0-15'!$B$3:$B$807,$A65,'[1]LSOA_0-15'!R$3:R$807)","v":92.339552969995665},{"$f":"SUMIF('[1]LSOA_0-15'!$B$3:$B$807,$A65,'[1]LSOA_0-15'!S$3:S$807)","v":16.661313245794137},{"$f":"SUMIF('[1]LSOA_0-15'!$B$3:$B$807,$A65,'[1]LSOA_0-15'!T$3:T$807)","v":12.58578431372549},{"$f":"SUMIF('[1]LSOA_0-15'!$B$3:$B$807,$A65,'[1]LSOA_0-15'!U$3:U$807)","v":28.58578431372549}]
["Sutton Walmley & Minworth",{"$f":"SUMIF('[1]LSOA_0-15'!$B$3:$B$807,$A66,'[1]LSOA_0-15'!C$3:C$807)","v":2919.1974087828071},{"$f":"SUMIF('[1]LSOA_0-15'!$B$3:$B$807,$A66,'[1]LSOA_0-15'!D$3:D$807)","v":2387.6821835100454},{"$f":"SUMIF('[1]LSOA_0-15'!$B$3:$B$807,$A66,'[1]LSOA_0-15'!E$3:E$807)","v":32.842480089060928},{"$f":"SUMIF('[1]LSOA_0-15'!$B$3:$B$807,$A66,'[1]LSOA_0-15'!F$3:F$807)","v":0},{"$f":"SUMIF('[1]LSOA_0-15'!$B$3:$B$807,$A66,'[1]LSOA_0-15'!G$3:G$807)","v":36.150605763573147},{"$f":"SUMIF('[1]LSOA_0-15'!$B$3:$B$807,$A66,'[1]LSOA_0-15'!H$3:H$807)","v":78.16767322998146},{"$f":"SUMIF('[1]LSOA_0-15'!$B$3:$B$807,$A66,'[1]LSOA_0-15'!I$3:I$807)","v":13.126050420168067},{"$f":"SUMIF('[1]LSOA_0-15'!$B$3:$B$807,$A66,'[1]LSOA_0-15'!J$3:J$807)","v":32.04784098793813},{"$f":"SUMIF('[1]LSOA_0-15'!$B$3:$B$807,$A66,'[1]LSOA_0-15'!K$3:K$807)","v":30.950403358452078},{"$f":"SUMIF('[1]LSOA_0-15'!$B$3:$B$807,$A66,'[1]LSOA_0-15'!L$3:L$807)","v":125.14427976361519},{"$f":"SUMIF('[1]LSOA_0-15'!$B$3:$B$807,$A66,'[1]LSOA_0-15'!M$3:M$807)","v":40.321709423274456},{"$f":"SUMIF('[1]LSOA_0-15'!$B$3:$B$807,$A66,'[1]LSOA_0-15'!N$3:N$807)","v":4.5578231292517009},{"$f":"SUMIF('[1]LSOA_0-15'!$B$3:$B$807,$A66,'[1]LSOA_0-15'!O$3:O$807)","v":28.359821571108284},{"$f":"SUMIF('[1]LSOA_0-15'!$B$3:$B$807,$A66,'[1]LSOA_0-15'!P$3:P$807)","v":23.551638837353124},{"$f":"SUMIF('[1]LSOA_0-15'!$B$3:$B$807,$A66,'[1]LSOA_0-15'!Q$3:Q$807)","v":24.118893618053281},{"$f":"SUMIF('[1]LSOA_0-15'!$B$3:$B$807,$A66,'[1]LSOA_0-15'!R$3:R$807)","v":40.994315435376258},{"$f":"SUMIF('[1]LSOA_0-15'!$B$3:$B$807,$A66,'[1]LSOA_0-15'!S$3:S$807)","v":8.8949058411243289},{"$f":"SUMIF('[1]LSOA_0-15'!$B$3:$B$807,$A66,'[1]LSOA_0-15'!T$3:T$807)","v":5.6363636363636367},{"$f":"SUMIF('[1]LSOA_0-15'!$B$3:$B$807,$A66,'[1]LSOA_0-15'!U$3:U$807)","v":6.6504201680672264}]
["Sutton Wylde Green",{"$f":"SUMIF('[1]LSOA_0-15'!$B$3:$B$807,$A67,'[1]LSOA_0-15'!C$3:C$807)","v":1505.6337877425335},{"$f":"SUMIF('[1]LSOA_0-15'!$B$3:$B$807,$A67,'[1]LSOA_0-15'!D$3:D$807)","v":1122.2701115995487},{"$f":"SUMIF('[1]LSOA_0-15'!$B$3:$B$807,$A67,'[1]LSOA_0-15'!E$3:E$807)","v":21.139165511565452},{"$f":"SUMIF('[1]LSOA_0-15'!$B$3:$B$807,$A67,'[1]LSOA_0-15'!F$3:F$807)","v":2},{"$f":"SUMIF('[1]LSOA_0-15'!$B$3:$B$807,$A67,'[1]LSOA_0-15'!G$3:G$807)","v":25.414409165728149},{"$f":"SUMIF('[1]LSOA_0-15'!$B$3:$B$807,$A67,'[1]LSOA_0-15'!H$3:H$807)","v":36.641775993069629},{"$f":"SUMIF('[1]LSOA_0-15'!$B$3:$B$807,$A67,'[1]LSOA_0-15'!I$3:I$807)","v":13.972361173191896},{"$f":"SUMIF('[1]LSOA_0-15'!$B$3:$B$807,$A67,'[1]LSOA_0-15'!J$3:J$807)","v":25.548242669403479},{"$f":"SUMIF('[1]LSOA_0-15'!$B$3:$B$807,$A67,'[1]LSOA_0-15'!K$3:K$807)","v":26.607539866346048},{"$f":"SUMIF('[1]LSOA_0-15'!$B$3:$B$807,$A67,'[1]LSOA_0-15'!L$3:L$807)","v":96.309128709987576},{"$f":"SUMIF('[1]LSOA_0-15'!$B$3:$B$807,$A67,'[1]LSOA_0-15'!M$3:M$807)","v":57.152711182295107},{"$f":"SUMIF('[1]LSOA_0-15'!$B$3:$B$807,$A67,'[1]LSOA_0-15'!N$3:N$807)","v":9.6972972816558993},{"$f":"SUMIF('[1]LSOA_0-15'!$B$3:$B$807,$A67,'[1]LSOA_0-15'!O$3:O$807)","v":12.476132721129689},{"$f":"SUMIF('[1]LSOA_0-15'!$B$3:$B$807,$A67,'[1]LSOA_0-15'!P$3:P$807)","v":15.185745044122681},{"$f":"SUMIF('[1]LSOA_0-15'!$B$3:$B$807,$A67,'[1]LSOA_0-15'!Q$3:Q$807)","v":5.0869364607521579},{"$f":"SUMIF('[1]LSOA_0-15'!$B$3:$B$807,$A67,'[1]LSOA_0-15'!R$3:R$807)","v":14.426475793867818},{"$f":"SUMIF('[1]LSOA_0-15'!$B$3:$B$807,$A67,'[1]LSOA_0-15'!S$3:S$807)","v":5.9517629732305295},{"$f":"SUMIF('[1]LSOA_0-15'!$B$3:$B$807,$A67,'[1]LSOA_0-15'!T$3:T$807)","v":5.2022058823529411},{"$f":"SUMIF('[1]LSOA_0-15'!$B$3:$B$807,$A67,'[1]LSOA_0-15'!U$3:U$807)","v":10.551785714285716}]
["Tyseley & Hay Mills",{"$f":"SUMIF('[1]LSOA_0-15'!$B$3:$B$807,$A68,'[1]LSOA_0-15'!C$3:C$807)","v":3181.9003662465334},{"$f":"SUMIF('[1]LSOA_0-15'!$B$3:$B$807,$A68,'[1]LSOA_0-15'!D$3:D$807)","v":974.71671889133063},{"$f":"SUMIF('[1]LSOA_0-15'!$B$3:$B$807,$A68,'[1]LSOA_0-15'!E$3:E$807)","v":25.915949736107425},{"$f":"SUMIF('[1]LSOA_0-15'!$B$3:$B$807,$A68,'[1]LSOA_0-15'!F$3:F$807)","v":0},{"$f":"SUMIF('[1]LSOA_0-15'!$B$3:$B$807,$A68,'[1]LSOA_0-15'!G$3:G$807)","v":72.635429357334289},{"$f":"SUMIF('[1]LSOA_0-15'!$B$3:$B$807,$A68,'[1]LSOA_0-15'!H$3:H$807)","v":145.24571196819903},{"$f":"SUMIF('[1]LSOA_0-15'!$B$3:$B$807,$A68,'[1]LSOA_0-15'!I$3:I$807)","v":11.009784237248022},{"$f":"SUMIF('[1]LSOA_0-15'!$B$3:$B$807,$A68,'[1]LSOA_0-15'!J$3:J$807)","v":111.11440888373127},{"$f":"SUMIF('[1]LSOA_0-15'!$B$3:$B$807,$A68,'[1]LSOA_0-15'!K$3:K$807)","v":69.03055044069103},{"$f":"SUMIF('[1]LSOA_0-15'!$B$3:$B$807,$A68,'[1]LSOA_0-15'!L$3:L$807)","v":145.22736948751583},{"$f":"SUMIF('[1]LSOA_0-15'!$B$3:$B$807,$A68,'[1]LSOA_0-15'!M$3:M$807)","v":954.40943369245986},{"$f":"SUMIF('[1]LSOA_0-15'!$B$3:$B$807,$A68,'[1]LSOA_0-15'!N$3:N$807)","v":295.06919917124327},{"$f":"SUMIF('[1]LSOA_0-15'!$B$3:$B$807,$A68,'[1]LSOA_0-15'!O$3:O$807)","v":6.3232294347643432},{"$f":"SUMIF('[1]LSOA_0-15'!$B$3:$B$807,$A68,'[1]LSOA_0-15'!P$3:P$807)","v":123.87938346920785},{"$f":"SUMIF('[1]LSOA_0-15'!$B$3:$B$807,$A68,'[1]LSOA_0-15'!Q$3:Q$807)","v":46.769095775388145},{"$f":"SUMIF('[1]LSOA_0-15'!$B$3:$B$807,$A68,'[1]LSOA_0-15'!R$3:R$807)","v":60.038050078603987},{"$f":"SUMIF('[1]LSOA_0-15'!$B$3:$B$807,$A68,'[1]LSOA_0-15'!S$3:S$807)","v":51.527684085222603},{"$f":"SUMIF('[1]LSOA_0-15'!$B$3:$B$807,$A68,'[1]LSOA_0-15'!T$3:T$807)","v":62.361291344511599},{"$f":"SUMIF('[1]LSOA_0-15'!$B$3:$B$807,$A68,'[1]LSOA_0-15'!U$3:U$807)","v":26.627076192974613}]
["Ward End",{"$f":"SUMIF('[1]LSOA_0-15'!$B$3:$B$807,$A69,'[1]LSOA_0-15'!C$3:C$807)","v":4043.08556596879},{"$f":"SUMIF('[1]LSOA_0-15'!$B$3:$B$807,$A69,'[1]LSOA_0-15'!D$3:D$807)","v":364.92392005988222},{"$f":"SUMIF('[1]LSOA_0-15'!$B$3:$B$807,$A69,'[1]LSOA_0-15'!E$3:E$807)","v":4},{"$f":"SUMIF('[1]LSOA_0-15'!$B$3:$B$807,$A69,'[1]LSOA_0-15'!F$3:F$807)","v":5},{"$f":"SUMIF('[1]LSOA_0-15'!$B$3:$B$807,$A69,'[1]LSOA_0-15'!G$3:G$807)","v":57.513904534088418},{"$f":"SUMIF('[1]LSOA_0-15'!$B$3:$B$807,$A69,'[1]LSOA_0-15'!H$3:H$807)","v":79.005551563566272},{"$f":"SUMIF('[1]LSOA_0-15'!$B$3:$B$807,$A69,'[1]LSOA_0-15'!I$3:I$807)","v":13.331774313672998},{"$f":"SUMIF('[1]LSOA_0-15'!$B$3:$B$807,$A69,'[1]LSOA_0-15'!J$3:J$807)","v":69.590588726622812},{"$f":"SUMIF('[1]LSOA_0-15'!$B$3:$B$807,$A69,'[1]LSOA_0-15'!K$3:K$807)","v":47.348509026643917},{"$f":"SUMIF('[1]LSOA_0-15'!$B$3:$B$807,$A69,'[1]LSOA_0-15'!L$3:L$807)","v":66.142301334773748},{"$f":"SUMIF('[1]LSOA_0-15'!$B$3:$B$807,$A69,'[1]LSOA_0-15'!M$3:M$807)","v":2459.0336422315463},{"$f":"SUMIF('[1]LSOA_0-15'!$B$3:$B$807,$A69,'[1]LSOA_0-15'!N$3:N$807)","v":177.0133679412217},{"$f":"SUMIF('[1]LSOA_0-15'!$B$3:$B$807,$A69,'[1]LSOA_0-15'!O$3:O$807)","v":7.2290314481481426},{"$f":"SUMIF('[1]LSOA_0-15'!$B$3:$B$807,$A69,'[1]LSOA_0-15'!P$3:P$807)","v":291.29012388189057},{"$f":"SUMIF('[1]LSOA_0-15'!$B$3:$B$807,$A69,'[1]LSOA_0-15'!Q$3:Q$807)","v":174.78246863080523},{"$f":"SUMIF('[1]LSOA_0-15'!$B$3:$B$807,$A69,'[1]LSOA_0-15'!R$3:R$807)","v":66.843597726862555},{"$f":"SUMIF('[1]LSOA_0-15'!$B$3:$B$807,$A69,'[1]LSOA_0-15'!S$3:S$807)","v":73.639952849589804},{"$f":"SUMIF('[1]LSOA_0-15'!$B$3:$B$807,$A69,'[1]LSOA_0-15'!T$3:T$807)","v":49.935248299853818},{"$f":"SUMIF('[1]LSOA_0-15'!$B$3:$B$807,$A69,'[1]LSOA_0-15'!U$3:U$807)","v":36.461583399621446}]
["Weoley & Selly Oak",{"$f":"SUMIF('[1]LSOA_0-15'!$B$3:$B$807,$A70,'[1]LSOA_0-15'!C$3:C$807)","v":4867.7001953575127},{"$f":"SUMIF('[1]LSOA_0-15'!$B$3:$B$807,$A70,'[1]LSOA_0-15'!D$3:D$807)","v":2996.6858941864821},{"$f":"SUMIF('[1]LSOA_0-15'!$B$3:$B$807,$A70,'[1]LSOA_0-15'!E$3:E$807)","v":18.247306690076286},{"$f":"SUMIF('[1]LSOA_0-15'!$B$3:$B$807,$A70,'[1]LSOA_0-15'!F$3:F$807)","v":1},{"$f":"SUMIF('[1]LSOA_0-15'!$B$3:$B$807,$A70,'[1]LSOA_0-15'!G$3:G$807)","v":101.85130754573291},{"$f":"SUMIF('[1]LSOA_0-15'!$B$3:$B$807,$A70,'[1]LSOA_0-15'!H$3:H$807)","v":306.77269235590688},{"$f":"SUMIF('[1]LSOA_0-15'!$B$3:$B$807,$A70,'[1]LSOA_0-15'!I$3:I$807)","v":31.329903152096776},{"$f":"SUMIF('[1]LSOA_0-15'!$B$3:$B$807,$A70,'[1]LSOA_0-15'!J$3:J$807)","v":149.77716984132726},{"$f":"SUMIF('[1]LSOA_0-15'!$B$3:$B$807,$A70,'[1]LSOA_0-15'!K$3:K$807)","v":108.77730740082643},{"$f":"SUMIF('[1]LSOA_0-15'!$B$3:$B$807,$A70,'[1]LSOA_0-15'!L$3:L$807)","v":175.1539723481246},{"$f":"SUMIF('[1]LSOA_0-15'!$B$3:$B$807,$A70,'[1]LSOA_0-15'!M$3:M$807)","v":124.10703501433707},{"$f":"SUMIF('[1]LSOA_0-15'!$B$3:$B$807,$A70,'[1]LSOA_0-15'!N$3:N$807)","v":36.723050240740989},{"$f":"SUMIF('[1]LSOA_0-15'!$B$3:$B$807,$A70,'[1]LSOA_0-15'!O$3:O$807)","v":73.893095658871175},{"$f":"SUMIF('[1]LSOA_0-15'!$B$3:$B$807,$A70,'[1]LSOA_0-15'!P$3:P$807)","v":246.10192336819736},{"$f":"SUMIF('[1]LSOA_0-15'!$B$3:$B$807,$A70,'[1]LSOA_0-15'!Q$3:Q$807)","v":166.07056268194967},{"$f":"SUMIF('[1]LSOA_0-15'!$B$3:$B$807,$A70,'[1]LSOA_0-15'!R$3:R$807)","v":111.39127745399404},{"$f":"SUMIF('[1]LSOA_0-15'!$B$3:$B$807,$A70,'[1]LSOA_0-15'!S$3:S$807)","v":69.249906707988174},{"$f":"SUMIF('[1]LSOA_0-15'!$B$3:$B$807,$A70,'[1]LSOA_0-15'!T$3:T$807)","v":81.955122691251191},{"$f":"SUMIF('[1]LSOA_0-15'!$B$3:$B$807,$A70,'[1]LSOA_0-15'!U$3:U$807)","v":68.612668019609615}]
["Yardley East",{"$f":"SUMIF('[1]LSOA_0-15'!$B$3:$B$807,$A71,'[1]LSOA_0-15'!C$3:C$807)","v":2092.2530516623024},{"$f":"SUMIF('[1]LSOA_0-15'!$B$3:$B$807,$A71,'[1]LSOA_0-15'!D$3:D$807)","v":1138.7675269653989},{"$f":"SUMIF('[1]LSOA_0-15'!$B$3:$B$807,$A71,'[1]LSOA_0-15'!E$3:E$807)","v":17.50171142225917},{"$f":"SUMIF('[1]LSOA_0-15'!$B$3:$B$807,$A71,'[1]LSOA_0-15'!F$3:F$807)","v":0},{"$f":"SUMIF('[1]LSOA_0-15'!$B$3:$B$807,$A71,'[1]LSOA_0-15'!G$3:G$807)","v":15.70805083273304},{"$f":"SUMIF('[1]LSOA_0-15'!$B$3:$B$807,$A71,'[1]LSOA_0-15'!H$3:H$807)","v":99.323906318196151},{"$f":"SUMIF('[1]LSOA_0-15'!$B$3:$B$807,$A71,'[1]LSOA_0-15'!I$3:I$807)","v":15.32483434337264},{"$f":"SUMIF('[1]LSOA_0-15'!$B$3:$B$807,$A71,'[1]LSOA_0-15'!J$3:J$807)","v":50.204152658932884},{"$f":"SUMIF('[1]LSOA_0-15'!$B$3:$B$807,$A71,'[1]LSOA_0-15'!K$3:K$807)","v":23.930440965542715},{"$f":"SUMIF('[1]LSOA_0-15'!$B$3:$B$807,$A71,'[1]LSOA_0-15'!L$3:L$807)","v":61.878805830216649},{"$f":"SUMIF('[1]LSOA_0-15'!$B$3:$B$807,$A71,'[1]LSOA_0-15'!M$3:M$807)","v":435.93061085679102},{"$f":"SUMIF('[1]LSOA_0-15'!$B$3:$B$807,$A71,'[1]LSOA_0-15'!N$3:N$807)","v":53.690379322041622},{"$f":"SUMIF('[1]LSOA_0-15'!$B$3:$B$807,$A71,'[1]LSOA_0-15'!O$3:O$807)","v":7.4520115164664462},{"$f":"SUMIF('[1]LSOA_0-15'!$B$3:$B$807,$A71,'[1]LSOA_0-15'!P$3:P$807)","v":41.857676111923084},{"$f":"SUMIF('[1]LSOA_0-15'!$B$3:$B$807,$A71,'[1]LSOA_0-15'!Q$3:Q$807)","v":60.759539772041045},{"$f":"SUMIF('[1]LSOA_0-15'!$B$3:$B$807,$A71,'[1]LSOA_0-15'!R$3:R$807)","v":21.203786369607357},{"$f":"SUMIF('[1]LSOA_0-15'!$B$3:$B$807,$A71,'[1]LSOA_0-15'!S$3:S$807)","v":25.083303199644508},{"$f":"SUMIF('[1]LSOA_0-15'!$B$3:$B$807,$A71,'[1]LSOA_0-15'!T$3:T$807)","v":12.532437225549916},{"$f":"SUMIF('[1]LSOA_0-15'!$B$3:$B$807,$A71,'[1]LSOA_0-15'!U$3:U$807)","v":11.103877951585085}]
["Yardley West & Stechford",{"$f":"SUMIF('[1]LSOA_0-15'!$B$3:$B$807,$A72,'[1]LSOA_0-15'!C$3:C$807)","v":3109.4324700601483},{"$f":"SUMIF('[1]LSOA_0-15'!$B$3:$B$807,$A72,'[1]LSOA_0-15'!D$3:D$807)","v":915.17948610027815},{"$f":"SUMIF('[1]LSOA_0-15'!$B$3:$B$807,$A72,'[1]LSOA_0-15'!E$3:E$807)","v":13.611708482676224},{"$f":"SUMIF('[1]LSOA_0-15'!$B$3:$B$807,$A72,'[1]LSOA_0-15'!F$3:F$807)","v":0},{"$f":"SUMIF('[1]LSOA_0-15'!$B$3:$B$807,$A72,'[1]LSOA_0-15'!G$3:G$807)","v":50.122942520995892},{"$f":"SUMIF('[1]LSOA_0-15'!$B$3:$B$807,$A72,'[1]LSOA_0-15'!H$3:H$807)","v":125.66190982724625},{"$f":"SUMIF('[1]LSOA_0-15'!$B$3:$B$807,$A72,'[1]LSOA_0-15'!I$3:I$807)","v":13.204463022547341},{"$f":"SUMIF('[1]LSOA_0-15'!$B$3:$B$807,$A72,'[1]LSOA_0-15'!J$3:J$807)","v":78.777717521225057},{"$f":"SUMIF('[1]LSOA_0-15'!$B$3:$B$807,$A72,'[1]LSOA_0-15'!K$3:K$807)","v":49.667725231678943},{"$f":"SUMIF('[1]LSOA_0-15'!$B$3:$B$807,$A72,'[1]LSOA_0-15'!L$3:L$807)","v":117.9808378587161},{"$f":"SUMIF('[1]LSOA_0-15'!$B$3:$B$807,$A72,'[1]LSOA_0-15'!M$3:M$807)","v":1086.1904663395972},{"$f":"SUMIF('[1]LSOA_0-15'!$B$3:$B$807,$A72,'[1]LSOA_0-15'!N$3:N$807)","v":165.19671034192544},{"$f":"SUMIF('[1]LSOA_0-15'!$B$3:$B$807,$A72,'[1]LSOA_0-15'!O$3:O$807)","v":11.849713974643295},{"$f":"SUMIF('[1]LSOA_0-15'!$B$3:$B$807,$A72,'[1]LSOA_0-15'!P$3:P$807)","v":172.92982057480981},{"$f":"SUMIF('[1]LSOA_0-15'!$B$3:$B$807,$A72,'[1]LSOA_0-15'!Q$3:Q$807)","v":123.86171182349455},{"$f":"SUMIF('[1]LSOA_0-15'!$B$3:$B$807,$A72,'[1]LSOA_0-15'!R$3:R$807)","v":56.226937302130324},{"$f":"SUMIF('[1]LSOA_0-15'!$B$3:$B$807,$A72,'[1]LSOA_0-15'!S$3:S$807)","v":62.41647052723777},{"$f":"SUMIF('[1]LSOA_0-15'!$B$3:$B$807,$A72,'[1]LSOA_0-15'!T$3:T$807)","v":44.961094071074534},{"$f":"SUMIF('[1]LSOA_0-15'!$B$3:$B$807,$A72,'[1]LSOA_0-15'!U$3:U$807)","v":21.592754539871116}]
["Birmingham",{"$f":"SUM(B4:B72)","v":244681.99999999988},{"$f":"SUM(C4:C72)","v":94483.999999999971},1186.9999999999995,106,4873,11633.000000000002,1496,5627.9999999999991,4393.9999999999991,12130.000000000004,51605.999999999978,12377.999999999991,1705.0000000000005,9208,10617,8752.9999999999964,7304.0000000000009,4388.9999999999991,2791.0000000000009]

{"sheet":"65_format","index":88,"n_rows":73,"n_cols":20,"rows_kept":73,"cut":false,"hidden":true,"merged":[[0,0,2,0],[0,1,0,19],[1,1,2,1],[1,2,1,5],[1,6,1,9],[1,10,1,14],[1,15,1,17],[1,18,1,19]]}
["2018 Wards","2011 Census: Ethnic group of  65+ living in  Birmingham -  2018 wards                                  (interim estimates calculated by BCC)"]
[null,"All 0-15","White",null,null,null,"Mixed or multiple ethnic group",null,null,null,"Asian or Asian British",null,null,null,null,"Black or African or Caribbean or Black British",null,null,"Other ethnic group"]
[null,null,"British"," Irish"," Gypsy or Irish Traveller","Other White"," White and Black Caribbean"," White and Black African","White and Asian","Other Mixed"," Indian"," Pakistani"," Bangladeshi","Chinese","Other Asian"," African"," Caribbean"," Other Black"," Arab"," Any other ethnic group"]
["Acocks Green",3054,2249,384,0,34,11,0,0,3,99,88,15,9,19,3,118,9,8,5]
["Allens Cross",1644,1472,101,0,7,7,1,0,0,7,4,2,5,6,7,21,0,2,2]
["Alum Rock",1826,448,78,0,14,3,2,2,1,29,821,87,7,166,10,130,19,7,2]
["Aston",1904,370,75,0,17,17,0,2,5,227,385,214,9,58,15,464,32,1,13]
["Balsall Heath West",1080,252,60,2,15,10,1,2,3,49,222,16,56,33,9,231,6,93,20]
["Bartley Green",3193,2921,107,0,24,8,0,2,2,14,9,0,6,8,9,81,1,0,1]
["Billesley",3082,2471,304,1,35,9,1,2,6,83,69,3,6,15,6,56,2,9,4]
["Birchfield",1028,160,36,0,22,15,0,0,0,183,137,26,4,35,15,373,11,1,10]
["Bordesley & Highgate",761,259,102,1,12,4,2,1,1,16,89,24,59,12,17,137,16,8,1]
["Bordesley Green",994,283,96,1,6,10,0,4,2,22,299,71,6,26,6,139,6,14,3]
["Bournbrook & Selly Park",1348,971,191,0,32,2,0,2,4,51,33,16,6,6,6,23,3,1,1]
["Bournville & Cotteridge",3077,2770,148,0,36,6,1,3,2,35,10,1,8,9,5,36,2,1,4]
["Brandwood & King's Heath",2592,1963,245,0,38,11,0,5,3,95,86,5,7,16,3,99,1,5,10]
["Bromford & Hodge Hill",2874,2340,175,0,24,7,1,3,7,14,160,9,7,15,5,92,9,3,3]
["Castle Vale",1731,1540,105,0,6,4,0,2,1,6,1,0,4,0,3,53,1,1,4]
["Druids Heath & Monyhull",1779,1559,124,1,12,6,1,1,2,19,4,0,4,2,1,33,3,1,6]
["Edgbaston",2195,1621,85,0,63,4,1,3,3,182,46,5,37,33,8,71,7,6,20]
["Erdington",3156,2505,410,1,33,9,1,3,5,32,16,2,9,7,4,108,3,2,6]
["Frankley Great Park",1327,1193,64,0,14,2,0,2,1,4,7,2,2,0,1,32,1,1,1]
["Garrett's Green",1274,1069,96,0,5,1,0,2,1,1,17,1,0,2,4,69,2,0,4]
["Glebe Farm & Tile Cross",2751,2401,149,0,8,1,0,2,1,7,56,4,3,6,1,102,6,1,3]
["Gravelly Hill",1107,694,121,0,32,15,0,2,1,15,40,6,0,14,3,148,13,0,3]
["Hall Green North",2825,1820,311,0,47,8,0,0,1,257,197,16,7,49,2,62,2,9,37]
["Hall Green South",1694,1321,167,0,15,1,0,1,0,99,43,4,4,13,2,17,0,0,7]
["Handsworth",1084,133,34,0,17,11,2,1,3,288,134,46,8,44,4,307,20,1,31]
["Handsworth Wood",2304,1112,113,1,35,10,0,5,2,506,71,8,8,86,9,249,19,3,67]
["Harborne",3131,2613,183,0,75,8,0,3,5,128,17,2,17,16,4,49,1,3,7]
["Heartlands",1081,632,82,0,3,11,0,3,3,24,196,25,4,14,4,64,6,3,7]
["Highter's Heath",1673,1498,99,0,5,9,0,1,0,12,2,0,0,10,2,30,1,2,2]
["Holyhead",1068,219,59,0,13,11,0,4,3,253,37,27,2,41,3,345,15,1,35]
["King's Norton North",1885,1713,86,0,30,2,0,0,1,10,1,1,2,2,3,31,2,0,1]
["King's Norton South",1604,1444,86,0,17,2,2,1,3,3,3,1,3,2,5,31,0,1,0]
["Kingstanding",2819,2381,215,0,21,10,2,0,2,29,15,2,6,3,11,120,0,0,2]
["Ladywood",1139,670,101,0,19,13,0,1,4,37,11,1,35,11,19,192,17,3,5]
["Longbridge & West Heath",3244,2995,145,0,24,7,0,1,3,8,4,0,5,0,7,39,3,1,2]
["Lozells",674,92,40,1,5,5,2,0,2,46,164,124,11,24,9,138,7,2,2]
["Moseley",2736,1759,217,2,69,5,0,3,4,164,267,20,12,36,8,116,8,20,26]
["Nechells",981,518,106,0,6,18,4,3,8,7,30,30,8,3,30,184,19,3,4]
["Newtown",693,263,66,0,7,7,1,4,2,12,11,28,4,14,22,220,26,1,5]
["North Edgbaston",1964,807,159,0,35,13,0,4,3,308,217,9,12,52,15,267,13,12,38]
["Northfield",1855,1671,125,0,18,3,0,3,0,4,0,1,10,5,0,12,3,0,0]
["Oscott",3213,2826,208,0,25,4,1,4,1,33,3,3,5,8,2,85,3,0,2]
["Perry Barr",3006,2341,196,1,35,6,1,0,2,119,36,5,7,14,6,221,9,1,6]
["Perry Common",1780,1494,139,0,19,8,0,0,2,30,5,3,2,4,3,66,3,0,2]
["Pype Hayes",1612,1378,141,0,14,2,0,0,1,8,7,0,9,4,2,41,3,0,2]
["Quinton",3395,2889,165,0,50,5,0,2,3,128,16,0,10,21,7,79,5,3,12]
["Rubery & Rednal",1372,1282,54,0,12,4,0,0,1,2,0,0,0,1,1,9,3,1,2]
["Shard End",1866,1686,105,2,9,7,1,3,0,2,2,2,1,0,0,45,1,0,0]
["Sheldon",3609,3181,272,1,36,3,0,2,3,26,29,3,6,3,3,36,1,3,1]
["Small Heath",1742,323,141,0,13,5,2,0,2,55,778,117,9,80,9,164,8,22,14]
["Soho & Jewellery Quarter",1649,544,84,1,14,16,4,6,10,277,107,13,14,48,13,464,10,2,22]
["South Yardley",1328,1068,144,0,12,3,1,0,2,34,22,0,3,4,0,25,3,2,5]
["Sparkbrook & Balsall Heath East",1858,357,133,1,21,8,2,3,4,178,597,107,25,71,24,189,21,103,14]
["Sparkhill",1698,328,176,1,16,9,0,3,3,239,617,47,3,77,3,133,3,16,24]
["Stirchley",1178,946,91,0,33,5,0,2,2,30,12,7,3,4,1,40,0,1,1]
["Stockland Green",2519,1774,231,1,32,15,2,2,3,67,56,6,13,16,9,265,15,1,11]
["Sutton Four Oaks",2289,2137,36,0,27,0,1,2,1,57,6,2,1,6,0,2,0,1,10]
["Sutton Mere Green",2256,2127,53,1,23,1,0,2,0,30,4,2,2,5,2,3,0,0,1]
["Sutton Reddicap",1632,1504,58,0,11,2,1,1,0,17,3,1,4,3,4,19,2,0,2]
["Sutton Roughley",2196,2075,44,1,24,1,0,3,4,27,0,1,3,3,0,6,0,0,4]
["Sutton Trinity",1859,1737,55,0,33,3,0,1,1,14,2,0,0,1,0,9,0,0,3]
["Sutton Vesey",3758,3433,158,0,29,4,0,3,4,64,14,1,2,13,1,22,3,1,6]
["Sutton Walmley & Minworth",3033,2803,112,0,31,1,0,2,0,36,8,0,3,8,4,20,1,0,4]
["Sutton Wylde Green",2036,1849,78,0,20,1,1,0,2,36,16,2,9,5,2,13,0,0,2]
["Tyseley & Hay Mills",1243,899,173,1,8,5,1,2,1,16,37,20,4,16,2,55,1,1,1]
["Ward End",1074,613,65,2,9,3,0,0,1,6,244,11,3,28,2,75,7,1,4]
["Weoley & Selly Oak",3400,2999,155,1,42,9,1,5,2,46,12,7,18,18,10,54,6,1,14]
["Yardley East",1862,1606,125,0,12,1,1,0,0,23,36,2,4,6,2,38,1,3,2]
["Yardley West & Stechford",1519,1131,149,0,11,4,1,3,1,22,73,6,9,22,3,80,3,0,1]
["Birmingham",{"$f":"SUM(B4:B72)","v":138213},102502,9191,25,1571,451,46,134,159,5007,6761,1222,584,1402,415,7347,427,393,576]

{"sheet":"16-24_format","index":89,"n_rows":73,"n_cols":20,"rows_kept":73,"cut":false,"hidden":true,"merged":[[1,18,1,19],[1,1,2,1],[1,2,1,5],[1,6,1,9],[1,10,1,14],[1,15,1,17]]}
["2018 Wards","2011 Census: Ethnic group of  16-24's living in  Birmingham -  2018 wards                                  (interim estimates calculated by BCC)"]
[null,"All 16-24","White",null,null,null,"Mixed or multiple ethnic group",null,null,null,"Asian or Asian British",null,null,null,null,"Black or African or Caribbean or Black British",null,null,"Other ethnic group"]
[null,null,"British"," Irish"," Gypsy or Irish Traveller","Other White"," White and Black Caribbean"," White and Black African","White and Asian","Other Mixed"," Indian"," Pakistani"," Bangladeshi","Chinese","Other Asian"," African"," Caribbean"," Other Black"," Arab"," Any other ethnic group"]
["Acocks Green",{"$f":"'0_24_format'!B4-'0_15_format'!B4","v":2906.2920231459093},{"$f":"'0_24_format'!C4-'0_15_format'!C4","v":1629.6248500406914},{"$f":"'0_24_format'!D4-'0_15_format'!D4","v":41.264641492573546},{"$f":"'0_24_format'!E4-'0_15_format'!E4","v":0},{"$f":"'0_24_format'!F4-'0_15_format'!F4","v":118.75435248783597},{"$f":"'0_24_format'!G4-'0_15_format'!G4","v":111.24051127644748},{"$f":"'0_24_format'!H4-'0_15_format'!H4","v":12.836473322341075},{"$f":"'0_24_format'!I4-'0_15_format'!I4","v":52.643902629625615},{"$f":"'0_24_format'!J4-'0_15_format'!J4","v":11.667046056280697},{"$f":"'0_24_format'!K4-'0_15_format'!K4","v":168.33361903133346},{"$f":"'0_24_format'!L4-'0_15_format'!L4","v":380.1450525904454},{"$f":"'0_24_format'!M4-'0_15_format'!M4","v":74.518173664268147},{"$f":"'0_24_format'!N4-'0_15_format'!N4","v":21.141932010783769},{"$f":"'0_24_format'!O4-'0_15_format'!O4","v":82.261492305758907},{"$f":"'0_24_format'!P4-'0_15_format'!P4","v":49.088403352956419},{"$f":"'0_24_format'!Q4-'0_15_format'!Q4","v":85.108137006465853},{"$f":"'0_24_format'!R4-'0_15_format'!R4","v":41.440731064475784},{"$f":"'0_24_format'!S4-'0_15_format'!S4","v":13.921106549327838},{"$f":"'0_24_format'!T4-'0_15_format'!T4","v":12.301598264297319}]
["Allens Cross",{"$f":"'0_24_format'!B5-'0_15_format'!B5","v":1318.2557133949172},{"$f":"'0_24_format'!C5-'0_15_format'!C5","v":1043.0888766305302},{"$f":"'0_24_format'!D5-'0_15_format'!D5","v":6.4666311980925073},{"$f":"'0_24_format'!E5-'0_15_format'!E5","v":0},{"$f":"'0_24_format'!F5-'0_15_format'!F5","v":11.379509913087894},{"$f":"'0_24_format'!G5-'0_15_format'!G5","v":68.09006513212006},{"$f":"'0_24_format'!H5-'0_15_format'!H5","v":1.6794468446479414},{"$f":"'0_24_format'!I5-'0_15_format'!I5","v":13.402545512312301},{"$f":"'0_24_format'!J5-'0_15_format'!J5","v":13.642864447393976},{"$f":"'0_24_format'!K5-'0_15_format'!K5","v":10.691481351161158},{"$f":"'0_24_format'!L5-'0_15_format'!L5","v":20.968382683496792},{"$f":"'0_24_format'!M5-'0_15_format'!M5","v":1.7518367346938772},{"$f":"'0_24_format'!N5-'0_15_format'!N5","v":19.147772695285013},{"$f":"'0_24_format'!O5-'0_15_format'!O5","v":27.823105511955987},{"$f":"'0_24_format'!P5-'0_15_format'!P5","v":29.401474581102633},{"$f":"'0_24_format'!Q5-'0_15_format'!Q5","v":23.92892103676914},{"$f":"'0_24_format'!R5-'0_15_format'!R5","v":16.439941444932401},{"$f":"'0_24_format'!S5-'0_15_format'!S5","v":3.6028292609055832},{"$f":"'0_24_format'!T5-'0_15_format'!T5","v":6.7500284164298634}]
["Alum Rock",{"$f":"'0_24_format'!B6-'0_15_format'!B6","v":3959.8750000609925},{"$f":"'0_24_format'!C6-'0_15_format'!C6","v":184.43748471862094},{"$f":"'0_24_format'!D6-'0_15_format'!D6","v":2},{"$f":"'0_24_format'!E6-'0_15_format'!E6","v":0},{"$f":"'0_24_format'!F6-'0_15_format'!F6","v":60.694698484019227},{"$f":"'0_24_format'!G6-'0_15_format'!G6","v":47.5269883607059},{"$f":"'0_24_format'!H6-'0_15_format'!H6","v":9.7455430998859143},{"$f":"'0_24_format'!I6-'0_15_format'!I6","v":37.511123134109013},{"$f":"'0_24_format'!J6-'0_15_format'!J6","v":9.3159863729744359},{"$f":"'0_24_format'!K6-'0_15_format'!K6","v":92.113057669678511},{"$f":"'0_24_format'!L6-'0_15_format'!L6","v":2438.8850817641678},{"$f":"'0_24_format'!M6-'0_15_format'!M6","v":345.00052779155055},{"$f":"'0_24_format'!N6-'0_15_format'!N6","v":12.299353421252803},{"$f":"'0_24_format'!O6-'0_15_format'!O6","v":368.39928958774271},{"$f":"'0_24_format'!P6-'0_15_format'!P6","v":175.84410026611386},{"$f":"'0_24_format'!Q6-'0_15_format'!Q6","v":72.838070084774216},{"$f":"'0_24_format'!R6-'0_15_format'!R6","v":66.112279055390957},{"$f":"'0_24_format'!S6-'0_15_format'!S6","v":31.424232703984003},{"$f":"'0_24_format'!T6-'0_15_format'!T6","v":5.727183546023582}]
["Aston",{"$f":"'0_24_format'!B7-'0_15_format'!B7","v":3556.7244323663235},{"$f":"'0_24_format'!C7-'0_15_format'!C7","v":280.08628555786152},{"$f":"'0_24_format'!D7-'0_15_format'!D7","v":7.7335003685124413},{"$f":"'0_24_format'!E7-'0_15_format'!E7","v":1},{"$f":"'0_24_format'!F7-'0_15_format'!F7","v":42.708967341899267},{"$f":"'0_24_format'!G7-'0_15_format'!G7","v":46.166912808923058},{"$f":"'0_24_format'!H7-'0_15_format'!H7","v":8.0984914694386987},{"$f":"'0_24_format'!I7-'0_15_format'!I7","v":30.308141606818126},{"$f":"'0_24_format'!J7-'0_15_format'!J7","v":12.383052396717716},{"$f":"'0_24_format'!K7-'0_15_format'!K7","v":597.58627869786551},{"$f":"'0_24_format'!L7-'0_15_format'!L7","v":1153.1677983311865},{"$f":"'0_24_format'!M7-'0_15_format'!M7","v":803.36822728794914},{"$f":"'0_24_format'!N7-'0_15_format'!N7","v":42.382580653909002},{"$f":"'0_24_format'!O7-'0_15_format'!O7","v":144.61089927046316},{"$f":"'0_24_format'!P7-'0_15_format'!P7","v":125.44677582895918},{"$f":"'0_24_format'!Q7-'0_15_format'!Q7","v":161.85107285943104},{"$f":"'0_24_format'!R7-'0_15_format'!R7","v":57.115954075196782},{"$f":"'0_24_format'!S7-'0_15_format'!S7","v":16.730731042729047},{"$f":"'0_24_format'!T7-'0_15_format'!T7","v":25.978762768463589}]
["Balsall Heath West",{"$f":"'0_24_format'!B8-'0_15_format'!B8","v":1998.974898327438},{"$f":"'0_24_format'!C8-'0_15_format'!C8","v":448.59623941319637},{"$f":"'0_24_format'!D8-'0_15_format'!D8","v":9.6514068658629864},{"$f":"'0_24_format'!E8-'0_15_format'!E8","v":1},{"$f":"'0_24_format'!F8-'0_15_format'!F8","v":65.77880554686601},{"$f":"'0_24_format'!G8-'0_15_format'!G8","v":58.84187429965786},{"$f":"'0_24_format'!H8-'0_15_format'!H8","v":4.5348517573411549},{"$f":"'0_24_format'!I8-'0_15_format'!I8","v":33.956735858875533},{"$f":"'0_24_format'!J8-'0_15_format'!J8","v":23.64029296926546},{"$f":"'0_24_format'!K8-'0_15_format'!K8","v":118.60790260766592},{"$f":"'0_24_format'!L8-'0_15_format'!L8","v":510.79884414225239},{"$f":"'0_24_format'!M8-'0_15_format'!M8","v":59.789246359828624},{"$f":"'0_24_format'!N8-'0_15_format'!N8","v":73.868192733610314},{"$f":"'0_24_format'!O8-'0_15_format'!O8","v":112.88474527575079},{"$f":"'0_24_format'!P8-'0_15_format'!P8","v":76.101214143716504},{"$f":"'0_24_format'!Q8-'0_15_format'!Q8","v":87.588732234673358},{"$f":"'0_24_format'!R8-'0_15_format'!R8","v":50.736817463845568},{"$f":"'0_24_format'!S8-'0_15_format'!S8","v":230.83031314571542},{"$f":"'0_24_format'!T8-'0_15_format'!T8","v":31.76868350931386}]
["Bartley Green",{"$f":"'0_24_format'!B9-'0_15_format'!B9","v":2889.8780898890946},{"$f":"'0_24_format'!C9-'0_15_format'!C9","v":2239.9452393462138},{"$f":"'0_24_format'!D9-'0_15_format'!D9","v":24.194935876696906},{"$f":"'0_24_format'!E9-'0_15_format'!E9","v":1},{"$f":"'0_24_format'!F9-'0_15_format'!F9","v":35.755903873280445},{"$f":"'0_24_format'!G9-'0_15_format'!G9","v":179.38003235282696},{"$f":"'0_24_format'!H9-'0_15_format'!H9","v":14.248163265306122},{"$f":"'0_24_format'!I9-'0_15_format'!I9","v":38.057294527195779},{"$f":"'0_24_format'!J9-'0_15_format'!J9","v":25.565035135170106},{"$f":"'0_24_format'!K9-'0_15_format'!K9","v":25.935134393643317},{"$f":"'0_24_format'!L9-'0_15_format'!L9","v":27.721437500808818},{"$f":"'0_24_format'!M9-'0_15_format'!M9","v":1.4504460807785389},{"$f":"'0_24_format'!N9-'0_15_format'!N9","v":8.2595773426682015},{"$f":"'0_24_format'!O9-'0_15_format'!O9","v":20.492822590037918},{"$f":"'0_24_format'!P9-'0_15_format'!P9","v":68.6223296623659},{"$f":"'0_24_format'!Q9-'0_15_format'!Q9","v":107.35540538092218},{"$f":"'0_24_format'!R9-'0_15_format'!R9","v":43.248950603703747},{"$f":"'0_24_format'!S9-'0_15_format'!S9","v":12.397218692169321},{"$f":"'0_24_format'!T9-'0_15_format'!T9","v":16.248163265306118}]
["Billesley",{"$f":"'0_24_format'!B10-'0_15_format'!B10","v":2322.8891841028553},{"$f":"'0_24_format'!C10-'0_15_format'!C10","v":1413.0809368155569},{"$f":"'0_24_format'!D10-'0_15_format'!D10","v":24.395765237029707},{"$f":"'0_24_format'!E10-'0_15_format'!E10","v":2},{"$f":"'0_24_format'!F10-'0_15_format'!F10","v":38.838134819631549},{"$f":"'0_24_format'!G10-'0_15_format'!G10","v":102.58922412491106},{"$f":"'0_24_format'!H10-'0_15_format'!H10","v":2.4416149410667245},{"$f":"'0_24_format'!I10-'0_15_format'!I10","v":49.912864412317845},{"$f":"'0_24_format'!J10-'0_15_format'!J10","v":33.206694296412564},{"$f":"'0_24_format'!K10-'0_15_format'!K10","v":143.7896953014689},{"$f":"'0_24_format'!L10-'0_15_format'!L10","v":279.89453115371293},{"$f":"'0_24_format'!M10-'0_15_format'!M10","v":29.573401634899099},{"$f":"'0_24_format'!N10-'0_15_format'!N10","v":12.656997791322599},{"$f":"'0_24_format'!O10-'0_15_format'!O10","v":57.378939124728817},{"$f":"'0_24_format'!P10-'0_15_format'!P10","v":13.924736377631959},{"$f":"'0_24_format'!Q10-'0_15_format'!Q10","v":62.080519783986716},{"$f":"'0_24_format'!R10-'0_15_format'!R10","v":29.312347090500126},{"$f":"'0_24_format'!S10-'0_15_format'!S10","v":12.60426039922578},{"$f":"'0_24_format'!T10-'0_15_format'!T10","v":15.20852079845157}]
["Birchfield",{"$f":"'0_24_format'!B11-'0_15_format'!B11","v":1807.9611494817063},{"$f":"'0_24_format'!C11-'0_15_format'!C11","v":183.99329895647617},{"$f":"'0_24_format'!D11-'0_15_format'!D11","v":7.18213228035538},{"$f":"'0_24_format'!E11-'0_15_format'!E11","v":2.0498357064622126},{"$f":"'0_24_format'!F11-'0_15_format'!F11","v":75.094110558257626},{"$f":"'0_24_format'!G11-'0_15_format'!G11","v":59.583302928186612},{"$f":"'0_24_format'!H11-'0_15_format'!H11","v":0.7905888874739837},{"$f":"'0_24_format'!I11-'0_15_format'!I11","v":18.426949046686005},{"$f":"'0_24_format'!J11-'0_15_format'!J11","v":41.703022697658568},{"$f":"'0_24_format'!K11-'0_15_format'!K11","v":267.00361061011057},{"$f":"'0_24_format'!L11-'0_15_format'!L11","v":445.18464990899588},{"$f":"'0_24_format'!M11-'0_15_format'!M11","v":48.761875173607677},{"$f":"'0_24_format'!N11-'0_15_format'!N11","v":56.511040643758562},{"$f":"'0_24_format'!O11-'0_15_format'!O11","v":105.36493484538781},{"$f":"'0_24_format'!P11-'0_15_format'!P11","v":162.61012818466838},{"$f":"'0_24_format'!Q11-'0_15_format'!Q11","v":199.30438357266951},{"$f":"'0_24_format'!R11-'0_15_format'!R11","v":76.589153645038323},{"$f":"'0_24_format'!S11-'0_15_format'!S11","v":16.042382456980341},{"$f":"'0_24_format'!T11-'0_15_format'!T11","v":41.765749378932703}]
["Bordesley & Highgate",{"$f":"'0_24_format'!B12-'0_15_format'!B12","v":2470.124418127496},{"$f":"'0_24_format'!C12-'0_15_format'!C12","v":499.5535692271016},{"$f":"'0_24_format'!D12-'0_15_format'!D12","v":7.059688443808616},{"$f":"'0_24_format'!E12-'0_15_format'!E12","v":2},{"$f":"'0_24_format'!F12-'0_15_format'!F12","v":90.844635502833142},{"$f":"'0_24_format'!G12-'0_15_format'!G12","v":106.18592757309895},{"$f":"'0_24_format'!H12-'0_15_format'!H12","v":15.258265776506121},{"$f":"'0_24_format'!I12-'0_15_format'!I12","v":67.766358811471179},{"$f":"'0_24_format'!J12-'0_15_format'!J12","v":33.514444017820352},{"$f":"'0_24_format'!K12-'0_15_format'!K12","v":99.426440725147884},{"$f":"'0_24_format'!L12-'0_15_format'!L12","v":452.09229372673349},{"$f":"'0_24_format'!M12-'0_15_format'!M12","v":96.793111613137114},{"$f":"'0_24_format'!N12-'0_15_format'!N12","v":305.53945072661998},{"$f":"'0_24_format'!O12-'0_15_format'!O12","v":95.513786993876806},{"$f":"'0_24_format'!P12-'0_15_format'!P12","v":220.60563063275936},{"$f":"'0_24_format'!Q12-'0_15_format'!Q12","v":137.89100377880814},{"$f":"'0_24_format'!R12-'0_15_format'!R12","v":115.11337568129949},{"$f":"'0_24_format'!S12-'0_15_format'!S12","v":96.029134437015585},{"$f":"'0_24_format'!T12-'0_15_format'!T12","v":28.937300459457916}]
["Bordesley Green",{"$f":"'0_24_format'!B13-'0_15_format'!B13","v":1635.5931093184358},{"$f":"'0_24_format'!C13-'0_15_format'!C13","v":145.60306120529745},{"$f":"'0_24_format'!D13-'0_15_format'!D13","v":1.4442890442890444},{"$f":"'0_24_format'!E13-'0_15_format'!E13","v":1},{"$f":"'0_24_format'!F13-'0_15_format'!F13","v":34.259875610893886},{"$f":"'0_24_format'!G13-'0_15_format'!G13","v":50.678293784459427},{"$f":"'0_24_format'!H13-'0_15_format'!H13","v":10.852123221712077},{"$f":"'0_24_format'!I13-'0_15_format'!I13","v":18.04460651441272},{"$f":"'0_24_format'!J13-'0_15_format'!J13","v":26.113003651907988},{"$f":"'0_24_format'!K13-'0_15_format'!K13","v":37.306602480047061},{"$f":"'0_24_format'!L13-'0_15_format'!L13","v":664.25329388434602},{"$f":"'0_24_format'!M13-'0_15_format'!M13","v":285.9955701742316},{"$f":"'0_24_format'!N13-'0_15_format'!N13","v":5.4092327788216323},{"$f":"'0_24_format'!O13-'0_15_format'!O13","v":60.880701040994211},{"$f":"'0_24_format'!P13-'0_15_format'!P13","v":109.5070153333503},{"$f":"'0_24_format'!Q13-'0_15_format'!Q13","v":57.200083886424132},{"$f":"'0_24_format'!R13-'0_15_format'!R13","v":56.296662818851019},{"$f":"'0_24_format'!S13-'0_15_format'!S13","v":41.483419826761917},{"$f":"'0_24_format'!T13-'0_15_format'!T13","v":29.265274061635679}]
["Bournbrook & Selly Park",{"$f":"'0_24_format'!B14-'0_15_format'!B14","v":11259.48500039343},{"$f":"'0_24_format'!C14-'0_15_format'!C14","v":8070.6715196221485},{"$f":"'0_24_format'!D14-'0_15_format'!D14","v":84.706150341685657},{"$f":"'0_24_format'!E14-'0_15_format'!E14","v":11},{"$f":"'0_24_format'!F14-'0_15_format'!F14","v":401.35873955296501},{"$f":"'0_24_format'!G14-'0_15_format'!G14","v":103.4324243296517},{"$f":"'0_24_format'!H14-'0_15_format'!H14","v":38.936377046453515},{"$f":"'0_24_format'!I14-'0_15_format'!I14","v":167.08915500406874},{"$f":"'0_24_format'!J14-'0_15_format'!J14","v":113.61323136715097},{"$f":"'0_24_format'!K14-'0_15_format'!K14","v":704.49101637162812},{"$f":"'0_24_format'!L14-'0_15_format'!L14","v":206.84912245404101},{"$f":"'0_24_format'!M14-'0_15_format'!M14","v":68.294483128866432},{"$f":"'0_24_format'!N14-'0_15_format'!N14","v":634.23086017532},{"$f":"'0_24_format'!O14-'0_15_format'!O14","v":275.04565569680267},{"$f":"'0_24_format'!P14-'0_15_format'!P14","v":155.78486602994244},{"$f":"'0_24_format'!Q14-'0_15_format'!Q14","v":53.10361426822697},{"$f":"'0_24_format'!R14-'0_15_format'!R14","v":38.936377046453515},{"$f":"'0_24_format'!S14-'0_15_format'!S14","v":44.970703979011802},{"$f":"'0_24_format'!T14-'0_15_format'!T14","v":86.970703979011802}]
["Bournville & Cotteridge",{"$f":"'0_24_format'!B15-'0_15_format'!B15","v":2129.8557937830888},{"$f":"'0_24_format'!C15-'0_15_format'!C15","v":1677.3974765990879},{"$f":"'0_24_format'!D15-'0_15_format'!D15","v":6.4476372545757741},{"$f":"'0_24_format'!E15-'0_15_format'!E15","v":0},{"$f":"'0_24_format'!F15-'0_15_format'!F15","v":45.532211883469486},{"$f":"'0_24_format'!G15-'0_15_format'!G15","v":77.149978189377407},{"$f":"'0_24_format'!H15-'0_15_format'!H15","v":10.883363048373287},{"$f":"'0_24_format'!I15-'0_15_format'!I15","v":24.881010542314755},{"$f":"'0_24_format'!J15-'0_15_format'!J15","v":16.573073245382339},{"$f":"'0_24_format'!K15-'0_15_format'!K15","v":67.875080794258196},{"$f":"'0_24_format'!L15-'0_15_format'!L15","v":30.620895277477231},{"$f":"'0_24_format'!M15-'0_15_format'!M15","v":4.7545204801775025},{"$f":"'0_24_format'!N15-'0_15_format'!N15","v":30.405753552748227},{"$f":"'0_24_format'!O15-'0_15_format'!O15","v":24.786145971678984},{"$f":"'0_24_format'!P15-'0_15_format'!P15","v":40.5136862869184},{"$f":"'0_24_format'!Q15-'0_15_format'!Q15","v":32.456151169742263},{"$f":"'0_24_format'!R15-'0_15_format'!R15","v":11.176093893167},{"$f":"'0_24_format'!S15-'0_15_format'!S15","v":9.2783541955390199},{"$f":"'0_24_format'!T15-'0_15_format'!T15","v":19.124361398801849}]
["Brandwood & King's Heath",{"$f":"'0_24_format'!B16-'0_15_format'!B16","v":2016.7129780475029},{"$f":"'0_24_format'!C16-'0_15_format'!C16","v":1240.4214113728622},{"$f":"'0_24_format'!D16-'0_15_format'!D16","v":43.156150999478172},{"$f":"'0_24_format'!E16-'0_15_format'!E16","v":4},{"$f":"'0_24_format'!F16-'0_15_format'!F16","v":49.10439809955858},{"$f":"'0_24_format'!G16-'0_15_format'!G16","v":100.70583087012284},{"$f":"'0_24_format'!H16-'0_15_format'!H16","v":7.8452362843228656},{"$f":"'0_24_format'!I16-'0_15_format'!I16","v":32.01788537828088},{"$f":"'0_24_format'!J16-'0_15_format'!J16","v":25.223762493486049},{"$f":"'0_24_format'!K16-'0_15_format'!K16","v":104.56350824171605},{"$f":"'0_24_format'!L16-'0_15_format'!L16","v":229.31387330750363},{"$f":"'0_24_format'!M16-'0_15_format'!M16","v":12.947508091637438},{"$f":"'0_24_format'!N16-'0_15_format'!N16","v":10.344117808072461},{"$f":"'0_24_format'!O16-'0_15_format'!O16","v":37.128886505084665},{"$f":"'0_24_format'!P16-'0_15_format'!P16","v":23.645095275473729},{"$f":"'0_24_format'!Q16-'0_15_format'!Q16","v":50.908866072130806},{"$f":"'0_24_format'!R16-'0_15_format'!R16","v":9.9590605967031394},{"$f":"'0_24_format'!S16-'0_15_format'!S16","v":10.797940959476403},{"$f":"'0_24_format'!T16-'0_15_format'!T16","v":24.629445691592835}]
["Bromford & Hodge Hill",{"$f":"'0_24_format'!B17-'0_15_format'!B17","v":2587.2332382071518},{"$f":"'0_24_format'!C17-'0_15_format'!C17","v":1154.8210844384757},{"$f":"'0_24_format'!D17-'0_15_format'!D17","v":12},{"$f":"'0_24_format'!E17-'0_15_format'!E17","v":0},{"$f":"'0_24_format'!F17-'0_15_format'!F17","v":40.357327513849256},{"$f":"'0_24_format'!G17-'0_15_format'!G17","v":145.75226344356781},{"$f":"'0_24_format'!H17-'0_15_format'!H17","v":4.883559957473004},{"$f":"'0_24_format'!I17-'0_15_format'!I17","v":32.866062335627547},{"$f":"'0_24_format'!J17-'0_15_format'!J17","v":24.87614571092832},{"$f":"'0_24_format'!K17-'0_15_format'!K17","v":50.722069274243182},{"$f":"'0_24_format'!L17-'0_15_format'!L17","v":746.88282692630514},{"$f":"'0_24_format'!M17-'0_15_format'!M17","v":63.548447204968937},{"$f":"'0_24_format'!N17-'0_15_format'!N17","v":13.602960102960104},{"$f":"'0_24_format'!O17-'0_15_format'!O17","v":65.250321750321746},{"$f":"'0_24_format'!P17-'0_15_format'!P17","v":79.508734821778262},{"$f":"'0_24_format'!Q17-'0_15_format'!Q17","v":73.709909909909896},{"$f":"'0_24_format'!R17-'0_15_format'!R17","v":56.404426165295746},{"$f":"'0_24_format'!S17-'0_15_format'!S17","v":6.8088803088803047},{"$f":"'0_24_format'!T17-'0_15_format'!T17","v":15.238218342566171}]
["Castle Vale",{"$f":"'0_24_format'!B18-'0_15_format'!B18","v":1253},{"$f":"'0_24_format'!C18-'0_15_format'!C18","v":1054},{"$f":"'0_24_format'!D18-'0_15_format'!D18","v":11},{"$f":"'0_24_format'!E18-'0_15_format'!E18","v":0},{"$f":"'0_24_format'!F18-'0_15_format'!F18","v":7},{"$f":"'0_24_format'!G18-'0_15_format'!G18","v":93},{"$f":"'0_24_format'!H18-'0_15_format'!H18","v":2},{"$f":"'0_24_format'!I18-'0_15_format'!I18","v":5},{"$f":"'0_24_format'!J18-'0_15_format'!J18","v":4},{"$f":"'0_24_format'!K18-'0_15_format'!K18","v":3},{"$f":"'0_24_format'!L18-'0_15_format'!L18","v":5.9999999999999982},{"$f":"'0_24_format'!M18-'0_15_format'!M18","v":3},{"$f":"'0_24_format'!N18-'0_15_format'!N18","v":5},{"$f":"'0_24_format'!O18-'0_15_format'!O18","v":5},{"$f":"'0_24_format'!P18-'0_15_format'!P18","v":5},{"$f":"'0_24_format'!Q18-'0_15_format'!Q18","v":35},{"$f":"'0_24_format'!R18-'0_15_format'!R18","v":8},{"$f":"'0_24_format'!S18-'0_15_format'!S18","v":2},{"$f":"'0_24_format'!T18-'0_15_format'!T18","v":5}]
["Druids Heath & Monyhull",{"$f":"'0_24_format'!B19-'0_15_format'!B19","v":1359.3417307020172},{"$f":"'0_24_format'!C19-'0_15_format'!C19","v":1007.1775813502325},{"$f":"'0_24_format'!D19-'0_15_format'!D19","v":11.216138223574802},{"$f":"'0_24_format'!E19-'0_15_format'!E19","v":0},{"$f":"'0_24_format'!F19-'0_15_format'!F19","v":15.913600516153551},{"$f":"'0_24_format'!G19-'0_15_format'!G19","v":83.845935064028083},{"$f":"'0_24_format'!H19-'0_15_format'!H19","v":3.0094546167075507},{"$f":"'0_24_format'!I19-'0_15_format'!I19","v":7.687036183705608},{"$f":"'0_24_format'!J19-'0_15_format'!J19","v":21.591507098595336},{"$f":"'0_24_format'!K19-'0_15_format'!K19","v":20.839421817146295},{"$f":"'0_24_format'!L19-'0_15_format'!L19","v":24.289733891357926},{"$f":"'0_24_format'!M19-'0_15_format'!M19","v":-0.39559286463798493},{"$f":"'0_24_format'!N19-'0_15_format'!N19","v":10.262392587535121},{"$f":"'0_24_format'!O19-'0_15_format'!O19","v":11.09485913414747},{"$f":"'0_24_format'!P19-'0_15_format'!P19","v":44.155045351803381},{"$f":"'0_24_format'!Q19-'0_15_format'!Q19","v":62.3236632366214},{"$f":"'0_24_format'!R19-'0_15_format'!R19","v":18.518025026305736},{"$f":"'0_24_format'!S19-'0_15_format'!S19","v":8.0045298211538984},{"$f":"'0_24_format'!T19-'0_15_format'!T19","v":9.8083996475864446}]
["Edgbaston",{"$f":"'0_24_format'!B20-'0_15_format'!B20","v":6388.9092197271766},{"$f":"'0_24_format'!C20-'0_15_format'!C20","v":4181.1998767806044},{"$f":"'0_24_format'!D20-'0_15_format'!D20","v":37.602484828102789},{"$f":"'0_24_format'!E20-'0_15_format'!E20","v":2},{"$f":"'0_24_format'!F20-'0_15_format'!F20","v":269.67793128998039},{"$f":"'0_24_format'!G20-'0_15_format'!G20","v":101.34132415561089},{"$f":"'0_24_format'!H20-'0_15_format'!H20","v":18.761871703035439},{"$f":"'0_24_format'!I20-'0_15_format'!I20","v":130.4378347216192},{"$f":"'0_24_format'!J20-'0_15_format'!J20","v":60.27149926486608},{"$f":"'0_24_format'!K20-'0_15_format'!K20","v":507.03398721502788},{"$f":"'0_24_format'!L20-'0_15_format'!L20","v":147.45736607691077},{"$f":"'0_24_format'!M20-'0_15_format'!M20","v":29.371903997392799},{"$f":"'0_24_format'!N20-'0_15_format'!N20","v":348.31387748403785},{"$f":"'0_24_format'!O20-'0_15_format'!O20","v":182.83268110722486},{"$f":"'0_24_format'!P20-'0_15_format'!P20","v":151.43587932401442},{"$f":"'0_24_format'!Q20-'0_15_format'!Q20","v":75.788254487743245},{"$f":"'0_24_format'!R20-'0_15_format'!R20","v":23.805243759459884},{"$f":"'0_24_format'!S20-'0_15_format'!S20","v":30.826947014719067},{"$f":"'0_24_format'!T20-'0_15_format'!T20","v":90.750256516825942}]
["Erdington",{"$f":"'0_24_format'!B21-'0_15_format'!B21","v":1991.5069334146924},{"$f":"'0_24_format'!C21-'0_15_format'!C21","v":1314.2145553592241},{"$f":"'0_24_format'!D21-'0_15_format'!D21","v":45.96988933863777},{"$f":"'0_24_format'!E21-'0_15_format'!E21","v":1},{"$f":"'0_24_format'!F21-'0_15_format'!F21","v":84.605591679241741},{"$f":"'0_24_format'!G21-'0_15_format'!G21","v":121.18273324825242},{"$f":"'0_24_format'!H21-'0_15_format'!H21","v":-0.1625435274793503},{"$f":"'0_24_format'!I21-'0_15_format'!I21","v":32.536796433185771},{"$f":"'0_24_format'!J21-'0_15_format'!J21","v":24.748773661864561},{"$f":"'0_24_format'!K21-'0_15_format'!K21","v":52.479830336602319},{"$f":"'0_24_format'!L21-'0_15_format'!L21","v":76.644688641800286},{"$f":"'0_24_format'!M21-'0_15_format'!M21","v":24.148307082876087},{"$f":"'0_24_format'!N21-'0_15_format'!N21","v":25.884017280425525},{"$f":"'0_24_format'!O21-'0_15_format'!O21","v":28.342017365851632},{"$f":"'0_24_format'!P21-'0_15_format'!P21","v":45.516257451319177},{"$f":"'0_24_format'!Q21-'0_15_format'!Q21","v":83.939877833484502},{"$f":"'0_24_format'!R21-'0_15_format'!R21","v":25.535769293325885},{"$f":"'0_24_format'!S21-'0_15_format'!S21","v":2.4601770995433156},{"$f":"'0_24_format'!T21-'0_15_format'!T21","v":2.4601948365368358}]
["Frankley Great Park",{"$f":"'0_24_format'!B22-'0_15_format'!B22","v":1168.0050003955275},{"$f":"'0_24_format'!C22-'0_15_format'!C22","v":968.86271867825326},{"$f":"'0_24_format'!D22-'0_15_format'!D22","v":4.4535211267605632},{"$f":"'0_24_format'!E22-'0_15_format'!E22","v":0},{"$f":"'0_24_format'!F22-'0_15_format'!F22","v":4.8603147007759091},{"$f":"'0_24_format'!G22-'0_15_format'!G22","v":66.271874159012981},{"$f":"'0_24_format'!H22-'0_15_format'!H22","v":6.9518294300219168},{"$f":"'0_24_format'!I22-'0_15_format'!I22","v":16.900023920389103},{"$f":"'0_24_format'!J22-'0_15_format'!J22","v":7.3764388610832796},{"$f":"'0_24_format'!K22-'0_15_format'!K22","v":9.1339052057092509},{"$f":"'0_24_format'!L22-'0_15_format'!L22","v":16.027094225871835},{"$f":"'0_24_format'!M22-'0_15_format'!M22","v":-0.35813366960907933},{"$f":"'0_24_format'!N22-'0_15_format'!N22","v":2.1820757756873341},{"$f":"'0_24_format'!O22-'0_15_format'!O22","v":7.9789236558937553},{"$f":"'0_24_format'!P22-'0_15_format'!P22","v":14.058550514077332},{"$f":"'0_24_format'!Q22-'0_15_format'!Q22","v":20.924109205378144},{"$f":"'0_24_format'!R22-'0_15_format'!R22","v":9.6352224498534014},{"$f":"'0_24_format'!S22-'0_15_format'!S22","v":2},{"$f":"'0_24_format'!T22-'0_15_format'!T22","v":10.746532156368222}]
["Garrett's Green",{"$f":"'0_24_format'!B23-'0_15_format'!B23","v":1227.9755764892402},{"$f":"'0_24_format'!C23-'0_15_format'!C23","v":848.11471272371341},{"$f":"'0_24_format'!D23-'0_15_format'!D23","v":10.582161406333022},{"$f":"'0_24_format'!E23-'0_15_format'!E23","v":-0.55608429639700896},{"$f":"'0_24_format'!F23-'0_15_format'!F23","v":11.184027059379893},{"$f":"'0_24_format'!G23-'0_15_format'!G23","v":45.802142242437029},{"$f":"'0_24_format'!H23-'0_15_format'!H23","v":-0.44186046511627808},{"$f":"'0_24_format'!I23-'0_15_format'!I23","v":9.1782221448166368},{"$f":"'0_24_format'!J23-'0_15_format'!J23","v":4.0281323484227229},{"$f":"'0_24_format'!K23-'0_15_format'!K23","v":16.761808307425184},{"$f":"'0_24_format'!L23-'0_15_format'!L23","v":118.16695503873677},{"$f":"'0_24_format'!M23-'0_15_format'!M23","v":22.070831766700877},{"$f":"'0_24_format'!N23-'0_15_format'!N23","v":2.2987740141557129},{"$f":"'0_24_format'!O23-'0_15_format'!O23","v":24.662447974627767},{"$f":"'0_24_format'!P23-'0_15_format'!P23","v":26.572856949902359},{"$f":"'0_24_format'!Q23-'0_15_format'!Q23","v":43.43180045936986},{"$f":"'0_24_format'!R23-'0_15_format'!R23","v":41.642806261466205},{"$f":"'0_24_format'!S23-'0_15_format'!S23","v":1.1249143192383384},{"$f":"'0_24_format'!T23-'0_15_format'!T23","v":3.3509282340277382}]
["Glebe Farm & Tile Cross",{"$f":"'0_24_format'!B24-'0_15_format'!B24","v":3008.9908628294479},{"$f":"'0_24_format'!C24-'0_15_format'!C24","v":1976.4444477159536},{"$f":"'0_24_format'!D24-'0_15_format'!D24","v":14.765366430260048},{"$f":"'0_24_format'!E24-'0_15_format'!E24","v":0},{"$f":"'0_24_format'!F24-'0_15_format'!F24","v":28.676931084804451},{"$f":"'0_24_format'!G24-'0_15_format'!G24","v":163.75500519354824},{"$f":"'0_24_format'!H24-'0_15_format'!H24","v":14.716193944807159},{"$f":"'0_24_format'!I24-'0_15_format'!I24","v":37.996438809799486},{"$f":"'0_24_format'!J24-'0_15_format'!J24","v":15.824672752152324},{"$f":"'0_24_format'!K24-'0_15_format'!K24","v":47.240773257922754},{"$f":"'0_24_format'!L24-'0_15_format'!L24","v":358.71303092863195},{"$f":"'0_24_format'!M24-'0_15_format'!M24","v":35.551859131032771},{"$f":"'0_24_format'!N24-'0_15_format'!N24","v":6.3823562890654717},{"$f":"'0_24_format'!O24-'0_15_format'!O24","v":60.791630379339381},{"$f":"'0_24_format'!P24-'0_15_format'!P24","v":61.171755963501994},{"$f":"'0_24_format'!Q24-'0_15_format'!Q24","v":105.43834897337626},{"$f":"'0_24_format'!R24-'0_15_format'!R24","v":58.327917889041089},{"$f":"'0_24_format'!S24-'0_15_format'!S24","v":2.4670299052034679},{"$f":"'0_24_format'!T24-'0_15_format'!T24","v":20.727104181008521}]
["Gravelly Hill",{"$f":"'0_24_format'!B25-'0_15_format'!B25","v":1409.5090252300361},{"$f":"'0_24_format'!C25-'0_15_format'!C25","v":606.17847272283757},{"$f":"'0_24_format'!D25-'0_15_format'!D25","v":11.518273340807134},{"$f":"'0_24_format'!E25-'0_15_format'!E25","v":1},{"$f":"'0_24_format'!F25-'0_15_format'!F25","v":71.449449000769846},{"$f":"'0_24_format'!G25-'0_15_format'!G25","v":79.86455410715368},{"$f":"'0_24_format'!H25-'0_15_format'!H25","v":6.8394223347992522},{"$f":"'0_24_format'!I25-'0_15_format'!I25","v":38.722328866595063},{"$f":"'0_24_format'!J25-'0_15_format'!J25","v":21.691879119086671},{"$f":"'0_24_format'!K25-'0_15_format'!K25","v":40.079274169861122},{"$f":"'0_24_format'!L25-'0_15_format'!L25","v":232.21951550630797},{"$f":"'0_24_format'!M25-'0_15_format'!M25","v":7.5595210810649931},{"$f":"'0_24_format'!N25-'0_15_format'!N25","v":26.103616484917822},{"$f":"'0_24_format'!O25-'0_15_format'!O25","v":27.434605649595184},{"$f":"'0_24_format'!P25-'0_15_format'!P25","v":50.405713186193125},{"$f":"'0_24_format'!Q25-'0_15_format'!Q25","v":104.28677081038265},{"$f":"'0_24_format'!R25-'0_15_format'!R25","v":55.836127348714399},{"$f":"'0_24_format'!S25-'0_15_format'!S25","v":5.2486045885400383},{"$f":"'0_24_format'!T25-'0_15_format'!T25","v":23.070896912409648}]
["Hall Green North",{"$f":"'0_24_format'!B26-'0_15_format'!B26","v":2726.1884598015695},{"$f":"'0_24_format'!C26-'0_15_format'!C26","v":820.47312830056671},{"$f":"'0_24_format'!D26-'0_15_format'!D26","v":49.944197964927348},{"$f":"'0_24_format'!E26-'0_15_format'!E26","v":0},{"$f":"'0_24_format'!F26-'0_15_format'!F26","v":43.045263110569437},{"$f":"'0_24_format'!G26-'0_15_format'!G26","v":79.810754952641219},{"$f":"'0_24_format'!H26-'0_15_format'!H26","v":12.920412854903514},{"$f":"'0_24_format'!I26-'0_15_format'!I26","v":46.847444430946666},{"$f":"'0_24_format'!J26-'0_15_format'!J26","v":15.010940759610946},{"$f":"'0_24_format'!K26-'0_15_format'!K26","v":361.08111380186665},{"$f":"'0_24_format'!L26-'0_15_format'!L26","v":879.75797875799799},{"$f":"'0_24_format'!M26-'0_15_format'!M26","v":109.67501562100719},{"$f":"'0_24_format'!N26-'0_15_format'!N26","v":11.778014252235877},{"$f":"'0_24_format'!O26-'0_15_format'!O26","v":125.26064815178597},{"$f":"'0_24_format'!P26-'0_15_format'!P26","v":30.215877585126549},{"$f":"'0_24_format'!Q26-'0_15_format'!Q26","v":50.208800526852357},{"$f":"'0_24_format'!R26-'0_15_format'!R26","v":12.8717139546768},{"$f":"'0_24_format'!S26-'0_15_format'!S26","v":30.252081941929774},{"$f":"'0_24_format'!T26-'0_15_format'!T26","v":47.035072833923465}]
["Hall Green South",{"$f":"'0_24_format'!B27-'0_15_format'!B27","v":975.17709045386027},{"$f":"'0_24_format'!C27-'0_15_format'!C27","v":555.2694705492579},{"$f":"'0_24_format'!D27-'0_15_format'!D27","v":33.591188771505131},{"$f":"'0_24_format'!E27-'0_15_format'!E27","v":0},{"$f":"'0_24_format'!F27-'0_15_format'!F27","v":8.9255846917080071},{"$f":"'0_24_format'!G27-'0_15_format'!G27","v":22.943917039431255},{"$f":"'0_24_format'!H27-'0_15_format'!H27","v":1},{"$f":"'0_24_format'!I27-'0_15_format'!I27","v":9.6753132123582617},{"$f":"'0_24_format'!J27-'0_15_format'!J27","v":13.744873954369673},{"$f":"'0_24_format'!K27-'0_15_format'!K27","v":142.31729534061387},{"$f":"'0_24_format'!L27-'0_15_format'!L27","v":133.17376019540649},{"$f":"'0_24_format'!M27-'0_15_format'!M27","v":3.5070643306519997},{"$f":"'0_24_format'!N27-'0_15_format'!N27","v":5},{"$f":"'0_24_format'!O27-'0_15_format'!O27","v":28.113832726809434},{"$f":"'0_24_format'!P27-'0_15_format'!P27","v":0.65698086463501149},{"$f":"'0_24_format'!Q27-'0_15_format'!Q27","v":7.2637492607924301},{"$f":"'0_24_format'!R27-'0_15_format'!R27","v":1.4627923458540035},{"$f":"'0_24_format'!S27-'0_15_format'!S27","v":0.31874630396215409},{"$f":"'0_24_format'!T27-'0_15_format'!T27","v":8.2125208665042493}]
["Handsworth",{"$f":"'0_24_format'!B28-'0_15_format'!B28","v":1725.0067347864433},{"$f":"'0_24_format'!C28-'0_15_format'!C28","v":90.515429694329924},{"$f":"'0_24_format'!D28-'0_15_format'!D28","v":0.59858116565121189},{"$f":"'0_24_format'!E28-'0_15_format'!E28","v":0.52713852142155648},{"$f":"'0_24_format'!F28-'0_15_format'!F28","v":75.754645518703043},{"$f":"'0_24_format'!G28-'0_15_format'!G28","v":54.821845038442603},{"$f":"'0_24_format'!H28-'0_15_format'!H28","v":10.663163578963058},{"$f":"'0_24_format'!I28-'0_15_format'!I28","v":12.453886586476642},{"$f":"'0_24_format'!J28-'0_15_format'!J28","v":14.233312996004713},{"$f":"'0_24_format'!K28-'0_15_format'!K28","v":409.50669035747148},{"$f":"'0_24_format'!L28-'0_15_format'!L28","v":411.380310213499},{"$f":"'0_24_format'!M28-'0_15_format'!M28","v":160.72909997624618},{"$f":"'0_24_format'!N28-'0_15_format'!N28","v":15.479808090366173},{"$f":"'0_24_format'!O28-'0_15_format'!O28","v":87.905183420644477},{"$f":"'0_24_format'!P28-'0_15_format'!P28","v":93.868334898580997},{"$f":"'0_24_format'!Q28-'0_15_format'!Q28","v":127.59635484979083},{"$f":"'0_24_format'!R28-'0_15_format'!R28","v":63.559564825703831},{"$f":"'0_24_format'!S28-'0_15_format'!S28","v":7.0329544965471875},{"$f":"'0_24_format'!T28-'0_15_format'!T28","v":88.38043055760042}]
["Handsworth Wood",{"$f":"'0_24_format'!B29-'0_15_format'!B29","v":3006.3571637155578},{"$f":"'0_24_format'!C29-'0_15_format'!C29","v":560.32426591980607},{"$f":"'0_24_format'!D29-'0_15_format'!D29","v":20.550087255337651},{"$f":"'0_24_format'!E29-'0_15_format'!E29","v":-4.6758853677872025E-2},{"$f":"'0_24_format'!F29-'0_15_format'!F29","v":170.29235246201009},{"$f":"'0_24_format'!G29-'0_15_format'!G29","v":113.4245190910037},{"$f":"'0_24_format'!H29-'0_15_format'!H29","v":8.2673025651360241},{"$f":"'0_24_format'!I29-'0_15_format'!I29","v":51.873993849197916},{"$f":"'0_24_format'!J29-'0_15_format'!J29","v":42.40750542955675},{"$f":"'0_24_format'!K29-'0_15_format'!K29","v":990.38620795009138},{"$f":"'0_24_format'!L29-'0_15_format'!L29","v":182.66456313419314},{"$f":"'0_24_format'!M29-'0_15_format'!M29","v":50.987730655988457},{"$f":"'0_24_format'!N29-'0_15_format'!N29","v":60.403750938567093},{"$f":"'0_24_format'!O29-'0_15_format'!O29","v":160.71384299301724},{"$f":"'0_24_format'!P29-'0_15_format'!P29","v":98.914489202453467},{"$f":"'0_24_format'!Q29-'0_15_format'!Q29","v":301.53819855390361},{"$f":"'0_24_format'!R29-'0_15_format'!R29","v":92.35909660363248},{"$f":"'0_24_format'!S29-'0_15_format'!S29","v":13.037620792852938},{"$f":"'0_24_format'!T29-'0_15_format'!T29","v":88.258395172487326}]
["Harborne",{"$f":"'0_24_format'!B30-'0_15_format'!B30","v":2812.558147834422},{"$f":"'0_24_format'!C30-'0_15_format'!C30","v":1624.5022734676577},{"$f":"'0_24_format'!D30-'0_15_format'!D30","v":35.78703665415658},{"$f":"'0_24_format'!E30-'0_15_format'!E30","v":0},{"$f":"'0_24_format'!F30-'0_15_format'!F30","v":126.90100469833027},{"$f":"'0_24_format'!G30-'0_15_format'!G30","v":83.547774015271727},{"$f":"'0_24_format'!H30-'0_15_format'!H30","v":7.7275600361937222},{"$f":"'0_24_format'!I30-'0_15_format'!I30","v":56.736152928848412},{"$f":"'0_24_format'!J30-'0_15_format'!J30","v":35.649378929637791},{"$f":"'0_24_format'!K30-'0_15_format'!K30","v":178.73304344552452},{"$f":"'0_24_format'!L30-'0_15_format'!L30","v":67.639008381867313},{"$f":"'0_24_format'!M30-'0_15_format'!M30","v":26.81684612679777},{"$f":"'0_24_format'!N30-'0_15_format'!N30","v":212.74061860754244},{"$f":"'0_24_format'!O30-'0_15_format'!O30","v":109.40220872005298},{"$f":"'0_24_format'!P30-'0_15_format'!P30","v":78.40014470947628},{"$f":"'0_24_format'!Q30-'0_15_format'!Q30","v":68.551156087431806},{"$f":"'0_24_format'!R30-'0_15_format'!R30","v":44.737754606690032},{"$f":"'0_24_format'!S30-'0_15_format'!S30","v":32.495588342624544},{"$f":"'0_24_format'!T30-'0_15_format'!T30","v":22.190598076318153}]
["Heartlands",{"$f":"'0_24_format'!B31-'0_15_format'!B31","v":1647.805088447024},{"$f":"'0_24_format'!C31-'0_15_format'!C31","v":236.11251909828098},{"$f":"'0_24_format'!D31-'0_15_format'!D31","v":8.2432194972281163},{"$f":"'0_24_format'!E31-'0_15_format'!E31","v":0},{"$f":"'0_24_format'!F31-'0_15_format'!F31","v":21.389427752860186},{"$f":"'0_24_format'!G31-'0_15_format'!G31","v":49.510067053536318},{"$f":"'0_24_format'!H31-'0_15_format'!H31","v":2.673306975257697},{"$f":"'0_24_format'!I31-'0_15_format'!I31","v":35.503219702834087},{"$f":"'0_24_format'!J31-'0_15_format'!J31","v":32.376317287144204},{"$f":"'0_24_format'!K31-'0_15_format'!K31","v":43.649006895174722},{"$f":"'0_24_format'!L31-'0_15_format'!L31","v":818.69104991922086},{"$f":"'0_24_format'!M31-'0_15_format'!M31","v":93.448019390944808},{"$f":"'0_24_format'!N31-'0_15_format'!N31","v":6.4995136095458399},{"$f":"'0_24_format'!O31-'0_15_format'!O31","v":92.175316144417877},{"$f":"'0_24_format'!P31-'0_15_format'!P31","v":79.67457180675359},{"$f":"'0_24_format'!Q31-'0_15_format'!Q31","v":45.508113233189661},{"$f":"'0_24_format'!R31-'0_15_format'!R31","v":34.07026106528167},{"$f":"'0_24_format'!S31-'0_15_format'!S31","v":24.31726116086287},{"$f":"'0_24_format'!T31-'0_15_format'!T31","v":23.963897854490575}]
["Highter's Heath",{"$f":"'0_24_format'!B32-'0_15_format'!B32","v":1342.2086843810757},{"$f":"'0_24_format'!C32-'0_15_format'!C32","v":1131.9954633830203},{"$f":"'0_24_format'!D32-'0_15_format'!D32","v":4},{"$f":"'0_24_format'!E32-'0_15_format'!E32","v":0},{"$f":"'0_24_format'!F32-'0_15_format'!F32","v":7.7576150356448466},{"$f":"'0_24_format'!G32-'0_15_format'!G32","v":59.478937135450423},{"$f":"'0_24_format'!H32-'0_15_format'!H32","v":3.1030460142579397},{"$f":"'0_24_format'!I32-'0_15_format'!I32","v":9.9637070641607259},{"$f":"'0_24_format'!J32-'0_15_format'!J32","v":5.2060920285158829},{"$f":"'0_24_format'!K32-'0_15_format'!K32","v":35.891121192482188},{"$f":"'0_24_format'!L32-'0_15_format'!L32","v":25.339598185353211},{"$f":"'0_24_format'!M32-'0_15_format'!M32","v":-0.13933895009721198},{"$f":"'0_24_format'!N32-'0_15_format'!N32","v":0.55152300712897073},{"$f":"'0_24_format'!O32-'0_15_format'!O32","v":2.9274141283214519},{"$f":"'0_24_format'!P32-'0_15_format'!P32","v":29.066753078418664},{"$f":"'0_24_format'!Q32-'0_15_format'!Q32","v":16.515230071289697},{"$f":"'0_24_format'!R32-'0_15_format'!R32","v":4.5515230071289698},{"$f":"'0_24_format'!S32-'0_15_format'!S32","v":2},{"$f":"'0_24_format'!T32-'0_15_format'!T32","v":4}]
["Holyhead",{"$f":"'0_24_format'!B33-'0_15_format'!B33","v":1615.4694578963795},{"$f":"'0_24_format'!C33-'0_15_format'!C33","v":94.735997575066364},{"$f":"'0_24_format'!D33-'0_15_format'!D33","v":3.6691992986557569},{"$f":"'0_24_format'!E33-'0_15_format'!E33","v":0.4697846257941023},{"$f":"'0_24_format'!F33-'0_15_format'!F33","v":147.86432111875328},{"$f":"'0_24_format'!G33-'0_15_format'!G33","v":50.376233160904064},{"$f":"'0_24_format'!H33-'0_15_format'!H33","v":2.3011172038571708},{"$f":"'0_24_format'!I33-'0_15_format'!I33","v":19.158645643845006},{"$f":"'0_24_format'!J33-'0_15_format'!J33","v":8.3766735578648195},{"$f":"'0_24_format'!K33-'0_15_format'!K33","v":439.4682935074004},{"$f":"'0_24_format'!L33-'0_15_format'!L33","v":174.96612598355824},{"$f":"'0_24_format'!M33-'0_15_format'!M33","v":153.84236021681187},{"$f":"'0_24_format'!N33-'0_15_format'!N33","v":23.887321899871289},{"$f":"'0_24_format'!O33-'0_15_format'!O33","v":94.924286857012987},{"$f":"'0_24_format'!P33-'0_15_format'!P33","v":59.308319445619333},{"$f":"'0_24_format'!Q33-'0_15_format'!Q33","v":199.3695159768734},{"$f":"'0_24_format'!R33-'0_15_format'!R33","v":72.394812813255669},{"$f":"'0_24_format'!S33-'0_15_format'!S33","v":4.8745735713716378},{"$f":"'0_24_format'!T33-'0_15_format'!T33","v":65.481875439864211}]
["King's Norton North",{"$f":"'0_24_format'!B34-'0_15_format'!B34","v":1262.1421630670429},{"$f":"'0_24_format'!C34-'0_15_format'!C34","v":980.69336419262527},{"$f":"'0_24_format'!D34-'0_15_format'!D34","v":7.9526849988814341},{"$f":"'0_24_format'!E34-'0_15_format'!E34","v":1.2274535809018567},{"$f":"'0_24_format'!F34-'0_15_format'!F34","v":21.786799977426192},{"$f":"'0_24_format'!G34-'0_15_format'!G34","v":72.597322660961481},{"$f":"'0_24_format'!H34-'0_15_format'!H34","v":8.21684634760501},{"$f":"'0_24_format'!I34-'0_15_format'!I34","v":5.9909959439239415},{"$f":"'0_24_format'!J34-'0_15_format'!J34","v":12.650491460519362},{"$f":"'0_24_format'!K34-'0_15_format'!K34","v":11.276333475234399},{"$f":"'0_24_format'!L34-'0_15_format'!L34","v":28.311743048873083},{"$f":"'0_24_format'!M34-'0_15_format'!M34","v":6.183392536116628},{"$f":"'0_24_format'!N34-'0_15_format'!N34","v":3.7712856027485158},{"$f":"'0_24_format'!O34-'0_15_format'!O34","v":15.603733454397648},{"$f":"'0_24_format'!P34-'0_15_format'!P34","v":14.898060200926331},{"$f":"'0_24_format'!Q34-'0_15_format'!Q34","v":28.495862260985454},{"$f":"'0_24_format'!R34-'0_15_format'!R34","v":13.521583449045906},{"$f":"'0_24_format'!S34-'0_15_format'!S34","v":15.740482000381775},{"$f":"'0_24_format'!T34-'0_15_format'!T34","v":13.223727875488574}]
["King's Norton South",{"$f":"'0_24_format'!B35-'0_15_format'!B35","v":1426.5401356254633},{"$f":"'0_24_format'!C35-'0_15_format'!C35","v":1109.2895427708102},{"$f":"'0_24_format'!D35-'0_15_format'!D35","v":13.438750909318587},{"$f":"'0_24_format'!E35-'0_15_format'!E35","v":0},{"$f":"'0_24_format'!F35-'0_15_format'!F35","v":15.471299409907971},{"$f":"'0_24_format'!G35-'0_15_format'!G35","v":95.905095676658107},{"$f":"'0_24_format'!H35-'0_15_format'!H35","v":3.2561897354895564},{"$f":"'0_24_format'!I35-'0_15_format'!I35","v":21.032679249238718},{"$f":"'0_24_format'!J35-'0_15_format'!J35","v":17.073759310309867},{"$f":"'0_24_format'!K35-'0_15_format'!K35","v":26.233412050273124},{"$f":"'0_24_format'!L35-'0_15_format'!L35","v":10.652909638438157},{"$f":"'0_24_format'!M35-'0_15_format'!M35","v":10.59975573298853},{"$f":"'0_24_format'!N35-'0_15_format'!N35","v":5},{"$f":"'0_24_format'!O35-'0_15_format'!O35","v":6.0420310063699887},{"$f":"'0_24_format'!P35-'0_15_format'!P35","v":21.905155951623172},{"$f":"'0_24_format'!Q35-'0_15_format'!Q35","v":44.097487940825133},{"$f":"'0_24_format'!R35-'0_15_format'!R35","v":8.4740035773213407},{"$f":"'0_24_format'!S35-'0_15_format'!S35","v":7.843601234341115},{"$f":"'0_24_format'!T35-'0_15_format'!T35","v":10.224461431549686}]
["Kingstanding",{"$f":"'0_24_format'!B36-'0_15_format'!B36","v":2721.6079450633488},{"$f":"'0_24_format'!C36-'0_15_format'!C36","v":2117.3224516616328},{"$f":"'0_24_format'!D36-'0_15_format'!D36","v":13.890785532193158},{"$f":"'0_24_format'!E36-'0_15_format'!E36","v":0},{"$f":"'0_24_format'!F36-'0_15_format'!F36","v":22.507451966860629},{"$f":"'0_24_format'!G36-'0_15_format'!G36","v":120.49808690784386},{"$f":"'0_24_format'!H36-'0_15_format'!H36","v":11.622090752035128},{"$f":"'0_24_format'!I36-'0_15_format'!I36","v":28.138808181256636},{"$f":"'0_24_format'!J36-'0_15_format'!J36","v":19.083929820401529},{"$f":"'0_24_format'!K36-'0_15_format'!K36","v":77.103533209555906},{"$f":"'0_24_format'!L36-'0_15_format'!L36","v":61.967800874105649},{"$f":"'0_24_format'!M36-'0_15_format'!M36","v":17.214109017532479},{"$f":"'0_24_format'!N36-'0_15_format'!N36","v":16.66824239092378},{"$f":"'0_24_format'!O36-'0_15_format'!O36","v":34.376267008303472},{"$f":"'0_24_format'!P36-'0_15_format'!P36","v":33.255431019221305},{"$f":"'0_24_format'!Q36-'0_15_format'!Q36","v":99.210475944081253},{"$f":"'0_24_format'!R36-'0_15_format'!R36","v":38.962641976729003},{"$f":"'0_24_format'!S36-'0_15_format'!S36","v":2},{"$f":"'0_24_format'!T36-'0_15_format'!T36","v":7.7858388006719288}]
["Ladywood",{"$f":"'0_24_format'!B37-'0_15_format'!B37","v":6029.2137763578176},{"$f":"'0_24_format'!C37-'0_15_format'!C37","v":2310.2015369705232},{"$f":"'0_24_format'!D37-'0_15_format'!D37","v":49.179444768761755},{"$f":"'0_24_format'!E37-'0_15_format'!E37","v":4},{"$f":"'0_24_format'!F37-'0_15_format'!F37","v":543.86324107992971},{"$f":"'0_24_format'!G37-'0_15_format'!G37","v":190.46248655427877},{"$f":"'0_24_format'!H37-'0_15_format'!H37","v":35.335222484700289},{"$f":"'0_24_format'!I37-'0_15_format'!I37","v":99.836912267531801},{"$f":"'0_24_format'!J37-'0_15_format'!J37","v":62.324816328691966},{"$f":"'0_24_format'!K37-'0_15_format'!K37","v":410.36669741584058},{"$f":"'0_24_format'!L37-'0_15_format'!L37","v":141.08612830384513},{"$f":"'0_24_format'!M37-'0_15_format'!M37","v":26.35374879227367},{"$f":"'0_24_format'!N37-'0_15_format'!N37","v":942.3809933256324},{"$f":"'0_24_format'!O37-'0_15_format'!O37","v":253.36600482218796},{"$f":"'0_24_format'!P37-'0_15_format'!P37","v":315.08789707876599},{"$f":"'0_24_format'!Q37-'0_15_format'!Q37","v":267.84470504017992},{"$f":"'0_24_format'!R37-'0_15_format'!R37","v":86.156307846374602},{"$f":"'0_24_format'!S37-'0_15_format'!S37","v":130.29997128201552},{"$f":"'0_24_format'!T37-'0_15_format'!T37","v":161.06766199628464}]
["Longbridge & West Heath",{"$f":"'0_24_format'!B38-'0_15_format'!B38","v":2510.6554036037664},{"$f":"'0_24_format'!C38-'0_15_format'!C38","v":2133.5894406959324},{"$f":"'0_24_format'!D38-'0_15_format'!D38","v":16.687959299660349},{"$f":"'0_24_format'!E38-'0_15_format'!E38","v":-0.22745358090185674},{"$f":"'0_24_format'!F38-'0_15_format'!F38","v":22.367419296006176},{"$f":"'0_24_format'!G38-'0_15_format'!G38","v":106.81255845414108},{"$f":"'0_24_format'!H38-'0_15_format'!H38","v":4.8546349329139744},{"$f":"'0_24_format'!I38-'0_15_format'!I38","v":31.320339027604462},{"$f":"'0_24_format'!J38-'0_15_format'!J38","v":27.859376619896622},{"$f":"'0_24_format'!K38-'0_15_format'!K38","v":28.309769459334863},{"$f":"'0_24_format'!L38-'0_15_format'!L38","v":7.0719075212863594},{"$f":"'0_24_format'!M38-'0_15_format'!M38","v":3.6491885143570535},{"$f":"'0_24_format'!N38-'0_15_format'!N38","v":11.383717415372679},{"$f":"'0_24_format'!O38-'0_15_format'!O38","v":19.829246473698632},{"$f":"'0_24_format'!P38-'0_15_format'!P38","v":42.548007430512669},{"$f":"'0_24_format'!Q38-'0_15_format'!Q38","v":28.708375546598695},{"$f":"'0_24_format'!R38-'0_15_format'!R38","v":17.605816521415257},{"$f":"'0_24_format'!S38-'0_15_format'!S38","v":3.2987806513730451},{"$f":"'0_24_format'!T38-'0_15_format'!T38","v":4.9863193245639721}]
["Lozells",{"$f":"'0_24_format'!B39-'0_15_format'!B39","v":1522.4586425738748},{"$f":"'0_24_format'!C39-'0_15_format'!C39","v":70.250558224888366},{"$f":"'0_24_format'!D39-'0_15_format'!D39","v":1},{"$f":"'0_24_format'!E39-'0_15_format'!E39","v":0},{"$f":"'0_24_format'!F39-'0_15_format'!F39","v":20.320617388372284},{"$f":"'0_24_format'!G39-'0_15_format'!G39","v":29.119221607500123},{"$f":"'0_24_format'!H39-'0_15_format'!H39","v":4.7998236070761902},{"$f":"'0_24_format'!I39-'0_15_format'!I39","v":10.799359011256744},{"$f":"'0_24_format'!J39-'0_15_format'!J39","v":2.1320501665620952},{"$f":"'0_24_format'!K39-'0_15_format'!K39","v":52.781890778777807},{"$f":"'0_24_format'!L39-'0_15_format'!L39","v":487.4343679544919},{"$f":"'0_24_format'!M39-'0_15_format'!M39","v":613.85362507088462},{"$f":"'0_24_format'!N39-'0_15_format'!N39","v":21.886015071084181},{"$f":"'0_24_format'!O39-'0_15_format'!O39","v":37.462838306587471},{"$f":"'0_24_format'!P39-'0_15_format'!P39","v":55.266872747693441},{"$f":"'0_24_format'!Q39-'0_15_format'!Q39","v":50.520428853693943},{"$f":"'0_24_format'!R39-'0_15_format'!R39","v":33.196798029217717},{"$f":"'0_24_format'!S39-'0_15_format'!S39","v":10.764825034082762},{"$f":"'0_24_format'!T39-'0_15_format'!T39","v":20.86935072170472}]
["Moseley",{"$f":"'0_24_format'!B40-'0_15_format'!B40","v":2526.0856858609573},{"$f":"'0_24_format'!C40-'0_15_format'!C40","v":1059.8718116535108},{"$f":"'0_24_format'!D40-'0_15_format'!D40","v":37.17238925600202},{"$f":"'0_24_format'!E40-'0_15_format'!E40","v":2.3207547169811322},{"$f":"'0_24_format'!F40-'0_15_format'!F40","v":75.669723486786708},{"$f":"'0_24_format'!G40-'0_15_format'!G40","v":96.097848568018179},{"$f":"'0_24_format'!H40-'0_15_format'!H40","v":11.254360004661034},{"$f":"'0_24_format'!I40-'0_15_format'!I40","v":44.067212456338325},{"$f":"'0_24_format'!J40-'0_15_format'!J40","v":36.722481120219442},{"$f":"'0_24_format'!K40-'0_15_format'!K40","v":185.24020064376475},{"$f":"'0_24_format'!L40-'0_15_format'!L40","v":603.22536641609099},{"$f":"'0_24_format'!M40-'0_15_format'!M40","v":33.109902078754928},{"$f":"'0_24_format'!N40-'0_15_format'!N40","v":26.82386263662756},{"$f":"'0_24_format'!O40-'0_15_format'!O40","v":85.616890643060231},{"$f":"'0_24_format'!P40-'0_15_format'!P40","v":52.48227263437775},{"$f":"'0_24_format'!Q40-'0_15_format'!Q40","v":50.254812370409724},{"$f":"'0_24_format'!R40-'0_15_format'!R40","v":45.371837460575279},{"$f":"'0_24_format'!S40-'0_15_format'!S40","v":59.239548826347288},{"$f":"'0_24_format'!T40-'0_15_format'!T40","v":21.544410888431287}]
["Nechells",{"$f":"'0_24_format'!B41-'0_15_format'!B41","v":4602.1412538036275},{"$f":"'0_24_format'!C41-'0_15_format'!C41","v":1571.2666105043447},{"$f":"'0_24_format'!D41-'0_15_format'!D41","v":16.427647534357316},{"$f":"'0_24_format'!E41-'0_15_format'!E41","v":0},{"$f":"'0_24_format'!F41-'0_15_format'!F41","v":396.5664888800722},{"$f":"'0_24_format'!G41-'0_15_format'!G41","v":148.55165033069906},{"$f":"'0_24_format'!H41-'0_15_format'!H41","v":27.335724517894157},{"$f":"'0_24_format'!I41-'0_15_format'!I41","v":63.797201932122547},{"$f":"'0_24_format'!J41-'0_15_format'!J41","v":42.007122243554775},{"$f":"'0_24_format'!K41-'0_15_format'!K41","v":600.84940179926207},{"$f":"'0_24_format'!L41-'0_15_format'!L41","v":216.68796000899448},{"$f":"'0_24_format'!M41-'0_15_format'!M41","v":70.496910705480531},{"$f":"'0_24_format'!N41-'0_15_format'!N41","v":442.68744362289038},{"$f":"'0_24_format'!O41-'0_15_format'!O41","v":140.79128703642436},{"$f":"'0_24_format'!P41-'0_15_format'!P41","v":385.44583959510396},{"$f":"'0_24_format'!Q41-'0_15_format'!Q41","v":173.52984346815424},{"$f":"'0_24_format'!R41-'0_15_format'!R41","v":160.22259831281445},{"$f":"'0_24_format'!S41-'0_15_format'!S41","v":87.384996621066676},{"$f":"'0_24_format'!T41-'0_15_format'!T41","v":58.092526690391452}]
["Newtown",{"$f":"'0_24_format'!B42-'0_15_format'!B42","v":3453.8155532486717},{"$f":"'0_24_format'!C42-'0_15_format'!C42","v":796.48259457379709},{"$f":"'0_24_format'!D42-'0_15_format'!D42","v":14.838852097130243},{"$f":"'0_24_format'!E42-'0_15_format'!E42","v":-0.12826603325415678},{"$f":"'0_24_format'!F42-'0_15_format'!F42","v":156.56660187151925},{"$f":"'0_24_format'!G42-'0_15_format'!G42","v":121.04303517075488},{"$f":"'0_24_format'!H42-'0_15_format'!H42","v":22.18517679037318},{"$f":"'0_24_format'!I42-'0_15_format'!I42","v":61.567954206669754},{"$f":"'0_24_format'!J42-'0_15_format'!J42","v":35.63166204544693},{"$f":"'0_24_format'!K42-'0_15_format'!K42","v":794.26486128225179},{"$f":"'0_24_format'!L42-'0_15_format'!L42","v":97.019541028699848},{"$f":"'0_24_format'!M42-'0_15_format'!M42","v":125.7976964058937},{"$f":"'0_24_format'!N42-'0_15_format'!N42","v":175.98273338965956},{"$f":"'0_24_format'!O42-'0_15_format'!O42","v":139.91056410968682},{"$f":"'0_24_format'!P42-'0_15_format'!P42","v":364.03406175588293},{"$f":"'0_24_format'!Q42-'0_15_format'!Q42","v":271.77509830350687},{"$f":"'0_24_format'!R42-'0_15_format'!R42","v":173.19797635942609},{"$f":"'0_24_format'!S42-'0_15_format'!S42","v":38.609142360983952},{"$f":"'0_24_format'!T42-'0_15_format'!T42","v":65.036267530242867}]
["North Edgbaston",{"$f":"'0_24_format'!B43-'0_15_format'!B43","v":3817.9547962998768},{"$f":"'0_24_format'!C43-'0_15_format'!C43","v":1195.344055343694},{"$f":"'0_24_format'!D43-'0_15_format'!D43","v":27.471602860748845},{"$f":"'0_24_format'!E43-'0_15_format'!E43","v":4.7358014303744209},{"$f":"'0_24_format'!F43-'0_15_format'!F43","v":284.54239140743528},{"$f":"'0_24_format'!G43-'0_15_format'!G43","v":124.4334255186094},{"$f":"'0_24_format'!H43-'0_15_format'!H43","v":14.182501345893158},{"$f":"'0_24_format'!I43-'0_15_format'!I43","v":60.93535281264289},{"$f":"'0_24_format'!J43-'0_15_format'!J43","v":42.40633851175744},{"$f":"'0_24_format'!K43-'0_15_format'!K43","v":401.31075238152164},{"$f":"'0_24_format'!L43-'0_15_format'!L43","v":655.2876349321466},{"$f":"'0_24_format'!M43-'0_15_format'!M43","v":77.402997398296037},{"$f":"'0_24_format'!N43-'0_15_format'!N43","v":71.220604587298013},{"$f":"'0_24_format'!O43-'0_15_format'!O43","v":221.63204473914982},{"$f":"'0_24_format'!P43-'0_15_format'!P43","v":190.45189465730931},{"$f":"'0_24_format'!Q43-'0_15_format'!Q43","v":188.05979828631979},{"$f":"'0_24_format'!R43-'0_15_format'!R43","v":122.01900439492834},{"$f":"'0_24_format'!S43-'0_15_format'!S43","v":60.1067859680293},{"$f":"'0_24_format'!T43-'0_15_format'!T43","v":76.411809723722683}]
["Northfield",{"$f":"'0_24_format'!B44-'0_15_format'!B44","v":1118.8019063783213},{"$f":"'0_24_format'!C44-'0_15_format'!C44","v":939.68865679524583},{"$f":"'0_24_format'!D44-'0_15_format'!D44","v":23.922073468889394},{"$f":"'0_24_format'!E44-'0_15_format'!E44","v":0},{"$f":"'0_24_format'!F44-'0_15_format'!F44","v":19.580885069376077},{"$f":"'0_24_format'!G44-'0_15_format'!G44","v":35.590193659083369},{"$f":"'0_24_format'!H44-'0_15_format'!H44","v":-0.32891769355261857},{"$f":"'0_24_format'!I44-'0_15_format'!I44","v":11.694653967054009},{"$f":"'0_24_format'!J44-'0_15_format'!J44","v":15.044923730695416},{"$f":"'0_24_format'!K44-'0_15_format'!K44","v":8.4787922251439056},{"$f":"'0_24_format'!L44-'0_15_format'!L44","v":8.1114049999391966},{"$f":"'0_24_format'!M44-'0_15_format'!M44","v":-1.4323367834622136},{"$f":"'0_24_format'!N44-'0_15_format'!N44","v":6.8963027735464788},{"$f":"'0_24_format'!O44-'0_15_format'!O44","v":8.3781324396558219},{"$f":"'0_24_format'!P44-'0_15_format'!P44","v":9.9830872638527133},{"$f":"'0_24_format'!Q44-'0_15_format'!Q44","v":17.387468737747568},{"$f":"'0_24_format'!R44-'0_15_format'!R44","v":13.649734214928642},{"$f":"'0_24_format'!S44-'0_15_format'!S44","v":0.50512486615415675},{"$f":"'0_24_format'!T44-'0_15_format'!T44","v":1.6517266440239355}]
["Oscott",{"$f":"'0_24_format'!B45-'0_15_format'!B45","v":2277.9012368048006},{"$f":"'0_24_format'!C45-'0_15_format'!C45","v":1838.9175443945492},{"$f":"'0_24_format'!D45-'0_15_format'!D45","v":7.890819600190099},{"$f":"'0_24_format'!E45-'0_15_format'!E45","v":0},{"$f":"'0_24_format'!F45-'0_15_format'!F45","v":43.334358810065808},{"$f":"'0_24_format'!G45-'0_15_format'!G45","v":77.667603755697115},{"$f":"'0_24_format'!H45-'0_15_format'!H45","v":3.6851554059891569},{"$f":"'0_24_format'!I45-'0_15_format'!I45","v":13.15659184381218},{"$f":"'0_24_format'!J45-'0_15_format'!J45","v":11.938734109871099},{"$f":"'0_24_format'!K45-'0_15_format'!K45","v":84.782729114168575},{"$f":"'0_24_format'!L45-'0_15_format'!L45","v":5.4728604789936313},{"$f":"'0_24_format'!M45-'0_15_format'!M45","v":17.572394445094275},{"$f":"'0_24_format'!N45-'0_15_format'!N45","v":9.5589378104904021},{"$f":"'0_24_format'!O45-'0_15_format'!O45","v":4.7145269722507024},{"$f":"'0_24_format'!P45-'0_15_format'!P45","v":11.972665159961799},{"$f":"'0_24_format'!Q45-'0_15_format'!Q45","v":110.710344928962},{"$f":"'0_24_format'!R45-'0_15_format'!R45","v":28.128075992879602},{"$f":"'0_24_format'!S45-'0_15_format'!S45","v":2.0731197771587744},{"$f":"'0_24_format'!T45-'0_15_format'!T45","v":6.324774204666765}]
["Perry Barr",{"$f":"'0_24_format'!B46-'0_15_format'!B46","v":3221.6254335164649},{"$f":"'0_24_format'!C46-'0_15_format'!C46","v":1605.5420552258688},{"$f":"'0_24_format'!D46-'0_15_format'!D46","v":45.349805124026993},{"$f":"'0_24_format'!E46-'0_15_format'!E46","v":0},{"$f":"'0_24_format'!F46-'0_15_format'!F46","v":92.683830248714585},{"$f":"'0_24_format'!G46-'0_15_format'!G46","v":96.725334977484664},{"$f":"'0_24_format'!H46-'0_15_format'!H46","v":15.349805124026997},{"$f":"'0_24_format'!I46-'0_15_format'!I46","v":42.098830744161972},{"$f":"'0_24_format'!J46-'0_15_format'!J46","v":29.634387351778656},{"$f":"'0_24_format'!K46-'0_15_format'!K46","v":361.50796844550632},{"$f":"'0_24_format'!L46-'0_15_format'!L46","v":175.8221591597212},{"$f":"'0_24_format'!M46-'0_15_format'!M46","v":67.213496537373203},{"$f":"'0_24_format'!N46-'0_15_format'!N46","v":157.56128133704735},{"$f":"'0_24_format'!O46-'0_15_format'!O46","v":67.960488070727848},{"$f":"'0_24_format'!P46-'0_15_format'!P46","v":99.480237154150203},{"$f":"'0_24_format'!Q46-'0_15_format'!Q46","v":249.60482015259782},{"$f":"'0_24_format'!R46-'0_15_format'!R46","v":76.749025620134972},{"$f":"'0_24_format'!S46-'0_15_format'!S46","v":3.9268802228412252},{"$f":"'0_24_format'!T46-'0_15_format'!T46","v":34.41502802030233}]
["Perry Common",{"$f":"'0_24_format'!B47-'0_15_format'!B47","v":1241.5640511951265},{"$f":"'0_24_format'!C47-'0_15_format'!C47","v":838.36726094082906},{"$f":"'0_24_format'!D47-'0_15_format'!D47","v":6.9911625591237225},{"$f":"'0_24_format'!E47-'0_15_format'!E47","v":2},{"$f":"'0_24_format'!F47-'0_15_format'!F47","v":23.812820946015208},{"$f":"'0_24_format'!G47-'0_15_format'!G47","v":60.417643436334231},{"$f":"'0_24_format'!H47-'0_15_format'!H47","v":4.5305712760034496},{"$f":"'0_24_format'!I47-'0_15_format'!I47","v":21.227059245279882},{"$f":"'0_24_format'!J47-'0_15_format'!J47","v":10.813717393195034},{"$f":"'0_24_format'!K47-'0_15_format'!K47","v":46.685506363945422},{"$f":"'0_24_format'!L47-'0_15_format'!L47","v":31.584886960954648},{"$f":"'0_24_format'!M47-'0_15_format'!M47","v":19.913692559060522},{"$f":"'0_24_format'!N47-'0_15_format'!N47","v":5.5716646198889421},{"$f":"'0_24_format'!O47-'0_15_format'!O47","v":23.598357505369734},{"$f":"'0_24_format'!P47-'0_15_format'!P47","v":39.802048761988985},{"$f":"'0_24_format'!Q47-'0_15_format'!Q47","v":74.946494805805003},{"$f":"'0_24_format'!R47-'0_15_format'!R47","v":20.95029444380738},{"$f":"'0_24_format'!S47-'0_15_format'!S47","v":1.4163510406164983},{"$f":"'0_24_format'!T47-'0_15_format'!T47","v":8.9345183369087753}]
["Pype Hayes",{"$f":"'0_24_format'!B48-'0_15_format'!B48","v":1224.350296442688},{"$f":"'0_24_format'!C48-'0_15_format'!C48","v":843.3850049407115},{"$f":"'0_24_format'!D48-'0_15_format'!D48","v":8.7660573122529648},{"$f":"'0_24_format'!E48-'0_15_format'!E48","v":0},{"$f":"'0_24_format'!F48-'0_15_format'!F48","v":24.558670948616601},{"$f":"'0_24_format'!G48-'0_15_format'!G48","v":70.701333992094874},{"$f":"'0_24_format'!H48-'0_15_format'!H48","v":2.7092391304347814},{"$f":"'0_24_format'!I48-'0_15_format'!I48","v":14.53211462450593},{"$f":"'0_24_format'!J48-'0_15_format'!J48","v":9.6194416996047423},{"$f":"'0_24_format'!K48-'0_15_format'!K48","v":29.442317193675891},{"$f":"'0_24_format'!L48-'0_15_format'!L48","v":40.814970355731219},{"$f":"'0_24_format'!M48-'0_15_format'!M48","v":12},{"$f":"'0_24_format'!N48-'0_15_format'!N48","v":17.524456521739133},{"$f":"'0_24_format'!O48-'0_15_format'!O48","v":16.585227272727273},{"$f":"'0_24_format'!P48-'0_15_format'!P48","v":25.00123517786561},{"$f":"'0_24_format'!Q48-'0_15_format'!Q48","v":71.325963438735187},{"$f":"'0_24_format'!R48-'0_15_format'!R48","v":19.384263833992094},{"$f":"'0_24_format'!S48-'0_15_format'!S48","v":9},{"$f":"'0_24_format'!T48-'0_15_format'!T48","v":9}]
["Quinton",{"$f":"'0_24_format'!B49-'0_15_format'!B49","v":2184},{"$f":"'0_24_format'!C49-'0_15_format'!C49","v":1398},{"$f":"'0_24_format'!D49-'0_15_format'!D49","v":29},{"$f":"'0_24_format'!E49-'0_15_format'!E49","v":0},{"$f":"'0_24_format'!F49-'0_15_format'!F49","v":36},{"$f":"'0_24_format'!G49-'0_15_format'!G49","v":106},{"$f":"'0_24_format'!H49-'0_15_format'!H49","v":10},{"$f":"'0_24_format'!I49-'0_15_format'!I49","v":32},{"$f":"'0_24_format'!J49-'0_15_format'!J49","v":35},{"$f":"'0_24_format'!K49-'0_15_format'!K49","v":194},{"$f":"'0_24_format'!L49-'0_15_format'!L49","v":65},{"$f":"'0_24_format'!M49-'0_15_format'!M49","v":16},{"$f":"'0_24_format'!N49-'0_15_format'!N49","v":27},{"$f":"'0_24_format'!O49-'0_15_format'!O49","v":52},{"$f":"'0_24_format'!P49-'0_15_format'!P49","v":43},{"$f":"'0_24_format'!Q49-'0_15_format'!Q49","v":81},{"$f":"'0_24_format'!R49-'0_15_format'!R49","v":19},{"$f":"'0_24_format'!S49-'0_15_format'!S49","v":10},{"$f":"'0_24_format'!T49-'0_15_format'!T49","v":31}]
["Rubery & Rednal",{"$f":"'0_24_format'!B50-'0_15_format'!B50","v":1148.8013895691988},{"$f":"'0_24_format'!C50-'0_15_format'!C50","v":1005.4083719665373},{"$f":"'0_24_format'!D50-'0_15_format'!D50","v":3.563007798859271},{"$f":"'0_24_format'!E50-'0_15_format'!E50","v":1},{"$f":"'0_24_format'!F50-'0_15_format'!F50","v":12.276806257210531},{"$f":"'0_24_format'!G50-'0_15_format'!G50","v":42.457553631132697},{"$f":"'0_24_format'!H50-'0_15_format'!H50","v":2.046838903768859},{"$f":"'0_24_format'!I50-'0_15_format'!I50","v":8.6305993197275939},{"$f":"'0_24_format'!J50-'0_15_format'!J50","v":12.586508289049377},{"$f":"'0_24_format'!K50-'0_15_format'!K50","v":5.4860209935527413},{"$f":"'0_24_format'!L50-'0_15_format'!L50","v":9.8000636324836066},{"$f":"'0_24_format'!M50-'0_15_format'!M50","v":1.3581336696090796},{"$f":"'0_24_format'!N50-'0_15_format'!N50","v":1.8165925581034417},{"$f":"'0_24_format'!O50-'0_15_format'!O50","v":5.1581973020926863},{"$f":"'0_24_format'!P50-'0_15_format'!P50","v":10.525654501526546},{"$f":"'0_24_format'!Q50-'0_15_format'!Q50","v":19.107179867843165},{"$f":"'0_24_format'!R50-'0_15_format'!R50","v":11.309864108450199},{"$f":"'0_24_format'!S50-'0_15_format'!S50","v":-0.98347107438016523},{"$f":"'0_24_format'!T50-'0_15_format'!T50","v":-2.7465321563682217}]
["Shard End",{"$f":"'0_24_format'!B51-'0_15_format'!B51","v":1418.4171654432521},{"$f":"'0_24_format'!C51-'0_15_format'!C51","v":1158.5179698800307},{"$f":"'0_24_format'!D51-'0_15_format'!D51","v":8},{"$f":"'0_24_format'!E51-'0_15_format'!E51","v":0},{"$f":"'0_24_format'!F51-'0_15_format'!F51","v":11.451552795031056},{"$f":"'0_24_format'!G51-'0_15_format'!G51","v":101.38338296605122},{"$f":"'0_24_format'!H51-'0_15_format'!H51","v":5.9755358399789618},{"$f":"'0_24_format'!I51-'0_15_format'!I51","v":14.416302220709603},{"$f":"'0_24_format'!J51-'0_15_format'!J51","v":13.803258742448733},{"$f":"'0_24_format'!K51-'0_15_format'!K51","v":-0.55662229372771321},{"$f":"'0_24_format'!L51-'0_15_format'!L51","v":20.18760393864622},{"$f":"'0_24_format'!M51-'0_15_format'!M51","v":5.4515527950310556},{"$f":"'0_24_format'!N51-'0_15_format'!N51","v":3.1021170610211701},{"$f":"'0_24_format'!O51-'0_15_format'!O51","v":8.6531755915317561},{"$f":"'0_24_format'!P51-'0_15_format'!P51","v":13.209456773125623},{"$f":"'0_24_format'!Q51-'0_15_format'!Q51","v":38.679629959082014},{"$f":"'0_24_format'!R51-'0_15_format'!R51","v":14.97031318889568},{"$f":"'0_24_format'!S51-'0_15_format'!S51","v":3},{"$f":"'0_24_format'!T51-'0_15_format'!T51","v":-1.8280640146036227}]
["Sheldon",{"$f":"'0_24_format'!B52-'0_15_format'!B52","v":2001.3299048405811},{"$f":"'0_24_format'!C52-'0_15_format'!C52","v":1592.8759600217368},{"$f":"'0_24_format'!D52-'0_15_format'!D52","v":9.919550015926152},{"$f":"'0_24_format'!E52-'0_15_format'!E52","v":0.55608429639700885},{"$f":"'0_24_format'!F52-'0_15_format'!F52","v":17.399982852637038},{"$f":"'0_24_format'!G52-'0_15_format'!G52","v":68.109359983687511},{"$f":"'0_24_format'!H52-'0_15_format'!H52","v":5.9418866243456954},{"$f":"'0_24_format'!I52-'0_15_format'!I52","v":24.139101869614976},{"$f":"'0_24_format'!J52-'0_15_format'!J52","v":26.077500432976763},{"$f":"'0_24_format'!K52-'0_15_format'!K52","v":51.40536069414695},{"$f":"'0_24_format'!L52-'0_15_format'!L52","v":111.58526707125114},{"$f":"'0_24_format'!M52-'0_15_format'!M52","v":29.083102542553021},{"$f":"'0_24_format'!N52-'0_15_format'!N52","v":3.3284293181675082},{"$f":"'0_24_format'!O52-'0_15_format'!O52","v":15.59676266414953},{"$f":"'0_24_format'!P52-'0_15_format'!P52","v":15.06264190142258},{"$f":"'0_24_format'!Q52-'0_15_format'!Q52","v":15.122369541951052},{"$f":"'0_24_format'!R52-'0_15_format'!R52","v":2.6156887540350837},{"$f":"'0_24_format'!S52-'0_15_format'!S52","v":0.58271472216835463},{"$f":"'0_24_format'!T52-'0_15_format'!T52","v":11.928141533414122}]
["Small Heath",{"$f":"'0_24_format'!B53-'0_15_format'!B53","v":3108.7378065239518},{"$f":"'0_24_format'!C53-'0_15_format'!C53","v":155.11646687980573},{"$f":"'0_24_format'!D53-'0_15_format'!D53","v":7.2466958436734359},{"$f":"'0_24_format'!E53-'0_15_format'!E53","v":0},{"$f":"'0_24_format'!F53-'0_15_format'!F53","v":37.809282970124876},{"$f":"'0_24_format'!G53-'0_15_format'!G53","v":33.970987836296757},{"$f":"'0_24_format'!H53-'0_15_format'!H53","v":-1.8733908525842793},{"$f":"'0_24_format'!I53-'0_15_format'!I53","v":23.641989993505661},{"$f":"'0_24_format'!J53-'0_15_format'!J53","v":15.691919228673129},{"$f":"'0_24_format'!K53-'0_15_format'!K53","v":82.794492041974848},{"$f":"'0_24_format'!L53-'0_15_format'!L53","v":1853.6731988785664},{"$f":"'0_24_format'!M53-'0_15_format'!M53","v":425.2823021483473},{"$f":"'0_24_format'!N53-'0_15_format'!N53","v":9.3391712943186675},{"$f":"'0_24_format'!O53-'0_15_format'!O53","v":151.52283532126643},{"$f":"'0_24_format'!P53-'0_15_format'!P53","v":118.51116763422112},{"$f":"'0_24_format'!Q53-'0_15_format'!Q53","v":35.412522266049891},{"$f":"'0_24_format'!R53-'0_15_format'!R53","v":67.279258740242767},{"$f":"'0_24_format'!S53-'0_15_format'!S53","v":65.366072308261778},{"$f":"'0_24_format'!T53-'0_15_format'!T53","v":27.952833991207655}]
["Soho & Jewellery Quarter",{"$f":"'0_24_format'!B54-'0_15_format'!B54","v":3534.3711266166565},{"$f":"'0_24_format'!C54-'0_15_format'!C54","v":985.0844993120777},{"$f":"'0_24_format'!D54-'0_15_format'!D54","v":15.58969311123014},{"$f":"'0_24_format'!E54-'0_15_format'!E54","v":4.3924646028797349},{"$f":"'0_24_format'!F54-'0_15_format'!F54","v":235.7688116491959},{"$f":"'0_24_format'!G54-'0_15_format'!G54","v":178.57770540569328},{"$f":"'0_24_format'!H54-'0_15_format'!H54","v":18.115757353214534},{"$f":"'0_24_format'!I54-'0_15_format'!I54","v":41.091048531154442},{"$f":"'0_24_format'!J54-'0_15_format'!J54","v":52.073076548852498},{"$f":"'0_24_format'!K54-'0_15_format'!K54","v":511.91348808911766},{"$f":"'0_24_format'!L54-'0_15_format'!L54","v":232.832555785963},{"$f":"'0_24_format'!M54-'0_15_format'!M54","v":46.736875298700056},{"$f":"'0_24_format'!N54-'0_15_format'!N54","v":245.97831760314972},{"$f":"'0_24_format'!O54-'0_15_format'!O54","v":149.78388551723214},{"$f":"'0_24_format'!P54-'0_15_format'!P54","v":174.32704352509506},{"$f":"'0_24_format'!Q54-'0_15_format'!Q54","v":364.42445998720291},{"$f":"'0_24_format'!R54-'0_15_format'!R54","v":180.38134842870039},{"$f":"'0_24_format'!S54-'0_15_format'!S54","v":24.36404799692567},{"$f":"'0_24_format'!T54-'0_15_format'!T54","v":72.936047870271125}]
["South Yardley",{"$f":"'0_24_format'!B55-'0_15_format'!B55","v":1109.9883834932543},{"$f":"'0_24_format'!C55-'0_15_format'!C55","v":764.04820917086658},{"$f":"'0_24_format'!D55-'0_15_format'!D55","v":19.2630167262101},{"$f":"'0_24_format'!E55-'0_15_format'!E55","v":0},{"$f":"'0_24_format'!F55-'0_15_format'!F55","v":40.128060311210284},{"$f":"'0_24_format'!G55-'0_15_format'!G55","v":49.079514611069428},{"$f":"'0_24_format'!H55-'0_15_format'!H55","v":2.2025821215975085},{"$f":"'0_24_format'!I55-'0_15_format'!I55","v":7.1350524198320286},{"$f":"'0_24_format'!J55-'0_15_format'!J55","v":4.8560378002324995},{"$f":"'0_24_format'!K55-'0_15_format'!K55","v":60.586225143542976},{"$f":"'0_24_format'!L55-'0_15_format'!L55","v":86.633236188414799},{"$f":"'0_24_format'!M55-'0_15_format'!M55","v":3.2841808616882702},{"$f":"'0_24_format'!N55-'0_15_format'!N55","v":0.85581958276709535},{"$f":"'0_24_format'!O55-'0_15_format'!O55","v":8.1461772114045417},{"$f":"'0_24_format'!P55-'0_15_format'!P55","v":11.666445166642376},{"$f":"'0_24_format'!Q55-'0_15_format'!Q55","v":17.806466742554903},{"$f":"'0_24_format'!R55-'0_15_format'!R55","v":9.3282317321278114},{"$f":"'0_24_format'!S55-'0_15_format'!S55","v":16.226087050401517},{"$f":"'0_24_format'!T55-'0_15_format'!T55","v":8.7430406526916311}]
["Sparkbrook & Balsall Heath East",{"$f":"'0_24_format'!B56-'0_15_format'!B56","v":3992.0309023226901},{"$f":"'0_24_format'!C56-'0_15_format'!C56","v":304.88755353027744},{"$f":"'0_24_format'!D56-'0_15_format'!D56","v":1.6869772998805255},{"$f":"'0_24_format'!E56-'0_15_format'!E56","v":2.5433962264150942},{"$f":"'0_24_format'!F56-'0_15_format'!F56","v":71.09607838983834},{"$f":"'0_24_format'!G56-'0_15_format'!G56","v":73.665406175303588},{"$f":"'0_24_format'!H56-'0_15_format'!H56","v":-1.4009893765834285},{"$f":"'0_24_format'!I56-'0_15_format'!I56","v":63.665997439712299},{"$f":"'0_24_format'!J56-'0_15_format'!J56","v":35.037424736488688},{"$f":"'0_24_format'!K56-'0_15_format'!K56","v":181.18432021129178},{"$f":"'0_24_format'!L56-'0_15_format'!L56","v":1846.4113230224666},{"$f":"'0_24_format'!M56-'0_15_format'!M56","v":425.72167183883403},{"$f":"'0_24_format'!N56-'0_15_format'!N56","v":25.078525648943135},{"$f":"'0_24_format'!O56-'0_15_format'!O56","v":206.15572615512178},{"$f":"'0_24_format'!P56-'0_15_format'!P56","v":131.84491054423478},{"$f":"'0_24_format'!Q56-'0_15_format'!Q56","v":103.98208459948331},{"$f":"'0_24_format'!R56-'0_15_format'!R56","v":128.42633905882093},{"$f":"'0_24_format'!S56-'0_15_format'!S56","v":326.09246793609941},{"$f":"'0_24_format'!T56-'0_15_format'!T56","v":65.951688886062144}]
["Sparkhill",{"$f":"'0_24_format'!B57-'0_15_format'!B57","v":3220.2534853584848},{"$f":"'0_24_format'!C57-'0_15_format'!C57","v":253.24067154892649},{"$f":"'0_24_format'!D57-'0_15_format'!D57","v":5.3090577080119772},{"$f":"'0_24_format'!E57-'0_15_format'!E57","v":2.1358490566037736},{"$f":"'0_24_format'!F57-'0_15_format'!F57","v":55.041149864517095},{"$f":"'0_24_format'!G57-'0_15_format'!G57","v":26.230240572446633},{"$f":"'0_24_format'!H57-'0_15_format'!H57","v":14.881387780349534},{"$f":"'0_24_format'!I57-'0_15_format'!I57","v":28.893795954288649},{"$f":"'0_24_format'!J57-'0_15_format'!J57","v":24.065668683978117},{"$f":"'0_24_format'!K57-'0_15_format'!K57","v":265.99088134985044},{"$f":"'0_24_format'!L57-'0_15_format'!L57","v":1917.5866044673212},{"$f":"'0_24_format'!M57-'0_15_format'!M57","v":191.6122666302669},{"$f":"'0_24_format'!N57-'0_15_format'!N57","v":20.950766855343833},{"$f":"'0_24_format'!O57-'0_15_format'!O57","v":229.52650625106583},{"$f":"'0_24_format'!P57-'0_15_format'!P57","v":54.74729374015962},{"$f":"'0_24_format'!Q57-'0_15_format'!Q57","v":35.571024081960374},{"$f":"'0_24_format'!R57-'0_15_format'!R57","v":6.8396167177298537},{"$f":"'0_24_format'!S57-'0_15_format'!S57","v":53.4778167478824},{"$f":"'0_24_format'!T57-'0_15_format'!T57","v":34.152887347782354}]
["Stirchley",{"$f":"'0_24_format'!B58-'0_15_format'!B58","v":1167.7839222017155},{"$f":"'0_24_format'!C58-'0_15_format'!C58","v":793.3664529868779},{"$f":"'0_24_format'!D58-'0_15_format'!D58","v":5.9011606081238277},{"$f":"'0_24_format'!E58-'0_15_format'!E58","v":1},{"$f":"'0_24_format'!F58-'0_15_format'!F58","v":30.419751606166876},{"$f":"'0_24_format'!G58-'0_15_format'!G58","v":66.668824875353451},{"$f":"'0_24_format'!H58-'0_15_format'!H58","v":2.5320912214290709},{"$f":"'0_24_format'!I58-'0_15_format'!I58","v":18.510934495797059},{"$f":"'0_24_format'!J58-'0_15_format'!J58","v":8.5751169386551993},{"$f":"'0_24_format'!K58-'0_15_format'!K58","v":42.978843274367989},{"$f":"'0_24_format'!L58-'0_15_format'!L58","v":73.027712712734143},{"$f":"'0_24_format'!M58-'0_15_format'!M58","v":32.492699630735061},{"$f":"'0_24_format'!N58-'0_15_format'!N58","v":16.684534693347381},{"$f":"'0_24_format'!O58-'0_15_format'!O58","v":11.277886497064578},{"$f":"'0_24_format'!P58-'0_15_format'!P58","v":21.141865109102305},{"$f":"'0_24_format'!Q58-'0_15_format'!Q58","v":26.141865109102302},{"$f":"'0_24_format'!R58-'0_15_format'!R58","v":8.5320912214290701},{"$f":"'0_24_format'!S58-'0_15_format'!S58","v":7.152443471918307},{"$f":"'0_24_format'!T58-'0_15_format'!T58","v":1.3796477495107631}]
["Stockland Green",{"$f":"'0_24_format'!B59-'0_15_format'!B59","v":2936.3707685685313},{"$f":"'0_24_format'!C59-'0_15_format'!C59","v":1477.3474022290939},{"$f":"'0_24_format'!D59-'0_15_format'!D59","v":24.623207192768149},{"$f":"'0_24_format'!E59-'0_15_format'!E59","v":0},{"$f":"'0_24_format'!F59-'0_15_format'!F59","v":149.14075569264489},{"$f":"'0_24_format'!G59-'0_15_format'!G59","v":186.43092506335461},{"$f":"'0_24_format'!H59-'0_15_format'!H59","v":11.216831894762969},{"$f":"'0_24_format'!I59-'0_15_format'!I59","v":20.470971744704229},{"$f":"'0_24_format'!J59-'0_15_format'!J59","v":38.166779941840758},{"$f":"'0_24_format'!K59-'0_15_format'!K59","v":110.80234285018616},{"$f":"'0_24_format'!L59-'0_15_format'!L59","v":280.14719209645943},{"$f":"'0_24_format'!M59-'0_15_format'!M59","v":42.471408569927689},{"$f":"'0_24_format'!N59-'0_15_format'!N59","v":67.82542665221014},{"$f":"'0_24_format'!O59-'0_15_format'!O59","v":65.779082545746505},{"$f":"'0_24_format'!P59-'0_15_format'!P59","v":74.264055186942841},{"$f":"'0_24_format'!Q59-'0_15_format'!Q59","v":248.85875376945336},{"$f":"'0_24_format'!R59-'0_15_format'!R59","v":91.942016978632125},{"$f":"'0_24_format'!S59-'0_15_format'!S59","v":12.874867271300147},{"$f":"'0_24_format'!T59-'0_15_format'!T59","v":34.008748888503717}]
["Sutton Four Oaks",{"$f":"'0_24_format'!B60-'0_15_format'!B60","v":781.58183761356599},{"$f":"'0_24_format'!C60-'0_15_format'!C60","v":639.70525797570167},{"$f":"'0_24_format'!D60-'0_15_format'!D60","v":6.3396917302572753},{"$f":"'0_24_format'!E60-'0_15_format'!E60","v":0},{"$f":"'0_24_format'!F60-'0_15_format'!F60","v":5.8823349508583576},{"$f":"'0_24_format'!G60-'0_15_format'!G60","v":1.7134977937652103},{"$f":"'0_24_format'!H60-'0_15_format'!H60","v":6.1260056441554527},{"$f":"'0_24_format'!I60-'0_15_format'!I60","v":5.2413938775872069},{"$f":"'0_24_format'!J60-'0_15_format'!J60","v":-2.0437605567818462},{"$f":"'0_24_format'!K60-'0_15_format'!K60","v":58.92560055317891},{"$f":"'0_24_format'!L60-'0_15_format'!L60","v":15.561828040206862},{"$f":"'0_24_format'!M60-'0_15_format'!M60","v":0.44560669456067004},{"$f":"'0_24_format'!N60-'0_15_format'!N60","v":5.4084234995514588},{"$f":"'0_24_format'!O60-'0_15_format'!O60","v":10.88949025421068},{"$f":"'0_24_format'!P60-'0_15_format'!P60","v":7.7236754272649275},{"$f":"'0_24_format'!Q60-'0_15_format'!Q60","v":4.4296731593163656},{"$f":"'0_24_format'!R60-'0_15_format'!R60","v":1.5478064318261122},{"$f":"'0_24_format'!S60-'0_15_format'!S60","v":1.5881238155401136},{"$f":"'0_24_format'!T60-'0_15_format'!T60","v":12.097188322366605}]
["Sutton Mere Green",{"$f":"'0_24_format'!B61-'0_15_format'!B61","v":824.41575000049716},{"$f":"'0_24_format'!C61-'0_15_format'!C61","v":700.21622282492126},{"$f":"'0_24_format'!D61-'0_15_format'!D61","v":7.0225867878060146},{"$f":"'0_24_format'!E61-'0_15_format'!E61","v":0},{"$f":"'0_24_format'!F61-'0_15_format'!F61","v":16.671743981582452},{"$f":"'0_24_format'!G61-'0_15_format'!G61","v":18.256840609412322},{"$f":"'0_24_format'!H61-'0_15_format'!H61","v":-0.96352863618488271},{"$f":"'0_24_format'!I61-'0_15_format'!I61","v":12.423017823145869},{"$f":"'0_24_format'!J61-'0_15_format'!J61","v":9.3164723455842058},{"$f":"'0_24_format'!K61-'0_15_format'!K61","v":22.644578542766553},{"$f":"'0_24_format'!L61-'0_15_format'!L61","v":9.3691310666084995},{"$f":"'0_24_format'!M61-'0_15_format'!M61","v":3.5543933054393304},{"$f":"'0_24_format'!N61-'0_15_format'!N61","v":5.2081937529383975},{"$f":"'0_24_format'!O61-'0_15_format'!O61","v":4.4312561857899375},{"$f":"'0_24_format'!P61-'0_15_format'!P61","v":-0.1070581747750694},{"$f":"'0_24_format'!Q61-'0_15_format'!Q61","v":9.7574613949206963},{"$f":"'0_24_format'!R61-'0_15_format'!R61","v":7.1269993492777015},{"$f":"'0_24_format'!S61-'0_15_format'!S61","v":0.41187618445988616},{"$f":"'0_24_format'!T61-'0_15_format'!T61","v":-0.92443734319591941}]
["Sutton Reddicap",{"$f":"'0_24_format'!B62-'0_15_format'!B62","v":1168.4966294880433},{"$f":"'0_24_format'!C62-'0_15_format'!C62","v":1012.9013550792945},{"$f":"'0_24_format'!D62-'0_15_format'!D62","v":9.7884072734079517},{"$f":"'0_24_format'!E62-'0_15_format'!E62","v":1},{"$f":"'0_24_format'!F62-'0_15_format'!F62","v":12.606927757436786},{"$f":"'0_24_format'!G62-'0_15_format'!G62","v":35.498706861027571},{"$f":"'0_24_format'!H62-'0_15_format'!H62","v":1.2497384226150317},{"$f":"'0_24_format'!I62-'0_15_format'!I62","v":7.5312105288901492},{"$f":"'0_24_format'!J62-'0_15_format'!J62","v":9.3733363301681116},{"$f":"'0_24_format'!K62-'0_15_format'!K62","v":12.999978421374323},{"$f":"'0_24_format'!L62-'0_15_format'!L62","v":20.360166656117926},{"$f":"'0_24_format'!M62-'0_15_format'!M62","v":5.87725905812969},{"$f":"'0_24_format'!N62-'0_15_format'!N62","v":-6.1509569235800754E-2},{"$f":"'0_24_format'!O62-'0_15_format'!O62","v":4.691218289601494},{"$f":"'0_24_format'!P62-'0_15_format'!P62","v":11.720953339341193},{"$f":"'0_24_format'!Q62-'0_15_format'!Q62","v":13.025535083879078},{"$f":"'0_24_format'!R62-'0_15_format'!R62","v":6.0912328461825354},{"$f":"'0_24_format'!S62-'0_15_format'!S62","v":1.7391678391759369},{"$f":"'0_24_format'!T62-'0_15_format'!T62","v":2.1029452706367731}]
["Sutton Roughley",{"$f":"'0_24_format'!B63-'0_15_format'!B63","v":1046.8293610140331},{"$f":"'0_24_format'!C63-'0_15_format'!C63","v":912.32651324199855},{"$f":"'0_24_format'!D63-'0_15_format'!D63","v":7.8148728852479259},{"$f":"'0_24_format'!E63-'0_15_format'!E63","v":0},{"$f":"'0_24_format'!F63-'0_15_format'!F63","v":7.5577458345401922},{"$f":"'0_24_format'!G63-'0_15_format'!G63","v":9.5506527256297105},{"$f":"'0_24_format'!H63-'0_15_format'!H63","v":2.2113486842105265},{"$f":"'0_24_format'!I63-'0_15_format'!I63","v":11.278508821468357},{"$f":"'0_24_format'!J63-'0_15_format'!J63","v":9.6954818470803872},{"$f":"'0_24_format'!K63-'0_15_format'!K63","v":33.704447408637051},{"$f":"'0_24_format'!L63-'0_15_format'!L63","v":17.11832664080309},{"$f":"'0_24_format'!M63-'0_15_format'!M63","v":-0.31943592887798911},{"$f":"'0_24_format'!N63-'0_15_format'!N63","v":9.7663654472822294},{"$f":"'0_24_format'!O63-'0_15_format'!O63","v":7.4534647194481849},{"$f":"'0_24_format'!P63-'0_15_format'!P63","v":-0.95519995389405743},{"$f":"'0_24_format'!Q63-'0_15_format'!Q63","v":13.390365057309335},{"$f":"'0_24_format'!R63-'0_15_format'!R63","v":1.731097073913558},{"$f":"'0_24_format'!S63-'0_15_format'!S63","v":1.6805640711220109},{"$f":"'0_24_format'!T63-'0_15_format'!T63","v":2.8242424381140641}]
["Sutton Trinity",{"$f":"'0_24_format'!B64-'0_15_format'!B64","v":755.45887592831014},{"$f":"'0_24_format'!C64-'0_15_format'!C64","v":656.54074016940808},{"$f":"'0_24_format'!D64-'0_15_format'!D64","v":12.266386130813419},{"$f":"'0_24_format'!E64-'0_15_format'!E64","v":1.7752808988764044},{"$f":"'0_24_format'!F64-'0_15_format'!F64","v":18.958396215896631},{"$f":"'0_24_format'!G64-'0_15_format'!G64","v":21.93099917569225},{"$f":"'0_24_format'!H64-'0_15_format'!H64","v":-0.53973206459363432},{"$f":"'0_24_format'!I64-'0_15_format'!I64","v":3.973480949546115},{"$f":"'0_24_format'!J64-'0_15_format'!J64","v":0.78909255170852077},{"$f":"'0_24_format'!K64-'0_15_format'!K64","v":8.4854791079430214},{"$f":"'0_24_format'!L64-'0_15_format'!L64","v":7.6535740449581056},{"$f":"'0_24_format'!M64-'0_15_format'!M64","v":3.0711227530004672},{"$f":"'0_24_format'!N64-'0_15_format'!N64","v":15.238140717033152},{"$f":"'0_24_format'!O64-'0_15_format'!O64","v":4.8044352864606132},{"$f":"'0_24_format'!P64-'0_15_format'!P64","v":-1.9776321297804298},{"$f":"'0_24_format'!Q64-'0_15_format'!Q64","v":0.273807820312582},{"$f":"'0_24_format'!R64-'0_15_format'!R64","v":0.52263087073359671},{"$f":"'0_24_format'!S64-'0_15_format'!S64","v":2.0046219221441195},{"$f":"'0_24_format'!T64-'0_15_format'!T64","v":-0.31194849184308904}]
["Sutton Vesey",{"$f":"'0_24_format'!B65-'0_15_format'!B65","v":1991.6130522452013},{"$f":"'0_24_format'!C65-'0_15_format'!C65","v":1620.9874583435235},{"$f":"'0_24_format'!D65-'0_15_format'!D65","v":21.749700793093794},{"$f":"'0_24_format'!E65-'0_15_format'!E65","v":-0.77528089887640439},{"$f":"'0_24_format'!F65-'0_15_format'!F65","v":19.794936896057592},{"$f":"'0_24_format'!G65-'0_15_format'!G65","v":47.370536569308541},{"$f":"'0_24_format'!H65-'0_15_format'!H65","v":8.2240071525850773},{"$f":"'0_24_format'!I65-'0_15_format'!I65","v":27.264969973202234},{"$f":"'0_24_format'!J65-'0_15_format'!J65","v":3.729677609395651},{"$f":"'0_24_format'!K65-'0_15_format'!K65","v":96.809822756201243},{"$f":"'0_24_format'!L65-'0_15_format'!L65","v":36.737320082801006},{"$f":"'0_24_format'!M65-'0_15_format'!M65","v":13.533245235726138},{"$f":"'0_24_format'!N65-'0_15_format'!N65","v":6.5786973470254466},{"$f":"'0_24_format'!O65-'0_15_format'!O65","v":24.676946755392493},{"$f":"'0_24_format'!P65-'0_15_format'!P65","v":5.1034484730057805},{"$f":"'0_24_format'!Q65-'0_15_format'!Q65","v":41.660447030004335},{"$f":"'0_24_format'!R65-'0_15_format'!R65","v":6.3386867542058631},{"$f":"'0_24_format'!S65-'0_15_format'!S65","v":5.4142156862745097},{"$f":"'0_24_format'!T65-'0_15_format'!T65","v":6.4142156862745097}]
["Sutton Walmley & Minworth",{"$f":"'0_24_format'!B66-'0_15_format'!B66","v":1479.8025912171929},{"$f":"'0_24_format'!C66-'0_15_format'!C66","v":1274.3178164899546},{"$f":"'0_24_format'!D66-'0_15_format'!D66","v":15.157519910939072},{"$f":"'0_24_format'!E66-'0_15_format'!E66","v":0},{"$f":"'0_24_format'!F66-'0_15_format'!F66","v":13.849394236426853},{"$f":"'0_24_format'!G66-'0_15_format'!G66","v":53.83232677001854},{"$f":"'0_24_format'!H66-'0_15_format'!H66","v":2.8739495798319332},{"$f":"'0_24_format'!I66-'0_15_format'!I66","v":10.95215901206187},{"$f":"'0_24_format'!J66-'0_15_format'!J66","v":4.9596641547921649E-2},{"$f":"'0_24_format'!K66-'0_15_format'!K66","v":43.855720236384812},{"$f":"'0_24_format'!L66-'0_15_format'!L66","v":11.678290576725544},{"$f":"'0_24_format'!M66-'0_15_format'!M66","v":-2.5578231292517009},{"$f":"'0_24_format'!N66-'0_15_format'!N66","v":7.6401784288917156},{"$f":"'0_24_format'!O66-'0_15_format'!O66","v":14.448361162646876},{"$f":"'0_24_format'!P66-'0_15_format'!P66","v":8.8811063819467186},{"$f":"'0_24_format'!Q66-'0_15_format'!Q66","v":15.005684564623742},{"$f":"'0_24_format'!R66-'0_15_format'!R66","v":3.1050941588756711},{"$f":"'0_24_format'!S66-'0_15_format'!S66","v":2.3636363636363633},{"$f":"'0_24_format'!T66-'0_15_format'!T66","v":4.3495798319327736}]
["Sutton Wylde Green",{"$f":"'0_24_format'!B67-'0_15_format'!B67","v":942.36621225746649},{"$f":"'0_24_format'!C67-'0_15_format'!C67","v":714.72988840045127},{"$f":"'0_24_format'!D67-'0_15_format'!D67","v":13.860834488434548},{"$f":"'0_24_format'!E67-'0_15_format'!E67","v":0},{"$f":"'0_24_format'!F67-'0_15_format'!F67","v":17.585590834271851},{"$f":"'0_24_format'!G67-'0_15_format'!G67","v":27.358224006930371},{"$f":"'0_24_format'!H67-'0_15_format'!H67","v":3.0276388268081043},{"$f":"'0_24_format'!I67-'0_15_format'!I67","v":5.4517573305965215},{"$f":"'0_24_format'!J67-'0_15_format'!J67","v":11.392460133653952},{"$f":"'0_24_format'!K67-'0_15_format'!K67","v":49.690871290012424},{"$f":"'0_24_format'!L67-'0_15_format'!L67","v":37.847288817704893},{"$f":"'0_24_format'!M67-'0_15_format'!M67","v":8.3027027183441007},{"$f":"'0_24_format'!N67-'0_15_format'!N67","v":10.523867278870311},{"$f":"'0_24_format'!O67-'0_15_format'!O67","v":7.8142549558773187},{"$f":"'0_24_format'!P67-'0_15_format'!P67","v":2.9130635392478421},{"$f":"'0_24_format'!Q67-'0_15_format'!Q67","v":17.573524206132184},{"$f":"'0_24_format'!R67-'0_15_format'!R67","v":8.0482370267694705},{"$f":"'0_24_format'!S67-'0_15_format'!S67","v":0.79779411764705888},{"$f":"'0_24_format'!T67-'0_15_format'!T67","v":5.4482142857142843}]
["Tyseley & Hay Mills",{"$f":"'0_24_format'!B68-'0_15_format'!B68","v":1374.0996337534666},{"$f":"'0_24_format'!C68-'0_15_format'!C68","v":644.28328110866937},{"$f":"'0_24_format'!D68-'0_15_format'!D68","v":10.084050263892575},{"$f":"'0_24_format'!E68-'0_15_format'!E68","v":0},{"$f":"'0_24_format'!F68-'0_15_format'!F68","v":48.364570642665711},{"$f":"'0_24_format'!G68-'0_15_format'!G68","v":56.754288031800968},{"$f":"'0_24_format'!H68-'0_15_format'!H68","v":0.99021576275197809},{"$f":"'0_24_format'!I68-'0_15_format'!I68","v":29.885591116268728},{"$f":"'0_24_format'!J68-'0_15_format'!J68","v":21.96944955930897},{"$f":"'0_24_format'!K68-'0_15_format'!K68","v":70.77263051248417},{"$f":"'0_24_format'!L68-'0_15_format'!L68","v":292.59056630754014},{"$f":"'0_24_format'!M68-'0_15_format'!M68","v":69.93080082875673},{"$f":"'0_24_format'!N68-'0_15_format'!N68","v":5.6767705652356568},{"$f":"'0_24_format'!O68-'0_15_format'!O68","v":44.120616530792148},{"$f":"'0_24_format'!P68-'0_15_format'!P68","v":21.230904224611855},{"$f":"'0_24_format'!Q68-'0_15_format'!Q68","v":24.961949921396013},{"$f":"'0_24_format'!R68-'0_15_format'!R68","v":14.472315914777397},{"$f":"'0_24_format'!S68-'0_15_format'!S68","v":7.6387086554884007},{"$f":"'0_24_format'!T68-'0_15_format'!T68","v":10.372923807025387}]
["Ward End",{"$f":"'0_24_format'!B69-'0_15_format'!B69","v":1566.91443403121},{"$f":"'0_24_format'!C69-'0_15_format'!C69","v":288.07607994011778},{"$f":"'0_24_format'!D69-'0_15_format'!D69","v":1},{"$f":"'0_24_format'!E69-'0_15_format'!E69","v":1},{"$f":"'0_24_format'!F69-'0_15_format'!F69","v":13.486095465911582},{"$f":"'0_24_format'!G69-'0_15_format'!G69","v":40.994448436433728},{"$f":"'0_24_format'!H69-'0_15_format'!H69","v":4.668225686327002},{"$f":"'0_24_format'!I69-'0_15_format'!I69","v":16.409411273377188},{"$f":"'0_24_format'!J69-'0_15_format'!J69","v":15.651490973356083},{"$f":"'0_24_format'!K69-'0_15_format'!K69","v":42.857698665226252},{"$f":"'0_24_format'!L69-'0_15_format'!L69","v":895.96635776845369},{"$f":"'0_24_format'!M69-'0_15_format'!M69","v":46.986632058778298},{"$f":"'0_24_format'!N69-'0_15_format'!N69","v":9.7709685518518583},{"$f":"'0_24_format'!O69-'0_15_format'!O69","v":99.709876118109435},{"$f":"'0_24_format'!P69-'0_15_format'!P69","v":34.217531369194774},{"$f":"'0_24_format'!Q69-'0_15_format'!Q69","v":27.156402273137445},{"$f":"'0_24_format'!R69-'0_15_format'!R69","v":10.360047150410196},{"$f":"'0_24_format'!S69-'0_15_format'!S69","v":15.064751700146182},{"$f":"'0_24_format'!T69-'0_15_format'!T69","v":3.5384166003785538}]
["Weoley & Selly Oak",{"$f":"'0_24_format'!B70-'0_15_format'!B70","v":3403.2998046424873},{"$f":"'0_24_format'!C70-'0_15_format'!C70","v":2432.3141058135179},{"$f":"'0_24_format'!D70-'0_15_format'!D70","v":22.752693309923714},{"$f":"'0_24_format'!E70-'0_15_format'!E70","v":0},{"$f":"'0_24_format'!F70-'0_15_format'!F70","v":81.148692454267092},{"$f":"'0_24_format'!G70-'0_15_format'!G70","v":145.22730764409312},{"$f":"'0_24_format'!H70-'0_15_format'!H70","v":13.670096847903224},{"$f":"'0_24_format'!I70-'0_15_format'!I70","v":45.222830158672735},{"$f":"'0_24_format'!J70-'0_15_format'!J70","v":53.22269259917357},{"$f":"'0_24_format'!K70-'0_15_format'!K70","v":99.846027651875403},{"$f":"'0_24_format'!L70-'0_15_format'!L70","v":51.892964985662928},{"$f":"'0_24_format'!M70-'0_15_format'!M70","v":15.276949759259011},{"$f":"'0_24_format'!N70-'0_15_format'!N70","v":118.10690434112882},{"$f":"'0_24_format'!O70-'0_15_format'!O70","v":74.898076631802638},{"$f":"'0_24_format'!P70-'0_15_format'!P70","v":85.929437318050333},{"$f":"'0_24_format'!Q70-'0_15_format'!Q70","v":65.608722546005964},{"$f":"'0_24_format'!R70-'0_15_format'!R70","v":42.750093292011826},{"$f":"'0_24_format'!S70-'0_15_format'!S70","v":24.044877308748809},{"$f":"'0_24_format'!T70-'0_15_format'!T70","v":31.387331980390385}]
["Yardley East",{"$f":"'0_24_format'!B71-'0_15_format'!B71","v":1210.7469483376976},{"$f":"'0_24_format'!C71-'0_15_format'!C71","v":856.23247303460107},{"$f":"'0_24_format'!D71-'0_15_format'!D71","v":20.49828857774083},{"$f":"'0_24_format'!E71-'0_15_format'!E71","v":0},{"$f":"'0_24_format'!F71-'0_15_format'!F71","v":15.29194916726696},{"$f":"'0_24_format'!G71-'0_15_format'!G71","v":55.676093681803849},{"$f":"'0_24_format'!H71-'0_15_format'!H71","v":3.6751656566273603},{"$f":"'0_24_format'!I71-'0_15_format'!I71","v":5.7958473410671161},{"$f":"'0_24_format'!J71-'0_15_format'!J71","v":8.069559034457285},{"$f":"'0_24_format'!K71-'0_15_format'!K71","v":36.121194169783351},{"$f":"'0_24_format'!L71-'0_15_format'!L71","v":123.06938914320898},{"$f":"'0_24_format'!M71-'0_15_format'!M71","v":7.3096206779583781},{"$f":"'0_24_format'!N71-'0_15_format'!N71","v":4.5479884835335538},{"$f":"'0_24_format'!O71-'0_15_format'!O71","v":13.142323888076916},{"$f":"'0_24_format'!P71-'0_15_format'!P71","v":20.240460227958955},{"$f":"'0_24_format'!Q71-'0_15_format'!Q71","v":30.796213630392643},{"$f":"'0_24_format'!R71-'0_15_format'!R71","v":-2.0833031996445079},{"$f":"'0_24_format'!S71-'0_15_format'!S71","v":4.4675627744500837},{"$f":"'0_24_format'!T71-'0_15_format'!T71","v":7.8961220484149148}]
["Yardley West & Stechford",{"$f":"'0_24_format'!B72-'0_15_format'!B72","v":1587.5675299398517},{"$f":"'0_24_format'!C72-'0_15_format'!C72","v":719.82051389972185},{"$f":"'0_24_format'!D72-'0_15_format'!D72","v":10.388291517323776},{"$f":"'0_24_format'!E72-'0_15_format'!E72","v":0},{"$f":"'0_24_format'!F72-'0_15_format'!F72","v":39.877057479004108},{"$f":"'0_24_format'!G72-'0_15_format'!G72","v":108.33809017275375},{"$f":"'0_24_format'!H72-'0_15_format'!H72","v":7.7955369774526595},{"$f":"'0_24_format'!I72-'0_15_format'!I72","v":23.222282478774943},{"$f":"'0_24_format'!J72-'0_15_format'!J72","v":9.3322747683210565},{"$f":"'0_24_format'!K72-'0_15_format'!K72","v":35.0191621412839},{"$f":"'0_24_format'!L72-'0_15_format'!L72","v":397.80953366040285},{"$f":"'0_24_format'!M72-'0_15_format'!M72","v":64.803289658074561},{"$f":"'0_24_format'!N72-'0_15_format'!N72","v":8.1502860253567047},{"$f":"'0_24_format'!O72-'0_15_format'!O72","v":42.07017942519019},{"$f":"'0_24_format'!P72-'0_15_format'!P72","v":37.138288176505455},{"$f":"'0_24_format'!Q72-'0_15_format'!Q72","v":50.773062697869676},{"$f":"'0_24_format'!R72-'0_15_format'!R72","v":17.58352947276223},{"$f":"'0_24_format'!S72-'0_15_format'!S72","v":8.0389059289254661},{"$f":"'0_24_format'!T72-'0_15_format'!T72","v":7.407245460128884}]
["Birmingham",{"$f":"'0_24_format'!B73-'0_15_format'!B73","v":159430.00000000012},{"$f":"'0_24_format'!C73-'0_15_format'!C73","v":79052.000000000029},{"$f":"'0_24_format'!D73-'0_15_format'!D73","v":1161.0000000000005},{"$f":"'0_24_format'!E73-'0_15_format'!E73","v":58},{"$f":"'0_24_format'!F73-'0_15_format'!F73","v":4977},{"$f":"'0_24_format'!G73-'0_15_format'!G73","v":5527.9999999999982},{"$f":"'0_24_format'!H73-'0_15_format'!H73","v":535},{"$f":"'0_24_format'!I73-'0_15_format'!I73","v":2155.0000000000009},{"$f":"'0_24_format'!J73-'0_15_format'!J73","v":1529.0000000000009},{"$f":"'0_24_format'!K73-'0_15_format'!K73","v":11022.999999999996},{"$f":"'0_24_format'!L73-'0_15_format'!L73","v":22245.000000000022},{"$f":"'0_24_format'!M73-'0_15_format'!M73","v":5172.0000000000091},{"$f":"'0_24_format'!N73-'0_15_format'!N73","v":4552},{"$f":"'0_24_format'!O73-'0_15_format'!O73","v":4860},{"$f":"'0_24_format'!P73-'0_15_format'!P73","v":4761},{"$f":"'0_24_format'!Q73-'0_15_format'!Q73","v":5580.0000000000036},{"$f":"'0_24_format'!R73-'0_15_format'!R73","v":2751.9999999999991},{"$f":"'0_24_format'!S73-'0_15_format'!S73","v":1741.0000000000009},{"$f":"'0_24_format'!T73-'0_15_format'!T73","v":1748.9999999999991}]

{"sheet":"alldata","index":90,"n_rows":26,"n_cols":70,"rows_kept":26,"cut":false,"hidden":true,"merged":[]}
["ZONEID","E05011118","E05011119","E05011120","E05011121","E05011122","E05011123","E05011124","E05011125","E05011126","E05011127","E05011128","E05011129","E05011130","E05011131","E05011132","E05011133","E05011134","E05011135","E05011136","E05011137","E05011138","E05011139","E05011140","E05011141","E05011142","E05011143","E05011144","E05011145","E05011146","E05011147","E05011148","E05011149","E05011150","E05011151","E05011152","E05011153","E05011154","E05011155","E05011156","E05011157","E05011158","E05011159","E05011160","E05011161","E05011162","E05011163","E05011164","E05011165","E05011166","E05011167","E05011168","E05011169","E05011170","E05011171","E05011172","E05011173","E05011174","E05011175","E05011176","E05011177","E05011178","E05011179","E05011180","E05011181","E05011182","E05011183","E05011184","E05011185","E05011186"]
["ZoneName","Acocks Green","Allens Cross","Alum Rock","Aston","Balsall Heath West","Bartley Green","Billesley","Birchfield","Bordesley & Highgate","Bordesley Green","Bournbrook & Selly Park","Bournville & Cotteridge","Brandwood & King's Heath","Bromford & Hodge Hill","Castle Vale","Druids Heath & Monyhull","Edgbaston","Erdington","Frankley Great Park","Garretts Green","Glebe Farm & Tile Cross","Gravelly Hill","Hall Green North","Hall Green South","Handsworth","Handsworth Wood","Harborne","Heartlands","Highter's Heath","Holyhead","King's Norton North","King's Norton South","Kingstanding","Ladywood","Longbridge & West Heath","Lozells","Moseley","Nechells","Newtown","North Edgbaston","Northfield","Oscott","Perry Barr","Perry Common","Pype Hayes","Quinton","Rubery & Rednal","Shard End","Sheldon","Small Heath","Soho & Jewellery Quarter","South Yardley","Sparkbrook & Balsall Heath East","Sparkhill","Stirchley","Stockland Green","Sutton Four Oaks","Sutton Mere Green","Sutton Reddicap","Sutton Roughley","Sutton Trinity","Sutton Vesey","Sutton Walmley & Minworth","Sutton Wylde Green","Tyseley & Hay Mills","Ward End","Weoley & Selly Oak","Yardley East","Yardley West & Stechford"]
["LC2101EW0001:All categories: Sex, All categories: Age, All categories: Ethnic group",23117,10962,25487,22636,11165,22014,19748,11465,13242,11796,19636,17501,18948,20446,9971,11653,18260,18603,11032,9431,23038,9875,21509,10420,11733,19731,21856,12287,11182,11133,11493,11665,20880,22250,19948,9153,21676,13980,12485,21934,10554,19823,20566,10968,10701,20251,9957,11660,18986,20403,22606,10295,25211,20309,9932,21572,9019,9703,10170,11674,8976,19695,16437,9433,11295,12255,22990,10327,11936]
["LC2101EW0002:All categories: Sex, All categories: Age, White: Total",14863,9034,2347,2294,2368,18037,14011,1576,3344,1705,14179,15019,13759,10714,8590,9465,10928,14545,9596,7147,15660,5183,9119,7072,1359,4968,15505,2689,9685,1822,9924,9712,17056,10434,17916,633,11866,4808,2758,7699,9455,16608,11856,8240,8363,14501,9053,9993,16259,1848,7219,7771,3059,2387,7751,13033,7918,8789,9041,10499,8138,16913,14837,8193,6024,2986,17491,7819,6203]
["LC2101EW0003:All categories: Sex, All categories: Age, White: English/Welsh/Scottish/Northern Irish/British",12996,8652,1909,1774,1945,17408,12879,1007,2604,1335,12817,14194,12520,10108,8280,8989,9756,12899,9304,6770,14939,4374,7757,6392,804,3786,14008,2351,9312,889,9465,9347,16270,8219,17335,458,10469,3977,2218,5782,9000,15833,10825,7687,7783,13641,8816,9691,15436,1369,5698,7117,2322,1705,7158,11366,7649,8477,8733,10184,7776,16121,14244,7776,5248,2683,16499,7406,5676]
["LC2101EW0004:All categories: Sex, All categories: Age, White: Irish",860,219,126,136,135,310,756,106,236,159,496,381,692,333,209,299,248,916,185,218,407,282,832,542,56,227,543,153,223,98,232,223,426,351,375,66,618,223,152,403,310,424,442,277,312,441,140,183,545,231,286,354,263,309,287,554,105,135,155,150,158,483,334,228,376,117,389,294,287]
["LC2101EW0005:All categories: Sex, All categories: Age, White: Gypsy or Irish Traveller",2,0,2,5,9,9,7,8,14,10,15,2,12,8,1,1,6,4,2,2,1,11,5,2,11,7,4,3,3,4,4,3,13,10,4,1,14,6,0,23,3,4,2,4,1,11,4,3,4,1,20,0,35,18,3,5,2,3,2,1,4,9,1,2,1,11,4,1,1]
["LC2101EW0006:All categories: Sex, All categories: Age, White: Other White",1005,163,310,379,279,310,369,455,490,201,851,442,535,265,100,176,918,726,105,157,313,516,525,136,488,948,950,182,147,831,223,139,347,1854,202,108,765,602,388,1491,142,347,587,272,267,408,93,116,274,247,1215,300,439,355,303,1108,162,174,151,164,200,300,258,187,399,175,599,118,239]
["LC2101EW0007:All categories: Sex, All categories: Age, Mixed/multiple ethnic group: Total",1052,482,663,669,597,1215,957,554,892,542,819,672,936,958,599,627,874,980,580,395,1365,699,759,284,557,866,1136,595,398,560,508,758,861,1527,764,298,1123,980,806,1159,409,648,855,544,530,1032,399,721,541,485,1539,380,861,521,447,1411,114,208,304,219,227,456,326,214,620,411,1166,363,588]
["LC2101EW0008:All categories: Sex, All categories: Age, Mixed/multiple ethnic group: White and Black Caribbean",571,299,257,276,287,759,472,272,430,190,292,325,450,579,472,390,262,542,403,229,833,402,288,107,267,455,454,208,253,298,319,470,546,722,473,145,492,515,414,505,226,397,487,336,344,544,253,521,281,150,834,215,327,150,253,887,40,99,176,97,111,206,176,87,291,178,596,208,327]
["LC2101EW0009:All categories: Sex, All categories: Age, Mixed/multiple ethnic group: White and Black African",51,32,64,79,32,60,40,34,68,62,76,46,49,62,28,48,63,67,31,14,75,36,45,9,65,43,81,25,18,34,41,55,58,175,64,33,58,91,74,96,16,29,56,22,30,70,18,23,29,44,119,20,39,51,21,88,15,6,18,11,15,44,33,28,24,32,82,27,31]
["LC2101EW0010:All categories: Sex, All categories: Age, Mixed/multiple ethnic group: White and Asian",283,78,212,193,144,210,278,97,200,137,256,179,272,188,52,110,341,223,86,83,268,162,277,107,112,193,398,215,73,99,66,115,168,327,104,66,336,208,186,303,95,132,173,109,86,248,61,91,137,156,239,93,311,209,96,210,43,66,61,65,60,128,70,51,190,117,262,81,141]
["LC2101EW0011:All categories: Sex, All categories: Age, Mixed/multiple ethnic group: Other Mixed",147,73,130,121,134,186,167,151,194,153,195,122,165,129,47,79,208,148,60,69,189,99,149,61,113,175,203,147,54,129,82,118,89,303,123,54,237,166,132,255,72,90,139,77,70,170,67,86,94,135,347,52,184,111,77,226,16,37,49,46,41,78,47,48,115,84,226,47,89]
["LC2101EW0012:All categories: Sex, All categories: Age, Asian/Asian British: Total",5714,783,19765,15641,4819,981,3709,5988,5416,7208,3624,962,3152,6697,149,650,4809,1465,289,1147,4150,2297,10388,2747,7104,9992,3375,7380,668,5820,439,368,1315,5279,453,6554,6704,3521,3626,8926,330,1225,4920,1019,943,2952,154,358,1558,15253,7688,1679,16823,15712,1179,3595,775,544,496,739,474,1625,884,799,3854,7706,2521,1643,4118]
["LC2101EW0013:All categories: Sex, All categories: Age, Asian/Asian British: Indian",1561,153,491,2886,538,227,1016,1621,538,263,1163,340,970,303,46,219,2355,479,79,135,285,341,2652,1188,2873,6680,1561,323,255,2985,132,110,494,1801,123,495,1466,792,1052,2970,80,717,2415,376,256,1732,50,36,368,507,3336,482,1300,1766,307,831,584,346,274,441,246,929,537,420,534,272,796,295,427]
["LC2101EW0014:All categories: Sex, All categories: Age, Asian/Asian British: Pakistani",2908,101,14926,6993,3117,198,1919,2809,2905,4844,786,178,1541,5293,40,205,863,567,83,661,2914,1432,6034,1115,2516,1593,466,5693,252,1189,102,76,397,592,72,2818,4188,1166,693,3941,50,129,1170,296,337,411,39,199,671,10806,2179,889,11668,11562,388,1810,82,85,107,104,96,321,113,211,2278,6244,357,1071,2768]
["LC2101EW0015:All categories: Sex, All categories: Age, Asian/Asian British: Bangladeshi",491,21,1901,4714,334,26,209,831,794,1530,234,42,119,416,10,19,146,130,9,112,237,127,626,97,904,403,106,576,15,944,40,37,113,146,17,2827,302,520,1128,394,7,149,638,146,52,79,3,33,266,2822,544,157,2590,961,245,295,17,18,15,13,15,71,6,34,679,406,103,111,410]
["LC2101EW0016:All categories: Sex, All categories: Age, Asian/Asian British: Chinese",153,163,96,190,271,118,125,127,653,48,865,177,191,94,25,75,720,115,52,20,54,106,100,55,109,154,596,54,22,115,49,40,80,1777,90,85,162,666,288,366,79,87,253,72,169,207,23,20,74,57,612,44,128,124,75,269,23,33,30,71,66,113,115,68,34,55,492,28,45]
["LC2101EW0017:All categories: Sex, All categories: Age, Asian/Asian British: Other Asian",601,345,2351,858,559,412,440,600,526,523,576,225,331,591,28,132,725,174,66,219,660,291,976,292,702,1162,646,734,124,587,116,105,231,963,151,329,586,377,465,1255,114,143,444,129,129,523,39,70,179,1061,1017,107,1137,1299,164,390,69,62,70,110,51,191,113,66,329,729,773,138,468]
["LC2101EW0018:All categories: Sex, All categories: Age, Black/African/Caribbean/Black British: Total",1221,566,2276,3703,1683,1600,844,3093,2784,1746,708,674,880,1830,579,768,1113,1501,521,701,1648,1553,749,162,2281,3124,1386,1242,360,2492,505,732,1557,4043,732,1511,1282,4172,4894,3297,308,1280,2716,1105,784,1381,329,536,515,1904,5477,346,2317,1008,470,3318,111,142,297,164,108,581,323,167,599,943,1337,426,855]
["LC2101EW0019:All categories: Sex, All categories: Age, Black/African/Caribbean/Black British: African",248,237,1108,1301,519,520,208,846,1128,783,379,297,169,683,120,260,470,382,143,192,423,351,233,33,564,531,548,533,129,395,154,207,376,1474,263,497,320,1846,2017,1147,92,138,415,262,135,420,91,94,170,888,1266,81,851,382,154,678,39,30,66,29,14,70,66,29,163,400,529,133,272]
["LC2101EW0020:All categories: Sex, All categories: Age, Black/African/Caribbean/Black British: Caribbean",741,234,627,1762,861,778,467,1787,1001,504,218,269,579,719,356,384,482,886,274,358,913,920,405,96,1312,2117,570,350,197,1673,253,401,943,1804,328,733,685,1310,1778,1454,136,918,1892,681,503,765,157,330,286,450,3134,196,788,414,241,2067,59,90,164,114,66,440,212,113,305,355,572,236,428]
["LC2101EW0021:All categories: Sex, All categories: Age, Black/African/Caribbean/Black British: Other Black",232,95,541,640,303,302,169,460,655,459,111,108,132,428,103,124,161,233,104,151,312,282,111,33,405,476,268,359,34,424,98,124,238,765,141,281,277,1016,1099,696,80,224,409,162,146,196,81,112,59,566,1077,69,678,212,75,573,13,22,67,21,28,71,45,25,131,188,236,57,155]
["LC2101EW0022:All categories: Sex, All categories: Age, Other ethnic group: Total",267,97,436,329,1698,181,227,254,806,595,306,174,221,247,54,143,536,112,46,41,215,143,494,155,432,781,454,381,71,439,117,95,91,967,83,157,701,499,401,853,52,62,219,60,81,385,22,52,113,913,683,119,2151,681,85,215,101,20,32,53,29,120,67,60,198,209,475,76,172]
["LC2101EW0023:All categories: Sex, All categories: Age, Other ethnic group: Arab",143,37,252,126,1500,71,120,77,524,384,137,76,81,146,14,51,217,35,7,9,77,40,208,43,62,54,204,207,28,37,49,49,20,453,35,63,432,201,185,307,16,8,32,12,43,110,5,27,54,587,123,72,1825,411,47,62,15,5,13,7,8,38,27,12,120,109,237,32,92]
["LC2101EW0024:All categories: Sex, All categories: Age, Other ethnic group: Any other ethnic group",124,60,184,203,198,110,107,177,282,211,169,98,140,101,40,92,319,77,39,32,138,103,286,112,370,727,250,174,43,402,68,46,71,514,48,94,269,298,216,546,36,54,187,48,38,275,17,25,59,326,560,47,326,270,38,153,86,15,19,46,21,82,40,48,78,100,238,44,80]

{"sheet":"alldata+","index":91,"n_rows":70,"n_cols":26,"rows_kept":70,"cut":false,"hidden":true,"merged":[]}
["ZONEID","ZoneName","LC2101EW0001:All categories: Sex, All categories: Age, All categories: Ethnic group","LC2101EW0002:All categories: Sex, All categories: Age, White: Total","LC2101EW0003:All categories: Sex, All categories: Age, White: English/Welsh/Scottish/Northern Irish/British","LC2101EW0004:All categories: Sex, All categories: Age, White: Irish","LC2101EW0005:All categories: Sex, All categories: Age, White: Gypsy or Irish Traveller","LC2101EW0006:All categories: Sex, All categories: Age, White: Other White","LC2101EW0007:All categories: Sex, All categories: Age, Mixed/multiple ethnic group: Total","LC2101EW0008:All categories: Sex, All categories: Age, Mixed/multiple ethnic group: White and Black Caribbean","LC2101EW0009:All categories: Sex, All categories: Age, Mixed/multiple ethnic group: White and Black African","LC2101EW0010:All categories: Sex, All categories: Age, Mixed/multiple ethnic group: White and Asian","LC2101EW0011:All categories: Sex, All categories: Age, Mixed/multiple ethnic group: Other Mixed","LC2101EW0012:All categories: Sex, All categories: Age, Asian/Asian British: Total","LC2101EW0013:All categories: Sex, All categories: Age, Asian/Asian British: Indian","LC2101EW0014:All categories: Sex, All categories: Age, Asian/Asian British: Pakistani","LC2101EW0015:All categories: Sex, All categories: Age, Asian/Asian British: Bangladeshi","LC2101EW0016:All categories: Sex, All categories: Age, Asian/Asian British: Chinese","LC2101EW0017:All categories: Sex, All categories: Age, Asian/Asian British: Other Asian","LC2101EW0018:All categories: Sex, All categories: Age, Black/African/Caribbean/Black British: Total","LC2101EW0019:All categories: Sex, All categories: Age, Black/African/Caribbean/Black British: African","LC2101EW0020:All categories: Sex, All categories: Age, Black/African/Caribbean/Black British: Caribbean","LC2101EW0021:All categories: Sex, All categories: Age, Black/African/Caribbean/Black British: Other Black","LC2101EW0022:All categories: Sex, All categories: Age, Other ethnic group: Total","LC2101EW0023:All categories: Sex, All categories: Age, Other ethnic group: Arab","LC2101EW0024:All categories: Sex, All categories: Age, Other ethnic group: Any other ethnic group"]
["E05011118","Acocks Green",23117,14863,12996,860,2,1005,1052,571,51,283,147,5714,1561,2908,491,153,601,1221,248,741,232,267,143,124]
["E05011119","Allens Cross",10962,9034,8652,219,0,163,482,299,32,78,73,783,153,101,21,163,345,566,237,234,95,97,37,60]
["E05011120","Alum Rock",25487,2347,1909,126,2,310,663,257,64,212,130,19765,491,14926,1901,96,2351,2276,1108,627,541,436,252,184]
["E05011121","Aston",22636,2294,1774,136,5,379,669,276,79,193,121,15641,2886,6993,4714,190,858,3703,1301,1762,640,329,126,203]
["E05011122","Balsall Heath West",11165,2368,1945,135,9,279,597,287,32,144,134,4819,538,3117,334,271,559,1683,519,861,303,1698,1500,198]
["E05011123","Bartley Green",22014,18037,17408,310,9,310,1215,759,60,210,186,981,227,198,26,118,412,1600,520,778,302,181,71,110]
["E05011124","Billesley",19748,14011,12879,756,7,369,957,472,40,278,167,3709,1016,1919,209,125,440,844,208,467,169,227,120,107]
["E05011125","Birchfield",11465,1576,1007,106,8,455,554,272,34,97,151,5988,1621,2809,831,127,600,3093,846,1787,460,254,77,177]
["E05011126","Bordesley & Highgate",13242,3344,2604,236,14,490,892,430,68,200,194,5416,538,2905,794,653,526,2784,1128,1001,655,806,524,282]
["E05011127","Bordesley Green",11796,1705,1335,159,10,201,542,190,62,137,153,7208,263,4844,1530,48,523,1746,783,504,459,595,384,211]
["E05011128","Bournbrook & Selly Park",19636,14179,12817,496,15,851,819,292,76,256,195,3624,1163,786,234,865,576,708,379,218,111,306,137,169]
["E05011129","Bournville & Cotteridge",17501,15019,14194,381,2,442,672,325,46,179,122,962,340,178,42,177,225,674,297,269,108,174,76,98]
["E05011130","Brandwood & King's Heath",18948,13759,12520,692,12,535,936,450,49,272,165,3152,970,1541,119,191,331,880,169,579,132,221,81,140]
["E05011131","Bromford & Hodge Hill",20446,10714,10108,333,8,265,958,579,62,188,129,6697,303,5293,416,94,591,1830,683,719,428,247,146,101]
["E05011132","Castle Vale",9971,8590,8280,209,1,100,599,472,28,52,47,149,46,40,10,25,28,579,120,356,103,54,14,40]
["E05011133","Druids Heath & Monyhull",11653,9465,8989,299,1,176,627,390,48,110,79,650,219,205,19,75,132,768,260,384,124,143,51,92]
["E05011134","Edgbaston",18260,10928,9756,248,6,918,874,262,63,341,208,4809,2355,863,146,720,725,1113,470,482,161,536,217,319]
["E05011135","Erdington",18603,14545,12899,916,4,726,980,542,67,223,148,1465,479,567,130,115,174,1501,382,886,233,112,35,77]
["E05011136","Frankley Great Park",11032,9596,9304,185,2,105,580,403,31,86,60,289,79,83,9,52,66,521,143,274,104,46,7,39]
["E05011137","Garretts Green",9431,7147,6770,218,2,157,395,229,14,83,69,1147,135,661,112,20,219,701,192,358,151,41,9,32]
["E05011138","Glebe Farm & Tile Cross",23038,15660,14939,407,1,313,1365,833,75,268,189,4150,285,2914,237,54,660,1648,423,913,312,215,77,138]
["E05011139","Gravelly Hill",9875,5183,4374,282,11,516,699,402,36,162,99,2297,341,1432,127,106,291,1553,351,920,282,143,40,103]
["E05011140","Hall Green North",21509,9119,7757,832,5,525,759,288,45,277,149,10388,2652,6034,626,100,976,749,233,405,111,494,208,286]
["E05011141","Hall Green South",10420,7072,6392,542,2,136,284,107,9,107,61,2747,1188,1115,97,55,292,162,33,96,33,155,43,112]
["E05011142","Handsworth",11733,1359,804,56,11,488,557,267,65,112,113,7104,2873,2516,904,109,702,2281,564,1312,405,432,62,370]
["E05011143","Handsworth Wood",19731,4968,3786,227,7,948,866,455,43,193,175,9992,6680,1593,403,154,1162,3124,531,2117,476,781,54,727]
["E05011144","Harborne",21856,15505,14008,543,4,950,1136,454,81,398,203,3375,1561,466,106,596,646,1386,548,570,268,454,204,250]
["E05011145","Heartlands",12287,2689,2351,153,3,182,595,208,25,215,147,7380,323,5693,576,54,734,1242,533,350,359,381,207,174]
["E05011146","Highter's Heath",11182,9685,9312,223,3,147,398,253,18,73,54,668,255,252,15,22,124,360,129,197,34,71,28,43]
["E05011147","Holyhead",11133,1822,889,98,4,831,560,298,34,99,129,5820,2985,1189,944,115,587,2492,395,1673,424,439,37,402]
["E05011148","King's Norton North",11493,9924,9465,232,4,223,508,319,41,66,82,439,132,102,40,49,116,505,154,253,98,117,49,68]
["E05011149","King's Norton South",11665,9712,9347,223,3,139,758,470,55,115,118,368,110,76,37,40,105,732,207,401,124,95,49,46]
["E05011150","Kingstanding",20880,17056,16270,426,13,347,861,546,58,168,89,1315,494,397,113,80,231,1557,376,943,238,91,20,71]
["E05011151","Ladywood",22250,10434,8219,351,10,1854,1527,722,175,327,303,5279,1801,592,146,1777,963,4043,1474,1804,765,967,453,514]
["E05011152","Longbridge & West Heath",19948,17916,17335,375,4,202,764,473,64,104,123,453,123,72,17,90,151,732,263,328,141,83,35,48]
["E05011153","Lozells",9153,633,458,66,1,108,298,145,33,66,54,6554,495,2818,2827,85,329,1511,497,733,281,157,63,94]
["E05011154","Moseley",21676,11866,10469,618,14,765,1123,492,58,336,237,6704,1466,4188,302,162,586,1282,320,685,277,701,432,269]
["E05011155","Nechells",13980,4808,3977,223,6,602,980,515,91,208,166,3521,792,1166,520,666,377,4172,1846,1310,1016,499,201,298]
["E05011156","Newtown",12485,2758,2218,152,0,388,806,414,74,186,132,3626,1052,693,1128,288,465,4894,2017,1778,1099,401,185,216]
["E05011157","North Edgbaston",21934,7699,5782,403,23,1491,1159,505,96,303,255,8926,2970,3941,394,366,1255,3297,1147,1454,696,853,307,546]
["E05011158","Northfield",10554,9455,9000,310,3,142,409,226,16,95,72,330,80,50,7,79,114,308,92,136,80,52,16,36]
["E05011159","Oscott",19823,16608,15833,424,4,347,648,397,29,132,90,1225,717,129,149,87,143,1280,138,918,224,62,8,54]
["E05011160","Perry Barr",20566,11856,10825,442,2,587,855,487,56,173,139,4920,2415,1170,638,253,444,2716,415,1892,409,219,32,187]
["E05011161","Perry Common",10968,8240,7687,277,4,272,544,336,22,109,77,1019,376,296,146,72,129,1105,262,681,162,60,12,48]
["E05011162","Pype Hayes",10701,8363,7783,312,1,267,530,344,30,86,70,943,256,337,52,169,129,784,135,503,146,81,43,38]
["E05011163","Quinton",20251,14501,13641,441,11,408,1032,544,70,248,170,2952,1732,411,79,207,523,1381,420,765,196,385,110,275]
["E05011164","Rubery & Rednal",9957,9053,8816,140,4,93,399,253,18,61,67,154,50,39,3,23,39,329,91,157,81,22,5,17]
["E05011165","Shard End",11660,9993,9691,183,3,116,721,521,23,91,86,358,36,199,33,20,70,536,94,330,112,52,27,25]
["E05011166","Sheldon",18986,16259,15436,545,4,274,541,281,29,137,94,1558,368,671,266,74,179,515,170,286,59,113,54,59]
["E05011167","Small Heath",20403,1848,1369,231,1,247,485,150,44,156,135,15253,507,10806,2822,57,1061,1904,888,450,566,913,587,326]
["E05011168","Soho & Jewellery Quarter",22606,7219,5698,286,20,1215,1539,834,119,239,347,7688,3336,2179,544,612,1017,5477,1266,3134,1077,683,123,560]
["E05011169","South Yardley",10295,7771,7117,354,0,300,380,215,20,93,52,1679,482,889,157,44,107,346,81,196,69,119,72,47]
["E05011170","Sparkbrook & Balsall Heath East",25211,3059,2322,263,35,439,861,327,39,311,184,16823,1300,11668,2590,128,1137,2317,851,788,678,2151,1825,326]
["E05011171","Sparkhill",20309,2387,1705,309,18,355,521,150,51,209,111,15712,1766,11562,961,124,1299,1008,382,414,212,681,411,270]
["E05011172","Stirchley",9932,7751,7158,287,3,303,447,253,21,96,77,1179,307,388,245,75,164,470,154,241,75,85,47,38]
["E05011173","Stockland Green",21572,13033,11366,554,5,1108,1411,887,88,210,226,3595,831,1810,295,269,390,3318,678,2067,573,215,62,153]
["E05011174","Sutton Four Oaks",9019,7918,7649,105,2,162,114,40,15,43,16,775,584,82,17,23,69,111,39,59,13,101,15,86]
["E05011175","Sutton Mere Green",9703,8789,8477,135,3,174,208,99,6,66,37,544,346,85,18,33,62,142,30,90,22,20,5,15]
["E05011176","Sutton Reddicap",10170,9041,8733,155,2,151,304,176,18,61,49,496,274,107,15,30,70,297,66,164,67,32,13,19]
["E05011177","Sutton Roughley",11674,10499,10184,150,1,164,219,97,11,65,46,739,441,104,13,71,110,164,29,114,21,53,7,46]
["E05011178","Sutton Trinity",8976,8138,7776,158,4,200,227,111,15,60,41,474,246,96,15,66,51,108,14,66,28,29,8,21]
["E05011179","Sutton Vesey",19695,16913,16121,483,9,300,456,206,44,128,78,1625,929,321,71,113,191,581,70,440,71,120,38,82]
["E05011180","Sutton Walmley & Minworth",16437,14837,14244,334,1,258,326,176,33,70,47,884,537,113,6,115,113,323,66,212,45,67,27,40]
["E05011181","Sutton Wylde Green",9433,8193,7776,228,2,187,214,87,28,51,48,799,420,211,34,68,66,167,29,113,25,60,12,48]
["E05011182","Tyseley & Hay Mills",11295,6024,5248,376,1,399,620,291,24,190,115,3854,534,2278,679,34,329,599,163,305,131,198,120,78]
["E05011183","Ward End",12255,2986,2683,117,11,175,411,178,32,117,84,7706,272,6244,406,55,729,943,400,355,188,209,109,100]
["E05011184","Weoley & Selly Oak",22990,17491,16499,389,4,599,1166,596,82,262,226,2521,796,357,103,492,773,1337,529,572,236,475,237,238]
["E05011185","Yardley East",10327,7819,7406,294,1,118,363,208,27,81,47,1643,295,1071,111,28,138,426,133,236,57,76,32,44]
["E05011186","Yardley West & Stechford",11936,6203,5676,287,1,239,588,327,31,141,89,4118,427,2768,410,45,468,855,272,428,155,172,92,80]

{"sheet":"allDataFormat","index":92,"n_rows":73,"n_cols":20,"rows_kept":73,"cut":false,"hidden":true,"merged":[[0,0,2,0],[1,1,2,1],[1,15,1,17],[1,18,1,19],[1,6,1,9],[1,2,1,5],[0,1,0,19]]}
["2018 Wards","2011 Census: Ethnic group of  ALL living in  Birmingham -  2018 wards                                  (interim estimates calculated by BCC)"]
[null,"all people","White",null,null,null,"Mixed or multiple ethnic group",null,null,null,"Asian or Asian British",null,null,null,null,"Black or African or Caribbean or Black British",null,null,"Other ethnic group"]
[null,null,"British"," Irish"," Gypsy or Irish Traveller","Other White"," White and Black Caribbean"," White and Black African","White and Asian","Other Mixed"," Indian"," Pakistani"," Bangladeshi","Chinese","Other Asian"," African"," Caribbean"," Other Black"," Arab"," Any other ethnic group"]
["Acocks Green",23117,12996,860,2,1005,571,51,283,147,1561,2908,491,153,601,248,741,232,143,124]
["Allens Cross",10962,8652,219,0,163,299,32,78,73,153,101,21,163,345,237,234,95,37,60]
["Alum Rock",25487,1909,126,2,310,257,64,212,130,491,14926,1901,96,2351,1108,627,541,252,184]
["Aston",22636,1774,136,5,379,276,79,193,121,2886,6993,4714,190,858,1301,1762,640,126,203]
["Balsall Heath West",11165,1945,135,9,279,287,32,144,134,538,3117,334,271,559,519,861,303,1500,198]
["Bartley Green",22014,17408,310,9,310,759,60,210,186,227,198,26,118,412,520,778,302,71,110]
["Billesley",19748,12879,756,7,369,472,40,278,167,1016,1919,209,125,440,208,467,169,120,107]
["Birchfield",11465,1007,106,8,455,272,34,97,151,1621,2809,831,127,600,846,1787,460,77,177]
["Bordesley & Highgate",13242,2604,236,14,490,430,68,200,194,538,2905,794,653,526,1128,1001,655,524,282]
["Bordesley Green",11796,1335,159,10,201,190,62,137,153,263,4844,1530,48,523,783,504,459,384,211]
["Bournbrook & Selly Park",19636,12817,496,15,851,292,76,256,195,1163,786,234,865,576,379,218,111,137,169]
["Bournville & Cotteridge",17501,14194,381,2,442,325,46,179,122,340,178,42,177,225,297,269,108,76,98]
["Brandwood & King's Heath",18948,12520,692,12,535,450,49,272,165,970,1541,119,191,331,169,579,132,81,140]
["Bromford & Hodge Hill",20446,10108,333,8,265,579,62,188,129,303,5293,416,94,591,683,719,428,146,101]
["Castle Vale",9971,8280,209,1,100,472,28,52,47,46,40,10,25,28,120,356,103,14,40]
["Druids Heath & Monyhull",11653,8989,299,1,176,390,48,110,79,219,205,19,75,132,260,384,124,51,92]
["Edgbaston",18260,9756,248,6,918,262,63,341,208,2355,863,146,720,725,470,482,161,217,319]
["Erdington",18603,12899,916,4,726,542,67,223,148,479,567,130,115,174,382,886,233,35,77]
["Frankley Great Park",11032,9304,185,2,105,403,31,86,60,79,83,9,52,66,143,274,104,7,39]
["Garrett's Green",9431,6770,218,2,157,229,14,83,69,135,661,112,20,219,192,358,151,9,32]
["Glebe Farm & Tile Cross",23038,14939,407,1,313,833,75,268,189,285,2914,237,54,660,423,913,312,77,138]
["Gravelly Hill",9875,4374,282,11,516,402,36,162,99,341,1432,127,106,291,351,920,282,40,103]
["Hall Green North",21509,7757,832,5,525,288,45,277,149,2652,6034,626,100,976,233,405,111,208,286]
["Hall Green South",10420,6392,542,2,136,107,9,107,61,1188,1115,97,55,292,33,96,33,43,112]
["Handsworth",11733,804,56,11,488,267,65,112,113,2873,2516,904,109,702,564,1312,405,62,370]
["Handsworth Wood",19731,3786,227,7,948,455,43,193,175,6680,1593,403,154,1162,531,2117,476,54,727]
["Harborne",21856,14008,543,4,950,454,81,398,203,1561,466,106,596,646,548,570,268,204,250]
["Heartlands",12287,2351,153,3,182,208,25,215,147,323,5693,576,54,734,533,350,359,207,174]
["Highter's Heath",11182,9312,223,3,147,253,18,73,54,255,252,15,22,124,129,197,34,28,43]
["Holyhead",11133,889,98,4,831,298,34,99,129,2985,1189,944,115,587,395,1673,424,37,402]
["King's Norton North",11493,9465,232,4,223,319,41,66,82,132,102,40,49,116,154,253,98,49,68]
["King's Norton South",11665,9347,223,3,139,470,55,115,118,110,76,37,40,105,207,401,124,49,46]
["Kingstanding",20880,16270,426,13,347,546,58,168,89,494,397,113,80,231,376,943,238,20,71]
["Ladywood",22250,8219,351,10,1854,722,175,327,303,1801,592,146,1777,963,1474,1804,765,453,514]
["Longbridge & West Heath",19948,17335,375,4,202,473,64,104,123,123,72,17,90,151,263,328,141,35,48]
["Lozells",9153,458,66,1,108,145,33,66,54,495,2818,2827,85,329,497,733,281,63,94]
["Moseley",21676,10469,618,14,765,492,58,336,237,1466,4188,302,162,586,320,685,277,432,269]
["Nechells",13980,3977,223,6,602,515,91,208,166,792,1166,520,666,377,1846,1310,1016,201,298]
["Newtown",12485,2218,152,0,388,414,74,186,132,1052,693,1128,288,465,2017,1778,1099,185,216]
["North Edgbaston",21934,5782,403,23,1491,505,96,303,255,2970,3941,394,366,1255,1147,1454,696,307,546]
["Northfield",10554,9000,310,3,142,226,16,95,72,80,50,7,79,114,92,136,80,16,36]
["Oscott",19823,15833,424,4,347,397,29,132,90,717,129,149,87,143,138,918,224,8,54]
["Perry Barr",20566,10825,442,2,587,487,56,173,139,2415,1170,638,253,444,415,1892,409,32,187]
["Perry Common",10968,7687,277,4,272,336,22,109,77,376,296,146,72,129,262,681,162,12,48]
["Pype Hayes",10701,7783,312,1,267,344,30,86,70,256,337,52,169,129,135,503,146,43,38]
["Quinton",20251,13641,441,11,408,544,70,248,170,1732,411,79,207,523,420,765,196,110,275]
["Rubery & Rednal",9957,8816,140,4,93,253,18,61,67,50,39,3,23,39,91,157,81,5,17]
["Shard End",11660,9691,183,3,116,521,23,91,86,36,199,33,20,70,94,330,112,27,25]
["Sheldon",18986,15436,545,4,274,281,29,137,94,368,671,266,74,179,170,286,59,54,59]
["Small Heath",20403,1369,231,1,247,150,44,156,135,507,10806,2822,57,1061,888,450,566,587,326]
["Soho & Jewellery Quarter",22606,5698,286,20,1215,834,119,239,347,3336,2179,544,612,1017,1266,3134,1077,123,560]
["South Yardley",10295,7117,354,0,300,215,20,93,52,482,889,157,44,107,81,196,69,72,47]
["Sparkbrook & Balsall Heath East",25211,2322,263,35,439,327,39,311,184,1300,11668,2590,128,1137,851,788,678,1825,326]
["Sparkhill",20309,1705,309,18,355,150,51,209,111,1766,11562,961,124,1299,382,414,212,411,270]
["Stirchley",9932,7158,287,3,303,253,21,96,77,307,388,245,75,164,154,241,75,47,38]
["Stockland Green",21572,11366,554,5,1108,887,88,210,226,831,1810,295,269,390,678,2067,573,62,153]
["Sutton Four Oaks",9019,7649,105,2,162,40,15,43,16,584,82,17,23,69,39,59,13,15,86]
["Sutton Mere Green",9703,8477,135,3,174,99,6,66,37,346,85,18,33,62,30,90,22,5,15]
["Sutton Reddicap",10170,8733,155,2,151,176,18,61,49,274,107,15,30,70,66,164,67,13,19]
["Sutton Roughley",11674,10184,150,1,164,97,11,65,46,441,104,13,71,110,29,114,21,7,46]
["Sutton Trinity",8976,7776,158,4,200,111,15,60,41,246,96,15,66,51,14,66,28,8,21]
["Sutton Vesey",19695,16121,483,9,300,206,44,128,78,929,321,71,113,191,70,440,71,38,82]
["Sutton Walmley & Minworth",16437,14244,334,1,258,176,33,70,47,537,113,6,115,113,66,212,45,27,40]
["Sutton Wylde Green",9433,7776,228,2,187,87,28,51,48,420,211,34,68,66,29,113,25,12,48]
["Tyseley & Hay Mills",11295,5248,376,1,399,291,24,190,115,534,2278,679,34,329,163,305,131,120,78]
["Ward End",12255,2683,117,11,175,178,32,117,84,272,6244,406,55,729,400,355,188,109,100]
["Weoley & Selly Oak",22990,16499,389,4,599,596,82,262,226,796,357,103,492,773,529,572,236,237,238]
["Yardley East",10327,7406,294,1,118,208,27,81,47,295,1071,111,28,138,133,236,57,32,44]
["Yardley West & Stechford",11936,5676,287,1,239,327,31,141,89,427,2768,410,45,468,272,428,155,92,80]
["Birmingham",{"$f":"SUM(B4:B72)","v":1073045},570217,22021,408,28990,24720,3223,11186,8476,64621,144627,32532,12712,31148,29991,47641,18728,10910,10894]

{"sheet":"16-64format","index":93,"n_rows":73,"n_cols":20,"rows_kept":73,"cut":false,"hidden":true,"merged":[[0,0,2,0],[0,1,0,19],[1,2,1,5],[1,6,1,9],[1,10,1,14],[1,15,1,17],[1,18,1,19],[1,1,2,1]]}
["2018 Wards","2011 Census: Ethnic group of  16 to 64's ALL living in  Birmingham -  2018 wards                                  (interim estimates calculated by BCC)"]
[null,"all people","White",null,null,null,"Mixed or multiple ethnic group",null,null,null,"Asian or Asian British",null,null,null,null,"Black or African or Caribbean or Black British",null,null,"Other ethnic group"]
[null,null,"British"," Irish"," Gypsy or Irish Traveller","Other White"," White and Black Caribbean"," White and Black African","White and Asian","Other Mixed"," Indian"," Pakistani"," Bangladeshi","Chinese","Other Asian"," African"," Caribbean"," Other Black"," Arab"," Any other ethnic group"]
["Acocks Green",{"$f":"allDataFormat!B4-'0_15_format'!B4-'65_format'!B4","v":14734.29202314591},{"$f":"allDataFormat!C4-'0_15_format'!C4-'65_format'!C4","v":8484.6248500406909},{"$f":"allDataFormat!D4-'0_15_format'!D4-'65_format'!D4","v":431.26464149257356},{"$f":"allDataFormat!E4-'0_15_format'!E4-'65_format'!E4","v":0},{"$f":"allDataFormat!F4-'0_15_format'!F4-'65_format'!F4","v":794.75435248783594},{"$f":"allDataFormat!G4-'0_15_format'!G4-'65_format'!G4","v":282.24051127644748},{"$f":"allDataFormat!H4-'0_15_format'!H4-'65_format'!H4","v":27.836473322341075},{"$f":"allDataFormat!I4-'0_15_format'!I4-'65_format'!I4","v":128.64390262962561},{"$f":"allDataFormat!J4-'0_15_format'!J4-'65_format'!J4","v":53.667046056280697},{"$f":"allDataFormat!K4-'0_15_format'!K4-'65_format'!K4","v":1075.3336190313335},{"$f":"allDataFormat!L4-'0_15_format'!L4-'65_format'!L4","v":1677.1450525904454},{"$f":"allDataFormat!M4-'0_15_format'!M4-'65_format'!M4","v":302.51817366426815},{"$f":"allDataFormat!N4-'0_15_format'!N4-'65_format'!N4","v":108.14193201078376},{"$f":"allDataFormat!O4-'0_15_format'!O4-'65_format'!O4","v":377.26149230575891},{"$f":"allDataFormat!P4-'0_15_format'!P4-'65_format'!P4","v":184.08840335295642},{"$f":"allDataFormat!Q4-'0_15_format'!Q4-'65_format'!Q4","v":492.10813700646588},{"$f":"allDataFormat!R4-'0_15_format'!R4-'65_format'!R4","v":156.44073106447578},{"$f":"allDataFormat!S4-'0_15_format'!S4-'65_format'!S4","v":73.921106549327845},{"$f":"allDataFormat!T4-'0_15_format'!T4-'65_format'!T4","v":84.301598264297326}]
["Allens Cross",{"$f":"allDataFormat!B5-'0_15_format'!B5-'65_format'!B5","v":6781.2557133949176},{"$f":"allDataFormat!C5-'0_15_format'!C5-'65_format'!C5","v":5378.0888766305306},{"$f":"allDataFormat!D5-'0_15_format'!D5-'65_format'!D5","v":106.4666311980925},{"$f":"allDataFormat!E5-'0_15_format'!E5-'65_format'!E5","v":0},{"$f":"allDataFormat!F5-'0_15_format'!F5-'65_format'!F5","v":118.3795099130879},{"$f":"allDataFormat!G5-'0_15_format'!G5-'65_format'!G5","v":156.09006513212006},{"$f":"allDataFormat!H5-'0_15_format'!H5-'65_format'!H5","v":14.679446844647941},{"$f":"allDataFormat!I5-'0_15_format'!I5-'65_format'!I5","v":33.402545512312301},{"$f":"allDataFormat!J5-'0_15_format'!J5-'65_format'!J5","v":36.642864447393976},{"$f":"allDataFormat!K5-'0_15_format'!K5-'65_format'!K5","v":101.69148135116116},{"$f":"allDataFormat!L5-'0_15_format'!L5-'65_format'!L5","v":68.968382683496799},{"$f":"allDataFormat!M5-'0_15_format'!M5-'65_format'!M5","v":16.751836734693878},{"$f":"allDataFormat!N5-'0_15_format'!N5-'65_format'!N5","v":119.14777269528501},{"$f":"allDataFormat!O5-'0_15_format'!O5-'65_format'!O5","v":210.82310551195599},{"$f":"allDataFormat!P5-'0_15_format'!P5-'65_format'!P5","v":146.40147458110263},{"$f":"allDataFormat!Q5-'0_15_format'!Q5-'65_format'!Q5","v":155.92892103676914},{"$f":"allDataFormat!R5-'0_15_format'!R5-'65_format'!R5","v":55.439941444932401},{"$f":"allDataFormat!S5-'0_15_format'!S5-'65_format'!S5","v":18.602829260905583},{"$f":"allDataFormat!T5-'0_15_format'!T5-'65_format'!T5","v":43.750028416429863}]
["Alum Rock",{"$f":"allDataFormat!B6-'0_15_format'!B6-'65_format'!B6","v":14967.875000060994},{"$f":"allDataFormat!C6-'0_15_format'!C6-'65_format'!C6","v":1217.4374847186209},{"$f":"allDataFormat!D6-'0_15_format'!D6-'65_format'!D6","v":48},{"$f":"allDataFormat!E6-'0_15_format'!E6-'65_format'!E6","v":2},{"$f":"allDataFormat!F6-'0_15_format'!F6-'65_format'!F6","v":207.69469848401923},{"$f":"allDataFormat!G6-'0_15_format'!G6-'65_format'!G6","v":109.5269883607059},{"$f":"allDataFormat!H6-'0_15_format'!H6-'65_format'!H6","v":27.745543099885914},{"$f":"allDataFormat!I6-'0_15_format'!I6-'65_format'!I6","v":83.511123134109013},{"$f":"allDataFormat!J6-'0_15_format'!J6-'65_format'!J6","v":45.315986372974436},{"$f":"allDataFormat!K6-'0_15_format'!K6-'65_format'!K6","v":345.11305766967848},{"$f":"allDataFormat!L6-'0_15_format'!L6-'65_format'!L6","v":8871.8850817641687},{"$f":"allDataFormat!M6-'0_15_format'!M6-'65_format'!M6","v":1115.0005277915507},{"$f":"allDataFormat!N6-'0_15_format'!N6-'65_format'!N6","v":58.299353421252803},{"$f":"allDataFormat!O6-'0_15_format'!O6-'65_format'!O6","v":1386.3992895877427},{"$f":"allDataFormat!P6-'0_15_format'!P6-'65_format'!P6","v":569.84410026611386},{"$f":"allDataFormat!Q6-'0_15_format'!Q6-'65_format'!Q6","v":392.83807008477424},{"$f":"allDataFormat!R6-'0_15_format'!R6-'65_format'!R6","v":265.11227905539096},{"$f":"allDataFormat!S6-'0_15_format'!S6-'65_format'!S6","v":127.42423270398399},{"$f":"allDataFormat!T6-'0_15_format'!T6-'65_format'!T6","v":94.727183546023582}]
["Aston",{"$f":"allDataFormat!B7-'0_15_format'!B7-'65_format'!B7","v":13846.724432366324},{"$f":"allDataFormat!C7-'0_15_format'!C7-'65_format'!C7","v":1171.0862855578616},{"$f":"allDataFormat!D7-'0_15_format'!D7-'65_format'!D7","v":59.733500368512438},{"$f":"allDataFormat!E7-'0_15_format'!E7-'65_format'!E7","v":5},{"$f":"allDataFormat!F7-'0_15_format'!F7-'65_format'!F7","v":275.70896734189927},{"$f":"allDataFormat!G7-'0_15_format'!G7-'65_format'!G7","v":128.16691280892306},{"$f":"allDataFormat!H7-'0_15_format'!H7-'65_format'!H7","v":38.098491469438699},{"$f":"allDataFormat!I7-'0_15_format'!I7-'65_format'!I7","v":86.308141606818126},{"$f":"allDataFormat!J7-'0_15_format'!J7-'65_format'!J7","v":49.383052396717716},{"$f":"allDataFormat!K7-'0_15_format'!K7-'65_format'!K7","v":2113.5862786978655},{"$f":"allDataFormat!L7-'0_15_format'!L7-'65_format'!L7","v":4221.1677983311865},{"$f":"allDataFormat!M7-'0_15_format'!M7-'65_format'!M7","v":2739.3682272879491},{"$f":"allDataFormat!N7-'0_15_format'!N7-'65_format'!N7","v":145.382580653909},{"$f":"allDataFormat!O7-'0_15_format'!O7-'65_format'!O7","v":527.61089927046316},{"$f":"allDataFormat!P7-'0_15_format'!P7-'65_format'!P7","v":778.44677582895918},{"$f":"allDataFormat!Q7-'0_15_format'!Q7-'65_format'!Q7","v":1002.851072859431},{"$f":"allDataFormat!R7-'0_15_format'!R7-'65_format'!R7","v":312.11595407519678},{"$f":"allDataFormat!S7-'0_15_format'!S7-'65_format'!S7","v":58.730731042729047},{"$f":"allDataFormat!T7-'0_15_format'!T7-'65_format'!T7","v":133.97876276846358}]
["Balsall Heath West",{"$f":"allDataFormat!B8-'0_15_format'!B8-'65_format'!B8","v":7099.9748983274385},{"$f":"allDataFormat!C8-'0_15_format'!C8-'65_format'!C8","v":1514.5962394131964},{"$f":"allDataFormat!D8-'0_15_format'!D8-'65_format'!D8","v":72.651406865862981},{"$f":"allDataFormat!E8-'0_15_format'!E8-'65_format'!E8","v":5},{"$f":"allDataFormat!F8-'0_15_format'!F8-'65_format'!F8","v":218.77880554686601},{"$f":"allDataFormat!G8-'0_15_format'!G8-'65_format'!G8","v":162.84187429965786},{"$f":"allDataFormat!H8-'0_15_format'!H8-'65_format'!H8","v":20.534851757341155},{"$f":"allDataFormat!I8-'0_15_format'!I8-'65_format'!I8","v":75.956735858875533},{"$f":"allDataFormat!J8-'0_15_format'!J8-'65_format'!J8","v":61.64029296926546},{"$f":"allDataFormat!K8-'0_15_format'!K8-'65_format'!K8","v":414.60790260766589},{"$f":"allDataFormat!L8-'0_15_format'!L8-'65_format'!L8","v":1914.7988441422522},{"$f":"allDataFormat!M8-'0_15_format'!M8-'65_format'!M8","v":219.78924635982861},{"$f":"allDataFormat!N8-'0_15_format'!N8-'65_format'!N8","v":183.86819273361033},{"$f":"allDataFormat!O8-'0_15_format'!O8-'65_format'!O8","v":363.88474527575079},{"$f":"allDataFormat!P8-'0_15_format'!P8-'65_format'!P8","v":311.1012141437165},{"$f":"allDataFormat!Q8-'0_15_format'!Q8-'65_format'!Q8","v":507.58873223467333},{"$f":"allDataFormat!R8-'0_15_format'!R8-'65_format'!R8","v":186.73681746384557},{"$f":"allDataFormat!S8-'0_15_format'!S8-'65_format'!S8","v":743.83031314571542},{"$f":"allDataFormat!T8-'0_15_format'!T8-'65_format'!T8","v":121.76868350931386}]
["Bartley Green",{"$f":"allDataFormat!B9-'0_15_format'!B9-'65_format'!B9","v":14090.878089889095},{"$f":"allDataFormat!C9-'0_15_format'!C9-'65_format'!C9","v":11297.945239346214},{"$f":"allDataFormat!D9-'0_15_format'!D9-'65_format'!D9","v":189.19493587669689},{"$f":"allDataFormat!E9-'0_15_format'!E9-'65_format'!E9","v":7},{"$f":"allDataFormat!F9-'0_15_format'!F9-'65_format'!F9","v":221.75590387328043},{"$f":"allDataFormat!G9-'0_15_format'!G9-'65_format'!G9","v":370.38003235282696},{"$f":"allDataFormat!H9-'0_15_format'!H9-'65_format'!H9","v":35.248163265306118},{"$f":"allDataFormat!I9-'0_15_format'!I9-'65_format'!I9","v":88.057294527195779},{"$f":"allDataFormat!J9-'0_15_format'!J9-'65_format'!J9","v":60.565035135170106},{"$f":"allDataFormat!K9-'0_15_format'!K9-'65_format'!K9","v":162.93513439364332},{"$f":"allDataFormat!L9-'0_15_format'!L9-'65_format'!L9","v":121.7214375008088},{"$f":"allDataFormat!M9-'0_15_format'!M9-'65_format'!M9","v":19.450446080778541},{"$f":"allDataFormat!N9-'0_15_format'!N9-'65_format'!N9","v":79.259577342668194},{"$f":"allDataFormat!O9-'0_15_format'!O9-'65_format'!O9","v":240.49282259003792},{"$f":"allDataFormat!P9-'0_15_format'!P9-'65_format'!P9","v":365.62232966236593},{"$f":"allDataFormat!Q9-'0_15_format'!Q9-'65_format'!Q9","v":544.35540538092221},{"$f":"allDataFormat!R9-'0_15_format'!R9-'65_format'!R9","v":161.24895060370375},{"$f":"allDataFormat!S9-'0_15_format'!S9-'65_format'!S9","v":49.397218692169318},{"$f":"allDataFormat!T9-'0_15_format'!T9-'65_format'!T9","v":76.248163265306118}]
["Billesley",{"$f":"allDataFormat!B10-'0_15_format'!B10-'65_format'!B10","v":12274.889184102856},{"$f":"allDataFormat!C10-'0_15_format'!C10-'65_format'!C10","v":8078.0809368155569},{"$f":"allDataFormat!D10-'0_15_format'!D10-'65_format'!D10","v":377.39576523702976},{"$f":"allDataFormat!E10-'0_15_format'!E10-'65_format'!E10","v":6},{"$f":"allDataFormat!F10-'0_15_format'!F10-'65_format'!F10","v":262.83813481963153},{"$f":"allDataFormat!G10-'0_15_format'!G10-'65_format'!G10","v":219.58922412491106},{"$f":"allDataFormat!H10-'0_15_format'!H10-'65_format'!H10","v":17.441614941066724},{"$f":"allDataFormat!I10-'0_15_format'!I10-'65_format'!I10","v":136.91286441231784},{"$f":"allDataFormat!J10-'0_15_format'!J10-'65_format'!J10","v":84.206694296412564},{"$f":"allDataFormat!K10-'0_15_format'!K10-'65_format'!K10","v":740.7896953014689},{"$f":"allDataFormat!L10-'0_15_format'!L10-'65_format'!L10","v":1151.8945311537129},{"$f":"allDataFormat!M10-'0_15_format'!M10-'65_format'!M10","v":121.5734016348991},{"$f":"allDataFormat!N10-'0_15_format'!N10-'65_format'!N10","v":92.656997791322596},{"$f":"allDataFormat!O10-'0_15_format'!O10-'65_format'!O10","v":283.37893912472884},{"$f":"allDataFormat!P10-'0_15_format'!P10-'65_format'!P10","v":110.92473637763196},{"$f":"allDataFormat!Q10-'0_15_format'!Q10-'65_format'!Q10","v":340.08051978398669},{"$f":"allDataFormat!R10-'0_15_format'!R10-'65_format'!R10","v":103.31234709050013},{"$f":"allDataFormat!S10-'0_15_format'!S10-'65_format'!S10","v":72.60426039922578},{"$f":"allDataFormat!T10-'0_15_format'!T10-'65_format'!T10","v":75.208520798451573}]
["Birchfield",{"$f":"allDataFormat!B11-'0_15_format'!B11-'65_format'!B11","v":7334.9611494817073},{"$f":"allDataFormat!C11-'0_15_format'!C11-'65_format'!C11","v":710.99329895647611},{"$f":"allDataFormat!D11-'0_15_format'!D11-'65_format'!D11","v":67.182132280355376},{"$f":"allDataFormat!E11-'0_15_format'!E11-'65_format'!E11","v":6.049835706462213},{"$f":"allDataFormat!F11-'0_15_format'!F11-'65_format'!F11","v":331.09411055825763},{"$f":"allDataFormat!G11-'0_15_format'!G11-'65_format'!G11","v":136.58330292818661},{"$f":"allDataFormat!H11-'0_15_format'!H11-'65_format'!H11","v":22.790588887473984},{"$f":"allDataFormat!I11-'0_15_format'!I11-'65_format'!I11","v":45.426949046686005},{"$f":"allDataFormat!J11-'0_15_format'!J11-'65_format'!J11","v":88.703022697658568},{"$f":"allDataFormat!K11-'0_15_format'!K11-'65_format'!K11","v":1138.0036106101106},{"$f":"allDataFormat!L11-'0_15_format'!L11-'65_format'!L11","v":1672.1846499089959},{"$f":"allDataFormat!M11-'0_15_format'!M11-'65_format'!M11","v":385.76187517360768},{"$f":"allDataFormat!N11-'0_15_format'!N11-'65_format'!N11","v":108.51104064375856},{"$f":"allDataFormat!O11-'0_15_format'!O11-'65_format'!O11","v":418.36493484538778},{"$f":"allDataFormat!P11-'0_15_format'!P11-'65_format'!P11","v":630.61012818466838},{"$f":"allDataFormat!Q11-'0_15_format'!Q11-'65_format'!Q11","v":1092.3043835726694},{"$f":"allDataFormat!R11-'0_15_format'!R11-'65_format'!R11","v":287.58915364503832},{"$f":"allDataFormat!S11-'0_15_format'!S11-'65_format'!S11","v":50.042382456980341},{"$f":"allDataFormat!T11-'0_15_format'!T11-'65_format'!T11","v":142.7657493789327}]
["Bordesley & Highgate",{"$f":"allDataFormat!B12-'0_15_format'!B12-'65_format'!B12","v":8858.124418127496},{"$f":"allDataFormat!C12-'0_15_format'!C12-'65_format'!C12","v":2084.5535692271014},{"$f":"allDataFormat!D12-'0_15_format'!D12-'65_format'!D12","v":130.05968844380862},{"$f":"allDataFormat!E12-'0_15_format'!E12-'65_format'!E12","v":6},{"$f":"allDataFormat!F12-'0_15_format'!F12-'65_format'!F12","v":416.84463550283317},{"$f":"allDataFormat!G12-'0_15_format'!G12-'65_format'!G12","v":248.18592757309895},{"$f":"allDataFormat!H12-'0_15_format'!H12-'65_format'!H12","v":45.258265776506121},{"$f":"allDataFormat!I12-'0_15_format'!I12-'65_format'!I12","v":125.76635881147118},{"$f":"allDataFormat!J12-'0_15_format'!J12-'65_format'!J12","v":80.514444017820352},{"$f":"allDataFormat!K12-'0_15_format'!K12-'65_format'!K12","v":439.42644072514787},{"$f":"allDataFormat!L12-'0_15_format'!L12-'65_format'!L12","v":1675.0922937267335},{"$f":"allDataFormat!M12-'0_15_format'!M12-'65_format'!M12","v":455.79311161313711},{"$f":"allDataFormat!N12-'0_15_format'!N12-'65_format'!N12","v":546.53945072661998},{"$f":"allDataFormat!O12-'0_15_format'!O12-'65_format'!O12","v":380.51378699387681},{"$f":"allDataFormat!P12-'0_15_format'!P12-'65_format'!P12","v":693.60563063275936},{"$f":"allDataFormat!Q12-'0_15_format'!Q12-'65_format'!Q12","v":668.89100377880811},{"$f":"allDataFormat!R12-'0_15_format'!R12-'65_format'!R12","v":377.11337568129949},{"$f":"allDataFormat!S12-'0_15_format'!S12-'65_format'!S12","v":299.02913443701561},{"$f":"allDataFormat!T12-'0_15_format'!T12-'65_format'!T12","v":184.9373004594579}]
["Bordesley Green",{"$f":"allDataFormat!B13-'0_15_format'!B13-'65_format'!B13","v":6869.5931093184354},{"$f":"allDataFormat!C13-'0_15_format'!C13-'65_format'!C13","v":887.60306120529754},{"$f":"allDataFormat!D13-'0_15_format'!D13-'65_format'!D13","v":62.444289044289036},{"$f":"allDataFormat!E13-'0_15_format'!E13-'65_format'!E13","v":6},{"$f":"allDataFormat!F13-'0_15_format'!F13-'65_format'!F13","v":130.25987561089389},{"$f":"allDataFormat!G13-'0_15_format'!G13-'65_format'!G13","v":120.67829378445941},{"$f":"allDataFormat!H13-'0_15_format'!H13-'65_format'!H13","v":32.852123221712077},{"$f":"allDataFormat!I13-'0_15_format'!I13-'65_format'!I13","v":52.04460651441272},{"$f":"allDataFormat!J13-'0_15_format'!J13-'65_format'!J13","v":52.113003651907988},{"$f":"allDataFormat!K13-'0_15_format'!K13-'65_format'!K13","v":205.30660248004705},{"$f":"allDataFormat!L13-'0_15_format'!L13-'65_format'!L13","v":2794.253293884346},{"$f":"allDataFormat!M13-'0_15_format'!M13-'65_format'!M13","v":946.9955701742316},{"$f":"allDataFormat!N13-'0_15_format'!N13-'65_format'!N13","v":31.409232778821632},{"$f":"allDataFormat!O13-'0_15_format'!O13-'65_format'!O13","v":293.88070104099421},{"$f":"allDataFormat!P13-'0_15_format'!P13-'65_format'!P13","v":406.5070153333503},{"$f":"allDataFormat!Q13-'0_15_format'!Q13-'65_format'!Q13","v":302.20008388642412},{"$f":"allDataFormat!R13-'0_15_format'!R13-'65_format'!R13","v":234.29666281885102},{"$f":"allDataFormat!S13-'0_15_format'!S13-'65_format'!S13","v":193.48341982676192},{"$f":"allDataFormat!T13-'0_15_format'!T13-'65_format'!T13","v":117.26527406163568}]
["Bournbrook & Selly Park",{"$f":"allDataFormat!B14-'0_15_format'!B14-'65_format'!B14","v":16633.48500039343},{"$f":"allDataFormat!C14-'0_15_format'!C14-'65_format'!C14","v":11099.671519622148},{"$f":"allDataFormat!D14-'0_15_format'!D14-'65_format'!D14","v":274.70615034168566},{"$f":"allDataFormat!E14-'0_15_format'!E14-'65_format'!E14","v":14},{"$f":"allDataFormat!F14-'0_15_format'!F14-'65_format'!F14","v":759.35873955296506},{"$f":"allDataFormat!G14-'0_15_format'!G14-'65_format'!G14","v":182.4324243296517},{"$f":"allDataFormat!H14-'0_15_format'!H14-'65_format'!H14","v":58.936377046453515},{"$f":"allDataFormat!I14-'0_15_format'!I14-'65_format'!I14","v":210.08915500406874},{"$f":"allDataFormat!J14-'0_15_format'!J14-'65_format'!J14","v":147.61323136715097},{"$f":"allDataFormat!K14-'0_15_format'!K14-'65_format'!K14","v":1041.4910163716281},{"$f":"allDataFormat!L14-'0_15_format'!L14-'65_format'!L14","v":522.84912245404098},{"$f":"allDataFormat!M14-'0_15_format'!M14-'65_format'!M14","v":167.29448312886643},{"$f":"allDataFormat!N14-'0_15_format'!N14-'65_format'!N14","v":830.23086017532},{"$f":"allDataFormat!O14-'0_15_format'!O14-'65_format'!O14","v":513.04565569680267},{"$f":"allDataFormat!P14-'0_15_format'!P14-'65_format'!P14","v":307.78486602994246},{"$f":"allDataFormat!Q14-'0_15_format'!Q14-'65_format'!Q14","v":171.10361426822698},{"$f":"allDataFormat!R14-'0_15_format'!R14-'65_format'!R14","v":82.936377046453515},{"$f":"allDataFormat!S14-'0_15_format'!S14-'65_format'!S14","v":103.9707039790118},{"$f":"allDataFormat!T14-'0_15_format'!T14-'65_format'!T14","v":145.9707039790118}]
["Bournville & Cotteridge",{"$f":"allDataFormat!B15-'0_15_format'!B15-'65_format'!B15","v":11157.855793783088},{"$f":"allDataFormat!C15-'0_15_format'!C15-'65_format'!C15","v":9003.3974765990879},{"$f":"allDataFormat!D15-'0_15_format'!D15-'65_format'!D15","v":206.4476372545758},{"$f":"allDataFormat!E15-'0_15_format'!E15-'65_format'!E15","v":2},{"$f":"allDataFormat!F15-'0_15_format'!F15-'65_format'!F15","v":335.53221188346947},{"$f":"allDataFormat!G15-'0_15_format'!G15-'65_format'!G15","v":162.14997818937741},{"$f":"allDataFormat!H15-'0_15_format'!H15-'65_format'!H15","v":22.883363048373287},{"$f":"allDataFormat!I15-'0_15_format'!I15-'65_format'!I15","v":81.881010542314755},{"$f":"allDataFormat!J15-'0_15_format'!J15-'65_format'!J15","v":59.573073245382339},{"$f":"allDataFormat!K15-'0_15_format'!K15-'65_format'!K15","v":245.87508079425822},{"$f":"allDataFormat!L15-'0_15_format'!L15-'65_format'!L15","v":124.62089527747725},{"$f":"allDataFormat!M15-'0_15_format'!M15-'65_format'!M15","v":30.754520480177504},{"$f":"allDataFormat!N15-'0_15_format'!N15-'65_format'!N15","v":143.40575355274822},{"$f":"allDataFormat!O15-'0_15_format'!O15-'65_format'!O15","v":162.78614597167899},{"$f":"allDataFormat!P15-'0_15_format'!P15-'65_format'!P15","v":202.51368628691841},{"$f":"allDataFormat!Q15-'0_15_format'!Q15-'65_format'!Q15","v":188.45615116974227},{"$f":"allDataFormat!R15-'0_15_format'!R15-'65_format'!R15","v":67.176093893167007},{"$f":"allDataFormat!S15-'0_15_format'!S15-'65_format'!S15","v":45.278354195539023},{"$f":"allDataFormat!T15-'0_15_format'!T15-'65_format'!T15","v":73.124361398801852}]
["Brandwood & King's Heath",{"$f":"allDataFormat!B16-'0_15_format'!B16-'65_format'!B16","v":12331.712978047502},{"$f":"allDataFormat!C16-'0_15_format'!C16-'65_format'!C16","v":8282.4214113728631},{"$f":"allDataFormat!D16-'0_15_format'!D16-'65_format'!D16","v":399.1561509994782},{"$f":"allDataFormat!E16-'0_15_format'!E16-'65_format'!E16","v":9},{"$f":"allDataFormat!F16-'0_15_format'!F16-'65_format'!F16","v":397.10439809955858},{"$f":"allDataFormat!G16-'0_15_format'!G16-'65_format'!G16","v":231.70583087012284},{"$f":"allDataFormat!H16-'0_15_format'!H16-'65_format'!H16","v":27.845236284322866},{"$f":"allDataFormat!I16-'0_15_format'!I16-'65_format'!I16","v":110.01788537828088},{"$f":"allDataFormat!J16-'0_15_format'!J16-'65_format'!J16","v":69.223762493486049},{"$f":"allDataFormat!K16-'0_15_format'!K16-'65_format'!K16","v":662.56350824171602},{"$f":"allDataFormat!L16-'0_15_format'!L16-'65_format'!L16","v":949.31387330750363},{"$f":"allDataFormat!M16-'0_15_format'!M16-'65_format'!M16","v":68.947508091637445},{"$f":"allDataFormat!N16-'0_15_format'!N16-'65_format'!N16","v":138.34411780807247},{"$f":"allDataFormat!O16-'0_15_format'!O16-'65_format'!O16","v":225.12888650508467},{"$f":"allDataFormat!P16-'0_15_format'!P16-'65_format'!P16","v":117.64509527547372},{"$f":"allDataFormat!Q16-'0_15_format'!Q16-'65_format'!Q16","v":419.90886607213076},{"$f":"allDataFormat!R16-'0_15_format'!R16-'65_format'!R16","v":74.959060596703139},{"$f":"allDataFormat!S16-'0_15_format'!S16-'65_format'!S16","v":52.797940959476406},{"$f":"allDataFormat!T16-'0_15_format'!T16-'65_format'!T16","v":95.629445691592835}]
["Bromford & Hodge Hill",{"$f":"allDataFormat!B17-'0_15_format'!B17-'65_format'!B17","v":12081.233238207151},{"$f":"allDataFormat!C17-'0_15_format'!C17-'65_format'!C17","v":6110.8210844384757},{"$f":"allDataFormat!D17-'0_15_format'!D17-'65_format'!D17","v":142},{"$f":"allDataFormat!E17-'0_15_format'!E17-'65_format'!E17","v":3},{"$f":"allDataFormat!F17-'0_15_format'!F17-'65_format'!F17","v":186.35732751384927},{"$f":"allDataFormat!G17-'0_15_format'!G17-'65_format'!G17","v":280.75226344356781},{"$f":"allDataFormat!H17-'0_15_format'!H17-'65_format'!H17","v":14.883559957473004},{"$f":"allDataFormat!I17-'0_15_format'!I17-'65_format'!I17","v":72.866062335627547},{"$f":"allDataFormat!J17-'0_15_format'!J17-'65_format'!J17","v":64.876145710928313},{"$f":"allDataFormat!K17-'0_15_format'!K17-'65_format'!K17","v":215.72206927424318},{"$f":"allDataFormat!L17-'0_15_format'!L17-'65_format'!L17","v":3107.8828269263049},{"$f":"allDataFormat!M17-'0_15_format'!M17-'65_format'!M17","v":244.54844720496894},{"$f":"allDataFormat!N17-'0_15_format'!N17-'65_format'!N17","v":61.602960102960111},{"$f":"allDataFormat!O17-'0_15_format'!O17-'65_format'!O17","v":335.25032175032175},{"$f":"allDataFormat!P17-'0_15_format'!P17-'65_format'!P17","v":413.50873482177826},{"$f":"allDataFormat!Q17-'0_15_format'!Q17-'65_format'!Q17","v":484.70990990990992},{"$f":"allDataFormat!R17-'0_15_format'!R17-'65_format'!R17","v":219.40442616529575},{"$f":"allDataFormat!S17-'0_15_format'!S17-'65_format'!S17","v":65.808880308880305},{"$f":"allDataFormat!T17-'0_15_format'!T17-'65_format'!T17","v":57.238218342566171}]
["Castle Vale",{"$f":"allDataFormat!B18-'0_15_format'!B18-'65_format'!B18","v":5964},{"$f":"allDataFormat!C18-'0_15_format'!C18-'65_format'!C18","v":5041},{"$f":"allDataFormat!D18-'0_15_format'!D18-'65_format'!D18","v":96},{"$f":"allDataFormat!E18-'0_15_format'!E18-'65_format'!E18","v":1},{"$f":"allDataFormat!F18-'0_15_format'!F18-'65_format'!F18","v":77},{"$f":"allDataFormat!G18-'0_15_format'!G18-'65_format'!G18","v":205},{"$f":"allDataFormat!H18-'0_15_format'!H18-'65_format'!H18","v":10},{"$f":"allDataFormat!I18-'0_15_format'!I18-'65_format'!I18","v":20},{"$f":"allDataFormat!J18-'0_15_format'!J18-'65_format'!J18","v":12},{"$f":"allDataFormat!K18-'0_15_format'!K18-'65_format'!K18","v":30},{"$f":"allDataFormat!L18-'0_15_format'!L18-'65_format'!L18","v":25},{"$f":"allDataFormat!M18-'0_15_format'!M18-'65_format'!M18","v":9},{"$f":"allDataFormat!N18-'0_15_format'!N18-'65_format'!N18","v":18},{"$f":"allDataFormat!O18-'0_15_format'!O18-'65_format'!O18","v":21},{"$f":"allDataFormat!P18-'0_15_format'!P18-'65_format'!P18","v":68},{"$f":"allDataFormat!Q18-'0_15_format'!Q18-'65_format'!Q18","v":236},{"$f":"allDataFormat!R18-'0_15_format'!R18-'65_format'!R18","v":60},{"$f":"allDataFormat!S18-'0_15_format'!S18-'65_format'!S18","v":6},{"$f":"allDataFormat!T18-'0_15_format'!T18-'65_format'!T18","v":29}]
["Druids Heath & Monyhull",{"$f":"allDataFormat!B19-'0_15_format'!B19-'65_format'!B19","v":7344.3417307020172},{"$f":"allDataFormat!C19-'0_15_format'!C19-'65_format'!C19","v":5716.1775813502327},{"$f":"allDataFormat!D19-'0_15_format'!D19-'65_format'!D19","v":151.21613822357483},{"$f":"allDataFormat!E19-'0_15_format'!E19-'65_format'!E19","v":0},{"$f":"allDataFormat!F19-'0_15_format'!F19-'65_format'!F19","v":120.91360051615356},{"$f":"allDataFormat!G19-'0_15_format'!G19-'65_format'!G19","v":200.84593506402808},{"$f":"allDataFormat!H19-'0_15_format'!H19-'65_format'!H19","v":27.009454616707551},{"$f":"allDataFormat!I19-'0_15_format'!I19-'65_format'!I19","v":49.687036183705608},{"$f":"allDataFormat!J19-'0_15_format'!J19-'65_format'!J19","v":42.591507098595336},{"$f":"allDataFormat!K19-'0_15_format'!K19-'65_format'!K19","v":150.8394218171463},{"$f":"allDataFormat!L19-'0_15_format'!L19-'65_format'!L19","v":122.28973389135793},{"$f":"allDataFormat!M19-'0_15_format'!M19-'65_format'!M19","v":11.604407135362015},{"$f":"allDataFormat!N19-'0_15_format'!N19-'65_format'!N19","v":50.262392587535118},{"$f":"allDataFormat!O19-'0_15_format'!O19-'65_format'!O19","v":90.09485913414747},{"$f":"allDataFormat!P19-'0_15_format'!P19-'65_format'!P19","v":173.15504535180338},{"$f":"allDataFormat!Q19-'0_15_format'!Q19-'65_format'!Q19","v":272.32366323662143},{"$f":"allDataFormat!R19-'0_15_format'!R19-'65_format'!R19","v":81.518025026305736},{"$f":"allDataFormat!S19-'0_15_format'!S19-'65_format'!S19","v":25.004529821153898},{"$f":"allDataFormat!T19-'0_15_format'!T19-'65_format'!T19","v":58.808399647586441}]
["Edgbaston",{"$f":"allDataFormat!B20-'0_15_format'!B20-'65_format'!B20","v":13806.909219727177},{"$f":"allDataFormat!C20-'0_15_format'!C20-'65_format'!C20","v":7544.1998767806053},{"$f":"allDataFormat!D20-'0_15_format'!D20-'65_format'!D20","v":155.60248482810277},{"$f":"allDataFormat!E20-'0_15_format'!E20-'65_format'!E20","v":6},{"$f":"allDataFormat!F20-'0_15_format'!F20-'65_format'!F20","v":741.67793128998039},{"$f":"allDataFormat!G20-'0_15_format'!G20-'65_format'!G20","v":187.34132415561089},{"$f":"allDataFormat!H20-'0_15_format'!H20-'65_format'!H20","v":39.761871703035439},{"$f":"allDataFormat!I20-'0_15_format'!I20-'65_format'!I20","v":205.4378347216192},{"$f":"allDataFormat!J20-'0_15_format'!J20-'65_format'!J20","v":125.27149926486607},{"$f":"allDataFormat!K20-'0_15_format'!K20-'65_format'!K20","v":1755.033987215028},{"$f":"allDataFormat!L20-'0_15_format'!L20-'65_format'!L20","v":551.45736607691083},{"$f":"allDataFormat!M20-'0_15_format'!M20-'65_format'!M20","v":105.37190399739279},{"$f":"allDataFormat!N20-'0_15_format'!N20-'65_format'!N20","v":620.31387748403779},{"$f":"allDataFormat!O20-'0_15_format'!O20-'65_format'!O20","v":571.83268110722486},{"$f":"allDataFormat!P20-'0_15_format'!P20-'65_format'!P20","v":344.43587932401442},{"$f":"allDataFormat!Q20-'0_15_format'!Q20-'65_format'!Q20","v":351.78825448774325},{"$f":"allDataFormat!R20-'0_15_format'!R20-'65_format'!R20","v":101.80524375945988},{"$f":"allDataFormat!S20-'0_15_format'!S20-'65_format'!S20","v":139.82694701471905},{"$f":"allDataFormat!T20-'0_15_format'!T20-'65_format'!T20","v":259.75025651682597}]
["Erdington",{"$f":"allDataFormat!B21-'0_15_format'!B21-'65_format'!B21","v":11869.506933414692},{"$f":"allDataFormat!C21-'0_15_format'!C21-'65_format'!C21","v":8351.2145553592236},{"$f":"allDataFormat!D21-'0_15_format'!D21-'65_format'!D21","v":458.96988933863781},{"$f":"allDataFormat!E21-'0_15_format'!E21-'65_format'!E21","v":3},{"$f":"allDataFormat!F21-'0_15_format'!F21-'65_format'!F21","v":573.6055916792418},{"$f":"allDataFormat!G21-'0_15_format'!G21-'65_format'!G21","v":259.18273324825242},{"$f":"allDataFormat!H21-'0_15_format'!H21-'65_format'!H21","v":21.83745647252065},{"$f":"allDataFormat!I21-'0_15_format'!I21-'65_format'!I21","v":83.536796433185771},{"$f":"allDataFormat!J21-'0_15_format'!J21-'65_format'!J21","v":75.748773661864561},{"$f":"allDataFormat!K21-'0_15_format'!K21-'65_format'!K21","v":334.47983033660233},{"$f":"allDataFormat!L21-'0_15_format'!L21-'65_format'!L21","v":354.64468864180026},{"$f":"allDataFormat!M21-'0_15_format'!M21-'65_format'!M21","v":87.148307082876087},{"$f":"allDataFormat!N21-'0_15_format'!N21-'65_format'!N21","v":83.884017280425525},{"$f":"allDataFormat!O21-'0_15_format'!O21-'65_format'!O21","v":124.34201736585163},{"$f":"allDataFormat!P21-'0_15_format'!P21-'65_format'!P21","v":236.51625745131918},{"$f":"allDataFormat!Q21-'0_15_format'!Q21-'65_format'!Q21","v":591.9398778334845},{"$f":"allDataFormat!R21-'0_15_format'!R21-'65_format'!R21","v":153.53576929332587},{"$f":"allDataFormat!S21-'0_15_format'!S21-'65_format'!S21","v":23.460177099543316},{"$f":"allDataFormat!T21-'0_15_format'!T21-'65_format'!T21","v":52.460194836536836}]
["Frankley Great Park",{"$f":"allDataFormat!B22-'0_15_format'!B22-'65_format'!B22","v":7225.0050003955275},{"$f":"allDataFormat!C22-'0_15_format'!C22-'65_format'!C22","v":6161.8627186782533},{"$f":"allDataFormat!D22-'0_15_format'!D22-'65_format'!D22","v":113.45352112676056},{"$f":"allDataFormat!E22-'0_15_format'!E22-'65_format'!E22","v":2},{"$f":"allDataFormat!F22-'0_15_format'!F22-'65_format'!F22","v":68.860314700775916},{"$f":"allDataFormat!G22-'0_15_format'!G22-'65_format'!G22","v":184.27187415901298},{"$f":"allDataFormat!H22-'0_15_format'!H22-'65_format'!H22","v":15.951829430021917},{"$f":"allDataFormat!I22-'0_15_format'!I22-'65_format'!I22","v":50.900023920389103},{"$f":"allDataFormat!J22-'0_15_format'!J22-'65_format'!J22","v":32.37643886108328},{"$f":"allDataFormat!K22-'0_15_format'!K22-'65_format'!K22","v":65.133905205709254},{"$f":"allDataFormat!L22-'0_15_format'!L22-'65_format'!L22","v":52.027094225871835},{"$f":"allDataFormat!M22-'0_15_format'!M22-'65_format'!M22","v":4.6418663303909202},{"$f":"allDataFormat!N22-'0_15_format'!N22-'65_format'!N22","v":39.182075775687338},{"$f":"allDataFormat!O22-'0_15_format'!O22-'65_format'!O22","v":44.978923655893752},{"$f":"allDataFormat!P22-'0_15_format'!P22-'65_format'!P22","v":91.058550514077325},{"$f":"allDataFormat!Q22-'0_15_format'!Q22-'65_format'!Q22","v":195.92410920537816},{"$f":"allDataFormat!R22-'0_15_format'!R22-'65_format'!R22","v":66.635222449853401},{"$f":"allDataFormat!S22-'0_15_format'!S22-'65_format'!S22","v":5},{"$f":"allDataFormat!T22-'0_15_format'!T22-'65_format'!T22","v":30.746532156368222}]
["Garrett's Green",{"$f":"allDataFormat!B23-'0_15_format'!B23-'65_format'!B23","v":5782.9755764892398},{"$f":"allDataFormat!C23-'0_15_format'!C23-'65_format'!C23","v":4217.1147127237136},{"$f":"allDataFormat!D23-'0_15_format'!D23-'65_format'!D23","v":111.58216140633303},{"$f":"allDataFormat!E23-'0_15_format'!E23-'65_format'!E23","v":0.44391570360299104},{"$f":"allDataFormat!F23-'0_15_format'!F23-'65_format'!F23","v":120.1840270593799},{"$f":"allDataFormat!G23-'0_15_format'!G23-'65_format'!G23","v":103.80214224243703},{"$f":"allDataFormat!H23-'0_15_format'!H23-'65_format'!H23","v":4.5581395348837219},{"$f":"allDataFormat!I23-'0_15_format'!I23-'65_format'!I23","v":34.178222144816637},{"$f":"allDataFormat!J23-'0_15_format'!J23-'65_format'!J23","v":19.028132348422723},{"$f":"allDataFormat!K23-'0_15_format'!K23-'65_format'!K23","v":91.761808307425184},{"$f":"allDataFormat!L23-'0_15_format'!L23-'65_format'!L23","v":400.16695503873677},{"$f":"allDataFormat!M23-'0_15_format'!M23-'65_format'!M23","v":68.070831766700877},{"$f":"allDataFormat!N23-'0_15_format'!N23-'65_format'!N23","v":14.298774014155713},{"$f":"allDataFormat!O23-'0_15_format'!O23-'65_format'!O23","v":133.66244797462775},{"$f":"allDataFormat!P23-'0_15_format'!P23-'65_format'!P23","v":110.57285694990236},{"$f":"allDataFormat!Q23-'0_15_format'!Q23-'65_format'!Q23","v":230.43180045936987},{"$f":"allDataFormat!R23-'0_15_format'!R23-'65_format'!R23","v":97.642806261466205},{"$f":"allDataFormat!S23-'0_15_format'!S23-'65_format'!S23","v":5.1249143192383384},{"$f":"allDataFormat!T23-'0_15_format'!T23-'65_format'!T23","v":20.350928234027737}]
["Glebe Farm & Tile Cross",{"$f":"allDataFormat!B24-'0_15_format'!B24-'65_format'!B24","v":14128.990862829447},{"$f":"allDataFormat!C24-'0_15_format'!C24-'65_format'!C24","v":9504.4444477159541},{"$f":"allDataFormat!D24-'0_15_format'!D24-'65_format'!D24","v":227.76536643026003},{"$f":"allDataFormat!E24-'0_15_format'!E24-'65_format'!E24","v":1},{"$f":"allDataFormat!F24-'0_15_format'!F24-'65_format'!F24","v":225.67693108480444},{"$f":"allDataFormat!G24-'0_15_format'!G24-'65_format'!G24","v":387.75500519354824},{"$f":"allDataFormat!H24-'0_15_format'!H24-'65_format'!H24","v":39.716193944807159},{"$f":"allDataFormat!I24-'0_15_format'!I24-'65_format'!I24","v":96.996438809799486},{"$f":"allDataFormat!J24-'0_15_format'!J24-'65_format'!J24","v":66.824672752152324},{"$f":"allDataFormat!K24-'0_15_format'!K24-'65_format'!K24","v":199.24077325792274},{"$f":"allDataFormat!L24-'0_15_format'!L24-'65_format'!L24","v":1624.713030928632},{"$f":"allDataFormat!M24-'0_15_format'!M24-'65_format'!M24","v":136.55185913103276},{"$f":"allDataFormat!N24-'0_15_format'!N24-'65_format'!N24","v":38.38235628906547},{"$f":"allDataFormat!O24-'0_15_format'!O24-'65_format'!O24","v":381.79163037933938},{"$f":"allDataFormat!P24-'0_15_format'!P24-'65_format'!P24","v":268.17175596350199},{"$f":"allDataFormat!Q24-'0_15_format'!Q24-'65_format'!Q24","v":595.43834897337626},{"$f":"allDataFormat!R24-'0_15_format'!R24-'65_format'!R24","v":209.32791788904109},{"$f":"allDataFormat!S24-'0_15_format'!S24-'65_format'!S24","v":33.467029905203468},{"$f":"allDataFormat!T24-'0_15_format'!T24-'65_format'!T24","v":91.727104181008514}]
["Gravelly Hill",{"$f":"allDataFormat!B25-'0_15_format'!B25-'65_format'!B25","v":6527.5090252300361},{"$f":"allDataFormat!C25-'0_15_format'!C25-'65_format'!C25","v":3023.1784727228378},{"$f":"allDataFormat!D25-'0_15_format'!D25-'65_format'!D25","v":147.51827334080713},{"$f":"allDataFormat!E25-'0_15_format'!E25-'65_format'!E25","v":6},{"$f":"allDataFormat!F25-'0_15_format'!F25-'65_format'!F25","v":411.44944900076985},{"$f":"allDataFormat!G25-'0_15_format'!G25-'65_format'!G25","v":194.86455410715368},{"$f":"allDataFormat!H25-'0_15_format'!H25-'65_format'!H25","v":17.839422334799252},{"$f":"allDataFormat!I25-'0_15_format'!I25-'65_format'!I25","v":82.722328866595063},{"$f":"allDataFormat!J25-'0_15_format'!J25-'65_format'!J25","v":67.691879119086678},{"$f":"allDataFormat!K25-'0_15_format'!K25-'65_format'!K25","v":258.07927416986115},{"$f":"allDataFormat!L25-'0_15_format'!L25-'65_format'!L25","v":850.21951550630797},{"$f":"allDataFormat!M25-'0_15_format'!M25-'65_format'!M25","v":58.559521081064986},{"$f":"allDataFormat!N25-'0_15_format'!N25-'65_format'!N25","v":89.103616484917822},{"$f":"allDataFormat!O25-'0_15_format'!O25-'65_format'!O25","v":171.4346056495952},{"$f":"allDataFormat!P25-'0_15_format'!P25-'65_format'!P25","v":252.40571318619311},{"$f":"allDataFormat!Q25-'0_15_format'!Q25-'65_format'!Q25","v":596.28677081038268},{"$f":"allDataFormat!R25-'0_15_format'!R25-'65_format'!R25","v":204.8361273487144},{"$f":"allDataFormat!S25-'0_15_format'!S25-'65_format'!S25","v":24.24860458854004},{"$f":"allDataFormat!T25-'0_15_format'!T25-'65_format'!T25","v":71.070896912409651}]
["Hall Green North",{"$f":"allDataFormat!B26-'0_15_format'!B26-'65_format'!B26","v":13322.188459801569},{"$f":"allDataFormat!C26-'0_15_format'!C26-'65_format'!C26","v":4818.4731283005667},{"$f":"allDataFormat!D26-'0_15_format'!D26-'65_format'!D26","v":465.9441979649273},{"$f":"allDataFormat!E26-'0_15_format'!E26-'65_format'!E26","v":5},{"$f":"allDataFormat!F26-'0_15_format'!F26-'65_format'!F26","v":356.04526311056941},{"$f":"allDataFormat!G26-'0_15_format'!G26-'65_format'!G26","v":159.81075495264122},{"$f":"allDataFormat!H26-'0_15_format'!H26-'65_format'!H26","v":20.920412854903514},{"$f":"allDataFormat!I26-'0_15_format'!I26-'65_format'!I26","v":109.84744443094667},{"$f":"allDataFormat!J26-'0_15_format'!J26-'65_format'!J26","v":47.010940759610946},{"$f":"allDataFormat!K26-'0_15_format'!K26-'65_format'!K26","v":1931.0811138018666},{"$f":"allDataFormat!L26-'0_15_format'!L26-'65_format'!L26","v":3547.757978757998},{"$f":"allDataFormat!M26-'0_15_format'!M26-'65_format'!M26","v":392.67501562100722},{"$f":"allDataFormat!N26-'0_15_format'!N26-'65_format'!N26","v":72.778014252235877},{"$f":"allDataFormat!O26-'0_15_format'!O26-'65_format'!O26","v":615.26064815178597},{"$f":"allDataFormat!P26-'0_15_format'!P26-'65_format'!P26","v":140.21587758512655},{"$f":"allDataFormat!Q26-'0_15_format'!Q26-'65_format'!Q26","v":272.20880052685237},{"$f":"allDataFormat!R26-'0_15_format'!R26-'65_format'!R26","v":65.871713954676807},{"$f":"allDataFormat!S26-'0_15_format'!S26-'65_format'!S26","v":123.25208194192976},{"$f":"allDataFormat!T26-'0_15_format'!T26-'65_format'!T26","v":178.03507283392346}]
["Hall Green South",{"$f":"allDataFormat!B27-'0_15_format'!B27-'65_format'!B27","v":6524.1770904538607},{"$f":"allDataFormat!C27-'0_15_format'!C27-'65_format'!C27","v":3996.2694705492577},{"$f":"allDataFormat!D27-'0_15_format'!D27-'65_format'!D27","v":316.59118877150513},{"$f":"allDataFormat!E27-'0_15_format'!E27-'65_format'!E27","v":2},{"$f":"allDataFormat!F27-'0_15_format'!F27-'65_format'!F27","v":96.925584691708011},{"$f":"allDataFormat!G27-'0_15_format'!G27-'65_format'!G27","v":52.943917039431255},{"$f":"allDataFormat!H27-'0_15_format'!H27-'65_format'!H27","v":4},{"$f":"allDataFormat!I27-'0_15_format'!I27-'65_format'!I27","v":38.675313212358262},{"$f":"allDataFormat!J27-'0_15_format'!J27-'65_format'!J27","v":27.744873954369673},{"$f":"allDataFormat!K27-'0_15_format'!K27-'65_format'!K27","v":844.3172953406139},{"$f":"allDataFormat!L27-'0_15_format'!L27-'65_format'!L27","v":670.17376019540643},{"$f":"allDataFormat!M27-'0_15_format'!M27-'65_format'!M27","v":53.507064330652},{"$f":"allDataFormat!N27-'0_15_format'!N27-'65_format'!N27","v":42},{"$f":"allDataFormat!O27-'0_15_format'!O27-'65_format'!O27","v":180.11383272680945},{"$f":"allDataFormat!P27-'0_15_format'!P27-'65_format'!P27","v":17.65698086463501},{"$f":"allDataFormat!Q27-'0_15_format'!Q27-'65_format'!Q27","v":67.263749260792423},{"$f":"allDataFormat!R27-'0_15_format'!R27-'65_format'!R27","v":23.462792345854005},{"$f":"allDataFormat!S27-'0_15_format'!S27-'65_format'!S27","v":20.318746303962154},{"$f":"allDataFormat!T27-'0_15_format'!T27-'65_format'!T27","v":70.212520866504249}]
["Handsworth",{"$f":"allDataFormat!B28-'0_15_format'!B28-'65_format'!B28","v":7574.0067347864424},{"$f":"allDataFormat!C28-'0_15_format'!C28-'65_format'!C28","v":542.5154296943299},{"$f":"allDataFormat!D28-'0_15_format'!D28-'65_format'!D28","v":20.598581165651211},{"$f":"allDataFormat!E28-'0_15_format'!E28-'65_format'!E28","v":7.5271385214215565},{"$f":"allDataFormat!F28-'0_15_format'!F28-'65_format'!F28","v":357.75464551870306},{"$f":"allDataFormat!G28-'0_15_format'!G28-'65_format'!G28","v":134.8218450384426},{"$f":"allDataFormat!H28-'0_15_format'!H28-'65_format'!H28","v":41.663163578963058},{"$f":"allDataFormat!I28-'0_15_format'!I28-'65_format'!I28","v":36.453886586476642},{"$f":"allDataFormat!J28-'0_15_format'!J28-'65_format'!J28","v":55.233312996004713},{"$f":"allDataFormat!K28-'0_15_format'!K28-'65_format'!K28","v":2099.5066903574716},{"$f":"allDataFormat!L28-'0_15_format'!L28-'65_format'!L28","v":1497.3803102134989},{"$f":"allDataFormat!M28-'0_15_format'!M28-'65_format'!M28","v":530.72909997624618},{"$f":"allDataFormat!N28-'0_15_format'!N28-'65_format'!N28","v":78.479808090366177},{"$f":"allDataFormat!O28-'0_15_format'!O28-'65_format'!O28","v":497.90518342064445},{"$f":"allDataFormat!P28-'0_15_format'!P28-'65_format'!P28","v":363.868334898581},{"$f":"allDataFormat!Q28-'0_15_format'!Q28-'65_format'!Q28","v":743.59635484979071},{"$f":"allDataFormat!R28-'0_15_format'!R28-'65_format'!R28","v":250.55956482570383},{"$f":"allDataFormat!S28-'0_15_format'!S28-'65_format'!S28","v":43.032954496547191},{"$f":"allDataFormat!T28-'0_15_format'!T28-'65_format'!T28","v":272.38043055760045}]
["Handsworth Wood",{"$f":"allDataFormat!B29-'0_15_format'!B29-'65_format'!B29","v":13450.357163715558},{"$f":"allDataFormat!C29-'0_15_format'!C29-'65_format'!C29","v":2410.3242659198058},{"$f":"allDataFormat!D29-'0_15_format'!D29-'65_format'!D29","v":109.55008725533764},{"$f":"allDataFormat!E29-'0_15_format'!E29-'65_format'!E29","v":3.953241146322128},{"$f":"allDataFormat!F29-'0_15_format'!F29-'65_format'!F29","v":729.29235246201006},{"$f":"allDataFormat!G29-'0_15_format'!G29-'65_format'!G29","v":267.42451909100373},{"$f":"allDataFormat!H29-'0_15_format'!H29-'65_format'!H29","v":29.267302565136024},{"$f":"allDataFormat!I29-'0_15_format'!I29-'65_format'!I29","v":103.87399384919792},{"$f":"allDataFormat!J29-'0_15_format'!J29-'65_format'!J29","v":78.40750542955675},{"$f":"allDataFormat!K29-'0_15_format'!K29-'65_format'!K29","v":4957.3862079500914},{"$f":"allDataFormat!L29-'0_15_format'!L29-'65_format'!L29","v":892.66456313419314},{"$f":"allDataFormat!M29-'0_15_format'!M29-'65_format'!M29","v":224.98773065598846},{"$f":"allDataFormat!N29-'0_15_format'!N29-'65_format'!N29","v":123.4037509385671},{"$f":"allDataFormat!O29-'0_15_format'!O29-'65_format'!O29","v":803.71384299301724},{"$f":"allDataFormat!P29-'0_15_format'!P29-'65_format'!P29","v":367.91448920245347},{"$f":"allDataFormat!Q29-'0_15_format'!Q29-'65_format'!Q29","v":1502.5381985539036},{"$f":"allDataFormat!R29-'0_15_format'!R29-'65_format'!R29","v":328.35909660363245},{"$f":"allDataFormat!S29-'0_15_format'!S29-'65_format'!S29","v":34.037620792852934},{"$f":"allDataFormat!T29-'0_15_format'!T29-'65_format'!T29","v":483.25839517248733}]
["Harborne",{"$f":"allDataFormat!B30-'0_15_format'!B30-'65_format'!B30","v":14744.558147834421},{"$f":"allDataFormat!C30-'0_15_format'!C30-'65_format'!C30","v":9382.5022734676568},{"$f":"allDataFormat!D30-'0_15_format'!D30-'65_format'!D30","v":315.78703665415657},{"$f":"allDataFormat!E30-'0_15_format'!E30-'65_format'!E30","v":3},{"$f":"allDataFormat!F30-'0_15_format'!F30-'65_format'!F30","v":744.90100469833033},{"$f":"allDataFormat!G30-'0_15_format'!G30-'65_format'!G30","v":211.54777401527173},{"$f":"allDataFormat!H30-'0_15_format'!H30-'65_format'!H30","v":44.727560036193722},{"$f":"allDataFormat!I30-'0_15_format'!I30-'65_format'!I30","v":179.73615292884841},{"$f":"allDataFormat!J30-'0_15_format'!J30-'65_format'!J30","v":123.64937892963781},{"$f":"allDataFormat!K30-'0_15_format'!K30-'65_format'!K30","v":1120.7330434455246},{"$f":"allDataFormat!L30-'0_15_format'!L30-'65_format'!L30","v":294.63900838186731},{"$f":"allDataFormat!M30-'0_15_format'!M30-'65_format'!M30","v":70.81684612679777},{"$f":"allDataFormat!N30-'0_15_format'!N30-'65_format'!N30","v":525.7406186075425},{"$f":"allDataFormat!O30-'0_15_format'!O30-'65_format'!O30","v":486.40220872005295},{"$f":"allDataFormat!P30-'0_15_format'!P30-'65_format'!P30","v":368.40014470947631},{"$f":"allDataFormat!Q30-'0_15_format'!Q30-'65_format'!Q30","v":398.55115608743182},{"$f":"allDataFormat!R30-'0_15_format'!R30-'65_format'!R30","v":151.73775460669003},{"$f":"allDataFormat!S30-'0_15_format'!S30-'65_format'!S30","v":141.49558834262456},{"$f":"allDataFormat!T30-'0_15_format'!T30-'65_format'!T30","v":180.19059807631817}]
["Heartlands",{"$f":"allDataFormat!B31-'0_15_format'!B31-'65_format'!B31","v":7042.805088447024},{"$f":"allDataFormat!C31-'0_15_format'!C31-'65_format'!C31","v":1371.1125190982809},{"$f":"allDataFormat!D31-'0_15_format'!D31-'65_format'!D31","v":68.243219497228125},{"$f":"allDataFormat!E31-'0_15_format'!E31-'65_format'!E31","v":1},{"$f":"allDataFormat!F31-'0_15_format'!F31-'65_format'!F31","v":123.38942775286019},{"$f":"allDataFormat!G31-'0_15_format'!G31-'65_format'!G31","v":110.51006705353632},{"$f":"allDataFormat!H31-'0_15_format'!H31-'65_format'!H31","v":10.673306975257697},{"$f":"allDataFormat!I31-'0_15_format'!I31-'65_format'!I31","v":104.50321970283409},{"$f":"allDataFormat!J31-'0_15_format'!J31-'65_format'!J31","v":54.376317287144204},{"$f":"allDataFormat!K31-'0_15_format'!K31-'65_format'!K31","v":227.64900689517472},{"$f":"allDataFormat!L31-'0_15_format'!L31-'65_format'!L31","v":3283.6910499192209},{"$f":"allDataFormat!M31-'0_15_format'!M31-'65_format'!M31","v":340.44801939094481},{"$f":"allDataFormat!N31-'0_15_format'!N31-'65_format'!N31","v":31.499513609545843},{"$f":"allDataFormat!O31-'0_15_format'!O31-'65_format'!O31","v":453.17531614441788},{"$f":"allDataFormat!P31-'0_15_format'!P31-'65_format'!P31","v":266.67457180675359},{"$f":"allDataFormat!Q31-'0_15_format'!Q31-'65_format'!Q31","v":228.50811323318965},{"$f":"allDataFormat!R31-'0_15_format'!R31-'65_format'!R31","v":156.07026106528167},{"$f":"allDataFormat!S31-'0_15_format'!S31-'65_format'!S31","v":106.31726116086287},{"$f":"allDataFormat!T31-'0_15_format'!T31-'65_format'!T31","v":104.96389785449057}]
["Highter's Heath",{"$f":"allDataFormat!B32-'0_15_format'!B32-'65_format'!B32","v":7197.2086843810757},{"$f":"allDataFormat!C32-'0_15_format'!C32-'65_format'!C32","v":6053.9954633830203},{"$f":"allDataFormat!D32-'0_15_format'!D32-'65_format'!D32","v":119},{"$f":"allDataFormat!E32-'0_15_format'!E32-'65_format'!E32","v":3},{"$f":"allDataFormat!F32-'0_15_format'!F32-'65_format'!F32","v":119.75761503564485},{"$f":"allDataFormat!G32-'0_15_format'!G32-'65_format'!G32","v":111.47893713545042},{"$f":"allDataFormat!H32-'0_15_format'!H32-'65_format'!H32","v":12.10304601425794},{"$f":"allDataFormat!I32-'0_15_format'!I32-'65_format'!I32","v":41.963707064160729},{"$f":"allDataFormat!J32-'0_15_format'!J32-'65_format'!J32","v":20.206092028515883},{"$f":"allDataFormat!K32-'0_15_format'!K32-'65_format'!K32","v":179.89112119248219},{"$f":"allDataFormat!L32-'0_15_format'!L32-'65_format'!L32","v":151.33959818535322},{"$f":"allDataFormat!M32-'0_15_format'!M32-'65_format'!M32","v":4.860661049902788},{"$f":"allDataFormat!N32-'0_15_format'!N32-'65_format'!N32","v":12.551523007128971},{"$f":"allDataFormat!O32-'0_15_format'!O32-'65_format'!O32","v":65.927414128321459},{"$f":"allDataFormat!P32-'0_15_format'!P32-'65_format'!P32","v":88.066753078418657},{"$f":"allDataFormat!Q32-'0_15_format'!Q32-'65_format'!Q32","v":143.51523007128969},{"$f":"allDataFormat!R32-'0_15_format'!R32-'65_format'!R32","v":25.551523007128971},{"$f":"allDataFormat!S32-'0_15_format'!S32-'65_format'!S32","v":16},{"$f":"allDataFormat!T32-'0_15_format'!T32-'65_format'!T32","v":28}]
["Holyhead",{"$f":"allDataFormat!B33-'0_15_format'!B33-'65_format'!B33","v":7125.469457896379},{"$f":"allDataFormat!C33-'0_15_format'!C33-'65_format'!C33","v":527.73599757506634},{"$f":"allDataFormat!D33-'0_15_format'!D33-'65_format'!D33","v":38.669199298655755},{"$f":"allDataFormat!E33-'0_15_format'!E33-'65_format'!E33","v":2.4697846257941025},{"$f":"allDataFormat!F33-'0_15_format'!F33-'65_format'!F33","v":629.86432111875331},{"$f":"allDataFormat!G33-'0_15_format'!G33-'65_format'!G33","v":145.37623316090406},{"$f":"allDataFormat!H33-'0_15_format'!H33-'65_format'!H33","v":11.301117203857171},{"$f":"allDataFormat!I33-'0_15_format'!I33-'65_format'!I33","v":46.158645643845006},{"$f":"allDataFormat!J33-'0_15_format'!J33-'65_format'!J33","v":38.376673557864819},{"$f":"allDataFormat!K33-'0_15_format'!K33-'65_format'!K33","v":2181.4682935074006},{"$f":"allDataFormat!L33-'0_15_format'!L33-'65_format'!L33","v":703.96612598355819},{"$f":"allDataFormat!M33-'0_15_format'!M33-'65_format'!M33","v":546.84236021681181},{"$f":"allDataFormat!N33-'0_15_format'!N33-'65_format'!N33","v":78.887321899871296},{"$f":"allDataFormat!O33-'0_15_format'!O33-'65_format'!O33","v":393.92428685701299},{"$f":"allDataFormat!P33-'0_15_format'!P33-'65_format'!P33","v":244.30831944561933},{"$f":"allDataFormat!Q33-'0_15_format'!Q33-'65_format'!Q33","v":970.36951597687334},{"$f":"allDataFormat!R33-'0_15_format'!R33-'65_format'!R33","v":252.39481281325567},{"$f":"allDataFormat!S33-'0_15_format'!S33-'65_format'!S33","v":21.874573571371638},{"$f":"allDataFormat!T33-'0_15_format'!T33-'65_format'!T33","v":291.48187543986421}]
["King's Norton North",{"$f":"allDataFormat!B34-'0_15_format'!B34-'65_format'!B34","v":7188.1421630670429},{"$f":"allDataFormat!C34-'0_15_format'!C34-'65_format'!C34","v":5964.6933641926253},{"$f":"allDataFormat!D34-'0_15_format'!D34-'65_format'!D34","v":120.95268499888144},{"$f":"allDataFormat!E34-'0_15_format'!E34-'65_format'!E34","v":3.227453580901857},{"$f":"allDataFormat!F34-'0_15_format'!F34-'65_format'!F34","v":142.7867999774262},{"$f":"allDataFormat!G34-'0_15_format'!G34-'65_format'!G34","v":156.59732266096148},{"$f":"allDataFormat!H34-'0_15_format'!H34-'65_format'!H34","v":21.21684634760501},{"$f":"allDataFormat!I34-'0_15_format'!I34-'65_format'!I34","v":29.990995943923942},{"$f":"allDataFormat!J34-'0_15_format'!J34-'65_format'!J34","v":33.650491460519362},{"$f":"allDataFormat!K34-'0_15_format'!K34-'65_format'!K34","v":93.276333475234395},{"$f":"allDataFormat!L34-'0_15_format'!L34-'65_format'!L34","v":81.311743048873083},{"$f":"allDataFormat!M34-'0_15_format'!M34-'65_format'!M34","v":20.183392536116628},{"$f":"allDataFormat!N34-'0_15_format'!N34-'65_format'!N34","v":39.771285602748513},{"$f":"allDataFormat!O34-'0_15_format'!O34-'65_format'!O34","v":78.603733454397656},{"$f":"allDataFormat!P34-'0_15_format'!P34-'65_format'!P34","v":98.898060200926324},{"$f":"allDataFormat!Q34-'0_15_format'!Q34-'65_format'!Q34","v":166.49586226098546},{"$f":"allDataFormat!R34-'0_15_format'!R34-'65_format'!R34","v":56.521583449045906},{"$f":"allDataFormat!S34-'0_15_format'!S34-'65_format'!S34","v":29.740482000381775},{"$f":"allDataFormat!T34-'0_15_format'!T34-'65_format'!T34","v":50.223727875488578}]
["King's Norton South",{"$f":"allDataFormat!B35-'0_15_format'!B35-'65_format'!B35","v":7216.5401356254624},{"$f":"allDataFormat!C35-'0_15_format'!C35-'65_format'!C35","v":5883.2895427708099},{"$f":"allDataFormat!D35-'0_15_format'!D35-'65_format'!D35","v":123.4387509093186},{"$f":"allDataFormat!E35-'0_15_format'!E35-'65_format'!E35","v":3},{"$f":"allDataFormat!F35-'0_15_format'!F35-'65_format'!F35","v":102.47129940990797},{"$f":"allDataFormat!G35-'0_15_format'!G35-'65_format'!G35","v":211.90509567665811},{"$f":"allDataFormat!H35-'0_15_format'!H35-'65_format'!H35","v":21.256189735489556},{"$f":"allDataFormat!I35-'0_15_format'!I35-'65_format'!I35","v":60.032679249238718},{"$f":"allDataFormat!J35-'0_15_format'!J35-'65_format'!J35","v":46.073759310309867},{"$f":"allDataFormat!K35-'0_15_format'!K35-'65_format'!K35","v":87.233412050273131},{"$f":"allDataFormat!L35-'0_15_format'!L35-'65_format'!L35","v":41.65290963843816},{"$f":"allDataFormat!M35-'0_15_format'!M35-'65_format'!M35","v":25.59975573298853},{"$f":"allDataFormat!N35-'0_15_format'!N35-'65_format'!N35","v":28},{"$f":"allDataFormat!O35-'0_15_format'!O35-'65_format'!O35","v":59.042031006369989},{"$f":"allDataFormat!P35-'0_15_format'!P35-'65_format'!P35","v":131.90515595162316},{"$f":"allDataFormat!Q35-'0_15_format'!Q35-'65_format'!Q35","v":273.09748794082515},{"$f":"allDataFormat!R35-'0_15_format'!R35-'65_format'!R35","v":65.474003577321341},{"$f":"allDataFormat!S35-'0_15_format'!S35-'65_format'!S35","v":17.843601234341115},{"$f":"allDataFormat!T35-'0_15_format'!T35-'65_format'!T35","v":35.224461431549685}]
["Kingstanding",{"$f":"allDataFormat!B36-'0_15_format'!B36-'65_format'!B36","v":12916.607945063348},{"$f":"allDataFormat!C36-'0_15_format'!C36-'65_format'!C36","v":10165.322451661632},{"$f":"allDataFormat!D36-'0_15_format'!D36-'65_format'!D36","v":199.89078553219315},{"$f":"allDataFormat!E36-'0_15_format'!E36-'65_format'!E36","v":9},{"$f":"allDataFormat!F36-'0_15_format'!F36-'65_format'!F36","v":240.50745196686063},{"$f":"allDataFormat!G36-'0_15_format'!G36-'65_format'!G36","v":253.49808690784386},{"$f":"allDataFormat!H36-'0_15_format'!H36-'65_format'!H36","v":19.622090752035128},{"$f":"allDataFormat!I36-'0_15_format'!I36-'65_format'!I36","v":71.138808181256636},{"$f":"allDataFormat!J36-'0_15_format'!J36-'65_format'!J36","v":49.083929820401529},{"$f":"allDataFormat!K36-'0_15_format'!K36-'65_format'!K36","v":367.10353320955591},{"$f":"allDataFormat!L36-'0_15_format'!L36-'65_format'!L36","v":236.96780087410565},{"$f":"allDataFormat!M36-'0_15_format'!M36-'65_format'!M36","v":67.214109017532479},{"$f":"allDataFormat!N36-'0_15_format'!N36-'65_format'!N36","v":57.66824239092378},{"$f":"allDataFormat!O36-'0_15_format'!O36-'65_format'!O36","v":141.37626700830347},{"$f":"allDataFormat!P36-'0_15_format'!P36-'65_format'!P36","v":209.25543101922131},{"$f":"allDataFormat!Q36-'0_15_format'!Q36-'65_format'!Q36","v":625.21047594408128},{"$f":"allDataFormat!R36-'0_15_format'!R36-'65_format'!R36","v":139.962641976729},{"$f":"allDataFormat!S36-'0_15_format'!S36-'65_format'!S36","v":14},{"$f":"allDataFormat!T36-'0_15_format'!T36-'65_format'!T36","v":49.785838800671925}]
["Ladywood",{"$f":"allDataFormat!B37-'0_15_format'!B37-'65_format'!B37","v":18424.213776357818},{"$f":"allDataFormat!C37-'0_15_format'!C37-'65_format'!C37","v":7142.2015369705232},{"$f":"allDataFormat!D37-'0_15_format'!D37-'65_format'!D37","v":243.17944476876175},{"$f":"allDataFormat!E37-'0_15_format'!E37-'65_format'!E37","v":10},{"$f":"allDataFormat!F37-'0_15_format'!F37-'65_format'!F37","v":1736.8632410799298},{"$f":"allDataFormat!G37-'0_15_format'!G37-'65_format'!G37","v":450.46248655427877},{"$f":"allDataFormat!H37-'0_15_format'!H37-'65_format'!H37","v":119.3352224847003},{"$f":"allDataFormat!I37-'0_15_format'!I37-'65_format'!I37","v":244.8369122675318},{"$f":"allDataFormat!J37-'0_15_format'!J37-'65_format'!J37","v":184.32481632869195},{"$f":"allDataFormat!K37-'0_15_format'!K37-'65_format'!K37","v":1603.3666974158405},{"$f":"allDataFormat!L37-'0_15_format'!L37-'65_format'!L37","v":448.08612830384516},{"$f":"allDataFormat!M37-'0_15_format'!M37-'65_format'!M37","v":107.35374879227368},{"$f":"allDataFormat!N37-'0_15_format'!N37-'65_format'!N37","v":1652.3809933256323},{"$f":"allDataFormat!O37-'0_15_format'!O37-'65_format'!O37","v":814.36600482218796},{"$f":"allDataFormat!P37-'0_15_format'!P37-'65_format'!P37","v":1033.087897078766},{"$f":"allDataFormat!Q37-'0_15_format'!Q37-'65_format'!Q37","v":1324.8447050401799},{"$f":"allDataFormat!R37-'0_15_format'!R37-'65_format'!R37","v":493.1563078463746},{"$f":"allDataFormat!S37-'0_15_format'!S37-'65_format'!S37","v":376.29997128201552},{"$f":"allDataFormat!T37-'0_15_format'!T37-'65_format'!T37","v":440.06766199628464}]
["Longbridge & West Heath",{"$f":"allDataFormat!B38-'0_15_format'!B38-'65_format'!B38","v":12812.655403603767},{"$f":"allDataFormat!C38-'0_15_format'!C38-'65_format'!C38","v":11168.589440695932},{"$f":"allDataFormat!D38-'0_15_format'!D38-'65_format'!D38","v":212.68795929966035},{"$f":"allDataFormat!E38-'0_15_format'!E38-'65_format'!E38","v":2.772546419098143},{"$f":"allDataFormat!F38-'0_15_format'!F38-'65_format'!F38","v":145.36741929600618},{"$f":"allDataFormat!G38-'0_15_format'!G38-'65_format'!G38","v":219.81255845414108},{"$f":"allDataFormat!H38-'0_15_format'!H38-'65_format'!H38","v":24.854634932913974},{"$f":"allDataFormat!I38-'0_15_format'!I38-'65_format'!I38","v":70.320339027604462},{"$f":"allDataFormat!J38-'0_15_format'!J38-'65_format'!J38","v":61.859376619896622},{"$f":"allDataFormat!K38-'0_15_format'!K38-'65_format'!K38","v":99.309769459334859},{"$f":"allDataFormat!L38-'0_15_format'!L38-'65_format'!L38","v":43.071907521286363},{"$f":"allDataFormat!M38-'0_15_format'!M38-'65_format'!M38","v":10.649188514357053},{"$f":"allDataFormat!N38-'0_15_format'!N38-'65_format'!N38","v":70.383717415372672},{"$f":"allDataFormat!O38-'0_15_format'!O38-'65_format'!O38","v":98.829246473698632},{"$f":"allDataFormat!P38-'0_15_format'!P38-'65_format'!P38","v":181.54800743051265},{"$f":"allDataFormat!Q38-'0_15_format'!Q38-'65_format'!Q38","v":244.70837554659869},{"$f":"allDataFormat!R38-'0_15_format'!R38-'65_format'!R38","v":93.60581652141525},{"$f":"allDataFormat!S38-'0_15_format'!S38-'65_format'!S38","v":26.298780651373043},{"$f":"allDataFormat!T38-'0_15_format'!T38-'65_format'!T38","v":37.986319324563972}]
["Lozells",{"$f":"allDataFormat!B39-'0_15_format'!B39-'65_format'!B39","v":5598.4586425738744},{"$f":"allDataFormat!C39-'0_15_format'!C39-'65_format'!C39","v":308.25055822488838},{"$f":"allDataFormat!D39-'0_15_format'!D39-'65_format'!D39","v":26},{"$f":"allDataFormat!E39-'0_15_format'!E39-'65_format'!E39","v":0},{"$f":"allDataFormat!F39-'0_15_format'!F39-'65_format'!F39","v":83.320617388372284},{"$f":"allDataFormat!G39-'0_15_format'!G39-'65_format'!G39","v":79.119221607500123},{"$f":"allDataFormat!H39-'0_15_format'!H39-'65_format'!H39","v":20.799823607076192},{"$f":"allDataFormat!I39-'0_15_format'!I39-'65_format'!I39","v":34.79935901125674},{"$f":"allDataFormat!J39-'0_15_format'!J39-'65_format'!J39","v":15.132050166562095},{"$f":"allDataFormat!K39-'0_15_format'!K39-'65_format'!K39","v":312.78189077877778},{"$f":"allDataFormat!L39-'0_15_format'!L39-'65_format'!L39","v":1742.4343679544918},{"$f":"allDataFormat!M39-'0_15_format'!M39-'65_format'!M39","v":1731.8536250708846},{"$f":"allDataFormat!N39-'0_15_format'!N39-'65_format'!N39","v":55.886015071084188},{"$f":"allDataFormat!O39-'0_15_format'!O39-'65_format'!O39","v":192.46283830658746},{"$f":"allDataFormat!P39-'0_15_format'!P39-'65_format'!P39","v":312.26687274769347},{"$f":"allDataFormat!Q39-'0_15_format'!Q39-'65_format'!Q39","v":444.52042885369394},{"$f":"allDataFormat!R39-'0_15_format'!R39-'65_format'!R39","v":147.19679802921772},{"$f":"allDataFormat!S39-'0_15_format'!S39-'65_format'!S39","v":29.764825034082762},{"$f":"allDataFormat!T39-'0_15_format'!T39-'65_format'!T39","v":61.86935072170472}]
["Moseley",{"$f":"allDataFormat!B40-'0_15_format'!B40-'65_format'!B40","v":14887.085685860959},{"$f":"allDataFormat!C40-'0_15_format'!C40-'65_format'!C40","v":7655.871811653511},{"$f":"allDataFormat!D40-'0_15_format'!D40-'65_format'!D40","v":378.17238925600202},{"$f":"allDataFormat!E40-'0_15_format'!E40-'65_format'!E40","v":10.320754716981131},{"$f":"allDataFormat!F40-'0_15_format'!F40-'65_format'!F40","v":618.66972348678667},{"$f":"allDataFormat!G40-'0_15_format'!G40-'65_format'!G40","v":287.09784856801821},{"$f":"allDataFormat!H40-'0_15_format'!H40-'65_format'!H40","v":36.254360004661038},{"$f":"allDataFormat!I40-'0_15_format'!I40-'65_format'!I40","v":177.06721245633832},{"$f":"allDataFormat!J40-'0_15_format'!J40-'65_format'!J40","v":117.72248112021944},{"$f":"allDataFormat!K40-'0_15_format'!K40-'65_format'!K40","v":1073.2402006437646},{"$f":"allDataFormat!L40-'0_15_format'!L40-'65_format'!L40","v":2530.2253664160908},{"$f":"allDataFormat!M40-'0_15_format'!M40-'65_format'!M40","v":169.10990207875494},{"$f":"allDataFormat!N40-'0_15_format'!N40-'65_format'!N40","v":122.82386263662755},{"$f":"allDataFormat!O40-'0_15_format'!O40-'65_format'!O40","v":391.61689064306023},{"$f":"allDataFormat!P40-'0_15_format'!P40-'65_format'!P40","v":224.48227263437775},{"$f":"allDataFormat!Q40-'0_15_format'!Q40-'65_format'!Q40","v":490.2548123704097},{"$f":"allDataFormat!R40-'0_15_format'!R40-'65_format'!R40","v":193.37183746057528},{"$f":"allDataFormat!S40-'0_15_format'!S40-'65_format'!S40","v":247.23954882634729},{"$f":"allDataFormat!T40-'0_15_format'!T40-'65_format'!T40","v":163.54441088843129}]
["Nechells",{"$f":"allDataFormat!B41-'0_15_format'!B41-'65_format'!B41","v":9805.1412538036275},{"$f":"allDataFormat!C41-'0_15_format'!C41-'65_format'!C41","v":3089.266610504345},{"$f":"allDataFormat!D41-'0_15_format'!D41-'65_format'!D41","v":115.42764753435731},{"$f":"allDataFormat!E41-'0_15_format'!E41-'65_format'!E41","v":5},{"$f":"allDataFormat!F41-'0_15_format'!F41-'65_format'!F41","v":549.56648888007214},{"$f":"allDataFormat!G41-'0_15_format'!G41-'65_format'!G41","v":286.55165033069909},{"$f":"allDataFormat!H41-'0_15_format'!H41-'65_format'!H41","v":54.335724517894157},{"$f":"allDataFormat!I41-'0_15_format'!I41-'65_format'!I41","v":118.79720193212255},{"$f":"allDataFormat!J41-'0_15_format'!J41-'65_format'!J41","v":85.007122243554775},{"$f":"allDataFormat!K41-'0_15_format'!K41-'65_format'!K41","v":741.84940179926207},{"$f":"allDataFormat!L41-'0_15_format'!L41-'65_format'!L41","v":663.68796000899442},{"$f":"allDataFormat!M41-'0_15_format'!M41-'65_format'!M41","v":278.49691070548056},{"$f":"allDataFormat!N41-'0_15_format'!N41-'65_format'!N41","v":616.68744362289033},{"$f":"allDataFormat!O41-'0_15_format'!O41-'65_format'!O41","v":302.79128703642436},{"$f":"allDataFormat!P41-'0_15_format'!P41-'65_format'!P41","v":1150.445839595104},{"$f":"allDataFormat!Q41-'0_15_format'!Q41-'65_format'!Q41","v":855.52984346815424},{"$f":"allDataFormat!R41-'0_15_format'!R41-'65_format'!R41","v":540.2225983128144},{"$f":"allDataFormat!S41-'0_15_format'!S41-'65_format'!S41","v":149.38499662106668},{"$f":"allDataFormat!T41-'0_15_format'!T41-'65_format'!T41","v":202.09252669039145}]
["Newtown",{"$f":"allDataFormat!B42-'0_15_format'!B42-'65_format'!B42","v":8432.8155532486708},{"$f":"allDataFormat!C42-'0_15_format'!C42-'65_format'!C42","v":1725.4825945737971},{"$f":"allDataFormat!D42-'0_15_format'!D42-'65_format'!D42","v":81.838852097130257},{"$f":"allDataFormat!E42-'0_15_format'!E42-'65_format'!E42","v":-0.12826603325415678},{"$f":"allDataFormat!F42-'0_15_format'!F42-'65_format'!F42","v":331.56660187151925},{"$f":"allDataFormat!G42-'0_15_format'!G42-'65_format'!G42","v":261.04303517075488},{"$f":"allDataFormat!H42-'0_15_format'!H42-'65_format'!H42","v":42.185176790373177},{"$f":"allDataFormat!I42-'0_15_format'!I42-'65_format'!I42","v":117.56795420666975},{"$f":"allDataFormat!J42-'0_15_format'!J42-'65_format'!J42","v":61.63166204544693},{"$f":"allDataFormat!K42-'0_15_format'!K42-'65_format'!K42","v":965.26486128225179},{"$f":"allDataFormat!L42-'0_15_format'!L42-'65_format'!L42","v":356.01954102869985},{"$f":"allDataFormat!M42-'0_15_format'!M42-'65_format'!M42","v":560.7976964058937},{"$f":"allDataFormat!N42-'0_15_format'!N42-'65_format'!N42","v":256.98273338965959},{"$f":"allDataFormat!O42-'0_15_format'!O42-'65_format'!O42","v":346.91056410968679},{"$f":"allDataFormat!P42-'0_15_format'!P42-'65_format'!P42","v":1255.0340617558829},{"$f":"allDataFormat!Q42-'0_15_format'!Q42-'65_format'!Q42","v":1215.7750983035069},{"$f":"allDataFormat!R42-'0_15_format'!R42-'65_format'!R42","v":590.19797635942609},{"$f":"allDataFormat!S42-'0_15_format'!S42-'65_format'!S42","v":104.60914236098395},{"$f":"allDataFormat!T42-'0_15_format'!T42-'65_format'!T42","v":160.03626753024287}]
["North Edgbaston",{"$f":"allDataFormat!B43-'0_15_format'!B43-'65_format'!B43","v":15372.954796299877},{"$f":"allDataFormat!C43-'0_15_format'!C43-'65_format'!C43","v":4400.344055343694},{"$f":"allDataFormat!D43-'0_15_format'!D43-'65_format'!D43","v":235.47160286074882},{"$f":"allDataFormat!E43-'0_15_format'!E43-'65_format'!E43","v":19.735801430374419},{"$f":"allDataFormat!F43-'0_15_format'!F43-'65_format'!F43","v":1237.5423914074352},{"$f":"allDataFormat!G43-'0_15_format'!G43-'65_format'!G43","v":296.4334255186094},{"$f":"allDataFormat!H43-'0_15_format'!H43-'65_format'!H43","v":55.182501345893158},{"$f":"allDataFormat!I43-'0_15_format'!I43-'65_format'!I43","v":164.93535281264289},{"$f":"allDataFormat!J43-'0_15_format'!J43-'65_format'!J43","v":119.40633851175744},{"$f":"allDataFormat!K43-'0_15_format'!K43-'65_format'!K43","v":2149.3107523815215},{"$f":"allDataFormat!L43-'0_15_format'!L43-'65_format'!L43","v":2422.2876349321468},{"$f":"allDataFormat!M43-'0_15_format'!M43-'65_format'!M43","v":245.40299739829604},{"$f":"allDataFormat!N43-'0_15_format'!N43-'65_format'!N43","v":296.220604587298},{"$f":"allDataFormat!O43-'0_15_format'!O43-'65_format'!O43","v":911.63204473914982},{"$f":"allDataFormat!P43-'0_15_format'!P43-'65_format'!P43","v":831.45189465730937},{"$f":"allDataFormat!Q43-'0_15_format'!Q43-'65_format'!Q43","v":962.05979828631985},{"$f":"allDataFormat!R43-'0_15_format'!R43-'65_format'!R43","v":428.01900439492834},{"$f":"allDataFormat!S43-'0_15_format'!S43-'65_format'!S43","v":198.1067859680293},{"$f":"allDataFormat!T43-'0_15_format'!T43-'65_format'!T43","v":399.41180972372268}]
["Northfield",{"$f":"allDataFormat!B44-'0_15_format'!B44-'65_format'!B44","v":6611.8019063783213},{"$f":"allDataFormat!C44-'0_15_format'!C44-'65_format'!C44","v":5673.6886567952461},{"$f":"allDataFormat!D44-'0_15_format'!D44-'65_format'!D44","v":168.92207346888938},{"$f":"allDataFormat!E44-'0_15_format'!E44-'65_format'!E44","v":3},{"$f":"allDataFormat!F44-'0_15_format'!F44-'65_format'!F44","v":103.58088506937608},{"$f":"allDataFormat!G44-'0_15_format'!G44-'65_format'!G44","v":95.590193659083369},{"$f":"allDataFormat!H44-'0_15_format'!H44-'65_format'!H44","v":4.6710823064473814},{"$f":"allDataFormat!I44-'0_15_format'!I44-'65_format'!I44","v":37.694653967054009},{"$f":"allDataFormat!J44-'0_15_format'!J44-'65_format'!J44","v":35.044923730695416},{"$f":"allDataFormat!K44-'0_15_format'!K44-'65_format'!K44","v":58.478792225143906},{"$f":"allDataFormat!L44-'0_15_format'!L44-'65_format'!L44","v":38.111404999939197},{"$f":"allDataFormat!M44-'0_15_format'!M44-'65_format'!M44","v":0.5676632165377864},{"$f":"allDataFormat!N44-'0_15_format'!N44-'65_format'!N44","v":55.896302773546481},{"$f":"allDataFormat!O44-'0_15_format'!O44-'65_format'!O44","v":71.378132439655815},{"$f":"allDataFormat!P44-'0_15_format'!P44-'65_format'!P44","v":65.98308726385271},{"$f":"allDataFormat!Q44-'0_15_format'!Q44-'65_format'!Q44","v":110.38746873774757},{"$f":"allDataFormat!R44-'0_15_format'!R44-'65_format'!R44","v":52.649734214928642},{"$f":"allDataFormat!S44-'0_15_format'!S44-'65_format'!S44","v":7.5051248661541567},{"$f":"allDataFormat!T44-'0_15_format'!T44-'65_format'!T44","v":28.651726644023935}]
["Oscott",{"$f":"allDataFormat!B45-'0_15_format'!B45-'65_format'!B45","v":12414.901236804801},{"$f":"allDataFormat!C45-'0_15_format'!C45-'65_format'!C45","v":9988.9175443945496},{"$f":"allDataFormat!D45-'0_15_format'!D45-'65_format'!D45","v":190.89081960019007},{"$f":"allDataFormat!E45-'0_15_format'!E45-'65_format'!E45","v":2},{"$f":"allDataFormat!F45-'0_15_format'!F45-'65_format'!F45","v":261.33435881006579},{"$f":"allDataFormat!G45-'0_15_format'!G45-'65_format'!G45","v":181.66760375569712},{"$f":"allDataFormat!H45-'0_15_format'!H45-'65_format'!H45","v":15.685155405989157},{"$f":"allDataFormat!I45-'0_15_format'!I45-'65_format'!I45","v":55.15659184381218},{"$f":"allDataFormat!J45-'0_15_format'!J45-'65_format'!J45","v":35.938734109871099},{"$f":"allDataFormat!K45-'0_15_format'!K45-'65_format'!K45","v":496.78272911416855},{"$f":"allDataFormat!L45-'0_15_format'!L45-'65_format'!L45","v":74.472860478993624},{"$f":"allDataFormat!M45-'0_15_format'!M45-'65_format'!M45","v":79.572394445094275},{"$f":"allDataFormat!N45-'0_15_format'!N45-'65_format'!N45","v":64.558937810490406},{"$f":"allDataFormat!O45-'0_15_format'!O45-'65_format'!O45","v":71.714526972250695},{"$f":"allDataFormat!P45-'0_15_format'!P45-'65_format'!P45","v":86.972665159961792},{"$f":"allDataFormat!Q45-'0_15_format'!Q45-'65_format'!Q45","v":630.71034492896206},{"$f":"allDataFormat!R45-'0_15_format'!R45-'65_format'!R45","v":130.12807599287959},{"$f":"allDataFormat!S45-'0_15_format'!S45-'65_format'!S45","v":6.0731197771587748},{"$f":"allDataFormat!T45-'0_15_format'!T45-'65_format'!T45","v":42.324774204666767}]
["Perry Barr",{"$f":"allDataFormat!B46-'0_15_format'!B46-'65_format'!B46","v":13325.625433516465},{"$f":"allDataFormat!C46-'0_15_format'!C46-'65_format'!C46","v":6941.5420552258693},{"$f":"allDataFormat!D46-'0_15_format'!D46-'65_format'!D46","v":225.349805124027},{"$f":"allDataFormat!E46-'0_15_format'!E46-'65_format'!E46","v":1},{"$f":"allDataFormat!F46-'0_15_format'!F46-'65_format'!F46","v":437.68383024871457},{"$f":"allDataFormat!G46-'0_15_format'!G46-'65_format'!G46","v":240.72533497748466},{"$f":"allDataFormat!H46-'0_15_format'!H46-'65_format'!H46","v":27.349805124026997},{"$f":"allDataFormat!I46-'0_15_format'!I46-'65_format'!I46","v":84.098830744161972},{"$f":"allDataFormat!J46-'0_15_format'!J46-'65_format'!J46","v":68.634387351778656},{"$f":"allDataFormat!K46-'0_15_format'!K46-'65_format'!K46","v":1702.5079684455063},{"$f":"allDataFormat!L46-'0_15_format'!L46-'65_format'!L46","v":689.8221591597212},{"$f":"allDataFormat!M46-'0_15_format'!M46-'65_format'!M46","v":353.2134965373732},{"$f":"allDataFormat!N46-'0_15_format'!N46-'65_format'!N46","v":221.56128133704735},{"$f":"allDataFormat!O46-'0_15_format'!O46-'65_format'!O46","v":292.96048807072782},{"$f":"allDataFormat!P46-'0_15_format'!P46-'65_format'!P46","v":314.48023715415019},{"$f":"allDataFormat!Q46-'0_15_format'!Q46-'65_format'!Q46","v":1290.6048201525978},{"$f":"allDataFormat!R46-'0_15_format'!R46-'65_format'!R46","v":275.74902562013494},{"$f":"allDataFormat!S46-'0_15_format'!S46-'65_format'!S46","v":19.926880222841227},{"$f":"allDataFormat!T46-'0_15_format'!T46-'65_format'!T46","v":138.41502802030232}]
["Perry Common",{"$f":"allDataFormat!B47-'0_15_format'!B47-'65_format'!B47","v":6840.564051195126},{"$f":"allDataFormat!C47-'0_15_format'!C47-'65_format'!C47","v":4835.3672609408295},{"$f":"allDataFormat!D47-'0_15_format'!D47-'65_format'!D47","v":120.99116255912372},{"$f":"allDataFormat!E47-'0_15_format'!E47-'65_format'!E47","v":4},{"$f":"allDataFormat!F47-'0_15_format'!F47-'65_format'!F47","v":200.81282094601522},{"$f":"allDataFormat!G47-'0_15_format'!G47-'65_format'!G47","v":158.41764343633423},{"$f":"allDataFormat!H47-'0_15_format'!H47-'65_format'!H47","v":9.5305712760034496},{"$f":"allDataFormat!I47-'0_15_format'!I47-'65_format'!I47","v":56.227059245279882},{"$f":"allDataFormat!J47-'0_15_format'!J47-'65_format'!J47","v":40.813717393195034},{"$f":"allDataFormat!K47-'0_15_format'!K47-'65_format'!K47","v":262.68550636394542},{"$f":"allDataFormat!L47-'0_15_format'!L47-'65_format'!L47","v":167.58488696095463},{"$f":"allDataFormat!M47-'0_15_format'!M47-'65_format'!M47","v":78.913692559060522},{"$f":"allDataFormat!N47-'0_15_format'!N47-'65_format'!N47","v":53.571664619888942},{"$f":"allDataFormat!O47-'0_15_format'!O47-'65_format'!O47","v":81.598357505369734},{"$f":"allDataFormat!P47-'0_15_format'!P47-'65_format'!P47","v":173.802048761989},{"$f":"allDataFormat!Q47-'0_15_format'!Q47-'65_format'!Q47","v":469.94649480580506},{"$f":"allDataFormat!R47-'0_15_format'!R47-'65_format'!R47","v":84.95029444380738},{"$f":"allDataFormat!S47-'0_15_format'!S47-'65_format'!S47","v":6.4163510406164983},{"$f":"allDataFormat!T47-'0_15_format'!T47-'65_format'!T47","v":34.934518336908774}]
["Pype Hayes",{"$f":"allDataFormat!B48-'0_15_format'!B48-'65_format'!B48","v":6780.350296442688},{"$f":"allDataFormat!C48-'0_15_format'!C48-'65_format'!C48","v":4971.385004940712},{"$f":"allDataFormat!D48-'0_15_format'!D48-'65_format'!D48","v":153.76605731225294},{"$f":"allDataFormat!E48-'0_15_format'!E48-'65_format'!E48","v":1},{"$f":"allDataFormat!F48-'0_15_format'!F48-'65_format'!F48","v":195.55867094861659},{"$f":"allDataFormat!G48-'0_15_format'!G48-'65_format'!G48","v":165.70133399209487},{"$f":"allDataFormat!H48-'0_15_format'!H48-'65_format'!H48","v":9.7092391304347814},{"$f":"allDataFormat!I48-'0_15_format'!I48-'65_format'!I48","v":37.53211462450593},{"$f":"allDataFormat!J48-'0_15_format'!J48-'65_format'!J48","v":33.619441699604742},{"$f":"allDataFormat!K48-'0_15_format'!K48-'65_format'!K48","v":181.44231719367588},{"$f":"allDataFormat!L48-'0_15_format'!L48-'65_format'!L48","v":190.81497035573122},{"$f":"allDataFormat!M48-'0_15_format'!M48-'65_format'!M48","v":36},{"$f":"allDataFormat!N48-'0_15_format'!N48-'65_format'!N48","v":117.52445652173913},{"$f":"allDataFormat!O48-'0_15_format'!O48-'65_format'!O48","v":84.58522727272728},{"$f":"allDataFormat!P48-'0_15_format'!P48-'65_format'!P48","v":89.00123517786561},{"$f":"allDataFormat!Q48-'0_15_format'!Q48-'65_format'!Q48","v":360.32596343873519},{"$f":"allDataFormat!R48-'0_15_format'!R48-'65_format'!R48","v":89.384263833992094},{"$f":"allDataFormat!S48-'0_15_format'!S48-'65_format'!S48","v":30},{"$f":"allDataFormat!T48-'0_15_format'!T48-'65_format'!T48","v":33}]
["Quinton",{"$f":"allDataFormat!B49-'0_15_format'!B49-'65_format'!B49","v":12656},{"$f":"allDataFormat!C49-'0_15_format'!C49-'65_format'!C49","v":8440},{"$f":"allDataFormat!D49-'0_15_format'!D49-'65_format'!D49","v":250},{"$f":"allDataFormat!E49-'0_15_format'!E49-'65_format'!E49","v":5},{"$f":"allDataFormat!F49-'0_15_format'!F49-'65_format'!F49","v":287},{"$f":"allDataFormat!G49-'0_15_format'!G49-'65_format'!G49","v":265},{"$f":"allDataFormat!H49-'0_15_format'!H49-'65_format'!H49","v":37},{"$f":"allDataFormat!I49-'0_15_format'!I49-'65_format'!I49","v":90},{"$f":"allDataFormat!J49-'0_15_format'!J49-'65_format'!J49","v":83},{"$f":"allDataFormat!K49-'0_15_format'!K49-'65_format'!K49","v":1234},{"$f":"allDataFormat!L49-'0_15_format'!L49-'65_format'!L49","v":269},{"$f":"allDataFormat!M49-'0_15_format'!M49-'65_format'!M49","v":53},{"$f":"allDataFormat!N49-'0_15_format'!N49-'65_format'!N49","v":152},{"$f":"allDataFormat!O49-'0_15_format'!O49-'65_format'!O49","v":361},{"$f":"allDataFormat!P49-'0_15_format'!P49-'65_format'!P49","v":260},{"$f":"allDataFormat!Q49-'0_15_format'!Q49-'65_format'!Q49","v":503},{"$f":"allDataFormat!R49-'0_15_format'!R49-'65_format'!R49","v":103},{"$f":"allDataFormat!S49-'0_15_format'!S49-'65_format'!S49","v":67},{"$f":"allDataFormat!T49-'0_15_format'!T49-'65_format'!T49","v":197}]
["Rubery & Rednal",{"$f":"allDataFormat!B50-'0_15_format'!B50-'65_format'!B50","v":6356.8013895691984},{"$f":"allDataFormat!C50-'0_15_format'!C50-'65_format'!C50","v":5643.4083719665377},{"$f":"allDataFormat!D50-'0_15_format'!D50-'65_format'!D50","v":80.563007798859275},{"$f":"allDataFormat!E50-'0_15_format'!E50-'65_format'!E50","v":3},{"$f":"allDataFormat!F50-'0_15_format'!F50-'65_format'!F50","v":65.276806257210524},{"$f":"allDataFormat!G50-'0_15_format'!G50-'65_format'!G50","v":120.4575536311327},{"$f":"allDataFormat!H50-'0_15_format'!H50-'65_format'!H50","v":12.046838903768858},{"$f":"allDataFormat!I50-'0_15_format'!I50-'65_format'!I50","v":24.630599319727594},{"$f":"allDataFormat!J50-'0_15_format'!J50-'65_format'!J50","v":42.586508289049377},{"$f":"allDataFormat!K50-'0_15_format'!K50-'65_format'!K50","v":43.486020993552742},{"$f":"allDataFormat!L50-'0_15_format'!L50-'65_format'!L50","v":27.800063632483607},{"$f":"allDataFormat!M50-'0_15_format'!M50-'65_format'!M50","v":1.3581336696090796},{"$f":"allDataFormat!N50-'0_15_format'!N50-'65_format'!N50","v":20.816592558103441},{"$f":"allDataFormat!O50-'0_15_format'!O50-'65_format'!O50","v":29.158197302092688},{"$f":"allDataFormat!P50-'0_15_format'!P50-'65_format'!P50","v":62.525654501526546},{"$f":"allDataFormat!Q50-'0_15_format'!Q50-'65_format'!Q50","v":122.10717986784317},{"$f":"allDataFormat!R50-'0_15_format'!R50-'65_format'!R50","v":48.309864108450199},{"$f":"allDataFormat!S50-'0_15_format'!S50-'65_format'!S50","v":3.0165289256198351},{"$f":"allDataFormat!T50-'0_15_format'!T50-'65_format'!T50","v":6.2534678436317783}]
["Shard End",{"$f":"allDataFormat!B51-'0_15_format'!B51-'65_format'!B51","v":7140.4171654432521},{"$f":"allDataFormat!C51-'0_15_format'!C51-'65_format'!C51","v":6064.5179698800312},{"$f":"allDataFormat!D51-'0_15_format'!D51-'65_format'!D51","v":69},{"$f":"allDataFormat!E51-'0_15_format'!E51-'65_format'!E51","v":1},{"$f":"allDataFormat!F51-'0_15_format'!F51-'65_format'!F51","v":79.451552795031063},{"$f":"allDataFormat!G51-'0_15_format'!G51-'65_format'!G51","v":236.38338296605122},{"$f":"allDataFormat!H51-'0_15_format'!H51-'65_format'!H51","v":9.9755358399789618},{"$f":"allDataFormat!I51-'0_15_format'!I51-'65_format'!I51","v":35.416302220709603},{"$f":"allDataFormat!J51-'0_15_format'!J51-'65_format'!J51","v":36.803258742448733},{"$f":"allDataFormat!K51-'0_15_format'!K51-'65_format'!K51","v":24.443377706272287},{"$f":"allDataFormat!L51-'0_15_format'!L51-'65_format'!L51","v":101.18760393864622},{"$f":"allDataFormat!M51-'0_15_format'!M51-'65_format'!M51","v":22.451552795031056},{"$f":"allDataFormat!N51-'0_15_format'!N51-'65_format'!N51","v":11.10211706102117},{"$f":"allDataFormat!O51-'0_15_format'!O51-'65_format'!O51","v":60.653175591531756},{"$f":"allDataFormat!P51-'0_15_format'!P51-'65_format'!P51","v":57.209456773125623},{"$f":"allDataFormat!Q51-'0_15_format'!Q51-'65_format'!Q51","v":221.67962995908204},{"$f":"allDataFormat!R51-'0_15_format'!R51-'65_format'!R51","v":81.970313188895688},{"$f":"allDataFormat!S51-'0_15_format'!S51-'65_format'!S51","v":11},{"$f":"allDataFormat!T51-'0_15_format'!T51-'65_format'!T51","v":16.171935985396377}]
["Sheldon",{"$f":"allDataFormat!B52-'0_15_format'!B52-'65_format'!B52","v":11687.329904840581},{"$f":"allDataFormat!C52-'0_15_format'!C52-'65_format'!C52","v":9572.8759600217363},{"$f":"allDataFormat!D52-'0_15_format'!D52-'65_format'!D52","v":244.91955001592612},{"$f":"allDataFormat!E52-'0_15_format'!E52-'65_format'!E52","v":2.556084296397009},{"$f":"allDataFormat!F52-'0_15_format'!F52-'65_format'!F52","v":193.39998285263704},{"$f":"allDataFormat!G52-'0_15_format'!G52-'65_format'!G52","v":141.10935998368751},{"$f":"allDataFormat!H52-'0_15_format'!H52-'65_format'!H52","v":19.941886624345695},{"$f":"allDataFormat!I52-'0_15_format'!I52-'65_format'!I52","v":66.139101869614976},{"$f":"allDataFormat!J52-'0_15_format'!J52-'65_format'!J52","v":47.077500432976763},{"$f":"allDataFormat!K52-'0_15_format'!K52-'65_format'!K52","v":266.40536069414696},{"$f":"allDataFormat!L52-'0_15_format'!L52-'65_format'!L52","v":410.58526707125111},{"$f":"allDataFormat!M52-'0_15_format'!M52-'65_format'!M52","v":153.08310254255304},{"$f":"allDataFormat!N52-'0_15_format'!N52-'65_format'!N52","v":44.328429318167508},{"$f":"allDataFormat!O52-'0_15_format'!O52-'65_format'!O52","v":119.59676266414954},{"$f":"allDataFormat!P52-'0_15_format'!P52-'65_format'!P52","v":95.06264190142258},{"$f":"allDataFormat!Q52-'0_15_format'!Q52-'65_format'!Q52","v":205.12236954195106},{"$f":"allDataFormat!R52-'0_15_format'!R52-'65_format'!R52","v":38.615688754035084},{"$f":"allDataFormat!S52-'0_15_format'!S52-'65_format'!S52","v":23.582714722168355},{"$f":"allDataFormat!T52-'0_15_format'!T52-'65_format'!T52","v":42.92814153341412}]
["Small Heath",{"$f":"allDataFormat!B53-'0_15_format'!B53-'65_format'!B53","v":11883.737806523952},{"$f":"allDataFormat!C53-'0_15_format'!C53-'65_format'!C53","v":855.11646687980578},{"$f":"allDataFormat!D53-'0_15_format'!D53-'65_format'!D53","v":86.24669584367345},{"$f":"allDataFormat!E53-'0_15_format'!E53-'65_format'!E53","v":1},{"$f":"allDataFormat!F53-'0_15_format'!F53-'65_format'!F53","v":170.80928297012488},{"$f":"allDataFormat!G53-'0_15_format'!G53-'65_format'!G53","v":70.970987836296757},{"$f":"allDataFormat!H53-'0_15_format'!H53-'65_format'!H53","v":6.1266091474157207},{"$f":"allDataFormat!I53-'0_15_format'!I53-'65_format'!I53","v":64.641989993505661},{"$f":"allDataFormat!J53-'0_15_format'!J53-'65_format'!J53","v":44.691919228673129},{"$f":"allDataFormat!K53-'0_15_format'!K53-'65_format'!K53","v":365.79449204197488},{"$f":"allDataFormat!L53-'0_15_format'!L53-'65_format'!L53","v":6631.6731988785668},{"$f":"allDataFormat!M53-'0_15_format'!M53-'65_format'!M53","v":1598.2823021483473},{"$f":"allDataFormat!N53-'0_15_format'!N53-'65_format'!N53","v":33.339171294318668},{"$f":"allDataFormat!O53-'0_15_format'!O53-'65_format'!O53","v":660.52283532126648},{"$f":"allDataFormat!P53-'0_15_format'!P53-'65_format'!P53","v":398.51116763422112},{"$f":"allDataFormat!Q53-'0_15_format'!Q53-'65_format'!Q53","v":232.4125222660499},{"$f":"allDataFormat!R53-'0_15_format'!R53-'65_format'!R53","v":253.27925874024277},{"$f":"allDataFormat!S53-'0_15_format'!S53-'65_format'!S53","v":256.36607230826178},{"$f":"allDataFormat!T53-'0_15_format'!T53-'65_format'!T53","v":153.95283399120765}]
["Soho & Jewellery Quarter",{"$f":"allDataFormat!B54-'0_15_format'!B54-'65_format'!B54","v":16147.371126616657},{"$f":"allDataFormat!C54-'0_15_format'!C54-'65_format'!C54","v":4842.0844993120772},{"$f":"allDataFormat!D54-'0_15_format'!D54-'65_format'!D54","v":196.58969311123013},{"$f":"allDataFormat!E54-'0_15_format'!E54-'65_format'!E54","v":17.392464602879734},{"$f":"allDataFormat!F54-'0_15_format'!F54-'65_format'!F54","v":1023.7688116491959},{"$f":"allDataFormat!G54-'0_15_format'!G54-'65_format'!G54","v":483.57770540569328},{"$f":"allDataFormat!H54-'0_15_format'!H54-'65_format'!H54","v":57.115757353214534},{"$f":"allDataFormat!I54-'0_15_format'!I54-'65_format'!I54","v":130.09104853115446},{"$f":"allDataFormat!J54-'0_15_format'!J54-'65_format'!J54","v":168.0730765488525},{"$f":"allDataFormat!K54-'0_15_format'!K54-'65_format'!K54","v":2473.9134880891179},{"$f":"allDataFormat!L54-'0_15_format'!L54-'65_format'!L54","v":1241.832555785963},{"$f":"allDataFormat!M54-'0_15_format'!M54-'65_format'!M54","v":290.73687529870006},{"$f":"allDataFormat!N54-'0_15_format'!N54-'65_format'!N54","v":521.97831760314966},{"$f":"allDataFormat!O54-'0_15_format'!O54-'65_format'!O54","v":708.78388551723219},{"$f":"allDataFormat!P54-'0_15_format'!P54-'65_format'!P54","v":812.32704352509506},{"$f":"allDataFormat!Q54-'0_15_format'!Q54-'65_format'!Q54","v":2025.4244599872027},{"$f":"allDataFormat!R54-'0_15_format'!R54-'65_format'!R54","v":651.38134842870045},{"$f":"allDataFormat!S54-'0_15_format'!S54-'65_format'!S54","v":86.364047996925677},{"$f":"allDataFormat!T54-'0_15_format'!T54-'65_format'!T54","v":415.93604787027112}]
["South Yardley",{"$f":"allDataFormat!B55-'0_15_format'!B55-'65_format'!B55","v":6697.9883834932543},{"$f":"allDataFormat!C55-'0_15_format'!C55-'65_format'!C55","v":4748.0482091708664},{"$f":"allDataFormat!D55-'0_15_format'!D55-'65_format'!D55","v":185.26301672621008},{"$f":"allDataFormat!E55-'0_15_format'!E55-'65_format'!E55","v":0},{"$f":"allDataFormat!F55-'0_15_format'!F55-'65_format'!F55","v":237.12806031121028},{"$f":"allDataFormat!G55-'0_15_format'!G55-'65_format'!G55","v":112.07951461106943},{"$f":"allDataFormat!H55-'0_15_format'!H55-'65_format'!H55","v":12.202582121597509},{"$f":"allDataFormat!I55-'0_15_format'!I55-'65_format'!I55","v":44.135052419832029},{"$f":"allDataFormat!J55-'0_15_format'!J55-'65_format'!J55","v":19.8560378002325},{"$f":"allDataFormat!K55-'0_15_format'!K55-'65_format'!K55","v":341.58622514354295},{"$f":"allDataFormat!L55-'0_15_format'!L55-'65_format'!L55","v":508.6332361884148},{"$f":"allDataFormat!M55-'0_15_format'!M55-'65_format'!M55","v":76.28418086168827},{"$f":"allDataFormat!N55-'0_15_format'!N55-'65_format'!N55","v":27.855819582767097},{"$f":"allDataFormat!O55-'0_15_format'!O55-'65_format'!O55","v":65.146177211404535},{"$f":"allDataFormat!P55-'0_15_format'!P55-'65_format'!P55","v":53.666445166642376},{"$f":"allDataFormat!Q55-'0_15_format'!Q55-'65_format'!Q55","v":136.8064667425549},{"$f":"allDataFormat!R55-'0_15_format'!R55-'65_format'!R55","v":46.328231732127811},{"$f":"allDataFormat!S55-'0_15_format'!S55-'65_format'!S55","v":47.226087050401517},{"$f":"allDataFormat!T55-'0_15_format'!T55-'65_format'!T55","v":35.743040652691633}]
["Sparkbrook & Balsall Heath East",{"$f":"allDataFormat!B56-'0_15_format'!B56-'65_format'!B56","v":15351.030902322691},{"$f":"allDataFormat!C56-'0_15_format'!C56-'65_format'!C56","v":1665.8875535302775},{"$f":"allDataFormat!D56-'0_15_format'!D56-'65_format'!D56","v":125.68697729988054},{"$f":"allDataFormat!E56-'0_15_format'!E56-'65_format'!E56","v":14.543396226415094},{"$f":"allDataFormat!F56-'0_15_format'!F56-'65_format'!F56","v":310.09607838983834},{"$f":"allDataFormat!G56-'0_15_format'!G56-'65_format'!G56","v":178.66540617530359},{"$f":"allDataFormat!H56-'0_15_format'!H56-'65_format'!H56","v":17.599010623416572},{"$f":"allDataFormat!I56-'0_15_format'!I56-'65_format'!I56","v":163.6659974397123},{"$f":"allDataFormat!J56-'0_15_format'!J56-'65_format'!J56","v":80.037424736488688},{"$f":"allDataFormat!K56-'0_15_format'!K56-'65_format'!K56","v":916.18432021129183},{"$f":"allDataFormat!L56-'0_15_format'!L56-'65_format'!L56","v":7016.4113230224666},{"$f":"allDataFormat!M56-'0_15_format'!M56-'65_format'!M56","v":1513.721671838834},{"$f":"allDataFormat!N56-'0_15_format'!N56-'65_format'!N56","v":79.078525648943128},{"$f":"allDataFormat!O56-'0_15_format'!O56-'65_format'!O56","v":697.15572615512178},{"$f":"allDataFormat!P56-'0_15_format'!P56-'65_format'!P56","v":530.84491054423484},{"$f":"allDataFormat!Q56-'0_15_format'!Q56-'65_format'!Q56","v":475.9820845994833},{"$f":"allDataFormat!R56-'0_15_format'!R56-'65_format'!R56","v":380.42633905882093},{"$f":"allDataFormat!S56-'0_15_format'!S56-'65_format'!S56","v":965.09246793609941},{"$f":"allDataFormat!T56-'0_15_format'!T56-'65_format'!T56","v":219.95168888606213}]
["Sparkhill",{"$f":"allDataFormat!B57-'0_15_format'!B57-'65_format'!B57","v":12615.253485358484},{"$f":"allDataFormat!C57-'0_15_format'!C57-'65_format'!C57","v":1153.2406715489265},{"$f":"allDataFormat!D57-'0_15_format'!D57-'65_format'!D57","v":128.30905770801201},{"$f":"allDataFormat!E57-'0_15_format'!E57-'65_format'!E57","v":9.1358490566037744},{"$f":"allDataFormat!F57-'0_15_format'!F57-'65_format'!F57","v":244.04114986451708},{"$f":"allDataFormat!G57-'0_15_format'!G57-'65_format'!G57","v":73.230240572446633},{"$f":"allDataFormat!H57-'0_15_format'!H57-'65_format'!H57","v":34.881387780349534},{"$f":"allDataFormat!I57-'0_15_format'!I57-'65_format'!I57","v":91.893795954288649},{"$f":"allDataFormat!J57-'0_15_format'!J57-'65_format'!J57","v":52.065668683978117},{"$f":"allDataFormat!K57-'0_15_format'!K57-'65_format'!K57","v":1267.9908813498505},{"$f":"allDataFormat!L57-'0_15_format'!L57-'65_format'!L57","v":7130.5866044673212},{"$f":"allDataFormat!M57-'0_15_format'!M57-'65_format'!M57","v":612.61226663026696},{"$f":"allDataFormat!N57-'0_15_format'!N57-'65_format'!N57","v":99.950766855343829},{"$f":"allDataFormat!O57-'0_15_format'!O57-'65_format'!O57","v":806.52650625106583},{"$f":"allDataFormat!P57-'0_15_format'!P57-'65_format'!P57","v":209.74729374015962},{"$f":"allDataFormat!Q57-'0_15_format'!Q57-'65_format'!Q57","v":219.57102408196039},{"$f":"allDataFormat!R57-'0_15_format'!R57-'65_format'!R57","v":99.839616717729854},{"$f":"allDataFormat!S57-'0_15_format'!S57-'65_format'!S57","v":201.4778167478824},{"$f":"allDataFormat!T57-'0_15_format'!T57-'65_format'!T57","v":180.15288734778235}]
["Stirchley",{"$f":"allDataFormat!B58-'0_15_format'!B58-'65_format'!B58","v":6855.7839222017155},{"$f":"allDataFormat!C58-'0_15_format'!C58-'65_format'!C58","v":5051.3664529868784},{"$f":"allDataFormat!D58-'0_15_format'!D58-'65_format'!D58","v":176.9011606081238},{"$f":"allDataFormat!E58-'0_15_format'!E58-'65_format'!E58","v":3},{"$f":"allDataFormat!F58-'0_15_format'!F58-'65_format'!F58","v":219.41975160616687},{"$f":"allDataFormat!G58-'0_15_format'!G58-'65_format'!G58","v":138.66882487535344},{"$f":"allDataFormat!H58-'0_15_format'!H58-'65_format'!H58","v":13.53209122142907},{"$f":"allDataFormat!I58-'0_15_format'!I58-'65_format'!I58","v":53.510934495797059},{"$f":"allDataFormat!J58-'0_15_format'!J58-'65_format'!J58","v":32.575116938655199},{"$f":"allDataFormat!K58-'0_15_format'!K58-'65_format'!K58","v":231.97884327436799},{"$f":"allDataFormat!L58-'0_15_format'!L58-'65_format'!L58","v":240.02771271273414},{"$f":"allDataFormat!M58-'0_15_format'!M58-'65_format'!M58","v":145.49269963073505},{"$f":"allDataFormat!N58-'0_15_format'!N58-'65_format'!N58","v":56.684534693347381},{"$f":"allDataFormat!O58-'0_15_format'!O58-'65_format'!O58","v":112.27788649706457},{"$f":"allDataFormat!P58-'0_15_format'!P58-'65_format'!P58","v":106.1418651091023},{"$f":"allDataFormat!Q58-'0_15_format'!Q58-'65_format'!Q58","v":175.1418651091023},{"$f":"allDataFormat!R58-'0_15_format'!R58-'65_format'!R58","v":52.53209122142907},{"$f":"allDataFormat!S58-'0_15_format'!S58-'65_format'!S58","v":24.152443471918307},{"$f":"allDataFormat!T58-'0_15_format'!T58-'65_format'!T58","v":22.379647749510763}]
["Stockland Green",{"$f":"allDataFormat!B59-'0_15_format'!B59-'65_format'!B59","v":14312.370768568529},{"$f":"allDataFormat!C59-'0_15_format'!C59-'65_format'!C59","v":7702.3474022290939},{"$f":"allDataFormat!D59-'0_15_format'!D59-'65_format'!D59","v":299.62320719276818},{"$f":"allDataFormat!E59-'0_15_format'!E59-'65_format'!E59","v":3},{"$f":"allDataFormat!F59-'0_15_format'!F59-'65_format'!F59","v":886.14075569264492},{"$f":"allDataFormat!G59-'0_15_format'!G59-'65_format'!G59","v":452.43092506335461},{"$f":"allDataFormat!H59-'0_15_format'!H59-'65_format'!H59","v":39.216831894762969},{"$f":"allDataFormat!I59-'0_15_format'!I59-'65_format'!I59","v":101.47097174470423},{"$f":"allDataFormat!J59-'0_15_format'!J59-'65_format'!J59","v":87.166779941840758},{"$f":"allDataFormat!K59-'0_15_format'!K59-'65_format'!K59","v":606.80234285018616},{"$f":"allDataFormat!L59-'0_15_format'!L59-'65_format'!L59","v":1105.1471920964595},{"$f":"allDataFormat!M59-'0_15_format'!M59-'65_format'!M59","v":163.47140856992769},{"$f":"allDataFormat!N59-'0_15_format'!N59-'65_format'!N59","v":216.82542665221013},{"$f":"allDataFormat!O59-'0_15_format'!O59-'65_format'!O59","v":255.77908254574652},{"$f":"allDataFormat!P59-'0_15_format'!P59-'65_format'!P59","v":437.26405518694287},{"$f":"allDataFormat!Q59-'0_15_format'!Q59-'65_format'!Q59","v":1420.8587537694534},{"$f":"allDataFormat!R59-'0_15_format'!R59-'65_format'!R59","v":389.94201697863213},{"$f":"allDataFormat!S59-'0_15_format'!S59-'65_format'!S59","v":37.874867271300147},{"$f":"allDataFormat!T59-'0_15_format'!T59-'65_format'!T59","v":107.00874888850372}]
["Sutton Four Oaks",{"$f":"allDataFormat!B60-'0_15_format'!B60-'65_format'!B60","v":5178.5818376135658},{"$f":"allDataFormat!C60-'0_15_format'!C60-'65_format'!C60","v":4289.7052579757019},{"$f":"allDataFormat!D60-'0_15_format'!D60-'65_format'!D60","v":62.339691730257272},{"$f":"allDataFormat!E60-'0_15_format'!E60-'65_format'!E60","v":2},{"$f":"allDataFormat!F60-'0_15_format'!F60-'65_format'!F60","v":101.88233495085836},{"$f":"allDataFormat!G60-'0_15_format'!G60-'65_format'!G60","v":13.71349779376521},{"$f":"allDataFormat!H60-'0_15_format'!H60-'65_format'!H60","v":8.1260056441554518},{"$f":"allDataFormat!I60-'0_15_format'!I60-'65_format'!I60","v":16.241393877587207},{"$f":"allDataFormat!J60-'0_15_format'!J60-'65_format'!J60","v":3.9562394432181538},{"$f":"allDataFormat!K60-'0_15_format'!K60-'65_format'!K60","v":401.92560055317892},{"$f":"allDataFormat!L60-'0_15_format'!L60-'65_format'!L60","v":52.561828040206862},{"$f":"allDataFormat!M60-'0_15_format'!M60-'65_format'!M60","v":9.44560669456067},{"$f":"allDataFormat!N60-'0_15_format'!N60-'65_format'!N60","v":20.408423499551461},{"$f":"allDataFormat!O60-'0_15_format'!O60-'65_format'!O60","v":49.889490254210678},{"$f":"allDataFormat!P60-'0_15_format'!P60-'65_format'!P60","v":28.723675427264929},{"$f":"allDataFormat!Q60-'0_15_format'!Q60-'65_format'!Q60","v":44.429673159316366},{"$f":"allDataFormat!R60-'0_15_format'!R60-'65_format'!R60","v":9.5478064318261122},{"$f":"allDataFormat!S60-'0_15_format'!S60-'65_format'!S60","v":10.588123815540113},{"$f":"allDataFormat!T60-'0_15_format'!T60-'65_format'!T60","v":53.097188322366605}]
["Sutton Mere Green",{"$f":"allDataFormat!B61-'0_15_format'!B61-'65_format'!B61","v":5714.4157500004967},{"$f":"allDataFormat!C61-'0_15_format'!C61-'65_format'!C61","v":4945.2162228249217},{"$f":"allDataFormat!D61-'0_15_format'!D61-'65_format'!D61","v":73.02258678780602},{"$f":"allDataFormat!E61-'0_15_format'!E61-'65_format'!E61","v":2},{"$f":"allDataFormat!F61-'0_15_format'!F61-'65_format'!F61","v":128.67174398158244},{"$f":"allDataFormat!G61-'0_15_format'!G61-'65_format'!G61","v":53.256840609412322},{"$f":"allDataFormat!H61-'0_15_format'!H61-'65_format'!H61","v":2.0364713638151173},{"$f":"allDataFormat!I61-'0_15_format'!I61-'65_format'!I61","v":35.423017823145869},{"$f":"allDataFormat!J61-'0_15_format'!J61-'65_format'!J61","v":24.316472345584206},{"$f":"allDataFormat!K61-'0_15_format'!K61-'65_format'!K61","v":210.64457854276657},{"$f":"allDataFormat!L61-'0_15_format'!L61-'65_format'!L61","v":51.369131066608503},{"$f":"allDataFormat!M61-'0_15_format'!M61-'65_format'!M61","v":13.55439330543933},{"$f":"allDataFormat!N61-'0_15_format'!N61-'65_format'!N61","v":28.208193752938396},{"$f":"allDataFormat!O61-'0_15_format'!O61-'65_format'!O61","v":40.431256185789934},{"$f":"allDataFormat!P61-'0_15_format'!P61-'65_format'!P61","v":18.892941825224931},{"$f":"allDataFormat!Q61-'0_15_format'!Q61-'65_format'!Q61","v":63.757461394920696},{"$f":"allDataFormat!R61-'0_15_format'!R61-'65_format'!R61","v":10.126999349277702},{"$f":"allDataFormat!S61-'0_15_format'!S61-'65_format'!S61","v":3.4118761844598859},{"$f":"allDataFormat!T61-'0_15_format'!T61-'65_format'!T61","v":10.075562656804081}]
["Sutton Reddicap",{"$f":"allDataFormat!B62-'0_15_format'!B62-'65_format'!B62","v":6392.4966294880433},{"$f":"allDataFormat!C62-'0_15_format'!C62-'65_format'!C62","v":5560.9013550792943},{"$f":"allDataFormat!D62-'0_15_format'!D62-'65_format'!D62","v":85.788407273407955},{"$f":"allDataFormat!E62-'0_15_format'!E62-'65_format'!E62","v":2},{"$f":"allDataFormat!F62-'0_15_format'!F62-'65_format'!F62","v":110.60692775743678},{"$f":"allDataFormat!G62-'0_15_format'!G62-'65_format'!G62","v":68.498706861027571},{"$f":"allDataFormat!H62-'0_15_format'!H62-'65_format'!H62","v":3.2497384226150317},{"$f":"allDataFormat!I62-'0_15_format'!I62-'65_format'!I62","v":27.531210528890149},{"$f":"allDataFormat!J62-'0_15_format'!J62-'65_format'!J62","v":19.373336330168112},{"$f":"allDataFormat!K62-'0_15_format'!K62-'65_format'!K62","v":172.99997842137432},{"$f":"allDataFormat!L62-'0_15_format'!L62-'65_format'!L62","v":66.360166656117926},{"$f":"allDataFormat!M62-'0_15_format'!M62-'65_format'!M62","v":9.87725905812969},{"$f":"allDataFormat!N62-'0_15_format'!N62-'65_format'!N62","v":15.938490430764197},{"$f":"allDataFormat!O62-'0_15_format'!O62-'65_format'!O62","v":41.691218289601494},{"$f":"allDataFormat!P62-'0_15_format'!P62-'65_format'!P62","v":44.720953339341193},{"$f":"allDataFormat!Q62-'0_15_format'!Q62-'65_format'!Q62","v":104.02553508387908},{"$f":"allDataFormat!R62-'0_15_format'!R62-'65_format'!R62","v":38.091232846182535},{"$f":"allDataFormat!S62-'0_15_format'!S62-'65_format'!S62","v":7.7391678391759369},{"$f":"allDataFormat!T62-'0_15_format'!T62-'65_format'!T62","v":13.102945270636774}]
["Sutton Roughley",{"$f":"allDataFormat!B63-'0_15_format'!B63-'65_format'!B63","v":7008.8293610140336},{"$f":"allDataFormat!C63-'0_15_format'!C63-'65_format'!C63","v":6082.3265132419983},{"$f":"allDataFormat!D63-'0_15_format'!D63-'65_format'!D63","v":87.814872885247922},{"$f":"allDataFormat!E63-'0_15_format'!E63-'65_format'!E63","v":0},{"$f":"allDataFormat!F63-'0_15_format'!F63-'65_format'!F63","v":102.55774583454019},{"$f":"allDataFormat!G63-'0_15_format'!G63-'65_format'!G63","v":37.55065272562971},{"$f":"allDataFormat!H63-'0_15_format'!H63-'65_format'!H63","v":3.2113486842105265},{"$f":"allDataFormat!I63-'0_15_format'!I63-'65_format'!I63","v":28.278508821468357},{"$f":"allDataFormat!J63-'0_15_format'!J63-'65_format'!J63","v":22.695481847080387},{"$f":"allDataFormat!K63-'0_15_format'!K63-'65_format'!K63","v":297.70444740863707},{"$f":"allDataFormat!L63-'0_15_format'!L63-'65_format'!L63","v":70.11832664080309},{"$f":"allDataFormat!M63-'0_15_format'!M63-'65_format'!M63","v":9.68056407112201},{"$f":"allDataFormat!N63-'0_15_format'!N63-'65_format'!N63","v":53.766365447282226},{"$f":"allDataFormat!O63-'0_15_format'!O63-'65_format'!O63","v":67.453464719448192},{"$f":"allDataFormat!P63-'0_15_format'!P63-'65_format'!P63","v":19.044800046105941},{"$f":"allDataFormat!Q63-'0_15_format'!Q63-'65_format'!Q63","v":80.390365057309339},{"$f":"allDataFormat!R63-'0_15_format'!R63-'65_format'!R63","v":12.731097073913558},{"$f":"allDataFormat!S63-'0_15_format'!S63-'65_format'!S63","v":4.6805640711220109},{"$f":"allDataFormat!T63-'0_15_format'!T63-'65_format'!T63","v":28.824242438114062}]
["Sutton Trinity",{"$f":"allDataFormat!B64-'0_15_format'!B64-'65_format'!B64","v":5583.4588759283106},{"$f":"allDataFormat!C64-'0_15_format'!C64-'65_format'!C64","v":4846.5407401694083},{"$f":"allDataFormat!D64-'0_15_format'!D64-'65_format'!D64","v":95.26638613081343},{"$f":"allDataFormat!E64-'0_15_format'!E64-'65_format'!E64","v":3.7752808988764044},{"$f":"allDataFormat!F64-'0_15_format'!F64-'65_format'!F64","v":137.95839621589664},{"$f":"allDataFormat!G64-'0_15_format'!G64-'65_format'!G64","v":52.93099917569225},{"$f":"allDataFormat!H64-'0_15_format'!H64-'65_format'!H64","v":4.4602679354063657},{"$f":"allDataFormat!I64-'0_15_format'!I64-'65_format'!I64","v":24.973480949546115},{"$f":"allDataFormat!J64-'0_15_format'!J64-'65_format'!J64","v":11.789092551708521},{"$f":"allDataFormat!K64-'0_15_format'!K64-'65_format'!K64","v":163.48547910794304},{"$f":"allDataFormat!L64-'0_15_format'!L64-'65_format'!L64","v":57.653574044958106},{"$f":"allDataFormat!M64-'0_15_format'!M64-'65_format'!M64","v":10.071122753000466},{"$f":"allDataFormat!N64-'0_15_format'!N64-'65_format'!N64","v":52.238140717033154},{"$f":"allDataFormat!O64-'0_15_format'!O64-'65_format'!O64","v":34.804435286460617},{"$f":"allDataFormat!P64-'0_15_format'!P64-'65_format'!P64","v":9.0223678702195702},{"$f":"allDataFormat!Q64-'0_15_format'!Q64-'65_format'!Q64","v":45.273807820312584},{"$f":"allDataFormat!R64-'0_15_format'!R64-'65_format'!R64","v":14.522630870733597},{"$f":"allDataFormat!S64-'0_15_format'!S64-'65_format'!S64","v":7.0046219221441195},{"$f":"allDataFormat!T64-'0_15_format'!T64-'65_format'!T64","v":11.68805150815691}]
["Sutton Vesey",{"$f":"allDataFormat!B65-'0_15_format'!B65-'65_format'!B65","v":12460.6130522452},{"$f":"allDataFormat!C65-'0_15_format'!C65-'65_format'!C65","v":10137.987458343523},{"$f":"allDataFormat!D65-'0_15_format'!D65-'65_format'!D65","v":280.74970079309378},{"$f":"allDataFormat!E65-'0_15_format'!E65-'65_format'!E65","v":6.2247191011235952},{"$f":"allDataFormat!F65-'0_15_format'!F65-'65_format'!F65","v":223.79493689605761},{"$f":"allDataFormat!G65-'0_15_format'!G65-'65_format'!G65","v":116.37053656930854},{"$f":"allDataFormat!H65-'0_15_format'!H65-'65_format'!H65","v":19.224007152585077},{"$f":"allDataFormat!I65-'0_15_format'!I65-'65_format'!I65","v":67.264969973202227},{"$f":"allDataFormat!J65-'0_15_format'!J65-'65_format'!J65","v":25.729677609395651},{"$f":"allDataFormat!K65-'0_15_format'!K65-'65_format'!K65","v":632.80982275620124},{"$f":"allDataFormat!L65-'0_15_format'!L65-'65_format'!L65","v":197.73732008280101},{"$f":"allDataFormat!M65-'0_15_format'!M65-'65_format'!M65","v":44.533245235726142},{"$f":"allDataFormat!N65-'0_15_format'!N65-'65_format'!N65","v":73.57869734702544},{"$f":"allDataFormat!O65-'0_15_format'!O65-'65_format'!O65","v":134.67694675539249},{"$f":"allDataFormat!P65-'0_15_format'!P65-'65_format'!P65","v":51.103448473005784},{"$f":"allDataFormat!Q65-'0_15_format'!Q65-'65_format'!Q65","v":325.66044703000432},{"$f":"allDataFormat!R65-'0_15_format'!R65-'65_format'!R65","v":51.338686754205867},{"$f":"allDataFormat!S65-'0_15_format'!S65-'65_format'!S65","v":24.41421568627451},{"$f":"allDataFormat!T65-'0_15_format'!T65-'65_format'!T65","v":47.41421568627451}]
["Sutton Walmley & Minworth",{"$f":"allDataFormat!B66-'0_15_format'!B66-'65_format'!B66","v":10484.802591217192},{"$f":"allDataFormat!C66-'0_15_format'!C66-'65_format'!C66","v":9053.3178164899546},{"$f":"allDataFormat!D66-'0_15_format'!D66-'65_format'!D66","v":189.15751991093907},{"$f":"allDataFormat!E66-'0_15_format'!E66-'65_format'!E66","v":1},{"$f":"allDataFormat!F66-'0_15_format'!F66-'65_format'!F66","v":190.84939423642686},{"$f":"allDataFormat!G66-'0_15_format'!G66-'65_format'!G66","v":96.83232677001854},{"$f":"allDataFormat!H66-'0_15_format'!H66-'65_format'!H66","v":19.873949579831933},{"$f":"allDataFormat!I66-'0_15_format'!I66-'65_format'!I66","v":35.95215901206187},{"$f":"allDataFormat!J66-'0_15_format'!J66-'65_format'!J66","v":16.049596641547922},{"$f":"allDataFormat!K66-'0_15_format'!K66-'65_format'!K66","v":375.8557202363848},{"$f":"allDataFormat!L66-'0_15_format'!L66-'65_format'!L66","v":64.678290576725544},{"$f":"allDataFormat!M66-'0_15_format'!M66-'65_format'!M66","v":1.4421768707482991},{"$f":"allDataFormat!N66-'0_15_format'!N66-'65_format'!N66","v":83.640178428891716},{"$f":"allDataFormat!O66-'0_15_format'!O66-'65_format'!O66","v":81.448361162646876},{"$f":"allDataFormat!P66-'0_15_format'!P66-'65_format'!P66","v":37.881106381946722},{"$f":"allDataFormat!Q66-'0_15_format'!Q66-'65_format'!Q66","v":151.00568456462375},{"$f":"allDataFormat!R66-'0_15_format'!R66-'65_format'!R66","v":35.105094158875673},{"$f":"allDataFormat!S66-'0_15_format'!S66-'65_format'!S66","v":21.363636363636363},{"$f":"allDataFormat!T66-'0_15_format'!T66-'65_format'!T66","v":29.349579831932772}]
["Sutton Wylde Green",{"$f":"allDataFormat!B67-'0_15_format'!B67-'65_format'!B67","v":5891.366212257466},{"$f":"allDataFormat!C67-'0_15_format'!C67-'65_format'!C67","v":4804.7298884004513},{"$f":"allDataFormat!D67-'0_15_format'!D67-'65_format'!D67","v":128.86083448843453},{"$f":"allDataFormat!E67-'0_15_format'!E67-'65_format'!E67","v":0},{"$f":"allDataFormat!F67-'0_15_format'!F67-'65_format'!F67","v":141.58559083427184},{"$f":"allDataFormat!G67-'0_15_format'!G67-'65_format'!G67","v":49.358224006930371},{"$f":"allDataFormat!H67-'0_15_format'!H67-'65_format'!H67","v":13.027638826808104},{"$f":"allDataFormat!I67-'0_15_format'!I67-'65_format'!I67","v":25.451757330596521},{"$f":"allDataFormat!J67-'0_15_format'!J67-'65_format'!J67","v":19.392460133653952},{"$f":"allDataFormat!K67-'0_15_format'!K67-'65_format'!K67","v":287.69087129001241},{"$f":"allDataFormat!L67-'0_15_format'!L67-'65_format'!L67","v":137.84728881770491},{"$f":"allDataFormat!M67-'0_15_format'!M67-'65_format'!M67","v":22.302702718344101},{"$f":"allDataFormat!N67-'0_15_format'!N67-'65_format'!N67","v":46.523867278870313},{"$f":"allDataFormat!O67-'0_15_format'!O67-'65_format'!O67","v":45.814254955877317},{"$f":"allDataFormat!P67-'0_15_format'!P67-'65_format'!P67","v":21.913063539247844},{"$f":"allDataFormat!Q67-'0_15_format'!Q67-'65_format'!Q67","v":85.573524206132177},{"$f":"allDataFormat!R67-'0_15_format'!R67-'65_format'!R67","v":19.048237026769471},{"$f":"allDataFormat!S67-'0_15_format'!S67-'65_format'!S67","v":6.7977941176470589},{"$f":"allDataFormat!T67-'0_15_format'!T67-'65_format'!T67","v":35.448214285714286}]
["Tyseley & Hay Mills",{"$f":"allDataFormat!B68-'0_15_format'!B68-'65_format'!B68","v":6870.0996337534671},{"$f":"allDataFormat!C68-'0_15_format'!C68-'65_format'!C68","v":3374.2832811086691},{"$f":"allDataFormat!D68-'0_15_format'!D68-'65_format'!D68","v":177.08405026389255},{"$f":"allDataFormat!E68-'0_15_format'!E68-'65_format'!E68","v":0},{"$f":"allDataFormat!F68-'0_15_format'!F68-'65_format'!F68","v":318.36457064266574},{"$f":"allDataFormat!G68-'0_15_format'!G68-'65_format'!G68","v":140.75428803180097},{"$f":"allDataFormat!H68-'0_15_format'!H68-'65_format'!H68","v":11.990215762751978},{"$f":"allDataFormat!I68-'0_15_format'!I68-'65_format'!I68","v":76.885591116268728},{"$f":"allDataFormat!J68-'0_15_format'!J68-'65_format'!J68","v":44.96944955930897},{"$f":"allDataFormat!K68-'0_15_format'!K68-'65_format'!K68","v":372.77263051248417},{"$f":"allDataFormat!L68-'0_15_format'!L68-'65_format'!L68","v":1286.59056630754},{"$f":"allDataFormat!M68-'0_15_format'!M68-'65_format'!M68","v":363.93080082875673},{"$f":"allDataFormat!N68-'0_15_format'!N68-'65_format'!N68","v":23.676770565235657},{"$f":"allDataFormat!O68-'0_15_format'!O68-'65_format'!O68","v":189.12061653079215},{"$f":"allDataFormat!P68-'0_15_format'!P68-'65_format'!P68","v":114.23090422461186},{"$f":"allDataFormat!Q68-'0_15_format'!Q68-'65_format'!Q68","v":189.96194992139601},{"$f":"allDataFormat!R68-'0_15_format'!R68-'65_format'!R68","v":78.472315914777397},{"$f":"allDataFormat!S68-'0_15_format'!S68-'65_format'!S68","v":56.638708655488401},{"$f":"allDataFormat!T68-'0_15_format'!T68-'65_format'!T68","v":50.372923807025387}]
["Ward End",{"$f":"allDataFormat!B69-'0_15_format'!B69-'65_format'!B69","v":7137.9144340312105},{"$f":"allDataFormat!C69-'0_15_format'!C69-'65_format'!C69","v":1705.0760799401178},{"$f":"allDataFormat!D69-'0_15_format'!D69-'65_format'!D69","v":48},{"$f":"allDataFormat!E69-'0_15_format'!E69-'65_format'!E69","v":4},{"$f":"allDataFormat!F69-'0_15_format'!F69-'65_format'!F69","v":108.48609546591157},{"$f":"allDataFormat!G69-'0_15_format'!G69-'65_format'!G69","v":95.994448436433728},{"$f":"allDataFormat!H69-'0_15_format'!H69-'65_format'!H69","v":18.668225686327002},{"$f":"allDataFormat!I69-'0_15_format'!I69-'65_format'!I69","v":47.409411273377188},{"$f":"allDataFormat!J69-'0_15_format'!J69-'65_format'!J69","v":35.651490973356083},{"$f":"allDataFormat!K69-'0_15_format'!K69-'65_format'!K69","v":199.85769866522625},{"$f":"allDataFormat!L69-'0_15_format'!L69-'65_format'!L69","v":3540.9663577684537},{"$f":"allDataFormat!M69-'0_15_format'!M69-'65_format'!M69","v":217.9866320587783},{"$f":"allDataFormat!N69-'0_15_format'!N69-'65_format'!N69","v":44.770968551851858},{"$f":"allDataFormat!O69-'0_15_format'!O69-'65_format'!O69","v":409.70987611810943},{"$f":"allDataFormat!P69-'0_15_format'!P69-'65_format'!P69","v":223.21753136919477},{"$f":"allDataFormat!Q69-'0_15_format'!Q69-'65_format'!Q69","v":213.15640227313747},{"$f":"allDataFormat!R69-'0_15_format'!R69-'65_format'!R69","v":107.3600471504102},{"$f":"allDataFormat!S69-'0_15_format'!S69-'65_format'!S69","v":58.064751700146182},{"$f":"allDataFormat!T69-'0_15_format'!T69-'65_format'!T69","v":59.538416600378554}]
["Weoley & Selly Oak",{"$f":"allDataFormat!B70-'0_15_format'!B70-'65_format'!B70","v":14722.299804642487},{"$f":"allDataFormat!C70-'0_15_format'!C70-'65_format'!C70","v":10503.314105813519},{"$f":"allDataFormat!D70-'0_15_format'!D70-'65_format'!D70","v":215.7526933099237},{"$f":"allDataFormat!E70-'0_15_format'!E70-'65_format'!E70","v":2},{"$f":"allDataFormat!F70-'0_15_format'!F70-'65_format'!F70","v":455.14869245426712},{"$f":"allDataFormat!G70-'0_15_format'!G70-'65_format'!G70","v":280.22730764409312},{"$f":"allDataFormat!H70-'0_15_format'!H70-'65_format'!H70","v":49.670096847903224},{"$f":"allDataFormat!I70-'0_15_format'!I70-'65_format'!I70","v":107.22283015867274},{"$f":"allDataFormat!J70-'0_15_format'!J70-'65_format'!J70","v":115.22269259917357},{"$f":"allDataFormat!K70-'0_15_format'!K70-'65_format'!K70","v":574.84602765187537},{"$f":"allDataFormat!L70-'0_15_format'!L70-'65_format'!L70","v":220.89296498566293},{"$f":"allDataFormat!M70-'0_15_format'!M70-'65_format'!M70","v":59.276949759259011},{"$f":"allDataFormat!N70-'0_15_format'!N70-'65_format'!N70","v":400.10690434112882},{"$f":"allDataFormat!O70-'0_15_format'!O70-'65_format'!O70","v":508.89807663180261},{"$f":"allDataFormat!P70-'0_15_format'!P70-'65_format'!P70","v":352.9294373180503},{"$f":"allDataFormat!Q70-'0_15_format'!Q70-'65_format'!Q70","v":406.60872254600599},{"$f":"allDataFormat!R70-'0_15_format'!R70-'65_format'!R70","v":160.75009329201183},{"$f":"allDataFormat!S70-'0_15_format'!S70-'65_format'!S70","v":154.04487730874882},{"$f":"allDataFormat!T70-'0_15_format'!T70-'65_format'!T70","v":155.3873319803904}]
["Yardley East",{"$f":"allDataFormat!B71-'0_15_format'!B71-'65_format'!B71","v":6372.7469483376972},{"$f":"allDataFormat!C71-'0_15_format'!C71-'65_format'!C71","v":4661.2324730346008},{"$f":"allDataFormat!D71-'0_15_format'!D71-'65_format'!D71","v":151.49828857774082},{"$f":"allDataFormat!E71-'0_15_format'!E71-'65_format'!E71","v":1},{"$f":"allDataFormat!F71-'0_15_format'!F71-'65_format'!F71","v":90.291949167266964},{"$f":"allDataFormat!G71-'0_15_format'!G71-'65_format'!G71","v":107.67609368180385},{"$f":"allDataFormat!H71-'0_15_format'!H71-'65_format'!H71","v":10.67516565662736},{"$f":"allDataFormat!I71-'0_15_format'!I71-'65_format'!I71","v":30.795847341067116},{"$f":"allDataFormat!J71-'0_15_format'!J71-'65_format'!J71","v":23.069559034457285},{"$f":"allDataFormat!K71-'0_15_format'!K71-'65_format'!K71","v":210.12119416978334},{"$f":"allDataFormat!L71-'0_15_format'!L71-'65_format'!L71","v":599.06938914320904},{"$f":"allDataFormat!M71-'0_15_format'!M71-'65_format'!M71","v":55.309620677958378},{"$f":"allDataFormat!N71-'0_15_format'!N71-'65_format'!N71","v":16.547988483533555},{"$f":"allDataFormat!O71-'0_15_format'!O71-'65_format'!O71","v":90.142323888076916},{"$f":"allDataFormat!P71-'0_15_format'!P71-'65_format'!P71","v":70.240460227958948},{"$f":"allDataFormat!Q71-'0_15_format'!Q71-'65_format'!Q71","v":176.79621363039263},{"$f":"allDataFormat!R71-'0_15_format'!R71-'65_format'!R71","v":30.916696800355492},{"$f":"allDataFormat!S71-'0_15_format'!S71-'65_format'!S71","v":16.467562774450084},{"$f":"allDataFormat!T71-'0_15_format'!T71-'65_format'!T71","v":30.896122048414917}]
["Yardley West & Stechford",{"$f":"allDataFormat!B72-'0_15_format'!B72-'65_format'!B72","v":7307.5675299398517},{"$f":"allDataFormat!C72-'0_15_format'!C72-'65_format'!C72","v":3629.8205138997218},{"$f":"allDataFormat!D72-'0_15_format'!D72-'65_format'!D72","v":124.38829151732375},{"$f":"allDataFormat!E72-'0_15_format'!E72-'65_format'!E72","v":1},{"$f":"allDataFormat!F72-'0_15_format'!F72-'65_format'!F72","v":177.87705747900412},{"$f":"allDataFormat!G72-'0_15_format'!G72-'65_format'!G72","v":197.33809017275377},{"$f":"allDataFormat!H72-'0_15_format'!H72-'65_format'!H72","v":16.795536977452659},{"$f":"allDataFormat!I72-'0_15_format'!I72-'65_format'!I72","v":59.222282478774943},{"$f":"allDataFormat!J72-'0_15_format'!J72-'65_format'!J72","v":38.332274768321057},{"$f":"allDataFormat!K72-'0_15_format'!K72-'65_format'!K72","v":287.01916214128391},{"$f":"allDataFormat!L72-'0_15_format'!L72-'65_format'!L72","v":1608.8095336604028},{"$f":"allDataFormat!M72-'0_15_format'!M72-'65_format'!M72","v":238.80328965807456},{"$f":"allDataFormat!N72-'0_15_format'!N72-'65_format'!N72","v":24.150286025356706},{"$f":"allDataFormat!O72-'0_15_format'!O72-'65_format'!O72","v":273.07017942519019},{"$f":"allDataFormat!P72-'0_15_format'!P72-'65_format'!P72","v":145.13828817650545},{"$f":"allDataFormat!Q72-'0_15_format'!Q72-'65_format'!Q72","v":291.7730626978697},{"$f":"allDataFormat!R72-'0_15_format'!R72-'65_format'!R72","v":89.583529472762223},{"$f":"allDataFormat!S72-'0_15_format'!S72-'65_format'!S72","v":47.038905928925466},{"$f":"allDataFormat!T72-'0_15_format'!T72-'65_format'!T72","v":57.407245460128884}]
["Birmingham",{"$f":"allDataFormat!B73-'0_15_format'!B73-'65_format'!B73","v":690150.00000000012},{"$f":"allDataFormat!C73-'0_15_format'!C73-'65_format'!C73","v":373231},{"$f":"allDataFormat!D73-'0_15_format'!D73-'65_format'!D73","v":11643},{"$f":"allDataFormat!E73-'0_15_format'!E73-'65_format'!E73","v":277},{"$f":"allDataFormat!F73-'0_15_format'!F73-'65_format'!F73","v":22546},{"$f":"allDataFormat!G73-'0_15_format'!G73-'65_format'!G73","v":12635.999999999998},{"$f":"allDataFormat!H73-'0_15_format'!H73-'65_format'!H73","v":1681},{"$f":"allDataFormat!I73-'0_15_format'!I73-'65_format'!I73","v":5424.0000000000009},{"$f":"allDataFormat!J73-'0_15_format'!J73-'65_format'!J73","v":3923.0000000000009},{"$f":"allDataFormat!K73-'0_15_format'!K73-'65_format'!K73","v":47484},{"$f":"allDataFormat!L73-'0_15_format'!L73-'65_format'!L73","v":86260.000000000029},{"$f":"allDataFormat!M73-'0_15_format'!M73-'65_format'!M73","v":18932.000000000007},{"$f":"allDataFormat!N73-'0_15_format'!N73-'65_format'!N73","v":10423},{"$f":"allDataFormat!O73-'0_15_format'!O73-'65_format'!O73","v":20538},{"$f":"allDataFormat!P73-'0_15_format'!P73-'65_format'!P73","v":18959},{"$f":"allDataFormat!Q73-'0_15_format'!Q73-'65_format'!Q73","v":31541},{"$f":"allDataFormat!R73-'0_15_format'!R73-'65_format'!R73","v":10997},{"$f":"allDataFormat!S73-'0_15_format'!S73-'65_format'!S73","v":6128.0000000000009},{"$f":"allDataFormat!T73-'0_15_format'!T73-'65_format'!T73","v":7526.9999999999991}]