{"text_format":"1","workbook":"xlsx","n_sheets":23,"sheets":["quinary 2011","2015 syoa","2015 number rank","2011_15 change rank","quinary change 2011_15 num","2011 change percent","2011_15 syoa change","chart data","Sheet1","Sheet3","Introduction","quinary 2016","2011change","pyramids 2016","pyramids 2011-16 change ","broad age prop","2011 time series","2014 syoa","2013 syoa","2012 syoa ","2011 syoa","2016 syoa","Sheet2"],"not_rendered":{"charts":6,"images":11,"macros":1,"external_links":0,"defined_names":27,"comments":0,"pivot_tables":0},"unopened":[{"sheet":"2011change","index":12,"reason":"not_a_worksheet"}],"bounds":{"document_bytes":16777216,"sheet_cells":100000,"rows_first":2000,"rows_last":500,"rows_between":2000,"halvings":0,"cell_chars":16384,"cell_head_chars":4096},"cells_cut":0,"cells_raw":0,"read":"whole","date_system":"1900"}

{"sheet":"quinary 2011","index":0,"n_rows":52,"n_cols":23,"rows_kept":52,"cut":false,"hidden":true,"merged":[]}
["2011 Birmingaham Ward Population (experimental statistics)","mid-2011 Birmingham ward population "]
["five-year age groups","five-year age groups"]
["ward code","Ward Name","Constituency","All Ages","0-4","5-9","10-14","15-19","20-24","25-29","30-34","35-39","40-44","45-49","50-54","55-59","60-64","65-69","70-74","75-79","80-84","85-89","90+"]
[]
["E05001178","Acocks Green","Yardley",{"$f":"SUM('2011 syoa'!D5)+SUM('2011 syoa'!CR5)","v":28430},{"$f":"SUM('2011 syoa'!E5:I5)+SUM('2011 syoa'!CS5:CW5)","v":2327},{"$f":"SUM('2011 syoa'!J5:N5)+SUM('2011 syoa'!CX5:DB5)","v":2023},{"$f":"SUM('2011 syoa'!O5:S5)+SUM('2011 syoa'!DC5:DG5)","v":2022},{"$f":"SUM('2011 syoa'!T5:X5)+SUM('2011 syoa'!DH5:DL5)","v":2039},{"$f":"SUM('2011 syoa'!Y5:AC5)+SUM('2011 syoa'!DM5:DQ5)","v":1974},{"$f":"SUM('2011 syoa'!AD5:AH5)+SUM('2011 syoa'!DR5:DV5)","v":2220},{"$f":"SUM('2011 syoa'!AI5:AM5)+SUM('2011 syoa'!DW5:EA5)","v":2246},{"$f":"SUM('2011 syoa'!AN5:AR5)+SUM('2011 syoa'!EB5:EF5)","v":1939},{"$f":"SUM('2011 syoa'!AS5:AW5)+SUM('2011 syoa'!EG5:EK5)","v":2036},{"$f":"SUM('2011 syoa'!AX5:BB5)+SUM('2011 syoa'!EL5:EP5)","v":1893},{"$f":"SUM('2011 syoa'!BC5:BG5)+SUM('2011 syoa'!EQ5:EU5)","v":1578},{"$f":"SUM('2011 syoa'!BH5:BL5)+SUM('2011 syoa'!EV5:EZ5)","v":1259},{"$f":"SUM('2011 syoa'!BM5:BQ5)+SUM('2011 syoa'!FA5:FE5)","v":1172},{"$f":"SUM('2011 syoa'!BR5:BV5)+SUM('2011 syoa'!FF5:FJ5)","v":966},{"$f":"SUM('2011 syoa'!BW5:CA5)+SUM('2011 syoa'!FK5:FO5)","v":841},{"$f":"SUM('2011 syoa'!CB5:CF5)+SUM('2011 syoa'!FP5:FT5)","v":711},{"$f":"SUM('2011 syoa'!CG5:CK5)+SUM('2011 syoa'!FU5:FY5)","v":609},{"$f":"SUM('2011 syoa'!CL5:CP5)+SUM('2011 syoa'!FZ5:GD5)","v":337},{"$f":"SUM('2011 syoa'!CQ5)+SUM('2011 syoa'!GE5)","v":238}]
["E05001179","Aston","Ladywood",{"$f":"SUM('2011 syoa'!D6)+SUM('2011 syoa'!CR6)","v":32376},{"$f":"SUM('2011 syoa'!E6:I6)+SUM('2011 syoa'!CS6:CW6)","v":3184},{"$f":"SUM('2011 syoa'!J6:N6)+SUM('2011 syoa'!CX6:DB6)","v":2845},{"$f":"SUM('2011 syoa'!O6:S6)+SUM('2011 syoa'!DC6:DG6)","v":2684},{"$f":"SUM('2011 syoa'!T6:X6)+SUM('2011 syoa'!DH6:DL6)","v":2928},{"$f":"SUM('2011 syoa'!Y6:AC6)+SUM('2011 syoa'!DM6:DQ6)","v":4314},{"$f":"SUM('2011 syoa'!AD6:AH6)+SUM('2011 syoa'!DR6:DV6)","v":2816},{"$f":"SUM('2011 syoa'!AI6:AM6)+SUM('2011 syoa'!DW6:EA6)","v":2527},{"$f":"SUM('2011 syoa'!AN6:AR6)+SUM('2011 syoa'!EB6:EF6)","v":2166},{"$f":"SUM('2011 syoa'!AS6:AW6)+SUM('2011 syoa'!EG6:EK6)","v":1964},{"$f":"SUM('2011 syoa'!AX6:BB6)+SUM('2011 syoa'!EL6:EP6)","v":1574},{"$f":"SUM('2011 syoa'!BC6:BG6)+SUM('2011 syoa'!EQ6:EU6)","v":1225},{"$f":"SUM('2011 syoa'!BH6:BL6)+SUM('2011 syoa'!EV6:EZ6)","v":1012},{"$f":"SUM('2011 syoa'!BM6:BQ6)+SUM('2011 syoa'!FA6:FE6)","v":732},{"$f":"SUM('2011 syoa'!BR6:BV6)+SUM('2011 syoa'!FF6:FJ6)","v":560},{"$f":"SUM('2011 syoa'!BW6:CA6)+SUM('2011 syoa'!FK6:FO6)","v":688},{"$f":"SUM('2011 syoa'!CB6:CF6)+SUM('2011 syoa'!FP6:FT6)","v":549},{"$f":"SUM('2011 syoa'!CG6:CK6)+SUM('2011 syoa'!FU6:FY6)","v":380},{"$f":"SUM('2011 syoa'!CL6:CP6)+SUM('2011 syoa'!FZ6:GD6)","v":154},{"$f":"SUM('2011 syoa'!CQ6)+SUM('2011 syoa'!GE6)","v":74}]
["E05001180","Bartley Green","Edgbaston",{"$f":"SUM('2011 syoa'!D7)+SUM('2011 syoa'!CR7)","v":25000},{"$f":"SUM('2011 syoa'!E7:I7)+SUM('2011 syoa'!CS7:CW7)","v":1819},{"$f":"SUM('2011 syoa'!J7:N7)+SUM('2011 syoa'!CX7:DB7)","v":1602},{"$f":"SUM('2011 syoa'!O7:S7)+SUM('2011 syoa'!DC7:DG7)","v":1720},{"$f":"SUM('2011 syoa'!T7:X7)+SUM('2011 syoa'!DH7:DL7)","v":1799},{"$f":"SUM('2011 syoa'!Y7:AC7)+SUM('2011 syoa'!DM7:DQ7)","v":1742},{"$f":"SUM('2011 syoa'!AD7:AH7)+SUM('2011 syoa'!DR7:DV7)","v":1643},{"$f":"SUM('2011 syoa'!AI7:AM7)+SUM('2011 syoa'!DW7:EA7)","v":1744},{"$f":"SUM('2011 syoa'!AN7:AR7)+SUM('2011 syoa'!EB7:EF7)","v":1668},{"$f":"SUM('2011 syoa'!AS7:AW7)+SUM('2011 syoa'!EG7:EK7)","v":1690},{"$f":"SUM('2011 syoa'!AX7:BB7)+SUM('2011 syoa'!EL7:EP7)","v":1599},{"$f":"SUM('2011 syoa'!BC7:BG7)+SUM('2011 syoa'!EQ7:EU7)","v":1478},{"$f":"SUM('2011 syoa'!BH7:BL7)+SUM('2011 syoa'!EV7:EZ7)","v":1402},{"$f":"SUM('2011 syoa'!BM7:BQ7)+SUM('2011 syoa'!FA7:FE7)","v":1477},{"$f":"SUM('2011 syoa'!BR7:BV7)+SUM('2011 syoa'!FF7:FJ7)","v":1121},{"$f":"SUM('2011 syoa'!BW7:CA7)+SUM('2011 syoa'!FK7:FO7)","v":773},{"$f":"SUM('2011 syoa'!CB7:CF7)+SUM('2011 syoa'!FP7:FT7)","v":651},{"$f":"SUM('2011 syoa'!CG7:CK7)+SUM('2011 syoa'!FU7:FY7)","v":568},{"$f":"SUM('2011 syoa'!CL7:CP7)+SUM('2011 syoa'!FZ7:GD7)","v":335},{"$f":"SUM('2011 syoa'!CQ7)+SUM('2011 syoa'!GE7)","v":169}]
["E05001181","Billesley","Selly Oak",{"$f":"SUM('2011 syoa'!D8)+SUM('2011 syoa'!CR8)","v":26559},{"$f":"SUM('2011 syoa'!E8:I8)+SUM('2011 syoa'!CS8:CW8)","v":1858},{"$f":"SUM('2011 syoa'!J8:N8)+SUM('2011 syoa'!CX8:DB8)","v":1690},{"$f":"SUM('2011 syoa'!O8:S8)+SUM('2011 syoa'!DC8:DG8)","v":1873},{"$f":"SUM('2011 syoa'!T8:X8)+SUM('2011 syoa'!DH8:DL8)","v":1869},{"$f":"SUM('2011 syoa'!Y8:AC8)+SUM('2011 syoa'!DM8:DQ8)","v":1713},{"$f":"SUM('2011 syoa'!AD8:AH8)+SUM('2011 syoa'!DR8:DV8)","v":1857},{"$f":"SUM('2011 syoa'!AI8:AM8)+SUM('2011 syoa'!DW8:EA8)","v":1755},{"$f":"SUM('2011 syoa'!AN8:AR8)+SUM('2011 syoa'!EB8:EF8)","v":1660},{"$f":"SUM('2011 syoa'!AS8:AW8)+SUM('2011 syoa'!EG8:EK8)","v":1856},{"$f":"SUM('2011 syoa'!AX8:BB8)+SUM('2011 syoa'!EL8:EP8)","v":1903},{"$f":"SUM('2011 syoa'!BC8:BG8)+SUM('2011 syoa'!EQ8:EU8)","v":1662},{"$f":"SUM('2011 syoa'!BH8:BL8)+SUM('2011 syoa'!EV8:EZ8)","v":1421},{"$f":"SUM('2011 syoa'!BM8:BQ8)+SUM('2011 syoa'!FA8:FE8)","v":1328},{"$f":"SUM('2011 syoa'!BR8:BV8)+SUM('2011 syoa'!FF8:FJ8)","v":1041},{"$f":"SUM('2011 syoa'!BW8:CA8)+SUM('2011 syoa'!FK8:FO8)","v":956},{"$f":"SUM('2011 syoa'!CB8:CF8)+SUM('2011 syoa'!FP8:FT8)","v":828},{"$f":"SUM('2011 syoa'!CG8:CK8)+SUM('2011 syoa'!FU8:FY8)","v":648},{"$f":"SUM('2011 syoa'!CL8:CP8)+SUM('2011 syoa'!FZ8:GD8)","v":438},{"$f":"SUM('2011 syoa'!CQ8)+SUM('2011 syoa'!GE8)","v":203}]
["E05001182","Bordesley Green","Hodge Hill",{"$f":"SUM('2011 syoa'!D9)+SUM('2011 syoa'!CR9)","v":34041},{"$f":"SUM('2011 syoa'!E9:I9)+SUM('2011 syoa'!CS9:CW9)","v":3671},{"$f":"SUM('2011 syoa'!J9:N9)+SUM('2011 syoa'!CX9:DB9)","v":3641},{"$f":"SUM('2011 syoa'!O9:S9)+SUM('2011 syoa'!DC9:DG9)","v":3496},{"$f":"SUM('2011 syoa'!T9:X9)+SUM('2011 syoa'!DH9:DL9)","v":3031},{"$f":"SUM('2011 syoa'!Y9:AC9)+SUM('2011 syoa'!DM9:DQ9)","v":2591},{"$f":"SUM('2011 syoa'!AD9:AH9)+SUM('2011 syoa'!DR9:DV9)","v":2777},{"$f":"SUM('2011 syoa'!AI9:AM9)+SUM('2011 syoa'!DW9:EA9)","v":2698},{"$f":"SUM('2011 syoa'!AN9:AR9)+SUM('2011 syoa'!EB9:EF9)","v":2379},{"$f":"SUM('2011 syoa'!AS9:AW9)+SUM('2011 syoa'!EG9:EK9)","v":2164},{"$f":"SUM('2011 syoa'!AX9:BB9)+SUM('2011 syoa'!EL9:EP9)","v":1472},{"$f":"SUM('2011 syoa'!BC9:BG9)+SUM('2011 syoa'!EQ9:EU9)","v":1327},{"$f":"SUM('2011 syoa'!BH9:BL9)+SUM('2011 syoa'!EV9:EZ9)","v":1134},{"$f":"SUM('2011 syoa'!BM9:BQ9)+SUM('2011 syoa'!FA9:FE9)","v":792},{"$f":"SUM('2011 syoa'!BR9:BV9)+SUM('2011 syoa'!FF9:FJ9)","v":627},{"$f":"SUM('2011 syoa'!BW9:CA9)+SUM('2011 syoa'!FK9:FO9)","v":755},{"$f":"SUM('2011 syoa'!CB9:CF9)+SUM('2011 syoa'!FP9:FT9)","v":715},{"$f":"SUM('2011 syoa'!CG9:CK9)+SUM('2011 syoa'!FU9:FY9)","v":463},{"$f":"SUM('2011 syoa'!CL9:CP9)+SUM('2011 syoa'!FZ9:GD9)","v":200},{"$f":"SUM('2011 syoa'!CQ9)+SUM('2011 syoa'!GE9)","v":108}]
["E05001183","Bournville","Selly Oak",{"$f":"SUM('2011 syoa'!D10)+SUM('2011 syoa'!CR10)","v":25954},{"$f":"SUM('2011 syoa'!E10:I10)+SUM('2011 syoa'!CS10:CW10)","v":1653},{"$f":"SUM('2011 syoa'!J10:N10)+SUM('2011 syoa'!CX10:DB10)","v":1475},{"$f":"SUM('2011 syoa'!O10:S10)+SUM('2011 syoa'!DC10:DG10)","v":1526},{"$f":"SUM('2011 syoa'!T10:X10)+SUM('2011 syoa'!DH10:DL10)","v":1583},{"$f":"SUM('2011 syoa'!Y10:AC10)+SUM('2011 syoa'!DM10:DQ10)","v":1504},{"$f":"SUM('2011 syoa'!AD10:AH10)+SUM('2011 syoa'!DR10:DV10)","v":1826},{"$f":"SUM('2011 syoa'!AI10:AM10)+SUM('2011 syoa'!DW10:EA10)","v":1845},{"$f":"SUM('2011 syoa'!AN10:AR10)+SUM('2011 syoa'!EB10:EF10)","v":1861},{"$f":"SUM('2011 syoa'!AS10:AW10)+SUM('2011 syoa'!EG10:EK10)","v":1965},{"$f":"SUM('2011 syoa'!AX10:BB10)+SUM('2011 syoa'!EL10:EP10)","v":1941},{"$f":"SUM('2011 syoa'!BC10:BG10)+SUM('2011 syoa'!EQ10:EU10)","v":1704},{"$f":"SUM('2011 syoa'!BH10:BL10)+SUM('2011 syoa'!EV10:EZ10)","v":1493},{"$f":"SUM('2011 syoa'!BM10:BQ10)+SUM('2011 syoa'!FA10:FE10)","v":1488},{"$f":"SUM('2011 syoa'!BR10:BV10)+SUM('2011 syoa'!FF10:FJ10)","v":1143},{"$f":"SUM('2011 syoa'!BW10:CA10)+SUM('2011 syoa'!FK10:FO10)","v":886},{"$f":"SUM('2011 syoa'!CB10:CF10)+SUM('2011 syoa'!FP10:FT10)","v":734},{"$f":"SUM('2011 syoa'!CG10:CK10)+SUM('2011 syoa'!FU10:FY10)","v":628},{"$f":"SUM('2011 syoa'!CL10:CP10)+SUM('2011 syoa'!FZ10:GD10)","v":441},{"$f":"SUM('2011 syoa'!CQ10)+SUM('2011 syoa'!GE10)","v":258}]
["E05001184","Brandwood","Selly Oak",{"$f":"SUM('2011 syoa'!D11)+SUM('2011 syoa'!CR11)","v":25715},{"$f":"SUM('2011 syoa'!E11:I11)+SUM('2011 syoa'!CS11:CW11)","v":1921},{"$f":"SUM('2011 syoa'!J11:N11)+SUM('2011 syoa'!CX11:DB11)","v":1637},{"$f":"SUM('2011 syoa'!O11:S11)+SUM('2011 syoa'!DC11:DG11)","v":1661},{"$f":"SUM('2011 syoa'!T11:X11)+SUM('2011 syoa'!DH11:DL11)","v":1685},{"$f":"SUM('2011 syoa'!Y11:AC11)+SUM('2011 syoa'!DM11:DQ11)","v":1514},{"$f":"SUM('2011 syoa'!AD11:AH11)+SUM('2011 syoa'!DR11:DV11)","v":1638},{"$f":"SUM('2011 syoa'!AI11:AM11)+SUM('2011 syoa'!DW11:EA11)","v":1859},{"$f":"SUM('2011 syoa'!AN11:AR11)+SUM('2011 syoa'!EB11:EF11)","v":1749},{"$f":"SUM('2011 syoa'!AS11:AW11)+SUM('2011 syoa'!EG11:EK11)","v":1968},{"$f":"SUM('2011 syoa'!AX11:BB11)+SUM('2011 syoa'!EL11:EP11)","v":1848},{"$f":"SUM('2011 syoa'!BC11:BG11)+SUM('2011 syoa'!EQ11:EU11)","v":1571},{"$f":"SUM('2011 syoa'!BH11:BL11)+SUM('2011 syoa'!EV11:EZ11)","v":1348},{"$f":"SUM('2011 syoa'!BM11:BQ11)+SUM('2011 syoa'!FA11:FE11)","v":1347},{"$f":"SUM('2011 syoa'!BR11:BV11)+SUM('2011 syoa'!FF11:FJ11)","v":1151},{"$f":"SUM('2011 syoa'!BW11:CA11)+SUM('2011 syoa'!FK11:FO11)","v":953},{"$f":"SUM('2011 syoa'!CB11:CF11)+SUM('2011 syoa'!FP11:FT11)","v":757},{"$f":"SUM('2011 syoa'!CG11:CK11)+SUM('2011 syoa'!FU11:FY11)","v":602},{"$f":"SUM('2011 syoa'!CL11:CP11)+SUM('2011 syoa'!FZ11:GD11)","v":333},{"$f":"SUM('2011 syoa'!CQ11)+SUM('2011 syoa'!GE11)","v":173}]
["E05001185","Edgbaston","Edgbaston",{"$f":"SUM('2011 syoa'!D12)+SUM('2011 syoa'!CR12)","v":24499},{"$f":"SUM('2011 syoa'!E12:I12)+SUM('2011 syoa'!CS12:CW12)","v":1156},{"$f":"SUM('2011 syoa'!J12:N12)+SUM('2011 syoa'!CX12:DB12)","v":835},{"$f":"SUM('2011 syoa'!O12:S12)+SUM('2011 syoa'!DC12:DG12)","v":907},{"$f":"SUM('2011 syoa'!T12:X12)+SUM('2011 syoa'!DH12:DL12)","v":4181},{"$f":"SUM('2011 syoa'!Y12:AC12)+SUM('2011 syoa'!DM12:DQ12)","v":3717},{"$f":"SUM('2011 syoa'!AD12:AH12)+SUM('2011 syoa'!DR12:DV12)","v":2269},{"$f":"SUM('2011 syoa'!AI12:AM12)+SUM('2011 syoa'!DW12:EA12)","v":1810},{"$f":"SUM('2011 syoa'!AN12:AR12)+SUM('2011 syoa'!EB12:EF12)","v":1370},{"$f":"SUM('2011 syoa'!AS12:AW12)+SUM('2011 syoa'!EG12:EK12)","v":1246},{"$f":"SUM('2011 syoa'!AX12:BB12)+SUM('2011 syoa'!EL12:EP12)","v":1309},{"$f":"SUM('2011 syoa'!BC12:BG12)+SUM('2011 syoa'!EQ12:EU12)","v":1026},{"$f":"SUM('2011 syoa'!BH12:BL12)+SUM('2011 syoa'!EV12:EZ12)","v":949},{"$f":"SUM('2011 syoa'!BM12:BQ12)+SUM('2011 syoa'!FA12:FE12)","v":958},{"$f":"SUM('2011 syoa'!BR12:BV12)+SUM('2011 syoa'!FF12:FJ12)","v":790},{"$f":"SUM('2011 syoa'!BW12:CA12)+SUM('2011 syoa'!FK12:FO12)","v":672},{"$f":"SUM('2011 syoa'!CB12:CF12)+SUM('2011 syoa'!FP12:FT12)","v":468},{"$f":"SUM('2011 syoa'!CG12:CK12)+SUM('2011 syoa'!FU12:FY12)","v":409},{"$f":"SUM('2011 syoa'!CL12:CP12)+SUM('2011 syoa'!FZ12:GD12)","v":278},{"$f":"SUM('2011 syoa'!CQ12)+SUM('2011 syoa'!GE12)","v":149}]
["E05001186","Erdington","Erdington",{"$f":"SUM('2011 syoa'!D13)+SUM('2011 syoa'!CR13)","v":22802},{"$f":"SUM('2011 syoa'!E13:I13)+SUM('2011 syoa'!CS13:CW13)","v":1688},{"$f":"SUM('2011 syoa'!J13:N13)+SUM('2011 syoa'!CX13:DB13)","v":1278},{"$f":"SUM('2011 syoa'!O13:S13)+SUM('2011 syoa'!DC13:DG13)","v":1236},{"$f":"SUM('2011 syoa'!T13:X13)+SUM('2011 syoa'!DH13:DL13)","v":1380},{"$f":"SUM('2011 syoa'!Y13:AC13)+SUM('2011 syoa'!DM13:DQ13)","v":1421},{"$f":"SUM('2011 syoa'!AD13:AH13)+SUM('2011 syoa'!DR13:DV13)","v":1763},{"$f":"SUM('2011 syoa'!AI13:AM13)+SUM('2011 syoa'!DW13:EA13)","v":1647},{"$f":"SUM('2011 syoa'!AN13:AR13)+SUM('2011 syoa'!EB13:EF13)","v":1500},{"$f":"SUM('2011 syoa'!AS13:AW13)+SUM('2011 syoa'!EG13:EK13)","v":1603},{"$f":"SUM('2011 syoa'!AX13:BB13)+SUM('2011 syoa'!EL13:EP13)","v":1686},{"$f":"SUM('2011 syoa'!BC13:BG13)+SUM('2011 syoa'!EQ13:EU13)","v":1521},{"$f":"SUM('2011 syoa'!BH13:BL13)+SUM('2011 syoa'!EV13:EZ13)","v":1205},{"$f":"SUM('2011 syoa'!BM13:BQ13)+SUM('2011 syoa'!FA13:FE13)","v":1165},{"$f":"SUM('2011 syoa'!BR13:BV13)+SUM('2011 syoa'!FF13:FJ13)","v":1002},{"$f":"SUM('2011 syoa'!BW13:CA13)+SUM('2011 syoa'!FK13:FO13)","v":807},{"$f":"SUM('2011 syoa'!CB13:CF13)+SUM('2011 syoa'!FP13:FT13)","v":749},{"$f":"SUM('2011 syoa'!CG13:CK13)+SUM('2011 syoa'!FU13:FY13)","v":563},{"$f":"SUM('2011 syoa'!CL13:CP13)+SUM('2011 syoa'!FZ13:GD13)","v":400},{"$f":"SUM('2011 syoa'!CQ13)+SUM('2011 syoa'!GE13)","v":188}]
["E05001187","Hall Green","Hall Green",{"$f":"SUM('2011 syoa'!D14)+SUM('2011 syoa'!CR14)","v":26452},{"$f":"SUM('2011 syoa'!E14:I14)+SUM('2011 syoa'!CS14:CW14)","v":1823},{"$f":"SUM('2011 syoa'!J14:N14)+SUM('2011 syoa'!CX14:DB14)","v":1817},{"$f":"SUM('2011 syoa'!O14:S14)+SUM('2011 syoa'!DC14:DG14)","v":1829},{"$f":"SUM('2011 syoa'!T14:X14)+SUM('2011 syoa'!DH14:DL14)","v":1835},{"$f":"SUM('2011 syoa'!Y14:AC14)+SUM('2011 syoa'!DM14:DQ14)","v":1583},{"$f":"SUM('2011 syoa'!AD14:AH14)+SUM('2011 syoa'!DR14:DV14)","v":1681},{"$f":"SUM('2011 syoa'!AI14:AM14)+SUM('2011 syoa'!DW14:EA14)","v":1796},{"$f":"SUM('2011 syoa'!AN14:AR14)+SUM('2011 syoa'!EB14:EF14)","v":1778},{"$f":"SUM('2011 syoa'!AS14:AW14)+SUM('2011 syoa'!EG14:EK14)","v":1890},{"$f":"SUM('2011 syoa'!AX14:BB14)+SUM('2011 syoa'!EL14:EP14)","v":1838},{"$f":"SUM('2011 syoa'!BC14:BG14)+SUM('2011 syoa'!EQ14:EU14)","v":1702},{"$f":"SUM('2011 syoa'!BH14:BL14)+SUM('2011 syoa'!EV14:EZ14)","v":1475},{"$f":"SUM('2011 syoa'!BM14:BQ14)+SUM('2011 syoa'!FA14:FE14)","v":1355},{"$f":"SUM('2011 syoa'!BR14:BV14)+SUM('2011 syoa'!FF14:FJ14)","v":1139},{"$f":"SUM('2011 syoa'!BW14:CA14)+SUM('2011 syoa'!FK14:FO14)","v":884},{"$f":"SUM('2011 syoa'!CB14:CF14)+SUM('2011 syoa'!FP14:FT14)","v":835},{"$f":"SUM('2011 syoa'!CG14:CK14)+SUM('2011 syoa'!FU14:FY14)","v":648},{"$f":"SUM('2011 syoa'!CL14:CP14)+SUM('2011 syoa'!FZ14:GD14)","v":352},{"$f":"SUM('2011 syoa'!CQ14)+SUM('2011 syoa'!GE14)","v":192}]
["E05001188","Handsworth Wood","Perry Barr",{"$f":"SUM('2011 syoa'!D15)+SUM('2011 syoa'!CR15)","v":27838},{"$f":"SUM('2011 syoa'!E15:I15)+SUM('2011 syoa'!CS15:CW15)","v":1905},{"$f":"SUM('2011 syoa'!J15:N15)+SUM('2011 syoa'!CX15:DB15)","v":1770},{"$f":"SUM('2011 syoa'!O15:S15)+SUM('2011 syoa'!DC15:DG15)","v":1894},{"$f":"SUM('2011 syoa'!T15:X15)+SUM('2011 syoa'!DH15:DL15)","v":2200},{"$f":"SUM('2011 syoa'!Y15:AC15)+SUM('2011 syoa'!DM15:DQ15)","v":2306},{"$f":"SUM('2011 syoa'!AD15:AH15)+SUM('2011 syoa'!DR15:DV15)","v":2527},{"$f":"SUM('2011 syoa'!AI15:AM15)+SUM('2011 syoa'!DW15:EA15)","v":2115},{"$f":"SUM('2011 syoa'!AN15:AR15)+SUM('2011 syoa'!EB15:EF15)","v":1903},{"$f":"SUM('2011 syoa'!AS15:AW15)+SUM('2011 syoa'!EG15:EK15)","v":1876},{"$f":"SUM('2011 syoa'!AX15:BB15)+SUM('2011 syoa'!EL15:EP15)","v":1950},{"$f":"SUM('2011 syoa'!BC15:BG15)+SUM('2011 syoa'!EQ15:EU15)","v":1675},{"$f":"SUM('2011 syoa'!BH15:BL15)+SUM('2011 syoa'!EV15:EZ15)","v":1479},{"$f":"SUM('2011 syoa'!BM15:BQ15)+SUM('2011 syoa'!FA15:FE15)","v":1072},{"$f":"SUM('2011 syoa'!BR15:BV15)+SUM('2011 syoa'!FF15:FJ15)","v":749},{"$f":"SUM('2011 syoa'!BW15:CA15)+SUM('2011 syoa'!FK15:FO15)","v":779},{"$f":"SUM('2011 syoa'!CB15:CF15)+SUM('2011 syoa'!FP15:FT15)","v":710},{"$f":"SUM('2011 syoa'!CG15:CK15)+SUM('2011 syoa'!FU15:FY15)","v":490},{"$f":"SUM('2011 syoa'!CL15:CP15)+SUM('2011 syoa'!FZ15:GD15)","v":304},{"$f":"SUM('2011 syoa'!CQ15)+SUM('2011 syoa'!GE15)","v":134}]
["E05001189","Harborne","Edgbaston",{"$f":"SUM('2011 syoa'!D16)+SUM('2011 syoa'!CR16)","v":22995},{"$f":"SUM('2011 syoa'!E16:I16)+SUM('2011 syoa'!CS16:CW16)","v":1387},{"$f":"SUM('2011 syoa'!J16:N16)+SUM('2011 syoa'!CX16:DB16)","v":1175},{"$f":"SUM('2011 syoa'!O16:S16)+SUM('2011 syoa'!DC16:DG16)","v":1063},{"$f":"SUM('2011 syoa'!T16:X16)+SUM('2011 syoa'!DH16:DL16)","v":1064},{"$f":"SUM('2011 syoa'!Y16:AC16)+SUM('2011 syoa'!DM16:DQ16)","v":2150},{"$f":"SUM('2011 syoa'!AD16:AH16)+SUM('2011 syoa'!DR16:DV16)","v":2646},{"$f":"SUM('2011 syoa'!AI16:AM16)+SUM('2011 syoa'!DW16:EA16)","v":2186},{"$f":"SUM('2011 syoa'!AN16:AR16)+SUM('2011 syoa'!EB16:EF16)","v":1664},{"$f":"SUM('2011 syoa'!AS16:AW16)+SUM('2011 syoa'!EG16:EK16)","v":1528},{"$f":"SUM('2011 syoa'!AX16:BB16)+SUM('2011 syoa'!EL16:EP16)","v":1410},{"$f":"SUM('2011 syoa'!BC16:BG16)+SUM('2011 syoa'!EQ16:EU16)","v":1220},{"$f":"SUM('2011 syoa'!BH16:BL16)+SUM('2011 syoa'!EV16:EZ16)","v":1134},{"$f":"SUM('2011 syoa'!BM16:BQ16)+SUM('2011 syoa'!FA16:FE16)","v":1118},{"$f":"SUM('2011 syoa'!BR16:BV16)+SUM('2011 syoa'!FF16:FJ16)","v":838},{"$f":"SUM('2011 syoa'!BW16:CA16)+SUM('2011 syoa'!FK16:FO16)","v":730},{"$f":"SUM('2011 syoa'!CB16:CF16)+SUM('2011 syoa'!FP16:FT16)","v":565},{"$f":"SUM('2011 syoa'!CG16:CK16)+SUM('2011 syoa'!FU16:FY16)","v":511},{"$f":"SUM('2011 syoa'!CL16:CP16)+SUM('2011 syoa'!FZ16:GD16)","v":381},{"$f":"SUM('2011 syoa'!CQ16)+SUM('2011 syoa'!GE16)","v":225}]
["E05001190","Hodge Hill","Hodge Hill",{"$f":"SUM('2011 syoa'!D17)+SUM('2011 syoa'!CR17)","v":28087},{"$f":"SUM('2011 syoa'!E17:I17)+SUM('2011 syoa'!CS17:CW17)","v":2669},{"$f":"SUM('2011 syoa'!J17:N17)+SUM('2011 syoa'!CX17:DB17)","v":2558},{"$f":"SUM('2011 syoa'!O17:S17)+SUM('2011 syoa'!DC17:DG17)","v":2372},{"$f":"SUM('2011 syoa'!T17:X17)+SUM('2011 syoa'!DH17:DL17)","v":2127},{"$f":"SUM('2011 syoa'!Y17:AC17)+SUM('2011 syoa'!DM17:DQ17)","v":1874},{"$f":"SUM('2011 syoa'!AD17:AH17)+SUM('2011 syoa'!DR17:DV17)","v":2047},{"$f":"SUM('2011 syoa'!AI17:AM17)+SUM('2011 syoa'!DW17:EA17)","v":1977},{"$f":"SUM('2011 syoa'!AN17:AR17)+SUM('2011 syoa'!EB17:EF17)","v":1785},{"$f":"SUM('2011 syoa'!AS17:AW17)+SUM('2011 syoa'!EG17:EK17)","v":1908},{"$f":"SUM('2011 syoa'!AX17:BB17)+SUM('2011 syoa'!EL17:EP17)","v":1590},{"$f":"SUM('2011 syoa'!BC17:BG17)+SUM('2011 syoa'!EQ17:EU17)","v":1403},{"$f":"SUM('2011 syoa'!BH17:BL17)+SUM('2011 syoa'!EV17:EZ17)","v":1169},{"$f":"SUM('2011 syoa'!BM17:BQ17)+SUM('2011 syoa'!FA17:FE17)","v":1085},{"$f":"SUM('2011 syoa'!BR17:BV17)+SUM('2011 syoa'!FF17:FJ17)","v":911},{"$f":"SUM('2011 syoa'!BW17:CA17)+SUM('2011 syoa'!FK17:FO17)","v":853},{"$f":"SUM('2011 syoa'!CB17:CF17)+SUM('2011 syoa'!FP17:FT17)","v":704},{"$f":"SUM('2011 syoa'!CG17:CK17)+SUM('2011 syoa'!FU17:FY17)","v":559},{"$f":"SUM('2011 syoa'!CL17:CP17)+SUM('2011 syoa'!FZ17:GD17)","v":328},{"$f":"SUM('2011 syoa'!CQ17)+SUM('2011 syoa'!GE17)","v":168}]
["E05001191","Kings Norton","Northfield",{"$f":"SUM('2011 syoa'!D18)+SUM('2011 syoa'!CR18)","v":24402},{"$f":"SUM('2011 syoa'!E18:I18)+SUM('2011 syoa'!CS18:CW18)","v":1948},{"$f":"SUM('2011 syoa'!J18:N18)+SUM('2011 syoa'!CX18:DB18)","v":1566},{"$f":"SUM('2011 syoa'!O18:S18)+SUM('2011 syoa'!DC18:DG18)","v":1656},{"$f":"SUM('2011 syoa'!T18:X18)+SUM('2011 syoa'!DH18:DL18)","v":1631},{"$f":"SUM('2011 syoa'!Y18:AC18)+SUM('2011 syoa'!DM18:DQ18)","v":1495},{"$f":"SUM('2011 syoa'!AD18:AH18)+SUM('2011 syoa'!DR18:DV18)","v":1607},{"$f":"SUM('2011 syoa'!AI18:AM18)+SUM('2011 syoa'!DW18:EA18)","v":1625},{"$f":"SUM('2011 syoa'!AN18:AR18)+SUM('2011 syoa'!EB18:EF18)","v":1560},{"$f":"SUM('2011 syoa'!AS18:AW18)+SUM('2011 syoa'!EG18:EK18)","v":1714},{"$f":"SUM('2011 syoa'!AX18:BB18)+SUM('2011 syoa'!EL18:EP18)","v":1625},{"$f":"SUM('2011 syoa'!BC18:BG18)+SUM('2011 syoa'!EQ18:EU18)","v":1385},{"$f":"SUM('2011 syoa'!BH18:BL18)+SUM('2011 syoa'!EV18:EZ18)","v":1315},{"$f":"SUM('2011 syoa'!BM18:BQ18)+SUM('2011 syoa'!FA18:FE18)","v":1485},{"$f":"SUM('2011 syoa'!BR18:BV18)+SUM('2011 syoa'!FF18:FJ18)","v":1181},{"$f":"SUM('2011 syoa'!BW18:CA18)+SUM('2011 syoa'!FK18:FO18)","v":847},{"$f":"SUM('2011 syoa'!CB18:CF18)+SUM('2011 syoa'!FP18:FT18)","v":702},{"$f":"SUM('2011 syoa'!CG18:CK18)+SUM('2011 syoa'!FU18:FY18)","v":538},{"$f":"SUM('2011 syoa'!CL18:CP18)+SUM('2011 syoa'!FZ18:GD18)","v":356},{"$f":"SUM('2011 syoa'!CQ18)+SUM('2011 syoa'!GE18)","v":166}]
["E05001192","Kingstanding","Erdington",{"$f":"SUM('2011 syoa'!D19)+SUM('2011 syoa'!CR19)","v":25332},{"$f":"SUM('2011 syoa'!E19:I19)+SUM('2011 syoa'!CS19:CW19)","v":2068},{"$f":"SUM('2011 syoa'!J19:N19)+SUM('2011 syoa'!CX19:DB19)","v":1911},{"$f":"SUM('2011 syoa'!O19:S19)+SUM('2011 syoa'!DC19:DG19)","v":1960},{"$f":"SUM('2011 syoa'!T19:X19)+SUM('2011 syoa'!DH19:DL19)","v":2011},{"$f":"SUM('2011 syoa'!Y19:AC19)+SUM('2011 syoa'!DM19:DQ19)","v":1692},{"$f":"SUM('2011 syoa'!AD19:AH19)+SUM('2011 syoa'!DR19:DV19)","v":1660},{"$f":"SUM('2011 syoa'!AI19:AM19)+SUM('2011 syoa'!DW19:EA19)","v":1655},{"$f":"SUM('2011 syoa'!AN19:AR19)+SUM('2011 syoa'!EB19:EF19)","v":1552},{"$f":"SUM('2011 syoa'!AS19:AW19)+SUM('2011 syoa'!EG19:EK19)","v":1722},{"$f":"SUM('2011 syoa'!AX19:BB19)+SUM('2011 syoa'!EL19:EP19)","v":1811},{"$f":"SUM('2011 syoa'!BC19:BG19)+SUM('2011 syoa'!EQ19:EU19)","v":1534},{"$f":"SUM('2011 syoa'!BH19:BL19)+SUM('2011 syoa'!EV19:EZ19)","v":1241},{"$f":"SUM('2011 syoa'!BM19:BQ19)+SUM('2011 syoa'!FA19:FE19)","v":1124},{"$f":"SUM('2011 syoa'!BR19:BV19)+SUM('2011 syoa'!FF19:FJ19)","v":982},{"$f":"SUM('2011 syoa'!BW19:CA19)+SUM('2011 syoa'!FK19:FO19)","v":787},{"$f":"SUM('2011 syoa'!CB19:CF19)+SUM('2011 syoa'!FP19:FT19)","v":647},{"$f":"SUM('2011 syoa'!CG19:CK19)+SUM('2011 syoa'!FU19:FY19)","v":525},{"$f":"SUM('2011 syoa'!CL19:CP19)+SUM('2011 syoa'!FZ19:GD19)","v":295},{"$f":"SUM('2011 syoa'!CQ19)+SUM('2011 syoa'!GE19)","v":155}]
["E05001193","Ladywood","Ladywood",{"$f":"SUM('2011 syoa'!D20)+SUM('2011 syoa'!CR20)","v":30180},{"$f":"SUM('2011 syoa'!E20:I20)+SUM('2011 syoa'!CS20:CW20)","v":1533},{"$f":"SUM('2011 syoa'!J20:N20)+SUM('2011 syoa'!CX20:DB20)","v":989},{"$f":"SUM('2011 syoa'!O20:S20)+SUM('2011 syoa'!DC20:DG20)","v":862},{"$f":"SUM('2011 syoa'!T20:X20)+SUM('2011 syoa'!DH20:DL20)","v":1429},{"$f":"SUM('2011 syoa'!Y20:AC20)+SUM('2011 syoa'!DM20:DQ20)","v":6214},{"$f":"SUM('2011 syoa'!AD20:AH20)+SUM('2011 syoa'!DR20:DV20)","v":6175},{"$f":"SUM('2011 syoa'!AI20:AM20)+SUM('2011 syoa'!DW20:EA20)","v":3888},{"$f":"SUM('2011 syoa'!AN20:AR20)+SUM('2011 syoa'!EB20:EF20)","v":2145},{"$f":"SUM('2011 syoa'!AS20:AW20)+SUM('2011 syoa'!EG20:EK20)","v":1583},{"$f":"SUM('2011 syoa'!AX20:BB20)+SUM('2011 syoa'!EL20:EP20)","v":1440},{"$f":"SUM('2011 syoa'!BC20:BG20)+SUM('2011 syoa'!EQ20:EU20)","v":1065},{"$f":"SUM('2011 syoa'!BH20:BL20)+SUM('2011 syoa'!EV20:EZ20)","v":767},{"$f":"SUM('2011 syoa'!BM20:BQ20)+SUM('2011 syoa'!FA20:FE20)","v":602},{"$f":"SUM('2011 syoa'!BR20:BV20)+SUM('2011 syoa'!FF20:FJ20)","v":477},{"$f":"SUM('2011 syoa'!BW20:CA20)+SUM('2011 syoa'!FK20:FO20)","v":341},{"$f":"SUM('2011 syoa'!CB20:CF20)+SUM('2011 syoa'!FP20:FT20)","v":295},{"$f":"SUM('2011 syoa'!CG20:CK20)+SUM('2011 syoa'!FU20:FY20)","v":209},{"$f":"SUM('2011 syoa'!CL20:CP20)+SUM('2011 syoa'!FZ20:GD20)","v":107},{"$f":"SUM('2011 syoa'!CQ20)+SUM('2011 syoa'!GE20)","v":59}]
["E05001194","Longbridge","Northfield",{"$f":"SUM('2011 syoa'!D21)+SUM('2011 syoa'!CR21)","v":25451},{"$f":"SUM('2011 syoa'!E21:I21)+SUM('2011 syoa'!CS21:CW21)","v":1878},{"$f":"SUM('2011 syoa'!J21:N21)+SUM('2011 syoa'!CX21:DB21)","v":1626},{"$f":"SUM('2011 syoa'!O21:S21)+SUM('2011 syoa'!DC21:DG21)","v":1686},{"$f":"SUM('2011 syoa'!T21:X21)+SUM('2011 syoa'!DH21:DL21)","v":1700},{"$f":"SUM('2011 syoa'!Y21:AC21)+SUM('2011 syoa'!DM21:DQ21)","v":1503},{"$f":"SUM('2011 syoa'!AD21:AH21)+SUM('2011 syoa'!DR21:DV21)","v":1749},{"$f":"SUM('2011 syoa'!AI21:AM21)+SUM('2011 syoa'!DW21:EA21)","v":1913},{"$f":"SUM('2011 syoa'!AN21:AR21)+SUM('2011 syoa'!EB21:EF21)","v":1810},{"$f":"SUM('2011 syoa'!AS21:AW21)+SUM('2011 syoa'!EG21:EK21)","v":1829},{"$f":"SUM('2011 syoa'!AX21:BB21)+SUM('2011 syoa'!EL21:EP21)","v":1809},{"$f":"SUM('2011 syoa'!BC21:BG21)+SUM('2011 syoa'!EQ21:EU21)","v":1602},{"$f":"SUM('2011 syoa'!BH21:BL21)+SUM('2011 syoa'!EV21:EZ21)","v":1493},{"$f":"SUM('2011 syoa'!BM21:BQ21)+SUM('2011 syoa'!FA21:FE21)","v":1420},{"$f":"SUM('2011 syoa'!BR21:BV21)+SUM('2011 syoa'!FF21:FJ21)","v":1058},{"$f":"SUM('2011 syoa'!BW21:CA21)+SUM('2011 syoa'!FK21:FO21)","v":765},{"$f":"SUM('2011 syoa'!CB21:CF21)+SUM('2011 syoa'!FP21:FT21)","v":638},{"$f":"SUM('2011 syoa'!CG21:CK21)+SUM('2011 syoa'!FU21:FY21)","v":540},{"$f":"SUM('2011 syoa'!CL21:CP21)+SUM('2011 syoa'!FZ21:GD21)","v":303},{"$f":"SUM('2011 syoa'!CQ21)+SUM('2011 syoa'!GE21)","v":129}]
["E05001195","Lozells and East Handsworth","Perry Barr",{"$f":"SUM('2011 syoa'!D22)+SUM('2011 syoa'!CR22)","v":31188},{"$f":"SUM('2011 syoa'!E22:I22)+SUM('2011 syoa'!CS22:CW22)","v":2863},{"$f":"SUM('2011 syoa'!J22:N22)+SUM('2011 syoa'!CX22:DB22)","v":2834},{"$f":"SUM('2011 syoa'!O22:S22)+SUM('2011 syoa'!DC22:DG22)","v":2679},{"$f":"SUM('2011 syoa'!T22:X22)+SUM('2011 syoa'!DH22:DL22)","v":2558},{"$f":"SUM('2011 syoa'!Y22:AC22)+SUM('2011 syoa'!DM22:DQ22)","v":2777},{"$f":"SUM('2011 syoa'!AD22:AH22)+SUM('2011 syoa'!DR22:DV22)","v":2852},{"$f":"SUM('2011 syoa'!AI22:AM22)+SUM('2011 syoa'!DW22:EA22)","v":2677},{"$f":"SUM('2011 syoa'!AN22:AR22)+SUM('2011 syoa'!EB22:EF22)","v":2343},{"$f":"SUM('2011 syoa'!AS22:AW22)+SUM('2011 syoa'!EG22:EK22)","v":1928},{"$f":"SUM('2011 syoa'!AX22:BB22)+SUM('2011 syoa'!EL22:EP22)","v":1734},{"$f":"SUM('2011 syoa'!BC22:BG22)+SUM('2011 syoa'!EQ22:EU22)","v":1357},{"$f":"SUM('2011 syoa'!BH22:BL22)+SUM('2011 syoa'!EV22:EZ22)","v":1164},{"$f":"SUM('2011 syoa'!BM22:BQ22)+SUM('2011 syoa'!FA22:FE22)","v":769},{"$f":"SUM('2011 syoa'!BR22:BV22)+SUM('2011 syoa'!FF22:FJ22)","v":669},{"$f":"SUM('2011 syoa'!BW22:CA22)+SUM('2011 syoa'!FK22:FO22)","v":709},{"$f":"SUM('2011 syoa'!CB22:CF22)+SUM('2011 syoa'!FP22:FT22)","v":614},{"$f":"SUM('2011 syoa'!CG22:CK22)+SUM('2011 syoa'!FU22:FY22)","v":415},{"$f":"SUM('2011 syoa'!CL22:CP22)+SUM('2011 syoa'!FZ22:GD22)","v":172},{"$f":"SUM('2011 syoa'!CQ22)+SUM('2011 syoa'!GE22)","v":74}]
["E05001196","Moseley and Kings Heath","Hall Green",{"$f":"SUM('2011 syoa'!D23)+SUM('2011 syoa'!CR23)","v":25698},{"$f":"SUM('2011 syoa'!E23:I23)+SUM('2011 syoa'!CS23:CW23)","v":1628},{"$f":"SUM('2011 syoa'!J23:N23)+SUM('2011 syoa'!CX23:DB23)","v":1370},{"$f":"SUM('2011 syoa'!O23:S23)+SUM('2011 syoa'!DC23:DG23)","v":1363},{"$f":"SUM('2011 syoa'!T23:X23)+SUM('2011 syoa'!DH23:DL23)","v":1464},{"$f":"SUM('2011 syoa'!Y23:AC23)+SUM('2011 syoa'!DM23:DQ23)","v":1762},{"$f":"SUM('2011 syoa'!AD23:AH23)+SUM('2011 syoa'!DR23:DV23)","v":2684},{"$f":"SUM('2011 syoa'!AI23:AM23)+SUM('2011 syoa'!DW23:EA23)","v":2426},{"$f":"SUM('2011 syoa'!AN23:AR23)+SUM('2011 syoa'!EB23:EF23)","v":2038},{"$f":"SUM('2011 syoa'!AS23:AW23)+SUM('2011 syoa'!EG23:EK23)","v":1934},{"$f":"SUM('2011 syoa'!AX23:BB23)+SUM('2011 syoa'!EL23:EP23)","v":1746},{"$f":"SUM('2011 syoa'!BC23:BG23)+SUM('2011 syoa'!EQ23:EU23)","v":1534},{"$f":"SUM('2011 syoa'!BH23:BL23)+SUM('2011 syoa'!EV23:EZ23)","v":1425},{"$f":"SUM('2011 syoa'!BM23:BQ23)+SUM('2011 syoa'!FA23:FE23)","v":1234},{"$f":"SUM('2011 syoa'!BR23:BV23)+SUM('2011 syoa'!FF23:FJ23)","v":855},{"$f":"SUM('2011 syoa'!BW23:CA23)+SUM('2011 syoa'!FK23:FO23)","v":686},{"$f":"SUM('2011 syoa'!CB23:CF23)+SUM('2011 syoa'!FP23:FT23)","v":653},{"$f":"SUM('2011 syoa'!CG23:CK23)+SUM('2011 syoa'!FU23:FY23)","v":437},{"$f":"SUM('2011 syoa'!CL23:CP23)+SUM('2011 syoa'!FZ23:GD23)","v":277},{"$f":"SUM('2011 syoa'!CQ23)+SUM('2011 syoa'!GE23)","v":182}]
["E05001197","Nechells","Ladywood",{"$f":"SUM('2011 syoa'!D24)+SUM('2011 syoa'!CR24)","v":34053},{"$f":"SUM('2011 syoa'!E24:I24)+SUM('2011 syoa'!CS24:CW24)","v":3334},{"$f":"SUM('2011 syoa'!J24:N24)+SUM('2011 syoa'!CX24:DB24)","v":2819},{"$f":"SUM('2011 syoa'!O24:S24)+SUM('2011 syoa'!DC24:DG24)","v":2459},{"$f":"SUM('2011 syoa'!T24:X24)+SUM('2011 syoa'!DH24:DL24)","v":3303},{"$f":"SUM('2011 syoa'!Y24:AC24)+SUM('2011 syoa'!DM24:DQ24)","v":5059},{"$f":"SUM('2011 syoa'!AD24:AH24)+SUM('2011 syoa'!DR24:DV24)","v":3290},{"$f":"SUM('2011 syoa'!AI24:AM24)+SUM('2011 syoa'!DW24:EA24)","v":2723},{"$f":"SUM('2011 syoa'!AN24:AR24)+SUM('2011 syoa'!EB24:EF24)","v":2142},{"$f":"SUM('2011 syoa'!AS24:AW24)+SUM('2011 syoa'!EG24:EK24)","v":1908},{"$f":"SUM('2011 syoa'!AX24:BB24)+SUM('2011 syoa'!EL24:EP24)","v":1594},{"$f":"SUM('2011 syoa'!BC24:BG24)+SUM('2011 syoa'!EQ24:EU24)","v":1250},{"$f":"SUM('2011 syoa'!BH24:BL24)+SUM('2011 syoa'!EV24:EZ24)","v":982},{"$f":"SUM('2011 syoa'!BM24:BQ24)+SUM('2011 syoa'!FA24:FE24)","v":799},{"$f":"SUM('2011 syoa'!BR24:BV24)+SUM('2011 syoa'!FF24:FJ24)","v":649},{"$f":"SUM('2011 syoa'!BW24:CA24)+SUM('2011 syoa'!FK24:FO24)","v":698},{"$f":"SUM('2011 syoa'!CB24:CF24)+SUM('2011 syoa'!FP24:FT24)","v":517},{"$f":"SUM('2011 syoa'!CG24:CK24)+SUM('2011 syoa'!FU24:FY24)","v":318},{"$f":"SUM('2011 syoa'!CL24:CP24)+SUM('2011 syoa'!FZ24:GD24)","v":158},{"$f":"SUM('2011 syoa'!CQ24)+SUM('2011 syoa'!GE24)","v":51}]
["E05001198","Northfield","Northfield",{"$f":"SUM('2011 syoa'!D25)+SUM('2011 syoa'!CR25)","v":25713},{"$f":"SUM('2011 syoa'!E25:I25)+SUM('2011 syoa'!CS25:CW25)","v":1656},{"$f":"SUM('2011 syoa'!J25:N25)+SUM('2011 syoa'!CX25:DB25)","v":1533},{"$f":"SUM('2011 syoa'!O25:S25)+SUM('2011 syoa'!DC25:DG25)","v":1541},{"$f":"SUM('2011 syoa'!T25:X25)+SUM('2011 syoa'!DH25:DL25)","v":1721},{"$f":"SUM('2011 syoa'!Y25:AC25)+SUM('2011 syoa'!DM25:DQ25)","v":1724},{"$f":"SUM('2011 syoa'!AD25:AH25)+SUM('2011 syoa'!DR25:DV25)","v":1556},{"$f":"SUM('2011 syoa'!AI25:AM25)+SUM('2011 syoa'!DW25:EA25)","v":1584},{"$f":"SUM('2011 syoa'!AN25:AR25)+SUM('2011 syoa'!EB25:EF25)","v":1645},{"$f":"SUM('2011 syoa'!AS25:AW25)+SUM('2011 syoa'!EG25:EK25)","v":1770},{"$f":"SUM('2011 syoa'!AX25:BB25)+SUM('2011 syoa'!EL25:EP25)","v":1988},{"$f":"SUM('2011 syoa'!BC25:BG25)+SUM('2011 syoa'!EQ25:EU25)","v":1691},{"$f":"SUM('2011 syoa'!BH25:BL25)+SUM('2011 syoa'!EV25:EZ25)","v":1474},{"$f":"SUM('2011 syoa'!BM25:BQ25)+SUM('2011 syoa'!FA25:FE25)","v":1514},{"$f":"SUM('2011 syoa'!BR25:BV25)+SUM('2011 syoa'!FF25:FJ25)","v":1259},{"$f":"SUM('2011 syoa'!BW25:CA25)+SUM('2011 syoa'!FK25:FO25)","v":986},{"$f":"SUM('2011 syoa'!CB25:CF25)+SUM('2011 syoa'!FP25:FT25)","v":837},{"$f":"SUM('2011 syoa'!CG25:CK25)+SUM('2011 syoa'!FU25:FY25)","v":603},{"$f":"SUM('2011 syoa'!CL25:CP25)+SUM('2011 syoa'!FZ25:GD25)","v":422},{"$f":"SUM('2011 syoa'!CQ25)+SUM('2011 syoa'!GE25)","v":209}]
["E05001199","Oscott","Perry Barr",{"$f":"SUM('2011 syoa'!D26)+SUM('2011 syoa'!CR26)","v":24620},{"$f":"SUM('2011 syoa'!E26:I26)+SUM('2011 syoa'!CS26:CW26)","v":1743},{"$f":"SUM('2011 syoa'!J26:N26)+SUM('2011 syoa'!CX26:DB26)","v":1470},{"$f":"SUM('2011 syoa'!O26:S26)+SUM('2011 syoa'!DC26:DG26)","v":1544},{"$f":"SUM('2011 syoa'!T26:X26)+SUM('2011 syoa'!DH26:DL26)","v":1640},{"$f":"SUM('2011 syoa'!Y26:AC26)+SUM('2011 syoa'!DM26:DQ26)","v":1543},{"$f":"SUM('2011 syoa'!AD26:AH26)+SUM('2011 syoa'!DR26:DV26)","v":1654},{"$f":"SUM('2011 syoa'!AI26:AM26)+SUM('2011 syoa'!DW26:EA26)","v":1523},{"$f":"SUM('2011 syoa'!AN26:AR26)+SUM('2011 syoa'!EB26:EF26)","v":1573},{"$f":"SUM('2011 syoa'!AS26:AW26)+SUM('2011 syoa'!EG26:EK26)","v":1922},{"$f":"SUM('2011 syoa'!AX26:BB26)+SUM('2011 syoa'!EL26:EP26)","v":1909},{"$f":"SUM('2011 syoa'!BC26:BG26)+SUM('2011 syoa'!EQ26:EU26)","v":1509},{"$f":"SUM('2011 syoa'!BH26:BL26)+SUM('2011 syoa'!EV26:EZ26)","v":1242},{"$f":"SUM('2011 syoa'!BM26:BQ26)+SUM('2011 syoa'!FA26:FE26)","v":1233},{"$f":"SUM('2011 syoa'!BR26:BV26)+SUM('2011 syoa'!FF26:FJ26)","v":1192},{"$f":"SUM('2011 syoa'!BW26:CA26)+SUM('2011 syoa'!FK26:FO26)","v":949},{"$f":"SUM('2011 syoa'!CB26:CF26)+SUM('2011 syoa'!FP26:FT26)","v":828},{"$f":"SUM('2011 syoa'!CG26:CK26)+SUM('2011 syoa'!FU26:FY26)","v":583},{"$f":"SUM('2011 syoa'!CL26:CP26)+SUM('2011 syoa'!FZ26:GD26)","v":350},{"$f":"SUM('2011 syoa'!CQ26)+SUM('2011 syoa'!GE26)","v":213}]
["E05001200","Perry Barr","Perry Barr",{"$f":"SUM('2011 syoa'!D27)+SUM('2011 syoa'!CR27)","v":23695},{"$f":"SUM('2011 syoa'!E27:I27)+SUM('2011 syoa'!CS27:CW27)","v":1696},{"$f":"SUM('2011 syoa'!J27:N27)+SUM('2011 syoa'!CX27:DB27)","v":1661},{"$f":"SUM('2011 syoa'!O27:S27)+SUM('2011 syoa'!DC27:DG27)","v":1554},{"$f":"SUM('2011 syoa'!T27:X27)+SUM('2011 syoa'!DH27:DL27)","v":1869},{"$f":"SUM('2011 syoa'!Y27:AC27)+SUM('2011 syoa'!DM27:DQ27)","v":2049},{"$f":"SUM('2011 syoa'!AD27:AH27)+SUM('2011 syoa'!DR27:DV27)","v":1664},{"$f":"SUM('2011 syoa'!AI27:AM27)+SUM('2011 syoa'!DW27:EA27)","v":1718},{"$f":"SUM('2011 syoa'!AN27:AR27)+SUM('2011 syoa'!EB27:EF27)","v":1525},{"$f":"SUM('2011 syoa'!AS27:AW27)+SUM('2011 syoa'!EG27:EK27)","v":1643},{"$f":"SUM('2011 syoa'!AX27:BB27)+SUM('2011 syoa'!EL27:EP27)","v":1619},{"$f":"SUM('2011 syoa'!BC27:BG27)+SUM('2011 syoa'!EQ27:EU27)","v":1341},{"$f":"SUM('2011 syoa'!BH27:BL27)+SUM('2011 syoa'!EV27:EZ27)","v":1047},{"$f":"SUM('2011 syoa'!BM27:BQ27)+SUM('2011 syoa'!FA27:FE27)","v":1061},{"$f":"SUM('2011 syoa'!BR27:BV27)+SUM('2011 syoa'!FF27:FJ27)","v":1008},{"$f":"SUM('2011 syoa'!BW27:CA27)+SUM('2011 syoa'!FK27:FO27)","v":763},{"$f":"SUM('2011 syoa'!CB27:CF27)+SUM('2011 syoa'!FP27:FT27)","v":629},{"$f":"SUM('2011 syoa'!CG27:CK27)+SUM('2011 syoa'!FU27:FY27)","v":444},{"$f":"SUM('2011 syoa'!CL27:CP27)+SUM('2011 syoa'!FZ27:GD27)","v":262},{"$f":"SUM('2011 syoa'!CQ27)+SUM('2011 syoa'!GE27)","v":142}]
["E05001201","Quinton","Edgbaston",{"$f":"SUM('2011 syoa'!D28)+SUM('2011 syoa'!CR28)","v":24210},{"$f":"SUM('2011 syoa'!E28:I28)+SUM('2011 syoa'!CS28:CW28)","v":1815},{"$f":"SUM('2011 syoa'!J28:N28)+SUM('2011 syoa'!CX28:DB28)","v":1611},{"$f":"SUM('2011 syoa'!O28:S28)+SUM('2011 syoa'!DC28:DG28)","v":1594},{"$f":"SUM('2011 syoa'!T28:X28)+SUM('2011 syoa'!DH28:DL28)","v":1586},{"$f":"SUM('2011 syoa'!Y28:AC28)+SUM('2011 syoa'!DM28:DQ28)","v":1439},{"$f":"SUM('2011 syoa'!AD28:AH28)+SUM('2011 syoa'!DR28:DV28)","v":1638},{"$f":"SUM('2011 syoa'!AI28:AM28)+SUM('2011 syoa'!DW28:EA28)","v":1735},{"$f":"SUM('2011 syoa'!AN28:AR28)+SUM('2011 syoa'!EB28:EF28)","v":1736},{"$f":"SUM('2011 syoa'!AS28:AW28)+SUM('2011 syoa'!EG28:EK28)","v":1707},{"$f":"SUM('2011 syoa'!AX28:BB28)+SUM('2011 syoa'!EL28:EP28)","v":1643},{"$f":"SUM('2011 syoa'!BC28:BG28)+SUM('2011 syoa'!EQ28:EU28)","v":1340},{"$f":"SUM('2011 syoa'!BH28:BL28)+SUM('2011 syoa'!EV28:EZ28)","v":1287},{"$f":"SUM('2011 syoa'!BM28:BQ28)+SUM('2011 syoa'!FA28:FE28)","v":1287},{"$f":"SUM('2011 syoa'!BR28:BV28)+SUM('2011 syoa'!FF28:FJ28)","v":1081},{"$f":"SUM('2011 syoa'!BW28:CA28)+SUM('2011 syoa'!FK28:FO28)","v":899},{"$f":"SUM('2011 syoa'!CB28:CF28)+SUM('2011 syoa'!FP28:FT28)","v":747},{"$f":"SUM('2011 syoa'!CG28:CK28)+SUM('2011 syoa'!FU28:FY28)","v":550},{"$f":"SUM('2011 syoa'!CL28:CP28)+SUM('2011 syoa'!FZ28:GD28)","v":344},{"$f":"SUM('2011 syoa'!CQ28)+SUM('2011 syoa'!GE28)","v":171}]
["E05001202","Selly Oak","Selly Oak",{"$f":"SUM('2011 syoa'!D29)+SUM('2011 syoa'!CR29)","v":25930},{"$f":"SUM('2011 syoa'!E29:I29)+SUM('2011 syoa'!CS29:CW29)","v":943},{"$f":"SUM('2011 syoa'!J29:N29)+SUM('2011 syoa'!CX29:DB29)","v":758},{"$f":"SUM('2011 syoa'!O29:S29)+SUM('2011 syoa'!DC29:DG29)","v":675},{"$f":"SUM('2011 syoa'!T29:X29)+SUM('2011 syoa'!DH29:DL29)","v":1649},{"$f":"SUM('2011 syoa'!Y29:AC29)+SUM('2011 syoa'!DM29:DQ29)","v":11289},{"$f":"SUM('2011 syoa'!AD29:AH29)+SUM('2011 syoa'!DR29:DV29)","v":2102},{"$f":"SUM('2011 syoa'!AI29:AM29)+SUM('2011 syoa'!DW29:EA29)","v":1443},{"$f":"SUM('2011 syoa'!AN29:AR29)+SUM('2011 syoa'!EB29:EF29)","v":1056},{"$f":"SUM('2011 syoa'!AS29:AW29)+SUM('2011 syoa'!EG29:EK29)","v":935},{"$f":"SUM('2011 syoa'!AX29:BB29)+SUM('2011 syoa'!EL29:EP29)","v":778},{"$f":"SUM('2011 syoa'!BC29:BG29)+SUM('2011 syoa'!EQ29:EU29)","v":779},{"$f":"SUM('2011 syoa'!BH29:BL29)+SUM('2011 syoa'!EV29:EZ29)","v":711},{"$f":"SUM('2011 syoa'!BM29:BQ29)+SUM('2011 syoa'!FA29:FE29)","v":622},{"$f":"SUM('2011 syoa'!BR29:BV29)+SUM('2011 syoa'!FF29:FJ29)","v":563},{"$f":"SUM('2011 syoa'!BW29:CA29)+SUM('2011 syoa'!FK29:FO29)","v":504},{"$f":"SUM('2011 syoa'!CB29:CF29)+SUM('2011 syoa'!FP29:FT29)","v":451},{"$f":"SUM('2011 syoa'!CG29:CK29)+SUM('2011 syoa'!FU29:FY29)","v":311},{"$f":"SUM('2011 syoa'!CL29:CP29)+SUM('2011 syoa'!FZ29:GD29)","v":236},{"$f":"SUM('2011 syoa'!CQ29)+SUM('2011 syoa'!GE29)","v":125}]
["E05001203","Shard End","Hodge Hill",{"$f":"SUM('2011 syoa'!D30)+SUM('2011 syoa'!CR30)","v":26811},{"$f":"SUM('2011 syoa'!E30:I30)+SUM('2011 syoa'!CS30:CW30)","v":2275},{"$f":"SUM('2011 syoa'!J30:N30)+SUM('2011 syoa'!CX30:DB30)","v":1925},{"$f":"SUM('2011 syoa'!O30:S30)+SUM('2011 syoa'!DC30:DG30)","v":1829},{"$f":"SUM('2011 syoa'!T30:X30)+SUM('2011 syoa'!DH30:DL30)","v":1863},{"$f":"SUM('2011 syoa'!Y30:AC30)+SUM('2011 syoa'!DM30:DQ30)","v":1787},{"$f":"SUM('2011 syoa'!AD30:AH30)+SUM('2011 syoa'!DR30:DV30)","v":1912},{"$f":"SUM('2011 syoa'!AI30:AM30)+SUM('2011 syoa'!DW30:EA30)","v":1823},{"$f":"SUM('2011 syoa'!AN30:AR30)+SUM('2011 syoa'!EB30:EF30)","v":1679},{"$f":"SUM('2011 syoa'!AS30:AW30)+SUM('2011 syoa'!EG30:EK30)","v":1869},{"$f":"SUM('2011 syoa'!AX30:BB30)+SUM('2011 syoa'!EL30:EP30)","v":1750},{"$f":"SUM('2011 syoa'!BC30:BG30)+SUM('2011 syoa'!EQ30:EU30)","v":1489},{"$f":"SUM('2011 syoa'!BH30:BL30)+SUM('2011 syoa'!EV30:EZ30)","v":1268},{"$f":"SUM('2011 syoa'!BM30:BQ30)+SUM('2011 syoa'!FA30:FE30)","v":1398},{"$f":"SUM('2011 syoa'!BR30:BV30)+SUM('2011 syoa'!FF30:FJ30)","v":1064},{"$f":"SUM('2011 syoa'!BW30:CA30)+SUM('2011 syoa'!FK30:FO30)","v":775},{"$f":"SUM('2011 syoa'!CB30:CF30)+SUM('2011 syoa'!FP30:FT30)","v":730},{"$f":"SUM('2011 syoa'!CG30:CK30)+SUM('2011 syoa'!FU30:FY30)","v":589},{"$f":"SUM('2011 syoa'!CL30:CP30)+SUM('2011 syoa'!FZ30:GD30)","v":531},{"$f":"SUM('2011 syoa'!CQ30)+SUM('2011 syoa'!GE30)","v":255}]
["E05001204","Sheldon","Yardley",{"$f":"SUM('2011 syoa'!D31)+SUM('2011 syoa'!CR31)","v":21818},{"$f":"SUM('2011 syoa'!E31:I31)+SUM('2011 syoa'!CS31:CW31)","v":1386},{"$f":"SUM('2011 syoa'!J31:N31)+SUM('2011 syoa'!CX31:DB31)","v":1321},{"$f":"SUM('2011 syoa'!O31:S31)+SUM('2011 syoa'!DC31:DG31)","v":1396},{"$f":"SUM('2011 syoa'!T31:X31)+SUM('2011 syoa'!DH31:DL31)","v":1373},{"$f":"SUM('2011 syoa'!Y31:AC31)+SUM('2011 syoa'!DM31:DQ31)","v":1271},{"$f":"SUM('2011 syoa'!AD31:AH31)+SUM('2011 syoa'!DR31:DV31)","v":1371},{"$f":"SUM('2011 syoa'!AI31:AM31)+SUM('2011 syoa'!DW31:EA31)","v":1322},{"$f":"SUM('2011 syoa'!AN31:AR31)+SUM('2011 syoa'!EB31:EF31)","v":1294},{"$f":"SUM('2011 syoa'!AS31:AW31)+SUM('2011 syoa'!EG31:EK31)","v":1644},{"$f":"SUM('2011 syoa'!AX31:BB31)+SUM('2011 syoa'!EL31:EP31)","v":1641},{"$f":"SUM('2011 syoa'!BC31:BG31)+SUM('2011 syoa'!EQ31:EU31)","v":1400},{"$f":"SUM('2011 syoa'!BH31:BL31)+SUM('2011 syoa'!EV31:EZ31)","v":1176},{"$f":"SUM('2011 syoa'!BM31:BQ31)+SUM('2011 syoa'!FA31:FE31)","v":1170},{"$f":"SUM('2011 syoa'!BR31:BV31)+SUM('2011 syoa'!FF31:FJ31)","v":1127},{"$f":"SUM('2011 syoa'!BW31:CA31)+SUM('2011 syoa'!FK31:FO31)","v":911},{"$f":"SUM('2011 syoa'!CB31:CF31)+SUM('2011 syoa'!FP31:FT31)","v":794},{"$f":"SUM('2011 syoa'!CG31:CK31)+SUM('2011 syoa'!FU31:FY31)","v":564},{"$f":"SUM('2011 syoa'!CL31:CP31)+SUM('2011 syoa'!FZ31:GD31)","v":441},{"$f":"SUM('2011 syoa'!CQ31)+SUM('2011 syoa'!GE31)","v":216}]
["E05001205","Soho","Ladywood",{"$f":"SUM('2011 syoa'!D32)+SUM('2011 syoa'!CR32)","v":30360},{"$f":"SUM('2011 syoa'!E32:I32)+SUM('2011 syoa'!CS32:CW32)","v":2765},{"$f":"SUM('2011 syoa'!J32:N32)+SUM('2011 syoa'!CX32:DB32)","v":2614},{"$f":"SUM('2011 syoa'!O32:S32)+SUM('2011 syoa'!DC32:DG32)","v":2216},{"$f":"SUM('2011 syoa'!T32:X32)+SUM('2011 syoa'!DH32:DL32)","v":2198},{"$f":"SUM('2011 syoa'!Y32:AC32)+SUM('2011 syoa'!DM32:DQ32)","v":2691},{"$f":"SUM('2011 syoa'!AD32:AH32)+SUM('2011 syoa'!DR32:DV32)","v":2944},{"$f":"SUM('2011 syoa'!AI32:AM32)+SUM('2011 syoa'!DW32:EA32)","v":2821},{"$f":"SUM('2011 syoa'!AN32:AR32)+SUM('2011 syoa'!EB32:EF32)","v":2317},{"$f":"SUM('2011 syoa'!AS32:AW32)+SUM('2011 syoa'!EG32:EK32)","v":2098},{"$f":"SUM('2011 syoa'!AX32:BB32)+SUM('2011 syoa'!EL32:EP32)","v":1862},{"$f":"SUM('2011 syoa'!BC32:BG32)+SUM('2011 syoa'!EQ32:EU32)","v":1345},{"$f":"SUM('2011 syoa'!BH32:BL32)+SUM('2011 syoa'!EV32:EZ32)","v":1116},{"$f":"SUM('2011 syoa'!BM32:BQ32)+SUM('2011 syoa'!FA32:FE32)","v":790},{"$f":"SUM('2011 syoa'!BR32:BV32)+SUM('2011 syoa'!FF32:FJ32)","v":688},{"$f":"SUM('2011 syoa'!BW32:CA32)+SUM('2011 syoa'!FK32:FO32)","v":645},{"$f":"SUM('2011 syoa'!CB32:CF32)+SUM('2011 syoa'!FP32:FT32)","v":589},{"$f":"SUM('2011 syoa'!CG32:CK32)+SUM('2011 syoa'!FU32:FY32)","v":346},{"$f":"SUM('2011 syoa'!CL32:CP32)+SUM('2011 syoa'!FZ32:GD32)","v":200},{"$f":"SUM('2011 syoa'!CQ32)+SUM('2011 syoa'!GE32)","v":115}]
["E05001206","South Yardley","Yardley",{"$f":"SUM('2011 syoa'!D33)+SUM('2011 syoa'!CR33)","v":30876},{"$f":"SUM('2011 syoa'!E33:I33)+SUM('2011 syoa'!CS33:CW33)","v":2930},{"$f":"SUM('2011 syoa'!J33:N33)+SUM('2011 syoa'!CX33:DB33)","v":2586},{"$f":"SUM('2011 syoa'!O33:S33)+SUM('2011 syoa'!DC33:DG33)","v":2302},{"$f":"SUM('2011 syoa'!T33:X33)+SUM('2011 syoa'!DH33:DL33)","v":2069},{"$f":"SUM('2011 syoa'!Y33:AC33)+SUM('2011 syoa'!DM33:DQ33)","v":2096},{"$f":"SUM('2011 syoa'!AD33:AH33)+SUM('2011 syoa'!DR33:DV33)","v":2523},{"$f":"SUM('2011 syoa'!AI33:AM33)+SUM('2011 syoa'!DW33:EA33)","v":2430},{"$f":"SUM('2011 syoa'!AN33:AR33)+SUM('2011 syoa'!EB33:EF33)","v":2218},{"$f":"SUM('2011 syoa'!AS33:AW33)+SUM('2011 syoa'!EG33:EK33)","v":2060},{"$f":"SUM('2011 syoa'!AX33:BB33)+SUM('2011 syoa'!EL33:EP33)","v":1966},{"$f":"SUM('2011 syoa'!BC33:BG33)+SUM('2011 syoa'!EQ33:EU33)","v":1719},{"$f":"SUM('2011 syoa'!BH33:BL33)+SUM('2011 syoa'!EV33:EZ33)","v":1386},{"$f":"SUM('2011 syoa'!BM33:BQ33)+SUM('2011 syoa'!FA33:FE33)","v":1176},{"$f":"SUM('2011 syoa'!BR33:BV33)+SUM('2011 syoa'!FF33:FJ33)","v":963},{"$f":"SUM('2011 syoa'!BW33:CA33)+SUM('2011 syoa'!FK33:FO33)","v":847},{"$f":"SUM('2011 syoa'!CB33:CF33)+SUM('2011 syoa'!FP33:FT33)","v":710},{"$f":"SUM('2011 syoa'!CG33:CK33)+SUM('2011 syoa'!FU33:FY33)","v":522},{"$f":"SUM('2011 syoa'!CL33:CP33)+SUM('2011 syoa'!FZ33:GD33)","v":248},{"$f":"SUM('2011 syoa'!CQ33)+SUM('2011 syoa'!GE33)","v":125}]
["E05001207","Sparkbrook","Hall Green",{"$f":"SUM('2011 syoa'!D34)+SUM('2011 syoa'!CR34)","v":32512},{"$f":"SUM('2011 syoa'!E34:I34)+SUM('2011 syoa'!CS34:CW34)","v":3275},{"$f":"SUM('2011 syoa'!J34:N34)+SUM('2011 syoa'!CX34:DB34)","v":3163},{"$f":"SUM('2011 syoa'!O34:S34)+SUM('2011 syoa'!DC34:DG34)","v":3004},{"$f":"SUM('2011 syoa'!T34:X34)+SUM('2011 syoa'!DH34:DL34)","v":2855},{"$f":"SUM('2011 syoa'!Y34:AC34)+SUM('2011 syoa'!DM34:DQ34)","v":2816},{"$f":"SUM('2011 syoa'!AD34:AH34)+SUM('2011 syoa'!DR34:DV34)","v":3019},{"$f":"SUM('2011 syoa'!AI34:AM34)+SUM('2011 syoa'!DW34:EA34)","v":2630},{"$f":"SUM('2011 syoa'!AN34:AR34)+SUM('2011 syoa'!EB34:EF34)","v":2193},{"$f":"SUM('2011 syoa'!AS34:AW34)+SUM('2011 syoa'!EG34:EK34)","v":1920},{"$f":"SUM('2011 syoa'!AX34:BB34)+SUM('2011 syoa'!EL34:EP34)","v":1557},{"$f":"SUM('2011 syoa'!BC34:BG34)+SUM('2011 syoa'!EQ34:EU34)","v":1377},{"$f":"SUM('2011 syoa'!BH34:BL34)+SUM('2011 syoa'!EV34:EZ34)","v":1183},{"$f":"SUM('2011 syoa'!BM34:BQ34)+SUM('2011 syoa'!FA34:FE34)","v":868},{"$f":"SUM('2011 syoa'!BR34:BV34)+SUM('2011 syoa'!FF34:FJ34)","v":658},{"$f":"SUM('2011 syoa'!BW34:CA34)+SUM('2011 syoa'!FK34:FO34)","v":697},{"$f":"SUM('2011 syoa'!CB34:CF34)+SUM('2011 syoa'!FP34:FT34)","v":661},{"$f":"SUM('2011 syoa'!CG34:CK34)+SUM('2011 syoa'!FU34:FY34)","v":401},{"$f":"SUM('2011 syoa'!CL34:CP34)+SUM('2011 syoa'!FZ34:GD34)","v":159},{"$f":"SUM('2011 syoa'!CQ34)+SUM('2011 syoa'!GE34)","v":76}]
["E05001208","Springfield","Hall Green",{"$f":"SUM('2011 syoa'!D35)+SUM('2011 syoa'!CR35)","v":31432},{"$f":"SUM('2011 syoa'!E35:I35)+SUM('2011 syoa'!CS35:CW35)","v":2997},{"$f":"SUM('2011 syoa'!J35:N35)+SUM('2011 syoa'!CX35:DB35)","v":2871},{"$f":"SUM('2011 syoa'!O35:S35)+SUM('2011 syoa'!DC35:DG35)","v":2670},{"$f":"SUM('2011 syoa'!T35:X35)+SUM('2011 syoa'!DH35:DL35)","v":2477},{"$f":"SUM('2011 syoa'!Y35:AC35)+SUM('2011 syoa'!DM35:DQ35)","v":2506},{"$f":"SUM('2011 syoa'!AD35:AH35)+SUM('2011 syoa'!DR35:DV35)","v":2792},{"$f":"SUM('2011 syoa'!AI35:AM35)+SUM('2011 syoa'!DW35:EA35)","v":2598},{"$f":"SUM('2011 syoa'!AN35:AR35)+SUM('2011 syoa'!EB35:EF35)","v":2233},{"$f":"SUM('2011 syoa'!AS35:AW35)+SUM('2011 syoa'!EG35:EK35)","v":1962},{"$f":"SUM('2011 syoa'!AX35:BB35)+SUM('2011 syoa'!EL35:EP35)","v":1540},{"$f":"SUM('2011 syoa'!BC35:BG35)+SUM('2011 syoa'!EQ35:EU35)","v":1403},{"$f":"SUM('2011 syoa'!BH35:BL35)+SUM('2011 syoa'!EV35:EZ35)","v":1381},{"$f":"SUM('2011 syoa'!BM35:BQ35)+SUM('2011 syoa'!FA35:FE35)","v":994},{"$f":"SUM('2011 syoa'!BR35:BV35)+SUM('2011 syoa'!FF35:FJ35)","v":796},{"$f":"SUM('2011 syoa'!BW35:CA35)+SUM('2011 syoa'!FK35:FO35)","v":779},{"$f":"SUM('2011 syoa'!CB35:CF35)+SUM('2011 syoa'!FP35:FT35)","v":647},{"$f":"SUM('2011 syoa'!CG35:CK35)+SUM('2011 syoa'!FU35:FY35)","v":451},{"$f":"SUM('2011 syoa'!CL35:CP35)+SUM('2011 syoa'!FZ35:GD35)","v":239},{"$f":"SUM('2011 syoa'!CQ35)+SUM('2011 syoa'!GE35)","v":96}]
["E05001209","Stechford and Yardley North","Yardley",{"$f":"SUM('2011 syoa'!D36)+SUM('2011 syoa'!CR36)","v":25789},{"$f":"SUM('2011 syoa'!E36:I36)+SUM('2011 syoa'!CS36:CW36)","v":2030},{"$f":"SUM('2011 syoa'!J36:N36)+SUM('2011 syoa'!CX36:DB36)","v":1893},{"$f":"SUM('2011 syoa'!O36:S36)+SUM('2011 syoa'!DC36:DG36)","v":1905},{"$f":"SUM('2011 syoa'!T36:X36)+SUM('2011 syoa'!DH36:DL36)","v":1904},{"$f":"SUM('2011 syoa'!Y36:AC36)+SUM('2011 syoa'!DM36:DQ36)","v":1733},{"$f":"SUM('2011 syoa'!AD36:AH36)+SUM('2011 syoa'!DR36:DV36)","v":1785},{"$f":"SUM('2011 syoa'!AI36:AM36)+SUM('2011 syoa'!DW36:EA36)","v":1667},{"$f":"SUM('2011 syoa'!AN36:AR36)+SUM('2011 syoa'!EB36:EF36)","v":1600},{"$f":"SUM('2011 syoa'!AS36:AW36)+SUM('2011 syoa'!EG36:EK36)","v":1769},{"$f":"SUM('2011 syoa'!AX36:BB36)+SUM('2011 syoa'!EL36:EP36)","v":1761},{"$f":"SUM('2011 syoa'!BC36:BG36)+SUM('2011 syoa'!EQ36:EU36)","v":1537},{"$f":"SUM('2011 syoa'!BH36:BL36)+SUM('2011 syoa'!EV36:EZ36)","v":1249},{"$f":"SUM('2011 syoa'!BM36:BQ36)+SUM('2011 syoa'!FA36:FE36)","v":1198},{"$f":"SUM('2011 syoa'!BR36:BV36)+SUM('2011 syoa'!FF36:FJ36)","v":990},{"$f":"SUM('2011 syoa'!BW36:CA36)+SUM('2011 syoa'!FK36:FO36)","v":858},{"$f":"SUM('2011 syoa'!CB36:CF36)+SUM('2011 syoa'!FP36:FT36)","v":748},{"$f":"SUM('2011 syoa'!CG36:CK36)+SUM('2011 syoa'!FU36:FY36)","v":585},{"$f":"SUM('2011 syoa'!CL36:CP36)+SUM('2011 syoa'!FZ36:GD36)","v":361},{"$f":"SUM('2011 syoa'!CQ36)+SUM('2011 syoa'!GE36)","v":216}]
["E05001210","Stockland Green","Erdington",{"$f":"SUM('2011 syoa'!D37)+SUM('2011 syoa'!CR37)","v":24393},{"$f":"SUM('2011 syoa'!E37:I37)+SUM('2011 syoa'!CS37:CW37)","v":1845},{"$f":"SUM('2011 syoa'!J37:N37)+SUM('2011 syoa'!CX37:DB37)","v":1425},{"$f":"SUM('2011 syoa'!O37:S37)+SUM('2011 syoa'!DC37:DG37)","v":1417},{"$f":"SUM('2011 syoa'!T37:X37)+SUM('2011 syoa'!DH37:DL37)","v":1562},{"$f":"SUM('2011 syoa'!Y37:AC37)+SUM('2011 syoa'!DM37:DQ37)","v":1976},{"$f":"SUM('2011 syoa'!AD37:AH37)+SUM('2011 syoa'!DR37:DV37)","v":2208},{"$f":"SUM('2011 syoa'!AI37:AM37)+SUM('2011 syoa'!DW37:EA37)","v":1934},{"$f":"SUM('2011 syoa'!AN37:AR37)+SUM('2011 syoa'!EB37:EF37)","v":1713},{"$f":"SUM('2011 syoa'!AS37:AW37)+SUM('2011 syoa'!EG37:EK37)","v":1727},{"$f":"SUM('2011 syoa'!AX37:BB37)+SUM('2011 syoa'!EL37:EP37)","v":1885},{"$f":"SUM('2011 syoa'!BC37:BG37)+SUM('2011 syoa'!EQ37:EU37)","v":1482},{"$f":"SUM('2011 syoa'!BH37:BL37)+SUM('2011 syoa'!EV37:EZ37)","v":1142},{"$f":"SUM('2011 syoa'!BM37:BQ37)+SUM('2011 syoa'!FA37:FE37)","v":1071},{"$f":"SUM('2011 syoa'!BR37:BV37)+SUM('2011 syoa'!FF37:FJ37)","v":772},{"$f":"SUM('2011 syoa'!BW37:CA37)+SUM('2011 syoa'!FK37:FO37)","v":709},{"$f":"SUM('2011 syoa'!CB37:CF37)+SUM('2011 syoa'!FP37:FT37)","v":604},{"$f":"SUM('2011 syoa'!CG37:CK37)+SUM('2011 syoa'!FU37:FY37)","v":461},{"$f":"SUM('2011 syoa'!CL37:CP37)+SUM('2011 syoa'!FZ37:GD37)","v":283},{"$f":"SUM('2011 syoa'!CQ37)+SUM('2011 syoa'!GE37)","v":177}]
["E05001211","Sutton Four Oaks","Sutton Coldfield",{"$f":"SUM('2011 syoa'!D38)+SUM('2011 syoa'!CR38)","v":23939},{"$f":"SUM('2011 syoa'!E38:I38)+SUM('2011 syoa'!CS38:CW38)","v":1312},{"$f":"SUM('2011 syoa'!J38:N38)+SUM('2011 syoa'!CX38:DB38)","v":1409},{"$f":"SUM('2011 syoa'!O38:S38)+SUM('2011 syoa'!DC38:DG38)","v":1503},{"$f":"SUM('2011 syoa'!T38:X38)+SUM('2011 syoa'!DH38:DL38)","v":1348},{"$f":"SUM('2011 syoa'!Y38:AC38)+SUM('2011 syoa'!DM38:DQ38)","v":971},{"$f":"SUM('2011 syoa'!AD38:AH38)+SUM('2011 syoa'!DR38:DV38)","v":1010},{"$f":"SUM('2011 syoa'!AI38:AM38)+SUM('2011 syoa'!DW38:EA38)","v":1164},{"$f":"SUM('2011 syoa'!AN38:AR38)+SUM('2011 syoa'!EB38:EF38)","v":1440},{"$f":"SUM('2011 syoa'!AS38:AW38)+SUM('2011 syoa'!EG38:EK38)","v":1873},{"$f":"SUM('2011 syoa'!AX38:BB38)+SUM('2011 syoa'!EL38:EP38)","v":1881},{"$f":"SUM('2011 syoa'!BC38:BG38)+SUM('2011 syoa'!EQ38:EU38)","v":1574},{"$f":"SUM('2011 syoa'!BH38:BL38)+SUM('2011 syoa'!EV38:EZ38)","v":1451},{"$f":"SUM('2011 syoa'!BM38:BQ38)+SUM('2011 syoa'!FA38:FE38)","v":1574},{"$f":"SUM('2011 syoa'!BR38:BV38)+SUM('2011 syoa'!FF38:FJ38)","v":1496},{"$f":"SUM('2011 syoa'!BW38:CA38)+SUM('2011 syoa'!FK38:FO38)","v":1146},{"$f":"SUM('2011 syoa'!CB38:CF38)+SUM('2011 syoa'!FP38:FT38)","v":1115},{"$f":"SUM('2011 syoa'!CG38:CK38)+SUM('2011 syoa'!FU38:FY38)","v":914},{"$f":"SUM('2011 syoa'!CL38:CP38)+SUM('2011 syoa'!FZ38:GD38)","v":506},{"$f":"SUM('2011 syoa'!CQ38)+SUM('2011 syoa'!GE38)","v":252}]
["E05001212","Sutton New Hall","Sutton Coldfield",{"$f":"SUM('2011 syoa'!D39)+SUM('2011 syoa'!CR39)","v":22381},{"$f":"SUM('2011 syoa'!E39:I39)+SUM('2011 syoa'!CS39:CW39)","v":1110},{"$f":"SUM('2011 syoa'!J39:N39)+SUM('2011 syoa'!CX39:DB39)","v":1181},{"$f":"SUM('2011 syoa'!O39:S39)+SUM('2011 syoa'!DC39:DG39)","v":1295},{"$f":"SUM('2011 syoa'!T39:X39)+SUM('2011 syoa'!DH39:DL39)","v":1279},{"$f":"SUM('2011 syoa'!Y39:AC39)+SUM('2011 syoa'!DM39:DQ39)","v":1050},{"$f":"SUM('2011 syoa'!AD39:AH39)+SUM('2011 syoa'!DR39:DV39)","v":1096},{"$f":"SUM('2011 syoa'!AI39:AM39)+SUM('2011 syoa'!DW39:EA39)","v":1132},{"$f":"SUM('2011 syoa'!AN39:AR39)+SUM('2011 syoa'!EB39:EF39)","v":1345},{"$f":"SUM('2011 syoa'!AS39:AW39)+SUM('2011 syoa'!EG39:EK39)","v":1628},{"$f":"SUM('2011 syoa'!AX39:BB39)+SUM('2011 syoa'!EL39:EP39)","v":1839},{"$f":"SUM('2011 syoa'!BC39:BG39)+SUM('2011 syoa'!EQ39:EU39)","v":1680},{"$f":"SUM('2011 syoa'!BH39:BL39)+SUM('2011 syoa'!EV39:EZ39)","v":1641},{"$f":"SUM('2011 syoa'!BM39:BQ39)+SUM('2011 syoa'!FA39:FE39)","v":1747},{"$f":"SUM('2011 syoa'!BR39:BV39)+SUM('2011 syoa'!FF39:FJ39)","v":1248},{"$f":"SUM('2011 syoa'!BW39:CA39)+SUM('2011 syoa'!FK39:FO39)","v":943},{"$f":"SUM('2011 syoa'!CB39:CF39)+SUM('2011 syoa'!FP39:FT39)","v":846},{"$f":"SUM('2011 syoa'!CG39:CK39)+SUM('2011 syoa'!FU39:FY39)","v":712},{"$f":"SUM('2011 syoa'!CL39:CP39)+SUM('2011 syoa'!FZ39:GD39)","v":410},{"$f":"SUM('2011 syoa'!CQ39)+SUM('2011 syoa'!GE39)","v":199}]
["E05001213","Sutton Trinity","Sutton Coldfield",{"$f":"SUM('2011 syoa'!D40)+SUM('2011 syoa'!CR40)","v":25203},{"$f":"SUM('2011 syoa'!E40:I40)+SUM('2011 syoa'!CS40:CW40)","v":1451},{"$f":"SUM('2011 syoa'!J40:N40)+SUM('2011 syoa'!CX40:DB40)","v":1475},{"$f":"SUM('2011 syoa'!O40:S40)+SUM('2011 syoa'!DC40:DG40)","v":1598},{"$f":"SUM('2011 syoa'!T40:X40)+SUM('2011 syoa'!DH40:DL40)","v":1625},{"$f":"SUM('2011 syoa'!Y40:AC40)+SUM('2011 syoa'!DM40:DQ40)","v":1270},{"$f":"SUM('2011 syoa'!AD40:AH40)+SUM('2011 syoa'!DR40:DV40)","v":1440},{"$f":"SUM('2011 syoa'!AI40:AM40)+SUM('2011 syoa'!DW40:EA40)","v":1424},{"$f":"SUM('2011 syoa'!AN40:AR40)+SUM('2011 syoa'!EB40:EF40)","v":1552},{"$f":"SUM('2011 syoa'!AS40:AW40)+SUM('2011 syoa'!EG40:EK40)","v":1874},{"$f":"SUM('2011 syoa'!AX40:BB40)+SUM('2011 syoa'!EL40:EP40)","v":1975},{"$f":"SUM('2011 syoa'!BC40:BG40)+SUM('2011 syoa'!EQ40:EU40)","v":1779},{"$f":"SUM('2011 syoa'!BH40:BL40)+SUM('2011 syoa'!EV40:EZ40)","v":1484},{"$f":"SUM('2011 syoa'!BM40:BQ40)+SUM('2011 syoa'!FA40:FE40)","v":1522},{"$f":"SUM('2011 syoa'!BR40:BV40)+SUM('2011 syoa'!FF40:FJ40)","v":1340},{"$f":"SUM('2011 syoa'!BW40:CA40)+SUM('2011 syoa'!FK40:FO40)","v":1011},{"$f":"SUM('2011 syoa'!CB40:CF40)+SUM('2011 syoa'!FP40:FT40)","v":924},{"$f":"SUM('2011 syoa'!CG40:CK40)+SUM('2011 syoa'!FU40:FY40)","v":779},{"$f":"SUM('2011 syoa'!CL40:CP40)+SUM('2011 syoa'!FZ40:GD40)","v":459},{"$f":"SUM('2011 syoa'!CQ40)+SUM('2011 syoa'!GE40)","v":221}]
["E05001214","Sutton Vesey","Sutton Coldfield",{"$f":"SUM('2011 syoa'!D41)+SUM('2011 syoa'!CR41)","v":23311},{"$f":"SUM('2011 syoa'!E41:I41)+SUM('2011 syoa'!CS41:CW41)","v":1186},{"$f":"SUM('2011 syoa'!J41:N41)+SUM('2011 syoa'!CX41:DB41)","v":1220},{"$f":"SUM('2011 syoa'!O41:S41)+SUM('2011 syoa'!DC41:DG41)","v":1373},{"$f":"SUM('2011 syoa'!T41:X41)+SUM('2011 syoa'!DH41:DL41)","v":1418},{"$f":"SUM('2011 syoa'!Y41:AC41)+SUM('2011 syoa'!DM41:DQ41)","v":1199},{"$f":"SUM('2011 syoa'!AD41:AH41)+SUM('2011 syoa'!DR41:DV41)","v":1261},{"$f":"SUM('2011 syoa'!AI41:AM41)+SUM('2011 syoa'!DW41:EA41)","v":1207},{"$f":"SUM('2011 syoa'!AN41:AR41)+SUM('2011 syoa'!EB41:EF41)","v":1434},{"$f":"SUM('2011 syoa'!AS41:AW41)+SUM('2011 syoa'!EG41:EK41)","v":1692},{"$f":"SUM('2011 syoa'!AX41:BB41)+SUM('2011 syoa'!EL41:EP41)","v":1895},{"$f":"SUM('2011 syoa'!BC41:BG41)+SUM('2011 syoa'!EQ41:EU41)","v":1746},{"$f":"SUM('2011 syoa'!BH41:BL41)+SUM('2011 syoa'!EV41:EZ41)","v":1516},{"$f":"SUM('2011 syoa'!BM41:BQ41)+SUM('2011 syoa'!FA41:FE41)","v":1563},{"$f":"SUM('2011 syoa'!BR41:BV41)+SUM('2011 syoa'!FF41:FJ41)","v":1294},{"$f":"SUM('2011 syoa'!BW41:CA41)+SUM('2011 syoa'!FK41:FO41)","v":1035},{"$f":"SUM('2011 syoa'!CB41:CF41)+SUM('2011 syoa'!FP41:FT41)","v":903},{"$f":"SUM('2011 syoa'!CG41:CK41)+SUM('2011 syoa'!FU41:FY41)","v":705},{"$f":"SUM('2011 syoa'!CL41:CP41)+SUM('2011 syoa'!FZ41:GD41)","v":438},{"$f":"SUM('2011 syoa'!CQ41)+SUM('2011 syoa'!GE41)","v":226}]
["E05001215","Tyburn","Erdington",{"$f":"SUM('2011 syoa'!D42)+SUM('2011 syoa'!CR42)","v":25317},{"$f":"SUM('2011 syoa'!E42:I42)+SUM('2011 syoa'!CS42:CW42)","v":1842},{"$f":"SUM('2011 syoa'!J42:N42)+SUM('2011 syoa'!CX42:DB42)","v":1803},{"$f":"SUM('2011 syoa'!O42:S42)+SUM('2011 syoa'!DC42:DG42)","v":1879},{"$f":"SUM('2011 syoa'!T42:X42)+SUM('2011 syoa'!DH42:DL42)","v":1898},{"$f":"SUM('2011 syoa'!Y42:AC42)+SUM('2011 syoa'!DM42:DQ42)","v":1648},{"$f":"SUM('2011 syoa'!AD42:AH42)+SUM('2011 syoa'!DR42:DV42)","v":1697},{"$f":"SUM('2011 syoa'!AI42:AM42)+SUM('2011 syoa'!DW42:EA42)","v":1614},{"$f":"SUM('2011 syoa'!AN42:AR42)+SUM('2011 syoa'!EB42:EF42)","v":1624},{"$f":"SUM('2011 syoa'!AS42:AW42)+SUM('2011 syoa'!EG42:EK42)","v":1925},{"$f":"SUM('2011 syoa'!AX42:BB42)+SUM('2011 syoa'!EL42:EP42)","v":1840},{"$f":"SUM('2011 syoa'!BC42:BG42)+SUM('2011 syoa'!EQ42:EU42)","v":1482},{"$f":"SUM('2011 syoa'!BH42:BL42)+SUM('2011 syoa'!EV42:EZ42)","v":1221},{"$f":"SUM('2011 syoa'!BM42:BQ42)+SUM('2011 syoa'!FA42:FE42)","v":1082},{"$f":"SUM('2011 syoa'!BR42:BV42)+SUM('2011 syoa'!FF42:FJ42)","v":1007},{"$f":"SUM('2011 syoa'!BW42:CA42)+SUM('2011 syoa'!FK42:FO42)","v":862},{"$f":"SUM('2011 syoa'!CB42:CF42)+SUM('2011 syoa'!FP42:FT42)","v":818},{"$f":"SUM('2011 syoa'!CG42:CK42)+SUM('2011 syoa'!FU42:FY42)","v":598},{"$f":"SUM('2011 syoa'!CL42:CP42)+SUM('2011 syoa'!FZ42:GD42)","v":328},{"$f":"SUM('2011 syoa'!CQ42)+SUM('2011 syoa'!GE42)","v":149}]
["E05001216","Washwood Heath","Hodge Hill",{"$f":"SUM('2011 syoa'!D43)+SUM('2011 syoa'!CR43)","v":32983},{"$f":"SUM('2011 syoa'!E43:I43)+SUM('2011 syoa'!CS43:CW43)","v":3480},{"$f":"SUM('2011 syoa'!J43:N43)+SUM('2011 syoa'!CX43:DB43)","v":3606},{"$f":"SUM('2011 syoa'!O43:S43)+SUM('2011 syoa'!DC43:DG43)","v":3422},{"$f":"SUM('2011 syoa'!T43:X43)+SUM('2011 syoa'!DH43:DL43)","v":2997},{"$f":"SUM('2011 syoa'!Y43:AC43)+SUM('2011 syoa'!DM43:DQ43)","v":2626},{"$f":"SUM('2011 syoa'!AD43:AH43)+SUM('2011 syoa'!DR43:DV43)","v":2712},{"$f":"SUM('2011 syoa'!AI43:AM43)+SUM('2011 syoa'!DW43:EA43)","v":2760},{"$f":"SUM('2011 syoa'!AN43:AR43)+SUM('2011 syoa'!EB43:EF43)","v":2367},{"$f":"SUM('2011 syoa'!AS43:AW43)+SUM('2011 syoa'!EG43:EK43)","v":2043},{"$f":"SUM('2011 syoa'!AX43:BB43)+SUM('2011 syoa'!EL43:EP43)","v":1436},{"$f":"SUM('2011 syoa'!BC43:BG43)+SUM('2011 syoa'!EQ43:EU43)","v":1221},{"$f":"SUM('2011 syoa'!BH43:BL43)+SUM('2011 syoa'!EV43:EZ43)","v":1144},{"$f":"SUM('2011 syoa'!BM43:BQ43)+SUM('2011 syoa'!FA43:FE43)","v":736},{"$f":"SUM('2011 syoa'!BR43:BV43)+SUM('2011 syoa'!FF43:FJ43)","v":572},{"$f":"SUM('2011 syoa'!BW43:CA43)+SUM('2011 syoa'!FK43:FO43)","v":627},{"$f":"SUM('2011 syoa'!CB43:CF43)+SUM('2011 syoa'!FP43:FT43)","v":568},{"$f":"SUM('2011 syoa'!CG43:CK43)+SUM('2011 syoa'!FU43:FY43)","v":390},{"$f":"SUM('2011 syoa'!CL43:CP43)+SUM('2011 syoa'!FZ43:GD43)","v":180},{"$f":"SUM('2011 syoa'!CQ43)+SUM('2011 syoa'!GE43)","v":96}]
["E05001217","Weoley","Northfield",{"$f":"SUM('2011 syoa'!D44)+SUM('2011 syoa'!CR44)","v":25938},{"$f":"SUM('2011 syoa'!E44:I44)+SUM('2011 syoa'!CS44:CW44)","v":2061},{"$f":"SUM('2011 syoa'!J44:N44)+SUM('2011 syoa'!CX44:DB44)","v":1738},{"$f":"SUM('2011 syoa'!O44:S44)+SUM('2011 syoa'!DC44:DG44)","v":1758},{"$f":"SUM('2011 syoa'!T44:X44)+SUM('2011 syoa'!DH44:DL44)","v":1887},{"$f":"SUM('2011 syoa'!Y44:AC44)+SUM('2011 syoa'!DM44:DQ44)","v":1749},{"$f":"SUM('2011 syoa'!AD44:AH44)+SUM('2011 syoa'!DR44:DV44)","v":1751},{"$f":"SUM('2011 syoa'!AI44:AM44)+SUM('2011 syoa'!DW44:EA44)","v":1693},{"$f":"SUM('2011 syoa'!AN44:AR44)+SUM('2011 syoa'!EB44:EF44)","v":1740},{"$f":"SUM('2011 syoa'!AS44:AW44)+SUM('2011 syoa'!EG44:EK44)","v":1806},{"$f":"SUM('2011 syoa'!AX44:BB44)+SUM('2011 syoa'!EL44:EP44)","v":1748},{"$f":"SUM('2011 syoa'!BC44:BG44)+SUM('2011 syoa'!EQ44:EU44)","v":1572},{"$f":"SUM('2011 syoa'!BH44:BL44)+SUM('2011 syoa'!EV44:EZ44)","v":1323},{"$f":"SUM('2011 syoa'!BM44:BQ44)+SUM('2011 syoa'!FA44:FE44)","v":1204},{"$f":"SUM('2011 syoa'!BR44:BV44)+SUM('2011 syoa'!FF44:FJ44)","v":1044},{"$f":"SUM('2011 syoa'!BW44:CA44)+SUM('2011 syoa'!FK44:FO44)","v":856},{"$f":"SUM('2011 syoa'!CB44:CF44)+SUM('2011 syoa'!FP44:FT44)","v":784},{"$f":"SUM('2011 syoa'!CG44:CK44)+SUM('2011 syoa'!FU44:FY44)","v":651},{"$f":"SUM('2011 syoa'!CL44:CP44)+SUM('2011 syoa'!FZ44:GD44)","v":386},{"$f":"SUM('2011 syoa'!CQ44)+SUM('2011 syoa'!GE44)","v":187}]
[null,"Birmingham",null,{"$f":"SUM(D5:D44)","v":1074283},{"$f":"SUM(E5:E44)","v":82111},74724,73423,79035,94338,85862,79334,71296,72179,68285,58285,50309,46332,38071,32212,27975,21219,12732,6561]
["Office for National Statistics, Crown Copyright 2014","Office for National Statistics, Crown Copyright 2014"]
[]
["Service Development Team","Service Development Team"]
["Planning & Regeneration","Planning & Regeneration"]
["www.birmingham.gov.uk/census","www.birmingham.gov.uk/census"]
["population.census@birmingham.gov.uk","population.census@birmingham.gov.uk"]
["0121 303 4208","0121 303 4208"]

{"sheet":"2015 syoa","index":1,"n_rows":50,"n_cols":187,"rows_kept":50,"cut":false,"hidden":true,"merged":[[3,3,3,21],[3,22,3,40],[3,95,3,186]]}
["2015 Birmingham Ward population (experimental statistics)",null,null,null,null,"Estimates should be aggregated to at least five-year age groups before publication"]
[{"$f":"1","v":1},{"$f":"1+A2","v":2},{"$f":"1+B2","v":3},4,5,6,7,8,9,10,11,12,13,14,15,16,17,18,19,20,21,22,23,24,25,26,27,28,29,30,31,32,33,34,35,36,37,38,39,40,41,42,43,44,45,46,47,48,49,50,51,52,53,54,55,56,57,58,59,60,61,62,63,64,65,66,{"$f":"1+BN2","v":67},68,69,70,71,72,73,74,75,76,77,78,79,80,81,82,83,84,85,86,87,88,89,90,91,92,93,94,95,96,97,98,99,100,101,102,103,104,105,106,107,108,109,110,111,112,113,114,115,116,117,118,119,120,121,122,123,124,125,126,127,128,129,130,{"$f":"1+DZ2","v":131},132,133,134,135,136,137,138,139,140,141,142,143,144,145,146,147,148,149,150,151,152,153,154,155,156,157,158,159,160,161,162,163,164,165,166,167,168,169,170,171,172,173,174,175,176,177,178,179,180,181,182,183,184,185,186,187]
["ward","constituency","code","All males",0,1,2,3,4,5,6,7,8,9,10,11,12,13,14,15,16,17,18,19,20,21,22,23,24,25,26,27,28,29,30,31,32,33,34,35,36,37,38,39,40,41,42,43,44,45,46,47,48,49,50,51,52,53,54,55,56,57,58,59,60,61,62,63,64,65,66,67,68,69,70,71,72,73,74,75,76,77,78,79,80,81,82,83,84,85,86,87,88,89,90,"all females",0,{"$f":"CS3+1","v":1},{"$f":"CT3+1","v":2},3,4,5,6,7,8,9,10,11,12,13,14,15,16,17,18,19,20,21,22,23,24,25,26,27,28,29,30,31,32,33,34,35,36,37,38,39,40,41,42,43,44,45,46,47,48,49,50,51,52,53,54,55,56,57,58,59,60,61,62,63,64,65,{"$f":"FF3+1","v":66},67,68,69,70,71,72,73,74,75,76,77,78,79,80,81,82,83,84,85,86,87,88,89,90]
[null,null,null,"males"]
["Acocks Green","Yardley","E05001178",14363,244,241,231,248,231,216,276,212,247,197,185,211,217,211,201,204,225,215,237,214,224,225,221,207,202,217,203,202,250,190,235,220,237,233,210,217,223,184,167,176,189,172,171,165,207,192,193,180,177,193,176,164,185,191,160,155,140,135,136,129,123,114,125,135,109,127,109,88,97,94,73,89,80,63,84,73,68,68,56,52,39,50,42,53,37,45,33,28,24,16,53,14800,238,236,227,241,227,252,223,231,222,231,179,178,176,177,193,160,192,204,215,204,184,194,203,191,195,248,224,227,258,246,237,216,212,256,230,245,204,195,184,207,184,178,183,199,187,205,226,225,196,186,182,169,186,185,174,174,142,129,165,145,111,108,112,105,108,111,120,113,117,96,83,93,85,95,61,83,76,75,89,77,74,70,59,51,57,55,43,35,42,30,184]
["Aston","Ladywood","E05001179",16815,290,301,332,276,334,317,289,316,271,312,300,289,273,282,279,285,333,333,329,356,460,406,402,383,372,301,317,259,278,278,270,267,260,267,253,258,252,236,253,234,217,222,212,191,179,211,153,174,171,157,143,139,142,134,129,112,114,110,97,96,104,94,121,94,55,68,49,61,60,52,43,42,49,52,49,44,48,45,38,55,58,37,39,37,33,25,19,18,20,17,83,16558,285,300,275,327,277,266,324,282,278,287,282,286,263,236,267,279,271,289,277,317,484,468,427,388,324,273,254,251,274,270,249,249,263,254,238,250,225,203,190,220,202,182,235,199,193,201,163,172,179,165,154,168,152,160,151,138,105,116,105,113,102,96,96,95,85,80,83,68,65,53,61,50,70,59,70,78,67,59,77,53,54,42,34,41,44,35,29,29,26,11,71]
["Bartley Green","Edgbaston","E05001180",12182,197,200,164,213,196,185,219,192,175,181,172,164,154,170,187,183,161,176,155,174,185,189,175,191,168,178,141,146,130,159,154,151,178,153,158,156,162,154,138,141,171,150,150,156,150,131,140,159,145,142,150,165,180,157,160,116,126,144,130,111,138,124,129,116,147,105,116,128,155,106,122,100,105,76,77,59,53,68,43,61,55,42,40,29,41,42,34,11,28,17,57,13504,215,199,186,200,192,179,191,175,171,201,174,156,139,149,169,150,162,160,189,188,185,180,183,209,233,196,207,181,187,168,184,161,181,181,207,210,184,166,162,166,171,174,209,176,184,176,179,158,161,172,190,160,170,184,144,139,168,153,131,136,132,168,130,139,135,125,164,150,155,121,91,98,115,87,66,91,76,68,81,67,58,66,63,50,56,55,50,39,39,23,135]
["Billesley","Selly Oak","E05001181",12990,190,216,237,241,212,177,208,201,208,148,188,143,150,164,179,174,210,187,183,194,178,163,169,179,189,199,181,197,195,185,183,199,149,188,180,177,179,141,154,128,146,137,159,154,152,171,172,168,181,156,162,148,172,151,155,174,150,160,129,134,144,144,132,137,121,127,113,128,109,109,90,95,80,77,71,83,83,96,52,61,60,46,47,50,47,46,26,38,24,23,77,13913,193,194,211,221,178,169,194,176,156,178,213,173,175,152,178,147,157,168,189,145,174,176,180,170,198,200,208,206,204,203,201,187,210,179,188,241,187,152,175,171,153,156,155,166,178,181,173,194,182,206,189,204,198,211,180,172,142,164,152,154,151,116,121,123,132,137,114,137,128,107,99,100,105,82,83,98,92,100,98,91,80,72,85,85,64,65,49,46,39,39,188]
["Bordesley Green","Hodge Hill","E05001182",17644,320,363,403,392,375,390,390,389,375,367,386,355,371,358,341,346,361,336,369,308,307,280,291,238,278,293,256,279,261,255,299,285,271,245,267,268,248,233,238,232,232,218,237,210,202,213,203,207,168,167,140,136,136,126,124,126,103,124,139,118,118,92,108,88,78,71,56,62,60,52,43,52,61,54,52,58,50,55,73,51,51,46,46,48,32,37,19,19,12,13,39,18008,354,343,376,376,373,369,403,370,357,406,379,360,338,365,387,338,333,312,308,339,297,285,277,280,223,255,268,287,264,258,315,291,266,265,269,306,242,225,253,244,228,225,234,231,213,217,189,185,179,143,164,147,125,145,138,151,117,108,113,113,132,105,106,86,85,88,61,75,72,66,66,68,66,57,61,94,71,64,67,89,59,57,56,60,50,51,26,24,26,23,76]
["Bournville","Selly Oak","E05001183",12309,172,171,172,166,172,165,174,164,167,147,137,148,158,135,122,142,135,159,143,124,146,173,157,171,155,169,159,146,163,172,188,180,184,173,169,185,177,164,182,161,165,149,155,171,195,159,160,176,174,170,203,183,200,195,153,146,149,160,135,144,130,134,118,145,132,114,133,139,145,111,116,109,84,73,55,73,85,63,52,68,45,42,41,52,46,51,30,27,25,22,60,13553,176,162,160,163,198,154,146,188,158,176,162,144,121,122,132,133,152,169,171,143,114,161,155,169,192,174,188,155,180,178,182,182,188,176,199,194,195,175,154,162,180,156,196,205,226,188,196,201,195,198,184,189,196,192,193,155,158,177,162,146,133,153,167,139,153,144,146,148,140,98,121,117,124,92,88,102,94,98,85,84,69,74,62,69,66,72,52,63,47,41,216]
["Brandwood","Selly Oak","E05001184",12595,202,221,214,199,174,193,211,170,193,177,157,170,161,155,171,174,181,177,179,166,161,150,176,163,176,174,174,148,160,183,164,156,169,152,168,155,179,135,156,169,150,159,164,161,183,164,173,172,164,171,182,186,179,167,157,141,139,142,145,122,134,125,109,134,117,117,128,104,112,102,92,84,108,87,85,73,99,68,83,67,64,56,52,42,41,34,32,16,23,16,57,13190,199,197,199,177,196,179,172,171,162,161,153,148,138,142,131,150,138,159,143,137,152,149,172,198,176,171,177,179,181,163,176,169,170,174,184,193,212,147,164,189,176,151,177,177,212,196,193,226,190,193,184,183,155,163,171,145,151,145,137,111,149,149,133,126,122,133,128,117,157,113,97,135,111,111,79,92,94,97,87,75,69,64,57,60,66,54,48,40,56,38,149]
["Edgbaston","Edgbaston","E05001185",13956,170,146,127,146,134,116,121,137,113,110,99,88,103,95,91,155,142,150,374,1265,579,443,369,339,394,301,301,281,274,278,205,180,217,174,198,180,177,161,170,164,168,146,157,143,134,200,193,159,164,139,154,138,139,147,114,100,112,106,102,98,93,103,108,91,99,104,68,78,76,66,87,88,71,51,65,69,63,64,51,45,51,35,35,34,33,32,18,18,19,13,48,13109,139,124,125,125,120,129,95,108,94,103,75,83,98,87,89,149,140,169,420,1628,683,377,358,341,401,235,234,219,191,182,221,181,210,173,135,178,147,147,125,121,109,102,136,130,106,137,111,125,124,129,128,90,106,98,95,93,94,101,83,83,77,82,94,79,88,87,89,89,78,74,73,73,70,74,65,54,54,51,68,42,28,33,42,42,33,47,39,45,38,23,139]
["Erdington","Erdington","E05001186",11728,227,196,186,209,186,166,171,172,176,150,141,133,133,96,111,143,108,129,132,139,145,154,143,147,176,176,173,162,177,182,198,159,189,170,178,175,158,143,130,173,130,134,152,135,159,159,144,159,156,164,177,161,158,176,158,141,140,146,122,125,154,127,109,116,109,106,108,113,97,97,81,108,85,93,69,53,69,67,57,49,67,48,49,52,46,29,26,25,34,16,61,12168,172,205,181,157,182,174,150,141,137,121,150,123,105,117,110,126,113,124,139,147,152,150,149,165,187,176,200,186,198,182,195,177,194,203,173,187,151,168,165,158,142,143,145,148,165,163,162,147,157,158,180,155,190,144,138,163,145,149,137,118,112,89,117,106,124,105,109,126,105,104,97,111,96,86,89,78,80,81,72,75,94,83,64,74,66,54,42,48,37,63,142]
["Hall Green","Hall Green","E05001187",13311,195,184,183,198,197,215,214,210,193,198,221,203,212,185,199,186,203,212,215,181,178,169,156,178,173,168,186,169,165,164,177,177,164,166,171,183,166,164,168,146,186,193,177,173,164,174,180,177,190,182,199,145,173,184,157,156,144,145,150,133,138,144,120,138,111,118,95,136,132,87,112,94,94,79,77,87,82,77,54,69,72,60,55,44,49,39,37,32,29,22,54,13749,182,162,178,181,194,162,186,195,192,164,170,178,163,172,157,187,196,190,169,171,150,153,160,159,141,171,193,178,204,170,185,183,164,176,191,203,202,185,169,178,180,164,174,202,176,191,185,197,199,185,167,192,176,198,172,183,181,144,154,150,148,156,157,112,120,128,134,132,136,95,126,133,138,99,71,94,89,75,95,86,94,86,75,74,68,66,74,45,46,26,137]
["Handsworth Wood","Perry Barr","E05001188",14065,198,221,215,208,212,214,185,174,182,201,198,202,205,203,193,192,200,208,203,191,210,243,236,229,232,253,266,221,222,257,227,229,234,227,243,200,187,187,200,190,194,201,160,200,180,188,191,203,165,158,155,184,179,176,150,182,167,163,136,144,140,132,142,116,108,119,105,87,81,73,72,56,58,56,58,65,50,49,62,56,58,49,38,40,22,43,29,29,21,16,61,14278,191,193,189,193,172,161,199,198,164,171,210,173,166,172,182,181,202,193,209,222,215,271,238,233,229,251,233,234,211,257,208,217,234,185,224,249,210,191,173,196,184,173,182,167,182,177,167,197,199,171,197,216,233,212,195,180,155,155,134,138,129,150,147,125,110,128,93,96,87,76,59,74,76,59,79,91,70,79,70,82,64,60,60,57,54,49,36,38,42,24,100]
["Harborne","Edgbaston","E05001189",12136,156,180,162,160,153,155,146,143,148,136,121,121,111,100,119,118,100,113,101,93,135,158,182,260,301,308,235,243,255,248,243,224,230,223,240,198,174,185,181,187,191,165,172,181,167,161,171,156,172,134,142,142,141,137,122,111,112,116,111,117,114,118,108,108,109,111,109,102,114,76,102,96,57,74,69,64,69,58,57,51,38,38,35,43,35,38,35,33,18,19,71,12354,138,175,166,148,124,130,142,144,140,127,119,106,121,102,94,104,116,115,113,100,147,169,231,335,370,310,275,263,233,208,195,195,210,228,222,192,203,185,163,178,155,168,154,148,145,141,153,141,124,143,129,136,112,128,126,131,128,117,104,106,109,82,127,122,104,90,119,119,131,76,94,92,80,77,76,77,78,74,79,69,56,57,70,63,67,57,55,56,41,51,181]
["Hodge Hill","Hodge Hill","E05001190",14478,280,304,266,308,298,259,280,312,273,249,279,242,267,264,245,238,248,232,238,241,234,216,217,212,204,220,196,188,217,197,224,186,177,204,201,244,201,197,179,185,146,165,166,174,168,173,173,197,157,166,148,152,155,145,154,137,109,117,118,116,108,111,87,85,109,103,95,96,103,91,74,72,72,67,62,86,80,65,57,35,50,45,44,30,43,28,20,22,23,8,49,14926,248,239,269,251,275,251,291,251,276,253,270,266,232,273,252,243,274,236,261,225,205,226,186,181,181,237,221,190,253,204,199,206,223,231,233,211,206,205,193,169,198,170,199,193,179,204,197,184,176,180,162,160,138,129,118,140,140,118,137,121,98,89,104,102,93,101,88,93,81,68,86,70,86,90,74,85,75,78,97,72,82,63,68,66,55,58,45,41,39,24,116]
["Kings Norton","Northfield","E05001191",11625,202,202,165,201,218,177,190,194,192,150,161,181,192,122,141,173,154,171,170,145,147,163,138,135,158,167,159,142,146,125,130,144,144,135,137,142,152,127,151,125,151,127,128,135,146,170,145,149,170,162,156,150,137,130,141,153,126,130,133,95,99,117,127,131,105,126,131,135,145,121,106,104,96,68,60,73,80,71,62,70,48,57,48,39,32,25,26,16,17,16,72,12937,166,193,211,217,191,162,183,208,167,190,172,144,131,149,163,139,141,154,139,159,164,154,135,174,185,200,181,181,184,179,164,180,186,169,152,187,164,145,151,160,162,157,162,172,151,149,181,183,170,168,184,164,145,144,153,138,146,138,141,116,117,124,122,132,144,154,142,161,155,122,98,117,120,103,86,84,89,83,69,91,77,56,60,66,69,55,46,50,42,39,166]
["Kingstanding","Erdington","E05001192",12294,218,242,256,230,209,220,212,223,206,210,186,195,169,166,188,184,220,226,199,178,164,182,175,190,161,183,183,161,147,133,156,146,179,156,161,135,129,129,134,118,137,128,147,168,143,144,145,163,159,154,178,172,170,158,164,143,148,146,134,113,121,122,96,96,113,98,92,107,95,84,76,93,67,75,59,59,64,48,44,49,40,45,43,38,34,36,31,18,21,12,45,13524,190,198,209,228,203,194,209,200,179,210,219,172,172,182,197,193,181,209,183,198,157,206,173,188,174,190,201,201,206,178,185,181,199,162,178,195,180,174,175,186,170,169,157,158,201,173,179,183,196,189,222,162,183,192,168,131,131,155,146,132,138,118,114,127,96,113,78,121,88,106,108,95,107,96,81,75,70,76,74,68,62,60,44,46,42,50,34,43,37,23,122]
["Ladywood","Ladywood","E05001193",18768,214,174,183,189,173,145,145,117,107,124,106,100,96,76,83,120,104,107,150,246,465,523,669,692,970,814,761,780,755,770,601,521,546,506,453,396,342,298,282,290,242,245,227,204,203,213,186,175,194,183,156,152,174,149,135,109,118,109,114,83,96,99,85,76,65,63,60,55,52,41,38,59,42,39,23,31,23,27,29,37,19,31,27,20,13,16,9,5,9,2,13,15736,197,184,189,157,167,137,122,119,102,114,113,124,114,90,91,76,108,107,147,346,528,578,701,829,871,722,662,636,590,493,476,417,356,314,338,280,210,194,186,173,158,153,138,133,147,130,135,122,99,129,105,117,116,94,93,105,95,72,91,69,62,62,63,49,59,44,50,44,46,42,37,44,34,31,29,40,32,32,30,19,26,21,22,19,22,27,13,15,8,11,44]
["Longbridge","Northfield","E05001194",12581,215,238,189,216,204,216,192,202,189,189,175,163,158,156,165,168,175,149,190,192,150,155,148,176,155,170,180,142,160,150,181,159,169,160,161,184,177,168,149,171,152,134,156,168,145,145,183,159,186,181,162,166,152,184,158,147,135,150,142,137,149,144,139,127,122,128,134,126,155,119,99,80,82,92,48,78,67,79,51,57,58,45,45,25,40,31,23,17,22,14,37,13610,215,217,174,207,191,172,175,186,153,171,171,165,156,154,150,149,176,172,159,158,192,159,168,175,180,204,195,186,193,211,185,166,199,190,223,220,209,181,173,166,148,167,186,194,199,170,187,179,210,186,187,190,164,176,182,177,184,134,147,151,147,173,147,143,134,142,136,143,150,109,94,99,87,86,74,70,59,66,86,73,53,52,59,67,74,46,46,44,38,38,111]
["Lozells and East Handsworth","Perry Barr","E05001195",16574,304,296,293,333,260,259,337,310,295,332,264,285,298,318,281,266,269,225,298,287,259,291,287,256,267,266,258,276,302,281,314,285,292,281,280,288,264,236,246,250,228,222,214,231,226,215,201,204,172,164,143,161,178,180,141,143,140,133,123,116,101,111,112,101,88,74,47,54,49,49,48,62,56,61,49,65,62,61,49,51,55,41,51,54,44,34,28,15,22,12,44,15602,272,234,277,284,270,265,284,285,283,285,277,276,271,262,242,261,225,246,245,253,248,276,254,252,255,268,274,300,282,250,241,234,233,255,237,276,267,238,258,225,185,188,217,192,201,165,167,173,172,184,163,178,184,133,139,123,130,121,130,118,110,104,124,106,91,83,69,78,60,57,57,72,73,74,52,70,60,73,58,66,50,48,36,35,31,34,32,26,21,13,56]
["Moseley and Kings Heath","Hall Green","E05001196",12896,163,149,158,176,149,162,161,145,154,155,124,127,131,113,137,128,154,158,176,130,152,159,166,196,194,222,219,250,252,253,237,236,236,229,233,209,206,208,192,209,179,177,212,191,201,195,182,212,200,185,178,172,177,140,132,159,130,161,147,150,122,125,165,121,115,127,106,106,111,77,91,62,69,66,57,54,58,54,58,54,57,58,53,36,32,30,24,23,19,15,63,12561,152,178,160,144,139,130,137,149,139,138,109,123,113,117,121,137,129,126,135,147,142,162,174,211,220,219,224,232,242,272,216,213,226,192,215,211,182,184,160,176,181,174,170,186,172,187,183,164,162,175,162,165,153,177,152,143,126,134,141,137,120,134,137,115,121,140,102,124,124,108,92,80,81,58,68,65,74,58,67,67,63,57,53,63,47,45,35,24,27,34,138]
["Nechells","Ladywood","E05001197",19288,362,352,339,366,320,306,300,337,319,317,273,275,274,254,253,302,287,306,349,650,660,635,598,593,666,463,391,380,356,345,315,296,275,298,297,284,245,225,228,244,224,218,207,182,195,215,191,194,172,180,167,164,142,150,113,144,152,131,108,123,102,88,101,84,72,80,63,66,72,48,57,78,56,55,43,56,57,52,51,36,40,29,34,32,34,19,11,13,10,8,34,18731,359,323,355,342,322,302,351,279,289,299,246,258,252,215,261,250,231,251,331,797,722,616,613,635,635,416,365,362,335,344,291,304,291,275,277,275,248,234,241,223,199,189,170,184,180,189,163,154,160,145,133,160,146,135,150,126,113,109,92,95,112,76,79,93,78,82,68,61,62,49,72,64,51,57,60,66,66,58,47,52,54,48,41,37,27,27,34,19,26,18,40]
["Northfield","Northfield","E05001198",12765,182,175,191,200,174,160,167,193,177,184,174,156,144,140,120,137,141,160,170,163,183,168,175,170,201,184,181,178,154,166,185,150,142,149,158,145,126,145,128,135,139,161,167,168,150,173,166,174,186,202,215,192,197,175,194,163,158,163,148,156,141,134,138,141,140,159,155,115,160,120,121,125,123,84,85,76,82,69,60,61,63,57,78,51,44,31,33,26,21,27,67,13356,190,156,194,185,148,150,155,139,135,164,120,142,118,144,142,146,157,159,153,168,188,189,181,201,210,202,172,172,195,174,184,150,157,163,167,167,150,163,147,139,173,164,160,187,175,182,181,199,182,189,205,204,199,215,175,147,169,153,161,133,157,137,151,137,141,154,139,151,155,105,144,105,126,110,87,103,94,93,110,104,78,70,81,72,61,60,58,48,45,37,154]
["Oscott","Perry Barr","E05001199",11972,204,186,193,191,190,191,159,157,173,147,159,149,130,113,165,160,143,135,153,181,176,163,187,171,152,183,161,163,174,166,189,140,168,161,161,164,139,125,127,127,141,144,143,164,157,141,168,190,150,159,150,169,192,165,165,141,134,135,130,138,128,124,116,99,99,103,110,122,127,88,93,117,106,91,67,86,97,85,78,79,49,48,55,47,41,41,26,16,13,15,54,12948,195,177,193,209,148,154,160,186,142,154,136,146,139,134,143,152,157,161,155,132,169,180,165,146,186,189,204,216,194,176,165,158,170,184,160,172,147,145,136,138,157,154,166,154,187,199,219,173,205,230,176,194,160,210,167,153,161,151,121,122,117,121,86,115,118,116,119,118,142,127,124,130,125,99,86,68,88,84,98,86,71,77,88,73,60,55,56,43,42,32,152]
["Perry Barr","Perry Barr","E05001200",11628,190,183,188,169,184,185,198,166,192,168,187,172,163,172,148,174,146,163,151,200,218,206,187,194,178,200,182,186,166,175,194,167,158,173,171,162,158,152,146,132,161,144,121,132,171,147,168,149,129,135,154,119,154,136,123,123,105,118,115,113,101,83,103,101,89,77,80,93,82,86,104,82,68,71,69,57,59,58,59,56,43,54,33,29,35,18,19,24,16,15,43,12245,168,176,169,171,186,175,169,181,157,172,176,165,129,136,153,137,153,172,168,283,239,228,213,215,215,183,154,189,165,195,173,175,183,157,181,175,169,160,158,170,125,138,119,168,160,150,149,140,175,166,156,167,162,147,144,129,143,128,135,117,88,86,83,82,72,104,87,103,126,83,82,90,88,76,77,72,77,68,58,91,64,60,52,44,49,51,42,31,26,31,91]
["Quinton","Edgbaston","E05001201",11744,201,187,214,190,185,181,181,192,172,171,164,190,146,151,157,147,174,159,150,151,154,156,147,161,140,154,149,157,142,142,181,156,155,173,138,151,163,139,139,154,144,161,163,180,156,170,154,149,157,137,150,149,157,152,153,116,135,116,92,98,128,129,125,117,119,89,103,93,129,101,101,85,96,75,77,62,71,65,70,56,61,55,54,54,41,32,36,26,22,17,52,12648,188,191,214,177,200,169,181,165,165,177,136,163,150,144,164,132,157,146,164,138,149,143,153,140,173,166,177,173,165,177,191,165,180,182,182,186,200,170,167,188,163,134,170,177,190,196,185,175,165,171,173,149,139,142,154,147,150,138,133,125,115,122,114,107,109,119,121,126,137,107,111,95,101,78,87,74,71,90,91,89,78,74,76,59,51,45,50,40,34,31,122]
["Selly Oak","Selly Oak","E05001202",13825,121,103,99,117,97,105,110,86,85,85,87,71,68,72,65,93,85,90,154,550,1223,1437,1357,1129,804,279,227,244,199,182,146,140,119,129,131,140,139,139,127,117,117,113,111,121,102,96,99,92,75,76,100,73,78,71,71,77,62,72,67,75,78,77,68,53,67,70,59,49,65,50,44,37,48,54,31,35,51,48,40,39,45,26,32,23,25,21,15,18,14,10,34,13913,124,98,98,98,105,106,89,78,90,72,67,76,66,65,59,75,77,89,160,679,1649,1752,1297,994,719,247,216,176,147,114,121,135,117,120,122,112,109,109,92,112,87,87,87,74,87,90,95,61,78,76,68,89,80,80,80,79,75,75,75,73,59,63,62,56,47,56,52,67,66,45,52,50,42,48,44,58,55,53,42,49,41,34,32,34,31,34,33,30,31,30,90]
["Shard End","Hodge Hill","E05001203",13075,247,256,253,271,230,249,225,235,234,210,205,195,181,156,171,175,180,167,194,170,177,172,168,199,166,216,172,161,176,161,204,218,195,161,156,169,175,127,140,133,140,141,152,180,161,185,159,172,170,171,163,149,154,160,147,148,130,150,118,120,108,128,108,132,110,122,142,133,154,109,107,80,85,82,59,69,69,42,66,54,55,47,42,40,35,22,23,23,16,14,79,14580,224,220,259,264,260,210,228,209,208,211,188,182,152,176,164,135,153,157,158,176,197,207,207,249,223,210,267,239,254,231,219,212,225,221,210,186,207,168,153,143,149,174,194,187,195,194,175,192,196,187,179,180,180,175,185,158,148,158,134,127,138,130,137,116,123,137,112,136,148,96,113,121,95,105,71,62,77,83,66,66,72,63,67,76,64,46,60,48,57,40,226]
["Sheldon","Yardley","E05001204",11166,166,164,184,200,157,165,171,129,143,142,158,137,159,150,145,144,151,134,149,145,144,152,144,137,132,165,170,157,138,159,163,142,149,137,139,120,127,119,138,119,118,122,123,149,169,151,144,145,161,171,160,156,172,156,151,129,155,143,116,98,126,118,100,109,97,99,95,114,104,109,95,113,112,82,66,78,84,70,63,54,60,58,50,49,48,36,34,21,16,14,59,11683,162,159,127,159,157,146,117,155,139,148,137,153,120,123,120,142,131,140,125,129,147,145,156,148,142,174,188,175,170,153,149,148,141,142,144,167,157,136,135,157,128,118,125,145,160,176,155,160,171,185,156,150,182,180,164,153,145,129,128,99,112,118,124,100,103,117,122,94,132,117,102,109,102,92,84,87,94,108,80,92,77,75,65,65,50,61,47,38,37,30,177]
["Soho","Ladywood","E05001205",16446,278,304,314,330,277,293,286,280,302,259,269,280,261,236,254,203,220,226,230,236,235,232,297,318,312,333,319,310,323,308,299,294,333,302,308,313,274,271,239,254,265,217,232,214,242,228,194,190,188,166,178,163,159,174,142,132,134,124,108,99,106,106,107,104,70,71,60,69,58,67,51,53,63,63,49,74,60,43,51,49,34,39,34,34,26,29,32,17,11,12,43,15683,277,260,278,281,277,279,283,291,250,273,262,227,232,219,219,221,210,240,205,259,243,241,251,246,250,265,259,301,263,297,264,288,276,255,299,274,264,205,220,202,218,221,192,203,205,206,196,210,186,177,165,166,169,165,147,151,146,127,102,121,105,108,97,98,78,98,62,87,78,54,58,82,75,58,72,64,63,73,57,67,55,54,43,34,43,43,21,35,31,26,85]
["South Yardley","Yardley","E05001206",15984,296,307,318,301,328,279,297,311,297,300,280,290,267,254,234,209,246,218,233,221,186,236,191,178,242,252,258,244,192,212,244,224,257,241,245,246,249,230,214,202,223,204,203,208,199,197,202,204,185,196,178,175,187,199,175,190,155,154,147,150,146,146,118,109,113,114,88,96,115,98,74,85,68,58,60,76,72,65,57,66,55,45,51,54,33,33,35,21,24,15,34,16351,267,353,295,302,278,293,303,280,278,254,267,214,237,221,208,227,222,218,236,228,218,232,215,234,234,268,282,280,319,272,253,243,258,253,257,270,242,218,244,224,183,199,180,240,206,185,189,178,185,203,188,225,196,195,171,173,150,157,167,121,137,128,121,111,114,133,96,106,116,85,93,72,99,93,81,69,66,81,60,58,64,59,54,57,58,44,31,35,33,26,83]
["Sparkbrook","Hall Green","E05001207",16981,273,347,319,298,340,324,308,323,318,349,307,257,311,305,295,295,324,315,281,291,305,317,299,298,300,341,310,297,319,319,287,302,306,278,260,256,249,228,240,267,214,212,214,204,177,184,187,175,160,151,180,152,136,115,113,132,129,129,128,114,121,121,114,111,80,84,55,57,61,44,55,70,61,62,43,68,56,57,57,55,58,53,46,44,39,30,18,27,13,13,44,16116,258,307,286,270,273,249,321,291,283,291,300,294,283,272,290,328,278,284,274,319,293,276,295,306,250,277,286,300,288,300,266,245,263,236,255,238,211,220,188,204,180,194,183,199,182,207,180,179,157,138,183,144,149,134,123,148,144,132,129,124,113,115,113,96,85,82,84,87,81,64,74,58,47,51,55,67,65,66,68,48,74,51,41,49,38,53,20,22,21,15,56]
["Springfield","Hall Green","E05001208",16586,311,319,334,289,286,297,333,322,292,312,310,300,311,278,254,265,285,283,296,246,267,288,249,268,238,293,261,275,265,287,280,263,283,270,269,260,254,238,237,241,191,222,228,227,207,214,189,163,187,149,153,149,142,154,136,131,135,144,134,136,131,124,134,109,93,97,86,84,60,59,49,51,75,76,57,52,70,70,54,51,61,54,57,42,36,39,25,17,20,11,42,16346,263,301,298,286,290,301,312,283,273,296,288,283,298,269,283,254,259,271,266,237,257,275,248,271,246,268,269,284,290,254,265,260,255,268,285,269,220,230,222,218,202,223,199,177,200,211,172,183,179,142,167,152,135,142,122,143,133,117,135,134,139,126,112,107,110,100,107,92,93,92,74,84,82,81,71,69,67,81,84,67,58,58,42,46,45,37,32,27,27,23,80]
["Stechford and Yardley North","Yardley","E05001209",13194,222,221,234,213,216,232,230,229,217,239,223,191,187,179,200,190,189,194,223,208,173,184,179,185,190,239,184,187,162,177,195,173,176,171,169,168,157,147,135,138,144,140,171,150,168,164,156,165,146,160,176,180,161,167,153,148,157,144,132,144,129,119,114,122,110,124,99,111,118,92,89,89,87,70,67,72,78,77,67,49,69,68,52,46,40,34,34,25,23,23,45,13667,223,210,223,211,188,226,200,212,204,206,202,187,181,196,176,199,183,194,182,190,201,198,209,179,181,214,196,213,207,209,170,197,181,165,180,201,162,184,171,147,173,144,164,174,189,178,171,176,179,183,182,174,168,146,178,154,139,145,125,138,109,125,90,98,84,106,104,120,112,110,94,94,111,88,80,75,93,86,87,73,76,49,72,57,57,48,55,42,36,34,164]
["Stockland Green","Erdington","E05001210",12817,210,206,216,210,197,160,180,167,177,172,159,138,149,147,161,165,156,161,180,166,197,226,187,219,230,218,213,213,207,242,248,221,212,233,234,203,177,171,189,145,172,170,182,150,162,168,175,171,183,188,161,173,199,168,138,153,132,130,133,131,115,128,130,81,100,92,85,92,88,83,53,77,60,68,46,48,60,57,47,55,41,39,41,25,32,38,30,26,17,17,45,12887,169,180,217,189,191,172,171,157,153,156,157,146,164,136,137,147,141,152,152,155,162,215,232,211,233,221,188,229,232,236,231,240,230,207,213,211,178,163,153,174,138,136,168,180,185,178,195,176,179,171,201,200,153,201,154,141,157,130,143,120,95,104,100,86,102,112,101,95,115,76,66,85,66,73,68,64,70,71,58,66,40,41,58,49,44,51,36,26,35,15,112]
["Sutton Four Oaks","Sutton Coldfield","E05001211",11720,132,122,141,133,142,145,154,181,176,143,163,160,155,159,167,147,169,135,137,111,101,100,106,118,103,134,133,118,109,119,90,97,114,125,103,120,118,104,124,158,153,140,143,174,182,157,180,183,164,172,188,179,184,171,151,146,133,150,147,149,137,137,129,113,144,130,142,145,167,142,137,148,125,113,87,93,87,111,96,91,88,70,91,75,89,57,48,59,37,34,86,12706,133,136,150,142,146,132,125,154,151,165,150,151,145,143,143,151,142,138,141,121,103,91,110,125,101,120,89,128,114,120,91,100,122,118,115,150,153,146,146,165,161,143,145,177,214,174,196,211,191,184,215,211,179,176,170,151,180,130,165,167,128,136,155,153,125,145,150,156,179,147,193,158,144,122,109,104,125,132,118,133,140,95,97,122,104,83,75,57,57,51,207]
["Sutton New Hall","Sutton Coldfield","E05001212",10698,112,114,106,112,113,119,105,116,148,104,141,130,130,104,124,138,124,134,137,114,130,86,103,120,113,128,117,116,113,99,112,98,109,107,95,119,127,105,122,125,118,131,149,131,135,161,183,161,174,161,159,161,158,185,154,151,172,173,149,144,161,167,150,157,126,153,141,160,185,122,121,143,113,85,82,80,99,59,56,57,63,42,59,55,53,45,52,32,26,24,51,11487,97,108,104,102,113,122,138,116,105,130,107,116,92,102,118,113,103,121,130,108,100,78,101,107,119,118,114,90,97,104,120,120,95,116,105,113,142,142,104,116,129,152,140,161,175,160,170,178,180,192,173,195,173,185,162,183,167,152,166,163,166,172,159,164,175,168,151,177,194,135,128,146,139,100,93,88,104,99,104,104,95,87,71,85,59,94,64,61,57,51,195]
["Sutton Trinity","Sutton Coldfield","E05001213",12085,159,140,181,177,155,138,142,137,150,153,169,149,143,160,126,158,148,160,139,140,119,154,128,156,133,140,129,145,130,145,137,159,142,164,152,128,122,125,130,136,145,176,152,203,174,155,174,171,166,188,191,184,168,193,190,162,147,160,146,126,143,137,153,137,108,147,144,137,165,122,116,126,115,92,83,95,87,72,74,76,76,63,64,62,52,45,62,38,29,26,70,12961,143,163,142,151,150,166,148,165,134,135,152,126,132,113,144,120,162,141,130,113,152,125,145,159,150,170,159,151,157,160,154,146,144,118,158,157,129,154,157,163,146,174,162,169,195,175,183,193,181,229,198,209,181,197,188,190,173,172,140,129,157,143,132,144,134,147,147,148,155,133,163,156,107,124,98,111,113,99,82,93,96,90,94,76,95,73,61,62,68,50,188]
["Sutton Vesey","Sutton Coldfield","E05001214",11193,122,140,119,143,126,143,129,143,132,138,101,125,121,129,127,139,139,113,120,115,136,143,115,125,133,155,119,126,111,136,136,104,138,114,134,122,115,112,134,152,142,132,124,143,132,154,157,168,173,162,168,186,191,190,153,183,166,155,152,138,136,134,163,138,134,138,136,139,139,115,99,132,116,96,91,73,92,86,76,83,62,68,69,61,51,49,36,51,38,26,73,11811,108,106,135,144,140,129,105,118,105,134,129,123,118,119,130,118,111,138,147,108,107,94,125,127,132,122,109,128,135,123,116,105,121,128,126,145,138,122,147,143,151,136,158,156,159,155,153,162,179,199,200,207,191,194,180,182,188,148,153,147,144,138,146,155,130,143,139,159,149,117,130,133,136,115,86,107,105,123,108,101,91,84,72,81,67,66,64,68,69,45,184]
["Tyburn","Erdington","E05001215",12184,178,177,194,226,194,195,194,199,192,183,182,181,184,165,160,175,179,174,197,163,181,197,182,196,172,171,174,186,162,138,161,163,174,135,172,147,136,122,106,131,127,157,152,174,146,165,168,167,189,186,164,170,163,146,153,168,128,125,141,128,118,124,95,85,95,91,73,90,116,87,100,82,86,69,72,70,67,59,74,68,68,42,46,67,36,42,34,21,23,16,53,13352,180,213,201,198,167,148,174,184,207,184,182,173,180,173,187,165,158,172,195,189,163,198,178,194,144,197,183,202,198,184,165,186,207,179,193,175,162,152,134,159,161,164,148,174,194,189,183,201,186,204,205,203,204,192,179,143,149,122,144,105,124,132,119,116,101,100,113,93,117,97,93,97,87,88,83,75,92,89,79,89,74,85,75,59,67,55,54,50,47,37,132]
["Washwood Heath","Hodge Hill","E05001216",17647,316,382,358,362,318,350,355,408,364,384,377,392,349,390,362,356,345,354,340,327,328,309,300,302,301,309,272,280,268,262,302,305,272,272,268,306,278,268,250,236,234,224,225,218,185,208,207,193,176,152,139,134,139,140,118,125,111,114,98,119,91,104,91,94,78,84,58,60,56,37,42,39,43,34,52,41,42,44,47,57,42,33,32,24,26,36,32,18,17,14,43,17393,343,343,357,354,323,339,372,392,348,362,350,337,346,350,315,343,321,322,327,319,304,316,269,257,246,290,279,280,287,249,260,286,268,266,265,304,257,251,238,205,238,222,225,238,243,201,197,163,161,156,129,127,134,130,116,118,107,121,114,108,100,113,108,94,93,71,56,86,76,58,47,56,61,59,51,63,49,64,65,65,75,49,50,38,47,37,31,31,17,22,73]
["Weoley","Northfield","E05001217",12490,214,216,227,233,219,209,233,181,218,184,177,185,170,161,162,156,203,197,173,168,163,209,194,191,200,172,195,156,157,147,187,155,164,150,145,164,163,139,158,137,156,178,157,162,162,145,162,157,125,185,137,157,137,137,142,149,134,136,143,124,111,110,131,113,100,80,115,111,120,104,78,104,73,78,65,72,56,62,60,52,46,56,48,52,42,32,41,36,23,25,77,13565,194,200,187,190,204,192,187,187,170,184,205,166,160,135,133,151,172,176,160,190,196,170,202,205,215,206,180,192,199,187,159,143,165,185,163,202,178,192,173,166,163,161,161,156,187,192,198,199,222,169,194,178,202,183,163,167,145,145,156,130,135,123,108,125,117,106,123,116,116,118,99,115,104,78,70,90,94,100,87,75,67,63,78,73,68,78,52,48,49,36,162]
[null,null,null,{"$f":"SUM(D5:D44)","v":548798},8653,8846,8858,9040,8535,8373,8578,8475,8342,8077,7865,7643,7562,7244,7283,7507,7717,7641,8197,9540,9935,10212,9970,9970,10031,9508,8865,8671,8532,8547,8641,8071,8266,7985,7966,7837,7444,6881,6921,6932,6842,6751,6835,6945,6836,6956,6871,6882,6681,6575,6535,6350,6497,6331,5799,5662,5366,5463,5095,4904,4883,4818,4728,{"$f":"SUM(BP5:BP44)","v":4464},4156,4210,3943,4041,4289,3490,3351,3461,3195,2861,2520,2680,2749,2534,2331,2282,2164,1917,1898,1732,1558,1390,1175,965,839,665,2172,562509,8187,8313,8444,8422,8135,7795,8115,7999,7516,7854,7554,7206,6886,6805,6994,7008,7084,7344,7770,10265,10532,10463,10089,10197,9939,9223,8955,8972,8946,8531,8221,8011,8173,7901,8093,{"$f":"SUM(EB5:EB44)","v":8377},7603,7124,6899,7001,6690,6577,6825,7056,7285,7138,7031,7019,6967,6956,6879,6829,6564,6589,6154,5917,5720,5369,5328,4955,4827,4774,4714,4484,4343,4529,4278,4512,4624,3706,3751,3821,3712,3311,2965,3157,3128,3188,3098,3014,2752,2487,2418,2374,2216,2116,1770,1612,1536,1254,5244]
[null,"Males "]
[null,"Females"]
[]
["Office for National Statistics"]
["Crown Copyright 2017"]

{"sheet":"2015 number rank","index":2,"n_rows":52,"n_cols":23,"rows_kept":52,"cut":false,"hidden":true,"merged":[]}
["2015 Birmingham population size rankings"]
[]
["Ward Name","constituency","code","All Ages","0-4","5-9","10-14","15-19","20-24","25-29","30-34","35-39","40-44","45-49","50-54","55-59","60-64","65-69","70-74","75-79","80-84","85-89","90+"]
[]
["Acocks Green","Yardley","E05001178",{"$f":"RANK('2016 syoa'!D5,'2016 syoa'!$D$5:$D$44,0)","v":12},{"$f":"RANK('2016 syoa'!E5,'2016 syoa'!$E$5:$E$44,0)","v":12},{"$f":"RANK('2016 syoa'!F5,'2016 syoa'!$F$5:$F$44,0)","v":12},{"$f":"RANK('2016 syoa'!G5,'2016 syoa'!$G$5:$G$44,0)","v":12},{"$f":"RANK('2016 syoa'!H5,'2016 syoa'!$H$5:$H$44,0)","v":15},{"$f":"RANK('2016 syoa'!I5,'2016 syoa'!$I$5:$I$44,0)","v":12},{"$f":"RANK('2016 syoa'!J5,'2016 syoa'!$J$5:$J$44,0)","v":12},{"$f":"RANK('2016 syoa'!K5,'2016 syoa'!$K$5:$K$44,0)","v":14},{"$f":"RANK('2016 syoa'!L5,'2016 syoa'!$L$5:$L$44,0)","v":11},{"$f":"RANK('2016 syoa'!M5,'2016 syoa'!$M$5:$M$44,0)","v":14},{"$f":"RANK('2016 syoa'!N5,'2016 syoa'!$N$5:$N$44,0)","v":11},{"$f":"RANK('2016 syoa'!O5,'2016 syoa'!$O$5:$O$44,0)","v":16},{"$f":"RANK('2016 syoa'!P5,'2016 syoa'!$P$5:$P$44,0)","v":18},{"$f":"RANK('2016 syoa'!Q5,'2016 syoa'!$Q$5:$Q$44,0)","v":11},{"$f":"RANK('2016 syoa'!R5,'2016 syoa'!$R$5:$R$44,0)","v":11},{"$f":"RANK('2016 syoa'!S5,'2016 syoa'!$S$5:$S$44,0)","v":12},{"$f":"RANK('2016 syoa'!T5,'2016 syoa'!$T$5:$T$44,0)","v":14},{"$f":"RANK('2016 syoa'!U5,'2016 syoa'!$U$5:$U$44,0)","v":11},{"$f":"RANK('2016 syoa'!V5,'2016 syoa'!$V$5:$V$44,0)","v":9},{"$f":"RANK('2016 syoa'!W5,'2016 syoa'!$W$5:$W$44,0)","v":15}]
["Aston","Ladywood","E05001179",{"$f":"RANK('2016 syoa'!D6,'2016 syoa'!$D$5:$D$44,0)","v":5},{"$f":"RANK('2016 syoa'!E6,'2016 syoa'!$E$5:$E$44,0)","v":4},{"$f":"RANK('2016 syoa'!F6,'2016 syoa'!$F$5:$F$44,0)","v":4},{"$f":"RANK('2016 syoa'!G6,'2016 syoa'!$G$5:$G$44,0)","v":7},{"$f":"RANK('2016 syoa'!H6,'2016 syoa'!$H$5:$H$44,0)","v":3},{"$f":"RANK('2016 syoa'!I6,'2016 syoa'!$I$5:$I$44,0)","v":10},{"$f":"RANK('2016 syoa'!J6,'2016 syoa'!$J$5:$J$44,0)","v":6},{"$f":"RANK('2016 syoa'!K6,'2016 syoa'!$K$5:$K$44,0)","v":4},{"$f":"RANK('2016 syoa'!L6,'2016 syoa'!$L$5:$L$44,0)","v":8},{"$f":"RANK('2016 syoa'!M6,'2016 syoa'!$M$5:$M$44,0)","v":3},{"$f":"RANK('2016 syoa'!N6,'2016 syoa'!$N$5:$N$44,0)","v":10},{"$f":"RANK('2016 syoa'!O6,'2016 syoa'!$O$5:$O$44,0)","v":7},{"$f":"RANK('2016 syoa'!P6,'2016 syoa'!$P$5:$P$44,0)","v":6},{"$f":"RANK('2016 syoa'!Q6,'2016 syoa'!$Q$5:$Q$44,0)","v":5},{"$f":"RANK('2016 syoa'!R6,'2016 syoa'!$R$5:$R$44,0)","v":7},{"$f":"RANK('2016 syoa'!S6,'2016 syoa'!$S$5:$S$44,0)","v":5},{"$f":"RANK('2016 syoa'!T6,'2016 syoa'!$T$5:$T$44,0)","v":3},{"$f":"RANK('2016 syoa'!U6,'2016 syoa'!$U$5:$U$44,0)","v":5},{"$f":"RANK('2016 syoa'!V6,'2016 syoa'!$V$5:$V$44,0)","v":4},{"$f":"RANK('2016 syoa'!W6,'2016 syoa'!$W$5:$W$44,0)","v":5}]
["Bartley Green","Edgbaston","E05001180",{"$f":"RANK('2016 syoa'!D7,'2016 syoa'!$D$5:$D$44,0)","v":28},{"$f":"RANK('2016 syoa'!E7,'2016 syoa'!$E$5:$E$44,0)","v":23},{"$f":"RANK('2016 syoa'!F7,'2016 syoa'!$F$5:$F$44,0)","v":21},{"$f":"RANK('2016 syoa'!G7,'2016 syoa'!$G$5:$G$44,0)","v":20},{"$f":"RANK('2016 syoa'!H7,'2016 syoa'!$H$5:$H$44,0)","v":31},{"$f":"RANK('2016 syoa'!I7,'2016 syoa'!$I$5:$I$44,0)","v":19},{"$f":"RANK('2016 syoa'!J7,'2016 syoa'!$J$5:$J$44,0)","v":18},{"$f":"RANK('2016 syoa'!K7,'2016 syoa'!$K$5:$K$44,0)","v":20},{"$f":"RANK('2016 syoa'!L7,'2016 syoa'!$L$5:$L$44,0)","v":15},{"$f":"RANK('2016 syoa'!M7,'2016 syoa'!$M$5:$M$44,0)","v":22},{"$f":"RANK('2016 syoa'!N7,'2016 syoa'!$N$5:$N$44,0)","v":29},{"$f":"RANK('2016 syoa'!O7,'2016 syoa'!$O$5:$O$44,0)","v":21},{"$f":"RANK('2016 syoa'!P7,'2016 syoa'!$P$5:$P$44,0)","v":21},{"$f":"RANK('2016 syoa'!Q7,'2016 syoa'!$Q$5:$Q$44,0)","v":22},{"$f":"RANK('2016 syoa'!R7,'2016 syoa'!$R$5:$R$44,0)","v":26},{"$f":"RANK('2016 syoa'!S7,'2016 syoa'!$S$5:$S$44,0)","v":16},{"$f":"RANK('2016 syoa'!T7,'2016 syoa'!$T$5:$T$44,0)","v":16},{"$f":"RANK('2016 syoa'!U7,'2016 syoa'!$U$5:$U$44,0)","v":14},{"$f":"RANK('2016 syoa'!V7,'2016 syoa'!$V$5:$V$44,0)","v":25},{"$f":"RANK('2016 syoa'!W7,'2016 syoa'!$W$5:$W$44,0)","v":21}]
["Billesley","Selly Oak","E05001181",{"$f":"RANK('2016 syoa'!D8,'2016 syoa'!$D$5:$D$44,0)","v":21},{"$f":"RANK('2016 syoa'!E8,'2016 syoa'!$E$5:$E$44,0)","v":19},{"$f":"RANK('2016 syoa'!F8,'2016 syoa'!$F$5:$F$44,0)","v":26},{"$f":"RANK('2016 syoa'!G8,'2016 syoa'!$G$5:$G$44,0)","v":18},{"$f":"RANK('2016 syoa'!H8,'2016 syoa'!$H$5:$H$44,0)","v":13},{"$f":"RANK('2016 syoa'!I8,'2016 syoa'!$I$5:$I$44,0)","v":13},{"$f":"RANK('2016 syoa'!J8,'2016 syoa'!$J$5:$J$44,0)","v":19},{"$f":"RANK('2016 syoa'!K8,'2016 syoa'!$K$5:$K$44,0)","v":24},{"$f":"RANK('2016 syoa'!L8,'2016 syoa'!$L$5:$L$44,0)","v":19},{"$f":"RANK('2016 syoa'!M8,'2016 syoa'!$M$5:$M$44,0)","v":16},{"$f":"RANK('2016 syoa'!N8,'2016 syoa'!$N$5:$N$44,0)","v":16},{"$f":"RANK('2016 syoa'!O8,'2016 syoa'!$O$5:$O$44,0)","v":29},{"$f":"RANK('2016 syoa'!P8,'2016 syoa'!$P$5:$P$44,0)","v":16},{"$f":"RANK('2016 syoa'!Q8,'2016 syoa'!$Q$5:$Q$44,0)","v":32},{"$f":"RANK('2016 syoa'!R8,'2016 syoa'!$R$5:$R$44,0)","v":30},{"$f":"RANK('2016 syoa'!S8,'2016 syoa'!$S$5:$S$44,0)","v":18},{"$f":"RANK('2016 syoa'!T8,'2016 syoa'!$T$5:$T$44,0)","v":17},{"$f":"RANK('2016 syoa'!U8,'2016 syoa'!$U$5:$U$44,0)","v":16},{"$f":"RANK('2016 syoa'!V8,'2016 syoa'!$V$5:$V$44,0)","v":15},{"$f":"RANK('2016 syoa'!W8,'2016 syoa'!$W$5:$W$44,0)","v":18}]
["Bordesley Green","Hodge Hill","E05001182",{"$f":"RANK('2016 syoa'!D9,'2016 syoa'!$D$5:$D$44,0)","v":3},{"$f":"RANK('2016 syoa'!E9,'2016 syoa'!$E$5:$E$44,0)","v":3},{"$f":"RANK('2016 syoa'!F9,'2016 syoa'!$F$5:$F$44,0)","v":2},{"$f":"RANK('2016 syoa'!G9,'2016 syoa'!$G$5:$G$44,0)","v":2},{"$f":"RANK('2016 syoa'!H9,'2016 syoa'!$H$5:$H$44,0)","v":1},{"$f":"RANK('2016 syoa'!I9,'2016 syoa'!$I$5:$I$44,0)","v":1},{"$f":"RANK('2016 syoa'!J9,'2016 syoa'!$J$5:$J$44,0)","v":1},{"$f":"RANK('2016 syoa'!K9,'2016 syoa'!$K$5:$K$44,0)","v":1},{"$f":"RANK('2016 syoa'!L9,'2016 syoa'!$L$5:$L$44,0)","v":1},{"$f":"RANK('2016 syoa'!M9,'2016 syoa'!$M$5:$M$44,0)","v":2},{"$f":"RANK('2016 syoa'!N9,'2016 syoa'!$N$5:$N$44,0)","v":1},{"$f":"RANK('2016 syoa'!O9,'2016 syoa'!$O$5:$O$44,0)","v":2},{"$f":"RANK('2016 syoa'!P9,'2016 syoa'!$P$5:$P$44,0)","v":1},{"$f":"RANK('2016 syoa'!Q9,'2016 syoa'!$Q$5:$Q$44,0)","v":2},{"$f":"RANK('2016 syoa'!R9,'2016 syoa'!$R$5:$R$44,0)","v":1},{"$f":"RANK('2016 syoa'!S9,'2016 syoa'!$S$5:$S$44,0)","v":2},{"$f":"RANK('2016 syoa'!T9,'2016 syoa'!$T$5:$T$44,0)","v":1},{"$f":"RANK('2016 syoa'!U9,'2016 syoa'!$U$5:$U$44,0)","v":2},{"$f":"RANK('2016 syoa'!V9,'2016 syoa'!$V$5:$V$44,0)","v":1},{"$f":"RANK('2016 syoa'!W9,'2016 syoa'!$W$5:$W$44,0)","v":4}]
["Bournville","Selly Oak","E05001183",{"$f":"RANK('2016 syoa'!D10,'2016 syoa'!$D$5:$D$44,0)","v":27},{"$f":"RANK('2016 syoa'!E10,'2016 syoa'!$E$5:$E$44,0)","v":35},{"$f":"RANK('2016 syoa'!F10,'2016 syoa'!$F$5:$F$44,0)","v":32},{"$f":"RANK('2016 syoa'!G10,'2016 syoa'!$G$5:$G$44,0)","v":31},{"$f":"RANK('2016 syoa'!H10,'2016 syoa'!$H$5:$H$44,0)","v":34},{"$f":"RANK('2016 syoa'!I10,'2016 syoa'!$I$5:$I$44,0)","v":32},{"$f":"RANK('2016 syoa'!J10,'2016 syoa'!$J$5:$J$44,0)","v":27},{"$f":"RANK('2016 syoa'!K10,'2016 syoa'!$K$5:$K$44,0)","v":32},{"$f":"RANK('2016 syoa'!L10,'2016 syoa'!$L$5:$L$44,0)","v":27},{"$f":"RANK('2016 syoa'!M10,'2016 syoa'!$M$5:$M$44,0)","v":29},{"$f":"RANK('2016 syoa'!N10,'2016 syoa'!$N$5:$N$44,0)","v":27},{"$f":"RANK('2016 syoa'!O10,'2016 syoa'!$O$5:$O$44,0)","v":35},{"$f":"RANK('2016 syoa'!P10,'2016 syoa'!$P$5:$P$44,0)","v":33},{"$f":"RANK('2016 syoa'!Q10,'2016 syoa'!$Q$5:$Q$44,0)","v":30},{"$f":"RANK('2016 syoa'!R10,'2016 syoa'!$R$5:$R$44,0)","v":23},{"$f":"RANK('2016 syoa'!S10,'2016 syoa'!$S$5:$S$44,0)","v":31},{"$f":"RANK('2016 syoa'!T10,'2016 syoa'!$T$5:$T$44,0)","v":35},{"$f":"RANK('2016 syoa'!U10,'2016 syoa'!$U$5:$U$44,0)","v":30},{"$f":"RANK('2016 syoa'!V10,'2016 syoa'!$V$5:$V$44,0)","v":35},{"$f":"RANK('2016 syoa'!W10,'2016 syoa'!$W$5:$W$44,0)","v":26}]
["Brandwood","Selly Oak","E05001184",{"$f":"RANK('2016 syoa'!D11,'2016 syoa'!$D$5:$D$44,0)","v":23},{"$f":"RANK('2016 syoa'!E11,'2016 syoa'!$E$5:$E$44,0)","v":19},{"$f":"RANK('2016 syoa'!F11,'2016 syoa'!$F$5:$F$44,0)","v":19},{"$f":"RANK('2016 syoa'!G11,'2016 syoa'!$G$5:$G$44,0)","v":18},{"$f":"RANK('2016 syoa'!H11,'2016 syoa'!$H$5:$H$44,0)","v":17},{"$f":"RANK('2016 syoa'!I11,'2016 syoa'!$I$5:$I$44,0)","v":22},{"$f":"RANK('2016 syoa'!J11,'2016 syoa'!$J$5:$J$44,0)","v":31},{"$f":"RANK('2016 syoa'!K11,'2016 syoa'!$K$5:$K$44,0)","v":22},{"$f":"RANK('2016 syoa'!L11,'2016 syoa'!$L$5:$L$44,0)","v":17},{"$f":"RANK('2016 syoa'!M11,'2016 syoa'!$M$5:$M$44,0)","v":30},{"$f":"RANK('2016 syoa'!N11,'2016 syoa'!$N$5:$N$44,0)","v":19},{"$f":"RANK('2016 syoa'!O11,'2016 syoa'!$O$5:$O$44,0)","v":23},{"$f":"RANK('2016 syoa'!P11,'2016 syoa'!$P$5:$P$44,0)","v":27},{"$f":"RANK('2016 syoa'!Q11,'2016 syoa'!$Q$5:$Q$44,0)","v":20},{"$f":"RANK('2016 syoa'!R11,'2016 syoa'!$R$5:$R$44,0)","v":23},{"$f":"RANK('2016 syoa'!S11,'2016 syoa'!$S$5:$S$44,0)","v":20},{"$f":"RANK('2016 syoa'!T11,'2016 syoa'!$T$5:$T$44,0)","v":19},{"$f":"RANK('2016 syoa'!U11,'2016 syoa'!$U$5:$U$44,0)","v":22},{"$f":"RANK('2016 syoa'!V11,'2016 syoa'!$V$5:$V$44,0)","v":18},{"$f":"RANK('2016 syoa'!W11,'2016 syoa'!$W$5:$W$44,0)","v":20}]
["Edgbaston","Edgbaston","E05001185",{"$f":"RANK('2016 syoa'!D12,'2016 syoa'!$D$5:$D$44,0)","v":13},{"$f":"RANK('2016 syoa'!E12,'2016 syoa'!$E$5:$E$44,0)","v":36},{"$f":"RANK('2016 syoa'!F12,'2016 syoa'!$F$5:$F$44,0)","v":35},{"$f":"RANK('2016 syoa'!G12,'2016 syoa'!$G$5:$G$44,0)","v":37},{"$f":"RANK('2016 syoa'!H12,'2016 syoa'!$H$5:$H$44,0)","v":38},{"$f":"RANK('2016 syoa'!I12,'2016 syoa'!$I$5:$I$44,0)","v":37},{"$f":"RANK('2016 syoa'!J12,'2016 syoa'!$J$5:$J$44,0)","v":38},{"$f":"RANK('2016 syoa'!K12,'2016 syoa'!$K$5:$K$44,0)","v":39},{"$f":"RANK('2016 syoa'!L12,'2016 syoa'!$L$5:$L$44,0)","v":38},{"$f":"RANK('2016 syoa'!M12,'2016 syoa'!$M$5:$M$44,0)","v":34},{"$f":"RANK('2016 syoa'!N12,'2016 syoa'!$N$5:$N$44,0)","v":38},{"$f":"RANK('2016 syoa'!O12,'2016 syoa'!$O$5:$O$44,0)","v":39},{"$f":"RANK('2016 syoa'!P12,'2016 syoa'!$P$5:$P$44,0)","v":38},{"$f":"RANK('2016 syoa'!Q12,'2016 syoa'!$Q$5:$Q$44,0)","v":38},{"$f":"RANK('2016 syoa'!R12,'2016 syoa'!$R$5:$R$44,0)","v":38},{"$f":"RANK('2016 syoa'!S12,'2016 syoa'!$S$5:$S$44,0)","v":38},{"$f":"RANK('2016 syoa'!T12,'2016 syoa'!$T$5:$T$44,0)","v":28},{"$f":"RANK('2016 syoa'!U12,'2016 syoa'!$U$5:$U$44,0)","v":28},{"$f":"RANK('2016 syoa'!V12,'2016 syoa'!$V$5:$V$44,0)","v":30},{"$f":"RANK('2016 syoa'!W12,'2016 syoa'!$W$5:$W$44,0)","v":2}]
["Erdington","Erdington","E05001186",{"$f":"RANK('2016 syoa'!D13,'2016 syoa'!$D$5:$D$44,0)","v":34},{"$f":"RANK('2016 syoa'!E13,'2016 syoa'!$E$5:$E$44,0)","v":15},{"$f":"RANK('2016 syoa'!F13,'2016 syoa'!$F$5:$F$44,0)","v":18},{"$f":"RANK('2016 syoa'!G13,'2016 syoa'!$G$5:$G$44,0)","v":22},{"$f":"RANK('2016 syoa'!H13,'2016 syoa'!$H$5:$H$44,0)","v":26},{"$f":"RANK('2016 syoa'!I13,'2016 syoa'!$I$5:$I$44,0)","v":24},{"$f":"RANK('2016 syoa'!J13,'2016 syoa'!$J$5:$J$44,0)","v":26},{"$f":"RANK('2016 syoa'!K13,'2016 syoa'!$K$5:$K$44,0)","v":27},{"$f":"RANK('2016 syoa'!L13,'2016 syoa'!$L$5:$L$44,0)","v":25},{"$f":"RANK('2016 syoa'!M13,'2016 syoa'!$M$5:$M$44,0)","v":25},{"$f":"RANK('2016 syoa'!N13,'2016 syoa'!$N$5:$N$44,0)","v":25},{"$f":"RANK('2016 syoa'!O13,'2016 syoa'!$O$5:$O$44,0)","v":32},{"$f":"RANK('2016 syoa'!P13,'2016 syoa'!$P$5:$P$44,0)","v":34},{"$f":"RANK('2016 syoa'!Q13,'2016 syoa'!$Q$5:$Q$44,0)","v":31},{"$f":"RANK('2016 syoa'!R13,'2016 syoa'!$R$5:$R$44,0)","v":32},{"$f":"RANK('2016 syoa'!S13,'2016 syoa'!$S$5:$S$44,0)","v":37},{"$f":"RANK('2016 syoa'!T13,'2016 syoa'!$T$5:$T$44,0)","v":38},{"$f":"RANK('2016 syoa'!U13,'2016 syoa'!$U$5:$U$44,0)","v":33},{"$f":"RANK('2016 syoa'!V13,'2016 syoa'!$V$5:$V$44,0)","v":37},{"$f":"RANK('2016 syoa'!W13,'2016 syoa'!$W$5:$W$44,0)","v":37}]
["Hall Green","Hall Green","E05001187",{"$f":"RANK('2016 syoa'!D14,'2016 syoa'!$D$5:$D$44,0)","v":16},{"$f":"RANK('2016 syoa'!E14,'2016 syoa'!$E$5:$E$44,0)","v":19},{"$f":"RANK('2016 syoa'!F14,'2016 syoa'!$F$5:$F$44,0)","v":28},{"$f":"RANK('2016 syoa'!G14,'2016 syoa'!$G$5:$G$44,0)","v":25},{"$f":"RANK('2016 syoa'!H14,'2016 syoa'!$H$5:$H$44,0)","v":24},{"$f":"RANK('2016 syoa'!I14,'2016 syoa'!$I$5:$I$44,0)","v":30},{"$f":"RANK('2016 syoa'!J14,'2016 syoa'!$J$5:$J$44,0)","v":21},{"$f":"RANK('2016 syoa'!K14,'2016 syoa'!$K$5:$K$44,0)","v":15},{"$f":"RANK('2016 syoa'!L14,'2016 syoa'!$L$5:$L$44,0)","v":16},{"$f":"RANK('2016 syoa'!M14,'2016 syoa'!$M$5:$M$44,0)","v":15},{"$f":"RANK('2016 syoa'!N14,'2016 syoa'!$N$5:$N$44,0)","v":21},{"$f":"RANK('2016 syoa'!O14,'2016 syoa'!$O$5:$O$44,0)","v":15},{"$f":"RANK('2016 syoa'!P14,'2016 syoa'!$P$5:$P$44,0)","v":11},{"$f":"RANK('2016 syoa'!Q14,'2016 syoa'!$Q$5:$Q$44,0)","v":13},{"$f":"RANK('2016 syoa'!R14,'2016 syoa'!$R$5:$R$44,0)","v":12},{"$f":"RANK('2016 syoa'!S14,'2016 syoa'!$S$5:$S$44,0)","v":13},{"$f":"RANK('2016 syoa'!T14,'2016 syoa'!$T$5:$T$44,0)","v":11},{"$f":"RANK('2016 syoa'!U14,'2016 syoa'!$U$5:$U$44,0)","v":13},{"$f":"RANK('2016 syoa'!V14,'2016 syoa'!$V$5:$V$44,0)","v":14},{"$f":"RANK('2016 syoa'!W14,'2016 syoa'!$W$5:$W$44,0)","v":13}]
["Handsworth Wood","Perry Barr","E05001188",{"$f":"RANK('2016 syoa'!D15,'2016 syoa'!$D$5:$D$44,0)","v":14},{"$f":"RANK('2016 syoa'!E15,'2016 syoa'!$E$5:$E$44,0)","v":26},{"$f":"RANK('2016 syoa'!F15,'2016 syoa'!$F$5:$F$44,0)","v":20},{"$f":"RANK('2016 syoa'!G15,'2016 syoa'!$G$5:$G$44,0)","v":17},{"$f":"RANK('2016 syoa'!H15,'2016 syoa'!$H$5:$H$44,0)","v":19},{"$f":"RANK('2016 syoa'!I15,'2016 syoa'!$I$5:$I$44,0)","v":16},{"$f":"RANK('2016 syoa'!J15,'2016 syoa'!$J$5:$J$44,0)","v":19},{"$f":"RANK('2016 syoa'!K15,'2016 syoa'!$K$5:$K$44,0)","v":18},{"$f":"RANK('2016 syoa'!L15,'2016 syoa'!$L$5:$L$44,0)","v":24},{"$f":"RANK('2016 syoa'!M15,'2016 syoa'!$M$5:$M$44,0)","v":26},{"$f":"RANK('2016 syoa'!N15,'2016 syoa'!$N$5:$N$44,0)","v":24},{"$f":"RANK('2016 syoa'!O15,'2016 syoa'!$O$5:$O$44,0)","v":11},{"$f":"RANK('2016 syoa'!P15,'2016 syoa'!$P$5:$P$44,0)","v":14},{"$f":"RANK('2016 syoa'!Q15,'2016 syoa'!$Q$5:$Q$44,0)","v":12},{"$f":"RANK('2016 syoa'!R15,'2016 syoa'!$R$5:$R$44,0)","v":13},{"$f":"RANK('2016 syoa'!S15,'2016 syoa'!$S$5:$S$44,0)","v":11},{"$f":"RANK('2016 syoa'!T15,'2016 syoa'!$T$5:$T$44,0)","v":15},{"$f":"RANK('2016 syoa'!U15,'2016 syoa'!$U$5:$U$44,0)","v":12},{"$f":"RANK('2016 syoa'!V15,'2016 syoa'!$V$5:$V$44,0)","v":13},{"$f":"RANK('2016 syoa'!W15,'2016 syoa'!$W$5:$W$44,0)","v":14}]
["Harborne","Edgbaston","E05001189",{"$f":"RANK('2016 syoa'!D16,'2016 syoa'!$D$5:$D$44,0)","v":26},{"$f":"RANK('2016 syoa'!E16,'2016 syoa'!$E$5:$E$44,0)","v":27},{"$f":"RANK('2016 syoa'!F16,'2016 syoa'!$F$5:$F$44,0)","v":34},{"$f":"RANK('2016 syoa'!G16,'2016 syoa'!$G$5:$G$44,0)","v":32},{"$f":"RANK('2016 syoa'!H16,'2016 syoa'!$H$5:$H$44,0)","v":30},{"$f":"RANK('2016 syoa'!I16,'2016 syoa'!$I$5:$I$44,0)","v":35},{"$f":"RANK('2016 syoa'!J16,'2016 syoa'!$J$5:$J$44,0)","v":35},{"$f":"RANK('2016 syoa'!K16,'2016 syoa'!$K$5:$K$44,0)","v":34},{"$f":"RANK('2016 syoa'!L16,'2016 syoa'!$L$5:$L$44,0)","v":34},{"$f":"RANK('2016 syoa'!M16,'2016 syoa'!$M$5:$M$44,0)","v":35},{"$f":"RANK('2016 syoa'!N16,'2016 syoa'!$N$5:$N$44,0)","v":33},{"$f":"RANK('2016 syoa'!O16,'2016 syoa'!$O$5:$O$44,0)","v":37},{"$f":"RANK('2016 syoa'!P16,'2016 syoa'!$P$5:$P$44,0)","v":36},{"$f":"RANK('2016 syoa'!Q16,'2016 syoa'!$Q$5:$Q$44,0)","v":36},{"$f":"RANK('2016 syoa'!R16,'2016 syoa'!$R$5:$R$44,0)","v":37},{"$f":"RANK('2016 syoa'!S16,'2016 syoa'!$S$5:$S$44,0)","v":36},{"$f":"RANK('2016 syoa'!T16,'2016 syoa'!$T$5:$T$44,0)","v":32},{"$f":"RANK('2016 syoa'!U16,'2016 syoa'!$U$5:$U$44,0)","v":38},{"$f":"RANK('2016 syoa'!V16,'2016 syoa'!$V$5:$V$44,0)","v":38},{"$f":"RANK('2016 syoa'!W16,'2016 syoa'!$W$5:$W$44,0)","v":40}]
["Hodge Hill","Hodge Hill","E05001190",{"$f":"RANK('2016 syoa'!D17,'2016 syoa'!$D$5:$D$44,0)","v":11},{"$f":"RANK('2016 syoa'!E17,'2016 syoa'!$E$5:$E$44,0)","v":8},{"$f":"RANK('2016 syoa'!F17,'2016 syoa'!$F$5:$F$44,0)","v":8},{"$f":"RANK('2016 syoa'!G17,'2016 syoa'!$G$5:$G$44,0)","v":8},{"$f":"RANK('2016 syoa'!H17,'2016 syoa'!$H$5:$H$44,0)","v":10},{"$f":"RANK('2016 syoa'!I17,'2016 syoa'!$I$5:$I$44,0)","v":6},{"$f":"RANK('2016 syoa'!J17,'2016 syoa'!$J$5:$J$44,0)","v":7},{"$f":"RANK('2016 syoa'!K17,'2016 syoa'!$K$5:$K$44,0)","v":9},{"$f":"RANK('2016 syoa'!L17,'2016 syoa'!$L$5:$L$44,0)","v":10},{"$f":"RANK('2016 syoa'!M17,'2016 syoa'!$M$5:$M$44,0)","v":9},{"$f":"RANK('2016 syoa'!N17,'2016 syoa'!$N$5:$N$44,0)","v":9},{"$f":"RANK('2016 syoa'!O17,'2016 syoa'!$O$5:$O$44,0)","v":9},{"$f":"RANK('2016 syoa'!P17,'2016 syoa'!$P$5:$P$44,0)","v":7},{"$f":"RANK('2016 syoa'!Q17,'2016 syoa'!$Q$5:$Q$44,0)","v":10},{"$f":"RANK('2016 syoa'!R17,'2016 syoa'!$R$5:$R$44,0)","v":9},{"$f":"RANK('2016 syoa'!S17,'2016 syoa'!$S$5:$S$44,0)","v":5},{"$f":"RANK('2016 syoa'!T17,'2016 syoa'!$T$5:$T$44,0)","v":8},{"$f":"RANK('2016 syoa'!U17,'2016 syoa'!$U$5:$U$44,0)","v":8},{"$f":"RANK('2016 syoa'!V17,'2016 syoa'!$V$5:$V$44,0)","v":10},{"$f":"RANK('2016 syoa'!W17,'2016 syoa'!$W$5:$W$44,0)","v":10}]
["Kings Norton","Northfield","E05001191",{"$f":"RANK('2016 syoa'!D18,'2016 syoa'!$D$5:$D$44,0)","v":37},{"$f":"RANK('2016 syoa'!E18,'2016 syoa'!$E$5:$E$44,0)","v":28},{"$f":"RANK('2016 syoa'!F18,'2016 syoa'!$F$5:$F$44,0)","v":25},{"$f":"RANK('2016 syoa'!G18,'2016 syoa'!$G$5:$G$44,0)","v":20},{"$f":"RANK('2016 syoa'!H18,'2016 syoa'!$H$5:$H$44,0)","v":33},{"$f":"RANK('2016 syoa'!I18,'2016 syoa'!$I$5:$I$44,0)","v":29},{"$f":"RANK('2016 syoa'!J18,'2016 syoa'!$J$5:$J$44,0)","v":14},{"$f":"RANK('2016 syoa'!K18,'2016 syoa'!$K$5:$K$44,0)","v":24},{"$f":"RANK('2016 syoa'!L18,'2016 syoa'!$L$5:$L$44,0)","v":22},{"$f":"RANK('2016 syoa'!M18,'2016 syoa'!$M$5:$M$44,0)","v":19},{"$f":"RANK('2016 syoa'!N18,'2016 syoa'!$N$5:$N$44,0)","v":22},{"$f":"RANK('2016 syoa'!O18,'2016 syoa'!$O$5:$O$44,0)","v":27},{"$f":"RANK('2016 syoa'!P18,'2016 syoa'!$P$5:$P$44,0)","v":27},{"$f":"RANK('2016 syoa'!Q18,'2016 syoa'!$Q$5:$Q$44,0)","v":21},{"$f":"RANK('2016 syoa'!R18,'2016 syoa'!$R$5:$R$44,0)","v":14},{"$f":"RANK('2016 syoa'!S18,'2016 syoa'!$S$5:$S$44,0)","v":32},{"$f":"RANK('2016 syoa'!T18,'2016 syoa'!$T$5:$T$44,0)","v":31},{"$f":"RANK('2016 syoa'!U18,'2016 syoa'!$U$5:$U$44,0)","v":23},{"$f":"RANK('2016 syoa'!V18,'2016 syoa'!$V$5:$V$44,0)","v":29},{"$f":"RANK('2016 syoa'!W18,'2016 syoa'!$W$5:$W$44,0)","v":24}]
["Kingstanding","Erdington","E05001192",{"$f":"RANK('2016 syoa'!D19,'2016 syoa'!$D$5:$D$44,0)","v":29},{"$f":"RANK('2016 syoa'!E19,'2016 syoa'!$E$5:$E$44,0)","v":17},{"$f":"RANK('2016 syoa'!F19,'2016 syoa'!$F$5:$F$44,0)","v":13},{"$f":"RANK('2016 syoa'!G19,'2016 syoa'!$G$5:$G$44,0)","v":13},{"$f":"RANK('2016 syoa'!H19,'2016 syoa'!$H$5:$H$44,0)","v":12},{"$f":"RANK('2016 syoa'!I19,'2016 syoa'!$I$5:$I$44,0)","v":14},{"$f":"RANK('2016 syoa'!J19,'2016 syoa'!$J$5:$J$44,0)","v":17},{"$f":"RANK('2016 syoa'!K19,'2016 syoa'!$K$5:$K$44,0)","v":16},{"$f":"RANK('2016 syoa'!L19,'2016 syoa'!$L$5:$L$44,0)","v":18},{"$f":"RANK('2016 syoa'!M19,'2016 syoa'!$M$5:$M$44,0)","v":13},{"$f":"RANK('2016 syoa'!N19,'2016 syoa'!$N$5:$N$44,0)","v":14},{"$f":"RANK('2016 syoa'!O19,'2016 syoa'!$O$5:$O$44,0)","v":13},{"$f":"RANK('2016 syoa'!P19,'2016 syoa'!$P$5:$P$44,0)","v":17},{"$f":"RANK('2016 syoa'!Q19,'2016 syoa'!$Q$5:$Q$44,0)","v":14},{"$f":"RANK('2016 syoa'!R19,'2016 syoa'!$R$5:$R$44,0)","v":19},{"$f":"RANK('2016 syoa'!S19,'2016 syoa'!$S$5:$S$44,0)","v":20},{"$f":"RANK('2016 syoa'!T19,'2016 syoa'!$T$5:$T$44,0)","v":12},{"$f":"RANK('2016 syoa'!U19,'2016 syoa'!$U$5:$U$44,0)","v":18},{"$f":"RANK('2016 syoa'!V19,'2016 syoa'!$V$5:$V$44,0)","v":12},{"$f":"RANK('2016 syoa'!W19,'2016 syoa'!$W$5:$W$44,0)","v":11}]
["Ladywood","Ladywood","E05001193",{"$f":"RANK('2016 syoa'!D20,'2016 syoa'!$D$5:$D$44,0)","v":2},{"$f":"RANK('2016 syoa'!E20,'2016 syoa'!$E$5:$E$44,0)","v":16},{"$f":"RANK('2016 syoa'!F20,'2016 syoa'!$F$5:$F$44,0)","v":27},{"$f":"RANK('2016 syoa'!G20,'2016 syoa'!$G$5:$G$44,0)","v":27},{"$f":"RANK('2016 syoa'!H20,'2016 syoa'!$H$5:$H$44,0)","v":31},{"$f":"RANK('2016 syoa'!I20,'2016 syoa'!$I$5:$I$44,0)","v":28},{"$f":"RANK('2016 syoa'!J20,'2016 syoa'!$J$5:$J$44,0)","v":29},{"$f":"RANK('2016 syoa'!K20,'2016 syoa'!$K$5:$K$44,0)","v":35},{"$f":"RANK('2016 syoa'!L20,'2016 syoa'!$L$5:$L$44,0)","v":35},{"$f":"RANK('2016 syoa'!M20,'2016 syoa'!$M$5:$M$44,0)","v":38},{"$f":"RANK('2016 syoa'!N20,'2016 syoa'!$N$5:$N$44,0)","v":39},{"$f":"RANK('2016 syoa'!O20,'2016 syoa'!$O$5:$O$44,0)","v":36},{"$f":"RANK('2016 syoa'!P20,'2016 syoa'!$P$5:$P$44,0)","v":37},{"$f":"RANK('2016 syoa'!Q20,'2016 syoa'!$Q$5:$Q$44,0)","v":38},{"$f":"RANK('2016 syoa'!R20,'2016 syoa'!$R$5:$R$44,0)","v":39},{"$f":"RANK('2016 syoa'!S20,'2016 syoa'!$S$5:$S$44,0)","v":39},{"$f":"RANK('2016 syoa'!T20,'2016 syoa'!$T$5:$T$44,0)","v":39},{"$f":"RANK('2016 syoa'!U20,'2016 syoa'!$U$5:$U$44,0)","v":38},{"$f":"RANK('2016 syoa'!V20,'2016 syoa'!$V$5:$V$44,0)","v":39},{"$f":"RANK('2016 syoa'!W20,'2016 syoa'!$W$5:$W$44,0)","v":36}]
["Longbridge","Northfield","E05001194",{"$f":"RANK('2016 syoa'!D21,'2016 syoa'!$D$5:$D$44,0)","v":25},{"$f":"RANK('2016 syoa'!E21,'2016 syoa'!$E$5:$E$44,0)","v":22},{"$f":"RANK('2016 syoa'!F21,'2016 syoa'!$F$5:$F$44,0)","v":17},{"$f":"RANK('2016 syoa'!G21,'2016 syoa'!$G$5:$G$44,0)","v":15},{"$f":"RANK('2016 syoa'!H21,'2016 syoa'!$H$5:$H$44,0)","v":22},{"$f":"RANK('2016 syoa'!I21,'2016 syoa'!$I$5:$I$44,0)","v":20},{"$f":"RANK('2016 syoa'!J21,'2016 syoa'!$J$5:$J$44,0)","v":16},{"$f":"RANK('2016 syoa'!K21,'2016 syoa'!$K$5:$K$44,0)","v":17},{"$f":"RANK('2016 syoa'!L21,'2016 syoa'!$L$5:$L$44,0)","v":21},{"$f":"RANK('2016 syoa'!M21,'2016 syoa'!$M$5:$M$44,0)","v":17},{"$f":"RANK('2016 syoa'!N21,'2016 syoa'!$N$5:$N$44,0)","v":17},{"$f":"RANK('2016 syoa'!O21,'2016 syoa'!$O$5:$O$44,0)","v":22},{"$f":"RANK('2016 syoa'!P21,'2016 syoa'!$P$5:$P$44,0)","v":23},{"$f":"RANK('2016 syoa'!Q21,'2016 syoa'!$Q$5:$Q$44,0)","v":24},{"$f":"RANK('2016 syoa'!R21,'2016 syoa'!$R$5:$R$44,0)","v":27},{"$f":"RANK('2016 syoa'!S21,'2016 syoa'!$S$5:$S$44,0)","v":24},{"$f":"RANK('2016 syoa'!T21,'2016 syoa'!$T$5:$T$44,0)","v":21},{"$f":"RANK('2016 syoa'!U21,'2016 syoa'!$U$5:$U$44,0)","v":20},{"$f":"RANK('2016 syoa'!V21,'2016 syoa'!$V$5:$V$44,0)","v":22},{"$f":"RANK('2016 syoa'!W21,'2016 syoa'!$W$5:$W$44,0)","v":31}]
["Lozells and East Handsworth","Perry Barr","E05001195",{"$f":"RANK('2016 syoa'!D22,'2016 syoa'!$D$5:$D$44,0)","v":7},{"$f":"RANK('2016 syoa'!E22,'2016 syoa'!$E$5:$E$44,0)","v":9},{"$f":"RANK('2016 syoa'!F22,'2016 syoa'!$F$5:$F$44,0)","v":6},{"$f":"RANK('2016 syoa'!G22,'2016 syoa'!$G$5:$G$44,0)","v":5},{"$f":"RANK('2016 syoa'!H22,'2016 syoa'!$H$5:$H$44,0)","v":9},{"$f":"RANK('2016 syoa'!I22,'2016 syoa'!$I$5:$I$44,0)","v":4},{"$f":"RANK('2016 syoa'!J22,'2016 syoa'!$J$5:$J$44,0)","v":9},{"$f":"RANK('2016 syoa'!K22,'2016 syoa'!$K$5:$K$44,0)","v":10},{"$f":"RANK('2016 syoa'!L22,'2016 syoa'!$L$5:$L$44,0)","v":3},{"$f":"RANK('2016 syoa'!M22,'2016 syoa'!$M$5:$M$44,0)","v":8},{"$f":"RANK('2016 syoa'!N22,'2016 syoa'!$N$5:$N$44,0)","v":8},{"$f":"RANK('2016 syoa'!O22,'2016 syoa'!$O$5:$O$44,0)","v":3},{"$f":"RANK('2016 syoa'!P22,'2016 syoa'!$P$5:$P$44,0)","v":9},{"$f":"RANK('2016 syoa'!Q22,'2016 syoa'!$Q$5:$Q$44,0)","v":4},{"$f":"RANK('2016 syoa'!R22,'2016 syoa'!$R$5:$R$44,0)","v":4},{"$f":"RANK('2016 syoa'!S22,'2016 syoa'!$S$5:$S$44,0)","v":3},{"$f":"RANK('2016 syoa'!T22,'2016 syoa'!$T$5:$T$44,0)","v":6},{"$f":"RANK('2016 syoa'!U22,'2016 syoa'!$U$5:$U$44,0)","v":6},{"$f":"RANK('2016 syoa'!V22,'2016 syoa'!$V$5:$V$44,0)","v":7},{"$f":"RANK('2016 syoa'!W22,'2016 syoa'!$W$5:$W$44,0)","v":8}]
["Moseley and Kings Heath","Hall Green","E05001196",{"$f":"RANK('2016 syoa'!D23,'2016 syoa'!$D$5:$D$44,0)","v":20},{"$f":"RANK('2016 syoa'!E23,'2016 syoa'!$E$5:$E$44,0)","v":33},{"$f":"RANK('2016 syoa'!F23,'2016 syoa'!$F$5:$F$44,0)","v":36},{"$f":"RANK('2016 syoa'!G23,'2016 syoa'!$G$5:$G$44,0)","v":34},{"$f":"RANK('2016 syoa'!H23,'2016 syoa'!$H$5:$H$44,0)","v":35},{"$f":"RANK('2016 syoa'!I23,'2016 syoa'!$I$5:$I$44,0)","v":34},{"$f":"RANK('2016 syoa'!J23,'2016 syoa'!$J$5:$J$44,0)","v":32},{"$f":"RANK('2016 syoa'!K23,'2016 syoa'!$K$5:$K$44,0)","v":31},{"$f":"RANK('2016 syoa'!L23,'2016 syoa'!$L$5:$L$44,0)","v":33},{"$f":"RANK('2016 syoa'!M23,'2016 syoa'!$M$5:$M$44,0)","v":33},{"$f":"RANK('2016 syoa'!N23,'2016 syoa'!$N$5:$N$44,0)","v":34},{"$f":"RANK('2016 syoa'!O23,'2016 syoa'!$O$5:$O$44,0)","v":28},{"$f":"RANK('2016 syoa'!P23,'2016 syoa'!$P$5:$P$44,0)","v":35},{"$f":"RANK('2016 syoa'!Q23,'2016 syoa'!$Q$5:$Q$44,0)","v":37},{"$f":"RANK('2016 syoa'!R23,'2016 syoa'!$R$5:$R$44,0)","v":34},{"$f":"RANK('2016 syoa'!S23,'2016 syoa'!$S$5:$S$44,0)","v":34},{"$f":"RANK('2016 syoa'!T23,'2016 syoa'!$T$5:$T$44,0)","v":30},{"$f":"RANK('2016 syoa'!U23,'2016 syoa'!$U$5:$U$44,0)","v":37},{"$f":"RANK('2016 syoa'!V23,'2016 syoa'!$V$5:$V$44,0)","v":26},{"$f":"RANK('2016 syoa'!W23,'2016 syoa'!$W$5:$W$44,0)","v":28}]
["Nechells","Ladywood","E05001197",{"$f":"RANK('2016 syoa'!D24,'2016 syoa'!$D$5:$D$44,0)","v":1},{"$f":"RANK('2016 syoa'!E24,'2016 syoa'!$E$5:$E$44,0)","v":2},{"$f":"RANK('2016 syoa'!F24,'2016 syoa'!$F$5:$F$44,0)","v":1},{"$f":"RANK('2016 syoa'!G24,'2016 syoa'!$G$5:$G$44,0)","v":4},{"$f":"RANK('2016 syoa'!H24,'2016 syoa'!$H$5:$H$44,0)","v":4},{"$f":"RANK('2016 syoa'!I24,'2016 syoa'!$I$5:$I$44,0)","v":2},{"$f":"RANK('2016 syoa'!J24,'2016 syoa'!$J$5:$J$44,0)","v":5},{"$f":"RANK('2016 syoa'!K24,'2016 syoa'!$K$5:$K$44,0)","v":6},{"$f":"RANK('2016 syoa'!L24,'2016 syoa'!$L$5:$L$44,0)","v":7},{"$f":"RANK('2016 syoa'!M24,'2016 syoa'!$M$5:$M$44,0)","v":6},{"$f":"RANK('2016 syoa'!N24,'2016 syoa'!$N$5:$N$44,0)","v":3},{"$f":"RANK('2016 syoa'!O24,'2016 syoa'!$O$5:$O$44,0)","v":6},{"$f":"RANK('2016 syoa'!P24,'2016 syoa'!$P$5:$P$44,0)","v":10},{"$f":"RANK('2016 syoa'!Q24,'2016 syoa'!$Q$5:$Q$44,0)","v":8},{"$f":"RANK('2016 syoa'!R24,'2016 syoa'!$R$5:$R$44,0)","v":10},{"$f":"RANK('2016 syoa'!S24,'2016 syoa'!$S$5:$S$44,0)","v":8},{"$f":"RANK('2016 syoa'!T24,'2016 syoa'!$T$5:$T$44,0)","v":5},{"$f":"RANK('2016 syoa'!U24,'2016 syoa'!$U$5:$U$44,0)","v":3},{"$f":"RANK('2016 syoa'!V24,'2016 syoa'!$V$5:$V$44,0)","v":5},{"$f":"RANK('2016 syoa'!W24,'2016 syoa'!$W$5:$W$44,0)","v":1}]
["Northfield","Northfield","E05001198",{"$f":"RANK('2016 syoa'!D25,'2016 syoa'!$D$5:$D$44,0)","v":22},{"$f":"RANK('2016 syoa'!E25,'2016 syoa'!$E$5:$E$44,0)","v":18},{"$f":"RANK('2016 syoa'!F25,'2016 syoa'!$F$5:$F$44,0)","v":29},{"$f":"RANK('2016 syoa'!G25,'2016 syoa'!$G$5:$G$44,0)","v":30},{"$f":"RANK('2016 syoa'!H25,'2016 syoa'!$H$5:$H$44,0)","v":29},{"$f":"RANK('2016 syoa'!I25,'2016 syoa'!$I$5:$I$44,0)","v":25},{"$f":"RANK('2016 syoa'!J25,'2016 syoa'!$J$5:$J$44,0)","v":28},{"$f":"RANK('2016 syoa'!K25,'2016 syoa'!$K$5:$K$44,0)","v":33},{"$f":"RANK('2016 syoa'!L25,'2016 syoa'!$L$5:$L$44,0)","v":30},{"$f":"RANK('2016 syoa'!M25,'2016 syoa'!$M$5:$M$44,0)","v":23},{"$f":"RANK('2016 syoa'!N25,'2016 syoa'!$N$5:$N$44,0)","v":29},{"$f":"RANK('2016 syoa'!O25,'2016 syoa'!$O$5:$O$44,0)","v":18},{"$f":"RANK('2016 syoa'!P25,'2016 syoa'!$P$5:$P$44,0)","v":21},{"$f":"RANK('2016 syoa'!Q25,'2016 syoa'!$Q$5:$Q$44,0)","v":25},{"$f":"RANK('2016 syoa'!R25,'2016 syoa'!$R$5:$R$44,0)","v":31},{"$f":"RANK('2016 syoa'!S25,'2016 syoa'!$S$5:$S$44,0)","v":29},{"$f":"RANK('2016 syoa'!T25,'2016 syoa'!$T$5:$T$44,0)","v":37},{"$f":"RANK('2016 syoa'!U25,'2016 syoa'!$U$5:$U$44,0)","v":36},{"$f":"RANK('2016 syoa'!V25,'2016 syoa'!$V$5:$V$44,0)","v":32},{"$f":"RANK('2016 syoa'!W25,'2016 syoa'!$W$5:$W$44,0)","v":26}]
["Oscott","Perry Barr","E05001199",{"$f":"RANK('2016 syoa'!D26,'2016 syoa'!$D$5:$D$44,0)","v":32},{"$f":"RANK('2016 syoa'!E26,'2016 syoa'!$E$5:$E$44,0)","v":25},{"$f":"RANK('2016 syoa'!F26,'2016 syoa'!$F$5:$F$44,0)","v":24},{"$f":"RANK('2016 syoa'!G26,'2016 syoa'!$G$5:$G$44,0)","v":25},{"$f":"RANK('2016 syoa'!H26,'2016 syoa'!$H$5:$H$44,0)","v":23},{"$f":"RANK('2016 syoa'!I26,'2016 syoa'!$I$5:$I$44,0)","v":23},{"$f":"RANK('2016 syoa'!J26,'2016 syoa'!$J$5:$J$44,0)","v":30},{"$f":"RANK('2016 syoa'!K26,'2016 syoa'!$K$5:$K$44,0)","v":23},{"$f":"RANK('2016 syoa'!L26,'2016 syoa'!$L$5:$L$44,0)","v":32},{"$f":"RANK('2016 syoa'!M26,'2016 syoa'!$M$5:$M$44,0)","v":31},{"$f":"RANK('2016 syoa'!N26,'2016 syoa'!$N$5:$N$44,0)","v":26},{"$f":"RANK('2016 syoa'!O26,'2016 syoa'!$O$5:$O$44,0)","v":31},{"$f":"RANK('2016 syoa'!P26,'2016 syoa'!$P$5:$P$44,0)","v":26},{"$f":"RANK('2016 syoa'!Q26,'2016 syoa'!$Q$5:$Q$44,0)","v":33},{"$f":"RANK('2016 syoa'!R26,'2016 syoa'!$R$5:$R$44,0)","v":33},{"$f":"RANK('2016 syoa'!S26,'2016 syoa'!$S$5:$S$44,0)","v":33},{"$f":"RANK('2016 syoa'!T26,'2016 syoa'!$T$5:$T$44,0)","v":18},{"$f":"RANK('2016 syoa'!U26,'2016 syoa'!$U$5:$U$44,0)","v":25},{"$f":"RANK('2016 syoa'!V26,'2016 syoa'!$V$5:$V$44,0)","v":31},{"$f":"RANK('2016 syoa'!W26,'2016 syoa'!$W$5:$W$44,0)","v":33}]
["Perry Barr","Perry Barr","E05001200",{"$f":"RANK('2016 syoa'!D27,'2016 syoa'!$D$5:$D$44,0)","v":33},{"$f":"RANK('2016 syoa'!E27,'2016 syoa'!$E$5:$E$44,0)","v":32},{"$f":"RANK('2016 syoa'!F27,'2016 syoa'!$F$5:$F$44,0)","v":22},{"$f":"RANK('2016 syoa'!G27,'2016 syoa'!$G$5:$G$44,0)","v":28},{"$f":"RANK('2016 syoa'!H27,'2016 syoa'!$H$5:$H$44,0)","v":21},{"$f":"RANK('2016 syoa'!I27,'2016 syoa'!$I$5:$I$44,0)","v":33},{"$f":"RANK('2016 syoa'!J27,'2016 syoa'!$J$5:$J$44,0)","v":22},{"$f":"RANK('2016 syoa'!K27,'2016 syoa'!$K$5:$K$44,0)","v":21},{"$f":"RANK('2016 syoa'!L27,'2016 syoa'!$L$5:$L$44,0)","v":20},{"$f":"RANK('2016 syoa'!M27,'2016 syoa'!$M$5:$M$44,0)","v":27},{"$f":"RANK('2016 syoa'!N27,'2016 syoa'!$N$5:$N$44,0)","v":20},{"$f":"RANK('2016 syoa'!O27,'2016 syoa'!$O$5:$O$44,0)","v":25},{"$f":"RANK('2016 syoa'!P27,'2016 syoa'!$P$5:$P$44,0)","v":15},{"$f":"RANK('2016 syoa'!Q27,'2016 syoa'!$Q$5:$Q$44,0)","v":25},{"$f":"RANK('2016 syoa'!R27,'2016 syoa'!$R$5:$R$44,0)","v":20},{"$f":"RANK('2016 syoa'!S27,'2016 syoa'!$S$5:$S$44,0)","v":15},{"$f":"RANK('2016 syoa'!T27,'2016 syoa'!$T$5:$T$44,0)","v":25},{"$f":"RANK('2016 syoa'!U27,'2016 syoa'!$U$5:$U$44,0)","v":19},{"$f":"RANK('2016 syoa'!V27,'2016 syoa'!$V$5:$V$44,0)","v":28},{"$f":"RANK('2016 syoa'!W27,'2016 syoa'!$W$5:$W$44,0)","v":19}]
["Quinton","Edgbaston","E05001201",{"$f":"RANK('2016 syoa'!D28,'2016 syoa'!$D$5:$D$44,0)","v":36},{"$f":"RANK('2016 syoa'!E28,'2016 syoa'!$E$5:$E$44,0)","v":30},{"$f":"RANK('2016 syoa'!F28,'2016 syoa'!$F$5:$F$44,0)","v":23},{"$f":"RANK('2016 syoa'!G28,'2016 syoa'!$G$5:$G$44,0)","v":24},{"$f":"RANK('2016 syoa'!H28,'2016 syoa'!$H$5:$H$44,0)","v":18},{"$f":"RANK('2016 syoa'!I28,'2016 syoa'!$I$5:$I$44,0)","v":25},{"$f":"RANK('2016 syoa'!J28,'2016 syoa'!$J$5:$J$44,0)","v":25},{"$f":"RANK('2016 syoa'!K28,'2016 syoa'!$K$5:$K$44,0)","v":26},{"$f":"RANK('2016 syoa'!L28,'2016 syoa'!$L$5:$L$44,0)","v":25},{"$f":"RANK('2016 syoa'!M28,'2016 syoa'!$M$5:$M$44,0)","v":18},{"$f":"RANK('2016 syoa'!N28,'2016 syoa'!$N$5:$N$44,0)","v":27},{"$f":"RANK('2016 syoa'!O28,'2016 syoa'!$O$5:$O$44,0)","v":20},{"$f":"RANK('2016 syoa'!P28,'2016 syoa'!$P$5:$P$44,0)","v":24},{"$f":"RANK('2016 syoa'!Q28,'2016 syoa'!$Q$5:$Q$44,0)","v":17},{"$f":"RANK('2016 syoa'!R28,'2016 syoa'!$R$5:$R$44,0)","v":28},{"$f":"RANK('2016 syoa'!S28,'2016 syoa'!$S$5:$S$44,0)","v":27},{"$f":"RANK('2016 syoa'!T28,'2016 syoa'!$T$5:$T$44,0)","v":23},{"$f":"RANK('2016 syoa'!U28,'2016 syoa'!$U$5:$U$44,0)","v":29},{"$f":"RANK('2016 syoa'!V28,'2016 syoa'!$V$5:$V$44,0)","v":21},{"$f":"RANK('2016 syoa'!W28,'2016 syoa'!$W$5:$W$44,0)","v":29}]
["Selly Oak","Selly Oak","E05001202",{"$f":"RANK('2016 syoa'!D29,'2016 syoa'!$D$5:$D$44,0)","v":15},{"$f":"RANK('2016 syoa'!E29,'2016 syoa'!$E$5:$E$44,0)","v":40},{"$f":"RANK('2016 syoa'!F29,'2016 syoa'!$F$5:$F$44,0)","v":39},{"$f":"RANK('2016 syoa'!G29,'2016 syoa'!$G$5:$G$44,0)","v":40},{"$f":"RANK('2016 syoa'!H29,'2016 syoa'!$H$5:$H$44,0)","v":39},{"$f":"RANK('2016 syoa'!I29,'2016 syoa'!$I$5:$I$44,0)","v":39},{"$f":"RANK('2016 syoa'!J29,'2016 syoa'!$J$5:$J$44,0)","v":40},{"$f":"RANK('2016 syoa'!K29,'2016 syoa'!$K$5:$K$44,0)","v":40},{"$f":"RANK('2016 syoa'!L29,'2016 syoa'!$L$5:$L$44,0)","v":40},{"$f":"RANK('2016 syoa'!M29,'2016 syoa'!$M$5:$M$44,0)","v":40},{"$f":"RANK('2016 syoa'!N29,'2016 syoa'!$N$5:$N$44,0)","v":40},{"$f":"RANK('2016 syoa'!O29,'2016 syoa'!$O$5:$O$44,0)","v":40},{"$f":"RANK('2016 syoa'!P29,'2016 syoa'!$P$5:$P$44,0)","v":40},{"$f":"RANK('2016 syoa'!Q29,'2016 syoa'!$Q$5:$Q$44,0)","v":40},{"$f":"RANK('2016 syoa'!R29,'2016 syoa'!$R$5:$R$44,0)","v":40},{"$f":"RANK('2016 syoa'!S29,'2016 syoa'!$S$5:$S$44,0)","v":40},{"$f":"RANK('2016 syoa'!T29,'2016 syoa'!$T$5:$T$44,0)","v":40},{"$f":"RANK('2016 syoa'!U29,'2016 syoa'!$U$5:$U$44,0)","v":40},{"$f":"RANK('2016 syoa'!V29,'2016 syoa'!$V$5:$V$44,0)","v":40},{"$f":"RANK('2016 syoa'!W29,'2016 syoa'!$W$5:$W$44,0)","v":38}]
["Shard End","Hodge Hill","E05001203",{"$f":"RANK('2016 syoa'!D30,'2016 syoa'!$D$5:$D$44,0)","v":19},{"$f":"RANK('2016 syoa'!E30,'2016 syoa'!$E$5:$E$44,0)","v":11},{"$f":"RANK('2016 syoa'!F30,'2016 syoa'!$F$5:$F$44,0)","v":11},{"$f":"RANK('2016 syoa'!G30,'2016 syoa'!$G$5:$G$44,0)","v":11},{"$f":"RANK('2016 syoa'!H30,'2016 syoa'!$H$5:$H$44,0)","v":11},{"$f":"RANK('2016 syoa'!I30,'2016 syoa'!$I$5:$I$44,0)","v":11},{"$f":"RANK('2016 syoa'!J30,'2016 syoa'!$J$5:$J$44,0)","v":11},{"$f":"RANK('2016 syoa'!K30,'2016 syoa'!$K$5:$K$44,0)","v":11},{"$f":"RANK('2016 syoa'!L30,'2016 syoa'!$L$5:$L$44,0)","v":14},{"$f":"RANK('2016 syoa'!M30,'2016 syoa'!$M$5:$M$44,0)","v":11},{"$f":"RANK('2016 syoa'!N30,'2016 syoa'!$N$5:$N$44,0)","v":13},{"$f":"RANK('2016 syoa'!O30,'2016 syoa'!$O$5:$O$44,0)","v":14},{"$f":"RANK('2016 syoa'!P30,'2016 syoa'!$P$5:$P$44,0)","v":13},{"$f":"RANK('2016 syoa'!Q30,'2016 syoa'!$Q$5:$Q$44,0)","v":15},{"$f":"RANK('2016 syoa'!R30,'2016 syoa'!$R$5:$R$44,0)","v":17},{"$f":"RANK('2016 syoa'!S30,'2016 syoa'!$S$5:$S$44,0)","v":27},{"$f":"RANK('2016 syoa'!T30,'2016 syoa'!$T$5:$T$44,0)","v":23},{"$f":"RANK('2016 syoa'!U30,'2016 syoa'!$U$5:$U$44,0)","v":24},{"$f":"RANK('2016 syoa'!V30,'2016 syoa'!$V$5:$V$44,0)","v":20},{"$f":"RANK('2016 syoa'!W30,'2016 syoa'!$W$5:$W$44,0)","v":24}]
["Sheldon","Yardley","E05001204",{"$f":"RANK('2016 syoa'!D31,'2016 syoa'!$D$5:$D$44,0)","v":38},{"$f":"RANK('2016 syoa'!E31,'2016 syoa'!$E$5:$E$44,0)","v":31},{"$f":"RANK('2016 syoa'!F31,'2016 syoa'!$F$5:$F$44,0)","v":31},{"$f":"RANK('2016 syoa'!G31,'2016 syoa'!$G$5:$G$44,0)","v":33},{"$f":"RANK('2016 syoa'!H31,'2016 syoa'!$H$5:$H$44,0)","v":28},{"$f":"RANK('2016 syoa'!I31,'2016 syoa'!$I$5:$I$44,0)","v":25},{"$f":"RANK('2016 syoa'!J31,'2016 syoa'!$J$5:$J$44,0)","v":33},{"$f":"RANK('2016 syoa'!K31,'2016 syoa'!$K$5:$K$44,0)","v":29},{"$f":"RANK('2016 syoa'!L31,'2016 syoa'!$L$5:$L$44,0)","v":29},{"$f":"RANK('2016 syoa'!M31,'2016 syoa'!$M$5:$M$44,0)","v":37},{"$f":"RANK('2016 syoa'!N31,'2016 syoa'!$N$5:$N$44,0)","v":36},{"$f":"RANK('2016 syoa'!O31,'2016 syoa'!$O$5:$O$44,0)","v":30},{"$f":"RANK('2016 syoa'!P31,'2016 syoa'!$P$5:$P$44,0)","v":31},{"$f":"RANK('2016 syoa'!Q31,'2016 syoa'!$Q$5:$Q$44,0)","v":29},{"$f":"RANK('2016 syoa'!R31,'2016 syoa'!$R$5:$R$44,0)","v":21},{"$f":"RANK('2016 syoa'!S31,'2016 syoa'!$S$5:$S$44,0)","v":26},{"$f":"RANK('2016 syoa'!T31,'2016 syoa'!$T$5:$T$44,0)","v":29},{"$f":"RANK('2016 syoa'!U31,'2016 syoa'!$U$5:$U$44,0)","v":31},{"$f":"RANK('2016 syoa'!V31,'2016 syoa'!$V$5:$V$44,0)","v":27},{"$f":"RANK('2016 syoa'!W31,'2016 syoa'!$W$5:$W$44,0)","v":32}]
["Soho","Ladywood","E05001205",{"$f":"RANK('2016 syoa'!D32,'2016 syoa'!$D$5:$D$44,0)","v":9},{"$f":"RANK('2016 syoa'!E32,'2016 syoa'!$E$5:$E$44,0)","v":5},{"$f":"RANK('2016 syoa'!F32,'2016 syoa'!$F$5:$F$44,0)","v":9},{"$f":"RANK('2016 syoa'!G32,'2016 syoa'!$G$5:$G$44,0)","v":10},{"$f":"RANK('2016 syoa'!H32,'2016 syoa'!$H$5:$H$44,0)","v":6},{"$f":"RANK('2016 syoa'!I32,'2016 syoa'!$I$5:$I$44,0)","v":5},{"$f":"RANK('2016 syoa'!J32,'2016 syoa'!$J$5:$J$44,0)","v":10},{"$f":"RANK('2016 syoa'!K32,'2016 syoa'!$K$5:$K$44,0)","v":7},{"$f":"RANK('2016 syoa'!L32,'2016 syoa'!$L$5:$L$44,0)","v":9},{"$f":"RANK('2016 syoa'!M32,'2016 syoa'!$M$5:$M$44,0)","v":10},{"$f":"RANK('2016 syoa'!N32,'2016 syoa'!$N$5:$N$44,0)","v":5},{"$f":"RANK('2016 syoa'!O32,'2016 syoa'!$O$5:$O$44,0)","v":9},{"$f":"RANK('2016 syoa'!P32,'2016 syoa'!$P$5:$P$44,0)","v":8},{"$f":"RANK('2016 syoa'!Q32,'2016 syoa'!$Q$5:$Q$44,0)","v":7},{"$f":"RANK('2016 syoa'!R32,'2016 syoa'!$R$5:$R$44,0)","v":8},{"$f":"RANK('2016 syoa'!S32,'2016 syoa'!$S$5:$S$44,0)","v":10},{"$f":"RANK('2016 syoa'!T32,'2016 syoa'!$T$5:$T$44,0)","v":9},{"$f":"RANK('2016 syoa'!U32,'2016 syoa'!$U$5:$U$44,0)","v":10},{"$f":"RANK('2016 syoa'!V32,'2016 syoa'!$V$5:$V$44,0)","v":11},{"$f":"RANK('2016 syoa'!W32,'2016 syoa'!$W$5:$W$44,0)","v":9}]
["South Yardley","Yardley","E05001206",{"$f":"RANK('2016 syoa'!D33,'2016 syoa'!$D$5:$D$44,0)","v":10},{"$f":"RANK('2016 syoa'!E33,'2016 syoa'!$E$5:$E$44,0)","v":6},{"$f":"RANK('2016 syoa'!F33,'2016 syoa'!$F$5:$F$44,0)","v":7},{"$f":"RANK('2016 syoa'!G33,'2016 syoa'!$G$5:$G$44,0)","v":9},{"$f":"RANK('2016 syoa'!H33,'2016 syoa'!$H$5:$H$44,0)","v":7},{"$f":"RANK('2016 syoa'!I33,'2016 syoa'!$I$5:$I$44,0)","v":8},{"$f":"RANK('2016 syoa'!J33,'2016 syoa'!$J$5:$J$44,0)","v":4},{"$f":"RANK('2016 syoa'!K33,'2016 syoa'!$K$5:$K$44,0)","v":8},{"$f":"RANK('2016 syoa'!L33,'2016 syoa'!$L$5:$L$44,0)","v":6},{"$f":"RANK('2016 syoa'!M33,'2016 syoa'!$M$5:$M$44,0)","v":7},{"$f":"RANK('2016 syoa'!N33,'2016 syoa'!$N$5:$N$44,0)","v":6},{"$f":"RANK('2016 syoa'!O33,'2016 syoa'!$O$5:$O$44,0)","v":8},{"$f":"RANK('2016 syoa'!P33,'2016 syoa'!$P$5:$P$44,0)","v":5},{"$f":"RANK('2016 syoa'!Q33,'2016 syoa'!$Q$5:$Q$44,0)","v":6},{"$f":"RANK('2016 syoa'!R33,'2016 syoa'!$R$5:$R$44,0)","v":6},{"$f":"RANK('2016 syoa'!S33,'2016 syoa'!$S$5:$S$44,0)","v":9},{"$f":"RANK('2016 syoa'!T33,'2016 syoa'!$T$5:$T$44,0)","v":10},{"$f":"RANK('2016 syoa'!U33,'2016 syoa'!$U$5:$U$44,0)","v":9},{"$f":"RANK('2016 syoa'!V33,'2016 syoa'!$V$5:$V$44,0)","v":8},{"$f":"RANK('2016 syoa'!W33,'2016 syoa'!$W$5:$W$44,0)","v":12}]
["Sparkbrook","Hall Green","E05001207",{"$f":"RANK('2016 syoa'!D34,'2016 syoa'!$D$5:$D$44,0)","v":6},{"$f":"RANK('2016 syoa'!E34,'2016 syoa'!$E$5:$E$44,0)","v":10},{"$f":"RANK('2016 syoa'!F34,'2016 syoa'!$F$5:$F$44,0)","v":10},{"$f":"RANK('2016 syoa'!G34,'2016 syoa'!$G$5:$G$44,0)","v":3},{"$f":"RANK('2016 syoa'!H34,'2016 syoa'!$H$5:$H$44,0)","v":8},{"$f":"RANK('2016 syoa'!I34,'2016 syoa'!$I$5:$I$44,0)","v":9},{"$f":"RANK('2016 syoa'!J34,'2016 syoa'!$J$5:$J$44,0)","v":2},{"$f":"RANK('2016 syoa'!K34,'2016 syoa'!$K$5:$K$44,0)","v":3},{"$f":"RANK('2016 syoa'!L34,'2016 syoa'!$L$5:$L$44,0)","v":5},{"$f":"RANK('2016 syoa'!M34,'2016 syoa'!$M$5:$M$44,0)","v":5},{"$f":"RANK('2016 syoa'!N34,'2016 syoa'!$N$5:$N$44,0)","v":4},{"$f":"RANK('2016 syoa'!O34,'2016 syoa'!$O$5:$O$44,0)","v":3},{"$f":"RANK('2016 syoa'!P34,'2016 syoa'!$P$5:$P$44,0)","v":3},{"$f":"RANK('2016 syoa'!Q34,'2016 syoa'!$Q$5:$Q$44,0)","v":9},{"$f":"RANK('2016 syoa'!R34,'2016 syoa'!$R$5:$R$44,0)","v":5},{"$f":"RANK('2016 syoa'!S34,'2016 syoa'!$S$5:$S$44,0)","v":4},{"$f":"RANK('2016 syoa'!T34,'2016 syoa'!$T$5:$T$44,0)","v":4},{"$f":"RANK('2016 syoa'!U34,'2016 syoa'!$U$5:$U$44,0)","v":4},{"$f":"RANK('2016 syoa'!V34,'2016 syoa'!$V$5:$V$44,0)","v":3},{"$f":"RANK('2016 syoa'!W34,'2016 syoa'!$W$5:$W$44,0)","v":6}]
["Springfield","Hall Green","E05001208",{"$f":"RANK('2016 syoa'!D35,'2016 syoa'!$D$5:$D$44,0)","v":8},{"$f":"RANK('2016 syoa'!E35,'2016 syoa'!$E$5:$E$44,0)","v":7},{"$f":"RANK('2016 syoa'!F35,'2016 syoa'!$F$5:$F$44,0)","v":3},{"$f":"RANK('2016 syoa'!G35,'2016 syoa'!$G$5:$G$44,0)","v":6},{"$f":"RANK('2016 syoa'!H35,'2016 syoa'!$H$5:$H$44,0)","v":5},{"$f":"RANK('2016 syoa'!I35,'2016 syoa'!$I$5:$I$44,0)","v":7},{"$f":"RANK('2016 syoa'!J35,'2016 syoa'!$J$5:$J$44,0)","v":8},{"$f":"RANK('2016 syoa'!K35,'2016 syoa'!$K$5:$K$44,0)","v":5},{"$f":"RANK('2016 syoa'!L35,'2016 syoa'!$L$5:$L$44,0)","v":4},{"$f":"RANK('2016 syoa'!M35,'2016 syoa'!$M$5:$M$44,0)","v":4},{"$f":"RANK('2016 syoa'!N35,'2016 syoa'!$N$5:$N$44,0)","v":7},{"$f":"RANK('2016 syoa'!O35,'2016 syoa'!$O$5:$O$44,0)","v":5},{"$f":"RANK('2016 syoa'!P35,'2016 syoa'!$P$5:$P$44,0)","v":4},{"$f":"RANK('2016 syoa'!Q35,'2016 syoa'!$Q$5:$Q$44,0)","v":3},{"$f":"RANK('2016 syoa'!R35,'2016 syoa'!$R$5:$R$44,0)","v":3},{"$f":"RANK('2016 syoa'!S35,'2016 syoa'!$S$5:$S$44,0)","v":7},{"$f":"RANK('2016 syoa'!T35,'2016 syoa'!$T$5:$T$44,0)","v":7},{"$f":"RANK('2016 syoa'!U35,'2016 syoa'!$U$5:$U$44,0)","v":7},{"$f":"RANK('2016 syoa'!V35,'2016 syoa'!$V$5:$V$44,0)","v":6},{"$f":"RANK('2016 syoa'!W35,'2016 syoa'!$W$5:$W$44,0)","v":7}]
["Stechford and Yardley North","Yardley","E05001209",{"$f":"RANK('2016 syoa'!D36,'2016 syoa'!$D$5:$D$44,0)","v":17},{"$f":"RANK('2016 syoa'!E36,'2016 syoa'!$E$5:$E$44,0)","v":14},{"$f":"RANK('2016 syoa'!F36,'2016 syoa'!$F$5:$F$44,0)","v":15},{"$f":"RANK('2016 syoa'!G36,'2016 syoa'!$G$5:$G$44,0)","v":14},{"$f":"RANK('2016 syoa'!H36,'2016 syoa'!$H$5:$H$44,0)","v":14},{"$f":"RANK('2016 syoa'!I36,'2016 syoa'!$I$5:$I$44,0)","v":18},{"$f":"RANK('2016 syoa'!J36,'2016 syoa'!$J$5:$J$44,0)","v":13},{"$f":"RANK('2016 syoa'!K36,'2016 syoa'!$K$5:$K$44,0)","v":12},{"$f":"RANK('2016 syoa'!L36,'2016 syoa'!$L$5:$L$44,0)","v":12},{"$f":"RANK('2016 syoa'!M36,'2016 syoa'!$M$5:$M$44,0)","v":12},{"$f":"RANK('2016 syoa'!N36,'2016 syoa'!$N$5:$N$44,0)","v":12},{"$f":"RANK('2016 syoa'!O36,'2016 syoa'!$O$5:$O$44,0)","v":12},{"$f":"RANK('2016 syoa'!P36,'2016 syoa'!$P$5:$P$44,0)","v":12},{"$f":"RANK('2016 syoa'!Q36,'2016 syoa'!$Q$5:$Q$44,0)","v":16},{"$f":"RANK('2016 syoa'!R36,'2016 syoa'!$R$5:$R$44,0)","v":15},{"$f":"RANK('2016 syoa'!S36,'2016 syoa'!$S$5:$S$44,0)","v":14},{"$f":"RANK('2016 syoa'!T36,'2016 syoa'!$T$5:$T$44,0)","v":12},{"$f":"RANK('2016 syoa'!U36,'2016 syoa'!$U$5:$U$44,0)","v":14},{"$f":"RANK('2016 syoa'!V36,'2016 syoa'!$V$5:$V$44,0)","v":17},{"$f":"RANK('2016 syoa'!W36,'2016 syoa'!$W$5:$W$44,0)","v":17}]
["Stockland Green","Erdington","E05001210",{"$f":"RANK('2016 syoa'!D37,'2016 syoa'!$D$5:$D$44,0)","v":18},{"$f":"RANK('2016 syoa'!E37,'2016 syoa'!$E$5:$E$44,0)","v":13},{"$f":"RANK('2016 syoa'!F37,'2016 syoa'!$F$5:$F$44,0)","v":14},{"$f":"RANK('2016 syoa'!G37,'2016 syoa'!$G$5:$G$44,0)","v":23},{"$f":"RANK('2016 syoa'!H37,'2016 syoa'!$H$5:$H$44,0)","v":20},{"$f":"RANK('2016 syoa'!I37,'2016 syoa'!$I$5:$I$44,0)","v":21},{"$f":"RANK('2016 syoa'!J37,'2016 syoa'!$J$5:$J$44,0)","v":24},{"$f":"RANK('2016 syoa'!K37,'2016 syoa'!$K$5:$K$44,0)","v":28},{"$f":"RANK('2016 syoa'!L37,'2016 syoa'!$L$5:$L$44,0)","v":27},{"$f":"RANK('2016 syoa'!M37,'2016 syoa'!$M$5:$M$44,0)","v":28},{"$f":"RANK('2016 syoa'!N37,'2016 syoa'!$N$5:$N$44,0)","v":31},{"$f":"RANK('2016 syoa'!O37,'2016 syoa'!$O$5:$O$44,0)","v":23},{"$f":"RANK('2016 syoa'!P37,'2016 syoa'!$P$5:$P$44,0)","v":30},{"$f":"RANK('2016 syoa'!Q37,'2016 syoa'!$Q$5:$Q$44,0)","v":28},{"$f":"RANK('2016 syoa'!R37,'2016 syoa'!$R$5:$R$44,0)","v":25},{"$f":"RANK('2016 syoa'!S37,'2016 syoa'!$S$5:$S$44,0)","v":25},{"$f":"RANK('2016 syoa'!T37,'2016 syoa'!$T$5:$T$44,0)","v":19},{"$f":"RANK('2016 syoa'!U37,'2016 syoa'!$U$5:$U$44,0)","v":20},{"$f":"RANK('2016 syoa'!V37,'2016 syoa'!$V$5:$V$44,0)","v":23},{"$f":"RANK('2016 syoa'!W37,'2016 syoa'!$W$5:$W$44,0)","v":23}]
["Sutton Four Oaks","Sutton Coldfield","E05001211",{"$f":"RANK('2016 syoa'!D38,'2016 syoa'!$D$5:$D$44,0)","v":35},{"$f":"RANK('2016 syoa'!E38,'2016 syoa'!$E$5:$E$44,0)","v":38},{"$f":"RANK('2016 syoa'!F38,'2016 syoa'!$F$5:$F$44,0)","v":37},{"$f":"RANK('2016 syoa'!G38,'2016 syoa'!$G$5:$G$44,0)","v":37},{"$f":"RANK('2016 syoa'!H38,'2016 syoa'!$H$5:$H$44,0)","v":36},{"$f":"RANK('2016 syoa'!I38,'2016 syoa'!$I$5:$I$44,0)","v":38},{"$f":"RANK('2016 syoa'!J38,'2016 syoa'!$J$5:$J$44,0)","v":36},{"$f":"RANK('2016 syoa'!K38,'2016 syoa'!$K$5:$K$44,0)","v":30},{"$f":"RANK('2016 syoa'!L38,'2016 syoa'!$L$5:$L$44,0)","v":31},{"$f":"RANK('2016 syoa'!M38,'2016 syoa'!$M$5:$M$44,0)","v":24},{"$f":"RANK('2016 syoa'!N38,'2016 syoa'!$N$5:$N$44,0)","v":23},{"$f":"RANK('2016 syoa'!O38,'2016 syoa'!$O$5:$O$44,0)","v":33},{"$f":"RANK('2016 syoa'!P38,'2016 syoa'!$P$5:$P$44,0)","v":29},{"$f":"RANK('2016 syoa'!Q38,'2016 syoa'!$Q$5:$Q$44,0)","v":23},{"$f":"RANK('2016 syoa'!R38,'2016 syoa'!$R$5:$R$44,0)","v":22},{"$f":"RANK('2016 syoa'!S38,'2016 syoa'!$S$5:$S$44,0)","v":22},{"$f":"RANK('2016 syoa'!T38,'2016 syoa'!$T$5:$T$44,0)","v":26},{"$f":"RANK('2016 syoa'!U38,'2016 syoa'!$U$5:$U$44,0)","v":31},{"$f":"RANK('2016 syoa'!V38,'2016 syoa'!$V$5:$V$44,0)","v":24},{"$f":"RANK('2016 syoa'!W38,'2016 syoa'!$W$5:$W$44,0)","v":33}]
["Sutton New Hall","Sutton Coldfield","E05001212",{"$f":"RANK('2016 syoa'!D39,'2016 syoa'!$D$5:$D$44,0)","v":40},{"$f":"RANK('2016 syoa'!E39,'2016 syoa'!$E$5:$E$44,0)","v":39},{"$f":"RANK('2016 syoa'!F39,'2016 syoa'!$F$5:$F$44,0)","v":40},{"$f":"RANK('2016 syoa'!G39,'2016 syoa'!$G$5:$G$44,0)","v":39},{"$f":"RANK('2016 syoa'!H39,'2016 syoa'!$H$5:$H$44,0)","v":40},{"$f":"RANK('2016 syoa'!I39,'2016 syoa'!$I$5:$I$44,0)","v":40},{"$f":"RANK('2016 syoa'!J39,'2016 syoa'!$J$5:$J$44,0)","v":39},{"$f":"RANK('2016 syoa'!K39,'2016 syoa'!$K$5:$K$44,0)","v":38},{"$f":"RANK('2016 syoa'!L39,'2016 syoa'!$L$5:$L$44,0)","v":39},{"$f":"RANK('2016 syoa'!M39,'2016 syoa'!$M$5:$M$44,0)","v":39},{"$f":"RANK('2016 syoa'!N39,'2016 syoa'!$N$5:$N$44,0)","v":35},{"$f":"RANK('2016 syoa'!O39,'2016 syoa'!$O$5:$O$44,0)","v":38},{"$f":"RANK('2016 syoa'!P39,'2016 syoa'!$P$5:$P$44,0)","v":32},{"$f":"RANK('2016 syoa'!Q39,'2016 syoa'!$Q$5:$Q$44,0)","v":34},{"$f":"RANK('2016 syoa'!R39,'2016 syoa'!$R$5:$R$44,0)","v":35},{"$f":"RANK('2016 syoa'!S39,'2016 syoa'!$S$5:$S$44,0)","v":35},{"$f":"RANK('2016 syoa'!T39,'2016 syoa'!$T$5:$T$44,0)","v":35},{"$f":"RANK('2016 syoa'!U39,'2016 syoa'!$U$5:$U$44,0)","v":35},{"$f":"RANK('2016 syoa'!V39,'2016 syoa'!$V$5:$V$44,0)","v":36},{"$f":"RANK('2016 syoa'!W39,'2016 syoa'!$W$5:$W$44,0)","v":35}]
["Sutton Trinity","Sutton Coldfield","E05001213",{"$f":"RANK('2016 syoa'!D40,'2016 syoa'!$D$5:$D$44,0)","v":31},{"$f":"RANK('2016 syoa'!E40,'2016 syoa'!$E$5:$E$44,0)","v":34},{"$f":"RANK('2016 syoa'!F40,'2016 syoa'!$F$5:$F$44,0)","v":33},{"$f":"RANK('2016 syoa'!G40,'2016 syoa'!$G$5:$G$44,0)","v":35},{"$f":"RANK('2016 syoa'!H40,'2016 syoa'!$H$5:$H$44,0)","v":25},{"$f":"RANK('2016 syoa'!I40,'2016 syoa'!$I$5:$I$44,0)","v":31},{"$f":"RANK('2016 syoa'!J40,'2016 syoa'!$J$5:$J$44,0)","v":34},{"$f":"RANK('2016 syoa'!K40,'2016 syoa'!$K$5:$K$44,0)","v":37},{"$f":"RANK('2016 syoa'!L40,'2016 syoa'!$L$5:$L$44,0)","v":36},{"$f":"RANK('2016 syoa'!M40,'2016 syoa'!$M$5:$M$44,0)","v":32},{"$f":"RANK('2016 syoa'!N40,'2016 syoa'!$N$5:$N$44,0)","v":32},{"$f":"RANK('2016 syoa'!O40,'2016 syoa'!$O$5:$O$44,0)","v":26},{"$f":"RANK('2016 syoa'!P40,'2016 syoa'!$P$5:$P$44,0)","v":24},{"$f":"RANK('2016 syoa'!Q40,'2016 syoa'!$Q$5:$Q$44,0)","v":27},{"$f":"RANK('2016 syoa'!R40,'2016 syoa'!$R$5:$R$44,0)","v":28},{"$f":"RANK('2016 syoa'!S40,'2016 syoa'!$S$5:$S$44,0)","v":19},{"$f":"RANK('2016 syoa'!T40,'2016 syoa'!$T$5:$T$44,0)","v":32},{"$f":"RANK('2016 syoa'!U40,'2016 syoa'!$U$5:$U$44,0)","v":26},{"$f":"RANK('2016 syoa'!V40,'2016 syoa'!$V$5:$V$44,0)","v":33},{"$f":"RANK('2016 syoa'!W40,'2016 syoa'!$W$5:$W$44,0)","v":30}]
["Sutton Vesey","Sutton Coldfield","E05001214",{"$f":"RANK('2016 syoa'!D41,'2016 syoa'!$D$5:$D$44,0)","v":39},{"$f":"RANK('2016 syoa'!E41,'2016 syoa'!$E$5:$E$44,0)","v":37},{"$f":"RANK('2016 syoa'!F41,'2016 syoa'!$F$5:$F$44,0)","v":38},{"$f":"RANK('2016 syoa'!G41,'2016 syoa'!$G$5:$G$44,0)","v":36},{"$f":"RANK('2016 syoa'!H41,'2016 syoa'!$H$5:$H$44,0)","v":37},{"$f":"RANK('2016 syoa'!I41,'2016 syoa'!$I$5:$I$44,0)","v":36},{"$f":"RANK('2016 syoa'!J41,'2016 syoa'!$J$5:$J$44,0)","v":37},{"$f":"RANK('2016 syoa'!K41,'2016 syoa'!$K$5:$K$44,0)","v":35},{"$f":"RANK('2016 syoa'!L41,'2016 syoa'!$L$5:$L$44,0)","v":37},{"$f":"RANK('2016 syoa'!M41,'2016 syoa'!$M$5:$M$44,0)","v":35},{"$f":"RANK('2016 syoa'!N41,'2016 syoa'!$N$5:$N$44,0)","v":37},{"$f":"RANK('2016 syoa'!O41,'2016 syoa'!$O$5:$O$44,0)","v":33},{"$f":"RANK('2016 syoa'!P41,'2016 syoa'!$P$5:$P$44,0)","v":39},{"$f":"RANK('2016 syoa'!Q41,'2016 syoa'!$Q$5:$Q$44,0)","v":35},{"$f":"RANK('2016 syoa'!R41,'2016 syoa'!$R$5:$R$44,0)","v":36},{"$f":"RANK('2016 syoa'!S41,'2016 syoa'!$S$5:$S$44,0)","v":30},{"$f":"RANK('2016 syoa'!T41,'2016 syoa'!$T$5:$T$44,0)","v":34},{"$f":"RANK('2016 syoa'!U41,'2016 syoa'!$U$5:$U$44,0)","v":34},{"$f":"RANK('2016 syoa'!V41,'2016 syoa'!$V$5:$V$44,0)","v":33},{"$f":"RANK('2016 syoa'!W41,'2016 syoa'!$W$5:$W$44,0)","v":39}]
["Tyburn","Erdington","E05001215",{"$f":"RANK('2016 syoa'!D42,'2016 syoa'!$D$5:$D$44,0)","v":30},{"$f":"RANK('2016 syoa'!E42,'2016 syoa'!$E$5:$E$44,0)","v":29},{"$f":"RANK('2016 syoa'!F42,'2016 syoa'!$F$5:$F$44,0)","v":30},{"$f":"RANK('2016 syoa'!G42,'2016 syoa'!$G$5:$G$44,0)","v":29},{"$f":"RANK('2016 syoa'!H42,'2016 syoa'!$H$5:$H$44,0)","v":26},{"$f":"RANK('2016 syoa'!I42,'2016 syoa'!$I$5:$I$44,0)","v":16},{"$f":"RANK('2016 syoa'!J42,'2016 syoa'!$J$5:$J$44,0)","v":23},{"$f":"RANK('2016 syoa'!K42,'2016 syoa'!$K$5:$K$44,0)","v":19},{"$f":"RANK('2016 syoa'!L42,'2016 syoa'!$L$5:$L$44,0)","v":23},{"$f":"RANK('2016 syoa'!M42,'2016 syoa'!$M$5:$M$44,0)","v":20},{"$f":"RANK('2016 syoa'!N42,'2016 syoa'!$N$5:$N$44,0)","v":18},{"$f":"RANK('2016 syoa'!O42,'2016 syoa'!$O$5:$O$44,0)","v":19},{"$f":"RANK('2016 syoa'!P42,'2016 syoa'!$P$5:$P$44,0)","v":20},{"$f":"RANK('2016 syoa'!Q42,'2016 syoa'!$Q$5:$Q$44,0)","v":19},{"$f":"RANK('2016 syoa'!R42,'2016 syoa'!$R$5:$R$44,0)","v":16},{"$f":"RANK('2016 syoa'!S42,'2016 syoa'!$S$5:$S$44,0)","v":17},{"$f":"RANK('2016 syoa'!T42,'2016 syoa'!$T$5:$T$44,0)","v":27},{"$f":"RANK('2016 syoa'!U42,'2016 syoa'!$U$5:$U$44,0)","v":16},{"$f":"RANK('2016 syoa'!V42,'2016 syoa'!$V$5:$V$44,0)","v":19},{"$f":"RANK('2016 syoa'!W42,'2016 syoa'!$W$5:$W$44,0)","v":22}]
["Washwood Heath","Hodge Hill","E05001216",{"$f":"RANK('2016 syoa'!D43,'2016 syoa'!$D$5:$D$44,0)","v":4},{"$f":"RANK('2016 syoa'!E43,'2016 syoa'!$E$5:$E$44,0)","v":1},{"$f":"RANK('2016 syoa'!F43,'2016 syoa'!$F$5:$F$44,0)","v":5},{"$f":"RANK('2016 syoa'!G43,'2016 syoa'!$G$5:$G$44,0)","v":1},{"$f":"RANK('2016 syoa'!H43,'2016 syoa'!$H$5:$H$44,0)","v":2},{"$f":"RANK('2016 syoa'!I43,'2016 syoa'!$I$5:$I$44,0)","v":3},{"$f":"RANK('2016 syoa'!J43,'2016 syoa'!$J$5:$J$44,0)","v":3},{"$f":"RANK('2016 syoa'!K43,'2016 syoa'!$K$5:$K$44,0)","v":2},{"$f":"RANK('2016 syoa'!L43,'2016 syoa'!$L$5:$L$44,0)","v":2},{"$f":"RANK('2016 syoa'!M43,'2016 syoa'!$M$5:$M$44,0)","v":1},{"$f":"RANK('2016 syoa'!N43,'2016 syoa'!$N$5:$N$44,0)","v":2},{"$f":"RANK('2016 syoa'!O43,'2016 syoa'!$O$5:$O$44,0)","v":1},{"$f":"RANK('2016 syoa'!P43,'2016 syoa'!$P$5:$P$44,0)","v":2},{"$f":"RANK('2016 syoa'!Q43,'2016 syoa'!$Q$5:$Q$44,0)","v":1},{"$f":"RANK('2016 syoa'!R43,'2016 syoa'!$R$5:$R$44,0)","v":2},{"$f":"RANK('2016 syoa'!S43,'2016 syoa'!$S$5:$S$44,0)","v":1},{"$f":"RANK('2016 syoa'!T43,'2016 syoa'!$T$5:$T$44,0)","v":2},{"$f":"RANK('2016 syoa'!U43,'2016 syoa'!$U$5:$U$44,0)","v":1},{"$f":"RANK('2016 syoa'!V43,'2016 syoa'!$V$5:$V$44,0)","v":2},{"$f":"RANK('2016 syoa'!W43,'2016 syoa'!$W$5:$W$44,0)","v":3}]
["Weoley","Northfield","E05001217",{"$f":"RANK('2016 syoa'!D44,'2016 syoa'!$D$5:$D$44,0)","v":24},{"$f":"RANK('2016 syoa'!E44,'2016 syoa'!$E$5:$E$44,0)","v":24},{"$f":"RANK('2016 syoa'!F44,'2016 syoa'!$F$5:$F$44,0)","v":16},{"$f":"RANK('2016 syoa'!G44,'2016 syoa'!$G$5:$G$44,0)","v":15},{"$f":"RANK('2016 syoa'!H44,'2016 syoa'!$H$5:$H$44,0)","v":16},{"$f":"RANK('2016 syoa'!I44,'2016 syoa'!$I$5:$I$44,0)","v":15},{"$f":"RANK('2016 syoa'!J44,'2016 syoa'!$J$5:$J$44,0)","v":14},{"$f":"RANK('2016 syoa'!K44,'2016 syoa'!$K$5:$K$44,0)","v":13},{"$f":"RANK('2016 syoa'!L44,'2016 syoa'!$L$5:$L$44,0)","v":13},{"$f":"RANK('2016 syoa'!M44,'2016 syoa'!$M$5:$M$44,0)","v":21},{"$f":"RANK('2016 syoa'!N44,'2016 syoa'!$N$5:$N$44,0)","v":15},{"$f":"RANK('2016 syoa'!O44,'2016 syoa'!$O$5:$O$44,0)","v":17},{"$f":"RANK('2016 syoa'!P44,'2016 syoa'!$P$5:$P$44,0)","v":19},{"$f":"RANK('2016 syoa'!Q44,'2016 syoa'!$Q$5:$Q$44,0)","v":17},{"$f":"RANK('2016 syoa'!R44,'2016 syoa'!$R$5:$R$44,0)","v":18},{"$f":"RANK('2016 syoa'!S44,'2016 syoa'!$S$5:$S$44,0)","v":23},{"$f":"RANK('2016 syoa'!T44,'2016 syoa'!$T$5:$T$44,0)","v":22},{"$f":"RANK('2016 syoa'!U44,'2016 syoa'!$U$5:$U$44,0)","v":27},{"$f":"RANK('2016 syoa'!V44,'2016 syoa'!$V$5:$V$44,0)","v":16},{"$f":"RANK('2016 syoa'!W44,'2016 syoa'!$W$5:$W$44,0)","v":16}]
[]
["Office for National Statistics, Crown Copyright 2017"]
[]
["Service Development Team"]
["Planning & Regeneration"]
["www.birmingham.gov.uk/census"]
["population.census@birmingham.gov.uk"]
["0121 303 4208"]

{"sheet":"2011_15 change rank","index":3,"n_rows":52,"n_cols":22,"rows_kept":52,"cut":false,"hidden":true,"merged":[]}
["2015 Birmingham Ward Rankings: population change (number)"]
[]
["Ward Name","Constituency","code","All Ages","0-4","5-9","10-14","15-19","20-24","25-29","30-34","35-39","40-44","45-49","50-54","55-59","60-64","65-69","70-74","75-79","80-84","85+"]
[]
["Acocks Green","Yardley","E05001178",{"$f":"RANK('quinary change 2011_15 num'!D5,'quinary change 2011_15 num'!$D$5:$D$44,0)","v":18},{"$f":"RANK('quinary change 2011_15 num'!E5,'quinary change 2011_15 num'!$E$5:$E$44,0)","v":28},{"$f":"RANK('quinary change 2011_15 num'!F5,'quinary change 2011_15 num'!$F$5:$F$44,0)","v":5},{"$f":"RANK('quinary change 2011_15 num'!G5,'quinary change 2011_15 num'!$G$5:$G$44,0)","v":29},{"$f":"RANK('quinary change 2011_15 num'!H5,'quinary change 2011_15 num'!$H$5:$H$44,0)","v":17},{"$f":"RANK('quinary change 2011_15 num'!I5,'quinary change 2011_15 num'!$I$5:$I$44,0)","v":22},{"$f":"RANK('quinary change 2011_15 num'!J5,'quinary change 2011_15 num'!$J$5:$J$44,0)","v":21},{"$f":"RANK('quinary change 2011_15 num'!K5,'quinary change 2011_15 num'!$K$5:$K$44,0)","v":25},{"$f":"RANK('quinary change 2011_15 num'!L5,'quinary change 2011_15 num'!$L$5:$L$44,0)","v":18},{"$f":"RANK('quinary change 2011_15 num'!M5,'quinary change 2011_15 num'!$M$5:$M$44,0)","v":24},{"$f":"RANK('quinary change 2011_15 num'!N5,'quinary change 2011_15 num'!$N$5:$N$44,0)","v":14},{"$f":"RANK('quinary change 2011_15 num'!O5,'quinary change 2011_15 num'!$O$5:$O$44,0)","v":12},{"$f":"RANK('quinary change 2011_15 num'!P5,'quinary change 2011_15 num'!$P$5:$P$44,0)","v":4},{"$f":"RANK('quinary change 2011_15 num'!Q5,'quinary change 2011_15 num'!$Q$5:$Q$44,0)","v":18},{"$f":"RANK('quinary change 2011_15 num'!R5,'quinary change 2011_15 num'!$R$5:$R$44,0)","v":15},{"$f":"RANK('quinary change 2011_15 num'!S5,'quinary change 2011_15 num'!$S$5:$S$44,0)","v":26},{"$f":"RANK('quinary change 2011_15 num'!T5,'quinary change 2011_15 num'!$T$5:$T$44,0)","v":17},{"$f":"RANK('quinary change 2011_15 num'!U5,'quinary change 2011_15 num'!$U$5:$U$44,0)","v":40},{"$f":"RANK('quinary change 2011_15 num'!V5,'quinary change 2011_15 num'!$V$5:$V$44,0)","v":24}]
["Aston","Ladywood","E05001179",{"$f":"RANK('quinary change 2011_15 num'!D6,'quinary change 2011_15 num'!$D$5:$D$44,0)","v":10},{"$f":"RANK('quinary change 2011_15 num'!E6,'quinary change 2011_15 num'!$E$5:$E$44,0)","v":39},{"$f":"RANK('quinary change 2011_15 num'!F6,'quinary change 2011_15 num'!$F$5:$F$44,0)","v":30},{"$f":"RANK('quinary change 2011_15 num'!G6,'quinary change 2011_15 num'!$G$5:$G$44,0)","v":11},{"$f":"RANK('quinary change 2011_15 num'!H6,'quinary change 2011_15 num'!$H$5:$H$44,0)","v":8},{"$f":"RANK('quinary change 2011_15 num'!I6,'quinary change 2011_15 num'!$I$5:$I$44,0)","v":38},{"$f":"RANK('quinary change 2011_15 num'!J6,'quinary change 2011_15 num'!$J$5:$J$44,0)","v":29},{"$f":"RANK('quinary change 2011_15 num'!K6,'quinary change 2011_15 num'!$K$5:$K$44,0)","v":12},{"$f":"RANK('quinary change 2011_15 num'!L6,'quinary change 2011_15 num'!$L$5:$L$44,0)","v":9},{"$f":"RANK('quinary change 2011_15 num'!M6,'quinary change 2011_15 num'!$M$5:$M$44,0)","v":4},{"$f":"RANK('quinary change 2011_15 num'!N6,'quinary change 2011_15 num'!$N$5:$N$44,0)","v":7},{"$f":"RANK('quinary change 2011_15 num'!O6,'quinary change 2011_15 num'!$O$5:$O$44,0)","v":7},{"$f":"RANK('quinary change 2011_15 num'!P6,'quinary change 2011_15 num'!$P$5:$P$44,0)","v":18},{"$f":"RANK('quinary change 2011_15 num'!Q6,'quinary change 2011_15 num'!$Q$5:$Q$44,0)","v":2},{"$f":"RANK('quinary change 2011_15 num'!R6,'quinary change 2011_15 num'!$R$5:$R$44,0)","v":14},{"$f":"RANK('quinary change 2011_15 num'!S6,'quinary change 2011_15 num'!$S$5:$S$44,0)","v":38},{"$f":"RANK('quinary change 2011_15 num'!T6,'quinary change 2011_15 num'!$T$5:$T$44,0)","v":15},{"$f":"RANK('quinary change 2011_15 num'!U6,'quinary change 2011_15 num'!$U$5:$U$44,0)","v":18},{"$f":"RANK('quinary change 2011_15 num'!V6,'quinary change 2011_15 num'!$V$5:$V$44,0)","v":3}]
["Bartley Green","Edgbaston","E05001180",{"$f":"RANK('quinary change 2011_15 num'!D7,'quinary change 2011_15 num'!$D$5:$D$44,0)","v":21},{"$f":"RANK('quinary change 2011_15 num'!E7,'quinary change 2011_15 num'!$E$5:$E$44,0)","v":9},{"$f":"RANK('quinary change 2011_15 num'!F7,'quinary change 2011_15 num'!$F$5:$F$44,0)","v":9},{"$f":"RANK('quinary change 2011_15 num'!G7,'quinary change 2011_15 num'!$G$5:$G$44,0)","v":25},{"$f":"RANK('quinary change 2011_15 num'!H7,'quinary change 2011_15 num'!$H$5:$H$44,0)","v":27},{"$f":"RANK('quinary change 2011_15 num'!I7,'quinary change 2011_15 num'!$I$5:$I$44,0)","v":18},{"$f":"RANK('quinary change 2011_15 num'!J7,'quinary change 2011_15 num'!$J$5:$J$44,0)","v":18},{"$f":"RANK('quinary change 2011_15 num'!K7,'quinary change 2011_15 num'!$K$5:$K$44,0)","v":34},{"$f":"RANK('quinary change 2011_15 num'!L7,'quinary change 2011_15 num'!$L$5:$L$44,0)","v":23},{"$f":"RANK('quinary change 2011_15 num'!M7,'quinary change 2011_15 num'!$M$5:$M$44,0)","v":15},{"$f":"RANK('quinary change 2011_15 num'!N7,'quinary change 2011_15 num'!$N$5:$N$44,0)","v":24},{"$f":"RANK('quinary change 2011_15 num'!O7,'quinary change 2011_15 num'!$O$5:$O$44,0)","v":20},{"$f":"RANK('quinary change 2011_15 num'!P7,'quinary change 2011_15 num'!$P$5:$P$44,0)","v":36},{"$f":"RANK('quinary change 2011_15 num'!Q7,'quinary change 2011_15 num'!$Q$5:$Q$44,0)","v":38},{"$f":"RANK('quinary change 2011_15 num'!R7,'quinary change 2011_15 num'!$R$5:$R$44,0)","v":5},{"$f":"RANK('quinary change 2011_15 num'!S7,'quinary change 2011_15 num'!$S$5:$S$44,0)","v":3},{"$f":"RANK('quinary change 2011_15 num'!T7,'quinary change 2011_15 num'!$T$5:$T$44,0)","v":18},{"$f":"RANK('quinary change 2011_15 num'!U7,'quinary change 2011_15 num'!$U$5:$U$44,0)","v":38},{"$f":"RANK('quinary change 2011_15 num'!V7,'quinary change 2011_15 num'!$V$5:$V$44,0)","v":21}]
["Billesley","Selly Oak","E05001181",{"$f":"RANK('quinary change 2011_15 num'!D8,'quinary change 2011_15 num'!$D$5:$D$44,0)","v":31},{"$f":"RANK('quinary change 2011_15 num'!E8,'quinary change 2011_15 num'!$E$5:$E$44,0)","v":4},{"$f":"RANK('quinary change 2011_15 num'!F8,'quinary change 2011_15 num'!$F$5:$F$44,0)","v":18},{"$f":"RANK('quinary change 2011_15 num'!G8,'quinary change 2011_15 num'!$G$5:$G$44,0)","v":40},{"$f":"RANK('quinary change 2011_15 num'!H8,'quinary change 2011_15 num'!$H$5:$H$44,0)","v":32},{"$f":"RANK('quinary change 2011_15 num'!I8,'quinary change 2011_15 num'!$I$5:$I$44,0)","v":40},{"$f":"RANK('quinary change 2011_15 num'!J8,'quinary change 2011_15 num'!$J$5:$J$44,0)","v":10},{"$f":"RANK('quinary change 2011_15 num'!K8,'quinary change 2011_15 num'!$K$5:$K$44,0)","v":8},{"$f":"RANK('quinary change 2011_15 num'!L8,'quinary change 2011_15 num'!$L$5:$L$44,0)","v":21},{"$f":"RANK('quinary change 2011_15 num'!M8,'quinary change 2011_15 num'!$M$5:$M$44,0)","v":39},{"$f":"RANK('quinary change 2011_15 num'!N8,'quinary change 2011_15 num'!$N$5:$N$44,0)","v":35},{"$f":"RANK('quinary change 2011_15 num'!O8,'quinary change 2011_15 num'!$O$5:$O$44,0)","v":31},{"$f":"RANK('quinary change 2011_15 num'!P8,'quinary change 2011_15 num'!$P$5:$P$44,0)","v":22},{"$f":"RANK('quinary change 2011_15 num'!Q8,'quinary change 2011_15 num'!$Q$5:$Q$44,0)","v":16},{"$f":"RANK('quinary change 2011_15 num'!R8,'quinary change 2011_15 num'!$R$5:$R$44,0)","v":11},{"$f":"RANK('quinary change 2011_15 num'!S8,'quinary change 2011_15 num'!$S$5:$S$44,0)","v":28},{"$f":"RANK('quinary change 2011_15 num'!T8,'quinary change 2011_15 num'!$T$5:$T$44,0)","v":11},{"$f":"RANK('quinary change 2011_15 num'!U8,'quinary change 2011_15 num'!$U$5:$U$44,0)","v":24},{"$f":"RANK('quinary change 2011_15 num'!V8,'quinary change 2011_15 num'!$V$5:$V$44,0)","v":38}]
["Bordesley Green","Hodge Hill","E05001182",{"$f":"RANK('quinary change 2011_15 num'!D9,'quinary change 2011_15 num'!$D$5:$D$44,0)","v":9},{"$f":"RANK('quinary change 2011_15 num'!E9,'quinary change 2011_15 num'!$E$5:$E$44,0)","v":38},{"$f":"RANK('quinary change 2011_15 num'!F9,'quinary change 2011_15 num'!$F$5:$F$44,0)","v":28},{"$f":"RANK('quinary change 2011_15 num'!G9,'quinary change 2011_15 num'!$G$5:$G$44,0)","v":7},{"$f":"RANK('quinary change 2011_15 num'!H9,'quinary change 2011_15 num'!$H$5:$H$44,0)","v":3},{"$f":"RANK('quinary change 2011_15 num'!I9,'quinary change 2011_15 num'!$I$5:$I$44,0)","v":8},{"$f":"RANK('quinary change 2011_15 num'!J9,'quinary change 2011_15 num'!$J$5:$J$44,0)","v":37},{"$f":"RANK('quinary change 2011_15 num'!K9,'quinary change 2011_15 num'!$K$5:$K$44,0)","v":23},{"$f":"RANK('quinary change 2011_15 num'!L9,'quinary change 2011_15 num'!$L$5:$L$44,0)","v":16},{"$f":"RANK('quinary change 2011_15 num'!M9,'quinary change 2011_15 num'!$M$5:$M$44,0)","v":10},{"$f":"RANK('quinary change 2011_15 num'!N9,'quinary change 2011_15 num'!$N$5:$N$44,0)","v":1},{"$f":"RANK('quinary change 2011_15 num'!O9,'quinary change 2011_15 num'!$O$5:$O$44,0)","v":36},{"$f":"RANK('quinary change 2011_15 num'!P9,'quinary change 2011_15 num'!$P$5:$P$44,0)","v":25},{"$f":"RANK('quinary change 2011_15 num'!Q9,'quinary change 2011_15 num'!$Q$5:$Q$44,0)","v":4},{"$f":"RANK('quinary change 2011_15 num'!R9,'quinary change 2011_15 num'!$R$5:$R$44,0)","v":24},{"$f":"RANK('quinary change 2011_15 num'!S9,'quinary change 2011_15 num'!$S$5:$S$44,0)","v":40},{"$f":"RANK('quinary change 2011_15 num'!T9,'quinary change 2011_15 num'!$T$5:$T$44,0)","v":39},{"$f":"RANK('quinary change 2011_15 num'!U9,'quinary change 2011_15 num'!$U$5:$U$44,0)","v":6},{"$f":"RANK('quinary change 2011_15 num'!V9,'quinary change 2011_15 num'!$V$5:$V$44,0)","v":9}]
["Bournville","Selly Oak","E05001183",{"$f":"RANK('quinary change 2011_15 num'!D10,'quinary change 2011_15 num'!$D$5:$D$44,0)","v":37},{"$f":"RANK('quinary change 2011_15 num'!E10,'quinary change 2011_15 num'!$E$5:$E$44,0)","v":31},{"$f":"RANK('quinary change 2011_15 num'!F10,'quinary change 2011_15 num'!$F$5:$F$44,0)","v":16},{"$f":"RANK('quinary change 2011_15 num'!G10,'quinary change 2011_15 num'!$G$5:$G$44,0)","v":31},{"$f":"RANK('quinary change 2011_15 num'!H10,'quinary change 2011_15 num'!$H$5:$H$44,0)","v":34},{"$f":"RANK('quinary change 2011_15 num'!I10,'quinary change 2011_15 num'!$I$5:$I$44,0)","v":28},{"$f":"RANK('quinary change 2011_15 num'!J10,'quinary change 2011_15 num'!$J$5:$J$44,0)","v":36},{"$f":"RANK('quinary change 2011_15 num'!K10,'quinary change 2011_15 num'!$K$5:$K$44,0)","v":31},{"$f":"RANK('quinary change 2011_15 num'!L10,'quinary change 2011_15 num'!$L$5:$L$44,0)","v":29},{"$f":"RANK('quinary change 2011_15 num'!M10,'quinary change 2011_15 num'!$M$5:$M$44,0)","v":35},{"$f":"RANK('quinary change 2011_15 num'!N10,'quinary change 2011_15 num'!$N$5:$N$44,0)","v":33},{"$f":"RANK('quinary change 2011_15 num'!O10,'quinary change 2011_15 num'!$O$5:$O$44,0)","v":16},{"$f":"RANK('quinary change 2011_15 num'!P10,'quinary change 2011_15 num'!$P$5:$P$44,0)","v":28},{"$f":"RANK('quinary change 2011_15 num'!Q10,'quinary change 2011_15 num'!$Q$5:$Q$44,0)","v":28},{"$f":"RANK('quinary change 2011_15 num'!R10,'quinary change 2011_15 num'!$R$5:$R$44,0)","v":9},{"$f":"RANK('quinary change 2011_15 num'!S10,'quinary change 2011_15 num'!$S$5:$S$44,0)","v":13},{"$f":"RANK('quinary change 2011_15 num'!T10,'quinary change 2011_15 num'!$T$5:$T$44,0)","v":5},{"$f":"RANK('quinary change 2011_15 num'!U10,'quinary change 2011_15 num'!$U$5:$U$44,0)","v":32},{"$f":"RANK('quinary change 2011_15 num'!V10,'quinary change 2011_15 num'!$V$5:$V$44,0)","v":28}]
["Brandwood","Selly Oak","E05001184",{"$f":"RANK('quinary change 2011_15 num'!D11,'quinary change 2011_15 num'!$D$5:$D$44,0)","v":34},{"$f":"RANK('quinary change 2011_15 num'!E11,'quinary change 2011_15 num'!$E$5:$E$44,0)","v":24},{"$f":"RANK('quinary change 2011_15 num'!F11,'quinary change 2011_15 num'!$F$5:$F$44,0)","v":23},{"$f":"RANK('quinary change 2011_15 num'!G11,'quinary change 2011_15 num'!$G$5:$G$44,0)","v":32},{"$f":"RANK('quinary change 2011_15 num'!H11,'quinary change 2011_15 num'!$H$5:$H$44,0)","v":28},{"$f":"RANK('quinary change 2011_15 num'!I11,'quinary change 2011_15 num'!$I$5:$I$44,0)","v":24},{"$f":"RANK('quinary change 2011_15 num'!J11,'quinary change 2011_15 num'!$J$5:$J$44,0)","v":19},{"$f":"RANK('quinary change 2011_15 num'!K11,'quinary change 2011_15 num'!$K$5:$K$44,0)","v":38},{"$f":"RANK('quinary change 2011_15 num'!L11,'quinary change 2011_15 num'!$L$5:$L$44,0)","v":30},{"$f":"RANK('quinary change 2011_15 num'!M11,'quinary change 2011_15 num'!$M$5:$M$44,0)","v":36},{"$f":"RANK('quinary change 2011_15 num'!N11,'quinary change 2011_15 num'!$N$5:$N$44,0)","v":22},{"$f":"RANK('quinary change 2011_15 num'!O11,'quinary change 2011_15 num'!$O$5:$O$44,0)","v":19},{"$f":"RANK('quinary change 2011_15 num'!P11,'quinary change 2011_15 num'!$P$5:$P$44,0)","v":24},{"$f":"RANK('quinary change 2011_15 num'!Q11,'quinary change 2011_15 num'!$Q$5:$Q$44,0)","v":26},{"$f":"RANK('quinary change 2011_15 num'!R11,'quinary change 2011_15 num'!$R$5:$R$44,0)","v":23},{"$f":"RANK('quinary change 2011_15 num'!S11,'quinary change 2011_15 num'!$S$5:$S$44,0)","v":18},{"$f":"RANK('quinary change 2011_15 num'!T11,'quinary change 2011_15 num'!$T$5:$T$44,0)","v":3},{"$f":"RANK('quinary change 2011_15 num'!U11,'quinary change 2011_15 num'!$U$5:$U$44,0)","v":37},{"$f":"RANK('quinary change 2011_15 num'!V11,'quinary change 2011_15 num'!$V$5:$V$44,0)","v":20}]
["Edgbaston","Edgbaston","E05001185",{"$f":"RANK('quinary change 2011_15 num'!D12,'quinary change 2011_15 num'!$D$5:$D$44,0)","v":3},{"$f":"RANK('quinary change 2011_15 num'!E12,'quinary change 2011_15 num'!$E$5:$E$44,0)","v":8},{"$f":"RANK('quinary change 2011_15 num'!F12,'quinary change 2011_15 num'!$F$5:$F$44,0)","v":3},{"$f":"RANK('quinary change 2011_15 num'!G12,'quinary change 2011_15 num'!$G$5:$G$44,0)","v":17},{"$f":"RANK('quinary change 2011_15 num'!H12,'quinary change 2011_15 num'!$H$5:$H$44,0)","v":2},{"$f":"RANK('quinary change 2011_15 num'!I12,'quinary change 2011_15 num'!$I$5:$I$44,0)","v":4},{"$f":"RANK('quinary change 2011_15 num'!J12,'quinary change 2011_15 num'!$J$5:$J$44,0)","v":3},{"$f":"RANK('quinary change 2011_15 num'!K12,'quinary change 2011_15 num'!$K$5:$K$44,0)","v":10},{"$f":"RANK('quinary change 2011_15 num'!L12,'quinary change 2011_15 num'!$L$5:$L$44,0)","v":10},{"$f":"RANK('quinary change 2011_15 num'!M12,'quinary change 2011_15 num'!$M$5:$M$44,0)","v":8},{"$f":"RANK('quinary change 2011_15 num'!N12,'quinary change 2011_15 num'!$N$5:$N$44,0)","v":11},{"$f":"RANK('quinary change 2011_15 num'!O12,'quinary change 2011_15 num'!$O$5:$O$44,0)","v":17},{"$f":"RANK('quinary change 2011_15 num'!P12,'quinary change 2011_15 num'!$P$5:$P$44,0)","v":32},{"$f":"RANK('quinary change 2011_15 num'!Q12,'quinary change 2011_15 num'!$Q$5:$Q$44,0)","v":25},{"$f":"RANK('quinary change 2011_15 num'!R12,'quinary change 2011_15 num'!$R$5:$R$44,0)","v":27},{"$f":"RANK('quinary change 2011_15 num'!S12,'quinary change 2011_15 num'!$S$5:$S$44,0)","v":22},{"$f":"RANK('quinary change 2011_15 num'!T12,'quinary change 2011_15 num'!$T$5:$T$44,0)","v":2},{"$f":"RANK('quinary change 2011_15 num'!U12,'quinary change 2011_15 num'!$U$5:$U$44,0)","v":28},{"$f":"RANK('quinary change 2011_15 num'!V12,'quinary change 2011_15 num'!$V$5:$V$44,0)","v":17}]
["Erdington","Erdington","E05001186",{"$f":"RANK('quinary change 2011_15 num'!D13,'quinary change 2011_15 num'!$D$5:$D$44,0)","v":16},{"$f":"RANK('quinary change 2011_15 num'!E13,'quinary change 2011_15 num'!$E$5:$E$44,0)","v":5},{"$f":"RANK('quinary change 2011_15 num'!F13,'quinary change 2011_15 num'!$F$5:$F$44,0)","v":2},{"$f":"RANK('quinary change 2011_15 num'!G13,'quinary change 2011_15 num'!$G$5:$G$44,0)","v":19},{"$f":"RANK('quinary change 2011_15 num'!H13,'quinary change 2011_15 num'!$H$5:$H$44,0)","v":30},{"$f":"RANK('quinary change 2011_15 num'!I13,'quinary change 2011_15 num'!$I$5:$I$44,0)","v":23},{"$f":"RANK('quinary change 2011_15 num'!J13,'quinary change 2011_15 num'!$J$5:$J$44,0)","v":14},{"$f":"RANK('quinary change 2011_15 num'!K13,'quinary change 2011_15 num'!$K$5:$K$44,0)","v":5},{"$f":"RANK('quinary change 2011_15 num'!L13,'quinary change 2011_15 num'!$L$5:$L$44,0)","v":15},{"$f":"RANK('quinary change 2011_15 num'!M13,'quinary change 2011_15 num'!$M$5:$M$44,0)","v":23},{"$f":"RANK('quinary change 2011_15 num'!N13,'quinary change 2011_15 num'!$N$5:$N$44,0)","v":34},{"$f":"RANK('quinary change 2011_15 num'!O13,'quinary change 2011_15 num'!$O$5:$O$44,0)","v":28},{"$f":"RANK('quinary change 2011_15 num'!P13,'quinary change 2011_15 num'!$P$5:$P$44,0)","v":5},{"$f":"RANK('quinary change 2011_15 num'!Q13,'quinary change 2011_15 num'!$Q$5:$Q$44,0)","v":23},{"$f":"RANK('quinary change 2011_15 num'!R13,'quinary change 2011_15 num'!$R$5:$R$44,0)","v":22},{"$f":"RANK('quinary change 2011_15 num'!S13,'quinary change 2011_15 num'!$S$5:$S$44,0)","v":11},{"$f":"RANK('quinary change 2011_15 num'!T13,'quinary change 2011_15 num'!$T$5:$T$44,0)","v":31},{"$f":"RANK('quinary change 2011_15 num'!U13,'quinary change 2011_15 num'!$U$5:$U$44,0)","v":5},{"$f":"RANK('quinary change 2011_15 num'!V13,'quinary change 2011_15 num'!$V$5:$V$44,0)","v":36}]
["Hall Green","Hall Green","E05001187",{"$f":"RANK('quinary change 2011_15 num'!D14,'quinary change 2011_15 num'!$D$5:$D$44,0)","v":24},{"$f":"RANK('quinary change 2011_15 num'!E14,'quinary change 2011_15 num'!$E$5:$E$44,0)","v":25},{"$f":"RANK('quinary change 2011_15 num'!F14,'quinary change 2011_15 num'!$F$5:$F$44,0)","v":21},{"$f":"RANK('quinary change 2011_15 num'!G14,'quinary change 2011_15 num'!$G$5:$G$44,0)","v":20},{"$f":"RANK('quinary change 2011_15 num'!H14,'quinary change 2011_15 num'!$H$5:$H$44,0)","v":13},{"$f":"RANK('quinary change 2011_15 num'!I14,'quinary change 2011_15 num'!$I$5:$I$44,0)","v":25},{"$f":"RANK('quinary change 2011_15 num'!J14,'quinary change 2011_15 num'!$J$5:$J$44,0)","v":26},{"$f":"RANK('quinary change 2011_15 num'!K14,'quinary change 2011_15 num'!$K$5:$K$44,0)","v":28},{"$f":"RANK('quinary change 2011_15 num'!L14,'quinary change 2011_15 num'!$L$5:$L$44,0)","v":25},{"$f":"RANK('quinary change 2011_15 num'!M14,'quinary change 2011_15 num'!$M$5:$M$44,0)","v":17},{"$f":"RANK('quinary change 2011_15 num'!N14,'quinary change 2011_15 num'!$N$5:$N$44,0)","v":20},{"$f":"RANK('quinary change 2011_15 num'!O14,'quinary change 2011_15 num'!$O$5:$O$44,0)","v":39},{"$f":"RANK('quinary change 2011_15 num'!P14,'quinary change 2011_15 num'!$P$5:$P$44,0)","v":27},{"$f":"RANK('quinary change 2011_15 num'!Q14,'quinary change 2011_15 num'!$Q$5:$Q$44,0)","v":19},{"$f":"RANK('quinary change 2011_15 num'!R14,'quinary change 2011_15 num'!$R$5:$R$44,0)","v":25},{"$f":"RANK('quinary change 2011_15 num'!S14,'quinary change 2011_15 num'!$S$5:$S$44,0)","v":9},{"$f":"RANK('quinary change 2011_15 num'!T14,'quinary change 2011_15 num'!$T$5:$T$44,0)","v":34},{"$f":"RANK('quinary change 2011_15 num'!U14,'quinary change 2011_15 num'!$U$5:$U$44,0)","v":20},{"$f":"RANK('quinary change 2011_15 num'!V14,'quinary change 2011_15 num'!$V$5:$V$44,0)","v":5}]
["Handsworth Wood","Perry Barr","E05001188",{"$f":"RANK('quinary change 2011_15 num'!D15,'quinary change 2011_15 num'!$D$5:$D$44,0)","v":22},{"$f":"RANK('quinary change 2011_15 num'!E15,'quinary change 2011_15 num'!$E$5:$E$44,0)","v":18},{"$f":"RANK('quinary change 2011_15 num'!F15,'quinary change 2011_15 num'!$F$5:$F$44,0)","v":31},{"$f":"RANK('quinary change 2011_15 num'!G15,'quinary change 2011_15 num'!$G$5:$G$44,0)","v":15},{"$f":"RANK('quinary change 2011_15 num'!H15,'quinary change 2011_15 num'!$H$5:$H$44,0)","v":35},{"$f":"RANK('quinary change 2011_15 num'!I15,'quinary change 2011_15 num'!$I$5:$I$44,0)","v":30},{"$f":"RANK('quinary change 2011_15 num'!J15,'quinary change 2011_15 num'!$J$5:$J$44,0)","v":39},{"$f":"RANK('quinary change 2011_15 num'!K15,'quinary change 2011_15 num'!$K$5:$K$44,0)","v":12},{"$f":"RANK('quinary change 2011_15 num'!L15,'quinary change 2011_15 num'!$L$5:$L$44,0)","v":13},{"$f":"RANK('quinary change 2011_15 num'!M15,'quinary change 2011_15 num'!$M$5:$M$44,0)","v":14},{"$f":"RANK('quinary change 2011_15 num'!N15,'quinary change 2011_15 num'!$N$5:$N$44,0)","v":30},{"$f":"RANK('quinary change 2011_15 num'!O15,'quinary change 2011_15 num'!$O$5:$O$44,0)","v":13},{"$f":"RANK('quinary change 2011_15 num'!P15,'quinary change 2011_15 num'!$P$5:$P$44,0)","v":22},{"$f":"RANK('quinary change 2011_15 num'!Q15,'quinary change 2011_15 num'!$Q$5:$Q$44,0)","v":6},{"$f":"RANK('quinary change 2011_15 num'!R15,'quinary change 2011_15 num'!$R$5:$R$44,0)","v":4},{"$f":"RANK('quinary change 2011_15 num'!S15,'quinary change 2011_15 num'!$S$5:$S$44,0)","v":37},{"$f":"RANK('quinary change 2011_15 num'!T15,'quinary change 2011_15 num'!$T$5:$T$44,0)","v":30},{"$f":"RANK('quinary change 2011_15 num'!U15,'quinary change 2011_15 num'!$U$5:$U$44,0)","v":12},{"$f":"RANK('quinary change 2011_15 num'!V15,'quinary change 2011_15 num'!$V$5:$V$44,0)","v":24}]
["Harborne","Edgbaston","E05001189",{"$f":"RANK('quinary change 2011_15 num'!D16,'quinary change 2011_15 num'!$D$5:$D$44,0)","v":7},{"$f":"RANK('quinary change 2011_15 num'!E16,'quinary change 2011_15 num'!$E$5:$E$44,0)","v":2},{"$f":"RANK('quinary change 2011_15 num'!F16,'quinary change 2011_15 num'!$F$5:$F$44,0)","v":14},{"$f":"RANK('quinary change 2011_15 num'!G16,'quinary change 2011_15 num'!$G$5:$G$44,0)","v":12},{"$f":"RANK('quinary change 2011_15 num'!H16,'quinary change 2011_15 num'!$H$5:$H$44,0)","v":15},{"$f":"RANK('quinary change 2011_15 num'!I16,'quinary change 2011_15 num'!$I$5:$I$44,0)","v":6},{"$f":"RANK('quinary change 2011_15 num'!J16,'quinary change 2011_15 num'!$J$5:$J$44,0)","v":27},{"$f":"RANK('quinary change 2011_15 num'!K16,'quinary change 2011_15 num'!$K$5:$K$44,0)","v":36},{"$f":"RANK('quinary change 2011_15 num'!L16,'quinary change 2011_15 num'!$L$5:$L$44,0)","v":7},{"$f":"RANK('quinary change 2011_15 num'!M16,'quinary change 2011_15 num'!$M$5:$M$44,0)","v":7},{"$f":"RANK('quinary change 2011_15 num'!N16,'quinary change 2011_15 num'!$N$5:$N$44,0)","v":12},{"$f":"RANK('quinary change 2011_15 num'!O16,'quinary change 2011_15 num'!$O$5:$O$44,0)","v":32},{"$f":"RANK('quinary change 2011_15 num'!P16,'quinary change 2011_15 num'!$P$5:$P$44,0)","v":34},{"$f":"RANK('quinary change 2011_15 num'!Q16,'quinary change 2011_15 num'!$Q$5:$Q$44,0)","v":24},{"$f":"RANK('quinary change 2011_15 num'!R16,'quinary change 2011_15 num'!$R$5:$R$44,0)","v":6},{"$f":"RANK('quinary change 2011_15 num'!S16,'quinary change 2011_15 num'!$S$5:$S$44,0)","v":17},{"$f":"RANK('quinary change 2011_15 num'!T16,'quinary change 2011_15 num'!$T$5:$T$44,0)","v":1},{"$f":"RANK('quinary change 2011_15 num'!U16,'quinary change 2011_15 num'!$U$5:$U$44,0)","v":26},{"$f":"RANK('quinary change 2011_15 num'!V16,'quinary change 2011_15 num'!$V$5:$V$44,0)","v":26}]
["Hodge Hill","Hodge Hill","E05001190",{"$f":"RANK('quinary change 2011_15 num'!D17,'quinary change 2011_15 num'!$D$5:$D$44,0)","v":13},{"$f":"RANK('quinary change 2011_15 num'!E17,'quinary change 2011_15 num'!$E$5:$E$44,0)","v":25},{"$f":"RANK('quinary change 2011_15 num'!F17,'quinary change 2011_15 num'!$F$5:$F$44,0)","v":17},{"$f":"RANK('quinary change 2011_15 num'!G17,'quinary change 2011_15 num'!$G$5:$G$44,0)","v":6},{"$f":"RANK('quinary change 2011_15 num'!H17,'quinary change 2011_15 num'!$H$5:$H$44,0)","v":5},{"$f":"RANK('quinary change 2011_15 num'!I17,'quinary change 2011_15 num'!$I$5:$I$44,0)","v":7},{"$f":"RANK('quinary change 2011_15 num'!J17,'quinary change 2011_15 num'!$J$5:$J$44,0)","v":16},{"$f":"RANK('quinary change 2011_15 num'!K17,'quinary change 2011_15 num'!$K$5:$K$44,0)","v":14},{"$f":"RANK('quinary change 2011_15 num'!L17,'quinary change 2011_15 num'!$L$5:$L$44,0)","v":6},{"$f":"RANK('quinary change 2011_15 num'!M17,'quinary change 2011_15 num'!$M$5:$M$44,0)","v":20},{"$f":"RANK('quinary change 2011_15 num'!N17,'quinary change 2011_15 num'!$N$5:$N$44,0)","v":8},{"$f":"RANK('quinary change 2011_15 num'!O17,'quinary change 2011_15 num'!$O$5:$O$44,0)","v":32},{"$f":"RANK('quinary change 2011_15 num'!P17,'quinary change 2011_15 num'!$P$5:$P$44,0)","v":29},{"$f":"RANK('quinary change 2011_15 num'!Q17,'quinary change 2011_15 num'!$Q$5:$Q$44,0)","v":30},{"$f":"RANK('quinary change 2011_15 num'!R17,'quinary change 2011_15 num'!$R$5:$R$44,0)","v":29},{"$f":"RANK('quinary change 2011_15 num'!S17,'quinary change 2011_15 num'!$S$5:$S$44,0)","v":34},{"$f":"RANK('quinary change 2011_15 num'!T17,'quinary change 2011_15 num'!$T$5:$T$44,0)","v":4},{"$f":"RANK('quinary change 2011_15 num'!U17,'quinary change 2011_15 num'!$U$5:$U$44,0)","v":36},{"$f":"RANK('quinary change 2011_15 num'!V17,'quinary change 2011_15 num'!$V$5:$V$44,0)","v":32}]
["Kings Norton","Northfield","E05001191",{"$f":"RANK('quinary change 2011_15 num'!D18,'quinary change 2011_15 num'!$D$5:$D$44,0)","v":35},{"$f":"RANK('quinary change 2011_15 num'!E18,'quinary change 2011_15 num'!$E$5:$E$44,0)","v":36},{"$f":"RANK('quinary change 2011_15 num'!F18,'quinary change 2011_15 num'!$F$5:$F$44,0)","v":10},{"$f":"RANK('quinary change 2011_15 num'!G18,'quinary change 2011_15 num'!$G$5:$G$44,0)","v":30},{"$f":"RANK('quinary change 2011_15 num'!H18,'quinary change 2011_15 num'!$H$5:$H$44,0)","v":31},{"$f":"RANK('quinary change 2011_15 num'!I18,'quinary change 2011_15 num'!$I$5:$I$44,0)","v":34},{"$f":"RANK('quinary change 2011_15 num'!J18,'quinary change 2011_15 num'!$J$5:$J$44,0)","v":13},{"$f":"RANK('quinary change 2011_15 num'!K18,'quinary change 2011_15 num'!$K$5:$K$44,0)","v":35},{"$f":"RANK('quinary change 2011_15 num'!L18,'quinary change 2011_15 num'!$L$5:$L$44,0)","v":31},{"$f":"RANK('quinary change 2011_15 num'!M18,'quinary change 2011_15 num'!$M$5:$M$44,0)","v":30},{"$f":"RANK('quinary change 2011_15 num'!N18,'quinary change 2011_15 num'!$N$5:$N$44,0)","v":19},{"$f":"RANK('quinary change 2011_15 num'!O18,'quinary change 2011_15 num'!$O$5:$O$44,0)","v":26},{"$f":"RANK('quinary change 2011_15 num'!P18,'quinary change 2011_15 num'!$P$5:$P$44,0)","v":26},{"$f":"RANK('quinary change 2011_15 num'!Q18,'quinary change 2011_15 num'!$Q$5:$Q$44,0)","v":40},{"$f":"RANK('quinary change 2011_15 num'!R18,'quinary change 2011_15 num'!$R$5:$R$44,0)","v":10},{"$f":"RANK('quinary change 2011_15 num'!S18,'quinary change 2011_15 num'!$S$5:$S$44,0)","v":6},{"$f":"RANK('quinary change 2011_15 num'!T18,'quinary change 2011_15 num'!$T$5:$T$44,0)","v":6},{"$f":"RANK('quinary change 2011_15 num'!U18,'quinary change 2011_15 num'!$U$5:$U$44,0)","v":11},{"$f":"RANK('quinary change 2011_15 num'!V18,'quinary change 2011_15 num'!$V$5:$V$44,0)","v":35}]
["Kingstanding","Erdington","E05001192",{"$f":"RANK('quinary change 2011_15 num'!D19,'quinary change 2011_15 num'!$D$5:$D$44,0)","v":30},{"$f":"RANK('quinary change 2011_15 num'!E19,'quinary change 2011_15 num'!$E$5:$E$44,0)","v":19},{"$f":"RANK('quinary change 2011_15 num'!F19,'quinary change 2011_15 num'!$F$5:$F$44,0)","v":29},{"$f":"RANK('quinary change 2011_15 num'!G19,'quinary change 2011_15 num'!$G$5:$G$44,0)","v":33},{"$f":"RANK('quinary change 2011_15 num'!H19,'quinary change 2011_15 num'!$H$5:$H$44,0)","v":22},{"$f":"RANK('quinary change 2011_15 num'!I19,'quinary change 2011_15 num'!$I$5:$I$44,0)","v":32},{"$f":"RANK('quinary change 2011_15 num'!J19,'quinary change 2011_15 num'!$J$5:$J$44,0)","v":9},{"$f":"RANK('quinary change 2011_15 num'!K19,'quinary change 2011_15 num'!$K$5:$K$44,0)","v":21},{"$f":"RANK('quinary change 2011_15 num'!L19,'quinary change 2011_15 num'!$L$5:$L$44,0)","v":24},{"$f":"RANK('quinary change 2011_15 num'!M19,'quinary change 2011_15 num'!$M$5:$M$44,0)","v":22},{"$f":"RANK('quinary change 2011_15 num'!N19,'quinary change 2011_15 num'!$N$5:$N$44,0)","v":36},{"$f":"RANK('quinary change 2011_15 num'!O19,'quinary change 2011_15 num'!$O$5:$O$44,0)","v":14},{"$f":"RANK('quinary change 2011_15 num'!P19,'quinary change 2011_15 num'!$P$5:$P$44,0)","v":6},{"$f":"RANK('quinary change 2011_15 num'!Q19,'quinary change 2011_15 num'!$Q$5:$Q$44,0)","v":14},{"$f":"RANK('quinary change 2011_15 num'!R19,'quinary change 2011_15 num'!$R$5:$R$44,0)","v":35},{"$f":"RANK('quinary change 2011_15 num'!S19,'quinary change 2011_15 num'!$S$5:$S$44,0)","v":14},{"$f":"RANK('quinary change 2011_15 num'!T19,'quinary change 2011_15 num'!$T$5:$T$44,0)","v":25},{"$f":"RANK('quinary change 2011_15 num'!U19,'quinary change 2011_15 num'!$U$5:$U$44,0)","v":39},{"$f":"RANK('quinary change 2011_15 num'!V19,'quinary change 2011_15 num'!$V$5:$V$44,0)","v":31}]
["Ladywood","Ladywood","E05001193",{"$f":"RANK('quinary change 2011_15 num'!D20,'quinary change 2011_15 num'!$D$5:$D$44,0)","v":1},{"$f":"RANK('quinary change 2011_15 num'!E20,'quinary change 2011_15 num'!$E$5:$E$44,0)","v":1},{"$f":"RANK('quinary change 2011_15 num'!F20,'quinary change 2011_15 num'!$F$5:$F$44,0)","v":4},{"$f":"RANK('quinary change 2011_15 num'!G20,'quinary change 2011_15 num'!$G$5:$G$44,0)","v":4},{"$f":"RANK('quinary change 2011_15 num'!H20,'quinary change 2011_15 num'!$H$5:$H$44,0)","v":14},{"$f":"RANK('quinary change 2011_15 num'!I20,'quinary change 2011_15 num'!$I$5:$I$44,0)","v":3},{"$f":"RANK('quinary change 2011_15 num'!J20,'quinary change 2011_15 num'!$J$5:$J$44,0)","v":1},{"$f":"RANK('quinary change 2011_15 num'!K20,'quinary change 2011_15 num'!$K$5:$K$44,0)","v":1},{"$f":"RANK('quinary change 2011_15 num'!L20,'quinary change 2011_15 num'!$L$5:$L$44,0)","v":1},{"$f":"RANK('quinary change 2011_15 num'!M20,'quinary change 2011_15 num'!$M$5:$M$44,0)","v":1},{"$f":"RANK('quinary change 2011_15 num'!N20,'quinary change 2011_15 num'!$N$5:$N$44,0)","v":9},{"$f":"RANK('quinary change 2011_15 num'!O20,'quinary change 2011_15 num'!$O$5:$O$44,0)","v":5},{"$f":"RANK('quinary change 2011_15 num'!P20,'quinary change 2011_15 num'!$P$5:$P$44,0)","v":1},{"$f":"RANK('quinary change 2011_15 num'!Q20,'quinary change 2011_15 num'!$Q$5:$Q$44,0)","v":10},{"$f":"RANK('quinary change 2011_15 num'!R20,'quinary change 2011_15 num'!$R$5:$R$44,0)","v":26},{"$f":"RANK('quinary change 2011_15 num'!S20,'quinary change 2011_15 num'!$S$5:$S$44,0)","v":20},{"$f":"RANK('quinary change 2011_15 num'!T20,'quinary change 2011_15 num'!$T$5:$T$44,0)","v":13},{"$f":"RANK('quinary change 2011_15 num'!U20,'quinary change 2011_15 num'!$U$5:$U$44,0)","v":23},{"$f":"RANK('quinary change 2011_15 num'!V20,'quinary change 2011_15 num'!$V$5:$V$44,0)","v":27}]
["Longbridge","Northfield","E05001194",{"$f":"RANK('quinary change 2011_15 num'!D21,'quinary change 2011_15 num'!$D$5:$D$44,0)","v":23},{"$f":"RANK('quinary change 2011_15 num'!E21,'quinary change 2011_15 num'!$E$5:$E$44,0)","v":13},{"$f":"RANK('quinary change 2011_15 num'!F21,'quinary change 2011_15 num'!$F$5:$F$44,0)","v":12},{"$f":"RANK('quinary change 2011_15 num'!G21,'quinary change 2011_15 num'!$G$5:$G$44,0)","v":27},{"$f":"RANK('quinary change 2011_15 num'!H21,'quinary change 2011_15 num'!$H$5:$H$44,0)","v":24},{"$f":"RANK('quinary change 2011_15 num'!I21,'quinary change 2011_15 num'!$I$5:$I$44,0)","v":13},{"$f":"RANK('quinary change 2011_15 num'!J21,'quinary change 2011_15 num'!$J$5:$J$44,0)","v":23},{"$f":"RANK('quinary change 2011_15 num'!K21,'quinary change 2011_15 num'!$K$5:$K$44,0)","v":37},{"$f":"RANK('quinary change 2011_15 num'!L21,'quinary change 2011_15 num'!$L$5:$L$44,0)","v":28},{"$f":"RANK('quinary change 2011_15 num'!M21,'quinary change 2011_15 num'!$M$5:$M$44,0)","v":25},{"$f":"RANK('quinary change 2011_15 num'!N21,'quinary change 2011_15 num'!$N$5:$N$44,0)","v":23},{"$f":"RANK('quinary change 2011_15 num'!O21,'quinary change 2011_15 num'!$O$5:$O$44,0)","v":27},{"$f":"RANK('quinary change 2011_15 num'!P21,'quinary change 2011_15 num'!$P$5:$P$44,0)","v":33},{"$f":"RANK('quinary change 2011_15 num'!Q21,'quinary change 2011_15 num'!$Q$5:$Q$44,0)","v":15},{"$f":"RANK('quinary change 2011_15 num'!R21,'quinary change 2011_15 num'!$R$5:$R$44,0)","v":3},{"$f":"RANK('quinary change 2011_15 num'!S21,'quinary change 2011_15 num'!$S$5:$S$44,0)","v":7},{"$f":"RANK('quinary change 2011_15 num'!T21,'quinary change 2011_15 num'!$T$5:$T$44,0)","v":7},{"$f":"RANK('quinary change 2011_15 num'!U21,'quinary change 2011_15 num'!$U$5:$U$44,0)","v":34},{"$f":"RANK('quinary change 2011_15 num'!V21,'quinary change 2011_15 num'!$V$5:$V$44,0)","v":18}]
["Lozells and East Handsworth","Perry Barr","E05001195",{"$f":"RANK('quinary change 2011_15 num'!D22,'quinary change 2011_15 num'!$D$5:$D$44,0)","v":11},{"$f":"RANK('quinary change 2011_15 num'!E22,'quinary change 2011_15 num'!$E$5:$E$44,0)","v":31},{"$f":"RANK('quinary change 2011_15 num'!F22,'quinary change 2011_15 num'!$F$5:$F$44,0)","v":34},{"$f":"RANK('quinary change 2011_15 num'!G22,'quinary change 2011_15 num'!$G$5:$G$44,0)","v":5},{"$f":"RANK('quinary change 2011_15 num'!H22,'quinary change 2011_15 num'!$H$5:$H$44,0)","v":12},{"$f":"RANK('quinary change 2011_15 num'!I22,'quinary change 2011_15 num'!$I$5:$I$44,0)","v":35},{"$f":"RANK('quinary change 2011_15 num'!J22,'quinary change 2011_15 num'!$J$5:$J$44,0)","v":35},{"$f":"RANK('quinary change 2011_15 num'!K22,'quinary change 2011_15 num'!$K$5:$K$44,0)","v":26},{"$f":"RANK('quinary change 2011_15 num'!L22,'quinary change 2011_15 num'!$L$5:$L$44,0)","v":4},{"$f":"RANK('quinary change 2011_15 num'!M22,'quinary change 2011_15 num'!$M$5:$M$44,0)","v":2},{"$f":"RANK('quinary change 2011_15 num'!N22,'quinary change 2011_15 num'!$N$5:$N$44,0)","v":6},{"$f":"RANK('quinary change 2011_15 num'!O22,'quinary change 2011_15 num'!$O$5:$O$44,0)","v":6},{"$f":"RANK('quinary change 2011_15 num'!P22,'quinary change 2011_15 num'!$P$5:$P$44,0)","v":14},{"$f":"RANK('quinary change 2011_15 num'!Q22,'quinary change 2011_15 num'!$Q$5:$Q$44,0)","v":1},{"$f":"RANK('quinary change 2011_15 num'!R22,'quinary change 2011_15 num'!$R$5:$R$44,0)","v":34},{"$f":"RANK('quinary change 2011_15 num'!S22,'quinary change 2011_15 num'!$S$5:$S$44,0)","v":33},{"$f":"RANK('quinary change 2011_15 num'!T22,'quinary change 2011_15 num'!$T$5:$T$44,0)","v":28},{"$f":"RANK('quinary change 2011_15 num'!U22,'quinary change 2011_15 num'!$U$5:$U$44,0)","v":15},{"$f":"RANK('quinary change 2011_15 num'!V22,'quinary change 2011_15 num'!$V$5:$V$44,0)","v":8}]
["Moseley and Kings Heath","Hall Green","E05001196",{"$f":"RANK('quinary change 2011_15 num'!D23,'quinary change 2011_15 num'!$D$5:$D$44,0)","v":36},{"$f":"RANK('quinary change 2011_15 num'!E23,'quinary change 2011_15 num'!$E$5:$E$44,0)","v":37},{"$f":"RANK('quinary change 2011_15 num'!F23,'quinary change 2011_15 num'!$F$5:$F$44,0)","v":33},{"$f":"RANK('quinary change 2011_15 num'!G23,'quinary change 2011_15 num'!$G$5:$G$44,0)","v":35},{"$f":"RANK('quinary change 2011_15 num'!H23,'quinary change 2011_15 num'!$H$5:$H$44,0)","v":25},{"$f":"RANK('quinary change 2011_15 num'!I23,'quinary change 2011_15 num'!$I$5:$I$44,0)","v":29},{"$f":"RANK('quinary change 2011_15 num'!J23,'quinary change 2011_15 num'!$J$5:$J$44,0)","v":40},{"$f":"RANK('quinary change 2011_15 num'!K23,'quinary change 2011_15 num'!$K$5:$K$44,0)","v":39},{"$f":"RANK('quinary change 2011_15 num'!L23,'quinary change 2011_15 num'!$L$5:$L$44,0)","v":33},{"$f":"RANK('quinary change 2011_15 num'!M23,'quinary change 2011_15 num'!$M$5:$M$44,0)","v":16},{"$f":"RANK('quinary change 2011_15 num'!N23,'quinary change 2011_15 num'!$N$5:$N$44,0)","v":13},{"$f":"RANK('quinary change 2011_15 num'!O23,'quinary change 2011_15 num'!$O$5:$O$44,0)","v":29},{"$f":"RANK('quinary change 2011_15 num'!P23,'quinary change 2011_15 num'!$P$5:$P$44,0)","v":35},{"$f":"RANK('quinary change 2011_15 num'!Q23,'quinary change 2011_15 num'!$Q$5:$Q$44,0)","v":12},{"$f":"RANK('quinary change 2011_15 num'!R23,'quinary change 2011_15 num'!$R$5:$R$44,0)","v":2},{"$f":"RANK('quinary change 2011_15 num'!S23,'quinary change 2011_15 num'!$S$5:$S$44,0)","v":19},{"$f":"RANK('quinary change 2011_15 num'!T23,'quinary change 2011_15 num'!$T$5:$T$44,0)","v":33},{"$f":"RANK('quinary change 2011_15 num'!U23,'quinary change 2011_15 num'!$U$5:$U$44,0)","v":2},{"$f":"RANK('quinary change 2011_15 num'!V23,'quinary change 2011_15 num'!$V$5:$V$44,0)","v":28}]
["Nechells","Ladywood","E05001197",{"$f":"RANK('quinary change 2011_15 num'!D24,'quinary change 2011_15 num'!$D$5:$D$44,0)","v":2},{"$f":"RANK('quinary change 2011_15 num'!E24,'quinary change 2011_15 num'!$E$5:$E$44,0)","v":17},{"$f":"RANK('quinary change 2011_15 num'!F24,'quinary change 2011_15 num'!$F$5:$F$44,0)","v":15},{"$f":"RANK('quinary change 2011_15 num'!G24,'quinary change 2011_15 num'!$G$5:$G$44,0)","v":8},{"$f":"RANK('quinary change 2011_15 num'!H24,'quinary change 2011_15 num'!$H$5:$H$44,0)","v":1},{"$f":"RANK('quinary change 2011_15 num'!I24,'quinary change 2011_15 num'!$I$5:$I$44,0)","v":2},{"$f":"RANK('quinary change 2011_15 num'!J24,'quinary change 2011_15 num'!$J$5:$J$44,0)","v":2},{"$f":"RANK('quinary change 2011_15 num'!K24,'quinary change 2011_15 num'!$K$5:$K$44,0)","v":3},{"$f":"RANK('quinary change 2011_15 num'!L24,'quinary change 2011_15 num'!$L$5:$L$44,0)","v":3},{"$f":"RANK('quinary change 2011_15 num'!M24,'quinary change 2011_15 num'!$M$5:$M$44,0)","v":12},{"$f":"RANK('quinary change 2011_15 num'!N24,'quinary change 2011_15 num'!$N$5:$N$44,0)","v":5},{"$f":"RANK('quinary change 2011_15 num'!O24,'quinary change 2011_15 num'!$O$5:$O$44,0)","v":11},{"$f":"RANK('quinary change 2011_15 num'!P24,'quinary change 2011_15 num'!$P$5:$P$44,0)","v":3},{"$f":"RANK('quinary change 2011_15 num'!Q24,'quinary change 2011_15 num'!$Q$5:$Q$44,0)","v":9},{"$f":"RANK('quinary change 2011_15 num'!R24,'quinary change 2011_15 num'!$R$5:$R$44,0)","v":33},{"$f":"RANK('quinary change 2011_15 num'!S24,'quinary change 2011_15 num'!$S$5:$S$44,0)","v":36},{"$f":"RANK('quinary change 2011_15 num'!T24,'quinary change 2011_15 num'!$T$5:$T$44,0)","v":21},{"$f":"RANK('quinary change 2011_15 num'!U24,'quinary change 2011_15 num'!$U$5:$U$44,0)","v":6},{"$f":"RANK('quinary change 2011_15 num'!V24,'quinary change 2011_15 num'!$V$5:$V$44,0)","v":16}]
["Northfield","Northfield","E05001198",{"$f":"RANK('quinary change 2011_15 num'!D25,'quinary change 2011_15 num'!$D$5:$D$44,0)","v":27},{"$f":"RANK('quinary change 2011_15 num'!E25,'quinary change 2011_15 num'!$E$5:$E$44,0)","v":6},{"$f":"RANK('quinary change 2011_15 num'!F25,'quinary change 2011_15 num'!$F$5:$F$44,0)","v":35},{"$f":"RANK('quinary change 2011_15 num'!G25,'quinary change 2011_15 num'!$G$5:$G$44,0)","v":26},{"$f":"RANK('quinary change 2011_15 num'!H25,'quinary change 2011_15 num'!$H$5:$H$44,0)","v":40},{"$f":"RANK('quinary change 2011_15 num'!I25,'quinary change 2011_15 num'!$I$5:$I$44,0)","v":27},{"$f":"RANK('quinary change 2011_15 num'!J25,'quinary change 2011_15 num'!$J$5:$J$44,0)","v":5},{"$f":"RANK('quinary change 2011_15 num'!K25,'quinary change 2011_15 num'!$K$5:$K$44,0)","v":20},{"$f":"RANK('quinary change 2011_15 num'!L25,'quinary change 2011_15 num'!$L$5:$L$44,0)","v":37},{"$f":"RANK('quinary change 2011_15 num'!M25,'quinary change 2011_15 num'!$M$5:$M$44,0)","v":21},{"$f":"RANK('quinary change 2011_15 num'!N25,'quinary change 2011_15 num'!$N$5:$N$44,0)","v":38},{"$f":"RANK('quinary change 2011_15 num'!O25,'quinary change 2011_15 num'!$O$5:$O$44,0)","v":8},{"$f":"RANK('quinary change 2011_15 num'!P25,'quinary change 2011_15 num'!$P$5:$P$44,0)","v":16},{"$f":"RANK('quinary change 2011_15 num'!Q25,'quinary change 2011_15 num'!$Q$5:$Q$44,0)","v":31},{"$f":"RANK('quinary change 2011_15 num'!R25,'quinary change 2011_15 num'!$R$5:$R$44,0)","v":8},{"$f":"RANK('quinary change 2011_15 num'!S25,'quinary change 2011_15 num'!$S$5:$S$44,0)","v":8},{"$f":"RANK('quinary change 2011_15 num'!T25,'quinary change 2011_15 num'!$T$5:$T$44,0)","v":10},{"$f":"RANK('quinary change 2011_15 num'!U25,'quinary change 2011_15 num'!$U$5:$U$44,0)","v":3},{"$f":"RANK('quinary change 2011_15 num'!V25,'quinary change 2011_15 num'!$V$5:$V$44,0)","v":37}]
["Oscott","Perry Barr","E05001199",{"$f":"RANK('quinary change 2011_15 num'!D26,'quinary change 2011_15 num'!$D$5:$D$44,0)","v":29},{"$f":"RANK('quinary change 2011_15 num'!E26,'quinary change 2011_15 num'!$E$5:$E$44,0)","v":10},{"$f":"RANK('quinary change 2011_15 num'!F26,'quinary change 2011_15 num'!$F$5:$F$44,0)","v":19},{"$f":"RANK('quinary change 2011_15 num'!G26,'quinary change 2011_15 num'!$G$5:$G$44,0)","v":37},{"$f":"RANK('quinary change 2011_15 num'!H26,'quinary change 2011_15 num'!$H$5:$H$44,0)","v":29},{"$f":"RANK('quinary change 2011_15 num'!I26,'quinary change 2011_15 num'!$I$5:$I$44,0)","v":15},{"$f":"RANK('quinary change 2011_15 num'!J26,'quinary change 2011_15 num'!$J$5:$J$44,0)","v":8},{"$f":"RANK('quinary change 2011_15 num'!K26,'quinary change 2011_15 num'!$K$5:$K$44,0)","v":10},{"$f":"RANK('quinary change 2011_15 num'!L26,'quinary change 2011_15 num'!$L$5:$L$44,0)","v":34},{"$f":"RANK('quinary change 2011_15 num'!M26,'quinary change 2011_15 num'!$M$5:$M$44,0)","v":40},{"$f":"RANK('quinary change 2011_15 num'!N26,'quinary change 2011_15 num'!$N$5:$N$44,0)","v":31},{"$f":"RANK('quinary change 2011_15 num'!O26,'quinary change 2011_15 num'!$O$5:$O$44,0)","v":10},{"$f":"RANK('quinary change 2011_15 num'!P26,'quinary change 2011_15 num'!$P$5:$P$44,0)","v":8},{"$f":"RANK('quinary change 2011_15 num'!Q26,'quinary change 2011_15 num'!$Q$5:$Q$44,0)","v":26},{"$f":"RANK('quinary change 2011_15 num'!R26,'quinary change 2011_15 num'!$R$5:$R$44,0)","v":37},{"$f":"RANK('quinary change 2011_15 num'!S26,'quinary change 2011_15 num'!$S$5:$S$44,0)","v":10},{"$f":"RANK('quinary change 2011_15 num'!T26,'quinary change 2011_15 num'!$T$5:$T$44,0)","v":24},{"$f":"RANK('quinary change 2011_15 num'!U26,'quinary change 2011_15 num'!$U$5:$U$44,0)","v":14},{"$f":"RANK('quinary change 2011_15 num'!V26,'quinary change 2011_15 num'!$V$5:$V$44,0)","v":23}]
["Perry Barr","Perry Barr","E05001200",{"$f":"RANK('quinary change 2011_15 num'!D27,'quinary change 2011_15 num'!$D$5:$D$44,0)","v":26},{"$f":"RANK('quinary change 2011_15 num'!E27,'quinary change 2011_15 num'!$E$5:$E$44,0)","v":22},{"$f":"RANK('quinary change 2011_15 num'!F27,'quinary change 2011_15 num'!$F$5:$F$44,0)","v":22},{"$f":"RANK('quinary change 2011_15 num'!G27,'quinary change 2011_15 num'!$G$5:$G$44,0)","v":13},{"$f":"RANK('quinary change 2011_15 num'!H27,'quinary change 2011_15 num'!$H$5:$H$44,0)","v":19},{"$f":"RANK('quinary change 2011_15 num'!I27,'quinary change 2011_15 num'!$I$5:$I$44,0)","v":26},{"$f":"RANK('quinary change 2011_15 num'!J27,'quinary change 2011_15 num'!$J$5:$J$44,0)","v":17},{"$f":"RANK('quinary change 2011_15 num'!K27,'quinary change 2011_15 num'!$K$5:$K$44,0)","v":18},{"$f":"RANK('quinary change 2011_15 num'!L27,'quinary change 2011_15 num'!$L$5:$L$44,0)","v":19},{"$f":"RANK('quinary change 2011_15 num'!M27,'quinary change 2011_15 num'!$M$5:$M$44,0)","v":28},{"$f":"RANK('quinary change 2011_15 num'!N27,'quinary change 2011_15 num'!$N$5:$N$44,0)","v":26},{"$f":"RANK('quinary change 2011_15 num'!O27,'quinary change 2011_15 num'!$O$5:$O$44,0)","v":21},{"$f":"RANK('quinary change 2011_15 num'!P27,'quinary change 2011_15 num'!$P$5:$P$44,0)","v":11},{"$f":"RANK('quinary change 2011_15 num'!Q27,'quinary change 2011_15 num'!$Q$5:$Q$44,0)","v":33},{"$f":"RANK('quinary change 2011_15 num'!R27,'quinary change 2011_15 num'!$R$5:$R$44,0)","v":40},{"$f":"RANK('quinary change 2011_15 num'!S27,'quinary change 2011_15 num'!$S$5:$S$44,0)","v":23},{"$f":"RANK('quinary change 2011_15 num'!T27,'quinary change 2011_15 num'!$T$5:$T$44,0)","v":12},{"$f":"RANK('quinary change 2011_15 num'!U27,'quinary change 2011_15 num'!$U$5:$U$44,0)","v":9},{"$f":"RANK('quinary change 2011_15 num'!V27,'quinary change 2011_15 num'!$V$5:$V$44,0)","v":22}]
["Quinton","Edgbaston","E05001201",{"$f":"RANK('quinary change 2011_15 num'!D28,'quinary change 2011_15 num'!$D$5:$D$44,0)","v":32},{"$f":"RANK('quinary change 2011_15 num'!E28,'quinary change 2011_15 num'!$E$5:$E$44,0)","v":23},{"$f":"RANK('quinary change 2011_15 num'!F28,'quinary change 2011_15 num'!$F$5:$F$44,0)","v":23},{"$f":"RANK('quinary change 2011_15 num'!G28,'quinary change 2011_15 num'!$G$5:$G$44,0)","v":22},{"$f":"RANK('quinary change 2011_15 num'!H28,'quinary change 2011_15 num'!$H$5:$H$44,0)","v":22},{"$f":"RANK('quinary change 2011_15 num'!I28,'quinary change 2011_15 num'!$I$5:$I$44,0)","v":31},{"$f":"RANK('quinary change 2011_15 num'!J28,'quinary change 2011_15 num'!$J$5:$J$44,0)","v":31},{"$f":"RANK('quinary change 2011_15 num'!K28,'quinary change 2011_15 num'!$K$5:$K$44,0)","v":24},{"$f":"RANK('quinary change 2011_15 num'!L28,'quinary change 2011_15 num'!$L$5:$L$44,0)","v":38},{"$f":"RANK('quinary change 2011_15 num'!M28,'quinary change 2011_15 num'!$M$5:$M$44,0)","v":18},{"$f":"RANK('quinary change 2011_15 num'!N28,'quinary change 2011_15 num'!$N$5:$N$44,0)","v":18},{"$f":"RANK('quinary change 2011_15 num'!O28,'quinary change 2011_15 num'!$O$5:$O$44,0)","v":23},{"$f":"RANK('quinary change 2011_15 num'!P28,'quinary change 2011_15 num'!$P$5:$P$44,0)","v":30},{"$f":"RANK('quinary change 2011_15 num'!Q28,'quinary change 2011_15 num'!$Q$5:$Q$44,0)","v":35},{"$f":"RANK('quinary change 2011_15 num'!R28,'quinary change 2011_15 num'!$R$5:$R$44,0)","v":30},{"$f":"RANK('quinary change 2011_15 num'!S28,'quinary change 2011_15 num'!$S$5:$S$44,0)","v":24},{"$f":"RANK('quinary change 2011_15 num'!T28,'quinary change 2011_15 num'!$T$5:$T$44,0)","v":22},{"$f":"RANK('quinary change 2011_15 num'!U28,'quinary change 2011_15 num'!$U$5:$U$44,0)","v":4},{"$f":"RANK('quinary change 2011_15 num'!V28,'quinary change 2011_15 num'!$V$5:$V$44,0)","v":33}]
["Selly Oak","Selly Oak","E05001202",{"$f":"RANK('quinary change 2011_15 num'!D29,'quinary change 2011_15 num'!$D$5:$D$44,0)","v":4},{"$f":"RANK('quinary change 2011_15 num'!E29,'quinary change 2011_15 num'!$E$5:$E$44,0)","v":20},{"$f":"RANK('quinary change 2011_15 num'!F29,'quinary change 2011_15 num'!$F$5:$F$44,0)","v":20},{"$f":"RANK('quinary change 2011_15 num'!G29,'quinary change 2011_15 num'!$G$5:$G$44,0)","v":21},{"$f":"RANK('quinary change 2011_15 num'!H29,'quinary change 2011_15 num'!$H$5:$H$44,0)","v":7},{"$f":"RANK('quinary change 2011_15 num'!I29,'quinary change 2011_15 num'!$I$5:$I$44,0)","v":1},{"$f":"RANK('quinary change 2011_15 num'!J29,'quinary change 2011_15 num'!$J$5:$J$44,0)","v":34},{"$f":"RANK('quinary change 2011_15 num'!K29,'quinary change 2011_15 num'!$K$5:$K$44,0)","v":40},{"$f":"RANK('quinary change 2011_15 num'!L29,'quinary change 2011_15 num'!$L$5:$L$44,0)","v":14},{"$f":"RANK('quinary change 2011_15 num'!M29,'quinary change 2011_15 num'!$M$5:$M$44,0)","v":11},{"$f":"RANK('quinary change 2011_15 num'!N29,'quinary change 2011_15 num'!$N$5:$N$44,0)","v":15},{"$f":"RANK('quinary change 2011_15 num'!O29,'quinary change 2011_15 num'!$O$5:$O$44,0)","v":40},{"$f":"RANK('quinary change 2011_15 num'!P29,'quinary change 2011_15 num'!$P$5:$P$44,0)","v":38},{"$f":"RANK('quinary change 2011_15 num'!Q29,'quinary change 2011_15 num'!$Q$5:$Q$44,0)","v":16},{"$f":"RANK('quinary change 2011_15 num'!R29,'quinary change 2011_15 num'!$R$5:$R$44,0)","v":30},{"$f":"RANK('quinary change 2011_15 num'!S29,'quinary change 2011_15 num'!$S$5:$S$44,0)","v":29},{"$f":"RANK('quinary change 2011_15 num'!T29,'quinary change 2011_15 num'!$T$5:$T$44,0)","v":15},{"$f":"RANK('quinary change 2011_15 num'!U29,'quinary change 2011_15 num'!$U$5:$U$44,0)","v":22},{"$f":"RANK('quinary change 2011_15 num'!V29,'quinary change 2011_15 num'!$V$5:$V$44,0)","v":34}]
["Shard End","Hodge Hill","E05001203",{"$f":"RANK('quinary change 2011_15 num'!D30,'quinary change 2011_15 num'!$D$5:$D$44,0)","v":19},{"$f":"RANK('quinary change 2011_15 num'!E30,'quinary change 2011_15 num'!$E$5:$E$44,0)","v":11},{"$f":"RANK('quinary change 2011_15 num'!F30,'quinary change 2011_15 num'!$F$5:$F$44,0)","v":1},{"$f":"RANK('quinary change 2011_15 num'!G30,'quinary change 2011_15 num'!$G$5:$G$44,0)","v":23},{"$f":"RANK('quinary change 2011_15 num'!H30,'quinary change 2011_15 num'!$H$5:$H$44,0)","v":38},{"$f":"RANK('quinary change 2011_15 num'!I30,'quinary change 2011_15 num'!$I$5:$I$44,0)","v":17},{"$f":"RANK('quinary change 2011_15 num'!J30,'quinary change 2011_15 num'!$J$5:$J$44,0)","v":6},{"$f":"RANK('quinary change 2011_15 num'!K30,'quinary change 2011_15 num'!$K$5:$K$44,0)","v":4},{"$f":"RANK('quinary change 2011_15 num'!L30,'quinary change 2011_15 num'!$L$5:$L$44,0)","v":26},{"$f":"RANK('quinary change 2011_15 num'!M30,'quinary change 2011_15 num'!$M$5:$M$44,0)","v":32},{"$f":"RANK('quinary change 2011_15 num'!N30,'quinary change 2011_15 num'!$N$5:$N$44,0)","v":16},{"$f":"RANK('quinary change 2011_15 num'!O30,'quinary change 2011_15 num'!$O$5:$O$44,0)","v":18},{"$f":"RANK('quinary change 2011_15 num'!P30,'quinary change 2011_15 num'!$P$5:$P$44,0)","v":11},{"$f":"RANK('quinary change 2011_15 num'!Q30,'quinary change 2011_15 num'!$Q$5:$Q$44,0)","v":37},{"$f":"RANK('quinary change 2011_15 num'!R30,'quinary change 2011_15 num'!$R$5:$R$44,0)","v":7},{"$f":"RANK('quinary change 2011_15 num'!S30,'quinary change 2011_15 num'!$S$5:$S$44,0)","v":5},{"$f":"RANK('quinary change 2011_15 num'!T30,'quinary change 2011_15 num'!$T$5:$T$44,0)","v":38},{"$f":"RANK('quinary change 2011_15 num'!U30,'quinary change 2011_15 num'!$U$5:$U$44,0)","v":31},{"$f":"RANK('quinary change 2011_15 num'!V30,'quinary change 2011_15 num'!$V$5:$V$44,0)","v":40}]
["Sheldon","Yardley","E05001204",{"$f":"RANK('quinary change 2011_15 num'!D31,'quinary change 2011_15 num'!$D$5:$D$44,0)","v":17},{"$f":"RANK('quinary change 2011_15 num'!E31,'quinary change 2011_15 num'!$E$5:$E$44,0)","v":3},{"$f":"RANK('quinary change 2011_15 num'!F31,'quinary change 2011_15 num'!$F$5:$F$44,0)","v":26},{"$f":"RANK('quinary change 2011_15 num'!G31,'quinary change 2011_15 num'!$G$5:$G$44,0)","v":16},{"$f":"RANK('quinary change 2011_15 num'!H31,'quinary change 2011_15 num'!$H$5:$H$44,0)","v":20},{"$f":"RANK('quinary change 2011_15 num'!I31,'quinary change 2011_15 num'!$I$5:$I$44,0)","v":9},{"$f":"RANK('quinary change 2011_15 num'!J31,'quinary change 2011_15 num'!$J$5:$J$44,0)","v":4},{"$f":"RANK('quinary change 2011_15 num'!K31,'quinary change 2011_15 num'!$K$5:$K$44,0)","v":7},{"$f":"RANK('quinary change 2011_15 num'!L31,'quinary change 2011_15 num'!$L$5:$L$44,0)","v":20},{"$f":"RANK('quinary change 2011_15 num'!M31,'quinary change 2011_15 num'!$M$5:$M$44,0)","v":37},{"$f":"RANK('quinary change 2011_15 num'!N31,'quinary change 2011_15 num'!$N$5:$N$44,0)","v":28},{"$f":"RANK('quinary change 2011_15 num'!O31,'quinary change 2011_15 num'!$O$5:$O$44,0)","v":3},{"$f":"RANK('quinary change 2011_15 num'!P31,'quinary change 2011_15 num'!$P$5:$P$44,0)","v":7},{"$f":"RANK('quinary change 2011_15 num'!Q31,'quinary change 2011_15 num'!$Q$5:$Q$44,0)","v":29},{"$f":"RANK('quinary change 2011_15 num'!R31,'quinary change 2011_15 num'!$R$5:$R$44,0)","v":39},{"$f":"RANK('quinary change 2011_15 num'!S31,'quinary change 2011_15 num'!$S$5:$S$44,0)","v":15},{"$f":"RANK('quinary change 2011_15 num'!T31,'quinary change 2011_15 num'!$T$5:$T$44,0)","v":20},{"$f":"RANK('quinary change 2011_15 num'!U31,'quinary change 2011_15 num'!$U$5:$U$44,0)","v":10},{"$f":"RANK('quinary change 2011_15 num'!V31,'quinary change 2011_15 num'!$V$5:$V$44,0)","v":39}]
["Soho","Ladywood","E05001205",{"$f":"RANK('quinary change 2011_15 num'!D32,'quinary change 2011_15 num'!$D$5:$D$44,0)","v":5},{"$f":"RANK('quinary change 2011_15 num'!E32,'quinary change 2011_15 num'!$E$5:$E$44,0)","v":12},{"$f":"RANK('quinary change 2011_15 num'!F32,'quinary change 2011_15 num'!$F$5:$F$44,0)","v":13},{"$f":"RANK('quinary change 2011_15 num'!G32,'quinary change 2011_15 num'!$G$5:$G$44,0)","v":3},{"$f":"RANK('quinary change 2011_15 num'!H32,'quinary change 2011_15 num'!$H$5:$H$44,0)","v":11},{"$f":"RANK('quinary change 2011_15 num'!I32,'quinary change 2011_15 num'!$I$5:$I$44,0)","v":39},{"$f":"RANK('quinary change 2011_15 num'!J32,'quinary change 2011_15 num'!$J$5:$J$44,0)","v":28},{"$f":"RANK('quinary change 2011_15 num'!K32,'quinary change 2011_15 num'!$K$5:$K$44,0)","v":15},{"$f":"RANK('quinary change 2011_15 num'!L32,'quinary change 2011_15 num'!$L$5:$L$44,0)","v":2},{"$f":"RANK('quinary change 2011_15 num'!M32,'quinary change 2011_15 num'!$M$5:$M$44,0)","v":6},{"$f":"RANK('quinary change 2011_15 num'!N32,'quinary change 2011_15 num'!$N$5:$N$44,0)","v":10},{"$f":"RANK('quinary change 2011_15 num'!O32,'quinary change 2011_15 num'!$O$5:$O$44,0)","v":9},{"$f":"RANK('quinary change 2011_15 num'!P32,'quinary change 2011_15 num'!$P$5:$P$44,0)","v":13},{"$f":"RANK('quinary change 2011_15 num'!Q32,'quinary change 2011_15 num'!$Q$5:$Q$44,0)","v":5},{"$f":"RANK('quinary change 2011_15 num'!R32,'quinary change 2011_15 num'!$R$5:$R$44,0)","v":27},{"$f":"RANK('quinary change 2011_15 num'!S32,'quinary change 2011_15 num'!$S$5:$S$44,0)","v":30},{"$f":"RANK('quinary change 2011_15 num'!T32,'quinary change 2011_15 num'!$T$5:$T$44,0)","v":14},{"$f":"RANK('quinary change 2011_15 num'!U32,'quinary change 2011_15 num'!$U$5:$U$44,0)","v":8},{"$f":"RANK('quinary change 2011_15 num'!V32,'quinary change 2011_15 num'!$V$5:$V$44,0)","v":10}]
["South Yardley","Yardley","E05001206",{"$f":"RANK('quinary change 2011_15 num'!D33,'quinary change 2011_15 num'!$D$5:$D$44,0)","v":14},{"$f":"RANK('quinary change 2011_15 num'!E33,'quinary change 2011_15 num'!$E$5:$E$44,0)","v":27},{"$f":"RANK('quinary change 2011_15 num'!F33,'quinary change 2011_15 num'!$F$5:$F$44,0)","v":7},{"$f":"RANK('quinary change 2011_15 num'!G33,'quinary change 2011_15 num'!$G$5:$G$44,0)","v":2},{"$f":"RANK('quinary change 2011_15 num'!H33,'quinary change 2011_15 num'!$H$5:$H$44,0)","v":9},{"$f":"RANK('quinary change 2011_15 num'!I33,'quinary change 2011_15 num'!$I$5:$I$44,0)","v":33},{"$f":"RANK('quinary change 2011_15 num'!J33,'quinary change 2011_15 num'!$J$5:$J$44,0)","v":15},{"$f":"RANK('quinary change 2011_15 num'!K33,'quinary change 2011_15 num'!$K$5:$K$44,0)","v":27},{"$f":"RANK('quinary change 2011_15 num'!L33,'quinary change 2011_15 num'!$L$5:$L$44,0)","v":12},{"$f":"RANK('quinary change 2011_15 num'!M33,'quinary change 2011_15 num'!$M$5:$M$44,0)","v":13},{"$f":"RANK('quinary change 2011_15 num'!N33,'quinary change 2011_15 num'!$N$5:$N$44,0)","v":29},{"$f":"RANK('quinary change 2011_15 num'!O33,'quinary change 2011_15 num'!$O$5:$O$44,0)","v":15},{"$f":"RANK('quinary change 2011_15 num'!P33,'quinary change 2011_15 num'!$P$5:$P$44,0)","v":9},{"$f":"RANK('quinary change 2011_15 num'!Q33,'quinary change 2011_15 num'!$Q$5:$Q$44,0)","v":11},{"$f":"RANK('quinary change 2011_15 num'!R33,'quinary change 2011_15 num'!$R$5:$R$44,0)","v":17},{"$f":"RANK('quinary change 2011_15 num'!S33,'quinary change 2011_15 num'!$S$5:$S$44,0)","v":31},{"$f":"RANK('quinary change 2011_15 num'!T33,'quinary change 2011_15 num'!$T$5:$T$44,0)","v":32},{"$f":"RANK('quinary change 2011_15 num'!U33,'quinary change 2011_15 num'!$U$5:$U$44,0)","v":24},{"$f":"RANK('quinary change 2011_15 num'!V33,'quinary change 2011_15 num'!$V$5:$V$44,0)","v":13}]
["Sparkbrook","Hall Green","E05001207",{"$f":"RANK('quinary change 2011_15 num'!D34,'quinary change 2011_15 num'!$D$5:$D$44,0)","v":20},{"$f":"RANK('quinary change 2011_15 num'!E34,'quinary change 2011_15 num'!$E$5:$E$44,0)","v":40},{"$f":"RANK('quinary change 2011_15 num'!F34,'quinary change 2011_15 num'!$F$5:$F$44,0)","v":40},{"$f":"RANK('quinary change 2011_15 num'!G34,'quinary change 2011_15 num'!$G$5:$G$44,0)","v":28},{"$f":"RANK('quinary change 2011_15 num'!H34,'quinary change 2011_15 num'!$H$5:$H$44,0)","v":10},{"$f":"RANK('quinary change 2011_15 num'!I34,'quinary change 2011_15 num'!$I$5:$I$44,0)","v":12},{"$f":"RANK('quinary change 2011_15 num'!J34,'quinary change 2011_15 num'!$J$5:$J$44,0)","v":33},{"$f":"RANK('quinary change 2011_15 num'!K34,'quinary change 2011_15 num'!$K$5:$K$44,0)","v":9},{"$f":"RANK('quinary change 2011_15 num'!L34,'quinary change 2011_15 num'!$L$5:$L$44,0)","v":17},{"$f":"RANK('quinary change 2011_15 num'!M34,'quinary change 2011_15 num'!$M$5:$M$44,0)","v":8},{"$f":"RANK('quinary change 2011_15 num'!N34,'quinary change 2011_15 num'!$N$5:$N$44,0)","v":4},{"$f":"RANK('quinary change 2011_15 num'!O34,'quinary change 2011_15 num'!$O$5:$O$44,0)","v":35},{"$f":"RANK('quinary change 2011_15 num'!P34,'quinary change 2011_15 num'!$P$5:$P$44,0)","v":19},{"$f":"RANK('quinary change 2011_15 num'!Q34,'quinary change 2011_15 num'!$Q$5:$Q$44,0)","v":7},{"$f":"RANK('quinary change 2011_15 num'!R34,'quinary change 2011_15 num'!$R$5:$R$44,0)","v":21},{"$f":"RANK('quinary change 2011_15 num'!S34,'quinary change 2011_15 num'!$S$5:$S$44,0)","v":35},{"$f":"RANK('quinary change 2011_15 num'!T34,'quinary change 2011_15 num'!$T$5:$T$44,0)","v":36},{"$f":"RANK('quinary change 2011_15 num'!U34,'quinary change 2011_15 num'!$U$5:$U$44,0)","v":1},{"$f":"RANK('quinary change 2011_15 num'!V34,'quinary change 2011_15 num'!$V$5:$V$44,0)","v":2}]
["Springfield","Hall Green","E05001208",{"$f":"RANK('quinary change 2011_15 num'!D35,'quinary change 2011_15 num'!$D$5:$D$44,0)","v":8},{"$f":"RANK('quinary change 2011_15 num'!E35,'quinary change 2011_15 num'!$E$5:$E$44,0)","v":35},{"$f":"RANK('quinary change 2011_15 num'!F35,'quinary change 2011_15 num'!$F$5:$F$44,0)","v":27},{"$f":"RANK('quinary change 2011_15 num'!G35,'quinary change 2011_15 num'!$G$5:$G$44,0)","v":1},{"$f":"RANK('quinary change 2011_15 num'!H35,'quinary change 2011_15 num'!$H$5:$H$44,0)","v":6},{"$f":"RANK('quinary change 2011_15 num'!I35,'quinary change 2011_15 num'!$I$5:$I$44,0)","v":20},{"$f":"RANK('quinary change 2011_15 num'!J35,'quinary change 2011_15 num'!$J$5:$J$44,0)","v":38},{"$f":"RANK('quinary change 2011_15 num'!K35,'quinary change 2011_15 num'!$K$5:$K$44,0)","v":19},{"$f":"RANK('quinary change 2011_15 num'!L35,'quinary change 2011_15 num'!$L$5:$L$44,0)","v":8},{"$f":"RANK('quinary change 2011_15 num'!M35,'quinary change 2011_15 num'!$M$5:$M$44,0)","v":5},{"$f":"RANK('quinary change 2011_15 num'!N35,'quinary change 2011_15 num'!$N$5:$N$44,0)","v":3},{"$f":"RANK('quinary change 2011_15 num'!O35,'quinary change 2011_15 num'!$O$5:$O$44,0)","v":37},{"$f":"RANK('quinary change 2011_15 num'!P35,'quinary change 2011_15 num'!$P$5:$P$44,0)","v":40},{"$f":"RANK('quinary change 2011_15 num'!Q35,'quinary change 2011_15 num'!$Q$5:$Q$44,0)","v":8},{"$f":"RANK('quinary change 2011_15 num'!R35,'quinary change 2011_15 num'!$R$5:$R$44,0)","v":13},{"$f":"RANK('quinary change 2011_15 num'!S35,'quinary change 2011_15 num'!$S$5:$S$44,0)","v":32},{"$f":"RANK('quinary change 2011_15 num'!T35,'quinary change 2011_15 num'!$T$5:$T$44,0)","v":26},{"$f":"RANK('quinary change 2011_15 num'!U35,'quinary change 2011_15 num'!$U$5:$U$44,0)","v":18},{"$f":"RANK('quinary change 2011_15 num'!V35,'quinary change 2011_15 num'!$V$5:$V$44,0)","v":15}]
["Stechford and Yardley North","Yardley","E05001209",{"$f":"RANK('quinary change 2011_15 num'!D36,'quinary change 2011_15 num'!$D$5:$D$44,0)","v":15},{"$f":"RANK('quinary change 2011_15 num'!E36,'quinary change 2011_15 num'!$E$5:$E$44,0)","v":7},{"$f":"RANK('quinary change 2011_15 num'!F36,'quinary change 2011_15 num'!$F$5:$F$44,0)","v":6},{"$f":"RANK('quinary change 2011_15 num'!G36,'quinary change 2011_15 num'!$G$5:$G$44,0)","v":13},{"$f":"RANK('quinary change 2011_15 num'!H36,'quinary change 2011_15 num'!$H$5:$H$44,0)","v":20},{"$f":"RANK('quinary change 2011_15 num'!I36,'quinary change 2011_15 num'!$I$5:$I$44,0)","v":14},{"$f":"RANK('quinary change 2011_15 num'!J36,'quinary change 2011_15 num'!$J$5:$J$44,0)","v":7},{"$f":"RANK('quinary change 2011_15 num'!K36,'quinary change 2011_15 num'!$K$5:$K$44,0)","v":6},{"$f":"RANK('quinary change 2011_15 num'!L36,'quinary change 2011_15 num'!$L$5:$L$44,0)","v":22},{"$f":"RANK('quinary change 2011_15 num'!M36,'quinary change 2011_15 num'!$M$5:$M$44,0)","v":27},{"$f":"RANK('quinary change 2011_15 num'!N36,'quinary change 2011_15 num'!$N$5:$N$44,0)","v":27},{"$f":"RANK('quinary change 2011_15 num'!O36,'quinary change 2011_15 num'!$O$5:$O$44,0)","v":21},{"$f":"RANK('quinary change 2011_15 num'!P36,'quinary change 2011_15 num'!$P$5:$P$44,0)","v":15},{"$f":"RANK('quinary change 2011_15 num'!Q36,'quinary change 2011_15 num'!$Q$5:$Q$44,0)","v":21},{"$f":"RANK('quinary change 2011_15 num'!R36,'quinary change 2011_15 num'!$R$5:$R$44,0)","v":20},{"$f":"RANK('quinary change 2011_15 num'!S36,'quinary change 2011_15 num'!$S$5:$S$44,0)","v":21},{"$f":"RANK('quinary change 2011_15 num'!T36,'quinary change 2011_15 num'!$T$5:$T$44,0)","v":18},{"$f":"RANK('quinary change 2011_15 num'!U36,'quinary change 2011_15 num'!$U$5:$U$44,0)","v":26},{"$f":"RANK('quinary change 2011_15 num'!V36,'quinary change 2011_15 num'!$V$5:$V$44,0)","v":28}]
["Stockland Green","Erdington","E05001210",{"$f":"RANK('quinary change 2011_15 num'!D37,'quinary change 2011_15 num'!$D$5:$D$44,0)","v":12},{"$f":"RANK('quinary change 2011_15 num'!E37,'quinary change 2011_15 num'!$E$5:$E$44,0)","v":15},{"$f":"RANK('quinary change 2011_15 num'!F37,'quinary change 2011_15 num'!$F$5:$F$44,0)","v":8},{"$f":"RANK('quinary change 2011_15 num'!G37,'quinary change 2011_15 num'!$G$5:$G$44,0)","v":10},{"$f":"RANK('quinary change 2011_15 num'!H37,'quinary change 2011_15 num'!$H$5:$H$44,0)","v":18},{"$f":"RANK('quinary change 2011_15 num'!I37,'quinary change 2011_15 num'!$I$5:$I$44,0)","v":10},{"$f":"RANK('quinary change 2011_15 num'!J37,'quinary change 2011_15 num'!$J$5:$J$44,0)","v":21},{"$f":"RANK('quinary change 2011_15 num'!K37,'quinary change 2011_15 num'!$K$5:$K$44,0)","v":2},{"$f":"RANK('quinary change 2011_15 num'!L37,'quinary change 2011_15 num'!$L$5:$L$44,0)","v":10},{"$f":"RANK('quinary change 2011_15 num'!M37,'quinary change 2011_15 num'!$M$5:$M$44,0)","v":18},{"$f":"RANK('quinary change 2011_15 num'!N37,'quinary change 2011_15 num'!$N$5:$N$44,0)","v":31},{"$f":"RANK('quinary change 2011_15 num'!O37,'quinary change 2011_15 num'!$O$5:$O$44,0)","v":2},{"$f":"RANK('quinary change 2011_15 num'!P37,'quinary change 2011_15 num'!$P$5:$P$44,0)","v":2},{"$f":"RANK('quinary change 2011_15 num'!Q37,'quinary change 2011_15 num'!$Q$5:$Q$44,0)","v":20},{"$f":"RANK('quinary change 2011_15 num'!R37,'quinary change 2011_15 num'!$R$5:$R$44,0)","v":12},{"$f":"RANK('quinary change 2011_15 num'!S37,'quinary change 2011_15 num'!$S$5:$S$44,0)","v":25},{"$f":"RANK('quinary change 2011_15 num'!T37,'quinary change 2011_15 num'!$T$5:$T$44,0)","v":23},{"$f":"RANK('quinary change 2011_15 num'!U37,'quinary change 2011_15 num'!$U$5:$U$44,0)","v":32},{"$f":"RANK('quinary change 2011_15 num'!V37,'quinary change 2011_15 num'!$V$5:$V$44,0)","v":19}]
["Sutton Four Oaks","Sutton Coldfield","E05001211",{"$f":"RANK('quinary change 2011_15 num'!D38,'quinary change 2011_15 num'!$D$5:$D$44,0)","v":25},{"$f":"RANK('quinary change 2011_15 num'!E38,'quinary change 2011_15 num'!$E$5:$E$44,0)","v":21},{"$f":"RANK('quinary change 2011_15 num'!F38,'quinary change 2011_15 num'!$F$5:$F$44,0)","v":23},{"$f":"RANK('quinary change 2011_15 num'!G38,'quinary change 2011_15 num'!$G$5:$G$44,0)","v":18},{"$f":"RANK('quinary change 2011_15 num'!H38,'quinary change 2011_15 num'!$H$5:$H$44,0)","v":16},{"$f":"RANK('quinary change 2011_15 num'!I38,'quinary change 2011_15 num'!$I$5:$I$44,0)","v":21},{"$f":"RANK('quinary change 2011_15 num'!J38,'quinary change 2011_15 num'!$J$5:$J$44,0)","v":11},{"$f":"RANK('quinary change 2011_15 num'!K38,'quinary change 2011_15 num'!$K$5:$K$44,0)","v":29},{"$f":"RANK('quinary change 2011_15 num'!L38,'quinary change 2011_15 num'!$L$5:$L$44,0)","v":35},{"$f":"RANK('quinary change 2011_15 num'!M38,'quinary change 2011_15 num'!$M$5:$M$44,0)","v":33},{"$f":"RANK('quinary change 2011_15 num'!N38,'quinary change 2011_15 num'!$N$5:$N$44,0)","v":21},{"$f":"RANK('quinary change 2011_15 num'!O38,'quinary change 2011_15 num'!$O$5:$O$44,0)","v":3},{"$f":"RANK('quinary change 2011_15 num'!P38,'quinary change 2011_15 num'!$P$5:$P$44,0)","v":31},{"$f":"RANK('quinary change 2011_15 num'!Q38,'quinary change 2011_15 num'!$Q$5:$Q$44,0)","v":39},{"$f":"RANK('quinary change 2011_15 num'!R38,'quinary change 2011_15 num'!$R$5:$R$44,0)","v":35},{"$f":"RANK('quinary change 2011_15 num'!S38,'quinary change 2011_15 num'!$S$5:$S$44,0)","v":2},{"$f":"RANK('quinary change 2011_15 num'!T38,'quinary change 2011_15 num'!$T$5:$T$44,0)","v":34},{"$f":"RANK('quinary change 2011_15 num'!U38,'quinary change 2011_15 num'!$U$5:$U$44,0)","v":17},{"$f":"RANK('quinary change 2011_15 num'!V38,'quinary change 2011_15 num'!$V$5:$V$44,0)","v":1}]
["Sutton New Hall","Sutton Coldfield","E05001212",{"$f":"RANK('quinary change 2011_15 num'!D39,'quinary change 2011_15 num'!$D$5:$D$44,0)","v":40},{"$f":"RANK('quinary change 2011_15 num'!E39,'quinary change 2011_15 num'!$E$5:$E$44,0)","v":34},{"$f":"RANK('quinary change 2011_15 num'!F39,'quinary change 2011_15 num'!$F$5:$F$44,0)","v":37},{"$f":"RANK('quinary change 2011_15 num'!G39,'quinary change 2011_15 num'!$G$5:$G$44,0)","v":39},{"$f":"RANK('quinary change 2011_15 num'!H39,'quinary change 2011_15 num'!$H$5:$H$44,0)","v":26},{"$f":"RANK('quinary change 2011_15 num'!I39,'quinary change 2011_15 num'!$I$5:$I$44,0)","v":37},{"$f":"RANK('quinary change 2011_15 num'!J39,'quinary change 2011_15 num'!$J$5:$J$44,0)","v":32},{"$f":"RANK('quinary change 2011_15 num'!K39,'quinary change 2011_15 num'!$K$5:$K$44,0)","v":33},{"$f":"RANK('quinary change 2011_15 num'!L39,'quinary change 2011_15 num'!$L$5:$L$44,0)","v":40},{"$f":"RANK('quinary change 2011_15 num'!M39,'quinary change 2011_15 num'!$M$5:$M$44,0)","v":34},{"$f":"RANK('quinary change 2011_15 num'!N39,'quinary change 2011_15 num'!$N$5:$N$44,0)","v":37},{"$f":"RANK('quinary change 2011_15 num'!O39,'quinary change 2011_15 num'!$O$5:$O$44,0)","v":38},{"$f":"RANK('quinary change 2011_15 num'!P39,'quinary change 2011_15 num'!$P$5:$P$44,0)","v":37},{"$f":"RANK('quinary change 2011_15 num'!Q39,'quinary change 2011_15 num'!$Q$5:$Q$44,0)","v":36},{"$f":"RANK('quinary change 2011_15 num'!R39,'quinary change 2011_15 num'!$R$5:$R$44,0)","v":1},{"$f":"RANK('quinary change 2011_15 num'!S39,'quinary change 2011_15 num'!$S$5:$S$44,0)","v":1},{"$f":"RANK('quinary change 2011_15 num'!T39,'quinary change 2011_15 num'!$T$5:$T$44,0)","v":7},{"$f":"RANK('quinary change 2011_15 num'!U39,'quinary change 2011_15 num'!$U$5:$U$44,0)","v":30},{"$f":"RANK('quinary change 2011_15 num'!V39,'quinary change 2011_15 num'!$V$5:$V$44,0)","v":4}]
["Sutton Trinity","Sutton Coldfield","E05001213",{"$f":"RANK('quinary change 2011_15 num'!D40,'quinary change 2011_15 num'!$D$5:$D$44,0)","v":38},{"$f":"RANK('quinary change 2011_15 num'!E40,'quinary change 2011_15 num'!$E$5:$E$44,0)","v":15},{"$f":"RANK('quinary change 2011_15 num'!F40,'quinary change 2011_15 num'!$F$5:$F$44,0)","v":38},{"$f":"RANK('quinary change 2011_15 num'!G40,'quinary change 2011_15 num'!$G$5:$G$44,0)","v":38},{"$f":"RANK('quinary change 2011_15 num'!H40,'quinary change 2011_15 num'!$H$5:$H$44,0)","v":39},{"$f":"RANK('quinary change 2011_15 num'!I40,'quinary change 2011_15 num'!$I$5:$I$44,0)","v":16},{"$f":"RANK('quinary change 2011_15 num'!J40,'quinary change 2011_15 num'!$J$5:$J$44,0)","v":24},{"$f":"RANK('quinary change 2011_15 num'!K40,'quinary change 2011_15 num'!$K$5:$K$44,0)","v":17},{"$f":"RANK('quinary change 2011_15 num'!L40,'quinary change 2011_15 num'!$L$5:$L$44,0)","v":36},{"$f":"RANK('quinary change 2011_15 num'!M40,'quinary change 2011_15 num'!$M$5:$M$44,0)","v":29},{"$f":"RANK('quinary change 2011_15 num'!N40,'quinary change 2011_15 num'!$N$5:$N$44,0)","v":39},{"$f":"RANK('quinary change 2011_15 num'!O40,'quinary change 2011_15 num'!$O$5:$O$44,0)","v":25},{"$f":"RANK('quinary change 2011_15 num'!P40,'quinary change 2011_15 num'!$P$5:$P$44,0)","v":17},{"$f":"RANK('quinary change 2011_15 num'!Q40,'quinary change 2011_15 num'!$Q$5:$Q$44,0)","v":32},{"$f":"RANK('quinary change 2011_15 num'!R40,'quinary change 2011_15 num'!$R$5:$R$44,0)","v":19},{"$f":"RANK('quinary change 2011_15 num'!S40,'quinary change 2011_15 num'!$S$5:$S$44,0)","v":4},{"$f":"RANK('quinary change 2011_15 num'!T40,'quinary change 2011_15 num'!$T$5:$T$44,0)","v":29},{"$f":"RANK('quinary change 2011_15 num'!U40,'quinary change 2011_15 num'!$U$5:$U$44,0)","v":28},{"$f":"RANK('quinary change 2011_15 num'!V40,'quinary change 2011_15 num'!$V$5:$V$44,0)","v":11}]
["Sutton Vesey","Sutton Coldfield","E05001214",{"$f":"RANK('quinary change 2011_15 num'!D41,'quinary change 2011_15 num'!$D$5:$D$44,0)","v":39},{"$f":"RANK('quinary change 2011_15 num'!E41,'quinary change 2011_15 num'!$E$5:$E$44,0)","v":14},{"$f":"RANK('quinary change 2011_15 num'!F41,'quinary change 2011_15 num'!$F$5:$F$44,0)","v":32},{"$f":"RANK('quinary change 2011_15 num'!G41,'quinary change 2011_15 num'!$G$5:$G$44,0)","v":36},{"$f":"RANK('quinary change 2011_15 num'!H41,'quinary change 2011_15 num'!$H$5:$H$44,0)","v":36},{"$f":"RANK('quinary change 2011_15 num'!I41,'quinary change 2011_15 num'!$I$5:$I$44,0)","v":36},{"$f":"RANK('quinary change 2011_15 num'!J41,'quinary change 2011_15 num'!$J$5:$J$44,0)","v":30},{"$f":"RANK('quinary change 2011_15 num'!K41,'quinary change 2011_15 num'!$K$5:$K$44,0)","v":22},{"$f":"RANK('quinary change 2011_15 num'!L41,'quinary change 2011_15 num'!$L$5:$L$44,0)","v":32},{"$f":"RANK('quinary change 2011_15 num'!M41,'quinary change 2011_15 num'!$M$5:$M$44,0)","v":31},{"$f":"RANK('quinary change 2011_15 num'!N41,'quinary change 2011_15 num'!$N$5:$N$44,0)","v":40},{"$f":"RANK('quinary change 2011_15 num'!O41,'quinary change 2011_15 num'!$O$5:$O$44,0)","v":30},{"$f":"RANK('quinary change 2011_15 num'!P41,'quinary change 2011_15 num'!$P$5:$P$44,0)","v":21},{"$f":"RANK('quinary change 2011_15 num'!Q41,'quinary change 2011_15 num'!$Q$5:$Q$44,0)","v":34},{"$f":"RANK('quinary change 2011_15 num'!R41,'quinary change 2011_15 num'!$R$5:$R$44,0)","v":18},{"$f":"RANK('quinary change 2011_15 num'!S41,'quinary change 2011_15 num'!$S$5:$S$44,0)","v":12},{"$f":"RANK('quinary change 2011_15 num'!T41,'quinary change 2011_15 num'!$T$5:$T$44,0)","v":9},{"$f":"RANK('quinary change 2011_15 num'!U41,'quinary change 2011_15 num'!$U$5:$U$44,0)","v":21},{"$f":"RANK('quinary change 2011_15 num'!V41,'quinary change 2011_15 num'!$V$5:$V$44,0)","v":7}]
["Tyburn","Erdington","E05001215",{"$f":"RANK('quinary change 2011_15 num'!D42,'quinary change 2011_15 num'!$D$5:$D$44,0)","v":33},{"$f":"RANK('quinary change 2011_15 num'!E42,'quinary change 2011_15 num'!$E$5:$E$44,0)","v":29},{"$f":"RANK('quinary change 2011_15 num'!F42,'quinary change 2011_15 num'!$F$5:$F$44,0)","v":36},{"$f":"RANK('quinary change 2011_15 num'!G42,'quinary change 2011_15 num'!$G$5:$G$44,0)","v":34},{"$f":"RANK('quinary change 2011_15 num'!H42,'quinary change 2011_15 num'!$H$5:$H$44,0)","v":33},{"$f":"RANK('quinary change 2011_15 num'!I42,'quinary change 2011_15 num'!$I$5:$I$44,0)","v":11},{"$f":"RANK('quinary change 2011_15 num'!J42,'quinary change 2011_15 num'!$J$5:$J$44,0)","v":20},{"$f":"RANK('quinary change 2011_15 num'!K42,'quinary change 2011_15 num'!$K$5:$K$44,0)","v":16},{"$f":"RANK('quinary change 2011_15 num'!L42,'quinary change 2011_15 num'!$L$5:$L$44,0)","v":39},{"$f":"RANK('quinary change 2011_15 num'!M42,'quinary change 2011_15 num'!$M$5:$M$44,0)","v":38},{"$f":"RANK('quinary change 2011_15 num'!N42,'quinary change 2011_15 num'!$N$5:$N$44,0)","v":25},{"$f":"RANK('quinary change 2011_15 num'!O42,'quinary change 2011_15 num'!$O$5:$O$44,0)","v":1},{"$f":"RANK('quinary change 2011_15 num'!P42,'quinary change 2011_15 num'!$P$5:$P$44,0)","v":10},{"$f":"RANK('quinary change 2011_15 num'!Q42,'quinary change 2011_15 num'!$Q$5:$Q$44,0)","v":13},{"$f":"RANK('quinary change 2011_15 num'!R42,'quinary change 2011_15 num'!$R$5:$R$44,0)","v":38},{"$f":"RANK('quinary change 2011_15 num'!S42,'quinary change 2011_15 num'!$S$5:$S$44,0)","v":27},{"$f":"RANK('quinary change 2011_15 num'!T42,'quinary change 2011_15 num'!$T$5:$T$44,0)","v":40},{"$f":"RANK('quinary change 2011_15 num'!U42,'quinary change 2011_15 num'!$U$5:$U$44,0)","v":15},{"$f":"RANK('quinary change 2011_15 num'!V42,'quinary change 2011_15 num'!$V$5:$V$44,0)","v":14}]
["Washwood Heath","Hodge Hill","E05001216",{"$f":"RANK('quinary change 2011_15 num'!D43,'quinary change 2011_15 num'!$D$5:$D$44,0)","v":6},{"$f":"RANK('quinary change 2011_15 num'!E43,'quinary change 2011_15 num'!$E$5:$E$44,0)","v":33},{"$f":"RANK('quinary change 2011_15 num'!F43,'quinary change 2011_15 num'!$F$5:$F$44,0)","v":39},{"$f":"RANK('quinary change 2011_15 num'!G43,'quinary change 2011_15 num'!$G$5:$G$44,0)","v":9},{"$f":"RANK('quinary change 2011_15 num'!H43,'quinary change 2011_15 num'!$H$5:$H$44,0)","v":4},{"$f":"RANK('quinary change 2011_15 num'!I43,'quinary change 2011_15 num'!$I$5:$I$44,0)","v":5},{"$f":"RANK('quinary change 2011_15 num'!J43,'quinary change 2011_15 num'!$J$5:$J$44,0)","v":25},{"$f":"RANK('quinary change 2011_15 num'!K43,'quinary change 2011_15 num'!$K$5:$K$44,0)","v":30},{"$f":"RANK('quinary change 2011_15 num'!L43,'quinary change 2011_15 num'!$L$5:$L$44,0)","v":5},{"$f":"RANK('quinary change 2011_15 num'!M43,'quinary change 2011_15 num'!$M$5:$M$44,0)","v":3},{"$f":"RANK('quinary change 2011_15 num'!N43,'quinary change 2011_15 num'!$N$5:$N$44,0)","v":2},{"$f":"RANK('quinary change 2011_15 num'!O43,'quinary change 2011_15 num'!$O$5:$O$44,0)","v":24},{"$f":"RANK('quinary change 2011_15 num'!P43,'quinary change 2011_15 num'!$P$5:$P$44,0)","v":39},{"$f":"RANK('quinary change 2011_15 num'!Q43,'quinary change 2011_15 num'!$Q$5:$Q$44,0)","v":3},{"$f":"RANK('quinary change 2011_15 num'!R43,'quinary change 2011_15 num'!$R$5:$R$44,0)","v":15},{"$f":"RANK('quinary change 2011_15 num'!S43,'quinary change 2011_15 num'!$S$5:$S$44,0)","v":39},{"$f":"RANK('quinary change 2011_15 num'!T43,'quinary change 2011_15 num'!$T$5:$T$44,0)","v":36},{"$f":"RANK('quinary change 2011_15 num'!U43,'quinary change 2011_15 num'!$U$5:$U$44,0)","v":12},{"$f":"RANK('quinary change 2011_15 num'!V43,'quinary change 2011_15 num'!$V$5:$V$44,0)","v":6}]
["Weoley","Northfield","E05001217",{"$f":"RANK('quinary change 2011_15 num'!D44,'quinary change 2011_15 num'!$D$5:$D$44,0)","v":28},{"$f":"RANK('quinary change 2011_15 num'!E44,'quinary change 2011_15 num'!$E$5:$E$44,0)","v":30},{"$f":"RANK('quinary change 2011_15 num'!F44,'quinary change 2011_15 num'!$F$5:$F$44,0)","v":11},{"$f":"RANK('quinary change 2011_15 num'!G44,'quinary change 2011_15 num'!$G$5:$G$44,0)","v":24},{"$f":"RANK('quinary change 2011_15 num'!H44,'quinary change 2011_15 num'!$H$5:$H$44,0)","v":37},{"$f":"RANK('quinary change 2011_15 num'!I44,'quinary change 2011_15 num'!$I$5:$I$44,0)","v":19},{"$f":"RANK('quinary change 2011_15 num'!J44,'quinary change 2011_15 num'!$J$5:$J$44,0)","v":11},{"$f":"RANK('quinary change 2011_15 num'!K44,'quinary change 2011_15 num'!$K$5:$K$44,0)","v":32},{"$f":"RANK('quinary change 2011_15 num'!L44,'quinary change 2011_15 num'!$L$5:$L$44,0)","v":27},{"$f":"RANK('quinary change 2011_15 num'!M44,'quinary change 2011_15 num'!$M$5:$M$44,0)","v":26},{"$f":"RANK('quinary change 2011_15 num'!N44,'quinary change 2011_15 num'!$N$5:$N$44,0)","v":17},{"$f":"RANK('quinary change 2011_15 num'!O44,'quinary change 2011_15 num'!$O$5:$O$44,0)","v":34},{"$f":"RANK('quinary change 2011_15 num'!P44,'quinary change 2011_15 num'!$P$5:$P$44,0)","v":20},{"$f":"RANK('quinary change 2011_15 num'!Q44,'quinary change 2011_15 num'!$Q$5:$Q$44,0)","v":22},{"$f":"RANK('quinary change 2011_15 num'!R44,'quinary change 2011_15 num'!$R$5:$R$44,0)","v":32},{"$f":"RANK('quinary change 2011_15 num'!S44,'quinary change 2011_15 num'!$S$5:$S$44,0)","v":16},{"$f":"RANK('quinary change 2011_15 num'!T44,'quinary change 2011_15 num'!$T$5:$T$44,0)","v":27},{"$f":"RANK('quinary change 2011_15 num'!U44,'quinary change 2011_15 num'!$U$5:$U$44,0)","v":35},{"$f":"RANK('quinary change 2011_15 num'!V44,'quinary change 2011_15 num'!$V$5:$V$44,0)","v":12}]
[]
["Office for National Statistics, Crown Copyright 2017"]
[]
["Service Development Team"]
["Planning & Regeneration"]
["www.birmingham.gov.uk/census"]
["population.census@birmingham.gov.uk"]
["0121 303 4208"]

{"sheet":"quinary change 2011_15 num","index":4,"n_rows":52,"n_cols":23,"rows_kept":52,"cut":false,"hidden":true,"merged":[]}
["2011 - 2015 Birmingham ward population change (number)"]
["five-year age groups"]
["Ward Name","Constituency","code","All Ages","0-4","5-9","10-14","15-19","20-24","25-29","30-34","35-39","40-44","45-49","50-54","55-59","60-64","65-69","70-74","75-79","80-84","85-89","90+"]
[]
["Acocks Green","Yardley","E05001178",{"$f":"'quinary 2016'!D5-'quinary 2011'!D5","v":1076},{"$f":"'quinary 2016'!E5-'quinary 2011'!E5","v":55},{"$f":"'quinary 2016'!F5-'quinary 2011'!F5","v":329},{"$f":"'quinary 2016'!G5-'quinary 2011'!G5","v":-68},{"$f":"'quinary 2016'!H5-'quinary 2011'!H5","v":18},{"$f":"'quinary 2016'!I5-'quinary 2011'!I5","v":103},{"$f":"'quinary 2016'!J5-'quinary 2011'!J5","v":126},{"$f":"'quinary 2016'!K5-'quinary 2011'!K5","v":-1},{"$f":"'quinary 2016'!L5-'quinary 2011'!L5","v":111},{"$f":"'quinary 2016'!M5-'quinary 2011'!M5","v":-214},{"$f":"'quinary 2016'!N5-'quinary 2011'!N5","v":92},{"$f":"'quinary 2016'!O5-'quinary 2011'!O5","v":233},{"$f":"'quinary 2016'!P5-'quinary 2011'!P5","v":253},{"$f":"'quinary 2016'!Q5-'quinary 2011'!Q5","v":15},{"$f":"'quinary 2016'!R5-'quinary 2011'!R5","v":108},{"$f":"'quinary 2016'!S5-'quinary 2011'!S5","v":-14},{"$f":"'quinary 2016'!T5-'quinary 2011'!T5","v":-12},{"$f":"'quinary 2016'!U5-'quinary 2011'!U5","v":-78},{"$f":"'quinary 2016'!V5-'quinary 2011'!V5","v":9},{"$f":"'quinary 2016'!W5-'quinary 2011'!W5","v":11}]
["Aston","Ladywood","E05001179",{"$f":"'quinary 2016'!D6-'quinary 2011'!D6","v":1942},{"$f":"'quinary 2016'!E6-'quinary 2011'!E6","v":-101},{"$f":"'quinary 2016'!F6-'quinary 2011'!F6","v":104},{"$f":"'quinary 2016'!G6-'quinary 2011'!G6","v":114},{"$f":"'quinary 2016'!H6-'quinary 2011'!H6","v":195},{"$f":"'quinary 2016'!I6-'quinary 2011'!I6","v":-19},{"$f":"'quinary 2016'!J6-'quinary 2011'!J6","v":52},{"$f":"'quinary 2016'!K6-'quinary 2011'!K6","v":111},{"$f":"'quinary 2016'!L6-'quinary 2011'!L6","v":237},{"$f":"'quinary 2016'!M6-'quinary 2011'!M6","v":163},{"$f":"'quinary 2016'!N6-'quinary 2011'!N6","v":214},{"$f":"'quinary 2016'!O6-'quinary 2011'!O6","v":291},{"$f":"'quinary 2016'!P6-'quinary 2011'!P6","v":137},{"$f":"'quinary 2016'!Q6-'quinary 2011'!Q6","v":294},{"$f":"'quinary 2016'!R6-'quinary 2011'!R6","v":112},{"$f":"'quinary 2016'!S6-'quinary 2011'!S6","v":-168},{"$f":"'quinary 2016'!T6-'quinary 2011'!T6","v":-10},{"$f":"'quinary 2016'!U6-'quinary 2011'!U6","v":30},{"$f":"'quinary 2016'!V6-'quinary 2011'!V6","v":91},{"$f":"'quinary 2016'!W6-'quinary 2011'!W6","v":95}]
["Bartley Green","Edgbaston","E05001180",{"$f":"'quinary 2016'!D7-'quinary 2011'!D7","v":879},{"$f":"'quinary 2016'!E7-'quinary 2011'!E7","v":176},{"$f":"'quinary 2016'!F7-'quinary 2011'!F7","v":287},{"$f":"'quinary 2016'!G7-'quinary 2011'!G7","v":-43},{"$f":"'quinary 2016'!H7-'quinary 2011'!H7","v":-109},{"$f":"'quinary 2016'!I7-'quinary 2011'!I7","v":124},{"$f":"'quinary 2016'!J7-'quinary 2011'!J7","v":151},{"$f":"'quinary 2016'!K7-'quinary 2011'!K7","v":-68},{"$f":"'quinary 2016'!L7-'quinary 2011'!L7","v":8},{"$f":"'quinary 2016'!M7-'quinary 2011'!M7","v":-28},{"$f":"'quinary 2016'!N7-'quinary 2011'!N7","v":-52},{"$f":"'quinary 2016'!O7-'quinary 2011'!O7","v":177},{"$f":"'quinary 2016'!P7-'quinary 2011'!P7","v":4},{"$f":"'quinary 2016'!Q7-'quinary 2011'!Q7","v":-173},{"$f":"'quinary 2016'!R7-'quinary 2011'!R7","v":235},{"$f":"'quinary 2016'!S7-'quinary 2011'!S7","v":235},{"$f":"'quinary 2016'!T7-'quinary 2011'!T7","v":-13},{"$f":"'quinary 2016'!U7-'quinary 2011'!U7","v":-59},{"$f":"'quinary 2016'!V7-'quinary 2011'!V7","v":16},{"$f":"'quinary 2016'!W7-'quinary 2011'!W7","v":11}]
["Billesley","Selly Oak","E05001181",{"$f":"'quinary 2016'!D8-'quinary 2011'!D8","v":371},{"$f":"'quinary 2016'!E8-'quinary 2011'!E8","v":252},{"$f":"'quinary 2016'!F8-'quinary 2011'!F8","v":191},{"$f":"'quinary 2016'!G8-'quinary 2011'!G8","v":-193},{"$f":"'quinary 2016'!H8-'quinary 2011'!H8","v":-148},{"$f":"'quinary 2016'!I8-'quinary 2011'!I8","v":-30},{"$f":"'quinary 2016'!J8-'quinary 2011'!J8","v":207},{"$f":"'quinary 2016'!K8-'quinary 2011'!K8","v":156},{"$f":"'quinary 2016'!L8-'quinary 2011'!L8","v":71},{"$f":"'quinary 2016'!M8-'quinary 2011'!M8","v":-388},{"$f":"'quinary 2016'!N8-'quinary 2011'!N8","v":-161},{"$f":"'quinary 2016'!O8-'quinary 2011'!O8","v":120},{"$f":"'quinary 2016'!P8-'quinary 2011'!P8","v":118},{"$f":"'quinary 2016'!Q8-'quinary 2011'!Q8","v":30},{"$f":"'quinary 2016'!R8-'quinary 2011'!R8","v":183},{"$f":"'quinary 2016'!S8-'quinary 2011'!S8","v":-48},{"$f":"'quinary 2016'!T8-'quinary 2011'!T8","v":-4},{"$f":"'quinary 2016'!U8-'quinary 2011'!U8","v":-5},{"$f":"'quinary 2016'!V8-'quinary 2011'!V8","v":-47},{"$f":"'quinary 2016'!W8-'quinary 2011'!W8","v":67}]
["Bordesley Green","Hodge Hill","E05001182",{"$f":"'quinary 2016'!D9-'quinary 2011'!D9","v":1946},{"$f":"'quinary 2016'!E9-'quinary 2011'!E9","v":-54},{"$f":"'quinary 2016'!F9-'quinary 2011'!F9","v":112},{"$f":"'quinary 2016'!G9-'quinary 2011'!G9","v":207},{"$f":"'quinary 2016'!H9-'quinary 2011'!H9","v":381},{"$f":"'quinary 2016'!I9-'quinary 2011'!I9","v":244},{"$f":"'quinary 2016'!J9-'quinary 2011'!J9","v":-78},{"$f":"'quinary 2016'!K9-'quinary 2011'!K9","v":16},{"$f":"'quinary 2016'!L9-'quinary 2011'!L9","v":139},{"$f":"'quinary 2016'!M9-'quinary 2011'!M9","v":120},{"$f":"'quinary 2016'!N9-'quinary 2011'!N9","v":485},{"$f":"'quinary 2016'!O9-'quinary 2011'!O9","v":93},{"$f":"'quinary 2016'!P9-'quinary 2011'!P9","v":97},{"$f":"'quinary 2016'!Q9-'quinary 2011'!Q9","v":257},{"$f":"'quinary 2016'!R9-'quinary 2011'!R9","v":59},{"$f":"'quinary 2016'!S9-'quinary 2011'!S9","v":-198},{"$f":"'quinary 2016'!T9-'quinary 2011'!T9","v":-89},{"$f":"'quinary 2016'!U9-'quinary 2011'!U9","v":66},{"$f":"'quinary 2016'!V9-'quinary 2011'!V9","v":75},{"$f":"'quinary 2016'!W9-'quinary 2011'!W9","v":14}]
["Bournville","Selly Oak","E05001183",{"$f":"'quinary 2016'!D10-'quinary 2011'!D10","v":-117},{"$f":"'quinary 2016'!E10-'quinary 2011'!E10","v":18},{"$f":"'quinary 2016'!F10-'quinary 2011'!F10","v":196},{"$f":"'quinary 2016'!G10-'quinary 2011'!G10","v":-82},{"$f":"'quinary 2016'!H10-'quinary 2011'!H10","v":-190},{"$f":"'quinary 2016'!I10-'quinary 2011'!I10","v":39},{"$f":"'quinary 2016'!J10-'quinary 2011'!J10","v":-71},{"$f":"'quinary 2016'!K10-'quinary 2011'!K10","v":-37},{"$f":"'quinary 2016'!L10-'quinary 2011'!L10","v":-50},{"$f":"'quinary 2016'!M10-'quinary 2011'!M10","v":-300},{"$f":"'quinary 2016'!N10-'quinary 2011'!N10","v":-135},{"$f":"'quinary 2016'!O10-'quinary 2011'!O10","v":192},{"$f":"'quinary 2016'!P10-'quinary 2011'!P10","v":68},{"$f":"'quinary 2016'!Q10-'quinary 2011'!Q10","v":-90},{"$f":"'quinary 2016'!R10-'quinary 2011'!R10","v":210},{"$f":"'quinary 2016'!S10-'quinary 2011'!S10","v":112},{"$f":"'quinary 2016'!T10-'quinary 2011'!T10","v":32},{"$f":"'quinary 2016'!U10-'quinary 2011'!U10","v":-43},{"$f":"'quinary 2016'!V10-'quinary 2011'!V10","v":0},{"$f":"'quinary 2016'!W10-'quinary 2011'!W10","v":14}]
["Brandwood","Selly Oak","E05001184",{"$f":"'quinary 2016'!D11-'quinary 2011'!D11","v":152},{"$f":"'quinary 2016'!E11-'quinary 2011'!E11","v":78},{"$f":"'quinary 2016'!F11-'quinary 2011'!F11","v":149},{"$f":"'quinary 2016'!G11-'quinary 2011'!G11","v":-88},{"$f":"'quinary 2016'!H11-'quinary 2011'!H11","v":-120},{"$f":"'quinary 2016'!I11-'quinary 2011'!I11","v":98},{"$f":"'quinary 2016'!J11-'quinary 2011'!J11","v":146},{"$f":"'quinary 2016'!K11-'quinary 2011'!K11","v":-146},{"$f":"'quinary 2016'!L11-'quinary 2011'!L11","v":-63},{"$f":"'quinary 2016'!M11-'quinary 2011'!M11","v":-304},{"$f":"'quinary 2016'!N11-'quinary 2011'!N11","v":-19},{"$f":"'quinary 2016'!O11-'quinary 2011'!O11","v":182},{"$f":"'quinary 2016'!P11-'quinary 2011'!P11","v":108},{"$f":"'quinary 2016'!Q11-'quinary 2011'!Q11","v":-84},{"$f":"'quinary 2016'!R11-'quinary 2011'!R11","v":71},{"$f":"'quinary 2016'!S11-'quinary 2011'!S11","v":57},{"$f":"'quinary 2016'!T11-'quinary 2011'!T11","v":63},{"$f":"'quinary 2016'!U11-'quinary 2011'!U11","v":-53},{"$f":"'quinary 2016'!V11-'quinary 2011'!V11","v":30},{"$f":"'quinary 2016'!W11-'quinary 2011'!W11","v":47}]
["Edgbaston","Edgbaston","E05001185",{"$f":"'quinary 2016'!D12-'quinary 2011'!D12","v":3521},{"$f":"'quinary 2016'!E12-'quinary 2011'!E12","v":197},{"$f":"'quinary 2016'!F12-'quinary 2011'!F12","v":345},{"$f":"'quinary 2016'!G12-'quinary 2011'!G12","v":48},{"$f":"'quinary 2016'!H12-'quinary 2011'!H12","v":710},{"$f":"'quinary 2016'!I12-'quinary 2011'!I12","v":874},{"$f":"'quinary 2016'!J12-'quinary 2011'!J12","v":382},{"$f":"'quinary 2016'!K12-'quinary 2011'!K12","v":130},{"$f":"'quinary 2016'!L12-'quinary 2011'!L12","v":189},{"$f":"'quinary 2016'!M12-'quinary 2011'!M12","v":126},{"$f":"'quinary 2016'!N12-'quinary 2011'!N12","v":132},{"$f":"'quinary 2016'!O12-'quinary 2011'!O12","v":190},{"$f":"'quinary 2016'!P12-'quinary 2011'!P12","v":41},{"$f":"'quinary 2016'!Q12-'quinary 2011'!Q12","v":-79},{"$f":"'quinary 2016'!R12-'quinary 2011'!R12","v":45},{"$f":"'quinary 2016'!S12-'quinary 2011'!S12","v":42},{"$f":"'quinary 2016'!T12-'quinary 2011'!T12","v":113},{"$f":"'quinary 2016'!U12-'quinary 2011'!U12","v":-33},{"$f":"'quinary 2016'!V12-'quinary 2011'!V12","v":37},{"$f":"'quinary 2016'!W12-'quinary 2011'!W12","v":32}]
["Erdington","Erdington","E05001186",{"$f":"'quinary 2016'!D13-'quinary 2011'!D13","v":1319},{"$f":"'quinary 2016'!E13-'quinary 2011'!E13","v":235},{"$f":"'quinary 2016'!F13-'quinary 2011'!F13","v":346},{"$f":"'quinary 2016'!G13-'quinary 2011'!G13","v":38},{"$f":"'quinary 2016'!H13-'quinary 2011'!H13","v":-137},{"$f":"'quinary 2016'!I13-'quinary 2011'!I13","v":99},{"$f":"'quinary 2016'!J13-'quinary 2011'!J13","v":165},{"$f":"'quinary 2016'!K13-'quinary 2011'!K13","v":205},{"$f":"'quinary 2016'!L13-'quinary 2011'!L13","v":142},{"$f":"'quinary 2016'!M13-'quinary 2011'!M13","v":-199},{"$f":"'quinary 2016'!N13-'quinary 2011'!N13","v":-142},{"$f":"'quinary 2016'!O13-'quinary 2011'!O13","v":130},{"$f":"'quinary 2016'!P13-'quinary 2011'!P13","v":228},{"$f":"'quinary 2016'!Q13-'quinary 2011'!Q13","v":-7},{"$f":"'quinary 2016'!R13-'quinary 2011'!R13","v":72},{"$f":"'quinary 2016'!S13-'quinary 2011'!S13","v":128},{"$f":"'quinary 2016'!T13-'quinary 2011'!T13","v":-63},{"$f":"'quinary 2016'!U13-'quinary 2011'!U13","v":70},{"$f":"'quinary 2016'!V13-'quinary 2011'!V13","v":-27},{"$f":"'quinary 2016'!W13-'quinary 2011'!W13","v":36}]
["Hall Green","Hall Green","E05001187",{"$f":"'quinary 2016'!D14-'quinary 2011'!D14","v":710},{"$f":"'quinary 2016'!E14-'quinary 2011'!E14","v":68},{"$f":"'quinary 2016'!F14-'quinary 2011'!F14","v":161},{"$f":"'quinary 2016'!G14-'quinary 2011'!G14","v":36},{"$f":"'quinary 2016'!H14-'quinary 2011'!H14","v":49},{"$f":"'quinary 2016'!I14-'quinary 2011'!I14","v":78},{"$f":"'quinary 2016'!J14-'quinary 2011'!J14","v":96},{"$f":"'quinary 2016'!K14-'quinary 2011'!K14","v":-24},{"$f":"'quinary 2016'!L14-'quinary 2011'!L14","v":-5},{"$f":"'quinary 2016'!M14-'quinary 2011'!M14","v":-105},{"$f":"'quinary 2016'!N14-'quinary 2011'!N14","v":-11},{"$f":"'quinary 2016'!O14-'quinary 2011'!O14","v":57},{"$f":"'quinary 2016'!P14-'quinary 2011'!P14","v":78},{"$f":"'quinary 2016'!Q14-'quinary 2011'!Q14","v":5},{"$f":"'quinary 2016'!R14-'quinary 2011'!R14","v":58},{"$f":"'quinary 2016'!S14-'quinary 2011'!S14","v":146},{"$f":"'quinary 2016'!T14-'quinary 2011'!T14","v":-74},{"$f":"'quinary 2016'!U14-'quinary 2011'!U14","v":20},{"$f":"'quinary 2016'!V14-'quinary 2011'!V14","v":83},{"$f":"'quinary 2016'!W14-'quinary 2011'!W14","v":-6}]
["Handsworth Wood","Perry Barr","E05001188",{"$f":"'quinary 2016'!D15-'quinary 2011'!D15","v":828},{"$f":"'quinary 2016'!E15-'quinary 2011'!E15","v":108},{"$f":"'quinary 2016'!F15-'quinary 2011'!F15","v":70},{"$f":"'quinary 2016'!G15-'quinary 2011'!G15","v":64},{"$f":"'quinary 2016'!H15-'quinary 2011'!H15","v":-195},{"$f":"'quinary 2016'!I15-'quinary 2011'!I15","v":34},{"$f":"'quinary 2016'!J15-'quinary 2011'!J15","v":-132},{"$f":"'quinary 2016'!K15-'quinary 2011'!K15","v":111},{"$f":"'quinary 2016'!L15-'quinary 2011'!L15","v":159},{"$f":"'quinary 2016'!M15-'quinary 2011'!M15","v":-25},{"$f":"'quinary 2016'!N15-'quinary 2011'!N15","v":-98},{"$f":"'quinary 2016'!O15-'quinary 2011'!O15","v":221},{"$f":"'quinary 2016'!P15-'quinary 2011'!P15","v":118},{"$f":"'quinary 2016'!Q15-'quinary 2011'!Q15","v":251},{"$f":"'quinary 2016'!R15-'quinary 2011'!R15","v":261},{"$f":"'quinary 2016'!S15-'quinary 2011'!S15","v":-147},{"$f":"'quinary 2016'!T15-'quinary 2011'!T15","v":-55},{"$f":"'quinary 2016'!U15-'quinary 2011'!U15","v":41},{"$f":"'quinary 2016'!V15-'quinary 2011'!V15","v":9},{"$f":"'quinary 2016'!W15-'quinary 2011'!W15","v":33}]
["Harborne","Edgbaston","E05001189",{"$f":"'quinary 2016'!D16-'quinary 2011'!D16","v":2021},{"$f":"'quinary 2016'!E16-'quinary 2011'!E16","v":283},{"$f":"'quinary 2016'!F16-'quinary 2011'!F16","v":225},{"$f":"'quinary 2016'!G16-'quinary 2011'!G16","v":90},{"$f":"'quinary 2016'!H16-'quinary 2011'!H16","v":30},{"$f":"'quinary 2016'!I16-'quinary 2011'!I16","v":312},{"$f":"'quinary 2016'!J16-'quinary 2011'!J16","v":64},{"$f":"'quinary 2016'!K16-'quinary 2011'!K16","v":-98},{"$f":"'quinary 2016'!L16-'quinary 2011'!L16","v":281},{"$f":"'quinary 2016'!M16-'quinary 2011'!M16","v":143},{"$f":"'quinary 2016'!N16-'quinary 2011'!N16","v":109},{"$f":"'quinary 2016'!O16-'quinary 2011'!O16","v":115},{"$f":"'quinary 2016'!P16-'quinary 2011'!P16","v":24},{"$f":"'quinary 2016'!Q16-'quinary 2011'!Q16","v":-11},{"$f":"'quinary 2016'!R16-'quinary 2011'!R16","v":230},{"$f":"'quinary 2016'!S16-'quinary 2011'!S16","v":77},{"$f":"'quinary 2016'!T16-'quinary 2011'!T16","v":115},{"$f":"'quinary 2016'!U16-'quinary 2011'!U16","v":-10},{"$f":"'quinary 2016'!V16-'quinary 2011'!V16","v":8},{"$f":"'quinary 2016'!W16-'quinary 2011'!W16","v":34}]
["Hodge Hill","Hodge Hill","E05001190",{"$f":"'quinary 2016'!D17-'quinary 2011'!D17","v":1697},{"$f":"'quinary 2016'!E17-'quinary 2011'!E17","v":68},{"$f":"'quinary 2016'!F17-'quinary 2011'!F17","v":195},{"$f":"'quinary 2016'!G17-'quinary 2011'!G17","v":252},{"$f":"'quinary 2016'!H17-'quinary 2011'!H17","v":329},{"$f":"'quinary 2016'!I17-'quinary 2011'!I17","v":268},{"$f":"'quinary 2016'!J17-'quinary 2011'!J17","v":158},{"$f":"'quinary 2016'!K17-'quinary 2011'!K17","v":93},{"$f":"'quinary 2016'!L17-'quinary 2011'!L17","v":290},{"$f":"'quinary 2016'!M17-'quinary 2011'!M17","v":-155},{"$f":"'quinary 2016'!N17-'quinary 2011'!N17","v":204},{"$f":"'quinary 2016'!O17-'quinary 2011'!O17","v":115},{"$f":"'quinary 2016'!P17-'quinary 2011'!P17","v":66},{"$f":"'quinary 2016'!Q17-'quinary 2011'!Q17","v":-109},{"$f":"'quinary 2016'!R17-'quinary 2011'!R17","v":43},{"$f":"'quinary 2016'!S17-'quinary 2011'!S17","v":-112},{"$f":"'quinary 2016'!T17-'quinary 2011'!T17","v":47},{"$f":"'quinary 2016'!U17-'quinary 2011'!U17","v":-50},{"$f":"'quinary 2016'!V17-'quinary 2011'!V17","v":-4},{"$f":"'quinary 2016'!W17-'quinary 2011'!W17","v":-1}]
["Kings Norton","Northfield","E05001191",{"$f":"'quinary 2016'!D18-'quinary 2011'!D18","v":131},{"$f":"'quinary 2016'!E18-'quinary 2011'!E18","v":-34},{"$f":"'quinary 2016'!F18-'quinary 2011'!F18","v":276},{"$f":"'quinary 2016'!G18-'quinary 2011'!G18","v":-80},{"$f":"'quinary 2016'!H18-'quinary 2011'!H18","v":-147},{"$f":"'quinary 2016'!I18-'quinary 2011'!I18","v":11},{"$f":"'quinary 2016'!J18-'quinary 2011'!J18","v":166},{"$f":"'quinary 2016'!K18-'quinary 2011'!K18","v":-85},{"$f":"'quinary 2016'!L18-'quinary 2011'!L18","v":-75},{"$f":"'quinary 2016'!M18-'quinary 2011'!M18","v":-252},{"$f":"'quinary 2016'!N18-'quinary 2011'!N18","v":-8},{"$f":"'quinary 2016'!O18-'quinary 2011'!O18","v":135},{"$f":"'quinary 2016'!P18-'quinary 2011'!P18","v":84},{"$f":"'quinary 2016'!Q18-'quinary 2011'!Q18","v":-345},{"$f":"'quinary 2016'!R18-'quinary 2011'!R18","v":191},{"$f":"'quinary 2016'!S18-'quinary 2011'!S18","v":169},{"$f":"'quinary 2016'!T18-'quinary 2011'!T18","v":27},{"$f":"'quinary 2016'!U18-'quinary 2011'!U18","v":42},{"$f":"'quinary 2016'!V18-'quinary 2011'!V18","v":-16},{"$f":"'quinary 2016'!W18-'quinary 2011'!W18","v":72}]
["Kingstanding","Erdington","E05001192",{"$f":"'quinary 2016'!D19-'quinary 2011'!D19","v":421},{"$f":"'quinary 2016'!E19-'quinary 2011'!E19","v":106},{"$f":"'quinary 2016'!F19-'quinary 2011'!F19","v":111},{"$f":"'quinary 2016'!G19-'quinary 2011'!G19","v":-92},{"$f":"'quinary 2016'!H19-'quinary 2011'!H19","v":-63},{"$f":"'quinary 2016'!I19-'quinary 2011'!I19","v":29},{"$f":"'quinary 2016'!J19-'quinary 2011'!J19","v":220},{"$f":"'quinary 2016'!K19-'quinary 2011'!K19","v":27},{"$f":"'quinary 2016'!L19-'quinary 2011'!L19","v":-2},{"$f":"'quinary 2016'!M19-'quinary 2011'!M19","v":-194},{"$f":"'quinary 2016'!N19-'quinary 2011'!N19","v":-179},{"$f":"'quinary 2016'!O19-'quinary 2011'!O19","v":214},{"$f":"'quinary 2016'!P19-'quinary 2011'!P19","v":220},{"$f":"'quinary 2016'!Q19-'quinary 2011'!Q19","v":52},{"$f":"'quinary 2016'!R19-'quinary 2011'!R19","v":-22},{"$f":"'quinary 2016'!S19-'quinary 2011'!S19","v":93},{"$f":"'quinary 2016'!T19-'quinary 2011'!T19","v":-23},{"$f":"'quinary 2016'!U19-'quinary 2011'!U19","v":-70},{"$f":"'quinary 2016'!V19-'quinary 2011'!V19","v":-3},{"$f":"'quinary 2016'!W19-'quinary 2011'!W19","v":-3}]
["Ladywood","Ladywood","E05001193",{"$f":"'quinary 2016'!D20-'quinary 2011'!D20","v":6244},{"$f":"'quinary 2016'!E20-'quinary 2011'!E20","v":331},{"$f":"'quinary 2016'!F20-'quinary 2011'!F20","v":344},{"$f":"'quinary 2016'!G20-'quinary 2011'!G20","v":264},{"$f":"'quinary 2016'!H20-'quinary 2011'!H20","v":45},{"$f":"'quinary 2016'!I20-'quinary 2011'!I20","v":1100},{"$f":"'quinary 2016'!J20-'quinary 2011'!J20","v":1278},{"$f":"'quinary 2016'!K20-'quinary 2011'!K20","v":863},{"$f":"'quinary 2016'!L20-'quinary 2011'!L20","v":705},{"$f":"'quinary 2016'!M20-'quinary 2011'!M20","v":346},{"$f":"'quinary 2016'!N20-'quinary 2011'!N20","v":182},{"$f":"'quinary 2016'!O20-'quinary 2011'!O20","v":297},{"$f":"'quinary 2016'!P20-'quinary 2011'!P20","v":273},{"$f":"'quinary 2016'!Q20-'quinary 2011'!Q20","v":111},{"$f":"'quinary 2016'!R20-'quinary 2011'!R20","v":52},{"$f":"'quinary 2016'!S20-'quinary 2011'!S20","v":49},{"$f":"'quinary 2016'!T20-'quinary 2011'!T20","v":-6},{"$f":"'quinary 2016'!U20-'quinary 2011'!U20","v":13},{"$f":"'quinary 2016'!V20-'quinary 2011'!V20","v":4},{"$f":"'quinary 2016'!W20-'quinary 2011'!W20","v":-7}]
["Longbridge","Northfield","E05001194",{"$f":"'quinary 2016'!D21-'quinary 2011'!D21","v":817},{"$f":"'quinary 2016'!E21-'quinary 2011'!E21","v":157},{"$f":"'quinary 2016'!F21-'quinary 2011'!F21","v":236},{"$f":"'quinary 2016'!G21-'quinary 2011'!G21","v":-48},{"$f":"'quinary 2016'!H21-'quinary 2011'!H21","v":-71},{"$f":"'quinary 2016'!I21-'quinary 2011'!I21","v":158},{"$f":"'quinary 2016'!J21-'quinary 2011'!J21","v":121},{"$f":"'quinary 2016'!K21-'quinary 2011'!K21","v":-136},{"$f":"'quinary 2016'!L21-'quinary 2011'!L21","v":-30},{"$f":"'quinary 2016'!M21-'quinary 2011'!M21","v":-215},{"$f":"'quinary 2016'!N21-'quinary 2011'!N21","v":-48},{"$f":"'quinary 2016'!O21-'quinary 2011'!O21","v":132},{"$f":"'quinary 2016'!P21-'quinary 2011'!P21","v":38},{"$f":"'quinary 2016'!Q21-'quinary 2011'!Q21","v":34},{"$f":"'quinary 2016'!R21-'quinary 2011'!R21","v":294},{"$f":"'quinary 2016'!S21-'quinary 2011'!S21","v":154},{"$f":"'quinary 2016'!T21-'quinary 2011'!T21","v":19},{"$f":"'quinary 2016'!U21-'quinary 2011'!U21","v":-44},{"$f":"'quinary 2016'!V21-'quinary 2011'!V21","v":36},{"$f":"'quinary 2016'!W21-'quinary 2011'!W21","v":30}]
["Lozells and East Handsworth","Perry Barr","E05001195",{"$f":"'quinary 2016'!D22-'quinary 2011'!D22","v":1921},{"$f":"'quinary 2016'!E22-'quinary 2011'!E22","v":18},{"$f":"'quinary 2016'!F22-'quinary 2011'!F22","v":58},{"$f":"'quinary 2016'!G22-'quinary 2011'!G22","v":253},{"$f":"'quinary 2016'!H22-'quinary 2011'!H22","v":76},{"$f":"'quinary 2016'!I22-'quinary 2011'!I22","v":-8},{"$f":"'quinary 2016'!J22-'quinary 2011'!J22","v":-39},{"$f":"'quinary 2016'!K22-'quinary 2011'!K22","v":-5},{"$f":"'quinary 2016'!L22-'quinary 2011'!L22","v":305},{"$f":"'quinary 2016'!M22-'quinary 2011'!M22","v":251},{"$f":"'quinary 2016'!N22-'quinary 2011'!N22","v":216},{"$f":"'quinary 2016'!O22-'quinary 2011'!O22","v":296},{"$f":"'quinary 2016'!P22-'quinary 2011'!P22","v":180},{"$f":"'quinary 2016'!Q22-'quinary 2011'!Q22","v":324},{"$f":"'quinary 2016'!R22-'quinary 2011'!R22","v":9},{"$f":"'quinary 2016'!S22-'quinary 2011'!S22","v":-105},{"$f":"'quinary 2016'!T22-'quinary 2011'!T22","v":-51},{"$f":"'quinary 2016'!U22-'quinary 2011'!U22","v":37},{"$f":"'quinary 2016'!V22-'quinary 2011'!V22","v":78},{"$f":"'quinary 2016'!W22-'quinary 2011'!W22","v":28}]
["Moseley and Kings Heath","Hall Green","E05001196",{"$f":"'quinary 2016'!D23-'quinary 2011'!D23","v":-80},{"$f":"'quinary 2016'!E23-'quinary 2011'!E23","v":-45},{"$f":"'quinary 2016'!F23-'quinary 2011'!F23","v":62},{"$f":"'quinary 2016'!G23-'quinary 2011'!G23","v":-126},{"$f":"'quinary 2016'!H23-'quinary 2011'!H23","v":-95},{"$f":"'quinary 2016'!I23-'quinary 2011'!I23","v":36},{"$f":"'quinary 2016'!J23-'quinary 2011'!J23","v":-228},{"$f":"'quinary 2016'!K23-'quinary 2011'!K23","v":-204},{"$f":"'quinary 2016'!L23-'quinary 2011'!L23","v":-92},{"$f":"'quinary 2016'!M23-'quinary 2011'!M23","v":-94},{"$f":"'quinary 2016'!N23-'quinary 2011'!N23","v":102},{"$f":"'quinary 2016'!O23-'quinary 2011'!O23","v":129},{"$f":"'quinary 2016'!P23-'quinary 2011'!P23","v":9},{"$f":"'quinary 2016'!Q23-'quinary 2011'!Q23","v":70},{"$f":"'quinary 2016'!R23-'quinary 2011'!R23","v":307},{"$f":"'quinary 2016'!S23-'quinary 2011'!S23","v":56},{"$f":"'quinary 2016'!T23-'quinary 2011'!T23","v":-67},{"$f":"'quinary 2016'!U23-'quinary 2011'!U23","v":83},{"$f":"'quinary 2016'!V23-'quinary 2011'!V23","v":0},{"$f":"'quinary 2016'!W23-'quinary 2011'!W23","v":17}]
["Nechells","Ladywood","E05001197",{"$f":"'quinary 2016'!D24-'quinary 2011'!D24","v":5051},{"$f":"'quinary 2016'!E24-'quinary 2011'!E24","v":121},{"$f":"'quinary 2016'!F24-'quinary 2011'!F24","v":223},{"$f":"'quinary 2016'!G24-'quinary 2011'!G24","v":196},{"$f":"'quinary 2016'!H24-'quinary 2011'!H24","v":801},{"$f":"'quinary 2016'!I24-'quinary 2011'!I24","v":1502},{"$f":"'quinary 2016'!J24-'quinary 2011'!J24","v":645},{"$f":"'quinary 2016'!K24-'quinary 2011'!K24","v":288},{"$f":"'quinary 2016'!L24-'quinary 2011'!L24","v":313},{"$f":"'quinary 2016'!M24-'quinary 2011'!M24","v":86},{"$f":"'quinary 2016'!N24-'quinary 2011'!N24","v":221},{"$f":"'quinary 2016'!O24-'quinary 2011'!O24","v":251},{"$f":"'quinary 2016'!P24-'quinary 2011'!P24","v":254},{"$f":"'quinary 2016'!Q24-'quinary 2011'!Q24","v":137},{"$f":"'quinary 2016'!R24-'quinary 2011'!R24","v":23},{"$f":"'quinary 2016'!S24-'quinary 2011'!S24","v":-131},{"$f":"'quinary 2016'!T24-'quinary 2011'!T24","v":-17},{"$f":"'quinary 2016'!U24-'quinary 2011'!U24","v":66},{"$f":"'quinary 2016'!V24-'quinary 2011'!V24","v":40},{"$f":"'quinary 2016'!W24-'quinary 2011'!W24","v":32}]
["Northfield","Northfield","E05001198",{"$f":"'quinary 2016'!D25-'quinary 2011'!D25","v":538},{"$f":"'quinary 2016'!E25-'quinary 2011'!E25","v":217},{"$f":"'quinary 2016'!F25-'quinary 2011'!F25","v":38},{"$f":"'quinary 2016'!G25-'quinary 2011'!G25","v":-45},{"$f":"'quinary 2016'!H25-'quinary 2011'!H25","v":-277},{"$f":"'quinary 2016'!I25-'quinary 2011'!I25","v":54},{"$f":"'quinary 2016'!J25-'quinary 2011'!J25","v":312},{"$f":"'quinary 2016'!K25-'quinary 2011'!K25","v":29},{"$f":"'quinary 2016'!L25-'quinary 2011'!L25","v":-141},{"$f":"'quinary 2016'!M25-'quinary 2011'!M25","v":-187},{"$f":"'quinary 2016'!N25-'quinary 2011'!N25","v":-209},{"$f":"'quinary 2016'!O25-'quinary 2011'!O25","v":287},{"$f":"'quinary 2016'!P25-'quinary 2011'!P25","v":158},{"$f":"'quinary 2016'!Q25-'quinary 2011'!Q25","v":-130},{"$f":"'quinary 2016'!R25-'quinary 2011'!R25","v":214},{"$f":"'quinary 2016'!S25-'quinary 2011'!S25","v":148},{"$f":"'quinary 2016'!T25-'quinary 2011'!T25","v":6},{"$f":"'quinary 2016'!U25-'quinary 2011'!U25","v":73},{"$f":"'quinary 2016'!V25-'quinary 2011'!V25","v":-28},{"$f":"'quinary 2016'!W25-'quinary 2011'!W25","v":19}]
["Oscott","Perry Barr","E05001199",{"$f":"'quinary 2016'!D26-'quinary 2011'!D26","v":449},{"$f":"'quinary 2016'!E26-'quinary 2011'!E26","v":175},{"$f":"'quinary 2016'!F26-'quinary 2011'!F26","v":177},{"$f":"'quinary 2016'!G26-'quinary 2011'!G26","v":-134},{"$f":"'quinary 2016'!H26-'quinary 2011'!H26","v":-131},{"$f":"'quinary 2016'!I26-'quinary 2011'!I26","v":141},{"$f":"'quinary 2016'!J26-'quinary 2011'!J26","v":248},{"$f":"'quinary 2016'!K26-'quinary 2011'!K26","v":130},{"$f":"'quinary 2016'!L26-'quinary 2011'!L26","v":-95},{"$f":"'quinary 2016'!M26-'quinary 2011'!M26","v":-444},{"$f":"'quinary 2016'!N26-'quinary 2011'!N26","v":-117},{"$f":"'quinary 2016'!O26-'quinary 2011'!O26","v":272},{"$f":"'quinary 2016'!P26-'quinary 2011'!P26","v":217},{"$f":"'quinary 2016'!Q26-'quinary 2011'!Q26","v":-84},{"$f":"'quinary 2016'!R26-'quinary 2011'!R26","v":-61},{"$f":"'quinary 2016'!S26-'quinary 2011'!S26","v":132},{"$f":"'quinary 2016'!T26-'quinary 2011'!T26","v":-21},{"$f":"'quinary 2016'!U26-'quinary 2011'!U26","v":39},{"$f":"'quinary 2016'!V26-'quinary 2011'!V26","v":14},{"$f":"'quinary 2016'!W26-'quinary 2011'!W26","v":-9}]
["Perry Barr","Perry Barr","E05001200",{"$f":"'quinary 2016'!D27-'quinary 2011'!D27","v":579},{"$f":"'quinary 2016'!E27-'quinary 2011'!E27","v":87},{"$f":"'quinary 2016'!F27-'quinary 2011'!F27","v":156},{"$f":"'quinary 2016'!G27-'quinary 2011'!G27","v":76},{"$f":"'quinary 2016'!H27-'quinary 2011'!H27","v":-8},{"$f":"'quinary 2016'!I27-'quinary 2011'!I27","v":55},{"$f":"'quinary 2016'!J27-'quinary 2011'!J27","v":155},{"$f":"'quinary 2016'!K27-'quinary 2011'!K27","v":45},{"$f":"'quinary 2016'!L27-'quinary 2011'!L27","v":108},{"$f":"'quinary 2016'!M27-'quinary 2011'!M27","v":-230},{"$f":"'quinary 2016'!N27-'quinary 2011'!N27","v":-64},{"$f":"'quinary 2016'!O27-'quinary 2011'!O27","v":159},{"$f":"'quinary 2016'!P27-'quinary 2011'!P27","v":200},{"$f":"'quinary 2016'!Q27-'quinary 2011'!Q27","v":-141},{"$f":"'quinary 2016'!R27-'quinary 2011'!R27","v":-117},{"$f":"'quinary 2016'!S27-'quinary 2011'!S27","v":35},{"$f":"'quinary 2016'!T27-'quinary 2011'!T27","v":-5},{"$f":"'quinary 2016'!U27-'quinary 2011'!U27","v":52},{"$f":"'quinary 2016'!V27-'quinary 2011'!V27","v":15},{"$f":"'quinary 2016'!W27-'quinary 2011'!W27","v":1}]
["Quinton","Edgbaston","E05001201",{"$f":"'quinary 2016'!D28-'quinary 2011'!D28","v":180},{"$f":"'quinary 2016'!E28-'quinary 2011'!E28","v":83},{"$f":"'quinary 2016'!F28-'quinary 2011'!F28","v":149},{"$f":"'quinary 2016'!G28-'quinary 2011'!G28","v":14},{"$f":"'quinary 2016'!H28-'quinary 2011'!H28","v":-63},{"$f":"'quinary 2016'!I28-'quinary 2011'!I28","v":30},{"$f":"'quinary 2016'!J28-'quinary 2011'!J28","v":27},{"$f":"'quinary 2016'!K28-'quinary 2011'!K28","v":6},{"$f":"'quinary 2016'!L28-'quinary 2011'!L28","v":-147},{"$f":"'quinary 2016'!M28-'quinary 2011'!M28","v":-107},{"$f":"'quinary 2016'!N28-'quinary 2011'!N28","v":12},{"$f":"'quinary 2016'!O28-'quinary 2011'!O28","v":153},{"$f":"'quinary 2016'!P28-'quinary 2011'!P28","v":58},{"$f":"'quinary 2016'!Q28-'quinary 2011'!Q28","v":-144},{"$f":"'quinary 2016'!R28-'quinary 2011'!R28","v":28},{"$f":"'quinary 2016'!S28-'quinary 2011'!S28","v":32},{"$f":"'quinary 2016'!T28-'quinary 2011'!T28","v":-19},{"$f":"'quinary 2016'!U28-'quinary 2011'!U28","v":72},{"$f":"'quinary 2016'!V28-'quinary 2011'!V28","v":-11},{"$f":"'quinary 2016'!W28-'quinary 2011'!W28","v":7}]
["Selly Oak","Selly Oak","E05001202",{"$f":"'quinary 2016'!D29-'quinary 2011'!D29","v":2517},{"$f":"'quinary 2016'!E29-'quinary 2011'!E29","v":99},{"$f":"'quinary 2016'!F29-'quinary 2011'!F29","v":166},{"$f":"'quinary 2016'!G29-'quinary 2011'!G29","v":29},{"$f":"'quinary 2016'!H29-'quinary 2011'!H29","v":266},{"$f":"'quinary 2016'!I29-'quinary 2011'!I29","v":1935},{"$f":"'quinary 2016'!J29-'quinary 2011'!J29","v":-19},{"$f":"'quinary 2016'!K29-'quinary 2011'!K29","v":-218},{"$f":"'quinary 2016'!L29-'quinary 2011'!L29","v":143},{"$f":"'quinary 2016'!M29-'quinary 2011'!M29","v":88},{"$f":"'quinary 2016'!N29-'quinary 2011'!N29","v":56},{"$f":"'quinary 2016'!O29-'quinary 2011'!O29","v":-11},{"$f":"'quinary 2016'!P29-'quinary 2011'!P29","v":-16},{"$f":"'quinary 2016'!Q29-'quinary 2011'!Q29","v":30},{"$f":"'quinary 2016'!R29-'quinary 2011'!R29","v":28},{"$f":"'quinary 2016'!S29-'quinary 2011'!S29","v":-52},{"$f":"'quinary 2016'!T29-'quinary 2011'!T29","v":-10},{"$f":"'quinary 2016'!U29-'quinary 2011'!U29","v":15},{"$f":"'quinary 2016'!V29-'quinary 2011'!V29","v":-14},{"$f":"'quinary 2016'!W29-'quinary 2011'!W29","v":2}]
["Shard End","Hodge Hill","E05001203",{"$f":"'quinary 2016'!D30-'quinary 2011'!D30","v":982},{"$f":"'quinary 2016'!E30-'quinary 2011'!E30","v":167},{"$f":"'quinary 2016'!F30-'quinary 2011'!F30","v":349},{"$f":"'quinary 2016'!G30-'quinary 2011'!G30","v":-6},{"$f":"'quinary 2016'!H30-'quinary 2011'!H30","v":-254},{"$f":"'quinary 2016'!I30-'quinary 2011'!I30","v":128},{"$f":"'quinary 2016'!J30-'quinary 2011'!J30","v":304},{"$f":"'quinary 2016'!K30-'quinary 2011'!K30","v":228},{"$f":"'quinary 2016'!L30-'quinary 2011'!L30","v":-19},{"$f":"'quinary 2016'!M30-'quinary 2011'!M30","v":-269},{"$f":"'quinary 2016'!N30-'quinary 2011'!N30","v":39},{"$f":"'quinary 2016'!O30-'quinary 2011'!O30","v":183},{"$f":"'quinary 2016'!P30-'quinary 2011'!P30","v":200},{"$f":"'quinary 2016'!Q30-'quinary 2011'!Q30","v":-168},{"$f":"'quinary 2016'!R30-'quinary 2011'!R30","v":217},{"$f":"'quinary 2016'!S30-'quinary 2011'!S30","v":181},{"$f":"'quinary 2016'!T30-'quinary 2011'!T30","v":-83},{"$f":"'quinary 2016'!U30-'quinary 2011'!U30","v":-40},{"$f":"'quinary 2016'!V30-'quinary 2011'!V30","v":-200},{"$f":"'quinary 2016'!W30-'quinary 2011'!W30","v":25}]
["Sheldon","Yardley","E05001204",{"$f":"'quinary 2016'!D31-'quinary 2011'!D31","v":1275},{"$f":"'quinary 2016'!E31-'quinary 2011'!E31","v":273},{"$f":"'quinary 2016'!F31-'quinary 2011'!F31","v":145},{"$f":"'quinary 2016'!G31-'quinary 2011'!G31","v":49},{"$f":"'quinary 2016'!H31-'quinary 2011'!H31","v":-17},{"$f":"'quinary 2016'!I31-'quinary 2011'!I31","v":234},{"$f":"'quinary 2016'!J31-'quinary 2011'!J31","v":328},{"$f":"'quinary 2016'!K31-'quinary 2011'!K31","v":193},{"$f":"'quinary 2016'!L31-'quinary 2011'!L31","v":80},{"$f":"'quinary 2016'!M31-'quinary 2011'!M31","v":-327},{"$f":"'quinary 2016'!N31-'quinary 2011'!N31","v":-70},{"$f":"'quinary 2016'!O31-'quinary 2011'!O31","v":300},{"$f":"'quinary 2016'!P31-'quinary 2011'!P31","v":219},{"$f":"'quinary 2016'!Q31-'quinary 2011'!Q31","v":-100},{"$f":"'quinary 2016'!R31-'quinary 2011'!R31","v":-71},{"$f":"'quinary 2016'!S31-'quinary 2011'!S31","v":91},{"$f":"'quinary 2016'!T31-'quinary 2011'!T31","v":-16},{"$f":"'quinary 2016'!U31-'quinary 2011'!U31","v":49},{"$f":"'quinary 2016'!V31-'quinary 2011'!V31","v":-93},{"$f":"'quinary 2016'!W31-'quinary 2011'!W31","v":8}]
["Soho","Ladywood","E05001205",{"$f":"'quinary 2016'!D32-'quinary 2011'!D32","v":2400},{"$f":"'quinary 2016'!E32-'quinary 2011'!E32","v":163},{"$f":"'quinary 2016'!F32-'quinary 2011'!F32","v":230},{"$f":"'quinary 2016'!G32-'quinary 2011'!G32","v":278},{"$f":"'quinary 2016'!H32-'quinary 2011'!H32","v":104},{"$f":"'quinary 2016'!I32-'quinary 2011'!I32","v":-21},{"$f":"'quinary 2016'!J32-'quinary 2011'!J32","v":58},{"$f":"'quinary 2016'!K32-'quinary 2011'!K32","v":92},{"$f":"'quinary 2016'!L32-'quinary 2011'!L32","v":321},{"$f":"'quinary 2016'!M32-'quinary 2011'!M32","v":145},{"$f":"'quinary 2016'!N32-'quinary 2011'!N32","v":169},{"$f":"'quinary 2016'!O32-'quinary 2011'!O32","v":286},{"$f":"'quinary 2016'!P32-'quinary 2011'!P32","v":192},{"$f":"'quinary 2016'!Q32-'quinary 2011'!Q32","v":252},{"$f":"'quinary 2016'!R32-'quinary 2011'!R32","v":45},{"$f":"'quinary 2016'!S32-'quinary 2011'!S32","v":-61},{"$f":"'quinary 2016'!T32-'quinary 2011'!T32","v":-7},{"$f":"'quinary 2016'!U32-'quinary 2011'!U32","v":54},{"$f":"'quinary 2016'!V32-'quinary 2011'!V32","v":69},{"$f":"'quinary 2016'!W32-'quinary 2011'!W32","v":31}]
["South Yardley","Yardley","E05001206",{"$f":"'quinary 2016'!D33-'quinary 2011'!D33","v":1577},{"$f":"'quinary 2016'!E33-'quinary 2011'!E33","v":64},{"$f":"'quinary 2016'!F33-'quinary 2011'!F33","v":323},{"$f":"'quinary 2016'!G33-'quinary 2011'!G33","v":284},{"$f":"'quinary 2016'!H33-'quinary 2011'!H33","v":176},{"$f":"'quinary 2016'!I33-'quinary 2011'!I33","v":24},{"$f":"'quinary 2016'!J33-'quinary 2011'!J33","v":161},{"$f":"'quinary 2016'!K33-'quinary 2011'!K33","v":-15},{"$f":"'quinary 2016'!L33-'quinary 2011'!L33","v":164},{"$f":"'quinary 2016'!M33-'quinary 2011'!M33","v":-16},{"$f":"'quinary 2016'!N33-'quinary 2011'!N33","v":-85},{"$f":"'quinary 2016'!O33-'quinary 2011'!O33","v":198},{"$f":"'quinary 2016'!P33-'quinary 2011'!P33","v":214},{"$f":"'quinary 2016'!Q33-'quinary 2011'!Q33","v":79},{"$f":"'quinary 2016'!R33-'quinary 2011'!R33","v":92},{"$f":"'quinary 2016'!S33-'quinary 2011'!S33","v":-63},{"$f":"'quinary 2016'!T33-'quinary 2011'!T33","v":-66},{"$f":"'quinary 2016'!U33-'quinary 2011'!U33","v":-5},{"$f":"'quinary 2016'!V33-'quinary 2011'!V33","v":57},{"$f":"'quinary 2016'!W33-'quinary 2011'!W33","v":-9}]
["Sparkbrook","Hall Green","E05001207",{"$f":"'quinary 2016'!D34-'quinary 2011'!D34","v":912},{"$f":"'quinary 2016'!E34-'quinary 2011'!E34","v":-401},{"$f":"'quinary 2016'!F34-'quinary 2011'!F34","v":-123},{"$f":"'quinary 2016'!G34-'quinary 2011'!G34","v":-53},{"$f":"'quinary 2016'!H34-'quinary 2011'!H34","v":114},{"$f":"'quinary 2016'!I34-'quinary 2011'!I34","v":163},{"$f":"'quinary 2016'!J34-'quinary 2011'!J34","v":-6},{"$f":"'quinary 2016'!K34-'quinary 2011'!K34","v":153},{"$f":"'quinary 2016'!L34-'quinary 2011'!L34","v":136},{"$f":"'quinary 2016'!M34-'quinary 2011'!M34","v":126},{"$f":"'quinary 2016'!N34-'quinary 2011'!N34","v":224},{"$f":"'quinary 2016'!O34-'quinary 2011'!O34","v":98},{"$f":"'quinary 2016'!P34-'quinary 2011'!P34","v":131},{"$f":"'quinary 2016'!Q34-'quinary 2011'!Q34","v":248},{"$f":"'quinary 2016'!R34-'quinary 2011'!R34","v":73},{"$f":"'quinary 2016'!S34-'quinary 2011'!S34","v":-114},{"$f":"'quinary 2016'!T34-'quinary 2011'!T34","v":-77},{"$f":"'quinary 2016'!U34-'quinary 2011'!U34","v":87},{"$f":"'quinary 2016'!V34-'quinary 2011'!V34","v":96},{"$f":"'quinary 2016'!W34-'quinary 2011'!W34","v":37}]
["Springfield","Hall Green","E05001208",{"$f":"'quinary 2016'!D35-'quinary 2011'!D35","v":1973},{"$f":"'quinary 2016'!E35-'quinary 2011'!E35","v":-27},{"$f":"'quinary 2016'!F35-'quinary 2011'!F35","v":142},{"$f":"'quinary 2016'!G35-'quinary 2011'!G35","v":316},{"$f":"'quinary 2016'!H35-'quinary 2011'!H35","v":290},{"$f":"'quinary 2016'!I35-'quinary 2011'!I35","v":110},{"$f":"'quinary 2016'!J35-'quinary 2011'!J35","v":-87},{"$f":"'quinary 2016'!K35-'quinary 2011'!K35","v":44},{"$f":"'quinary 2016'!L35-'quinary 2011'!L35","v":266},{"$f":"'quinary 2016'!M35-'quinary 2011'!M35","v":148},{"$f":"'quinary 2016'!N35-'quinary 2011'!N35","v":404},{"$f":"'quinary 2016'!O35-'quinary 2011'!O35","v":89},{"$f":"'quinary 2016'!P35-'quinary 2011'!P35","v":-71},{"$f":"'quinary 2016'!Q35-'quinary 2011'!Q35","v":230},{"$f":"'quinary 2016'!R35-'quinary 2011'!R35","v":114},{"$f":"'quinary 2016'!S35-'quinary 2011'!S35","v":-84},{"$f":"'quinary 2016'!T35-'quinary 2011'!T35","v":-34},{"$f":"'quinary 2016'!U35-'quinary 2011'!U35","v":30},{"$f":"'quinary 2016'!V35-'quinary 2011'!V35","v":45},{"$f":"'quinary 2016'!W35-'quinary 2011'!W35","v":48}]
["Stechford and Yardley North","Yardley","E05001209",{"$f":"'quinary 2016'!D36-'quinary 2011'!D36","v":1393},{"$f":"'quinary 2016'!E36-'quinary 2011'!E36","v":212},{"$f":"'quinary 2016'!F36-'quinary 2011'!F36","v":324},{"$f":"'quinary 2016'!G36-'quinary 2011'!G36","v":76},{"$f":"'quinary 2016'!H36-'quinary 2011'!H36","v":-17},{"$f":"'quinary 2016'!I36-'quinary 2011'!I36","v":155},{"$f":"'quinary 2016'!J36-'quinary 2011'!J36","v":279},{"$f":"'quinary 2016'!K36-'quinary 2011'!K36","v":202},{"$f":"'quinary 2016'!L36-'quinary 2011'!L36","v":34},{"$f":"'quinary 2016'!M36-'quinary 2011'!M36","v":-229},{"$f":"'quinary 2016'!N36-'quinary 2011'!N36","v":-69},{"$f":"'quinary 2016'!O36-'quinary 2011'!O36","v":159},{"$f":"'quinary 2016'!P36-'quinary 2011'!P36","v":171},{"$f":"'quinary 2016'!Q36-'quinary 2011'!Q36","v":0},{"$f":"'quinary 2016'!R36-'quinary 2011'!R36","v":79},{"$f":"'quinary 2016'!S36-'quinary 2011'!S36","v":46},{"$f":"'quinary 2016'!T36-'quinary 2011'!T36","v":-13},{"$f":"'quinary 2016'!U36-'quinary 2011'!U36","v":-10},{"$f":"'quinary 2016'!V36-'quinary 2011'!V36","v":0},{"$f":"'quinary 2016'!W36-'quinary 2011'!W36","v":-6}]
["Stockland Green","Erdington","E05001210",{"$f":"'quinary 2016'!D37-'quinary 2011'!D37","v":1898},{"$f":"'quinary 2016'!E37-'quinary 2011'!E37","v":140},{"$f":"'quinary 2016'!F37-'quinary 2011'!F37","v":288},{"$f":"'quinary 2016'!G37-'quinary 2011'!G37","v":135},{"$f":"'quinary 2016'!H37-'quinary 2011'!H37","v":12},{"$f":"'quinary 2016'!I37-'quinary 2011'!I37","v":170},{"$f":"'quinary 2016'!J37-'quinary 2011'!J37","v":126},{"$f":"'quinary 2016'!K37-'quinary 2011'!K37","v":396},{"$f":"'quinary 2016'!L37-'quinary 2011'!L37","v":189},{"$f":"'quinary 2016'!M37-'quinary 2011'!M37","v":-107},{"$f":"'quinary 2016'!N37-'quinary 2011'!N37","v":-117},{"$f":"'quinary 2016'!O37-'quinary 2011'!O37","v":309},{"$f":"'quinary 2016'!P37-'quinary 2011'!P37","v":269},{"$f":"'quinary 2016'!Q37-'quinary 2011'!Q37","v":2},{"$f":"'quinary 2016'!R37-'quinary 2011'!R37","v":177},{"$f":"'quinary 2016'!S37-'quinary 2011'!S37","v":-11},{"$f":"'quinary 2016'!T37-'quinary 2011'!T37","v":-20},{"$f":"'quinary 2016'!U37-'quinary 2011'!U37","v":-43},{"$f":"'quinary 2016'!V37-'quinary 2011'!V37","v":31},{"$f":"'quinary 2016'!W37-'quinary 2011'!W37","v":-48}]
["Sutton Four Oaks","Sutton Coldfield","E05001211",{"$f":"'quinary 2016'!D38-'quinary 2011'!D38","v":700},{"$f":"'quinary 2016'!E38-'quinary 2011'!E38","v":97},{"$f":"'quinary 2016'!F38-'quinary 2011'!F38","v":149},{"$f":"'quinary 2016'!G38-'quinary 2011'!G38","v":42},{"$f":"'quinary 2016'!H38-'quinary 2011'!H38","v":25},{"$f":"'quinary 2016'!I38-'quinary 2011'!I38","v":109},{"$f":"'quinary 2016'!J38-'quinary 2011'!J38","v":168},{"$f":"'quinary 2016'!K38-'quinary 2011'!K38","v":-28},{"$f":"'quinary 2016'!L38-'quinary 2011'!L38","v":-112},{"$f":"'quinary 2016'!M38-'quinary 2011'!M38","v":-280},{"$f":"'quinary 2016'!N38-'quinary 2011'!N38","v":-15},{"$f":"'quinary 2016'!O38-'quinary 2011'!O38","v":300},{"$f":"'quinary 2016'!P38-'quinary 2011'!P38","v":49},{"$f":"'quinary 2016'!Q38-'quinary 2011'!Q38","v":-193},{"$f":"'quinary 2016'!R38-'quinary 2011'!R38","v":-22},{"$f":"'quinary 2016'!S38-'quinary 2011'!S38","v":281},{"$f":"'quinary 2016'!T38-'quinary 2011'!T38","v":-74},{"$f":"'quinary 2016'!U38-'quinary 2011'!U38","v":35},{"$f":"'quinary 2016'!V38-'quinary 2011'!V38","v":104},{"$f":"'quinary 2016'!W38-'quinary 2011'!W38","v":65}]
["Sutton New Hall","Sutton Coldfield","E05001212",{"$f":"'quinary 2016'!D39-'quinary 2011'!D39","v":-380},{"$f":"'quinary 2016'!E39-'quinary 2011'!E39","v":-24},{"$f":"'quinary 2016'!F39-'quinary 2011'!F39","v":-5},{"$f":"'quinary 2016'!G39-'quinary 2011'!G39","v":-170},{"$f":"'quinary 2016'!H39-'quinary 2011'!H39","v":-102},{"$f":"'quinary 2016'!I39-'quinary 2011'!I39","v":-15},{"$f":"'quinary 2016'!J39-'quinary 2011'!J39","v":23},{"$f":"'quinary 2016'!K39-'quinary 2011'!K39","v":-64},{"$f":"'quinary 2016'!L39-'quinary 2011'!L39","v":-170},{"$f":"'quinary 2016'!M39-'quinary 2011'!M39","v":-285},{"$f":"'quinary 2016'!N39-'quinary 2011'!N39","v":-191},{"$f":"'quinary 2016'!O39-'quinary 2011'!O39","v":63},{"$f":"'quinary 2016'!P39-'quinary 2011'!P39","v":-14},{"$f":"'quinary 2016'!Q39-'quinary 2011'!Q39","v":-160},{"$f":"'quinary 2016'!R39-'quinary 2011'!R39","v":316},{"$f":"'quinary 2016'!S39-'quinary 2011'!S39","v":282},{"$f":"'quinary 2016'!T39-'quinary 2011'!T39","v":19},{"$f":"'quinary 2016'!U39-'quinary 2011'!U39","v":-37},{"$f":"'quinary 2016'!V39-'quinary 2011'!V39","v":87},{"$f":"'quinary 2016'!W39-'quinary 2011'!W39","v":67}]
["Sutton Trinity","Sutton Coldfield","E05001213",{"$f":"'quinary 2016'!D40-'quinary 2011'!D40","v":-126},{"$f":"'quinary 2016'!E40-'quinary 2011'!E40","v":140},{"$f":"'quinary 2016'!F40-'quinary 2011'!F40","v":-6},{"$f":"'quinary 2016'!G40-'quinary 2011'!G40","v":-157},{"$f":"'quinary 2016'!H40-'quinary 2011'!H40","v":-259},{"$f":"'quinary 2016'!I40-'quinary 2011'!I40","v":131},{"$f":"'quinary 2016'!J40-'quinary 2011'!J40","v":118},{"$f":"'quinary 2016'!K40-'quinary 2011'!K40","v":61},{"$f":"'quinary 2016'!L40-'quinary 2011'!L40","v":-140},{"$f":"'quinary 2016'!M40-'quinary 2011'!M40","v":-250},{"$f":"'quinary 2016'!N40-'quinary 2011'!N40","v":-236},{"$f":"'quinary 2016'!O40-'quinary 2011'!O40","v":142},{"$f":"'quinary 2016'!P40-'quinary 2011'!P40","v":155},{"$f":"'quinary 2016'!Q40-'quinary 2011'!Q40","v":-140},{"$f":"'quinary 2016'!R40-'quinary 2011'!R40","v":87},{"$f":"'quinary 2016'!S40-'quinary 2011'!S40","v":201},{"$f":"'quinary 2016'!T40-'quinary 2011'!T40","v":-54},{"$f":"'quinary 2016'!U40-'quinary 2011'!U40","v":-33},{"$f":"'quinary 2016'!V40-'quinary 2011'!V40","v":65},{"$f":"'quinary 2016'!W40-'quinary 2011'!W40","v":49}]
["Sutton Vesey","Sutton Coldfield","E05001214",{"$f":"'quinary 2016'!D41-'quinary 2011'!D41","v":-285},{"$f":"'quinary 2016'!E41-'quinary 2011'!E41","v":146},{"$f":"'quinary 2016'!F41-'quinary 2011'!F41","v":63},{"$f":"'quinary 2016'!G41-'quinary 2011'!G41","v":-133},{"$f":"'quinary 2016'!H41-'quinary 2011'!H41","v":-212},{"$f":"'quinary 2016'!I41-'quinary 2011'!I41","v":-14},{"$f":"'quinary 2016'!J41-'quinary 2011'!J41","v":47},{"$f":"'quinary 2016'!K41-'quinary 2011'!K41","v":22},{"$f":"'quinary 2016'!L41-'quinary 2011'!L41","v":-81},{"$f":"'quinary 2016'!M41-'quinary 2011'!M41","v":-263},{"$f":"'quinary 2016'!N41-'quinary 2011'!N41","v":-307},{"$f":"'quinary 2016'!O41-'quinary 2011'!O41","v":125},{"$f":"'quinary 2016'!P41-'quinary 2011'!P41","v":122},{"$f":"'quinary 2016'!Q41-'quinary 2011'!Q41","v":-143},{"$f":"'quinary 2016'!R41-'quinary 2011'!R41","v":90},{"$f":"'quinary 2016'!S41-'quinary 2011'!S41","v":121},{"$f":"'quinary 2016'!T41-'quinary 2011'!T41","v":12},{"$f":"'quinary 2016'!U41-'quinary 2011'!U41","v":17},{"$f":"'quinary 2016'!V41-'quinary 2011'!V41","v":80},{"$f":"'quinary 2016'!W41-'quinary 2011'!W41","v":23}]
["Tyburn","Erdington","E05001215",{"$f":"'quinary 2016'!D42-'quinary 2011'!D42","v":160},{"$f":"'quinary 2016'!E42-'quinary 2011'!E42","v":42},{"$f":"'quinary 2016'!F42-'quinary 2011'!F42","v":28},{"$f":"'quinary 2016'!G42-'quinary 2011'!G42","v":-95},{"$f":"'quinary 2016'!H42-'quinary 2011'!H42","v":-157},{"$f":"'quinary 2016'!I42-'quinary 2011'!I42","v":166},{"$f":"'quinary 2016'!J42-'quinary 2011'!J42","v":135},{"$f":"'quinary 2016'!K42-'quinary 2011'!K42","v":90},{"$f":"'quinary 2016'!L42-'quinary 2011'!L42","v":-152},{"$f":"'quinary 2016'!M42-'quinary 2011'!M42","v":-375},{"$f":"'quinary 2016'!N42-'quinary 2011'!N42","v":-58},{"$f":"'quinary 2016'!O42-'quinary 2011'!O42","v":343},{"$f":"'quinary 2016'!P42-'quinary 2011'!P42","v":209},{"$f":"'quinary 2016'!Q42-'quinary 2011'!Q42","v":55},{"$f":"'quinary 2016'!R42-'quinary 2011'!R42","v":-63},{"$f":"'quinary 2016'!S42-'quinary 2011'!S42","v":-28},{"$f":"'quinary 2016'!T42-'quinary 2011'!T42","v":-98},{"$f":"'quinary 2016'!U42-'quinary 2011'!U42","v":37},{"$f":"'quinary 2016'!V42-'quinary 2011'!V42","v":51},{"$f":"'quinary 2016'!W42-'quinary 2011'!W42","v":30}]
["Washwood Heath","Hodge Hill","E05001216",{"$f":"'quinary 2016'!D43-'quinary 2011'!D43","v":2227},{"$f":"'quinary 2016'!E43-'quinary 2011'!E43","v":-4},{"$f":"'quinary 2016'!F43-'quinary 2011'!F43","v":-43},{"$f":"'quinary 2016'!G43-'quinary 2011'!G43","v":161},{"$f":"'quinary 2016'!H43-'quinary 2011'!H43","v":375},{"$f":"'quinary 2016'!I43-'quinary 2011'!I43","v":329},{"$f":"'quinary 2016'!J43-'quinary 2011'!J43","v":103},{"$f":"'quinary 2016'!K43-'quinary 2011'!K43","v":-35},{"$f":"'quinary 2016'!L43-'quinary 2011'!L43","v":291},{"$f":"'quinary 2016'!M43-'quinary 2011'!M43","v":191},{"$f":"'quinary 2016'!N43-'quinary 2011'!N43","v":472},{"$f":"'quinary 2016'!O43-'quinary 2011'!O43","v":147},{"$f":"'quinary 2016'!P43-'quinary 2011'!P43","v":-29},{"$f":"'quinary 2016'!Q43-'quinary 2011'!Q43","v":261},{"$f":"'quinary 2016'!R43-'quinary 2011'!R43","v":108},{"$f":"'quinary 2016'!S43-'quinary 2011'!S43","v":-170},{"$f":"'quinary 2016'!T43-'quinary 2011'!T43","v":-77},{"$f":"'quinary 2016'!U43-'quinary 2011'!U43","v":41},{"$f":"'quinary 2016'!V43-'quinary 2011'!V43","v":82},{"$f":"'quinary 2016'!W43-'quinary 2011'!W43","v":24}]
["Weoley","Northfield","E05001217",{"$f":"'quinary 2016'!D44-'quinary 2011'!D44","v":467},{"$f":"'quinary 2016'!E44-'quinary 2011'!E44","v":24},{"$f":"'quinary 2016'!F44-'quinary 2011'!F44","v":263},{"$f":"'quinary 2016'!G44-'quinary 2011'!G44","v":-12},{"$f":"'quinary 2016'!H44-'quinary 2011'!H44","v":-224},{"$f":"'quinary 2016'!I44-'quinary 2011'!I44","v":121},{"$f":"'quinary 2016'!J44-'quinary 2011'!J44","v":168},{"$f":"'quinary 2016'!K44-'quinary 2011'!K44","v":-53},{"$f":"'quinary 2016'!L44-'quinary 2011'!L44","v":-24},{"$f":"'quinary 2016'!M44-'quinary 2011'!M44","v":-226},{"$f":"'quinary 2016'!N44-'quinary 2011'!N44","v":19},{"$f":"'quinary 2016'!O44-'quinary 2011'!O44","v":112},{"$f":"'quinary 2016'!P44-'quinary 2011'!P44","v":126},{"$f":"'quinary 2016'!Q44-'quinary 2011'!Q44","v":-1},{"$f":"'quinary 2016'!R44-'quinary 2011'!R44","v":25},{"$f":"'quinary 2016'!S44-'quinary 2011'!S44","v":90},{"$f":"'quinary 2016'!T44-'quinary 2011'!T44","v":-35},{"$f":"'quinary 2016'!U44-'quinary 2011'!U44","v":-49},{"$f":"'quinary 2016'!V44-'quinary 2011'!V44","v":63},{"$f":"'quinary 2016'!W44-'quinary 2011'!W44","v":80}]
["Birmingham",null,null,{"$f":"'quinary 2016'!D45-'quinary 2011'!D45","v":50286},{"$f":"'quinary 2016'!E45-'quinary 2011'!E45","v":3710},{"$f":"'quinary 2016'!F45-'quinary 2011'!F45","v":6833},{"$f":"'quinary 2016'!G45-'quinary 2011'!G45","v":1397},{"$f":"'quinary 2016'!H45-'quinary 2011'!H45","v":1000},{"$f":"'quinary 2016'!I45-'quinary 2011'!I45","v":9057},{"$f":"'quinary 2016'!J45-'quinary 2011'!J45","v":6077},{"$f":"'quinary 2016'!K45-'quinary 2011'!K45","v":2474},{"$f":"'quinary 2016'!L45-'quinary 2011'!L45","v":3284},{"$f":"'quinary 2016'!M45-'quinary 2011'!M45","v":-4135},{"$f":"'quinary 2016'!N45-'quinary 2011'!N45","v":961},{"$f":"'quinary 2016'!O45-'quinary 2011'!O45","v":7284},{"$f":"'quinary 2016'!P45-'quinary 2011'!P45","v":4958},{"$f":"'quinary 2016'!Q45-'quinary 2011'!Q45","v":435},{"$f":"'quinary 2016'!R45-'quinary 2011'!R45","v":3900},{"$f":"'quinary 2016'!S45-'quinary 2011'!S45","v":1452},{"$f":"'quinary 2016'!T45-'quinary 2011'!T45","v":-740},{"$f":"'quinary 2016'!U45-'quinary 2011'!U45","v":407},{"$f":"'quinary 2016'!V45-'quinary 2011'!V45","v":932},{"$f":"'quinary 2016'!W45-'quinary 2011'!W45","v":1000}]
["Office for National Statistics, Crown Copyright 2017"]
[]
["Service Development Team"]
["Planning & Regeneration"]
["www.birmingham.gov.uk/census"]
["population.census@birmingham.gov.uk"]
["0121 303 4208"]

{"sheet":"2011 change percent","index":5,"n_rows":52,"n_cols":23,"rows_kept":52,"cut":false,"hidden":true,"merged":[]}
["2011 - 2015 Birmingham ward population change (percent)"]
["five-year age groups"]
["Ward Name","Constituency","code","All Ages","0-4","5-9","10-14","15-19","20-24","25-29","30-34","35-39","40-44","45-49","50-54","55-59","60-64","65-69","70-74","75-79","80-84","85-89","90+"]
[]
["Acocks Green","Yardley","E05001178",{"$f":"'quinary change 2011_15 num'!D5/'quinary 2011'!D5*100","v":3.7847344354555048},{"$f":"'quinary change 2011_15 num'!E5/'quinary 2011'!E5*100","v":2.3635582294800175},{"$f":"'quinary change 2011_15 num'!F5/'quinary 2011'!F5*100","v":16.262975778546711},{"$f":"'quinary change 2011_15 num'!G5/'quinary 2011'!G5*100","v":-3.3630069238377844},{"$f":"'quinary change 2011_15 num'!H5/'quinary 2011'!H5*100","v":0.88278567925453644},{"$f":"'quinary change 2011_15 num'!I5/'quinary 2011'!I5*100","v":5.2178318135764945},{"$f":"'quinary change 2011_15 num'!J5/'quinary 2011'!J5*100","v":5.6756756756756763},{"$f":"'quinary change 2011_15 num'!K5/'quinary 2011'!K5*100","v":-4.4523597506678537E-2},{"$f":"'quinary change 2011_15 num'!L5/'quinary 2011'!L5*100","v":5.7246003094378546},{"$f":"'quinary change 2011_15 num'!M5/'quinary 2011'!M5*100","v":-10.510805500982318},{"$f":"'quinary change 2011_15 num'!N5/'quinary 2011'!N5*100","v":4.8600105652403593},{"$f":"'quinary change 2011_15 num'!O5/'quinary 2011'!O5*100","v":14.765525982256019},{"$f":"'quinary change 2011_15 num'!P5/'quinary 2011'!P5*100","v":20.095313741064334},{"$f":"'quinary change 2011_15 num'!Q5/'quinary 2011'!Q5*100","v":1.2798634812286689},{"$f":"'quinary change 2011_15 num'!R5/'quinary 2011'!R5*100","v":11.180124223602485},{"$f":"'quinary change 2011_15 num'!S5/'quinary 2011'!S5*100","v":-1.6646848989298455},{"$f":"'quinary change 2011_15 num'!T5/'quinary 2011'!T5*100","v":-1.6877637130801686},{"$f":"'quinary change 2011_15 num'!U5/'quinary 2011'!U5*100","v":-12.807881773399016},{"$f":"'quinary change 2011_15 num'!V5/'quinary 2011'!V5*100","v":2.6706231454005933},{"$f":"'quinary change 2011_15 num'!W5/'quinary 2011'!W5*100","v":4.6218487394957988}]
["Aston","Ladywood","E05001179",{"$f":"'quinary change 2011_15 num'!D6/'quinary 2011'!D6*100","v":5.9982703236965653},{"$f":"'quinary change 2011_15 num'!E6/'quinary 2011'!E6*100","v":-3.1721105527638191},{"$f":"'quinary change 2011_15 num'!F6/'quinary 2011'!F6*100","v":3.6555360281195077},{"$f":"'quinary change 2011_15 num'!G6/'quinary 2011'!G6*100","v":4.247391952309985},{"$f":"'quinary change 2011_15 num'!H6/'quinary 2011'!H6*100","v":6.6598360655737707},{"$f":"'quinary change 2011_15 num'!I6/'quinary 2011'!I6*100","v":-0.44042651831247098},{"$f":"'quinary change 2011_15 num'!J6/'quinary 2011'!J6*100","v":1.8465909090909092},{"$f":"'quinary change 2011_15 num'!K6/'quinary 2011'!K6*100","v":4.3925603482390185},{"$f":"'quinary change 2011_15 num'!L6/'quinary 2011'!L6*100","v":10.941828254847644},{"$f":"'quinary change 2011_15 num'!M6/'quinary 2011'!M6*100","v":8.2993890020366603},{"$f":"'quinary change 2011_15 num'!N6/'quinary 2011'!N6*100","v":13.595933926302415},{"$f":"'quinary change 2011_15 num'!O6/'quinary 2011'!O6*100","v":23.755102040816325},{"$f":"'quinary change 2011_15 num'!P6/'quinary 2011'!P6*100","v":13.537549407114625},{"$f":"'quinary change 2011_15 num'!Q6/'quinary 2011'!Q6*100","v":40.16393442622951},{"$f":"'quinary change 2011_15 num'!R6/'quinary 2011'!R6*100","v":20},{"$f":"'quinary change 2011_15 num'!S6/'quinary 2011'!S6*100","v":-24.418604651162788},{"$f":"'quinary change 2011_15 num'!T6/'quinary 2011'!T6*100","v":-1.8214936247723135},{"$f":"'quinary change 2011_15 num'!U6/'quinary 2011'!U6*100","v":7.8947368421052628},{"$f":"'quinary change 2011_15 num'!V6/'quinary 2011'!V6*100","v":59.090909090909093},{"$f":"'quinary change 2011_15 num'!W6/'quinary 2011'!W6*100","v":128.37837837837839}]
["Bartley Green","Edgbaston","E05001180",{"$f":"'quinary change 2011_15 num'!D7/'quinary 2011'!D7*100","v":3.5159999999999996},{"$f":"'quinary change 2011_15 num'!E7/'quinary 2011'!E7*100","v":9.675645959318306},{"$f":"'quinary change 2011_15 num'!F7/'quinary 2011'!F7*100","v":17.915106117353307},{"$f":"'quinary change 2011_15 num'!G7/'quinary 2011'!G7*100","v":-2.5},{"$f":"'quinary change 2011_15 num'!H7/'quinary 2011'!H7*100","v":-6.0589216231239575},{"$f":"'quinary change 2011_15 num'!I7/'quinary 2011'!I7*100","v":7.1182548794489096},{"$f":"'quinary change 2011_15 num'!J7/'quinary 2011'!J7*100","v":9.190505173463178},{"$f":"'quinary change 2011_15 num'!K7/'quinary 2011'!K7*100","v":-3.8990825688073398},{"$f":"'quinary change 2011_15 num'!L7/'quinary 2011'!L7*100","v":0.47961630695443641},{"$f":"'quinary change 2011_15 num'!M7/'quinary 2011'!M7*100","v":-1.6568047337278107},{"$f":"'quinary change 2011_15 num'!N7/'quinary 2011'!N7*100","v":-3.2520325203252036},{"$f":"'quinary change 2011_15 num'!O7/'quinary 2011'!O7*100","v":11.975642760487144},{"$f":"'quinary change 2011_15 num'!P7/'quinary 2011'!P7*100","v":0.28530670470756064},{"$f":"'quinary change 2011_15 num'!Q7/'quinary 2011'!Q7*100","v":-11.712931618144887},{"$f":"'quinary change 2011_15 num'!R7/'quinary 2011'!R7*100","v":20.963425512934879},{"$f":"'quinary change 2011_15 num'!S7/'quinary 2011'!S7*100","v":30.401034928848642},{"$f":"'quinary change 2011_15 num'!T7/'quinary 2011'!T7*100","v":-1.9969278033794162},{"$f":"'quinary change 2011_15 num'!U7/'quinary 2011'!U7*100","v":-10.387323943661972},{"$f":"'quinary change 2011_15 num'!V7/'quinary 2011'!V7*100","v":4.7761194029850751},{"$f":"'quinary change 2011_15 num'!W7/'quinary 2011'!W7*100","v":6.5088757396449708}]
["Billesley","Selly Oak","E05001181",{"$f":"'quinary change 2011_15 num'!D8/'quinary 2011'!D8*100","v":1.3968899431454498},{"$f":"'quinary change 2011_15 num'!E8/'quinary 2011'!E8*100","v":13.562970936490851},{"$f":"'quinary change 2011_15 num'!F8/'quinary 2011'!F8*100","v":11.301775147928995},{"$f":"'quinary change 2011_15 num'!G8/'quinary 2011'!G8*100","v":-10.304324612920448},{"$f":"'quinary change 2011_15 num'!H8/'quinary 2011'!H8*100","v":-7.9186730872124134},{"$f":"'quinary change 2011_15 num'!I8/'quinary 2011'!I8*100","v":-1.7513134851138354},{"$f":"'quinary change 2011_15 num'!J8/'quinary 2011'!J8*100","v":11.147011308562197},{"$f":"'quinary change 2011_15 num'!K8/'quinary 2011'!K8*100","v":8.8888888888888893},{"$f":"'quinary change 2011_15 num'!L8/'quinary 2011'!L8*100","v":4.2771084337349397},{"$f":"'quinary change 2011_15 num'!M8/'quinary 2011'!M8*100","v":-20.905172413793103},{"$f":"'quinary change 2011_15 num'!N8/'quinary 2011'!N8*100","v":-8.4603258013662632},{"$f":"'quinary change 2011_15 num'!O8/'quinary 2011'!O8*100","v":7.2202166064981945},{"$f":"'quinary change 2011_15 num'!P8/'quinary 2011'!P8*100","v":8.304011259676285},{"$f":"'quinary change 2011_15 num'!Q8/'quinary 2011'!Q8*100","v":2.2590361445783134},{"$f":"'quinary change 2011_15 num'!R8/'quinary 2011'!R8*100","v":17.579250720461097},{"$f":"'quinary change 2011_15 num'!S8/'quinary 2011'!S8*100","v":-5.02092050209205},{"$f":"'quinary change 2011_15 num'!T8/'quinary 2011'!T8*100","v":-0.48309178743961351},{"$f":"'quinary change 2011_15 num'!U8/'quinary 2011'!U8*100","v":-0.77160493827160492},{"$f":"'quinary change 2011_15 num'!V8/'quinary 2011'!V8*100","v":-10.730593607305936},{"$f":"'quinary change 2011_15 num'!W8/'quinary 2011'!W8*100","v":33.004926108374384}]
["Bordesley Green","Hodge Hill","E05001182",{"$f":"'quinary change 2011_15 num'!D9/'quinary 2011'!D9*100","v":5.7166358215093558},{"$f":"'quinary change 2011_15 num'!E9/'quinary 2011'!E9*100","v":-1.470988831381095},{"$f":"'quinary change 2011_15 num'!F9/'quinary 2011'!F9*100","v":3.0760780005492996},{"$f":"'quinary change 2011_15 num'!G9/'quinary 2011'!G9*100","v":5.9210526315789469},{"$f":"'quinary change 2011_15 num'!H9/'quinary 2011'!H9*100","v":12.570108874958761},{"$f":"'quinary change 2011_15 num'!I9/'quinary 2011'!I9*100","v":9.4172134311076814},{"$f":"'quinary change 2011_15 num'!J9/'quinary 2011'!J9*100","v":-2.8087864602088586},{"$f":"'quinary change 2011_15 num'!K9/'quinary 2011'!K9*100","v":0.59303187546330616},{"$f":"'quinary change 2011_15 num'!L9/'quinary 2011'!L9*100","v":5.8427910886927279},{"$f":"'quinary change 2011_15 num'!M9/'quinary 2011'!M9*100","v":5.5452865064695009},{"$f":"'quinary change 2011_15 num'!N9/'quinary 2011'!N9*100","v":32.948369565217391},{"$f":"'quinary change 2011_15 num'!O9/'quinary 2011'!O9*100","v":7.0082893745290127},{"$f":"'quinary change 2011_15 num'!P9/'quinary 2011'!P9*100","v":8.5537918871252199},{"$f":"'quinary change 2011_15 num'!Q9/'quinary 2011'!Q9*100","v":32.449494949494948},{"$f":"'quinary change 2011_15 num'!R9/'quinary 2011'!R9*100","v":9.4098883572567775},{"$f":"'quinary change 2011_15 num'!S9/'quinary 2011'!S9*100","v":-26.225165562913904},{"$f":"'quinary change 2011_15 num'!T9/'quinary 2011'!T9*100","v":-12.447552447552447},{"$f":"'quinary change 2011_15 num'!U9/'quinary 2011'!U9*100","v":14.254859611231103},{"$f":"'quinary change 2011_15 num'!V9/'quinary 2011'!V9*100","v":37.5},{"$f":"'quinary change 2011_15 num'!W9/'quinary 2011'!W9*100","v":12.962962962962962}]
["Bournville","Selly Oak","E05001183",{"$f":"'quinary change 2011_15 num'!D10/'quinary 2011'!D10*100","v":-0.45079756492255529},{"$f":"'quinary change 2011_15 num'!E10/'quinary 2011'!E10*100","v":1.0889292196007259},{"$f":"'quinary change 2011_15 num'!F10/'quinary 2011'!F10*100","v":13.288135593220337},{"$f":"'quinary change 2011_15 num'!G10/'quinary 2011'!G10*100","v":-5.3735255570117957},{"$f":"'quinary change 2011_15 num'!H10/'quinary 2011'!H10*100","v":-12.002526847757423},{"$f":"'quinary change 2011_15 num'!I10/'quinary 2011'!I10*100","v":2.5930851063829787},{"$f":"'quinary change 2011_15 num'!J10/'quinary 2011'!J10*100","v":-3.8882803943044908},{"$f":"'quinary change 2011_15 num'!K10/'quinary 2011'!K10*100","v":-2.0054200542005423},{"$f":"'quinary change 2011_15 num'!L10/'quinary 2011'!L10*100","v":-2.6867275658248255},{"$f":"'quinary change 2011_15 num'!M10/'quinary 2011'!M10*100","v":-15.267175572519085},{"$f":"'quinary change 2011_15 num'!N10/'quinary 2011'!N10*100","v":-6.9551777434312205},{"$f":"'quinary change 2011_15 num'!O10/'quinary 2011'!O10*100","v":11.267605633802818},{"$f":"'quinary change 2011_15 num'!P10/'quinary 2011'!P10*100","v":4.5545880776959136},{"$f":"'quinary change 2011_15 num'!Q10/'quinary 2011'!Q10*100","v":-6.0483870967741939},{"$f":"'quinary change 2011_15 num'!R10/'quinary 2011'!R10*100","v":18.372703412073491},{"$f":"'quinary change 2011_15 num'!S10/'quinary 2011'!S10*100","v":12.641083521444695},{"$f":"'quinary change 2011_15 num'!T10/'quinary 2011'!T10*100","v":4.3596730245231603},{"$f":"'quinary change 2011_15 num'!U10/'quinary 2011'!U10*100","v":-6.8471337579617835},{"$f":"'quinary change 2011_15 num'!V10/'quinary 2011'!V10*100","v":0},{"$f":"'quinary change 2011_15 num'!W10/'quinary 2011'!W10*100","v":5.4263565891472867}]
["Brandwood","Selly Oak","E05001184",{"$f":"'quinary change 2011_15 num'!D11/'quinary 2011'!D11*100","v":0.59109469181411622},{"$f":"'quinary change 2011_15 num'!E11/'quinary 2011'!E11*100","v":4.0603852160333158},{"$f":"'quinary change 2011_15 num'!F11/'quinary 2011'!F11*100","v":9.1020158827122799},{"$f":"'quinary change 2011_15 num'!G11/'quinary 2011'!G11*100","v":-5.298013245033113},{"$f":"'quinary change 2011_15 num'!H11/'quinary 2011'!H11*100","v":-7.1216617210682491},{"$f":"'quinary change 2011_15 num'!I11/'quinary 2011'!I11*100","v":6.4729194187582566},{"$f":"'quinary change 2011_15 num'!J11/'quinary 2011'!J11*100","v":8.9133089133089136},{"$f":"'quinary change 2011_15 num'!K11/'quinary 2011'!K11*100","v":-7.8536847767617006},{"$f":"'quinary change 2011_15 num'!L11/'quinary 2011'!L11*100","v":-3.6020583190394513},{"$f":"'quinary change 2011_15 num'!M11/'quinary 2011'!M11*100","v":-15.447154471544716},{"$f":"'quinary change 2011_15 num'!N11/'quinary 2011'!N11*100","v":-1.0281385281385282},{"$f":"'quinary change 2011_15 num'!O11/'quinary 2011'!O11*100","v":11.58497772119669},{"$f":"'quinary change 2011_15 num'!P11/'quinary 2011'!P11*100","v":8.0118694362017813},{"$f":"'quinary change 2011_15 num'!Q11/'quinary 2011'!Q11*100","v":-6.2360801781737196},{"$f":"'quinary change 2011_15 num'!R11/'quinary 2011'!R11*100","v":6.1685490877497831},{"$f":"'quinary change 2011_15 num'!S11/'quinary 2011'!S11*100","v":5.9811122770199372},{"$f":"'quinary change 2011_15 num'!T11/'quinary 2011'!T11*100","v":8.3223249669749002},{"$f":"'quinary change 2011_15 num'!U11/'quinary 2011'!U11*100","v":-8.8039867109634553},{"$f":"'quinary change 2011_15 num'!V11/'quinary 2011'!V11*100","v":9.0090090090090094},{"$f":"'quinary change 2011_15 num'!W11/'quinary 2011'!W11*100","v":27.167630057803464}]
["Edgbaston","Edgbaston","E05001185",{"$f":"'quinary change 2011_15 num'!D12/'quinary 2011'!D12*100","v":14.372015184293236},{"$f":"'quinary change 2011_15 num'!E12/'quinary 2011'!E12*100","v":17.041522491349482},{"$f":"'quinary change 2011_15 num'!F12/'quinary 2011'!F12*100","v":41.317365269461078},{"$f":"'quinary change 2011_15 num'!G12/'quinary 2011'!G12*100","v":5.2921719955898565},{"$f":"'quinary change 2011_15 num'!H12/'quinary 2011'!H12*100","v":16.981583353264771},{"$f":"'quinary change 2011_15 num'!I12/'quinary 2011'!I12*100","v":23.513586225450634},{"$f":"'quinary change 2011_15 num'!J12/'quinary 2011'!J12*100","v":16.835610401057735},{"$f":"'quinary change 2011_15 num'!K12/'quinary 2011'!K12*100","v":7.1823204419889501},{"$f":"'quinary change 2011_15 num'!L12/'quinary 2011'!L12*100","v":13.795620437956204},{"$f":"'quinary change 2011_15 num'!M12/'quinary 2011'!M12*100","v":10.112359550561797},{"$f":"'quinary change 2011_15 num'!N12/'quinary 2011'!N12*100","v":10.084033613445378},{"$f":"'quinary change 2011_15 num'!O12/'quinary 2011'!O12*100","v":18.518518518518519},{"$f":"'quinary change 2011_15 num'!P12/'quinary 2011'!P12*100","v":4.3203371970495255},{"$f":"'quinary change 2011_15 num'!Q12/'quinary 2011'!Q12*100","v":-8.2463465553235906},{"$f":"'quinary change 2011_15 num'!R12/'quinary 2011'!R12*100","v":5.6962025316455698},{"$f":"'quinary change 2011_15 num'!S12/'quinary 2011'!S12*100","v":6.25},{"$f":"'quinary change 2011_15 num'!T12/'quinary 2011'!T12*100","v":24.145299145299145},{"$f":"'quinary change 2011_15 num'!U12/'quinary 2011'!U12*100","v":-8.0684596577017107},{"$f":"'quinary change 2011_15 num'!V12/'quinary 2011'!V12*100","v":13.309352517985612},{"$f":"'quinary change 2011_15 num'!W12/'quinary 2011'!W12*100","v":21.476510067114095}]
["Erdington","Erdington","E05001186",{"$f":"'quinary change 2011_15 num'!D13/'quinary 2011'!D13*100","v":5.7845802999736868},{"$f":"'quinary change 2011_15 num'!E13/'quinary 2011'!E13*100","v":13.921800947867299},{"$f":"'quinary change 2011_15 num'!F13/'quinary 2011'!F13*100","v":27.073552425665103},{"$f":"'quinary change 2011_15 num'!G13/'quinary 2011'!G13*100","v":3.0744336569579289},{"$f":"'quinary change 2011_15 num'!H13/'quinary 2011'!H13*100","v":-9.9275362318840585},{"$f":"'quinary change 2011_15 num'!I13/'quinary 2011'!I13*100","v":6.9669247009148494},{"$f":"'quinary change 2011_15 num'!J13/'quinary 2011'!J13*100","v":9.359047078842881},{"$f":"'quinary change 2011_15 num'!K13/'quinary 2011'!K13*100","v":12.446873102610807},{"$f":"'quinary change 2011_15 num'!L13/'quinary 2011'!L13*100","v":9.4666666666666668},{"$f":"'quinary change 2011_15 num'!M13/'quinary 2011'!M13*100","v":-12.414223331253899},{"$f":"'quinary change 2011_15 num'!N13/'quinary 2011'!N13*100","v":-8.4223013048635824},{"$f":"'quinary change 2011_15 num'!O13/'quinary 2011'!O13*100","v":8.5470085470085468},{"$f":"'quinary change 2011_15 num'!P13/'quinary 2011'!P13*100","v":18.921161825726141},{"$f":"'quinary change 2011_15 num'!Q13/'quinary 2011'!Q13*100","v":-0.60085836909871249},{"$f":"'quinary change 2011_15 num'!R13/'quinary 2011'!R13*100","v":7.1856287425149699},{"$f":"'quinary change 2011_15 num'!S13/'quinary 2011'!S13*100","v":15.861214374225527},{"$f":"'quinary change 2011_15 num'!T13/'quinary 2011'!T13*100","v":-8.4112149532710276},{"$f":"'quinary change 2011_15 num'!U13/'quinary 2011'!U13*100","v":12.433392539964476},{"$f":"'quinary change 2011_15 num'!V13/'quinary 2011'!V13*100","v":-6.75},{"$f":"'quinary change 2011_15 num'!W13/'quinary 2011'!W13*100","v":19.148936170212767}]
["Hall Green","Hall Green","E05001187",{"$f":"'quinary change 2011_15 num'!D14/'quinary 2011'!D14*100","v":2.6841070618478753},{"$f":"'quinary change 2011_15 num'!E14/'quinary 2011'!E14*100","v":3.7301151947339553},{"$f":"'quinary change 2011_15 num'!F14/'quinary 2011'!F14*100","v":8.8607594936708853},{"$f":"'quinary change 2011_15 num'!G14/'quinary 2011'!G14*100","v":1.9682886823400765},{"$f":"'quinary change 2011_15 num'!H14/'quinary 2011'!H14*100","v":2.6702997275204359},{"$f":"'quinary change 2011_15 num'!I14/'quinary 2011'!I14*100","v":4.9273531269740998},{"$f":"'quinary change 2011_15 num'!J14/'quinary 2011'!J14*100","v":5.710886377156454},{"$f":"'quinary change 2011_15 num'!K14/'quinary 2011'!K14*100","v":-1.3363028953229399},{"$f":"'quinary change 2011_15 num'!L14/'quinary 2011'!L14*100","v":-0.28121484814398201},{"$f":"'quinary change 2011_15 num'!M14/'quinary 2011'!M14*100","v":-5.5555555555555554},{"$f":"'quinary change 2011_15 num'!N14/'quinary 2011'!N14*100","v":-0.59847660500544064},{"$f":"'quinary change 2011_15 num'!O14/'quinary 2011'!O14*100","v":3.3490011750881314},{"$f":"'quinary change 2011_15 num'!P14/'quinary 2011'!P14*100","v":5.2881355932203391},{"$f":"'quinary change 2011_15 num'!Q14/'quinary 2011'!Q14*100","v":0.36900369003690037},{"$f":"'quinary change 2011_15 num'!R14/'quinary 2011'!R14*100","v":5.0921861281826164},{"$f":"'quinary change 2011_15 num'!S14/'quinary 2011'!S14*100","v":16.515837104072396},{"$f":"'quinary change 2011_15 num'!T14/'quinary 2011'!T14*100","v":-8.8622754491017961},{"$f":"'quinary change 2011_15 num'!U14/'quinary 2011'!U14*100","v":3.0864197530864197},{"$f":"'quinary change 2011_15 num'!V14/'quinary 2011'!V14*100","v":23.579545454545457},{"$f":"'quinary change 2011_15 num'!W14/'quinary 2011'!W14*100","v":-3.125}]
["Handsworth Wood","Perry Barr","E05001188",{"$f":"'quinary change 2011_15 num'!D15/'quinary 2011'!D15*100","v":2.9743516057188017},{"$f":"'quinary change 2011_15 num'!E15/'quinary 2011'!E15*100","v":5.6692913385826769},{"$f":"'quinary change 2011_15 num'!F15/'quinary 2011'!F15*100","v":3.9548022598870061},{"$f":"'quinary change 2011_15 num'!G15/'quinary 2011'!G15*100","v":3.3790918690601899},{"$f":"'quinary change 2011_15 num'!H15/'quinary 2011'!H15*100","v":-8.8636363636363633},{"$f":"'quinary change 2011_15 num'!I15/'quinary 2011'!I15*100","v":1.4744145706851692},{"$f":"'quinary change 2011_15 num'!J15/'quinary 2011'!J15*100","v":-5.223585278986941},{"$f":"'quinary change 2011_15 num'!K15/'quinary 2011'!K15*100","v":5.24822695035461},{"$f":"'quinary change 2011_15 num'!L15/'quinary 2011'!L15*100","v":8.3552285864424594},{"$f":"'quinary change 2011_15 num'!M15/'quinary 2011'!M15*100","v":-1.3326226012793176},{"$f":"'quinary change 2011_15 num'!N15/'quinary 2011'!N15*100","v":-5.0256410256410255},{"$f":"'quinary change 2011_15 num'!O15/'quinary 2011'!O15*100","v":13.194029850746269},{"$f":"'quinary change 2011_15 num'!P15/'quinary 2011'!P15*100","v":7.9783637592968217},{"$f":"'quinary change 2011_15 num'!Q15/'quinary 2011'!Q15*100","v":23.414179104477611},{"$f":"'quinary change 2011_15 num'!R15/'quinary 2011'!R15*100","v":34.846461949265688},{"$f":"'quinary change 2011_15 num'!S15/'quinary 2011'!S15*100","v":-18.870346598202826},{"$f":"'quinary change 2011_15 num'!T15/'quinary 2011'!T15*100","v":-7.7464788732394361},{"$f":"'quinary change 2011_15 num'!U15/'quinary 2011'!U15*100","v":8.3673469387755102},{"$f":"'quinary change 2011_15 num'!V15/'quinary 2011'!V15*100","v":2.9605263157894735},{"$f":"'quinary change 2011_15 num'!W15/'quinary 2011'!W15*100","v":24.626865671641792}]
["Harborne","Edgbaston","E05001189",{"$f":"'quinary change 2011_15 num'!D16/'quinary 2011'!D16*100","v":8.7888671450315279},{"$f":"'quinary change 2011_15 num'!E16/'quinary 2011'!E16*100","v":20.40374909877433},{"$f":"'quinary change 2011_15 num'!F16/'quinary 2011'!F16*100","v":19.148936170212767},{"$f":"'quinary change 2011_15 num'!G16/'quinary 2011'!G16*100","v":8.4666039510818436},{"$f":"'quinary change 2011_15 num'!H16/'quinary 2011'!H16*100","v":2.8195488721804511},{"$f":"'quinary change 2011_15 num'!I16/'quinary 2011'!I16*100","v":14.511627906976743},{"$f":"'quinary change 2011_15 num'!J16/'quinary 2011'!J16*100","v":2.4187452758881332},{"$f":"'quinary change 2011_15 num'!K16/'quinary 2011'!K16*100","v":-4.4830741079597436},{"$f":"'quinary change 2011_15 num'!L16/'quinary 2011'!L16*100","v":16.887019230769234},{"$f":"'quinary change 2011_15 num'!M16/'quinary 2011'!M16*100","v":9.3586387434554972},{"$f":"'quinary change 2011_15 num'!N16/'quinary 2011'!N16*100","v":7.7304964539007095},{"$f":"'quinary change 2011_15 num'!O16/'quinary 2011'!O16*100","v":9.4262295081967213},{"$f":"'quinary change 2011_15 num'!P16/'quinary 2011'!P16*100","v":2.1164021164021163},{"$f":"'quinary change 2011_15 num'!Q16/'quinary 2011'!Q16*100","v":-0.98389982110912344},{"$f":"'quinary change 2011_15 num'!R16/'quinary 2011'!R16*100","v":27.44630071599045},{"$f":"'quinary change 2011_15 num'!S16/'quinary 2011'!S16*100","v":10.547945205479452},{"$f":"'quinary change 2011_15 num'!T16/'quinary 2011'!T16*100","v":20.353982300884958},{"$f":"'quinary change 2011_15 num'!U16/'quinary 2011'!U16*100","v":-1.9569471624266144},{"$f":"'quinary change 2011_15 num'!V16/'quinary 2011'!V16*100","v":2.0997375328083989},{"$f":"'quinary change 2011_15 num'!W16/'quinary 2011'!W16*100","v":15.111111111111111}]
["Hodge Hill","Hodge Hill","E05001190",{"$f":"'quinary change 2011_15 num'!D17/'quinary 2011'!D17*100","v":6.0419411115462669},{"$f":"'quinary change 2011_15 num'!E17/'quinary 2011'!E17*100","v":2.547770700636943},{"$f":"'quinary change 2011_15 num'!F17/'quinary 2011'!F17*100","v":7.6231430805316647},{"$f":"'quinary change 2011_15 num'!G17/'quinary 2011'!G17*100","v":10.623946037099493},{"$f":"'quinary change 2011_15 num'!H17/'quinary 2011'!H17*100","v":15.467795016455103},{"$f":"'quinary change 2011_15 num'!I17/'quinary 2011'!I17*100","v":14.300960512273212},{"$f":"'quinary change 2011_15 num'!J17/'quinary 2011'!J17*100","v":7.7186126038104543},{"$f":"'quinary change 2011_15 num'!K17/'quinary 2011'!K17*100","v":4.7040971168437027},{"$f":"'quinary change 2011_15 num'!L17/'quinary 2011'!L17*100","v":16.246498599439775},{"$f":"'quinary change 2011_15 num'!M17/'quinary 2011'!M17*100","v":-8.1236897274633115},{"$f":"'quinary change 2011_15 num'!N17/'quinary 2011'!N17*100","v":12.830188679245284},{"$f":"'quinary change 2011_15 num'!O17/'quinary 2011'!O17*100","v":8.1967213114754092},{"$f":"'quinary change 2011_15 num'!P17/'quinary 2011'!P17*100","v":5.6458511548331911},{"$f":"'quinary change 2011_15 num'!Q17/'quinary 2011'!Q17*100","v":-10.046082949308756},{"$f":"'quinary change 2011_15 num'!R17/'quinary 2011'!R17*100","v":4.7200878155872674},{"$f":"'quinary change 2011_15 num'!S17/'quinary 2011'!S17*100","v":-13.130128956623683},{"$f":"'quinary change 2011_15 num'!T17/'quinary 2011'!T17*100","v":6.6761363636363633},{"$f":"'quinary change 2011_15 num'!U17/'quinary 2011'!U17*100","v":-8.9445438282647594},{"$f":"'quinary change 2011_15 num'!V17/'quinary 2011'!V17*100","v":-1.2195121951219512},{"$f":"'quinary change 2011_15 num'!W17/'quinary 2011'!W17*100","v":-0.59523809523809523}]
["Kings Norton","Northfield","E05001191",{"$f":"'quinary change 2011_15 num'!D18/'quinary 2011'!D18*100","v":0.53684124252110477},{"$f":"'quinary change 2011_15 num'!E18/'quinary 2011'!E18*100","v":-1.7453798767967144},{"$f":"'quinary change 2011_15 num'!F18/'quinary 2011'!F18*100","v":17.624521072796934},{"$f":"'quinary change 2011_15 num'!G18/'quinary 2011'!G18*100","v":-4.8309178743961354},{"$f":"'quinary change 2011_15 num'!H18/'quinary 2011'!H18*100","v":-9.0128755364806867},{"$f":"'quinary change 2011_15 num'!I18/'quinary 2011'!I18*100","v":0.73578595317725748},{"$f":"'quinary change 2011_15 num'!J18/'quinary 2011'!J18*100","v":10.329807093963908},{"$f":"'quinary change 2011_15 num'!K18/'quinary 2011'!K18*100","v":-5.2307692307692308},{"$f":"'quinary change 2011_15 num'!L18/'quinary 2011'!L18*100","v":-4.8076923076923084},{"$f":"'quinary change 2011_15 num'!M18/'quinary 2011'!M18*100","v":-14.702450408401399},{"$f":"'quinary change 2011_15 num'!N18/'quinary 2011'!N18*100","v":-0.49230769230769234},{"$f":"'quinary change 2011_15 num'!O18/'quinary 2011'!O18*100","v":9.7472924187725631},{"$f":"'quinary change 2011_15 num'!P18/'quinary 2011'!P18*100","v":6.3878326996197723},{"$f":"'quinary change 2011_15 num'!Q18/'quinary 2011'!Q18*100","v":-23.232323232323232},{"$f":"'quinary change 2011_15 num'!R18/'quinary 2011'!R18*100","v":16.172734970364097},{"$f":"'quinary change 2011_15 num'!S18/'quinary 2011'!S18*100","v":19.952774498229044},{"$f":"'quinary change 2011_15 num'!T18/'quinary 2011'!T18*100","v":3.8461538461538463},{"$f":"'quinary change 2011_15 num'!U18/'quinary 2011'!U18*100","v":7.8066914498141262},{"$f":"'quinary change 2011_15 num'!V18/'quinary 2011'!V18*100","v":-4.4943820224719104},{"$f":"'quinary change 2011_15 num'!W18/'quinary 2011'!W18*100","v":43.373493975903614}]
["Kingstanding","Erdington","E05001192",{"$f":"'quinary change 2011_15 num'!D19/'quinary 2011'!D19*100","v":1.6619295752408021},{"$f":"'quinary change 2011_15 num'!E19/'quinary 2011'!E19*100","v":5.1257253384912955},{"$f":"'quinary change 2011_15 num'!F19/'quinary 2011'!F19*100","v":5.8084772370486659},{"$f":"'quinary change 2011_15 num'!G19/'quinary 2011'!G19*100","v":-4.6938775510204085},{"$f":"'quinary change 2011_15 num'!H19/'quinary 2011'!H19*100","v":-3.1327697662854299},{"$f":"'quinary change 2011_15 num'!I19/'quinary 2011'!I19*100","v":1.7139479905437354},{"$f":"'quinary change 2011_15 num'!J19/'quinary 2011'!J19*100","v":13.253012048192772},{"$f":"'quinary change 2011_15 num'!K19/'quinary 2011'!K19*100","v":1.6314199395770395},{"$f":"'quinary change 2011_15 num'!L19/'quinary 2011'!L19*100","v":-0.12886597938144329},{"$f":"'quinary change 2011_15 num'!M19/'quinary 2011'!M19*100","v":-11.265969802555169},{"$f":"'quinary change 2011_15 num'!N19/'quinary 2011'!N19*100","v":-9.8840419657647711},{"$f":"'quinary change 2011_15 num'!O19/'quinary 2011'!O19*100","v":13.950456323337679},{"$f":"'quinary change 2011_15 num'!P19/'quinary 2011'!P19*100","v":17.727639000805802},{"$f":"'quinary change 2011_15 num'!Q19/'quinary 2011'!Q19*100","v":4.6263345195729535},{"$f":"'quinary change 2011_15 num'!R19/'quinary 2011'!R19*100","v":-2.2403258655804481},{"$f":"'quinary change 2011_15 num'!S19/'quinary 2011'!S19*100","v":11.81702668360864},{"$f":"'quinary change 2011_15 num'!T19/'quinary 2011'!T19*100","v":-3.554868624420402},{"$f":"'quinary change 2011_15 num'!U19/'quinary 2011'!U19*100","v":-13.333333333333334},{"$f":"'quinary change 2011_15 num'!V19/'quinary 2011'!V19*100","v":-1.0169491525423728},{"$f":"'quinary change 2011_15 num'!W19/'quinary 2011'!W19*100","v":-1.935483870967742}]
["Ladywood","Ladywood","E05001193",{"$f":"'quinary change 2011_15 num'!D20/'quinary 2011'!D20*100","v":20.689198144466534},{"$f":"'quinary change 2011_15 num'!E20/'quinary 2011'!E20*100","v":21.591650358773645},{"$f":"'quinary change 2011_15 num'!F20/'quinary 2011'!F20*100","v":34.782608695652172},{"$f":"'quinary change 2011_15 num'!G20/'quinary 2011'!G20*100","v":30.626450116009281},{"$f":"'quinary change 2011_15 num'!H20/'quinary 2011'!H20*100","v":3.1490552834149756},{"$f":"'quinary change 2011_15 num'!I20/'quinary 2011'!I20*100","v":17.70196330865787},{"$f":"'quinary change 2011_15 num'!J20/'quinary 2011'!J20*100","v":20.696356275303643},{"$f":"'quinary change 2011_15 num'!K20/'quinary 2011'!K20*100","v":22.19650205761317},{"$f":"'quinary change 2011_15 num'!L20/'quinary 2011'!L20*100","v":32.867132867132867},{"$f":"'quinary change 2011_15 num'!M20/'quinary 2011'!M20*100","v":21.857233101705624},{"$f":"'quinary change 2011_15 num'!N20/'quinary 2011'!N20*100","v":12.638888888888889},{"$f":"'quinary change 2011_15 num'!O20/'quinary 2011'!O20*100","v":27.887323943661972},{"$f":"'quinary change 2011_15 num'!P20/'quinary 2011'!P20*100","v":35.593220338983052},{"$f":"'quinary change 2011_15 num'!Q20/'quinary 2011'!Q20*100","v":18.438538205980066},{"$f":"'quinary change 2011_15 num'!R20/'quinary 2011'!R20*100","v":10.90146750524109},{"$f":"'quinary change 2011_15 num'!S20/'quinary 2011'!S20*100","v":14.369501466275661},{"$f":"'quinary change 2011_15 num'!T20/'quinary 2011'!T20*100","v":-2.0338983050847457},{"$f":"'quinary change 2011_15 num'!U20/'quinary 2011'!U20*100","v":6.2200956937799043},{"$f":"'quinary change 2011_15 num'!V20/'quinary 2011'!V20*100","v":3.7383177570093453},{"$f":"'quinary change 2011_15 num'!W20/'quinary 2011'!W20*100","v":-11.864406779661017}]
["Longbridge","Northfield","E05001194",{"$f":"'quinary change 2011_15 num'!D21/'quinary 2011'!D21*100","v":3.2100899768182001},{"$f":"'quinary change 2011_15 num'!E21/'quinary 2011'!E21*100","v":8.3599574014909468},{"$f":"'quinary change 2011_15 num'!F21/'quinary 2011'!F21*100","v":14.514145141451415},{"$f":"'quinary change 2011_15 num'!G21/'quinary 2011'!G21*100","v":-2.8469750889679712},{"$f":"'quinary change 2011_15 num'!H21/'quinary 2011'!H21*100","v":-4.1764705882352944},{"$f":"'quinary change 2011_15 num'!I21/'quinary 2011'!I21*100","v":10.512308715901531},{"$f":"'quinary change 2011_15 num'!J21/'quinary 2011'!J21*100","v":6.9182389937106921},{"$f":"'quinary change 2011_15 num'!K21/'quinary 2011'!K21*100","v":-7.1092524830109776},{"$f":"'quinary change 2011_15 num'!L21/'quinary 2011'!L21*100","v":-1.6574585635359116},{"$f":"'quinary change 2011_15 num'!M21/'quinary 2011'!M21*100","v":-11.755057408419901},{"$f":"'quinary change 2011_15 num'!N21/'quinary 2011'!N21*100","v":-2.6533996683250414},{"$f":"'quinary change 2011_15 num'!O21/'quinary 2011'!O21*100","v":8.239700374531834},{"$f":"'quinary change 2011_15 num'!P21/'quinary 2011'!P21*100","v":2.5452109845947755},{"$f":"'quinary change 2011_15 num'!Q21/'quinary 2011'!Q21*100","v":2.3943661971830985},{"$f":"'quinary change 2011_15 num'!R21/'quinary 2011'!R21*100","v":27.788279773156898},{"$f":"'quinary change 2011_15 num'!S21/'quinary 2011'!S21*100","v":20.130718954248366},{"$f":"'quinary change 2011_15 num'!T21/'quinary 2011'!T21*100","v":2.9780564263322882},{"$f":"'quinary change 2011_15 num'!U21/'quinary 2011'!U21*100","v":-8.1481481481481488},{"$f":"'quinary change 2011_15 num'!V21/'quinary 2011'!V21*100","v":11.881188118811881},{"$f":"'quinary change 2011_15 num'!W21/'quinary 2011'!W21*100","v":23.255813953488371}]
["Lozells and East Handsworth","Perry Barr","E05001195",{"$f":"'quinary change 2011_15 num'!D22/'quinary 2011'!D22*100","v":6.1594202898550732},{"$f":"'quinary change 2011_15 num'!E22/'quinary 2011'!E22*100","v":0.62871114215857493},{"$f":"'quinary change 2011_15 num'!F22/'quinary 2011'!F22*100","v":2.046577275935074},{"$f":"'quinary change 2011_15 num'!G22/'quinary 2011'!G22*100","v":9.44382232176185},{"$f":"'quinary change 2011_15 num'!H22/'quinary 2011'!H22*100","v":2.9710711493354185},{"$f":"'quinary change 2011_15 num'!I22/'quinary 2011'!I22*100","v":-0.28808066258552395},{"$f":"'quinary change 2011_15 num'!J22/'quinary 2011'!J22*100","v":-1.367461430575035},{"$f":"'quinary change 2011_15 num'!K22/'quinary 2011'!K22*100","v":-0.18677624206200971},{"$f":"'quinary change 2011_15 num'!L22/'quinary 2011'!L22*100","v":13.017498932991892},{"$f":"'quinary change 2011_15 num'!M22/'quinary 2011'!M22*100","v":13.018672199170126},{"$f":"'quinary change 2011_15 num'!N22/'quinary 2011'!N22*100","v":12.45674740484429},{"$f":"'quinary change 2011_15 num'!O22/'quinary 2011'!O22*100","v":21.812822402358144},{"$f":"'quinary change 2011_15 num'!P22/'quinary 2011'!P22*100","v":15.463917525773196},{"$f":"'quinary change 2011_15 num'!Q22/'quinary 2011'!Q22*100","v":42.132639791937585},{"$f":"'quinary change 2011_15 num'!R22/'quinary 2011'!R22*100","v":1.3452914798206279},{"$f":"'quinary change 2011_15 num'!S22/'quinary 2011'!S22*100","v":-14.809590973201692},{"$f":"'quinary change 2011_15 num'!T22/'quinary 2011'!T22*100","v":-8.3061889250814325},{"$f":"'quinary change 2011_15 num'!U22/'quinary 2011'!U22*100","v":8.9156626506024104},{"$f":"'quinary change 2011_15 num'!V22/'quinary 2011'!V22*100","v":45.348837209302324},{"$f":"'quinary change 2011_15 num'!W22/'quinary 2011'!W22*100","v":37.837837837837839}]
["Moseley and Kings Heath","Hall Green","E05001196",{"$f":"'quinary change 2011_15 num'!D23/'quinary 2011'!D23*100","v":-0.31130827301735547},{"$f":"'quinary change 2011_15 num'!E23/'quinary 2011'!E23*100","v":-2.764127764127764},{"$f":"'quinary change 2011_15 num'!F23/'quinary 2011'!F23*100","v":4.5255474452554747},{"$f":"'quinary change 2011_15 num'!G23/'quinary 2011'!G23*100","v":-9.2443140132061625},{"$f":"'quinary change 2011_15 num'!H23/'quinary 2011'!H23*100","v":-6.4890710382513666},{"$f":"'quinary change 2011_15 num'!I23/'quinary 2011'!I23*100","v":2.0431328036322363},{"$f":"'quinary change 2011_15 num'!J23/'quinary 2011'!J23*100","v":-8.49478390461997},{"$f":"'quinary change 2011_15 num'!K23/'quinary 2011'!K23*100","v":-8.4089035449299256},{"$f":"'quinary change 2011_15 num'!L23/'quinary 2011'!L23*100","v":-4.5142296368989205},{"$f":"'quinary change 2011_15 num'!M23/'quinary 2011'!M23*100","v":-4.8603929679420892},{"$f":"'quinary change 2011_15 num'!N23/'quinary 2011'!N23*100","v":5.8419243986254292},{"$f":"'quinary change 2011_15 num'!O23/'quinary 2011'!O23*100","v":8.4093872229465454},{"$f":"'quinary change 2011_15 num'!P23/'quinary 2011'!P23*100","v":0.63157894736842102},{"$f":"'quinary change 2011_15 num'!Q23/'quinary 2011'!Q23*100","v":5.6726094003241485},{"$f":"'quinary change 2011_15 num'!R23/'quinary 2011'!R23*100","v":35.906432748538016},{"$f":"'quinary change 2011_15 num'!S23/'quinary 2011'!S23*100","v":8.1632653061224492},{"$f":"'quinary change 2011_15 num'!T23/'quinary 2011'!T23*100","v":-10.260336906584993},{"$f":"'quinary change 2011_15 num'!U23/'quinary 2011'!U23*100","v":18.993135011441648},{"$f":"'quinary change 2011_15 num'!V23/'quinary 2011'!V23*100","v":0},{"$f":"'quinary change 2011_15 num'!W23/'quinary 2011'!W23*100","v":9.3406593406593412}]
["Nechells","Ladywood","E05001197",{"$f":"'quinary change 2011_15 num'!D24/'quinary 2011'!D24*100","v":14.832760696561243},{"$f":"'quinary change 2011_15 num'!E24/'quinary 2011'!E24*100","v":3.629274145170966},{"$f":"'quinary change 2011_15 num'!F24/'quinary 2011'!F24*100","v":7.9106065980844269},{"$f":"'quinary change 2011_15 num'!G24/'quinary 2011'!G24*100","v":7.9707198047986978},{"$f":"'quinary change 2011_15 num'!H24/'quinary 2011'!H24*100","v":24.250681198910083},{"$f":"'quinary change 2011_15 num'!I24/'quinary 2011'!I24*100","v":29.689661988535281},{"$f":"'quinary change 2011_15 num'!J24/'quinary 2011'!J24*100","v":19.6048632218845},{"$f":"'quinary change 2011_15 num'!K24/'quinary 2011'!K24*100","v":10.576569959603379},{"$f":"'quinary change 2011_15 num'!L24/'quinary 2011'!L24*100","v":14.612511671335202},{"$f":"'quinary change 2011_15 num'!M24/'quinary 2011'!M24*100","v":4.5073375262054505},{"$f":"'quinary change 2011_15 num'!N24/'quinary 2011'!N24*100","v":13.864491844416563},{"$f":"'quinary change 2011_15 num'!O24/'quinary 2011'!O24*100","v":20.080000000000002},{"$f":"'quinary change 2011_15 num'!P24/'quinary 2011'!P24*100","v":25.865580448065174},{"$f":"'quinary change 2011_15 num'!Q24/'quinary 2011'!Q24*100","v":17.146433041301627},{"$f":"'quinary change 2011_15 num'!R24/'quinary 2011'!R24*100","v":3.5439137134052388},{"$f":"'quinary change 2011_15 num'!S24/'quinary 2011'!S24*100","v":-18.767908309455589},{"$f":"'quinary change 2011_15 num'!T24/'quinary 2011'!T24*100","v":-3.2882011605415857},{"$f":"'quinary change 2011_15 num'!U24/'quinary 2011'!U24*100","v":20.754716981132077},{"$f":"'quinary change 2011_15 num'!V24/'quinary 2011'!V24*100","v":25.316455696202532},{"$f":"'quinary change 2011_15 num'!W24/'quinary 2011'!W24*100","v":62.745098039215684}]
["Northfield","Northfield","E05001198",{"$f":"'quinary change 2011_15 num'!D25/'quinary 2011'!D25*100","v":2.0923268385641505},{"$f":"'quinary change 2011_15 num'!E25/'quinary 2011'!E25*100","v":13.103864734299517},{"$f":"'quinary change 2011_15 num'!F25/'quinary 2011'!F25*100","v":2.4787997390737115},{"$f":"'quinary change 2011_15 num'!G25/'quinary 2011'!G25*100","v":-2.9201817001946786},{"$f":"'quinary change 2011_15 num'!H25/'quinary 2011'!H25*100","v":-16.095293434049971},{"$f":"'quinary change 2011_15 num'!I25/'quinary 2011'!I25*100","v":3.1322505800464038},{"$f":"'quinary change 2011_15 num'!J25/'quinary 2011'!J25*100","v":20.051413881748072},{"$f":"'quinary change 2011_15 num'!K25/'quinary 2011'!K25*100","v":1.8308080808080809},{"$f":"'quinary change 2011_15 num'!L25/'quinary 2011'!L25*100","v":-8.5714285714285712},{"$f":"'quinary change 2011_15 num'!M25/'quinary 2011'!M25*100","v":-10.564971751412429},{"$f":"'quinary change 2011_15 num'!N25/'quinary 2011'!N25*100","v":-10.513078470824949},{"$f":"'quinary change 2011_15 num'!O25/'quinary 2011'!O25*100","v":16.972205795387342},{"$f":"'quinary change 2011_15 num'!P25/'quinary 2011'!P25*100","v":10.719131614654003},{"$f":"'quinary change 2011_15 num'!Q25/'quinary 2011'!Q25*100","v":-8.5865257595772793},{"$f":"'quinary change 2011_15 num'!R25/'quinary 2011'!R25*100","v":16.997617156473392},{"$f":"'quinary change 2011_15 num'!S25/'quinary 2011'!S25*100","v":15.010141987829615},{"$f":"'quinary change 2011_15 num'!T25/'quinary 2011'!T25*100","v":0.71684587813620071},{"$f":"'quinary change 2011_15 num'!U25/'quinary 2011'!U25*100","v":12.106135986733001},{"$f":"'quinary change 2011_15 num'!V25/'quinary 2011'!V25*100","v":-6.6350710900473935},{"$f":"'quinary change 2011_15 num'!W25/'quinary 2011'!W25*100","v":9.0909090909090917}]
["Oscott","Perry Barr","E05001199",{"$f":"'quinary change 2011_15 num'!D26/'quinary 2011'!D26*100","v":1.8237205523964257},{"$f":"'quinary change 2011_15 num'!E26/'quinary 2011'!E26*100","v":10.040160642570282},{"$f":"'quinary change 2011_15 num'!F26/'quinary 2011'!F26*100","v":12.040816326530612},{"$f":"'quinary change 2011_15 num'!G26/'quinary 2011'!G26*100","v":-8.6787564766839385},{"$f":"'quinary change 2011_15 num'!H26/'quinary 2011'!H26*100","v":-7.9878048780487809},{"$f":"'quinary change 2011_15 num'!I26/'quinary 2011'!I26*100","v":9.1380427738172383},{"$f":"'quinary change 2011_15 num'!J26/'quinary 2011'!J26*100","v":14.993954050785973},{"$f":"'quinary change 2011_15 num'!K26/'quinary 2011'!K26*100","v":8.5357846355876568},{"$f":"'quinary change 2011_15 num'!L26/'quinary 2011'!L26*100","v":-6.0394151303242207},{"$f":"'quinary change 2011_15 num'!M26/'quinary 2011'!M26*100","v":-23.100936524453694},{"$f":"'quinary change 2011_15 num'!N26/'quinary 2011'!N26*100","v":-6.1288632792037712},{"$f":"'quinary change 2011_15 num'!O26/'quinary 2011'!O26*100","v":18.025182239893969},{"$f":"'quinary change 2011_15 num'!P26/'quinary 2011'!P26*100","v":17.47181964573269},{"$f":"'quinary change 2011_15 num'!Q26/'quinary 2011'!Q26*100","v":-6.8126520681265204},{"$f":"'quinary change 2011_15 num'!R26/'quinary 2011'!R26*100","v":-5.1174496644295306},{"$f":"'quinary change 2011_15 num'!S26/'quinary 2011'!S26*100","v":13.909378292939936},{"$f":"'quinary change 2011_15 num'!T26/'quinary 2011'!T26*100","v":-2.5362318840579712},{"$f":"'quinary change 2011_15 num'!U26/'quinary 2011'!U26*100","v":6.6895368782161233},{"$f":"'quinary change 2011_15 num'!V26/'quinary 2011'!V26*100","v":4},{"$f":"'quinary change 2011_15 num'!W26/'quinary 2011'!W26*100","v":-4.225352112676056}]
["Perry Barr","Perry Barr","E05001200",{"$f":"'quinary change 2011_15 num'!D27/'quinary 2011'!D27*100","v":2.4435534922979532},{"$f":"'quinary change 2011_15 num'!E27/'quinary 2011'!E27*100","v":5.1297169811320753},{"$f":"'quinary change 2011_15 num'!F27/'quinary 2011'!F27*100","v":9.3919325707405168},{"$f":"'quinary change 2011_15 num'!G27/'quinary 2011'!G27*100","v":4.89060489060489},{"$f":"'quinary change 2011_15 num'!H27/'quinary 2011'!H27*100","v":-0.42803638309256281},{"$f":"'quinary change 2011_15 num'!I27/'quinary 2011'!I27*100","v":2.6842362127867254},{"$f":"'quinary change 2011_15 num'!J27/'quinary 2011'!J27*100","v":9.3149038461538467},{"$f":"'quinary change 2011_15 num'!K27/'quinary 2011'!K27*100","v":2.6193247962747379},{"$f":"'quinary change 2011_15 num'!L27/'quinary 2011'!L27*100","v":7.081967213114754},{"$f":"'quinary change 2011_15 num'!M27/'quinary 2011'!M27*100","v":-13.998782714546563},{"$f":"'quinary change 2011_15 num'!N27/'quinary 2011'!N27*100","v":-3.9530574428659668},{"$f":"'quinary change 2011_15 num'!O27/'quinary 2011'!O27*100","v":11.856823266219239},{"$f":"'quinary change 2011_15 num'!P27/'quinary 2011'!P27*100","v":19.102196752626551},{"$f":"'quinary change 2011_15 num'!Q27/'quinary 2011'!Q27*100","v":-13.289349670122528},{"$f":"'quinary change 2011_15 num'!R27/'quinary 2011'!R27*100","v":-11.607142857142858},{"$f":"'quinary change 2011_15 num'!S27/'quinary 2011'!S27*100","v":4.5871559633027523},{"$f":"'quinary change 2011_15 num'!T27/'quinary 2011'!T27*100","v":-0.79491255961844187},{"$f":"'quinary change 2011_15 num'!U27/'quinary 2011'!U27*100","v":11.711711711711711},{"$f":"'quinary change 2011_15 num'!V27/'quinary 2011'!V27*100","v":5.7251908396946565},{"$f":"'quinary change 2011_15 num'!W27/'quinary 2011'!W27*100","v":0.70422535211267612}]
["Quinton","Edgbaston","E05001201",{"$f":"'quinary change 2011_15 num'!D28/'quinary 2011'!D28*100","v":0.74349442379182151},{"$f":"'quinary change 2011_15 num'!E28/'quinary 2011'!E28*100","v":4.5730027548209362},{"$f":"'quinary change 2011_15 num'!F28/'quinary 2011'!F28*100","v":9.2489137181874614},{"$f":"'quinary change 2011_15 num'!G28/'quinary 2011'!G28*100","v":0.87829360100376408},{"$f":"'quinary change 2011_15 num'!H28/'quinary 2011'!H28*100","v":-3.9722572509457756},{"$f":"'quinary change 2011_15 num'!I28/'quinary 2011'!I28*100","v":2.0847810979847115},{"$f":"'quinary change 2011_15 num'!J28/'quinary 2011'!J28*100","v":1.6483516483516485},{"$f":"'quinary change 2011_15 num'!K28/'quinary 2011'!K28*100","v":0.345821325648415},{"$f":"'quinary change 2011_15 num'!L28/'quinary 2011'!L28*100","v":-8.4677419354838701},{"$f":"'quinary change 2011_15 num'!M28/'quinary 2011'!M28*100","v":-6.2683069712946695},{"$f":"'quinary change 2011_15 num'!N28/'quinary 2011'!N28*100","v":0.73037127206329888},{"$f":"'quinary change 2011_15 num'!O28/'quinary 2011'!O28*100","v":11.417910447761194},{"$f":"'quinary change 2011_15 num'!P28/'quinary 2011'!P28*100","v":4.5066045066045062},{"$f":"'quinary change 2011_15 num'!Q28/'quinary 2011'!Q28*100","v":-11.188811188811188},{"$f":"'quinary change 2011_15 num'!R28/'quinary 2011'!R28*100","v":2.5901942645698428},{"$f":"'quinary change 2011_15 num'!S28/'quinary 2011'!S28*100","v":3.5595105672969964},{"$f":"'quinary change 2011_15 num'!T28/'quinary 2011'!T28*100","v":-2.5435073627844713},{"$f":"'quinary change 2011_15 num'!U28/'quinary 2011'!U28*100","v":13.090909090909092},{"$f":"'quinary change 2011_15 num'!V28/'quinary 2011'!V28*100","v":-3.1976744186046515},{"$f":"'quinary change 2011_15 num'!W28/'quinary 2011'!W28*100","v":4.0935672514619883}]
["Selly Oak","Selly Oak","E05001202",{"$f":"'quinary change 2011_15 num'!D29/'quinary 2011'!D29*100","v":9.70690320092557},{"$f":"'quinary change 2011_15 num'!E29/'quinary 2011'!E29*100","v":10.498409331919406},{"$f":"'quinary change 2011_15 num'!F29/'quinary 2011'!F29*100","v":21.899736147757256},{"$f":"'quinary change 2011_15 num'!G29/'quinary 2011'!G29*100","v":4.2962962962962958},{"$f":"'quinary change 2011_15 num'!H29/'quinary 2011'!H29*100","v":16.130988477865372},{"$f":"'quinary change 2011_15 num'!I29/'quinary 2011'!I29*100","v":17.140579325006644},{"$f":"'quinary change 2011_15 num'!J29/'quinary 2011'!J29*100","v":-0.90390104662226456},{"$f":"'quinary change 2011_15 num'!K29/'quinary 2011'!K29*100","v":-15.107415107415106},{"$f":"'quinary change 2011_15 num'!L29/'quinary 2011'!L29*100","v":13.541666666666666},{"$f":"'quinary change 2011_15 num'!M29/'quinary 2011'!M29*100","v":9.4117647058823533},{"$f":"'quinary change 2011_15 num'!N29/'quinary 2011'!N29*100","v":7.1979434447300772},{"$f":"'quinary change 2011_15 num'!O29/'quinary 2011'!O29*100","v":-1.4120667522464698},{"$f":"'quinary change 2011_15 num'!P29/'quinary 2011'!P29*100","v":-2.2503516174402249},{"$f":"'quinary change 2011_15 num'!Q29/'quinary 2011'!Q29*100","v":4.823151125401929},{"$f":"'quinary change 2011_15 num'!R29/'quinary 2011'!R29*100","v":4.9733570159857905},{"$f":"'quinary change 2011_15 num'!S29/'quinary 2011'!S29*100","v":-10.317460317460316},{"$f":"'quinary change 2011_15 num'!T29/'quinary 2011'!T29*100","v":-2.2172949002217295},{"$f":"'quinary change 2011_15 num'!U29/'quinary 2011'!U29*100","v":4.823151125401929},{"$f":"'quinary change 2011_15 num'!V29/'quinary 2011'!V29*100","v":-5.9322033898305087},{"$f":"'quinary change 2011_15 num'!W29/'quinary 2011'!W29*100","v":1.6}]
["Shard End","Hodge Hill","E05001203",{"$f":"'quinary change 2011_15 num'!D30/'quinary 2011'!D30*100","v":3.6626757674088997},{"$f":"'quinary change 2011_15 num'!E30/'quinary 2011'!E30*100","v":7.3406593406593403},{"$f":"'quinary change 2011_15 num'!F30/'quinary 2011'!F30*100","v":18.129870129870127},{"$f":"'quinary change 2011_15 num'!G30/'quinary 2011'!G30*100","v":-0.32804811372334608},{"$f":"'quinary change 2011_15 num'!H30/'quinary 2011'!H30*100","v":-13.633923778851315},{"$f":"'quinary change 2011_15 num'!I30/'quinary 2011'!I30*100","v":7.1628427532176842},{"$f":"'quinary change 2011_15 num'!J30/'quinary 2011'!J30*100","v":15.899581589958158},{"$f":"'quinary change 2011_15 num'!K30/'quinary 2011'!K30*100","v":12.506856829402086},{"$f":"'quinary change 2011_15 num'!L30/'quinary 2011'!L30*100","v":-1.1316259678379987},{"$f":"'quinary change 2011_15 num'!M30/'quinary 2011'!M30*100","v":-14.392723381487427},{"$f":"'quinary change 2011_15 num'!N30/'quinary 2011'!N30*100","v":2.2285714285714286},{"$f":"'quinary change 2011_15 num'!O30/'quinary 2011'!O30*100","v":12.29012760241773},{"$f":"'quinary change 2011_15 num'!P30/'quinary 2011'!P30*100","v":15.772870662460567},{"$f":"'quinary change 2011_15 num'!Q30/'quinary 2011'!Q30*100","v":-12.017167381974248},{"$f":"'quinary change 2011_15 num'!R30/'quinary 2011'!R30*100","v":20.394736842105264},{"$f":"'quinary change 2011_15 num'!S30/'quinary 2011'!S30*100","v":23.35483870967742},{"$f":"'quinary change 2011_15 num'!T30/'quinary 2011'!T30*100","v":-11.36986301369863},{"$f":"'quinary change 2011_15 num'!U30/'quinary 2011'!U30*100","v":-6.7911714770797964},{"$f":"'quinary change 2011_15 num'!V30/'quinary 2011'!V30*100","v":-37.664783427495294},{"$f":"'quinary change 2011_15 num'!W30/'quinary 2011'!W30*100","v":9.8039215686274517}]
["Sheldon","Yardley","E05001204",{"$f":"'quinary change 2011_15 num'!D31/'quinary 2011'!D31*100","v":5.8437986983224857},{"$f":"'quinary change 2011_15 num'!E31/'quinary 2011'!E31*100","v":19.696969696969695},{"$f":"'quinary change 2011_15 num'!F31/'quinary 2011'!F31*100","v":10.976532929598788},{"$f":"'quinary change 2011_15 num'!G31/'quinary 2011'!G31*100","v":3.5100286532951288},{"$f":"'quinary change 2011_15 num'!H31/'quinary 2011'!H31*100","v":-1.2381646030589948},{"$f":"'quinary change 2011_15 num'!I31/'quinary 2011'!I31*100","v":18.410700236034618},{"$f":"'quinary change 2011_15 num'!J31/'quinary 2011'!J31*100","v":23.924142961342085},{"$f":"'quinary change 2011_15 num'!K31/'quinary 2011'!K31*100","v":14.59909228441755},{"$f":"'quinary change 2011_15 num'!L31/'quinary 2011'!L31*100","v":6.1823802163833079},{"$f":"'quinary change 2011_15 num'!M31/'quinary 2011'!M31*100","v":-19.89051094890511},{"$f":"'quinary change 2011_15 num'!N31/'quinary 2011'!N31*100","v":-4.2656916514320535},{"$f":"'quinary change 2011_15 num'!O31/'quinary 2011'!O31*100","v":21.428571428571427},{"$f":"'quinary change 2011_15 num'!P31/'quinary 2011'!P31*100","v":18.622448979591837},{"$f":"'quinary change 2011_15 num'!Q31/'quinary 2011'!Q31*100","v":-8.5470085470085468},{"$f":"'quinary change 2011_15 num'!R31/'quinary 2011'!R31*100","v":-6.299911268855368},{"$f":"'quinary change 2011_15 num'!S31/'quinary 2011'!S31*100","v":9.9890230515916567},{"$f":"'quinary change 2011_15 num'!T31/'quinary 2011'!T31*100","v":-2.0151133501259446},{"$f":"'quinary change 2011_15 num'!U31/'quinary 2011'!U31*100","v":8.6879432624113484},{"$f":"'quinary change 2011_15 num'!V31/'quinary 2011'!V31*100","v":-21.088435374149661},{"$f":"'quinary change 2011_15 num'!W31/'quinary 2011'!W31*100","v":3.7037037037037033}]
["Soho","Ladywood","E05001205",{"$f":"'quinary change 2011_15 num'!D32/'quinary 2011'!D32*100","v":7.9051383399209492},{"$f":"'quinary change 2011_15 num'!E32/'quinary 2011'!E32*100","v":5.8951175406871608},{"$f":"'quinary change 2011_15 num'!F32/'quinary 2011'!F32*100","v":8.798775822494262},{"$f":"'quinary change 2011_15 num'!G32/'quinary 2011'!G32*100","v":12.545126353790614},{"$f":"'quinary change 2011_15 num'!H32/'quinary 2011'!H32*100","v":4.7315741583257509},{"$f":"'quinary change 2011_15 num'!I32/'quinary 2011'!I32*100","v":-0.78037904124860646},{"$f":"'quinary change 2011_15 num'!J32/'quinary 2011'!J32*100","v":1.9701086956521741},{"$f":"'quinary change 2011_15 num'!K32/'quinary 2011'!K32*100","v":3.2612548741581002},{"$f":"'quinary change 2011_15 num'!L32/'quinary 2011'!L32*100","v":13.854121709106604},{"$f":"'quinary change 2011_15 num'!M32/'quinary 2011'!M32*100","v":6.911344137273594},{"$f":"'quinary change 2011_15 num'!N32/'quinary 2011'!N32*100","v":9.0762620837808807},{"$f":"'quinary change 2011_15 num'!O32/'quinary 2011'!O32*100","v":21.263940520446099},{"$f":"'quinary change 2011_15 num'!P32/'quinary 2011'!P32*100","v":17.20430107526882},{"$f":"'quinary change 2011_15 num'!Q32/'quinary 2011'!Q32*100","v":31.898734177215189},{"$f":"'quinary change 2011_15 num'!R32/'quinary 2011'!R32*100","v":6.5406976744186052},{"$f":"'quinary change 2011_15 num'!S32/'quinary 2011'!S32*100","v":-9.4573643410852704},{"$f":"'quinary change 2011_15 num'!T32/'quinary 2011'!T32*100","v":-1.1884550084889642},{"$f":"'quinary change 2011_15 num'!U32/'quinary 2011'!U32*100","v":15.606936416184972},{"$f":"'quinary change 2011_15 num'!V32/'quinary 2011'!V32*100","v":34.5},{"$f":"'quinary change 2011_15 num'!W32/'quinary 2011'!W32*100","v":26.956521739130434}]
["South Yardley","Yardley","E05001206",{"$f":"'quinary change 2011_15 num'!D33/'quinary 2011'!D33*100","v":5.10752688172043},{"$f":"'quinary change 2011_15 num'!E33/'quinary 2011'!E33*100","v":2.1843003412969284},{"$f":"'quinary change 2011_15 num'!F33/'quinary 2011'!F33*100","v":12.490332559938128},{"$f":"'quinary change 2011_15 num'!G33/'quinary 2011'!G33*100","v":12.337098175499566},{"$f":"'quinary change 2011_15 num'!H33/'quinary 2011'!H33*100","v":8.5065248912518125},{"$f":"'quinary change 2011_15 num'!I33/'quinary 2011'!I33*100","v":1.1450381679389312},{"$f":"'quinary change 2011_15 num'!J33/'quinary 2011'!J33*100","v":6.3812921125644078},{"$f":"'quinary change 2011_15 num'!K33/'quinary 2011'!K33*100","v":-0.61728395061728392},{"$f":"'quinary change 2011_15 num'!L33/'quinary 2011'!L33*100","v":7.3940486925157796},{"$f":"'quinary change 2011_15 num'!M33/'quinary 2011'!M33*100","v":-0.77669902912621358},{"$f":"'quinary change 2011_15 num'!N33/'quinary 2011'!N33*100","v":-4.3234994913530009},{"$f":"'quinary change 2011_15 num'!O33/'quinary 2011'!O33*100","v":11.518324607329843},{"$f":"'quinary change 2011_15 num'!P33/'quinary 2011'!P33*100","v":15.44011544011544},{"$f":"'quinary change 2011_15 num'!Q33/'quinary 2011'!Q33*100","v":6.7176870748299322},{"$f":"'quinary change 2011_15 num'!R33/'quinary 2011'!R33*100","v":9.5534787123572169},{"$f":"'quinary change 2011_15 num'!S33/'quinary 2011'!S33*100","v":-7.4380165289256199},{"$f":"'quinary change 2011_15 num'!T33/'quinary 2011'!T33*100","v":-9.295774647887324},{"$f":"'quinary change 2011_15 num'!U33/'quinary 2011'!U33*100","v":-0.95785440613026818},{"$f":"'quinary change 2011_15 num'!V33/'quinary 2011'!V33*100","v":22.983870967741936},{"$f":"'quinary change 2011_15 num'!W33/'quinary 2011'!W33*100","v":-7.1999999999999993}]
["Sparkbrook","Hall Green","E05001207",{"$f":"'quinary change 2011_15 num'!D34/'quinary 2011'!D34*100","v":2.8051181102362204},{"$f":"'quinary change 2011_15 num'!E34/'quinary 2011'!E34*100","v":-12.244274809160306},{"$f":"'quinary change 2011_15 num'!F34/'quinary 2011'!F34*100","v":-3.8887132469174834},{"$f":"'quinary change 2011_15 num'!G34/'quinary 2011'!G34*100","v":-1.7643142476697737},{"$f":"'quinary change 2011_15 num'!H34/'quinary 2011'!H34*100","v":3.9929947460595443},{"$f":"'quinary change 2011_15 num'!I34/'quinary 2011'!I34*100","v":5.7883522727272725},{"$f":"'quinary change 2011_15 num'!J34/'quinary 2011'!J34*100","v":-0.1987413050679033},{"$f":"'quinary change 2011_15 num'!K34/'quinary 2011'!K34*100","v":5.8174904942965782},{"$f":"'quinary change 2011_15 num'!L34/'quinary 2011'!L34*100","v":6.2015503875968996},{"$f":"'quinary change 2011_15 num'!M34/'quinary 2011'!M34*100","v":6.5625},{"$f":"'quinary change 2011_15 num'!N34/'quinary 2011'!N34*100","v":14.38664097623635},{"$f":"'quinary change 2011_15 num'!O34/'quinary 2011'!O34*100","v":7.1169208424110382},{"$f":"'quinary change 2011_15 num'!P34/'quinary 2011'!P34*100","v":11.073541842772611},{"$f":"'quinary change 2011_15 num'!Q34/'quinary 2011'!Q34*100","v":28.571428571428569},{"$f":"'quinary change 2011_15 num'!R34/'quinary 2011'!R34*100","v":11.094224924012158},{"$f":"'quinary change 2011_15 num'!S34/'quinary 2011'!S34*100","v":-16.355810616929698},{"$f":"'quinary change 2011_15 num'!T34/'quinary 2011'!T34*100","v":-11.649016641452345},{"$f":"'quinary change 2011_15 num'!U34/'quinary 2011'!U34*100","v":21.695760598503743},{"$f":"'quinary change 2011_15 num'!V34/'quinary 2011'!V34*100","v":60.377358490566039},{"$f":"'quinary change 2011_15 num'!W34/'quinary 2011'!W34*100","v":48.684210526315788}]
["Springfield","Hall Green","E05001208",{"$f":"'quinary change 2011_15 num'!D35/'quinary 2011'!D35*100","v":6.2770425044540596},{"$f":"'quinary change 2011_15 num'!E35/'quinary 2011'!E35*100","v":-0.90090090090090091},{"$f":"'quinary change 2011_15 num'!F35/'quinary 2011'!F35*100","v":4.9460118425635669},{"$f":"'quinary change 2011_15 num'!G35/'quinary 2011'!G35*100","v":11.835205992509364},{"$f":"'quinary change 2011_15 num'!H35/'quinary 2011'!H35*100","v":11.707710940654017},{"$f":"'quinary change 2011_15 num'!I35/'quinary 2011'!I35*100","v":4.3894652833200318},{"$f":"'quinary change 2011_15 num'!J35/'quinary 2011'!J35*100","v":-3.1160458452722062},{"$f":"'quinary change 2011_15 num'!K35/'quinary 2011'!K35*100","v":1.6936104695919936},{"$f":"'quinary change 2011_15 num'!L35/'quinary 2011'!L35*100","v":11.912225705329153},{"$f":"'quinary change 2011_15 num'!M35/'quinary 2011'!M35*100","v":7.5433231396534142},{"$f":"'quinary change 2011_15 num'!N35/'quinary 2011'!N35*100","v":26.233766233766232},{"$f":"'quinary change 2011_15 num'!O35/'quinary 2011'!O35*100","v":6.343549536707056},{"$f":"'quinary change 2011_15 num'!P35/'quinary 2011'!P35*100","v":-5.1412020275162922},{"$f":"'quinary change 2011_15 num'!Q35/'quinary 2011'!Q35*100","v":23.138832997987926},{"$f":"'quinary change 2011_15 num'!R35/'quinary 2011'!R35*100","v":14.321608040201006},{"$f":"'quinary change 2011_15 num'!S35/'quinary 2011'!S35*100","v":-10.783055198973042},{"$f":"'quinary change 2011_15 num'!T35/'quinary 2011'!T35*100","v":-5.2550231839258119},{"$f":"'quinary change 2011_15 num'!U35/'quinary 2011'!U35*100","v":6.651884700665188},{"$f":"'quinary change 2011_15 num'!V35/'quinary 2011'!V35*100","v":18.828451882845187},{"$f":"'quinary change 2011_15 num'!W35/'quinary 2011'!W35*100","v":50}]
["Stechford and Yardley North","Yardley","E05001209",{"$f":"'quinary change 2011_15 num'!D36/'quinary 2011'!D36*100","v":5.4015277831633641},{"$f":"'quinary change 2011_15 num'!E36/'quinary 2011'!E36*100","v":10.44334975369458},{"$f":"'quinary change 2011_15 num'!F36/'quinary 2011'!F36*100","v":17.115689381933439},{"$f":"'quinary change 2011_15 num'!G36/'quinary 2011'!G36*100","v":3.9895013123359577},{"$f":"'quinary change 2011_15 num'!H36/'quinary 2011'!H36*100","v":-0.89285714285714279},{"$f":"'quinary change 2011_15 num'!I36/'quinary 2011'!I36*100","v":8.9440276976341604},{"$f":"'quinary change 2011_15 num'!J36/'quinary 2011'!J36*100","v":15.630252100840336},{"$f":"'quinary change 2011_15 num'!K36/'quinary 2011'!K36*100","v":12.11757648470306},{"$f":"'quinary change 2011_15 num'!L36/'quinary 2011'!L36*100","v":2.125},{"$f":"'quinary change 2011_15 num'!M36/'quinary 2011'!M36*100","v":-12.945166760881854},{"$f":"'quinary change 2011_15 num'!N36/'quinary 2011'!N36*100","v":-3.9182282793867125},{"$f":"'quinary change 2011_15 num'!O36/'quinary 2011'!O36*100","v":10.344827586206897},{"$f":"'quinary change 2011_15 num'!P36/'quinary 2011'!P36*100","v":13.690952762209768},{"$f":"'quinary change 2011_15 num'!Q36/'quinary 2011'!Q36*100","v":0},{"$f":"'quinary change 2011_15 num'!R36/'quinary 2011'!R36*100","v":7.9797979797979801},{"$f":"'quinary change 2011_15 num'!S36/'quinary 2011'!S36*100","v":5.3613053613053614},{"$f":"'quinary change 2011_15 num'!T36/'quinary 2011'!T36*100","v":-1.7379679144385027},{"$f":"'quinary change 2011_15 num'!U36/'quinary 2011'!U36*100","v":-1.7094017094017095},{"$f":"'quinary change 2011_15 num'!V36/'quinary 2011'!V36*100","v":0},{"$f":"'quinary change 2011_15 num'!W36/'quinary 2011'!W36*100","v":-2.7777777777777777}]
["Stockland Green","Erdington","E05001210",{"$f":"'quinary change 2011_15 num'!D37/'quinary 2011'!D37*100","v":7.7809207559545772},{"$f":"'quinary change 2011_15 num'!E37/'quinary 2011'!E37*100","v":7.5880758807588071},{"$f":"'quinary change 2011_15 num'!F37/'quinary 2011'!F37*100","v":20.210526315789473},{"$f":"'quinary change 2011_15 num'!G37/'quinary 2011'!G37*100","v":9.527170077628794},{"$f":"'quinary change 2011_15 num'!H37/'quinary 2011'!H37*100","v":0.76824583866837381},{"$f":"'quinary change 2011_15 num'!I37/'quinary 2011'!I37*100","v":8.6032388663967598},{"$f":"'quinary change 2011_15 num'!J37/'quinary 2011'!J37*100","v":5.7065217391304346},{"$f":"'quinary change 2011_15 num'!K37/'quinary 2011'!K37*100","v":20.475698035160288},{"$f":"'quinary change 2011_15 num'!L37/'quinary 2011'!L37*100","v":11.033274956217163},{"$f":"'quinary change 2011_15 num'!M37/'quinary 2011'!M37*100","v":-6.1957151129125654},{"$f":"'quinary change 2011_15 num'!N37/'quinary 2011'!N37*100","v":-6.2068965517241379},{"$f":"'quinary change 2011_15 num'!O37/'quinary 2011'!O37*100","v":20.850202429149796},{"$f":"'quinary change 2011_15 num'!P37/'quinary 2011'!P37*100","v":23.555166374781088},{"$f":"'quinary change 2011_15 num'!Q37/'quinary 2011'!Q37*100","v":0.18674136321195145},{"$f":"'quinary change 2011_15 num'!R37/'quinary 2011'!R37*100","v":22.927461139896373},{"$f":"'quinary change 2011_15 num'!S37/'quinary 2011'!S37*100","v":-1.5514809590973202},{"$f":"'quinary change 2011_15 num'!T37/'quinary 2011'!T37*100","v":-3.3112582781456954},{"$f":"'quinary change 2011_15 num'!U37/'quinary 2011'!U37*100","v":-9.3275488069414312},{"$f":"'quinary change 2011_15 num'!V37/'quinary 2011'!V37*100","v":10.954063604240282},{"$f":"'quinary change 2011_15 num'!W37/'quinary 2011'!W37*100","v":-27.118644067796609}]
["Sutton Four Oaks","Sutton Coldfield","E05001211",{"$f":"'quinary change 2011_15 num'!D38/'quinary 2011'!D38*100","v":2.9240987509921048},{"$f":"'quinary change 2011_15 num'!E38/'quinary 2011'!E38*100","v":7.3932926829268286},{"$f":"'quinary change 2011_15 num'!F38/'quinary 2011'!F38*100","v":10.574875798438608},{"$f":"'quinary change 2011_15 num'!G38/'quinary 2011'!G38*100","v":2.7944111776447107},{"$f":"'quinary change 2011_15 num'!H38/'quinary 2011'!H38*100","v":1.8545994065281897},{"$f":"'quinary change 2011_15 num'!I38/'quinary 2011'!I38*100","v":11.225540679711637},{"$f":"'quinary change 2011_15 num'!J38/'quinary 2011'!J38*100","v":16.633663366336634},{"$f":"'quinary change 2011_15 num'!K38/'quinary 2011'!K38*100","v":-2.4054982817869419},{"$f":"'quinary change 2011_15 num'!L38/'quinary 2011'!L38*100","v":-7.7777777777777777},{"$f":"'quinary change 2011_15 num'!M38/'quinary 2011'!M38*100","v":-14.949279231179927},{"$f":"'quinary change 2011_15 num'!N38/'quinary 2011'!N38*100","v":-0.79744816586921841},{"$f":"'quinary change 2011_15 num'!O38/'quinary 2011'!O38*100","v":19.05972045743329},{"$f":"'quinary change 2011_15 num'!P38/'quinary 2011'!P38*100","v":3.3769813921433496},{"$f":"'quinary change 2011_15 num'!Q38/'quinary 2011'!Q38*100","v":-12.261753494282084},{"$f":"'quinary change 2011_15 num'!R38/'quinary 2011'!R38*100","v":-1.4705882352941175},{"$f":"'quinary change 2011_15 num'!S38/'quinary 2011'!S38*100","v":24.520069808027923},{"$f":"'quinary change 2011_15 num'!T38/'quinary 2011'!T38*100","v":-6.636771300448431},{"$f":"'quinary change 2011_15 num'!U38/'quinary 2011'!U38*100","v":3.8293216630196936},{"$f":"'quinary change 2011_15 num'!V38/'quinary 2011'!V38*100","v":20.553359683794469},{"$f":"'quinary change 2011_15 num'!W38/'quinary 2011'!W38*100","v":25.793650793650798}]
["Sutton New Hall","Sutton Coldfield","E05001212",{"$f":"'quinary change 2011_15 num'!D39/'quinary 2011'!D39*100","v":-1.6978687279388769},{"$f":"'quinary change 2011_15 num'!E39/'quinary 2011'!E39*100","v":-2.1621621621621623},{"$f":"'quinary change 2011_15 num'!F39/'quinary 2011'!F39*100","v":-0.42337002540220153},{"$f":"'quinary change 2011_15 num'!G39/'quinary 2011'!G39*100","v":-13.127413127413126},{"$f":"'quinary change 2011_15 num'!H39/'quinary 2011'!H39*100","v":-7.9749804534792803},{"$f":"'quinary change 2011_15 num'!I39/'quinary 2011'!I39*100","v":-1.4285714285714286},{"$f":"'quinary change 2011_15 num'!J39/'quinary 2011'!J39*100","v":2.0985401459854014},{"$f":"'quinary change 2011_15 num'!K39/'quinary 2011'!K39*100","v":-5.6537102473498235},{"$f":"'quinary change 2011_15 num'!L39/'quinary 2011'!L39*100","v":-12.639405204460965},{"$f":"'quinary change 2011_15 num'!M39/'quinary 2011'!M39*100","v":-17.506142506142506},{"$f":"'quinary change 2011_15 num'!N39/'quinary 2011'!N39*100","v":-10.386079390973354},{"$f":"'quinary change 2011_15 num'!O39/'quinary 2011'!O39*100","v":3.75},{"$f":"'quinary change 2011_15 num'!P39/'quinary 2011'!P39*100","v":-0.85313833028641073},{"$f":"'quinary change 2011_15 num'!Q39/'quinary 2011'!Q39*100","v":-9.1585575271894673},{"$f":"'quinary change 2011_15 num'!R39/'quinary 2011'!R39*100","v":25.320512820512818},{"$f":"'quinary change 2011_15 num'!S39/'quinary 2011'!S39*100","v":29.90455991516437},{"$f":"'quinary change 2011_15 num'!T39/'quinary 2011'!T39*100","v":2.2458628841607564},{"$f":"'quinary change 2011_15 num'!U39/'quinary 2011'!U39*100","v":-5.1966292134831464},{"$f":"'quinary change 2011_15 num'!V39/'quinary 2011'!V39*100","v":21.219512195121951},{"$f":"'quinary change 2011_15 num'!W39/'quinary 2011'!W39*100","v":33.668341708542712}]
["Sutton Trinity","Sutton Coldfield","E05001213",{"$f":"'quinary change 2011_15 num'!D40/'quinary 2011'!D40*100","v":-0.49994048327580048},{"$f":"'quinary change 2011_15 num'!E40/'quinary 2011'!E40*100","v":9.6485182632667126},{"$f":"'quinary change 2011_15 num'!F40/'quinary 2011'!F40*100","v":-0.40677966101694918},{"$f":"'quinary change 2011_15 num'!G40/'quinary 2011'!G40*100","v":-9.8247809762202749},{"$f":"'quinary change 2011_15 num'!H40/'quinary 2011'!H40*100","v":-15.938461538461537},{"$f":"'quinary change 2011_15 num'!I40/'quinary 2011'!I40*100","v":10.314960629921261},{"$f":"'quinary change 2011_15 num'!J40/'quinary 2011'!J40*100","v":8.1944444444444446},{"$f":"'quinary change 2011_15 num'!K40/'quinary 2011'!K40*100","v":4.2837078651685392},{"$f":"'quinary change 2011_15 num'!L40/'quinary 2011'!L40*100","v":-9.0206185567010309},{"$f":"'quinary change 2011_15 num'!M40/'quinary 2011'!M40*100","v":-13.340448239060832},{"$f":"'quinary change 2011_15 num'!N40/'quinary 2011'!N40*100","v":-11.949367088607595},{"$f":"'quinary change 2011_15 num'!O40/'quinary 2011'!O40*100","v":7.9820123664980329},{"$f":"'quinary change 2011_15 num'!P40/'quinary 2011'!P40*100","v":10.444743935309972},{"$f":"'quinary change 2011_15 num'!Q40/'quinary 2011'!Q40*100","v":-9.1984231274638635},{"$f":"'quinary change 2011_15 num'!R40/'quinary 2011'!R40*100","v":6.4925373134328366},{"$f":"'quinary change 2011_15 num'!S40/'quinary 2011'!S40*100","v":19.881305637982198},{"$f":"'quinary change 2011_15 num'!T40/'quinary 2011'!T40*100","v":-5.8441558441558437},{"$f":"'quinary change 2011_15 num'!U40/'quinary 2011'!U40*100","v":-4.2362002567394095},{"$f":"'quinary change 2011_15 num'!V40/'quinary 2011'!V40*100","v":14.161220043572984},{"$f":"'quinary change 2011_15 num'!W40/'quinary 2011'!W40*100","v":22.171945701357465}]
["Sutton Vesey","Sutton Coldfield","E05001214",{"$f":"'quinary change 2011_15 num'!D41/'quinary 2011'!D41*100","v":-1.2225987731114065},{"$f":"'quinary change 2011_15 num'!E41/'quinary 2011'!E41*100","v":12.310286677908937},{"$f":"'quinary change 2011_15 num'!F41/'quinary 2011'!F41*100","v":5.1639344262295088},{"$f":"'quinary change 2011_15 num'!G41/'quinary 2011'!G41*100","v":-9.6868171886380203},{"$f":"'quinary change 2011_15 num'!H41/'quinary 2011'!H41*100","v":-14.950634696755994},{"$f":"'quinary change 2011_15 num'!I41/'quinary 2011'!I41*100","v":-1.1676396997497915},{"$f":"'quinary change 2011_15 num'!J41/'quinary 2011'!J41*100","v":3.7272006344171293},{"$f":"'quinary change 2011_15 num'!K41/'quinary 2011'!K41*100","v":1.8227009113504555},{"$f":"'quinary change 2011_15 num'!L41/'quinary 2011'!L41*100","v":-5.6485355648535567},{"$f":"'quinary change 2011_15 num'!M41/'quinary 2011'!M41*100","v":-15.543735224586289},{"$f":"'quinary change 2011_15 num'!N41/'quinary 2011'!N41*100","v":-16.200527704485488},{"$f":"'quinary change 2011_15 num'!O41/'quinary 2011'!O41*100","v":7.1592210767468494},{"$f":"'quinary change 2011_15 num'!P41/'quinary 2011'!P41*100","v":8.047493403693931},{"$f":"'quinary change 2011_15 num'!Q41/'quinary 2011'!Q41*100","v":-9.149072296865004},{"$f":"'quinary change 2011_15 num'!R41/'quinary 2011'!R41*100","v":6.9551777434312205},{"$f":"'quinary change 2011_15 num'!S41/'quinary 2011'!S41*100","v":11.690821256038648},{"$f":"'quinary change 2011_15 num'!T41/'quinary 2011'!T41*100","v":1.3289036544850499},{"$f":"'quinary change 2011_15 num'!U41/'quinary 2011'!U41*100","v":2.4113475177304964},{"$f":"'quinary change 2011_15 num'!V41/'quinary 2011'!V41*100","v":18.264840182648399},{"$f":"'quinary change 2011_15 num'!W41/'quinary 2011'!W41*100","v":10.176991150442479}]
["Tyburn","Erdington","E05001215",{"$f":"'quinary change 2011_15 num'!D42/'quinary 2011'!D42*100","v":0.6319864122921357},{"$f":"'quinary change 2011_15 num'!E42/'quinary 2011'!E42*100","v":2.2801302931596092},{"$f":"'quinary change 2011_15 num'!F42/'quinary 2011'!F42*100","v":1.5529672767609539},{"$f":"'quinary change 2011_15 num'!G42/'quinary 2011'!G42*100","v":-5.055880787653007},{"$f":"'quinary change 2011_15 num'!H42/'quinary 2011'!H42*100","v":-8.2718651211801895},{"$f":"'quinary change 2011_15 num'!I42/'quinary 2011'!I42*100","v":10.072815533980583},{"$f":"'quinary change 2011_15 num'!J42/'quinary 2011'!J42*100","v":7.9552150854449026},{"$f":"'quinary change 2011_15 num'!K42/'quinary 2011'!K42*100","v":5.5762081784386615},{"$f":"'quinary change 2011_15 num'!L42/'quinary 2011'!L42*100","v":-9.3596059113300498},{"$f":"'quinary change 2011_15 num'!M42/'quinary 2011'!M42*100","v":-19.480519480519483},{"$f":"'quinary change 2011_15 num'!N42/'quinary 2011'!N42*100","v":-3.152173913043478},{"$f":"'quinary change 2011_15 num'!O42/'quinary 2011'!O42*100","v":23.144399460188932},{"$f":"'quinary change 2011_15 num'!P42/'quinary 2011'!P42*100","v":17.117117117117118},{"$f":"'quinary change 2011_15 num'!Q42/'quinary 2011'!Q42*100","v":5.0831792975970425},{"$f":"'quinary change 2011_15 num'!R42/'quinary 2011'!R42*100","v":-6.2562065541211522},{"$f":"'quinary change 2011_15 num'!S42/'quinary 2011'!S42*100","v":-3.2482598607888629},{"$f":"'quinary change 2011_15 num'!T42/'quinary 2011'!T42*100","v":-11.98044009779951},{"$f":"'quinary change 2011_15 num'!U42/'quinary 2011'!U42*100","v":6.1872909698996654},{"$f":"'quinary change 2011_15 num'!V42/'quinary 2011'!V42*100","v":15.548780487804878},{"$f":"'quinary change 2011_15 num'!W42/'quinary 2011'!W42*100","v":20.134228187919462}]
["Washwood Heath","Hodge Hill","E05001216",{"$f":"'quinary change 2011_15 num'!D43/'quinary 2011'!D43*100","v":6.7519631325228149},{"$f":"'quinary change 2011_15 num'!E43/'quinary 2011'!E43*100","v":-0.11494252873563218},{"$f":"'quinary change 2011_15 num'!F43/'quinary 2011'!F43*100","v":-1.192457016084304},{"$f":"'quinary change 2011_15 num'!G43/'quinary 2011'!G43*100","v":4.7048509643483349},{"$f":"'quinary change 2011_15 num'!H43/'quinary 2011'!H43*100","v":12.512512512512513},{"$f":"'quinary change 2011_15 num'!I43/'quinary 2011'!I43*100","v":12.528560548362528},{"$f":"'quinary change 2011_15 num'!J43/'quinary 2011'!J43*100","v":3.7979351032448379},{"$f":"'quinary change 2011_15 num'!K43/'quinary 2011'!K43*100","v":-1.2681159420289856},{"$f":"'quinary change 2011_15 num'!L43/'quinary 2011'!L43*100","v":12.29404309252218},{"$f":"'quinary change 2011_15 num'!M43/'quinary 2011'!M43*100","v":9.3489965736661773},{"$f":"'quinary change 2011_15 num'!N43/'quinary 2011'!N43*100","v":32.869080779944291},{"$f":"'quinary change 2011_15 num'!O43/'quinary 2011'!O43*100","v":12.039312039312039},{"$f":"'quinary change 2011_15 num'!P43/'quinary 2011'!P43*100","v":-2.534965034965035},{"$f":"'quinary change 2011_15 num'!Q43/'quinary 2011'!Q43*100","v":35.461956521739133},{"$f":"'quinary change 2011_15 num'!R43/'quinary 2011'!R43*100","v":18.88111888111888},{"$f":"'quinary change 2011_15 num'!S43/'quinary 2011'!S43*100","v":-27.113237639553429},{"$f":"'quinary change 2011_15 num'!T43/'quinary 2011'!T43*100","v":-13.556338028169016},{"$f":"'quinary change 2011_15 num'!U43/'quinary 2011'!U43*100","v":10.512820512820513},{"$f":"'quinary change 2011_15 num'!V43/'quinary 2011'!V43*100","v":45.555555555555557},{"$f":"'quinary change 2011_15 num'!W43/'quinary 2011'!W43*100","v":25}]
["Weoley","Northfield","E05001217",{"$f":"'quinary change 2011_15 num'!D44/'quinary 2011'!D44*100","v":1.8004472202945483},{"$f":"'quinary change 2011_15 num'!E44/'quinary 2011'!E44*100","v":1.1644832605531297},{"$f":"'quinary change 2011_15 num'!F44/'quinary 2011'!F44*100","v":15.132336018411968},{"$f":"'quinary change 2011_15 num'!G44/'quinary 2011'!G44*100","v":-0.68259385665529015},{"$f":"'quinary change 2011_15 num'!H44/'quinary 2011'!H44*100","v":-11.8706942236354},{"$f":"'quinary change 2011_15 num'!I44/'quinary 2011'!I44*100","v":6.9182389937106921},{"$f":"'quinary change 2011_15 num'!J44/'quinary 2011'!J44*100","v":9.5945174186179329},{"$f":"'quinary change 2011_15 num'!K44/'quinary 2011'!K44*100","v":-3.1305375073833428},{"$f":"'quinary change 2011_15 num'!L44/'quinary 2011'!L44*100","v":-1.3793103448275863},{"$f":"'quinary change 2011_15 num'!M44/'quinary 2011'!M44*100","v":-12.513842746400886},{"$f":"'quinary change 2011_15 num'!N44/'quinary 2011'!N44*100","v":1.0869565217391304},{"$f":"'quinary change 2011_15 num'!O44/'quinary 2011'!O44*100","v":7.1246819338422389},{"$f":"'quinary change 2011_15 num'!P44/'quinary 2011'!P44*100","v":9.5238095238095237},{"$f":"'quinary change 2011_15 num'!Q44/'quinary 2011'!Q44*100","v":-8.3056478405315617E-2},{"$f":"'quinary change 2011_15 num'!R44/'quinary 2011'!R44*100","v":2.3946360153256707},{"$f":"'quinary change 2011_15 num'!S44/'quinary 2011'!S44*100","v":10.514018691588785},{"$f":"'quinary change 2011_15 num'!T44/'quinary 2011'!T44*100","v":-4.4642857142857144},{"$f":"'quinary change 2011_15 num'!U44/'quinary 2011'!U44*100","v":-7.5268817204301079},{"$f":"'quinary change 2011_15 num'!V44/'quinary 2011'!V44*100","v":16.321243523316063},{"$f":"'quinary change 2011_15 num'!W44/'quinary 2011'!W44*100","v":42.780748663101605}]
[null,null,null,{"$f":"'quinary change 2011_15 num'!D45/'quinary 2011'!D45*100","v":4.6808894862899253},{"$f":"'quinary change 2011_15 num'!E45/'quinary 2011'!E45*100","v":4.5182740436725899},{"$f":"'quinary change 2011_15 num'!F45/'quinary 2011'!F45*100","v":9.1443177560087801},{"$f":"'quinary change 2011_15 num'!G45/'quinary 2011'!G45*100","v":1.9026735491603448},{"$f":"'quinary change 2011_15 num'!H45/'quinary 2011'!H45*100","v":1.2652622255962549},{"$f":"'quinary change 2011_15 num'!I45/'quinary 2011'!I45*100","v":9.6005851300642373},{"$f":"'quinary change 2011_15 num'!J45/'quinary 2011'!J45*100","v":7.0776362069367122},{"$f":"'quinary change 2011_15 num'!K45/'quinary 2011'!K45*100","v":3.1184611894017698},{"$f":"'quinary change 2011_15 num'!L45/'quinary 2011'!L45*100","v":4.6061490125673243},{"$f":"'quinary change 2011_15 num'!M45/'quinary 2011'!M45*100","v":-5.7288130896798242},{"$f":"'quinary change 2011_15 num'!N45/'quinary 2011'!N45*100","v":1.4073368968294646},{"$f":"'quinary change 2011_15 num'!O45/'quinary 2011'!O45*100","v":12.497211975636956},{"$f":"'quinary change 2011_15 num'!P45/'quinary 2011'!P45*100","v":9.8550955097497468},{"$f":"'quinary change 2011_15 num'!Q45/'quinary 2011'!Q45*100","v":0.9388759388759389},{"$f":"'quinary change 2011_15 num'!R45/'quinary 2011'!R45*100","v":10.244017756297444},{"$f":"'quinary change 2011_15 num'!S45/'quinary 2011'!S45*100","v":4.5076369055010552},{"$f":"'quinary change 2011_15 num'!T45/'quinary 2011'!T45*100","v":-2.6452189454870418},{"$f":"'quinary change 2011_15 num'!U45/'quinary 2011'!U45*100","v":1.9180922757905652},{"$f":"'quinary change 2011_15 num'!V45/'quinary 2011'!V45*100","v":7.3201382343700914},{"$f":"'quinary change 2011_15 num'!W45/'quinary 2011'!W45*100","v":15.241579027587257}]
["Office for National Statistics, Crown Copyright 2017"]
[]
["Service Development Team"]
["Planning & Regeneration"]
["www.birmingham.gov.uk/census"]
["population.census@birmingham.gov.uk"]
["0121 303 4208"]

{"sheet":"2011_15 syoa change","index":6,"n_rows":55,"n_cols":187,"rows_kept":55,"cut":false,"hidden":true,"merged":[[2,3,2,94],[2,95,2,186]]}
["Birmingham Ward Change 2011 - 2015"]
["Single year of age by sex",2,{"$f":"B2+1","v":3},{"$f":"C2+1","v":4},5,6,7,8,9,10,11,12,13,14,15,16,17,18,19,20,21,22,23,24,25,26,27,28,29,30,31,32,33,34,35,36,37,38,39,40,41]
[null,null,null,"males",null,null,null,null,null,null,null,null,null,null,null,null,null,null,null,null,null,null,null,null,null,null,null,null,null,null,null,null,null,null,null,null,null,null,null,null,null,null,null,null,null,null,null,null,null,null,null,null,null,null,null,null,null,null,null,null,null,null,null,null,null,null,null,null,null,null,null,null,null,null,null,null,null,null,null,null,null,null,null,null,null,null,null,null,null,null,null,null,null,null,null,"females"]
["Ward name","constituency","code","All Male Ages",0,{"$f":"E4+1","v":1},{"$f":"F4+1","v":2},3,4,5,6,7,8,9,10,11,12,13,14,15,16,17,18,19,20,21,22,23,24,25,26,27,28,29,30,31,32,33,34,35,36,37,38,39,40,41,42,43,44,45,46,47,48,49,50,51,52,53,54,55,56,57,58,59,60,61,62,63,64,65,{"$f":"BR4+1","v":66},67,68,69,70,71,72,73,74,75,76,77,78,79,80,81,82,83,84,85,86,87,88,89,90,"All female ages",0,{"$f":"CS4+1","v":1},{"$f":"CT4+1","v":2},3,4,5,6,7,8,9,10,11,12,13,14,15,16,17,18,19,20,21,22,23,24,25,26,27,28,29,30,31,32,33,34,35,36,37,38,39,40,41,42,43,44,45,46,47,48,49,50,51,52,53,54,55,56,57,58,59,60,61,62,63,64,65,{"$f":"FF4+1","v":66},67,68,69,70,71,72,73,74,75,76,77,78,79,80,81,82,83,84,85,86,87,88,89,90]
["Acocks Green","Yardley","E05001178",{"$f":"'2016 syoa'!D5-'2011 syoa'!D5","v":675},{"$f":"'2016 syoa'!E5-'2011 syoa'!E5","v":-35},{"$f":"'2016 syoa'!F5-'2011 syoa'!F5","v":42},{"$f":"'2016 syoa'!G5-'2011 syoa'!G5","v":-12},{"$f":"'2016 syoa'!H5-'2011 syoa'!H5","v":25},{"$f":"'2016 syoa'!I5-'2011 syoa'!I5","v":10},{"$f":"'2016 syoa'!J5-'2011 syoa'!J5","v":45},{"$f":"'2016 syoa'!K5-'2011 syoa'!K5","v":7},{"$f":"'2016 syoa'!L5-'2011 syoa'!L5","v":45},{"$f":"'2016 syoa'!M5-'2011 syoa'!M5","v":5},{"$f":"'2016 syoa'!N5-'2011 syoa'!N5","v":33},{"$f":"'2016 syoa'!O5-'2011 syoa'!O5","v":13},{"$f":"'2016 syoa'!P5-'2011 syoa'!P5","v":-9},{"$f":"'2016 syoa'!Q5-'2011 syoa'!Q5","v":-13},{"$f":"'2016 syoa'!R5-'2011 syoa'!R5","v":9},{"$f":"'2016 syoa'!S5-'2011 syoa'!S5","v":-35},{"$f":"'2016 syoa'!T5-'2011 syoa'!T5","v":-23},{"$f":"'2016 syoa'!U5-'2011 syoa'!U5","v":-17},{"$f":"'2016 syoa'!V5-'2011 syoa'!V5","v":46},{"$f":"'2016 syoa'!W5-'2011 syoa'!W5","v":-26},{"$f":"'2016 syoa'!X5-'2011 syoa'!X5","v":56},{"$f":"'2016 syoa'!Y5-'2011 syoa'!Y5","v":27},{"$f":"'2016 syoa'!Z5-'2011 syoa'!Z5","v":25},{"$f":"'2016 syoa'!AA5-'2011 syoa'!AA5","v":33},{"$f":"'2016 syoa'!AB5-'2011 syoa'!AB5","v":46},{"$f":"'2016 syoa'!AC5-'2011 syoa'!AC5","v":18},{"$f":"'2016 syoa'!AD5-'2011 syoa'!AD5","v":44},{"$f":"'2016 syoa'!AE5-'2011 syoa'!AE5","v":-20},{"$f":"'2016 syoa'!AF5-'2011 syoa'!AF5","v":-14},{"$f":"'2016 syoa'!AG5-'2011 syoa'!AG5","v":5},{"$f":"'2016 syoa'!AH5-'2011 syoa'!AH5","v":29},{"$f":"'2016 syoa'!AI5-'2011 syoa'!AI5","v":-23},{"$f":"'2016 syoa'!AJ5-'2011 syoa'!AJ5","v":18},{"$f":"'2016 syoa'!AK5-'2011 syoa'!AK5","v":-17},{"$f":"'2016 syoa'!AL5-'2011 syoa'!AL5","v":22},{"$f":"'2016 syoa'!AM5-'2011 syoa'!AM5","v":37},{"$f":"'2016 syoa'!AN5-'2011 syoa'!AN5","v":-11},{"$f":"'2016 syoa'!AO5-'2011 syoa'!AO5","v":48},{"$f":"'2016 syoa'!AP5-'2011 syoa'!AP5","v":46},{"$f":"'2016 syoa'!AQ5-'2011 syoa'!AQ5","v":3},{"$f":"'2016 syoa'!AR5-'2011 syoa'!AR5","v":-1},{"$f":"'2016 syoa'!AS5-'2011 syoa'!AS5","v":-40},{"$f":"'2016 syoa'!AT5-'2011 syoa'!AT5","v":-13},{"$f":"'2016 syoa'!AU5-'2011 syoa'!AU5","v":-35},{"$f":"'2016 syoa'!AV5-'2011 syoa'!AV5","v":-23},{"$f":"'2016 syoa'!AW5-'2011 syoa'!AW5","v":-7},{"$f":"'2016 syoa'!AX5-'2011 syoa'!AX5","v":17},{"$f":"'2016 syoa'!AY5-'2011 syoa'!AY5","v":2},{"$f":"'2016 syoa'!AZ5-'2011 syoa'!AZ5","v":10},{"$f":"'2016 syoa'!BA5-'2011 syoa'!BA5","v":5},{"$f":"'2016 syoa'!BB5-'2011 syoa'!BB5","v":-23},{"$f":"'2016 syoa'!BC5-'2011 syoa'!BC5","v":17},{"$f":"'2016 syoa'!BD5-'2011 syoa'!BD5","v":9},{"$f":"'2016 syoa'!BE5-'2011 syoa'!BE5","v":17},{"$f":"'2016 syoa'!BF5-'2011 syoa'!BF5","v":43},{"$f":"'2016 syoa'!BG5-'2011 syoa'!BG5","v":35},{"$f":"'2016 syoa'!BH5-'2011 syoa'!BH5","v":19},{"$f":"'2016 syoa'!BI5-'2011 syoa'!BI5","v":11},{"$f":"'2016 syoa'!BJ5-'2011 syoa'!BJ5","v":26},{"$f":"'2016 syoa'!BK5-'2011 syoa'!BK5","v":0},{"$f":"'2016 syoa'!BL5-'2011 syoa'!BL5","v":14},{"$f":"'2016 syoa'!BM5-'2011 syoa'!BM5","v":2},{"$f":"'2016 syoa'!BN5-'2011 syoa'!BN5","v":-3},{"$f":"'2016 syoa'!BO5-'2011 syoa'!BO5","v":-4},{"$f":"'2016 syoa'!BP5-'2011 syoa'!BP5","v":22},{"$f":"'2016 syoa'!BQ5-'2011 syoa'!BQ5","v":15},{"$f":"'2016 syoa'!BR5-'2011 syoa'!BR5","v":11},{"$f":"'2016 syoa'!BS5-'2011 syoa'!BS5","v":32},{"$f":"'2016 syoa'!BT5-'2011 syoa'!BT5","v":-5},{"$f":"'2016 syoa'!BU5-'2011 syoa'!BU5","v":-7},{"$f":"'2016 syoa'!BV5-'2011 syoa'!BV5","v":18},{"$f":"'2016 syoa'!BW5-'2011 syoa'!BW5","v":-4},{"$f":"'2016 syoa'!BX5-'2011 syoa'!BX5","v":-9},{"$f":"'2016 syoa'!BY5-'2011 syoa'!BY5","v":14},{"$f":"'2016 syoa'!BZ5-'2011 syoa'!BZ5","v":-2},{"$f":"'2016 syoa'!CA5-'2011 syoa'!CA5","v":-6},{"$f":"'2016 syoa'!CB5-'2011 syoa'!CB5","v":21},{"$f":"'2016 syoa'!CC5-'2011 syoa'!CC5","v":8},{"$f":"'2016 syoa'!CD5-'2011 syoa'!CD5","v":-1},{"$f":"'2016 syoa'!CE5-'2011 syoa'!CE5","v":2},{"$f":"'2016 syoa'!CF5-'2011 syoa'!CF5","v":-11},{"$f":"'2016 syoa'!CG5-'2011 syoa'!CG5","v":0},{"$f":"'2016 syoa'!CH5-'2011 syoa'!CH5","v":-26},{"$f":"'2016 syoa'!CI5-'2011 syoa'!CI5","v":2},{"$f":"'2016 syoa'!CJ5-'2011 syoa'!CJ5","v":-6},{"$f":"'2016 syoa'!CK5-'2011 syoa'!CK5","v":10},{"$f":"'2016 syoa'!CL5-'2011 syoa'!CL5","v":-8},{"$f":"'2016 syoa'!CM5-'2011 syoa'!CM5","v":26},{"$f":"'2016 syoa'!CN5-'2011 syoa'!CN5","v":9},{"$f":"'2016 syoa'!CO5-'2011 syoa'!CO5","v":3},{"$f":"'2016 syoa'!CP5-'2011 syoa'!CP5","v":4},{"$f":"'2016 syoa'!CQ5-'2011 syoa'!CQ5","v":3},{"$f":"'2016 syoa'!CR5-'2011 syoa'!CR5","v":401},{"$f":"'2016 syoa'!CS5-'2011 syoa'!CS5","v":23},{"$f":"'2016 syoa'!CT5-'2011 syoa'!CT5","v":-27},{"$f":"'2016 syoa'!CU5-'2011 syoa'!CU5","v":16},{"$f":"'2016 syoa'!CV5-'2011 syoa'!CV5","v":7},{"$f":"'2016 syoa'!CW5-'2011 syoa'!CW5","v":6},{"$f":"'2016 syoa'!CX5-'2011 syoa'!CX5","v":33},{"$f":"'2016 syoa'!CY5-'2011 syoa'!CY5","v":62},{"$f":"'2016 syoa'!CZ5-'2011 syoa'!CZ5","v":25},{"$f":"'2016 syoa'!DA5-'2011 syoa'!DA5","v":51},{"$f":"'2016 syoa'!DB5-'2011 syoa'!DB5","v":23},{"$f":"'2016 syoa'!DC5-'2011 syoa'!DC5","v":34},{"$f":"'2016 syoa'!DD5-'2011 syoa'!DD5","v":7},{"$f":"'2016 syoa'!DE5-'2011 syoa'!DE5","v":-46},{"$f":"'2016 syoa'!DF5-'2011 syoa'!DF5","v":-9},{"$f":"'2016 syoa'!DG5-'2011 syoa'!DG5","v":-19},{"$f":"'2016 syoa'!DH5-'2011 syoa'!DH5","v":-4},{"$f":"'2016 syoa'!DI5-'2011 syoa'!DI5","v":-34},{"$f":"'2016 syoa'!DJ5-'2011 syoa'!DJ5","v":17},{"$f":"'2016 syoa'!DK5-'2011 syoa'!DK5","v":-12},{"$f":"'2016 syoa'!DL5-'2011 syoa'!DL5","v":15},{"$f":"'2016 syoa'!DM5-'2011 syoa'!DM5","v":30},{"$f":"'2016 syoa'!DN5-'2011 syoa'!DN5","v":-15},{"$f":"'2016 syoa'!DO5-'2011 syoa'!DO5","v":20},{"$f":"'2016 syoa'!DP5-'2011 syoa'!DP5","v":-29},{"$f":"'2016 syoa'!DQ5-'2011 syoa'!DQ5","v":-52},{"$f":"'2016 syoa'!DR5-'2011 syoa'!DR5","v":15},{"$f":"'2016 syoa'!DS5-'2011 syoa'!DS5","v":12},{"$f":"'2016 syoa'!DT5-'2011 syoa'!DT5","v":26},{"$f":"'2016 syoa'!DU5-'2011 syoa'!DU5","v":20},{"$f":"'2016 syoa'!DV5-'2011 syoa'!DV5","v":9},{"$f":"'2016 syoa'!DW5-'2011 syoa'!DW5","v":-15},{"$f":"'2016 syoa'!DX5-'2011 syoa'!DX5","v":-35},{"$f":"'2016 syoa'!DY5-'2011 syoa'!DY5","v":-15},{"$f":"'2016 syoa'!DZ5-'2011 syoa'!DZ5","v":-13},{"$f":"'2016 syoa'!EA5-'2011 syoa'!EA5","v":40},{"$f":"'2016 syoa'!EB5-'2011 syoa'!EB5","v":-8},{"$f":"'2016 syoa'!EC5-'2011 syoa'!EC5","v":52},{"$f":"'2016 syoa'!ED5-'2011 syoa'!ED5","v":23},{"$f":"'2016 syoa'!EE5-'2011 syoa'!EE5","v":-12},{"$f":"'2016 syoa'!EF5-'2011 syoa'!EF5","v":-29},{"$f":"'2016 syoa'!EG5-'2011 syoa'!EG5","v":10},{"$f":"'2016 syoa'!EH5-'2011 syoa'!EH5","v":-22},{"$f":"'2016 syoa'!EI5-'2011 syoa'!EI5","v":-38},{"$f":"'2016 syoa'!EJ5-'2011 syoa'!EJ5","v":-40},{"$f":"'2016 syoa'!EK5-'2011 syoa'!EK5","v":-6},{"$f":"'2016 syoa'!EL5-'2011 syoa'!EL5","v":-17},{"$f":"'2016 syoa'!EM5-'2011 syoa'!EM5","v":13},{"$f":"'2016 syoa'!EN5-'2011 syoa'!EN5","v":32},{"$f":"'2016 syoa'!EO5-'2011 syoa'!EO5","v":42},{"$f":"'2016 syoa'!EP5-'2011 syoa'!EP5","v":11},{"$f":"'2016 syoa'!EQ5-'2011 syoa'!EQ5","v":10},{"$f":"'2016 syoa'!ER5-'2011 syoa'!ER5","v":7},{"$f":"'2016 syoa'!ES5-'2011 syoa'!ES5","v":20},{"$f":"'2016 syoa'!ET5-'2011 syoa'!ET5","v":54},{"$f":"'2016 syoa'!EU5-'2011 syoa'!EU5","v":21},{"$f":"'2016 syoa'!EV5-'2011 syoa'!EV5","v":48},{"$f":"'2016 syoa'!EW5-'2011 syoa'!EW5","v":42},{"$f":"'2016 syoa'!EX5-'2011 syoa'!EX5","v":23},{"$f":"'2016 syoa'!EY5-'2011 syoa'!EY5","v":15},{"$f":"'2016 syoa'!EZ5-'2011 syoa'!EZ5","v":55},{"$f":"'2016 syoa'!FA5-'2011 syoa'!FA5","v":31},{"$f":"'2016 syoa'!FB5-'2011 syoa'!FB5","v":5},{"$f":"'2016 syoa'!FC5-'2011 syoa'!FC5","v":-29},{"$f":"'2016 syoa'!FD5-'2011 syoa'!FD5","v":-5},{"$f":"'2016 syoa'!FE5-'2011 syoa'!FE5","v":-19},{"$f":"'2016 syoa'!FF5-'2011 syoa'!FF5","v":6},{"$f":"'2016 syoa'!FG5-'2011 syoa'!FG5","v":13},{"$f":"'2016 syoa'!FH5-'2011 syoa'!FH5","v":5},{"$f":"'2016 syoa'!FI5-'2011 syoa'!FI5","v":13},{"$f":"'2016 syoa'!FJ5-'2011 syoa'!FJ5","v":22},{"$f":"'2016 syoa'!FK5-'2011 syoa'!FK5","v":12},{"$f":"'2016 syoa'!FL5-'2011 syoa'!FL5","v":-10},{"$f":"'2016 syoa'!FM5-'2011 syoa'!FM5","v":6},{"$f":"'2016 syoa'!FN5-'2011 syoa'!FN5","v":-8},{"$f":"'2016 syoa'!FO5-'2011 syoa'!FO5","v":-7},{"$f":"'2016 syoa'!FP5-'2011 syoa'!FP5","v":-23},{"$f":"'2016 syoa'!FQ5-'2011 syoa'!FQ5","v":-7},{"$f":"'2016 syoa'!FR5-'2011 syoa'!FR5","v":-7},{"$f":"'2016 syoa'!FS5-'2011 syoa'!FS5","v":3},{"$f":"'2016 syoa'!FT5-'2011 syoa'!FT5","v":3},{"$f":"'2016 syoa'!FU5-'2011 syoa'!FU5","v":-12},{"$f":"'2016 syoa'!FV5-'2011 syoa'!FV5","v":-6},{"$f":"'2016 syoa'!FW5-'2011 syoa'!FW5","v":-12},{"$f":"'2016 syoa'!FX5-'2011 syoa'!FX5","v":-12},{"$f":"'2016 syoa'!FY5-'2011 syoa'!FY5","v":-16},{"$f":"'2016 syoa'!FZ5-'2011 syoa'!FZ5","v":4},{"$f":"'2016 syoa'!GA5-'2011 syoa'!GA5","v":-2},{"$f":"'2016 syoa'!GB5-'2011 syoa'!GB5","v":-9},{"$f":"'2016 syoa'!GC5-'2011 syoa'!GC5","v":-18},{"$f":"'2016 syoa'!GD5-'2011 syoa'!GD5","v":0},{"$f":"'2016 syoa'!GE5-'2011 syoa'!GE5","v":8}]
["Aston","Ladywood","E05001179",{"$f":"'2016 syoa'!D6-'2011 syoa'!D6","v":993},{"$f":"'2016 syoa'!E6-'2011 syoa'!E6","v":11},{"$f":"'2016 syoa'!F6-'2011 syoa'!F6","v":-32},{"$f":"'2016 syoa'!G6-'2011 syoa'!G6","v":-21},{"$f":"'2016 syoa'!H6-'2011 syoa'!H6","v":29},{"$f":"'2016 syoa'!I6-'2011 syoa'!I6","v":-53},{"$f":"'2016 syoa'!J6-'2011 syoa'!J6","v":0},{"$f":"'2016 syoa'!K6-'2011 syoa'!K6","v":27},{"$f":"'2016 syoa'!L6-'2011 syoa'!L6","v":-6},{"$f":"'2016 syoa'!M6-'2011 syoa'!M6","v":56},{"$f":"'2016 syoa'!N6-'2011 syoa'!N6","v":-25},{"$f":"'2016 syoa'!O6-'2011 syoa'!O6","v":29},{"$f":"'2016 syoa'!P6-'2011 syoa'!P6","v":12},{"$f":"'2016 syoa'!Q6-'2011 syoa'!Q6","v":17},{"$f":"'2016 syoa'!R6-'2011 syoa'!R6","v":-23},{"$f":"'2016 syoa'!S6-'2011 syoa'!S6","v":7},{"$f":"'2016 syoa'!T6-'2011 syoa'!T6","v":24},{"$f":"'2016 syoa'!U6-'2011 syoa'!U6","v":15},{"$f":"'2016 syoa'!V6-'2011 syoa'!V6","v":58},{"$f":"'2016 syoa'!W6-'2011 syoa'!W6","v":43},{"$f":"'2016 syoa'!X6-'2011 syoa'!X6","v":-7},{"$f":"'2016 syoa'!Y6-'2011 syoa'!Y6","v":-97},{"$f":"'2016 syoa'!Z6-'2011 syoa'!Z6","v":1},{"$f":"'2016 syoa'!AA6-'2011 syoa'!AA6","v":-17},{"$f":"'2016 syoa'!AB6-'2011 syoa'!AB6","v":12},{"$f":"'2016 syoa'!AC6-'2011 syoa'!AC6","v":22},{"$f":"'2016 syoa'!AD6-'2011 syoa'!AD6","v":1},{"$f":"'2016 syoa'!AE6-'2011 syoa'!AE6","v":-20},{"$f":"'2016 syoa'!AF6-'2011 syoa'!AF6","v":61},{"$f":"'2016 syoa'!AG6-'2011 syoa'!AG6","v":-17},{"$f":"'2016 syoa'!AH6-'2011 syoa'!AH6","v":-2},{"$f":"'2016 syoa'!AI6-'2011 syoa'!AI6","v":-9},{"$f":"'2016 syoa'!AJ6-'2011 syoa'!AJ6","v":32},{"$f":"'2016 syoa'!AK6-'2011 syoa'!AK6","v":-23},{"$f":"'2016 syoa'!AL6-'2011 syoa'!AL6","v":52},{"$f":"'2016 syoa'!AM6-'2011 syoa'!AM6","v":14},{"$f":"'2016 syoa'!AN6-'2011 syoa'!AN6","v":11},{"$f":"'2016 syoa'!AO6-'2011 syoa'!AO6","v":34},{"$f":"'2016 syoa'!AP6-'2011 syoa'!AP6","v":22},{"$f":"'2016 syoa'!AQ6-'2011 syoa'!AQ6","v":27},{"$f":"'2016 syoa'!AR6-'2011 syoa'!AR6","v":64},{"$f":"'2016 syoa'!AS6-'2011 syoa'!AS6","v":40},{"$f":"'2016 syoa'!AT6-'2011 syoa'!AT6","v":-19},{"$f":"'2016 syoa'!AU6-'2011 syoa'!AU6","v":29},{"$f":"'2016 syoa'!AV6-'2011 syoa'!AV6","v":15},{"$f":"'2016 syoa'!AW6-'2011 syoa'!AW6","v":27},{"$f":"'2016 syoa'!AX6-'2011 syoa'!AX6","v":7},{"$f":"'2016 syoa'!AY6-'2011 syoa'!AY6","v":72},{"$f":"'2016 syoa'!AZ6-'2011 syoa'!AZ6","v":34},{"$f":"'2016 syoa'!BA6-'2011 syoa'!BA6","v":16},{"$f":"'2016 syoa'!BB6-'2011 syoa'!BB6","v":-7},{"$f":"'2016 syoa'!BC6-'2011 syoa'!BC6","v":44},{"$f":"'2016 syoa'!BD6-'2011 syoa'!BD6","v":45},{"$f":"'2016 syoa'!BE6-'2011 syoa'!BE6","v":19},{"$f":"'2016 syoa'!BF6-'2011 syoa'!BF6","v":25},{"$f":"'2016 syoa'!BG6-'2011 syoa'!BG6","v":29},{"$f":"'2016 syoa'!BH6-'2011 syoa'!BH6","v":44},{"$f":"'2016 syoa'!BI6-'2011 syoa'!BI6","v":8},{"$f":"'2016 syoa'!BJ6-'2011 syoa'!BJ6","v":6},{"$f":"'2016 syoa'!BK6-'2011 syoa'!BK6","v":-2},{"$f":"'2016 syoa'!BL6-'2011 syoa'!BL6","v":4},{"$f":"'2016 syoa'!BM6-'2011 syoa'!BM6","v":30},{"$f":"'2016 syoa'!BN6-'2011 syoa'!BN6","v":34},{"$f":"'2016 syoa'!BO6-'2011 syoa'!BO6","v":44},{"$f":"'2016 syoa'!BP6-'2011 syoa'!BP6","v":61},{"$f":"'2016 syoa'!BQ6-'2011 syoa'!BQ6","v":18},{"$f":"'2016 syoa'!BR6-'2011 syoa'!BR6","v":10},{"$f":"'2016 syoa'!BS6-'2011 syoa'!BS6","v":24},{"$f":"'2016 syoa'!BT6-'2011 syoa'!BT6","v":5},{"$f":"'2016 syoa'!BU6-'2011 syoa'!BU6","v":3},{"$f":"'2016 syoa'!BV6-'2011 syoa'!BV6","v":-5},{"$f":"'2016 syoa'!BW6-'2011 syoa'!BW6","v":1},{"$f":"'2016 syoa'!BX6-'2011 syoa'!BX6","v":-15},{"$f":"'2016 syoa'!BY6-'2011 syoa'!BY6","v":-34},{"$f":"'2016 syoa'!BZ6-'2011 syoa'!BZ6","v":-17},{"$f":"'2016 syoa'!CA6-'2011 syoa'!CA6","v":7},{"$f":"'2016 syoa'!CB6-'2011 syoa'!CB6","v":-34},{"$f":"'2016 syoa'!CC6-'2011 syoa'!CC6","v":-32},{"$f":"'2016 syoa'!CD6-'2011 syoa'!CD6","v":-1},{"$f":"'2016 syoa'!CE6-'2011 syoa'!CE6","v":0},{"$f":"'2016 syoa'!CF6-'2011 syoa'!CF6","v":-16},{"$f":"'2016 syoa'!CG6-'2011 syoa'!CG6","v":10},{"$f":"'2016 syoa'!CH6-'2011 syoa'!CH6","v":19},{"$f":"'2016 syoa'!CI6-'2011 syoa'!CI6","v":-3},{"$f":"'2016 syoa'!CJ6-'2011 syoa'!CJ6","v":6},{"$f":"'2016 syoa'!CK6-'2011 syoa'!CK6","v":4},{"$f":"'2016 syoa'!CL6-'2011 syoa'!CL6","v":6},{"$f":"'2016 syoa'!CM6-'2011 syoa'!CM6","v":2},{"$f":"'2016 syoa'!CN6-'2011 syoa'!CN6","v":11},{"$f":"'2016 syoa'!CO6-'2011 syoa'!CO6","v":4},{"$f":"'2016 syoa'!CP6-'2011 syoa'!CP6","v":3},{"$f":"'2016 syoa'!CQ6-'2011 syoa'!CQ6","v":83},{"$f":"'2016 syoa'!CR6-'2011 syoa'!CR6","v":949},{"$f":"'2016 syoa'!CS6-'2011 syoa'!CS6","v":5},{"$f":"'2016 syoa'!CT6-'2011 syoa'!CT6","v":-2},{"$f":"'2016 syoa'!CU6-'2011 syoa'!CU6","v":-10},{"$f":"'2016 syoa'!CV6-'2011 syoa'!CV6","v":-52},{"$f":"'2016 syoa'!CW6-'2011 syoa'!CW6","v":24},{"$f":"'2016 syoa'!CX6-'2011 syoa'!CX6","v":-21},{"$f":"'2016 syoa'!CY6-'2011 syoa'!CY6","v":-10},{"$f":"'2016 syoa'!CZ6-'2011 syoa'!CZ6","v":49},{"$f":"'2016 syoa'!DA6-'2011 syoa'!DA6","v":19},{"$f":"'2016 syoa'!DB6-'2011 syoa'!DB6","v":15},{"$f":"'2016 syoa'!DC6-'2011 syoa'!DC6","v":35},{"$f":"'2016 syoa'!DD6-'2011 syoa'!DD6","v":19},{"$f":"'2016 syoa'!DE6-'2011 syoa'!DE6","v":51},{"$f":"'2016 syoa'!DF6-'2011 syoa'!DF6","v":9},{"$f":"'2016 syoa'!DG6-'2011 syoa'!DG6","v":-42},{"$f":"'2016 syoa'!DH6-'2011 syoa'!DH6","v":26},{"$f":"'2016 syoa'!DI6-'2011 syoa'!DI6","v":36},{"$f":"'2016 syoa'!DJ6-'2011 syoa'!DJ6","v":5},{"$f":"'2016 syoa'!DK6-'2011 syoa'!DK6","v":7},{"$f":"'2016 syoa'!DL6-'2011 syoa'!DL6","v":-12},{"$f":"'2016 syoa'!DM6-'2011 syoa'!DM6","v":-87},{"$f":"'2016 syoa'!DN6-'2011 syoa'!DN6","v":54},{"$f":"'2016 syoa'!DO6-'2011 syoa'!DO6","v":-27},{"$f":"'2016 syoa'!DP6-'2011 syoa'!DP6","v":68},{"$f":"'2016 syoa'!DQ6-'2011 syoa'!DQ6","v":52},{"$f":"'2016 syoa'!DR6-'2011 syoa'!DR6","v":29},{"$f":"'2016 syoa'!DS6-'2011 syoa'!DS6","v":22},{"$f":"'2016 syoa'!DT6-'2011 syoa'!DT6","v":-29},{"$f":"'2016 syoa'!DU6-'2011 syoa'!DU6","v":-12},{"$f":"'2016 syoa'!DV6-'2011 syoa'!DV6","v":19},{"$f":"'2016 syoa'!DW6-'2011 syoa'!DW6","v":28},{"$f":"'2016 syoa'!DX6-'2011 syoa'!DX6","v":-29},{"$f":"'2016 syoa'!DY6-'2011 syoa'!DY6","v":-15},{"$f":"'2016 syoa'!DZ6-'2011 syoa'!DZ6","v":35},{"$f":"'2016 syoa'!EA6-'2011 syoa'!EA6","v":26},{"$f":"'2016 syoa'!EB6-'2011 syoa'!EB6","v":36},{"$f":"'2016 syoa'!EC6-'2011 syoa'!EC6","v":50},{"$f":"'2016 syoa'!ED6-'2011 syoa'!ED6","v":20},{"$f":"'2016 syoa'!EE6-'2011 syoa'!EE6","v":-32},{"$f":"'2016 syoa'!EF6-'2011 syoa'!EF6","v":5},{"$f":"'2016 syoa'!EG6-'2011 syoa'!EG6","v":7},{"$f":"'2016 syoa'!EH6-'2011 syoa'!EH6","v":-5},{"$f":"'2016 syoa'!EI6-'2011 syoa'!EI6","v":18},{"$f":"'2016 syoa'!EJ6-'2011 syoa'!EJ6","v":51},{"$f":"'2016 syoa'!EK6-'2011 syoa'!EK6","v":0},{"$f":"'2016 syoa'!EL6-'2011 syoa'!EL6","v":33},{"$f":"'2016 syoa'!EM6-'2011 syoa'!EM6","v":41},{"$f":"'2016 syoa'!EN6-'2011 syoa'!EN6","v":-8},{"$f":"'2016 syoa'!EO6-'2011 syoa'!EO6","v":11},{"$f":"'2016 syoa'!EP6-'2011 syoa'!EP6","v":15},{"$f":"'2016 syoa'!EQ6-'2011 syoa'!EQ6","v":-4},{"$f":"'2016 syoa'!ER6-'2011 syoa'!ER6","v":17},{"$f":"'2016 syoa'!ES6-'2011 syoa'!ES6","v":50},{"$f":"'2016 syoa'!ET6-'2011 syoa'!ET6","v":24},{"$f":"'2016 syoa'!EU6-'2011 syoa'!EU6","v":42},{"$f":"'2016 syoa'!EV6-'2011 syoa'!EV6","v":32},{"$f":"'2016 syoa'!EW6-'2011 syoa'!EW6","v":27},{"$f":"'2016 syoa'!EX6-'2011 syoa'!EX6","v":4},{"$f":"'2016 syoa'!EY6-'2011 syoa'!EY6","v":16},{"$f":"'2016 syoa'!EZ6-'2011 syoa'!EZ6","v":-2},{"$f":"'2016 syoa'!FA6-'2011 syoa'!FA6","v":21},{"$f":"'2016 syoa'!FB6-'2011 syoa'!FB6","v":15},{"$f":"'2016 syoa'!FC6-'2011 syoa'!FC6","v":25},{"$f":"'2016 syoa'!FD6-'2011 syoa'!FD6","v":19},{"$f":"'2016 syoa'!FE6-'2011 syoa'!FE6","v":27},{"$f":"'2016 syoa'!FF6-'2011 syoa'!FF6","v":28},{"$f":"'2016 syoa'!FG6-'2011 syoa'!FG6","v":22},{"$f":"'2016 syoa'!FH6-'2011 syoa'!FH6","v":30},{"$f":"'2016 syoa'!FI6-'2011 syoa'!FI6","v":-4},{"$f":"'2016 syoa'!FJ6-'2011 syoa'!FJ6","v":-1},{"$f":"'2016 syoa'!FK6-'2011 syoa'!FK6","v":-30},{"$f":"'2016 syoa'!FL6-'2011 syoa'!FL6","v":-36},{"$f":"'2016 syoa'!FM6-'2011 syoa'!FM6","v":-33},{"$f":"'2016 syoa'!FN6-'2011 syoa'!FN6","v":4},{"$f":"'2016 syoa'!FO6-'2011 syoa'!FO6","v":-15},{"$f":"'2016 syoa'!FP6-'2011 syoa'!FP6","v":-3},{"$f":"'2016 syoa'!FQ6-'2011 syoa'!FQ6","v":18},{"$f":"'2016 syoa'!FR6-'2011 syoa'!FR6","v":18},{"$f":"'2016 syoa'!FS6-'2011 syoa'!FS6","v":17},{"$f":"'2016 syoa'!FT6-'2011 syoa'!FT6","v":23},{"$f":"'2016 syoa'!FU6-'2011 syoa'!FU6","v":-4},{"$f":"'2016 syoa'!FV6-'2011 syoa'!FV6","v":12},{"$f":"'2016 syoa'!FW6-'2011 syoa'!FW6","v":-7},{"$f":"'2016 syoa'!FX6-'2011 syoa'!FX6","v":-6},{"$f":"'2016 syoa'!FY6-'2011 syoa'!FY6","v":-1},{"$f":"'2016 syoa'!FZ6-'2011 syoa'!FZ6","v":23},{"$f":"'2016 syoa'!GA6-'2011 syoa'!GA6","v":10},{"$f":"'2016 syoa'!GB6-'2011 syoa'!GB6","v":7},{"$f":"'2016 syoa'!GC6-'2011 syoa'!GC6","v":13},{"$f":"'2016 syoa'!GD6-'2011 syoa'!GD6","v":12},{"$f":"'2016 syoa'!GE6-'2011 syoa'!GE6","v":12}]
["Bartley Green","Edgbaston","E05001180",{"$f":"'2016 syoa'!D7-'2011 syoa'!D7","v":462},{"$f":"'2016 syoa'!E7-'2011 syoa'!E7","v":17},{"$f":"'2016 syoa'!F7-'2011 syoa'!F7","v":34},{"$f":"'2016 syoa'!G7-'2011 syoa'!G7","v":-8},{"$f":"'2016 syoa'!H7-'2011 syoa'!H7","v":-19},{"$f":"'2016 syoa'!I7-'2011 syoa'!I7","v":43},{"$f":"'2016 syoa'!J7-'2011 syoa'!J7","v":29},{"$f":"'2016 syoa'!K7-'2011 syoa'!K7","v":45},{"$f":"'2016 syoa'!L7-'2011 syoa'!L7","v":71},{"$f":"'2016 syoa'!M7-'2011 syoa'!M7","v":28},{"$f":"'2016 syoa'!N7-'2011 syoa'!N7","v":0},{"$f":"'2016 syoa'!O7-'2011 syoa'!O7","v":4},{"$f":"'2016 syoa'!P7-'2011 syoa'!P7","v":-17},{"$f":"'2016 syoa'!Q7-'2011 syoa'!Q7","v":-3},{"$f":"'2016 syoa'!R7-'2011 syoa'!R7","v":-28},{"$f":"'2016 syoa'!S7-'2011 syoa'!S7","v":3},{"$f":"'2016 syoa'!T7-'2011 syoa'!T7","v":-4},{"$f":"'2016 syoa'!U7-'2011 syoa'!U7","v":14},{"$f":"'2016 syoa'!V7-'2011 syoa'!V7","v":-42},{"$f":"'2016 syoa'!W7-'2011 syoa'!W7","v":1},{"$f":"'2016 syoa'!X7-'2011 syoa'!X7","v":-34},{"$f":"'2016 syoa'!Y7-'2011 syoa'!Y7","v":20},{"$f":"'2016 syoa'!Z7-'2011 syoa'!Z7","v":9},{"$f":"'2016 syoa'!AA7-'2011 syoa'!AA7","v":52},{"$f":"'2016 syoa'!AB7-'2011 syoa'!AB7","v":24},{"$f":"'2016 syoa'!AC7-'2011 syoa'!AC7","v":36},{"$f":"'2016 syoa'!AD7-'2011 syoa'!AD7","v":24},{"$f":"'2016 syoa'!AE7-'2011 syoa'!AE7","v":21},{"$f":"'2016 syoa'!AF7-'2011 syoa'!AF7","v":-31},{"$f":"'2016 syoa'!AG7-'2011 syoa'!AG7","v":-14},{"$f":"'2016 syoa'!AH7-'2011 syoa'!AH7","v":0},{"$f":"'2016 syoa'!AI7-'2011 syoa'!AI7","v":7},{"$f":"'2016 syoa'!AJ7-'2011 syoa'!AJ7","v":-18},{"$f":"'2016 syoa'!AK7-'2011 syoa'!AK7","v":-5},{"$f":"'2016 syoa'!AL7-'2011 syoa'!AL7","v":28},{"$f":"'2016 syoa'!AM7-'2011 syoa'!AM7","v":15},{"$f":"'2016 syoa'!AN7-'2011 syoa'!AN7","v":20},{"$f":"'2016 syoa'!AO7-'2011 syoa'!AO7","v":-23},{"$f":"'2016 syoa'!AP7-'2011 syoa'!AP7","v":1},{"$f":"'2016 syoa'!AQ7-'2011 syoa'!AQ7","v":-17},{"$f":"'2016 syoa'!AR7-'2011 syoa'!AR7","v":-2},{"$f":"'2016 syoa'!AS7-'2011 syoa'!AS7","v":-13},{"$f":"'2016 syoa'!AT7-'2011 syoa'!AT7","v":11},{"$f":"'2016 syoa'!AU7-'2011 syoa'!AU7","v":-8},{"$f":"'2016 syoa'!AV7-'2011 syoa'!AV7","v":-32},{"$f":"'2016 syoa'!AW7-'2011 syoa'!AW7","v":3},{"$f":"'2016 syoa'!AX7-'2011 syoa'!AX7","v":1},{"$f":"'2016 syoa'!AY7-'2011 syoa'!AY7","v":-10},{"$f":"'2016 syoa'!AZ7-'2011 syoa'!AZ7","v":-4},{"$f":"'2016 syoa'!BA7-'2011 syoa'!BA7","v":7},{"$f":"'2016 syoa'!BB7-'2011 syoa'!BB7","v":-8},{"$f":"'2016 syoa'!BC7-'2011 syoa'!BC7","v":5},{"$f":"'2016 syoa'!BD7-'2011 syoa'!BD7","v":21},{"$f":"'2016 syoa'!BE7-'2011 syoa'!BE7","v":24},{"$f":"'2016 syoa'!BF7-'2011 syoa'!BF7","v":10},{"$f":"'2016 syoa'!BG7-'2011 syoa'!BG7","v":26},{"$f":"'2016 syoa'!BH7-'2011 syoa'!BH7","v":29},{"$f":"'2016 syoa'!BI7-'2011 syoa'!BI7","v":-28},{"$f":"'2016 syoa'!BJ7-'2011 syoa'!BJ7","v":-15},{"$f":"'2016 syoa'!BK7-'2011 syoa'!BK7","v":11},{"$f":"'2016 syoa'!BL7-'2011 syoa'!BL7","v":3},{"$f":"'2016 syoa'!BM7-'2011 syoa'!BM7","v":-33},{"$f":"'2016 syoa'!BN7-'2011 syoa'!BN7","v":22},{"$f":"'2016 syoa'!BO7-'2011 syoa'!BO7","v":-12},{"$f":"'2016 syoa'!BP7-'2011 syoa'!BP7","v":-12},{"$f":"'2016 syoa'!BQ7-'2011 syoa'!BQ7","v":-51},{"$f":"'2016 syoa'!BR7-'2011 syoa'!BR7","v":2},{"$f":"'2016 syoa'!BS7-'2011 syoa'!BS7","v":-15},{"$f":"'2016 syoa'!BT7-'2011 syoa'!BT7","v":-1},{"$f":"'2016 syoa'!BU7-'2011 syoa'!BU7","v":22},{"$f":"'2016 syoa'!BV7-'2011 syoa'!BV7","v":60},{"$f":"'2016 syoa'!BW7-'2011 syoa'!BW7","v":27},{"$f":"'2016 syoa'!BX7-'2011 syoa'!BX7","v":45},{"$f":"'2016 syoa'!BY7-'2011 syoa'!BY7","v":26},{"$f":"'2016 syoa'!BZ7-'2011 syoa'!BZ7","v":21},{"$f":"'2016 syoa'!CA7-'2011 syoa'!CA7","v":23},{"$f":"'2016 syoa'!CB7-'2011 syoa'!CB7","v":-10},{"$f":"'2016 syoa'!CC7-'2011 syoa'!CC7","v":-10},{"$f":"'2016 syoa'!CD7-'2011 syoa'!CD7","v":0},{"$f":"'2016 syoa'!CE7-'2011 syoa'!CE7","v":23},{"$f":"'2016 syoa'!CF7-'2011 syoa'!CF7","v":-12},{"$f":"'2016 syoa'!CG7-'2011 syoa'!CG7","v":11},{"$f":"'2016 syoa'!CH7-'2011 syoa'!CH7","v":-1},{"$f":"'2016 syoa'!CI7-'2011 syoa'!CI7","v":-17},{"$f":"'2016 syoa'!CJ7-'2011 syoa'!CJ7","v":18},{"$f":"'2016 syoa'!CK7-'2011 syoa'!CK7","v":-11},{"$f":"'2016 syoa'!CL7-'2011 syoa'!CL7","v":6},{"$f":"'2016 syoa'!CM7-'2011 syoa'!CM7","v":16},{"$f":"'2016 syoa'!CN7-'2011 syoa'!CN7","v":13},{"$f":"'2016 syoa'!CO7-'2011 syoa'!CO7","v":-11},{"$f":"'2016 syoa'!CP7-'2011 syoa'!CP7","v":4},{"$f":"'2016 syoa'!CQ7-'2011 syoa'!CQ7","v":5},{"$f":"'2016 syoa'!CR7-'2011 syoa'!CR7","v":417},{"$f":"'2016 syoa'!CS7-'2011 syoa'!CS7","v":22},{"$f":"'2016 syoa'!CT7-'2011 syoa'!CT7","v":42},{"$f":"'2016 syoa'!CU7-'2011 syoa'!CU7","v":28},{"$f":"'2016 syoa'!CV7-'2011 syoa'!CV7","v":-6},{"$f":"'2016 syoa'!CW7-'2011 syoa'!CW7","v":23},{"$f":"'2016 syoa'!CX7-'2011 syoa'!CX7","v":8},{"$f":"'2016 syoa'!CY7-'2011 syoa'!CY7","v":-1},{"$f":"'2016 syoa'!CZ7-'2011 syoa'!CZ7","v":33},{"$f":"'2016 syoa'!DA7-'2011 syoa'!DA7","v":44},{"$f":"'2016 syoa'!DB7-'2011 syoa'!DB7","v":30},{"$f":"'2016 syoa'!DC7-'2011 syoa'!DC7","v":39},{"$f":"'2016 syoa'!DD7-'2011 syoa'!DD7","v":24},{"$f":"'2016 syoa'!DE7-'2011 syoa'!DE7","v":7},{"$f":"'2016 syoa'!DF7-'2011 syoa'!DF7","v":-34},{"$f":"'2016 syoa'!DG7-'2011 syoa'!DG7","v":-38},{"$f":"'2016 syoa'!DH7-'2011 syoa'!DH7","v":5},{"$f":"'2016 syoa'!DI7-'2011 syoa'!DI7","v":-10},{"$f":"'2016 syoa'!DJ7-'2011 syoa'!DJ7","v":4},{"$f":"'2016 syoa'!DK7-'2011 syoa'!DK7","v":-10},{"$f":"'2016 syoa'!DL7-'2011 syoa'!DL7","v":-33},{"$f":"'2016 syoa'!DM7-'2011 syoa'!DM7","v":-19},{"$f":"'2016 syoa'!DN7-'2011 syoa'!DN7","v":-6},{"$f":"'2016 syoa'!DO7-'2011 syoa'!DO7","v":6},{"$f":"'2016 syoa'!DP7-'2011 syoa'!DP7","v":-17},{"$f":"'2016 syoa'!DQ7-'2011 syoa'!DQ7","v":19},{"$f":"'2016 syoa'!DR7-'2011 syoa'!DR7","v":81},{"$f":"'2016 syoa'!DS7-'2011 syoa'!DS7","v":25},{"$f":"'2016 syoa'!DT7-'2011 syoa'!DT7","v":43},{"$f":"'2016 syoa'!DU7-'2011 syoa'!DU7","v":1},{"$f":"'2016 syoa'!DV7-'2011 syoa'!DV7","v":1},{"$f":"'2016 syoa'!DW7-'2011 syoa'!DW7","v":-29},{"$f":"'2016 syoa'!DX7-'2011 syoa'!DX7","v":-24},{"$f":"'2016 syoa'!DY7-'2011 syoa'!DY7","v":-33},{"$f":"'2016 syoa'!DZ7-'2011 syoa'!DZ7","v":-14},{"$f":"'2016 syoa'!EA7-'2011 syoa'!EA7","v":5},{"$f":"'2016 syoa'!EB7-'2011 syoa'!EB7","v":39},{"$f":"'2016 syoa'!EC7-'2011 syoa'!EC7","v":31},{"$f":"'2016 syoa'!ED7-'2011 syoa'!ED7","v":13},{"$f":"'2016 syoa'!EE7-'2011 syoa'!EE7","v":-44},{"$f":"'2016 syoa'!EF7-'2011 syoa'!EF7","v":-10},{"$f":"'2016 syoa'!EG7-'2011 syoa'!EG7","v":-13},{"$f":"'2016 syoa'!EH7-'2011 syoa'!EH7","v":-10},{"$f":"'2016 syoa'!EI7-'2011 syoa'!EI7","v":-11},{"$f":"'2016 syoa'!EJ7-'2011 syoa'!EJ7","v":34},{"$f":"'2016 syoa'!EK7-'2011 syoa'!EK7","v":11},{"$f":"'2016 syoa'!EL7-'2011 syoa'!EL7","v":0},{"$f":"'2016 syoa'!EM7-'2011 syoa'!EM7","v":-6},{"$f":"'2016 syoa'!EN7-'2011 syoa'!EN7","v":2},{"$f":"'2016 syoa'!EO7-'2011 syoa'!EO7","v":-8},{"$f":"'2016 syoa'!EP7-'2011 syoa'!EP7","v":-26},{"$f":"'2016 syoa'!EQ7-'2011 syoa'!EQ7","v":14},{"$f":"'2016 syoa'!ER7-'2011 syoa'!ER7","v":43},{"$f":"'2016 syoa'!ES7-'2011 syoa'!ES7","v":1},{"$f":"'2016 syoa'!ET7-'2011 syoa'!ET7","v":0},{"$f":"'2016 syoa'!EU7-'2011 syoa'!EU7","v":33},{"$f":"'2016 syoa'!EV7-'2011 syoa'!EV7","v":8},{"$f":"'2016 syoa'!EW7-'2011 syoa'!EW7","v":7},{"$f":"'2016 syoa'!EX7-'2011 syoa'!EX7","v":-15},{"$f":"'2016 syoa'!EY7-'2011 syoa'!EY7","v":10},{"$f":"'2016 syoa'!EZ7-'2011 syoa'!EZ7","v":-6},{"$f":"'2016 syoa'!FA7-'2011 syoa'!FA7","v":-15},{"$f":"'2016 syoa'!FB7-'2011 syoa'!FB7","v":1},{"$f":"'2016 syoa'!FC7-'2011 syoa'!FC7","v":3},{"$f":"'2016 syoa'!FD7-'2011 syoa'!FD7","v":-32},{"$f":"'2016 syoa'!FE7-'2011 syoa'!FE7","v":-44},{"$f":"'2016 syoa'!FF7-'2011 syoa'!FF7","v":0},{"$f":"'2016 syoa'!FG7-'2011 syoa'!FG7","v":23},{"$f":"'2016 syoa'!FH7-'2011 syoa'!FH7","v":62},{"$f":"'2016 syoa'!FI7-'2011 syoa'!FI7","v":17},{"$f":"'2016 syoa'!FJ7-'2011 syoa'!FJ7","v":65},{"$f":"'2016 syoa'!FK7-'2011 syoa'!FK7","v":48},{"$f":"'2016 syoa'!FL7-'2011 syoa'!FL7","v":-5},{"$f":"'2016 syoa'!FM7-'2011 syoa'!FM7","v":13},{"$f":"'2016 syoa'!FN7-'2011 syoa'!FN7","v":44},{"$f":"'2016 syoa'!FO7-'2011 syoa'!FO7","v":-7},{"$f":"'2016 syoa'!FP7-'2011 syoa'!FP7","v":-3},{"$f":"'2016 syoa'!FQ7-'2011 syoa'!FQ7","v":14},{"$f":"'2016 syoa'!FR7-'2011 syoa'!FR7","v":-9},{"$f":"'2016 syoa'!FS7-'2011 syoa'!FS7","v":-8},{"$f":"'2016 syoa'!FT7-'2011 syoa'!FT7","v":2},{"$f":"'2016 syoa'!FU7-'2011 syoa'!FU7","v":0},{"$f":"'2016 syoa'!FV7-'2011 syoa'!FV7","v":-22},{"$f":"'2016 syoa'!FW7-'2011 syoa'!FW7","v":-9},{"$f":"'2016 syoa'!FX7-'2011 syoa'!FX7","v":-14},{"$f":"'2016 syoa'!FY7-'2011 syoa'!FY7","v":-14},{"$f":"'2016 syoa'!FZ7-'2011 syoa'!FZ7","v":3},{"$f":"'2016 syoa'!GA7-'2011 syoa'!GA7","v":-3},{"$f":"'2016 syoa'!GB7-'2011 syoa'!GB7","v":-11},{"$f":"'2016 syoa'!GC7-'2011 syoa'!GC7","v":1},{"$f":"'2016 syoa'!GD7-'2011 syoa'!GD7","v":-2},{"$f":"'2016 syoa'!GE7-'2011 syoa'!GE7","v":6}]
["Billesley","Selly Oak","E05001181",{"$f":"'2016 syoa'!D8-'2011 syoa'!D8","v":152},{"$f":"'2016 syoa'!E8-'2011 syoa'!E8","v":23},{"$f":"'2016 syoa'!F8-'2011 syoa'!F8","v":8},{"$f":"'2016 syoa'!G8-'2011 syoa'!G8","v":21},{"$f":"'2016 syoa'!H8-'2011 syoa'!H8","v":52},{"$f":"'2016 syoa'!I8-'2011 syoa'!I8","v":8},{"$f":"'2016 syoa'!J8-'2011 syoa'!J8","v":39},{"$f":"'2016 syoa'!K8-'2011 syoa'!K8","v":-13},{"$f":"'2016 syoa'!L8-'2011 syoa'!L8","v":52},{"$f":"'2016 syoa'!M8-'2011 syoa'!M8","v":42},{"$f":"'2016 syoa'!N8-'2011 syoa'!N8","v":30},{"$f":"'2016 syoa'!O8-'2011 syoa'!O8","v":-45},{"$f":"'2016 syoa'!P8-'2011 syoa'!P8","v":4},{"$f":"'2016 syoa'!Q8-'2011 syoa'!Q8","v":-71},{"$f":"'2016 syoa'!R8-'2011 syoa'!R8","v":-55},{"$f":"'2016 syoa'!S8-'2011 syoa'!S8","v":-15},{"$f":"'2016 syoa'!T8-'2011 syoa'!T8","v":-25},{"$f":"'2016 syoa'!U8-'2011 syoa'!U8","v":1},{"$f":"'2016 syoa'!V8-'2011 syoa'!V8","v":3},{"$f":"'2016 syoa'!W8-'2011 syoa'!W8","v":-1},{"$f":"'2016 syoa'!X8-'2011 syoa'!X8","v":-23},{"$f":"'2016 syoa'!Y8-'2011 syoa'!Y8","v":9},{"$f":"'2016 syoa'!Z8-'2011 syoa'!Z8","v":25},{"$f":"'2016 syoa'!AA8-'2011 syoa'!AA8","v":12},{"$f":"'2016 syoa'!AB8-'2011 syoa'!AB8","v":-6},{"$f":"'2016 syoa'!AC8-'2011 syoa'!AC8","v":15},{"$f":"'2016 syoa'!AD8-'2011 syoa'!AD8","v":65},{"$f":"'2016 syoa'!AE8-'2011 syoa'!AE8","v":2},{"$f":"'2016 syoa'!AF8-'2011 syoa'!AF8","v":-8},{"$f":"'2016 syoa'!AG8-'2011 syoa'!AG8","v":44},{"$f":"'2016 syoa'!AH8-'2011 syoa'!AH8","v":-20},{"$f":"'2016 syoa'!AI8-'2011 syoa'!AI8","v":-7},{"$f":"'2016 syoa'!AJ8-'2011 syoa'!AJ8","v":5},{"$f":"'2016 syoa'!AK8-'2011 syoa'!AK8","v":19},{"$f":"'2016 syoa'!AL8-'2011 syoa'!AL8","v":14},{"$f":"'2016 syoa'!AM8-'2011 syoa'!AM8","v":21},{"$f":"'2016 syoa'!AN8-'2011 syoa'!AN8","v":29},{"$f":"'2016 syoa'!AO8-'2011 syoa'!AO8","v":9},{"$f":"'2016 syoa'!AP8-'2011 syoa'!AP8","v":36},{"$f":"'2016 syoa'!AQ8-'2011 syoa'!AQ8","v":-30},{"$f":"'2016 syoa'!AR8-'2011 syoa'!AR8","v":-35},{"$f":"'2016 syoa'!AS8-'2011 syoa'!AS8","v":-28},{"$f":"'2016 syoa'!AT8-'2011 syoa'!AT8","v":-59},{"$f":"'2016 syoa'!AU8-'2011 syoa'!AU8","v":-31},{"$f":"'2016 syoa'!AV8-'2011 syoa'!AV8","v":-12},{"$f":"'2016 syoa'!AW8-'2011 syoa'!AW8","v":-57},{"$f":"'2016 syoa'!AX8-'2011 syoa'!AX8","v":-30},{"$f":"'2016 syoa'!AY8-'2011 syoa'!AY8","v":-4},{"$f":"'2016 syoa'!AZ8-'2011 syoa'!AZ8","v":3},{"$f":"'2016 syoa'!BA8-'2011 syoa'!BA8","v":-32},{"$f":"'2016 syoa'!BB8-'2011 syoa'!BB8","v":12},{"$f":"'2016 syoa'!BC8-'2011 syoa'!BC8","v":-7},{"$f":"'2016 syoa'!BD8-'2011 syoa'!BD8","v":-13},{"$f":"'2016 syoa'!BE8-'2011 syoa'!BE8","v":-23},{"$f":"'2016 syoa'!BF8-'2011 syoa'!BF8","v":0},{"$f":"'2016 syoa'!BG8-'2011 syoa'!BG8","v":13},{"$f":"'2016 syoa'!BH8-'2011 syoa'!BH8","v":5},{"$f":"'2016 syoa'!BI8-'2011 syoa'!BI8","v":23},{"$f":"'2016 syoa'!BJ8-'2011 syoa'!BJ8","v":0},{"$f":"'2016 syoa'!BK8-'2011 syoa'!BK8","v":19},{"$f":"'2016 syoa'!BL8-'2011 syoa'!BL8","v":-12},{"$f":"'2016 syoa'!BM8-'2011 syoa'!BM8","v":17},{"$f":"'2016 syoa'!BN8-'2011 syoa'!BN8","v":12},{"$f":"'2016 syoa'!BO8-'2011 syoa'!BO8","v":12},{"$f":"'2016 syoa'!BP8-'2011 syoa'!BP8","v":-14},{"$f":"'2016 syoa'!BQ8-'2011 syoa'!BQ8","v":5},{"$f":"'2016 syoa'!BR8-'2011 syoa'!BR8","v":7},{"$f":"'2016 syoa'!BS8-'2011 syoa'!BS8","v":37},{"$f":"'2016 syoa'!BT8-'2011 syoa'!BT8","v":-1},{"$f":"'2016 syoa'!BU8-'2011 syoa'!BU8","v":25},{"$f":"'2016 syoa'!BV8-'2011 syoa'!BV8","v":21},{"$f":"'2016 syoa'!BW8-'2011 syoa'!BW8","v":28},{"$f":"'2016 syoa'!BX8-'2011 syoa'!BX8","v":-2},{"$f":"'2016 syoa'!BY8-'2011 syoa'!BY8","v":-10},{"$f":"'2016 syoa'!BZ8-'2011 syoa'!BZ8","v":-31},{"$f":"'2016 syoa'!CA8-'2011 syoa'!CA8","v":11},{"$f":"'2016 syoa'!CB8-'2011 syoa'!CB8","v":-12},{"$f":"'2016 syoa'!CC8-'2011 syoa'!CC8","v":-6},{"$f":"'2016 syoa'!CD8-'2011 syoa'!CD8","v":22},{"$f":"'2016 syoa'!CE8-'2011 syoa'!CE8","v":31},{"$f":"'2016 syoa'!CF8-'2011 syoa'!CF8","v":-13},{"$f":"'2016 syoa'!CG8-'2011 syoa'!CG8","v":-7},{"$f":"'2016 syoa'!CH8-'2011 syoa'!CH8","v":-3},{"$f":"'2016 syoa'!CI8-'2011 syoa'!CI8","v":-5},{"$f":"'2016 syoa'!CJ8-'2011 syoa'!CJ8","v":-17},{"$f":"'2016 syoa'!CK8-'2011 syoa'!CK8","v":-1},{"$f":"'2016 syoa'!CL8-'2011 syoa'!CL8","v":3},{"$f":"'2016 syoa'!CM8-'2011 syoa'!CM8","v":19},{"$f":"'2016 syoa'!CN8-'2011 syoa'!CN8","v":-3},{"$f":"'2016 syoa'!CO8-'2011 syoa'!CO8","v":-3},{"$f":"'2016 syoa'!CP8-'2011 syoa'!CP8","v":1},{"$f":"'2016 syoa'!CQ8-'2011 syoa'!CQ8","v":28},{"$f":"'2016 syoa'!CR8-'2011 syoa'!CR8","v":219},{"$f":"'2016 syoa'!CS8-'2011 syoa'!CS8","v":14},{"$f":"'2016 syoa'!CT8-'2011 syoa'!CT8","v":32},{"$f":"'2016 syoa'!CU8-'2011 syoa'!CU8","v":1},{"$f":"'2016 syoa'!CV8-'2011 syoa'!CV8","v":52},{"$f":"'2016 syoa'!CW8-'2011 syoa'!CW8","v":41},{"$f":"'2016 syoa'!CX8-'2011 syoa'!CX8","v":22},{"$f":"'2016 syoa'!CY8-'2011 syoa'!CY8","v":-20},{"$f":"'2016 syoa'!CZ8-'2011 syoa'!CZ8","v":21},{"$f":"'2016 syoa'!DA8-'2011 syoa'!DA8","v":6},{"$f":"'2016 syoa'!DB8-'2011 syoa'!DB8","v":12},{"$f":"'2016 syoa'!DC8-'2011 syoa'!DC8","v":-3},{"$f":"'2016 syoa'!DD8-'2011 syoa'!DD8","v":41},{"$f":"'2016 syoa'!DE8-'2011 syoa'!DE8","v":8},{"$f":"'2016 syoa'!DF8-'2011 syoa'!DF8","v":-10},{"$f":"'2016 syoa'!DG8-'2011 syoa'!DG8","v":-47},{"$f":"'2016 syoa'!DH8-'2011 syoa'!DH8","v":3},{"$f":"'2016 syoa'!DI8-'2011 syoa'!DI8","v":-57},{"$f":"'2016 syoa'!DJ8-'2011 syoa'!DJ8","v":-34},{"$f":"'2016 syoa'!DK8-'2011 syoa'!DK8","v":-12},{"$f":"'2016 syoa'!DL8-'2011 syoa'!DL8","v":-3},{"$f":"'2016 syoa'!DM8-'2011 syoa'!DM8","v":-19},{"$f":"'2016 syoa'!DN8-'2011 syoa'!DN8","v":11},{"$f":"'2016 syoa'!DO8-'2011 syoa'!DO8","v":3},{"$f":"'2016 syoa'!DP8-'2011 syoa'!DP8","v":-43},{"$f":"'2016 syoa'!DQ8-'2011 syoa'!DQ8","v":-37},{"$f":"'2016 syoa'!DR8-'2011 syoa'!DR8","v":40},{"$f":"'2016 syoa'!DS8-'2011 syoa'!DS8","v":13},{"$f":"'2016 syoa'!DT8-'2011 syoa'!DT8","v":27},{"$f":"'2016 syoa'!DU8-'2011 syoa'!DU8","v":25},{"$f":"'2016 syoa'!DV8-'2011 syoa'!DV8","v":19},{"$f":"'2016 syoa'!DW8-'2011 syoa'!DW8","v":57},{"$f":"'2016 syoa'!DX8-'2011 syoa'!DX8","v":-8},{"$f":"'2016 syoa'!DY8-'2011 syoa'!DY8","v":-9},{"$f":"'2016 syoa'!DZ8-'2011 syoa'!DZ8","v":58},{"$f":"'2016 syoa'!EA8-'2011 syoa'!EA8","v":6},{"$f":"'2016 syoa'!EB8-'2011 syoa'!EB8","v":24},{"$f":"'2016 syoa'!EC8-'2011 syoa'!EC8","v":64},{"$f":"'2016 syoa'!ED8-'2011 syoa'!ED8","v":13},{"$f":"'2016 syoa'!EE8-'2011 syoa'!EE8","v":-20},{"$f":"'2016 syoa'!EF8-'2011 syoa'!EF8","v":-19},{"$f":"'2016 syoa'!EG8-'2011 syoa'!EG8","v":-48},{"$f":"'2016 syoa'!EH8-'2011 syoa'!EH8","v":-43},{"$f":"'2016 syoa'!EI8-'2011 syoa'!EI8","v":-29},{"$f":"'2016 syoa'!EJ8-'2011 syoa'!EJ8","v":-31},{"$f":"'2016 syoa'!EK8-'2011 syoa'!EK8","v":-50},{"$f":"'2016 syoa'!EL8-'2011 syoa'!EL8","v":-41},{"$f":"'2016 syoa'!EM8-'2011 syoa'!EM8","v":-2},{"$f":"'2016 syoa'!EN8-'2011 syoa'!EN8","v":-25},{"$f":"'2016 syoa'!EO8-'2011 syoa'!EO8","v":-15},{"$f":"'2016 syoa'!EP8-'2011 syoa'!EP8","v":-27},{"$f":"'2016 syoa'!EQ8-'2011 syoa'!EQ8","v":13},{"$f":"'2016 syoa'!ER8-'2011 syoa'!ER8","v":4},{"$f":"'2016 syoa'!ES8-'2011 syoa'!ES8","v":49},{"$f":"'2016 syoa'!ET8-'2011 syoa'!ET8","v":35},{"$f":"'2016 syoa'!EU8-'2011 syoa'!EU8","v":49},{"$f":"'2016 syoa'!EV8-'2011 syoa'!EV8","v":11},{"$f":"'2016 syoa'!EW8-'2011 syoa'!EW8","v":4},{"$f":"'2016 syoa'!EX8-'2011 syoa'!EX8","v":26},{"$f":"'2016 syoa'!EY8-'2011 syoa'!EY8","v":30},{"$f":"'2016 syoa'!EZ8-'2011 syoa'!EZ8","v":12},{"$f":"'2016 syoa'!FA8-'2011 syoa'!FA8","v":10},{"$f":"'2016 syoa'!FB8-'2011 syoa'!FB8","v":9},{"$f":"'2016 syoa'!FC8-'2011 syoa'!FC8","v":-7},{"$f":"'2016 syoa'!FD8-'2011 syoa'!FD8","v":-11},{"$f":"'2016 syoa'!FE8-'2011 syoa'!FE8","v":-3},{"$f":"'2016 syoa'!FF8-'2011 syoa'!FF8","v":16},{"$f":"'2016 syoa'!FG8-'2011 syoa'!FG8","v":29},{"$f":"'2016 syoa'!FH8-'2011 syoa'!FH8","v":4},{"$f":"'2016 syoa'!FI8-'2011 syoa'!FI8","v":14},{"$f":"'2016 syoa'!FJ8-'2011 syoa'!FJ8","v":31},{"$f":"'2016 syoa'!FK8-'2011 syoa'!FK8","v":22},{"$f":"'2016 syoa'!FL8-'2011 syoa'!FL8","v":-7},{"$f":"'2016 syoa'!FM8-'2011 syoa'!FM8","v":-11},{"$f":"'2016 syoa'!FN8-'2011 syoa'!FN8","v":-13},{"$f":"'2016 syoa'!FO8-'2011 syoa'!FO8","v":-35},{"$f":"'2016 syoa'!FP8-'2011 syoa'!FP8","v":-23},{"$f":"'2016 syoa'!FQ8-'2011 syoa'!FQ8","v":-12},{"$f":"'2016 syoa'!FR8-'2011 syoa'!FR8","v":11},{"$f":"'2016 syoa'!FS8-'2011 syoa'!FS8","v":2},{"$f":"'2016 syoa'!FT8-'2011 syoa'!FT8","v":-4},{"$f":"'2016 syoa'!FU8-'2011 syoa'!FU8","v":9},{"$f":"'2016 syoa'!FV8-'2011 syoa'!FV8","v":-12},{"$f":"'2016 syoa'!FW8-'2011 syoa'!FW8","v":0},{"$f":"'2016 syoa'!FX8-'2011 syoa'!FX8","v":16},{"$f":"'2016 syoa'!FY8-'2011 syoa'!FY8","v":15},{"$f":"'2016 syoa'!FZ8-'2011 syoa'!FZ8","v":-15},{"$f":"'2016 syoa'!GA8-'2011 syoa'!GA8","v":-9},{"$f":"'2016 syoa'!GB8-'2011 syoa'!GB8","v":-27},{"$f":"'2016 syoa'!GC8-'2011 syoa'!GC8","v":-8},{"$f":"'2016 syoa'!GD8-'2011 syoa'!GD8","v":-5},{"$f":"'2016 syoa'!GE8-'2011 syoa'!GE8","v":39}]
["Bordesley Green","Hodge Hill","E05001182",{"$f":"'2016 syoa'!D9-'2011 syoa'!D9","v":1075},{"$f":"'2016 syoa'!E9-'2011 syoa'!E9","v":-25},{"$f":"'2016 syoa'!F9-'2011 syoa'!F9","v":-34},{"$f":"'2016 syoa'!G9-'2011 syoa'!G9","v":13},{"$f":"'2016 syoa'!H9-'2011 syoa'!H9","v":-12},{"$f":"'2016 syoa'!I9-'2011 syoa'!I9","v":14},{"$f":"'2016 syoa'!J9-'2011 syoa'!J9","v":-6},{"$f":"'2016 syoa'!K9-'2011 syoa'!K9","v":7},{"$f":"'2016 syoa'!L9-'2011 syoa'!L9","v":34},{"$f":"'2016 syoa'!M9-'2011 syoa'!M9","v":2},{"$f":"'2016 syoa'!N9-'2011 syoa'!N9","v":45},{"$f":"'2016 syoa'!O9-'2011 syoa'!O9","v":27},{"$f":"'2016 syoa'!P9-'2011 syoa'!P9","v":66},{"$f":"'2016 syoa'!Q9-'2011 syoa'!Q9","v":-27},{"$f":"'2016 syoa'!R9-'2011 syoa'!R9","v":29},{"$f":"'2016 syoa'!S9-'2011 syoa'!S9","v":-38},{"$f":"'2016 syoa'!T9-'2011 syoa'!T9","v":37},{"$f":"'2016 syoa'!U9-'2011 syoa'!U9","v":5},{"$f":"'2016 syoa'!V9-'2011 syoa'!V9","v":74},{"$f":"'2016 syoa'!W9-'2011 syoa'!W9","v":27},{"$f":"'2016 syoa'!X9-'2011 syoa'!X9","v":122},{"$f":"'2016 syoa'!Y9-'2011 syoa'!Y9","v":54},{"$f":"'2016 syoa'!Z9-'2011 syoa'!Z9","v":19},{"$f":"'2016 syoa'!AA9-'2011 syoa'!AA9","v":24},{"$f":"'2016 syoa'!AB9-'2011 syoa'!AB9","v":27},{"$f":"'2016 syoa'!AC9-'2011 syoa'!AC9","v":-11},{"$f":"'2016 syoa'!AD9-'2011 syoa'!AD9","v":45},{"$f":"'2016 syoa'!AE9-'2011 syoa'!AE9","v":25},{"$f":"'2016 syoa'!AF9-'2011 syoa'!AF9","v":-39},{"$f":"'2016 syoa'!AG9-'2011 syoa'!AG9","v":2},{"$f":"'2016 syoa'!AH9-'2011 syoa'!AH9","v":-6},{"$f":"'2016 syoa'!AI9-'2011 syoa'!AI9","v":-11},{"$f":"'2016 syoa'!AJ9-'2011 syoa'!AJ9","v":13},{"$f":"'2016 syoa'!AK9-'2011 syoa'!AK9","v":9},{"$f":"'2016 syoa'!AL9-'2011 syoa'!AL9","v":22},{"$f":"'2016 syoa'!AM9-'2011 syoa'!AM9","v":-11},{"$f":"'2016 syoa'!AN9-'2011 syoa'!AN9","v":26},{"$f":"'2016 syoa'!AO9-'2011 syoa'!AO9","v":27},{"$f":"'2016 syoa'!AP9-'2011 syoa'!AP9","v":11},{"$f":"'2016 syoa'!AQ9-'2011 syoa'!AQ9","v":-20},{"$f":"'2016 syoa'!AR9-'2011 syoa'!AR9","v":11},{"$f":"'2016 syoa'!AS9-'2011 syoa'!AS9","v":-5},{"$f":"'2016 syoa'!AT9-'2011 syoa'!AT9","v":-12},{"$f":"'2016 syoa'!AU9-'2011 syoa'!AU9","v":12},{"$f":"'2016 syoa'!AV9-'2011 syoa'!AV9","v":26},{"$f":"'2016 syoa'!AW9-'2011 syoa'!AW9","v":25},{"$f":"'2016 syoa'!AX9-'2011 syoa'!AX9","v":14},{"$f":"'2016 syoa'!AY9-'2011 syoa'!AY9","v":78},{"$f":"'2016 syoa'!AZ9-'2011 syoa'!AZ9","v":43},{"$f":"'2016 syoa'!BA9-'2011 syoa'!BA9","v":77},{"$f":"'2016 syoa'!BB9-'2011 syoa'!BB9","v":49},{"$f":"'2016 syoa'!BC9-'2011 syoa'!BC9","v":44},{"$f":"'2016 syoa'!BD9-'2011 syoa'!BD9","v":10},{"$f":"'2016 syoa'!BE9-'2011 syoa'!BE9","v":18},{"$f":"'2016 syoa'!BF9-'2011 syoa'!BF9","v":-9},{"$f":"'2016 syoa'!BG9-'2011 syoa'!BG9","v":-14},{"$f":"'2016 syoa'!BH9-'2011 syoa'!BH9","v":8},{"$f":"'2016 syoa'!BI9-'2011 syoa'!BI9","v":10},{"$f":"'2016 syoa'!BJ9-'2011 syoa'!BJ9","v":11},{"$f":"'2016 syoa'!BK9-'2011 syoa'!BK9","v":19},{"$f":"'2016 syoa'!BL9-'2011 syoa'!BL9","v":15},{"$f":"'2016 syoa'!BM9-'2011 syoa'!BM9","v":32},{"$f":"'2016 syoa'!BN9-'2011 syoa'!BN9","v":42},{"$f":"'2016 syoa'!BO9-'2011 syoa'!BO9","v":19},{"$f":"'2016 syoa'!BP9-'2011 syoa'!BP9","v":45},{"$f":"'2016 syoa'!BQ9-'2011 syoa'!BQ9","v":22},{"$f":"'2016 syoa'!BR9-'2011 syoa'!BR9","v":24},{"$f":"'2016 syoa'!BS9-'2011 syoa'!BS9","v":24},{"$f":"'2016 syoa'!BT9-'2011 syoa'!BT9","v":-6},{"$f":"'2016 syoa'!BU9-'2011 syoa'!BU9","v":-12},{"$f":"'2016 syoa'!BV9-'2011 syoa'!BV9","v":0},{"$f":"'2016 syoa'!BW9-'2011 syoa'!BW9","v":-11},{"$f":"'2016 syoa'!BX9-'2011 syoa'!BX9","v":-38},{"$f":"'2016 syoa'!BY9-'2011 syoa'!BY9","v":-14},{"$f":"'2016 syoa'!BZ9-'2011 syoa'!BZ9","v":-7},{"$f":"'2016 syoa'!CA9-'2011 syoa'!CA9","v":-51},{"$f":"'2016 syoa'!CB9-'2011 syoa'!CB9","v":-13},{"$f":"'2016 syoa'!CC9-'2011 syoa'!CC9","v":-19},{"$f":"'2016 syoa'!CD9-'2011 syoa'!CD9","v":-18},{"$f":"'2016 syoa'!CE9-'2011 syoa'!CE9","v":1},{"$f":"'2016 syoa'!CF9-'2011 syoa'!CF9","v":4},{"$f":"'2016 syoa'!CG9-'2011 syoa'!CG9","v":-3},{"$f":"'2016 syoa'!CH9-'2011 syoa'!CH9","v":-3},{"$f":"'2016 syoa'!CI9-'2011 syoa'!CI9","v":8},{"$f":"'2016 syoa'!CJ9-'2011 syoa'!CJ9","v":6},{"$f":"'2016 syoa'!CK9-'2011 syoa'!CK9","v":11},{"$f":"'2016 syoa'!CL9-'2011 syoa'!CL9","v":-8},{"$f":"'2016 syoa'!CM9-'2011 syoa'!CM9","v":14},{"$f":"'2016 syoa'!CN9-'2011 syoa'!CN9","v":6},{"$f":"'2016 syoa'!CO9-'2011 syoa'!CO9","v":11},{"$f":"'2016 syoa'!CP9-'2011 syoa'!CP9","v":4},{"$f":"'2016 syoa'!CQ9-'2011 syoa'!CQ9","v":9},{"$f":"'2016 syoa'!CR9-'2011 syoa'!CR9","v":871},{"$f":"'2016 syoa'!CS9-'2011 syoa'!CS9","v":-26},{"$f":"'2016 syoa'!CT9-'2011 syoa'!CT9","v":4},{"$f":"'2016 syoa'!CU9-'2011 syoa'!CU9","v":-36},{"$f":"'2016 syoa'!CV9-'2011 syoa'!CV9","v":24},{"$f":"'2016 syoa'!CW9-'2011 syoa'!CW9","v":24},{"$f":"'2016 syoa'!CX9-'2011 syoa'!CX9","v":-32},{"$f":"'2016 syoa'!CY9-'2011 syoa'!CY9","v":9},{"$f":"'2016 syoa'!CZ9-'2011 syoa'!CZ9","v":36},{"$f":"'2016 syoa'!DA9-'2011 syoa'!DA9","v":23},{"$f":"'2016 syoa'!DB9-'2011 syoa'!DB9","v":-6},{"$f":"'2016 syoa'!DC9-'2011 syoa'!DC9","v":29},{"$f":"'2016 syoa'!DD9-'2011 syoa'!DD9","v":50},{"$f":"'2016 syoa'!DE9-'2011 syoa'!DE9","v":-4},{"$f":"'2016 syoa'!DF9-'2011 syoa'!DF9","v":37},{"$f":"'2016 syoa'!DG9-'2011 syoa'!DG9","v":38},{"$f":"'2016 syoa'!DH9-'2011 syoa'!DH9","v":26},{"$f":"'2016 syoa'!DI9-'2011 syoa'!DI9","v":28},{"$f":"'2016 syoa'!DJ9-'2011 syoa'!DJ9","v":11},{"$f":"'2016 syoa'!DK9-'2011 syoa'!DK9","v":11},{"$f":"'2016 syoa'!DL9-'2011 syoa'!DL9","v":40},{"$f":"'2016 syoa'!DM9-'2011 syoa'!DM9","v":82},{"$f":"'2016 syoa'!DN9-'2011 syoa'!DN9","v":39},{"$f":"'2016 syoa'!DO9-'2011 syoa'!DO9","v":28},{"$f":"'2016 syoa'!DP9-'2011 syoa'!DP9","v":1},{"$f":"'2016 syoa'!DQ9-'2011 syoa'!DQ9","v":-19},{"$f":"'2016 syoa'!DR9-'2011 syoa'!DR9","v":-19},{"$f":"'2016 syoa'!DS9-'2011 syoa'!DS9","v":-63},{"$f":"'2016 syoa'!DT9-'2011 syoa'!DT9","v":-21},{"$f":"'2016 syoa'!DU9-'2011 syoa'!DU9","v":8},{"$f":"'2016 syoa'!DV9-'2011 syoa'!DV9","v":-10},{"$f":"'2016 syoa'!DW9-'2011 syoa'!DW9","v":-22},{"$f":"'2016 syoa'!DX9-'2011 syoa'!DX9","v":-29},{"$f":"'2016 syoa'!DY9-'2011 syoa'!DY9","v":30},{"$f":"'2016 syoa'!DZ9-'2011 syoa'!DZ9","v":19},{"$f":"'2016 syoa'!EA9-'2011 syoa'!EA9","v":-4},{"$f":"'2016 syoa'!EB9-'2011 syoa'!EB9","v":18},{"$f":"'2016 syoa'!EC9-'2011 syoa'!EC9","v":71},{"$f":"'2016 syoa'!ED9-'2011 syoa'!ED9","v":0},{"$f":"'2016 syoa'!EE9-'2011 syoa'!EE9","v":-16},{"$f":"'2016 syoa'!EF9-'2011 syoa'!EF9","v":11},{"$f":"'2016 syoa'!EG9-'2011 syoa'!EG9","v":31},{"$f":"'2016 syoa'!EH9-'2011 syoa'!EH9","v":-20},{"$f":"'2016 syoa'!EI9-'2011 syoa'!EI9","v":14},{"$f":"'2016 syoa'!EJ9-'2011 syoa'!EJ9","v":24},{"$f":"'2016 syoa'!EK9-'2011 syoa'!EK9","v":25},{"$f":"'2016 syoa'!EL9-'2011 syoa'!EL9","v":49},{"$f":"'2016 syoa'!EM9-'2011 syoa'!EM9","v":39},{"$f":"'2016 syoa'!EN9-'2011 syoa'!EN9","v":50},{"$f":"'2016 syoa'!EO9-'2011 syoa'!EO9","v":66},{"$f":"'2016 syoa'!EP9-'2011 syoa'!EP9","v":20},{"$f":"'2016 syoa'!EQ9-'2011 syoa'!EQ9","v":1},{"$f":"'2016 syoa'!ER9-'2011 syoa'!ER9","v":-4},{"$f":"'2016 syoa'!ES9-'2011 syoa'!ES9","v":14},{"$f":"'2016 syoa'!ET9-'2011 syoa'!ET9","v":-1},{"$f":"'2016 syoa'!EU9-'2011 syoa'!EU9","v":34},{"$f":"'2016 syoa'!EV9-'2011 syoa'!EV9","v":10},{"$f":"'2016 syoa'!EW9-'2011 syoa'!EW9","v":1},{"$f":"'2016 syoa'!EX9-'2011 syoa'!EX9","v":4},{"$f":"'2016 syoa'!EY9-'2011 syoa'!EY9","v":6},{"$f":"'2016 syoa'!EZ9-'2011 syoa'!EZ9","v":13},{"$f":"'2016 syoa'!FA9-'2011 syoa'!FA9","v":22},{"$f":"'2016 syoa'!FB9-'2011 syoa'!FB9","v":26},{"$f":"'2016 syoa'!FC9-'2011 syoa'!FC9","v":24},{"$f":"'2016 syoa'!FD9-'2011 syoa'!FD9","v":16},{"$f":"'2016 syoa'!FE9-'2011 syoa'!FE9","v":9},{"$f":"'2016 syoa'!FF9-'2011 syoa'!FF9","v":8},{"$f":"'2016 syoa'!FG9-'2011 syoa'!FG9","v":10},{"$f":"'2016 syoa'!FH9-'2011 syoa'!FH9","v":-8},{"$f":"'2016 syoa'!FI9-'2011 syoa'!FI9","v":6},{"$f":"'2016 syoa'!FJ9-'2011 syoa'!FJ9","v":13},{"$f":"'2016 syoa'!FK9-'2011 syoa'!FK9","v":-9},{"$f":"'2016 syoa'!FL9-'2011 syoa'!FL9","v":-26},{"$f":"'2016 syoa'!FM9-'2011 syoa'!FM9","v":-17},{"$f":"'2016 syoa'!FN9-'2011 syoa'!FN9","v":-2},{"$f":"'2016 syoa'!FO9-'2011 syoa'!FO9","v":-23},{"$f":"'2016 syoa'!FP9-'2011 syoa'!FP9","v":-46},{"$f":"'2016 syoa'!FQ9-'2011 syoa'!FQ9","v":24},{"$f":"'2016 syoa'!FR9-'2011 syoa'!FR9","v":-11},{"$f":"'2016 syoa'!FS9-'2011 syoa'!FS9","v":-7},{"$f":"'2016 syoa'!FT9-'2011 syoa'!FT9","v":-4},{"$f":"'2016 syoa'!FU9-'2011 syoa'!FU9","v":13},{"$f":"'2016 syoa'!FV9-'2011 syoa'!FV9","v":-9},{"$f":"'2016 syoa'!FW9-'2011 syoa'!FW9","v":12},{"$f":"'2016 syoa'!FX9-'2011 syoa'!FX9","v":20},{"$f":"'2016 syoa'!FY9-'2011 syoa'!FY9","v":11},{"$f":"'2016 syoa'!FZ9-'2011 syoa'!FZ9","v":12},{"$f":"'2016 syoa'!GA9-'2011 syoa'!GA9","v":27},{"$f":"'2016 syoa'!GB9-'2011 syoa'!GB9","v":0},{"$f":"'2016 syoa'!GC9-'2011 syoa'!GC9","v":-1},{"$f":"'2016 syoa'!GD9-'2011 syoa'!GD9","v":10},{"$f":"'2016 syoa'!GE9-'2011 syoa'!GE9","v":5}]
["Bournville","Selly Oak","E05001183",{"$f":"'2016 syoa'!D10-'2011 syoa'!D10","v":-12},{"$f":"'2016 syoa'!E10-'2011 syoa'!E10","v":6},{"$f":"'2016 syoa'!F10-'2011 syoa'!F10","v":-9},{"$f":"'2016 syoa'!G10-'2011 syoa'!G10","v":-7},{"$f":"'2016 syoa'!H10-'2011 syoa'!H10","v":12},{"$f":"'2016 syoa'!I10-'2011 syoa'!I10","v":7},{"$f":"'2016 syoa'!J10-'2011 syoa'!J10","v":16},{"$f":"'2016 syoa'!K10-'2011 syoa'!K10","v":13},{"$f":"'2016 syoa'!L10-'2011 syoa'!L10","v":34},{"$f":"'2016 syoa'!M10-'2011 syoa'!M10","v":1},{"$f":"'2016 syoa'!N10-'2011 syoa'!N10","v":49},{"$f":"'2016 syoa'!O10-'2011 syoa'!O10","v":0},{"$f":"'2016 syoa'!P10-'2011 syoa'!P10","v":-22},{"$f":"'2016 syoa'!Q10-'2011 syoa'!Q10","v":-7},{"$f":"'2016 syoa'!R10-'2011 syoa'!R10","v":-6},{"$f":"'2016 syoa'!S10-'2011 syoa'!S10","v":-22},{"$f":"'2016 syoa'!T10-'2011 syoa'!T10","v":-30},{"$f":"'2016 syoa'!U10-'2011 syoa'!U10","v":1},{"$f":"'2016 syoa'!V10-'2011 syoa'!V10","v":-43},{"$f":"'2016 syoa'!W10-'2011 syoa'!W10","v":-5},{"$f":"'2016 syoa'!X10-'2011 syoa'!X10","v":-6},{"$f":"'2016 syoa'!Y10-'2011 syoa'!Y10","v":16},{"$f":"'2016 syoa'!Z10-'2011 syoa'!Z10","v":1},{"$f":"'2016 syoa'!AA10-'2011 syoa'!AA10","v":13},{"$f":"'2016 syoa'!AB10-'2011 syoa'!AB10","v":18},{"$f":"'2016 syoa'!AC10-'2011 syoa'!AC10","v":14},{"$f":"'2016 syoa'!AD10-'2011 syoa'!AD10","v":-10},{"$f":"'2016 syoa'!AE10-'2011 syoa'!AE10","v":-14},{"$f":"'2016 syoa'!AF10-'2011 syoa'!AF10","v":18},{"$f":"'2016 syoa'!AG10-'2011 syoa'!AG10","v":-45},{"$f":"'2016 syoa'!AH10-'2011 syoa'!AH10","v":-31},{"$f":"'2016 syoa'!AI10-'2011 syoa'!AI10","v":-3},{"$f":"'2016 syoa'!AJ10-'2011 syoa'!AJ10","v":-3},{"$f":"'2016 syoa'!AK10-'2011 syoa'!AK10","v":14},{"$f":"'2016 syoa'!AL10-'2011 syoa'!AL10","v":29},{"$f":"'2016 syoa'!AM10-'2011 syoa'!AM10","v":-22},{"$f":"'2016 syoa'!AN10-'2011 syoa'!AN10","v":17},{"$f":"'2016 syoa'!AO10-'2011 syoa'!AO10","v":27},{"$f":"'2016 syoa'!AP10-'2011 syoa'!AP10","v":-4},{"$f":"'2016 syoa'!AQ10-'2011 syoa'!AQ10","v":-38},{"$f":"'2016 syoa'!AR10-'2011 syoa'!AR10","v":-24},{"$f":"'2016 syoa'!AS10-'2011 syoa'!AS10","v":-64},{"$f":"'2016 syoa'!AT10-'2011 syoa'!AT10","v":-11},{"$f":"'2016 syoa'!AU10-'2011 syoa'!AU10","v":-19},{"$f":"'2016 syoa'!AV10-'2011 syoa'!AV10","v":-31},{"$f":"'2016 syoa'!AW10-'2011 syoa'!AW10","v":-21},{"$f":"'2016 syoa'!AX10-'2011 syoa'!AX10","v":1},{"$f":"'2016 syoa'!AY10-'2011 syoa'!AY10","v":-45},{"$f":"'2016 syoa'!AZ10-'2011 syoa'!AZ10","v":-28},{"$f":"'2016 syoa'!BA10-'2011 syoa'!BA10","v":-35},{"$f":"'2016 syoa'!BB10-'2011 syoa'!BB10","v":-23},{"$f":"'2016 syoa'!BC10-'2011 syoa'!BC10","v":26},{"$f":"'2016 syoa'!BD10-'2011 syoa'!BD10","v":28},{"$f":"'2016 syoa'!BE10-'2011 syoa'!BE10","v":21},{"$f":"'2016 syoa'!BF10-'2011 syoa'!BF10","v":38},{"$f":"'2016 syoa'!BG10-'2011 syoa'!BG10","v":37},{"$f":"'2016 syoa'!BH10-'2011 syoa'!BH10","v":-6},{"$f":"'2016 syoa'!BI10-'2011 syoa'!BI10","v":4},{"$f":"'2016 syoa'!BJ10-'2011 syoa'!BJ10","v":17},{"$f":"'2016 syoa'!BK10-'2011 syoa'!BK10","v":25},{"$f":"'2016 syoa'!BL10-'2011 syoa'!BL10","v":-18},{"$f":"'2016 syoa'!BM10-'2011 syoa'!BM10","v":2},{"$f":"'2016 syoa'!BN10-'2011 syoa'!BN10","v":7},{"$f":"'2016 syoa'!BO10-'2011 syoa'!BO10","v":-11},{"$f":"'2016 syoa'!BP10-'2011 syoa'!BP10","v":-25},{"$f":"'2016 syoa'!BQ10-'2011 syoa'!BQ10","v":-28},{"$f":"'2016 syoa'!BR10-'2011 syoa'!BR10","v":-7},{"$f":"'2016 syoa'!BS10-'2011 syoa'!BS10","v":-17},{"$f":"'2016 syoa'!BT10-'2011 syoa'!BT10","v":18},{"$f":"'2016 syoa'!BU10-'2011 syoa'!BU10","v":35},{"$f":"'2016 syoa'!BV10-'2011 syoa'!BV10","v":46},{"$f":"'2016 syoa'!BW10-'2011 syoa'!BW10","v":40},{"$f":"'2016 syoa'!BX10-'2011 syoa'!BX10","v":36},{"$f":"'2016 syoa'!BY10-'2011 syoa'!BY10","v":1},{"$f":"'2016 syoa'!BZ10-'2011 syoa'!BZ10","v":1},{"$f":"'2016 syoa'!CA10-'2011 syoa'!CA10","v":-1},{"$f":"'2016 syoa'!CB10-'2011 syoa'!CB10","v":-11},{"$f":"'2016 syoa'!CC10-'2011 syoa'!CC10","v":10},{"$f":"'2016 syoa'!CD10-'2011 syoa'!CD10","v":25},{"$f":"'2016 syoa'!CE10-'2011 syoa'!CE10","v":-10},{"$f":"'2016 syoa'!CF10-'2011 syoa'!CF10","v":-10},{"$f":"'2016 syoa'!CG10-'2011 syoa'!CG10","v":16},{"$f":"'2016 syoa'!CH10-'2011 syoa'!CH10","v":-16},{"$f":"'2016 syoa'!CI10-'2011 syoa'!CI10","v":-13},{"$f":"'2016 syoa'!CJ10-'2011 syoa'!CJ10","v":10},{"$f":"'2016 syoa'!CK10-'2011 syoa'!CK10","v":4},{"$f":"'2016 syoa'!CL10-'2011 syoa'!CL10","v":6},{"$f":"'2016 syoa'!CM10-'2011 syoa'!CM10","v":20},{"$f":"'2016 syoa'!CN10-'2011 syoa'!CN10","v":-2},{"$f":"'2016 syoa'!CO10-'2011 syoa'!CO10","v":2},{"$f":"'2016 syoa'!CP10-'2011 syoa'!CP10","v":3},{"$f":"'2016 syoa'!CQ10-'2011 syoa'!CQ10","v":6},{"$f":"'2016 syoa'!CR10-'2011 syoa'!CR10","v":-105},{"$f":"'2016 syoa'!CS10-'2011 syoa'!CS10","v":21},{"$f":"'2016 syoa'!CT10-'2011 syoa'!CT10","v":10},{"$f":"'2016 syoa'!CU10-'2011 syoa'!CU10","v":-5},{"$f":"'2016 syoa'!CV10-'2011 syoa'!CV10","v":-22},{"$f":"'2016 syoa'!CW10-'2011 syoa'!CW10","v":5},{"$f":"'2016 syoa'!CX10-'2011 syoa'!CX10","v":11},{"$f":"'2016 syoa'!CY10-'2011 syoa'!CY10","v":1},{"$f":"'2016 syoa'!CZ10-'2011 syoa'!CZ10","v":-8},{"$f":"'2016 syoa'!DA10-'2011 syoa'!DA10","v":45},{"$f":"'2016 syoa'!DB10-'2011 syoa'!DB10","v":34},{"$f":"'2016 syoa'!DC10-'2011 syoa'!DC10","v":40},{"$f":"'2016 syoa'!DD10-'2011 syoa'!DD10","v":36},{"$f":"'2016 syoa'!DE10-'2011 syoa'!DE10","v":-7},{"$f":"'2016 syoa'!DF10-'2011 syoa'!DF10","v":-37},{"$f":"'2016 syoa'!DG10-'2011 syoa'!DG10","v":-57},{"$f":"'2016 syoa'!DH10-'2011 syoa'!DH10","v":-39},{"$f":"'2016 syoa'!DI10-'2011 syoa'!DI10","v":-15},{"$f":"'2016 syoa'!DJ10-'2011 syoa'!DJ10","v":-51},{"$f":"'2016 syoa'!DK10-'2011 syoa'!DK10","v":1},{"$f":"'2016 syoa'!DL10-'2011 syoa'!DL10","v":-3},{"$f":"'2016 syoa'!DM10-'2011 syoa'!DM10","v":-5},{"$f":"'2016 syoa'!DN10-'2011 syoa'!DN10","v":-20},{"$f":"'2016 syoa'!DO10-'2011 syoa'!DO10","v":34},{"$f":"'2016 syoa'!DP10-'2011 syoa'!DP10","v":-31},{"$f":"'2016 syoa'!DQ10-'2011 syoa'!DQ10","v":-1},{"$f":"'2016 syoa'!DR10-'2011 syoa'!DR10","v":58},{"$f":"'2016 syoa'!DS10-'2011 syoa'!DS10","v":-14},{"$f":"'2016 syoa'!DT10-'2011 syoa'!DT10","v":-18},{"$f":"'2016 syoa'!DU10-'2011 syoa'!DU10","v":-27},{"$f":"'2016 syoa'!DV10-'2011 syoa'!DV10","v":12},{"$f":"'2016 syoa'!DW10-'2011 syoa'!DW10","v":-34},{"$f":"'2016 syoa'!DX10-'2011 syoa'!DX10","v":-5},{"$f":"'2016 syoa'!DY10-'2011 syoa'!DY10","v":-13},{"$f":"'2016 syoa'!DZ10-'2011 syoa'!DZ10","v":-8},{"$f":"'2016 syoa'!EA10-'2011 syoa'!EA10","v":8},{"$f":"'2016 syoa'!EB10-'2011 syoa'!EB10","v":34},{"$f":"'2016 syoa'!EC10-'2011 syoa'!EC10","v":-6},{"$f":"'2016 syoa'!ED10-'2011 syoa'!ED10","v":8},{"$f":"'2016 syoa'!EE10-'2011 syoa'!EE10","v":-9},{"$f":"'2016 syoa'!EF10-'2011 syoa'!EF10","v":-55},{"$f":"'2016 syoa'!EG10-'2011 syoa'!EG10","v":-71},{"$f":"'2016 syoa'!EH10-'2011 syoa'!EH10","v":-15},{"$f":"'2016 syoa'!EI10-'2011 syoa'!EI10","v":-35},{"$f":"'2016 syoa'!EJ10-'2011 syoa'!EJ10","v":-33},{"$f":"'2016 syoa'!EK10-'2011 syoa'!EK10","v":0},{"$f":"'2016 syoa'!EL10-'2011 syoa'!EL10","v":15},{"$f":"'2016 syoa'!EM10-'2011 syoa'!EM10","v":-22},{"$f":"'2016 syoa'!EN10-'2011 syoa'!EN10","v":-4},{"$f":"'2016 syoa'!EO10-'2011 syoa'!EO10","v":10},{"$f":"'2016 syoa'!EP10-'2011 syoa'!EP10","v":-4},{"$f":"'2016 syoa'!EQ10-'2011 syoa'!EQ10","v":1},{"$f":"'2016 syoa'!ER10-'2011 syoa'!ER10","v":17},{"$f":"'2016 syoa'!ES10-'2011 syoa'!ES10","v":0},{"$f":"'2016 syoa'!ET10-'2011 syoa'!ET10","v":-2},{"$f":"'2016 syoa'!EU10-'2011 syoa'!EU10","v":26},{"$f":"'2016 syoa'!EV10-'2011 syoa'!EV10","v":40},{"$f":"'2016 syoa'!EW10-'2011 syoa'!EW10","v":4},{"$f":"'2016 syoa'!EX10-'2011 syoa'!EX10","v":-5},{"$f":"'2016 syoa'!EY10-'2011 syoa'!EY10","v":-5},{"$f":"'2016 syoa'!EZ10-'2011 syoa'!EZ10","v":12},{"$f":"'2016 syoa'!FA10-'2011 syoa'!FA10","v":-12},{"$f":"'2016 syoa'!FB10-'2011 syoa'!FB10","v":-21},{"$f":"'2016 syoa'!FC10-'2011 syoa'!FC10","v":-2},{"$f":"'2016 syoa'!FD10-'2011 syoa'!FD10","v":17},{"$f":"'2016 syoa'!FE10-'2011 syoa'!FE10","v":-17},{"$f":"'2016 syoa'!FF10-'2011 syoa'!FF10","v":43},{"$f":"'2016 syoa'!FG10-'2011 syoa'!FG10","v":18},{"$f":"'2016 syoa'!FH10-'2011 syoa'!FH10","v":17},{"$f":"'2016 syoa'!FI10-'2011 syoa'!FI10","v":12},{"$f":"'2016 syoa'!FJ10-'2011 syoa'!FJ10","v":45},{"$f":"'2016 syoa'!FK10-'2011 syoa'!FK10","v":-19},{"$f":"'2016 syoa'!FL10-'2011 syoa'!FL10","v":7},{"$f":"'2016 syoa'!FM10-'2011 syoa'!FM10","v":20},{"$f":"'2016 syoa'!FN10-'2011 syoa'!FN10","v":13},{"$f":"'2016 syoa'!FO10-'2011 syoa'!FO10","v":14},{"$f":"'2016 syoa'!FP10-'2011 syoa'!FP10","v":-3},{"$f":"'2016 syoa'!FQ10-'2011 syoa'!FQ10","v":26},{"$f":"'2016 syoa'!FR10-'2011 syoa'!FR10","v":0},{"$f":"'2016 syoa'!FS10-'2011 syoa'!FS10","v":12},{"$f":"'2016 syoa'!FT10-'2011 syoa'!FT10","v":-7},{"$f":"'2016 syoa'!FU10-'2011 syoa'!FU10","v":4},{"$f":"'2016 syoa'!FV10-'2011 syoa'!FV10","v":-22},{"$f":"'2016 syoa'!FW10-'2011 syoa'!FW10","v":3},{"$f":"'2016 syoa'!FX10-'2011 syoa'!FX10","v":-17},{"$f":"'2016 syoa'!FY10-'2011 syoa'!FY10","v":-12},{"$f":"'2016 syoa'!FZ10-'2011 syoa'!FZ10","v":-2},{"$f":"'2016 syoa'!GA10-'2011 syoa'!GA10","v":3},{"$f":"'2016 syoa'!GB10-'2011 syoa'!GB10","v":-13},{"$f":"'2016 syoa'!GC10-'2011 syoa'!GC10","v":0},{"$f":"'2016 syoa'!GD10-'2011 syoa'!GD10","v":-17},{"$f":"'2016 syoa'!GE10-'2011 syoa'!GE10","v":8}]
["Brandwood","Selly Oak","E05001184",{"$f":"'2016 syoa'!D11-'2011 syoa'!D11","v":167},{"$f":"'2016 syoa'!E11-'2011 syoa'!E11","v":12},{"$f":"'2016 syoa'!F11-'2011 syoa'!F11","v":5},{"$f":"'2016 syoa'!G11-'2011 syoa'!G11","v":-27},{"$f":"'2016 syoa'!H11-'2011 syoa'!H11","v":34},{"$f":"'2016 syoa'!I11-'2011 syoa'!I11","v":4},{"$f":"'2016 syoa'!J11-'2011 syoa'!J11","v":-25},{"$f":"'2016 syoa'!K11-'2011 syoa'!K11","v":11},{"$f":"'2016 syoa'!L11-'2011 syoa'!L11","v":29},{"$f":"'2016 syoa'!M11-'2011 syoa'!M11","v":-7},{"$f":"'2016 syoa'!N11-'2011 syoa'!N11","v":45},{"$f":"'2016 syoa'!O11-'2011 syoa'!O11","v":11},{"$f":"'2016 syoa'!P11-'2011 syoa'!P11","v":-20},{"$f":"'2016 syoa'!Q11-'2011 syoa'!Q11","v":4},{"$f":"'2016 syoa'!R11-'2011 syoa'!R11","v":-20},{"$f":"'2016 syoa'!S11-'2011 syoa'!S11","v":-20},{"$f":"'2016 syoa'!T11-'2011 syoa'!T11","v":-19},{"$f":"'2016 syoa'!U11-'2011 syoa'!U11","v":-14},{"$f":"'2016 syoa'!V11-'2011 syoa'!V11","v":14},{"$f":"'2016 syoa'!W11-'2011 syoa'!W11","v":3},{"$f":"'2016 syoa'!X11-'2011 syoa'!X11","v":15},{"$f":"'2016 syoa'!Y11-'2011 syoa'!Y11","v":-4},{"$f":"'2016 syoa'!Z11-'2011 syoa'!Z11","v":14},{"$f":"'2016 syoa'!AA11-'2011 syoa'!AA11","v":4},{"$f":"'2016 syoa'!AB11-'2011 syoa'!AB11","v":38},{"$f":"'2016 syoa'!AC11-'2011 syoa'!AC11","v":39},{"$f":"'2016 syoa'!AD11-'2011 syoa'!AD11","v":59},{"$f":"'2016 syoa'!AE11-'2011 syoa'!AE11","v":-2},{"$f":"'2016 syoa'!AF11-'2011 syoa'!AF11","v":15},{"$f":"'2016 syoa'!AG11-'2011 syoa'!AG11","v":-7},{"$f":"'2016 syoa'!AH11-'2011 syoa'!AH11","v":8},{"$f":"'2016 syoa'!AI11-'2011 syoa'!AI11","v":30},{"$f":"'2016 syoa'!AJ11-'2011 syoa'!AJ11","v":-21},{"$f":"'2016 syoa'!AK11-'2011 syoa'!AK11","v":-40},{"$f":"'2016 syoa'!AL11-'2011 syoa'!AL11","v":-2},{"$f":"'2016 syoa'!AM11-'2011 syoa'!AM11","v":-14},{"$f":"'2016 syoa'!AN11-'2011 syoa'!AN11","v":8},{"$f":"'2016 syoa'!AO11-'2011 syoa'!AO11","v":-44},{"$f":"'2016 syoa'!AP11-'2011 syoa'!AP11","v":10},{"$f":"'2016 syoa'!AQ11-'2011 syoa'!AQ11","v":-42},{"$f":"'2016 syoa'!AR11-'2011 syoa'!AR11","v":1},{"$f":"'2016 syoa'!AS11-'2011 syoa'!AS11","v":-45},{"$f":"'2016 syoa'!AT11-'2011 syoa'!AT11","v":-38},{"$f":"'2016 syoa'!AU11-'2011 syoa'!AU11","v":-26},{"$f":"'2016 syoa'!AV11-'2011 syoa'!AV11","v":3},{"$f":"'2016 syoa'!AW11-'2011 syoa'!AW11","v":-12},{"$f":"'2016 syoa'!AX11-'2011 syoa'!AX11","v":-9},{"$f":"'2016 syoa'!AY11-'2011 syoa'!AY11","v":-35},{"$f":"'2016 syoa'!AZ11-'2011 syoa'!AZ11","v":-25},{"$f":"'2016 syoa'!BA11-'2011 syoa'!BA11","v":-18},{"$f":"'2016 syoa'!BB11-'2011 syoa'!BB11","v":-3},{"$f":"'2016 syoa'!BC11-'2011 syoa'!BC11","v":5},{"$f":"'2016 syoa'!BD11-'2011 syoa'!BD11","v":31},{"$f":"'2016 syoa'!BE11-'2011 syoa'!BE11","v":36},{"$f":"'2016 syoa'!BF11-'2011 syoa'!BF11","v":21},{"$f":"'2016 syoa'!BG11-'2011 syoa'!BG11","v":16},{"$f":"'2016 syoa'!BH11-'2011 syoa'!BH11","v":15},{"$f":"'2016 syoa'!BI11-'2011 syoa'!BI11","v":11},{"$f":"'2016 syoa'!BJ11-'2011 syoa'!BJ11","v":4},{"$f":"'2016 syoa'!BK11-'2011 syoa'!BK11","v":11},{"$f":"'2016 syoa'!BL11-'2011 syoa'!BL11","v":12},{"$f":"'2016 syoa'!BM11-'2011 syoa'!BM11","v":0},{"$f":"'2016 syoa'!BN11-'2011 syoa'!BN11","v":0},{"$f":"'2016 syoa'!BO11-'2011 syoa'!BO11","v":-19},{"$f":"'2016 syoa'!BP11-'2011 syoa'!BP11","v":-12},{"$f":"'2016 syoa'!BQ11-'2011 syoa'!BQ11","v":3},{"$f":"'2016 syoa'!BR11-'2011 syoa'!BR11","v":6},{"$f":"'2016 syoa'!BS11-'2011 syoa'!BS11","v":9},{"$f":"'2016 syoa'!BT11-'2011 syoa'!BT11","v":12},{"$f":"'2016 syoa'!BU11-'2011 syoa'!BU11","v":-2},{"$f":"'2016 syoa'!BV11-'2011 syoa'!BV11","v":16},{"$f":"'2016 syoa'!BW11-'2011 syoa'!BW11","v":-1},{"$f":"'2016 syoa'!BX11-'2011 syoa'!BX11","v":11},{"$f":"'2016 syoa'!BY11-'2011 syoa'!BY11","v":-22},{"$f":"'2016 syoa'!BZ11-'2011 syoa'!BZ11","v":17},{"$f":"'2016 syoa'!CA11-'2011 syoa'!CA11","v":0},{"$f":"'2016 syoa'!CB11-'2011 syoa'!CB11","v":16},{"$f":"'2016 syoa'!CC11-'2011 syoa'!CC11","v":-8},{"$f":"'2016 syoa'!CD11-'2011 syoa'!CD11","v":24},{"$f":"'2016 syoa'!CE11-'2011 syoa'!CE11","v":-8},{"$f":"'2016 syoa'!CF11-'2011 syoa'!CF11","v":12},{"$f":"'2016 syoa'!CG11-'2011 syoa'!CG11","v":5},{"$f":"'2016 syoa'!CH11-'2011 syoa'!CH11","v":6},{"$f":"'2016 syoa'!CI11-'2011 syoa'!CI11","v":3},{"$f":"'2016 syoa'!CJ11-'2011 syoa'!CJ11","v":21},{"$f":"'2016 syoa'!CK11-'2011 syoa'!CK11","v":2},{"$f":"'2016 syoa'!CL11-'2011 syoa'!CL11","v":9},{"$f":"'2016 syoa'!CM11-'2011 syoa'!CM11","v":5},{"$f":"'2016 syoa'!CN11-'2011 syoa'!CN11","v":10},{"$f":"'2016 syoa'!CO11-'2011 syoa'!CO11","v":-5},{"$f":"'2016 syoa'!CP11-'2011 syoa'!CP11","v":0},{"$f":"'2016 syoa'!CQ11-'2011 syoa'!CQ11","v":18},{"$f":"'2016 syoa'!CR11-'2011 syoa'!CR11","v":-15},{"$f":"'2016 syoa'!CS11-'2011 syoa'!CS11","v":-21},{"$f":"'2016 syoa'!CT11-'2011 syoa'!CT11","v":-1},{"$f":"'2016 syoa'!CU11-'2011 syoa'!CU11","v":29},{"$f":"'2016 syoa'!CV11-'2011 syoa'!CV11","v":23},{"$f":"'2016 syoa'!CW11-'2011 syoa'!CW11","v":20},{"$f":"'2016 syoa'!CX11-'2011 syoa'!CX11","v":21},{"$f":"'2016 syoa'!CY11-'2011 syoa'!CY11","v":8},{"$f":"'2016 syoa'!CZ11-'2011 syoa'!CZ11","v":22},{"$f":"'2016 syoa'!DA11-'2011 syoa'!DA11","v":25},{"$f":"'2016 syoa'!DB11-'2011 syoa'!DB11","v":20},{"$f":"'2016 syoa'!DC11-'2011 syoa'!DC11","v":7},{"$f":"'2016 syoa'!DD11-'2011 syoa'!DD11","v":8},{"$f":"'2016 syoa'!DE11-'2011 syoa'!DE11","v":3},{"$f":"'2016 syoa'!DF11-'2011 syoa'!DF11","v":-30},{"$f":"'2016 syoa'!DG11-'2011 syoa'!DG11","v":-31},{"$f":"'2016 syoa'!DH11-'2011 syoa'!DH11","v":-50},{"$f":"'2016 syoa'!DI11-'2011 syoa'!DI11","v":18},{"$f":"'2016 syoa'!DJ11-'2011 syoa'!DJ11","v":-21},{"$f":"'2016 syoa'!DK11-'2011 syoa'!DK11","v":-21},{"$f":"'2016 syoa'!DL11-'2011 syoa'!DL11","v":-45},{"$f":"'2016 syoa'!DM11-'2011 syoa'!DM11","v":2},{"$f":"'2016 syoa'!DN11-'2011 syoa'!DN11","v":-11},{"$f":"'2016 syoa'!DO11-'2011 syoa'!DO11","v":-23},{"$f":"'2016 syoa'!DP11-'2011 syoa'!DP11","v":1},{"$f":"'2016 syoa'!DQ11-'2011 syoa'!DQ11","v":38},{"$f":"'2016 syoa'!DR11-'2011 syoa'!DR11","v":31},{"$f":"'2016 syoa'!DS11-'2011 syoa'!DS11","v":25},{"$f":"'2016 syoa'!DT11-'2011 syoa'!DT11","v":6},{"$f":"'2016 syoa'!DU11-'2011 syoa'!DU11","v":0},{"$f":"'2016 syoa'!DV11-'2011 syoa'!DV11","v":11},{"$f":"'2016 syoa'!DW11-'2011 syoa'!DW11","v":-30},{"$f":"'2016 syoa'!DX11-'2011 syoa'!DX11","v":-30},{"$f":"'2016 syoa'!DY11-'2011 syoa'!DY11","v":-51},{"$f":"'2016 syoa'!DZ11-'2011 syoa'!DZ11","v":5},{"$f":"'2016 syoa'!EA11-'2011 syoa'!EA11","v":7},{"$f":"'2016 syoa'!EB11-'2011 syoa'!EB11","v":-3},{"$f":"'2016 syoa'!EC11-'2011 syoa'!EC11","v":35},{"$f":"'2016 syoa'!ED11-'2011 syoa'!ED11","v":38},{"$f":"'2016 syoa'!EE11-'2011 syoa'!EE11","v":-32},{"$f":"'2016 syoa'!EF11-'2011 syoa'!EF11","v":-34},{"$f":"'2016 syoa'!EG11-'2011 syoa'!EG11","v":-1},{"$f":"'2016 syoa'!EH11-'2011 syoa'!EH11","v":-34},{"$f":"'2016 syoa'!EI11-'2011 syoa'!EI11","v":-75},{"$f":"'2016 syoa'!EJ11-'2011 syoa'!EJ11","v":-51},{"$f":"'2016 syoa'!EK11-'2011 syoa'!EK11","v":-25},{"$f":"'2016 syoa'!EL11-'2011 syoa'!EL11","v":-15},{"$f":"'2016 syoa'!EM11-'2011 syoa'!EM11","v":14},{"$f":"'2016 syoa'!EN11-'2011 syoa'!EN11","v":-4},{"$f":"'2016 syoa'!EO11-'2011 syoa'!EO11","v":55},{"$f":"'2016 syoa'!EP11-'2011 syoa'!EP11","v":21},{"$f":"'2016 syoa'!EQ11-'2011 syoa'!EQ11","v":10},{"$f":"'2016 syoa'!ER11-'2011 syoa'!ER11","v":30},{"$f":"'2016 syoa'!ES11-'2011 syoa'!ES11","v":21},{"$f":"'2016 syoa'!ET11-'2011 syoa'!ET11","v":-6},{"$f":"'2016 syoa'!EU11-'2011 syoa'!EU11","v":18},{"$f":"'2016 syoa'!EV11-'2011 syoa'!EV11","v":61},{"$f":"'2016 syoa'!EW11-'2011 syoa'!EW11","v":-12},{"$f":"'2016 syoa'!EX11-'2011 syoa'!EX11","v":-3},{"$f":"'2016 syoa'!EY11-'2011 syoa'!EY11","v":7},{"$f":"'2016 syoa'!EZ11-'2011 syoa'!EZ11","v":2},{"$f":"'2016 syoa'!FA11-'2011 syoa'!FA11","v":-23},{"$f":"'2016 syoa'!FB11-'2011 syoa'!FB11","v":-4},{"$f":"'2016 syoa'!FC11-'2011 syoa'!FC11","v":13},{"$f":"'2016 syoa'!FD11-'2011 syoa'!FD11","v":10},{"$f":"'2016 syoa'!FE11-'2011 syoa'!FE11","v":-52},{"$f":"'2016 syoa'!FF11-'2011 syoa'!FF11","v":5},{"$f":"'2016 syoa'!FG11-'2011 syoa'!FG11","v":25},{"$f":"'2016 syoa'!FH11-'2011 syoa'!FH11","v":-26},{"$f":"'2016 syoa'!FI11-'2011 syoa'!FI11","v":-17},{"$f":"'2016 syoa'!FJ11-'2011 syoa'!FJ11","v":43},{"$f":"'2016 syoa'!FK11-'2011 syoa'!FK11","v":13},{"$f":"'2016 syoa'!FL11-'2011 syoa'!FL11","v":-10},{"$f":"'2016 syoa'!FM11-'2011 syoa'!FM11","v":22},{"$f":"'2016 syoa'!FN11-'2011 syoa'!FN11","v":12},{"$f":"'2016 syoa'!FO11-'2011 syoa'!FO11","v":15},{"$f":"'2016 syoa'!FP11-'2011 syoa'!FP11","v":-19},{"$f":"'2016 syoa'!FQ11-'2011 syoa'!FQ11","v":10},{"$f":"'2016 syoa'!FR11-'2011 syoa'!FR11","v":15},{"$f":"'2016 syoa'!FS11-'2011 syoa'!FS11","v":23},{"$f":"'2016 syoa'!FT11-'2011 syoa'!FT11","v":-2},{"$f":"'2016 syoa'!FU11-'2011 syoa'!FU11","v":-18},{"$f":"'2016 syoa'!FV11-'2011 syoa'!FV11","v":-12},{"$f":"'2016 syoa'!FW11-'2011 syoa'!FW11","v":-23},{"$f":"'2016 syoa'!FX11-'2011 syoa'!FX11","v":-20},{"$f":"'2016 syoa'!FY11-'2011 syoa'!FY11","v":-17},{"$f":"'2016 syoa'!FZ11-'2011 syoa'!FZ11","v":1},{"$f":"'2016 syoa'!GA11-'2011 syoa'!GA11","v":-4},{"$f":"'2016 syoa'!GB11-'2011 syoa'!GB11","v":-2},{"$f":"'2016 syoa'!GC11-'2011 syoa'!GC11","v":8},{"$f":"'2016 syoa'!GD11-'2011 syoa'!GD11","v":8},{"$f":"'2016 syoa'!GE11-'2011 syoa'!GE11","v":29}]
["Edgbaston","Edgbaston","E05001185",{"$f":"'2016 syoa'!D12-'2011 syoa'!D12","v":2003},{"$f":"'2016 syoa'!E12-'2011 syoa'!E12","v":12},{"$f":"'2016 syoa'!F12-'2011 syoa'!F12","v":47},{"$f":"'2016 syoa'!G12-'2011 syoa'!G12","v":-9},{"$f":"'2016 syoa'!H12-'2011 syoa'!H12","v":12},{"$f":"'2016 syoa'!I12-'2011 syoa'!I12","v":18},{"$f":"'2016 syoa'!J12-'2011 syoa'!J12","v":44},{"$f":"'2016 syoa'!K12-'2011 syoa'!K12","v":15},{"$f":"'2016 syoa'!L12-'2011 syoa'!L12","v":36},{"$f":"'2016 syoa'!M12-'2011 syoa'!M12","v":48},{"$f":"'2016 syoa'!N12-'2011 syoa'!N12","v":30},{"$f":"'2016 syoa'!O12-'2011 syoa'!O12","v":12},{"$f":"'2016 syoa'!P12-'2011 syoa'!P12","v":12},{"$f":"'2016 syoa'!Q12-'2011 syoa'!Q12","v":8},{"$f":"'2016 syoa'!R12-'2011 syoa'!R12","v":7},{"$f":"'2016 syoa'!S12-'2011 syoa'!S12","v":-9},{"$f":"'2016 syoa'!T12-'2011 syoa'!T12","v":50},{"$f":"'2016 syoa'!U12-'2011 syoa'!U12","v":60},{"$f":"'2016 syoa'!V12-'2011 syoa'!V12","v":51},{"$f":"'2016 syoa'!W12-'2011 syoa'!W12","v":42},{"$f":"'2016 syoa'!X12-'2011 syoa'!X12","v":186},{"$f":"'2016 syoa'!Y12-'2011 syoa'!Y12","v":-18},{"$f":"'2016 syoa'!Z12-'2011 syoa'!Z12","v":134},{"$f":"'2016 syoa'!AA12-'2011 syoa'!AA12","v":128},{"$f":"'2016 syoa'!AB12-'2011 syoa'!AB12","v":102},{"$f":"'2016 syoa'!AC12-'2011 syoa'!AC12","v":84},{"$f":"'2016 syoa'!AD12-'2011 syoa'!AD12","v":136},{"$f":"'2016 syoa'!AE12-'2011 syoa'!AE12","v":38},{"$f":"'2016 syoa'!AF12-'2011 syoa'!AF12","v":37},{"$f":"'2016 syoa'!AG12-'2011 syoa'!AG12","v":16},{"$f":"'2016 syoa'!AH12-'2011 syoa'!AH12","v":76},{"$f":"'2016 syoa'!AI12-'2011 syoa'!AI12","v":20},{"$f":"'2016 syoa'!AJ12-'2011 syoa'!AJ12","v":5},{"$f":"'2016 syoa'!AK12-'2011 syoa'!AK12","v":-23},{"$f":"'2016 syoa'!AL12-'2011 syoa'!AL12","v":58},{"$f":"'2016 syoa'!AM12-'2011 syoa'!AM12","v":-13},{"$f":"'2016 syoa'!AN12-'2011 syoa'!AN12","v":-7},{"$f":"'2016 syoa'!AO12-'2011 syoa'!AO12","v":33},{"$f":"'2016 syoa'!AP12-'2011 syoa'!AP12","v":35},{"$f":"'2016 syoa'!AQ12-'2011 syoa'!AQ12","v":4},{"$f":"'2016 syoa'!AR12-'2011 syoa'!AR12","v":29},{"$f":"'2016 syoa'!AS12-'2011 syoa'!AS12","v":43},{"$f":"'2016 syoa'!AT12-'2011 syoa'!AT12","v":15},{"$f":"'2016 syoa'!AU12-'2011 syoa'!AU12","v":-1},{"$f":"'2016 syoa'!AV12-'2011 syoa'!AV12","v":32},{"$f":"'2016 syoa'!AW12-'2011 syoa'!AW12","v":15},{"$f":"'2016 syoa'!AX12-'2011 syoa'!AX12","v":56},{"$f":"'2016 syoa'!AY12-'2011 syoa'!AY12","v":38},{"$f":"'2016 syoa'!AZ12-'2011 syoa'!AZ12","v":34},{"$f":"'2016 syoa'!BA12-'2011 syoa'!BA12","v":-13},{"$f":"'2016 syoa'!BB12-'2011 syoa'!BB12","v":-5},{"$f":"'2016 syoa'!BC12-'2011 syoa'!BC12","v":12},{"$f":"'2016 syoa'!BD12-'2011 syoa'!BD12","v":50},{"$f":"'2016 syoa'!BE12-'2011 syoa'!BE12","v":7},{"$f":"'2016 syoa'!BF12-'2011 syoa'!BF12","v":26},{"$f":"'2016 syoa'!BG12-'2011 syoa'!BG12","v":36},{"$f":"'2016 syoa'!BH12-'2011 syoa'!BH12","v":18},{"$f":"'2016 syoa'!BI12-'2011 syoa'!BI12","v":-7},{"$f":"'2016 syoa'!BJ12-'2011 syoa'!BJ12","v":-4},{"$f":"'2016 syoa'!BK12-'2011 syoa'!BK12","v":-4},{"$f":"'2016 syoa'!BL12-'2011 syoa'!BL12","v":2},{"$f":"'2016 syoa'!BM12-'2011 syoa'!BM12","v":-13},{"$f":"'2016 syoa'!BN12-'2011 syoa'!BN12","v":-12},{"$f":"'2016 syoa'!BO12-'2011 syoa'!BO12","v":-2},{"$f":"'2016 syoa'!BP12-'2011 syoa'!BP12","v":19},{"$f":"'2016 syoa'!BQ12-'2011 syoa'!BQ12","v":-7},{"$f":"'2016 syoa'!BR12-'2011 syoa'!BR12","v":12},{"$f":"'2016 syoa'!BS12-'2011 syoa'!BS12","v":11},{"$f":"'2016 syoa'!BT12-'2011 syoa'!BT12","v":-21},{"$f":"'2016 syoa'!BU12-'2011 syoa'!BU12","v":0},{"$f":"'2016 syoa'!BV12-'2011 syoa'!BV12","v":12},{"$f":"'2016 syoa'!BW12-'2011 syoa'!BW12","v":5},{"$f":"'2016 syoa'!BX12-'2011 syoa'!BX12","v":17},{"$f":"'2016 syoa'!BY12-'2011 syoa'!BY12","v":3},{"$f":"'2016 syoa'!BZ12-'2011 syoa'!BZ12","v":-7},{"$f":"'2016 syoa'!CA12-'2011 syoa'!CA12","v":-8},{"$f":"'2016 syoa'!CB12-'2011 syoa'!CB12","v":8},{"$f":"'2016 syoa'!CC12-'2011 syoa'!CC12","v":-3},{"$f":"'2016 syoa'!CD12-'2011 syoa'!CD12","v":20},{"$f":"'2016 syoa'!CE12-'2011 syoa'!CE12","v":20},{"$f":"'2016 syoa'!CF12-'2011 syoa'!CF12","v":10},{"$f":"'2016 syoa'!CG12-'2011 syoa'!CG12","v":-2},{"$f":"'2016 syoa'!CH12-'2011 syoa'!CH12","v":7},{"$f":"'2016 syoa'!CI12-'2011 syoa'!CI12","v":-3},{"$f":"'2016 syoa'!CJ12-'2011 syoa'!CJ12","v":2},{"$f":"'2016 syoa'!CK12-'2011 syoa'!CK12","v":1},{"$f":"'2016 syoa'!CL12-'2011 syoa'!CL12","v":5},{"$f":"'2016 syoa'!CM12-'2011 syoa'!CM12","v":6},{"$f":"'2016 syoa'!CN12-'2011 syoa'!CN12","v":-1},{"$f":"'2016 syoa'!CO12-'2011 syoa'!CO12","v":3},{"$f":"'2016 syoa'!CP12-'2011 syoa'!CP12","v":8},{"$f":"'2016 syoa'!CQ12-'2011 syoa'!CQ12","v":17},{"$f":"'2016 syoa'!CR12-'2011 syoa'!CR12","v":1518},{"$f":"'2016 syoa'!CS12-'2011 syoa'!CS12","v":5},{"$f":"'2016 syoa'!CT12-'2011 syoa'!CT12","v":15},{"$f":"'2016 syoa'!CU12-'2011 syoa'!CU12","v":25},{"$f":"'2016 syoa'!CV12-'2011 syoa'!CV12","v":31},{"$f":"'2016 syoa'!CW12-'2011 syoa'!CW12","v":41},{"$f":"'2016 syoa'!CX12-'2011 syoa'!CX12","v":28},{"$f":"'2016 syoa'!CY12-'2011 syoa'!CY12","v":43},{"$f":"'2016 syoa'!CZ12-'2011 syoa'!CZ12","v":28},{"$f":"'2016 syoa'!DA12-'2011 syoa'!DA12","v":42},{"$f":"'2016 syoa'!DB12-'2011 syoa'!DB12","v":31},{"$f":"'2016 syoa'!DC12-'2011 syoa'!DC12","v":30},{"$f":"'2016 syoa'!DD12-'2011 syoa'!DD12","v":-6},{"$f":"'2016 syoa'!DE12-'2011 syoa'!DE12","v":5},{"$f":"'2016 syoa'!DF12-'2011 syoa'!DF12","v":-3},{"$f":"'2016 syoa'!DG12-'2011 syoa'!DG12","v":-8},{"$f":"'2016 syoa'!DH12-'2011 syoa'!DH12","v":47},{"$f":"'2016 syoa'!DI12-'2011 syoa'!DI12","v":30},{"$f":"'2016 syoa'!DJ12-'2011 syoa'!DJ12","v":67},{"$f":"'2016 syoa'!DK12-'2011 syoa'!DK12","v":52},{"$f":"'2016 syoa'!DL12-'2011 syoa'!DL12","v":125},{"$f":"'2016 syoa'!DM12-'2011 syoa'!DM12","v":-85},{"$f":"'2016 syoa'!DN12-'2011 syoa'!DN12","v":159},{"$f":"'2016 syoa'!DO12-'2011 syoa'!DO12","v":133},{"$f":"'2016 syoa'!DP12-'2011 syoa'!DP12","v":165},{"$f":"'2016 syoa'!DQ12-'2011 syoa'!DQ12","v":72},{"$f":"'2016 syoa'!DR12-'2011 syoa'!DR12","v":32},{"$f":"'2016 syoa'!DS12-'2011 syoa'!DS12","v":23},{"$f":"'2016 syoa'!DT12-'2011 syoa'!DT12","v":51},{"$f":"'2016 syoa'!DU12-'2011 syoa'!DU12","v":-11},{"$f":"'2016 syoa'!DV12-'2011 syoa'!DV12","v":-16},{"$f":"'2016 syoa'!DW12-'2011 syoa'!DW12","v":0},{"$f":"'2016 syoa'!DX12-'2011 syoa'!DX12","v":11},{"$f":"'2016 syoa'!DY12-'2011 syoa'!DY12","v":7},{"$f":"'2016 syoa'!DZ12-'2011 syoa'!DZ12","v":40},{"$f":"'2016 syoa'!EA12-'2011 syoa'!EA12","v":25},{"$f":"'2016 syoa'!EB12-'2011 syoa'!EB12","v":-8},{"$f":"'2016 syoa'!EC12-'2011 syoa'!EC12","v":53},{"$f":"'2016 syoa'!ED12-'2011 syoa'!ED12","v":35},{"$f":"'2016 syoa'!EE12-'2011 syoa'!EE12","v":7},{"$f":"'2016 syoa'!EF12-'2011 syoa'!EF12","v":8},{"$f":"'2016 syoa'!EG12-'2011 syoa'!EG12","v":3},{"$f":"'2016 syoa'!EH12-'2011 syoa'!EH12","v":-12},{"$f":"'2016 syoa'!EI12-'2011 syoa'!EI12","v":-2},{"$f":"'2016 syoa'!EJ12-'2011 syoa'!EJ12","v":11},{"$f":"'2016 syoa'!EK12-'2011 syoa'!EK12","v":22},{"$f":"'2016 syoa'!EL12-'2011 syoa'!EL12","v":-24},{"$f":"'2016 syoa'!EM12-'2011 syoa'!EM12","v":10},{"$f":"'2016 syoa'!EN12-'2011 syoa'!EN12","v":12},{"$f":"'2016 syoa'!EO12-'2011 syoa'!EO12","v":16},{"$f":"'2016 syoa'!EP12-'2011 syoa'!EP12","v":8},{"$f":"'2016 syoa'!EQ12-'2011 syoa'!EQ12","v":13},{"$f":"'2016 syoa'!ER12-'2011 syoa'!ER12","v":33},{"$f":"'2016 syoa'!ES12-'2011 syoa'!ES12","v":-9},{"$f":"'2016 syoa'!ET12-'2011 syoa'!ET12","v":9},{"$f":"'2016 syoa'!EU12-'2011 syoa'!EU12","v":13},{"$f":"'2016 syoa'!EV12-'2011 syoa'!EV12","v":5},{"$f":"'2016 syoa'!EW12-'2011 syoa'!EW12","v":11},{"$f":"'2016 syoa'!EX12-'2011 syoa'!EX12","v":1},{"$f":"'2016 syoa'!EY12-'2011 syoa'!EY12","v":9},{"$f":"'2016 syoa'!EZ12-'2011 syoa'!EZ12","v":10},{"$f":"'2016 syoa'!FA12-'2011 syoa'!FA12","v":-6},{"$f":"'2016 syoa'!FB12-'2011 syoa'!FB12","v":-27},{"$f":"'2016 syoa'!FC12-'2011 syoa'!FC12","v":-17},{"$f":"'2016 syoa'!FD12-'2011 syoa'!FD12","v":-11},{"$f":"'2016 syoa'!FE12-'2011 syoa'!FE12","v":-3},{"$f":"'2016 syoa'!FF12-'2011 syoa'!FF12","v":12},{"$f":"'2016 syoa'!FG12-'2011 syoa'!FG12","v":-1},{"$f":"'2016 syoa'!FH12-'2011 syoa'!FH12","v":15},{"$f":"'2016 syoa'!FI12-'2011 syoa'!FI12","v":6},{"$f":"'2016 syoa'!FJ12-'2011 syoa'!FJ12","v":-1},{"$f":"'2016 syoa'!FK12-'2011 syoa'!FK12","v":1},{"$f":"'2016 syoa'!FL12-'2011 syoa'!FL12","v":16},{"$f":"'2016 syoa'!FM12-'2011 syoa'!FM12","v":3},{"$f":"'2016 syoa'!FN12-'2011 syoa'!FN12","v":5},{"$f":"'2016 syoa'!FO12-'2011 syoa'!FO12","v":7},{"$f":"'2016 syoa'!FP12-'2011 syoa'!FP12","v":19},{"$f":"'2016 syoa'!FQ12-'2011 syoa'!FQ12","v":10},{"$f":"'2016 syoa'!FR12-'2011 syoa'!FR12","v":11},{"$f":"'2016 syoa'!FS12-'2011 syoa'!FS12","v":4},{"$f":"'2016 syoa'!FT12-'2011 syoa'!FT12","v":14},{"$f":"'2016 syoa'!FU12-'2011 syoa'!FU12","v":-2},{"$f":"'2016 syoa'!FV12-'2011 syoa'!FV12","v":-14},{"$f":"'2016 syoa'!FW12-'2011 syoa'!FW12","v":-15},{"$f":"'2016 syoa'!FX12-'2011 syoa'!FX12","v":-8},{"$f":"'2016 syoa'!FY12-'2011 syoa'!FY12","v":1},{"$f":"'2016 syoa'!FZ12-'2011 syoa'!FZ12","v":6},{"$f":"'2016 syoa'!GA12-'2011 syoa'!GA12","v":5},{"$f":"'2016 syoa'!GB12-'2011 syoa'!GB12","v":5},{"$f":"'2016 syoa'!GC12-'2011 syoa'!GC12","v":-4},{"$f":"'2016 syoa'!GD12-'2011 syoa'!GD12","v":4},{"$f":"'2016 syoa'!GE12-'2011 syoa'!GE12","v":15}]
["Erdington","Erdington","E05001186",{"$f":"'2016 syoa'!D13-'2011 syoa'!D13","v":666},{"$f":"'2016 syoa'!E13-'2011 syoa'!E13","v":40},{"$f":"'2016 syoa'!F13-'2011 syoa'!F13","v":24},{"$f":"'2016 syoa'!G13-'2011 syoa'!G13","v":1},{"$f":"'2016 syoa'!H13-'2011 syoa'!H13","v":19},{"$f":"'2016 syoa'!I13-'2011 syoa'!I13","v":29},{"$f":"'2016 syoa'!J13-'2011 syoa'!J13","v":34},{"$f":"'2016 syoa'!K13-'2011 syoa'!K13","v":27},{"$f":"'2016 syoa'!L13-'2011 syoa'!L13","v":45},{"$f":"'2016 syoa'!M13-'2011 syoa'!M13","v":38},{"$f":"'2016 syoa'!N13-'2011 syoa'!N13","v":79},{"$f":"'2016 syoa'!O13-'2011 syoa'!O13","v":20},{"$f":"'2016 syoa'!P13-'2011 syoa'!P13","v":10},{"$f":"'2016 syoa'!Q13-'2011 syoa'!Q13","v":31},{"$f":"'2016 syoa'!R13-'2011 syoa'!R13","v":6},{"$f":"'2016 syoa'!S13-'2011 syoa'!S13","v":-59},{"$f":"'2016 syoa'!T13-'2011 syoa'!T13","v":-41},{"$f":"'2016 syoa'!U13-'2011 syoa'!U13","v":15},{"$f":"'2016 syoa'!V13-'2011 syoa'!V13","v":-32},{"$f":"'2016 syoa'!W13-'2011 syoa'!W13","v":1},{"$f":"'2016 syoa'!X13-'2011 syoa'!X13","v":-2},{"$f":"'2016 syoa'!Y13-'2011 syoa'!Y13","v":-2},{"$f":"'2016 syoa'!Z13-'2011 syoa'!Z13","v":27},{"$f":"'2016 syoa'!AA13-'2011 syoa'!AA13","v":28},{"$f":"'2016 syoa'!AB13-'2011 syoa'!AB13","v":42},{"$f":"'2016 syoa'!AC13-'2011 syoa'!AC13","v":-25},{"$f":"'2016 syoa'!AD13-'2011 syoa'!AD13","v":20},{"$f":"'2016 syoa'!AE13-'2011 syoa'!AE13","v":9},{"$f":"'2016 syoa'!AF13-'2011 syoa'!AF13","v":8},{"$f":"'2016 syoa'!AG13-'2011 syoa'!AG13","v":-23},{"$f":"'2016 syoa'!AH13-'2011 syoa'!AH13","v":31},{"$f":"'2016 syoa'!AI13-'2011 syoa'!AI13","v":6},{"$f":"'2016 syoa'!AJ13-'2011 syoa'!AJ13","v":53},{"$f":"'2016 syoa'!AK13-'2011 syoa'!AK13","v":19},{"$f":"'2016 syoa'!AL13-'2011 syoa'!AL13","v":34},{"$f":"'2016 syoa'!AM13-'2011 syoa'!AM13","v":21},{"$f":"'2016 syoa'!AN13-'2011 syoa'!AN13","v":17},{"$f":"'2016 syoa'!AO13-'2011 syoa'!AO13","v":21},{"$f":"'2016 syoa'!AP13-'2011 syoa'!AP13","v":11},{"$f":"'2016 syoa'!AQ13-'2011 syoa'!AQ13","v":-11},{"$f":"'2016 syoa'!AR13-'2011 syoa'!AR13","v":-13},{"$f":"'2016 syoa'!AS13-'2011 syoa'!AS13","v":-5},{"$f":"'2016 syoa'!AT13-'2011 syoa'!AT13","v":-31},{"$f":"'2016 syoa'!AU13-'2011 syoa'!AU13","v":-10},{"$f":"'2016 syoa'!AV13-'2011 syoa'!AV13","v":-21},{"$f":"'2016 syoa'!AW13-'2011 syoa'!AW13","v":-35},{"$f":"'2016 syoa'!AX13-'2011 syoa'!AX13","v":-27},{"$f":"'2016 syoa'!AY13-'2011 syoa'!AY13","v":-27},{"$f":"'2016 syoa'!AZ13-'2011 syoa'!AZ13","v":4},{"$f":"'2016 syoa'!BA13-'2011 syoa'!BA13","v":-25},{"$f":"'2016 syoa'!BB13-'2011 syoa'!BB13","v":-12},{"$f":"'2016 syoa'!BC13-'2011 syoa'!BC13","v":-4},{"$f":"'2016 syoa'!BD13-'2011 syoa'!BD13","v":46},{"$f":"'2016 syoa'!BE13-'2011 syoa'!BE13","v":15},{"$f":"'2016 syoa'!BF13-'2011 syoa'!BF13","v":-2},{"$f":"'2016 syoa'!BG13-'2011 syoa'!BG13","v":22},{"$f":"'2016 syoa'!BH13-'2011 syoa'!BH13","v":20},{"$f":"'2016 syoa'!BI13-'2011 syoa'!BI13","v":3},{"$f":"'2016 syoa'!BJ13-'2011 syoa'!BJ13","v":23},{"$f":"'2016 syoa'!BK13-'2011 syoa'!BK13","v":37},{"$f":"'2016 syoa'!BL13-'2011 syoa'!BL13","v":-4},{"$f":"'2016 syoa'!BM13-'2011 syoa'!BM13","v":23},{"$f":"'2016 syoa'!BN13-'2011 syoa'!BN13","v":22},{"$f":"'2016 syoa'!BO13-'2011 syoa'!BO13","v":-8},{"$f":"'2016 syoa'!BP13-'2011 syoa'!BP13","v":-21},{"$f":"'2016 syoa'!BQ13-'2011 syoa'!BQ13","v":12},{"$f":"'2016 syoa'!BR13-'2011 syoa'!BR13","v":-1},{"$f":"'2016 syoa'!BS13-'2011 syoa'!BS13","v":13},{"$f":"'2016 syoa'!BT13-'2011 syoa'!BT13","v":-11},{"$f":"'2016 syoa'!BU13-'2011 syoa'!BU13","v":26},{"$f":"'2016 syoa'!BV13-'2011 syoa'!BV13","v":-7},{"$f":"'2016 syoa'!BW13-'2011 syoa'!BW13","v":16},{"$f":"'2016 syoa'!BX13-'2011 syoa'!BX13","v":0},{"$f":"'2016 syoa'!BY13-'2011 syoa'!BY13","v":21},{"$f":"'2016 syoa'!BZ13-'2011 syoa'!BZ13","v":19},{"$f":"'2016 syoa'!CA13-'2011 syoa'!CA13","v":20},{"$f":"'2016 syoa'!CB13-'2011 syoa'!CB13","v":11},{"$f":"'2016 syoa'!CC13-'2011 syoa'!CC13","v":-22},{"$f":"'2016 syoa'!CD13-'2011 syoa'!CD13","v":0},{"$f":"'2016 syoa'!CE13-'2011 syoa'!CE13","v":2},{"$f":"'2016 syoa'!CF13-'2011 syoa'!CF13","v":-18},{"$f":"'2016 syoa'!CG13-'2011 syoa'!CG13","v":-11},{"$f":"'2016 syoa'!CH13-'2011 syoa'!CH13","v":34},{"$f":"'2016 syoa'!CI13-'2011 syoa'!CI13","v":-9},{"$f":"'2016 syoa'!CJ13-'2011 syoa'!CJ13","v":11},{"$f":"'2016 syoa'!CK13-'2011 syoa'!CK13","v":3},{"$f":"'2016 syoa'!CL13-'2011 syoa'!CL13","v":3},{"$f":"'2016 syoa'!CM13-'2011 syoa'!CM13","v":-6},{"$f":"'2016 syoa'!CN13-'2011 syoa'!CN13","v":-1},{"$f":"'2016 syoa'!CO13-'2011 syoa'!CO13","v":-6},{"$f":"'2016 syoa'!CP13-'2011 syoa'!CP13","v":9},{"$f":"'2016 syoa'!CQ13-'2011 syoa'!CQ13","v":17},{"$f":"'2016 syoa'!CR13-'2011 syoa'!CR13","v":653},{"$f":"'2016 syoa'!CS13-'2011 syoa'!CS13","v":40},{"$f":"'2016 syoa'!CT13-'2011 syoa'!CT13","v":-16},{"$f":"'2016 syoa'!CU13-'2011 syoa'!CU13","v":71},{"$f":"'2016 syoa'!CV13-'2011 syoa'!CV13","v":30},{"$f":"'2016 syoa'!CW13-'2011 syoa'!CW13","v":-3},{"$f":"'2016 syoa'!CX13-'2011 syoa'!CX13","v":40},{"$f":"'2016 syoa'!CY13-'2011 syoa'!CY13","v":12},{"$f":"'2016 syoa'!CZ13-'2011 syoa'!CZ13","v":29},{"$f":"'2016 syoa'!DA13-'2011 syoa'!DA13","v":21},{"$f":"'2016 syoa'!DB13-'2011 syoa'!DB13","v":21},{"$f":"'2016 syoa'!DC13-'2011 syoa'!DC13","v":-14},{"$f":"'2016 syoa'!DD13-'2011 syoa'!DD13","v":26},{"$f":"'2016 syoa'!DE13-'2011 syoa'!DE13","v":16},{"$f":"'2016 syoa'!DF13-'2011 syoa'!DF13","v":0},{"$f":"'2016 syoa'!DG13-'2011 syoa'!DG13","v":2},{"$f":"'2016 syoa'!DH13-'2011 syoa'!DH13","v":-27},{"$f":"'2016 syoa'!DI13-'2011 syoa'!DI13","v":9},{"$f":"'2016 syoa'!DJ13-'2011 syoa'!DJ13","v":-20},{"$f":"'2016 syoa'!DK13-'2011 syoa'!DK13","v":-21},{"$f":"'2016 syoa'!DL13-'2011 syoa'!DL13","v":-19},{"$f":"'2016 syoa'!DM13-'2011 syoa'!DM13","v":3},{"$f":"'2016 syoa'!DN13-'2011 syoa'!DN13","v":23},{"$f":"'2016 syoa'!DO13-'2011 syoa'!DO13","v":-3},{"$f":"'2016 syoa'!DP13-'2011 syoa'!DP13","v":4},{"$f":"'2016 syoa'!DQ13-'2011 syoa'!DQ13","v":2},{"$f":"'2016 syoa'!DR13-'2011 syoa'!DR13","v":74},{"$f":"'2016 syoa'!DS13-'2011 syoa'!DS13","v":1},{"$f":"'2016 syoa'!DT13-'2011 syoa'!DT13","v":-6},{"$f":"'2016 syoa'!DU13-'2011 syoa'!DU13","v":35},{"$f":"'2016 syoa'!DV13-'2011 syoa'!DV13","v":16},{"$f":"'2016 syoa'!DW13-'2011 syoa'!DW13","v":10},{"$f":"'2016 syoa'!DX13-'2011 syoa'!DX13","v":-13},{"$f":"'2016 syoa'!DY13-'2011 syoa'!DY13","v":31},{"$f":"'2016 syoa'!DZ13-'2011 syoa'!DZ13","v":27},{"$f":"'2016 syoa'!EA13-'2011 syoa'!EA13","v":17},{"$f":"'2016 syoa'!EB13-'2011 syoa'!EB13","v":14},{"$f":"'2016 syoa'!EC13-'2011 syoa'!EC13","v":58},{"$f":"'2016 syoa'!ED13-'2011 syoa'!ED13","v":11},{"$f":"'2016 syoa'!EE13-'2011 syoa'!EE13","v":16},{"$f":"'2016 syoa'!EF13-'2011 syoa'!EF13","v":18},{"$f":"'2016 syoa'!EG13-'2011 syoa'!EG13","v":-17},{"$f":"'2016 syoa'!EH13-'2011 syoa'!EH13","v":-8},{"$f":"'2016 syoa'!EI13-'2011 syoa'!EI13","v":-26},{"$f":"'2016 syoa'!EJ13-'2011 syoa'!EJ13","v":-32},{"$f":"'2016 syoa'!EK13-'2011 syoa'!EK13","v":-14},{"$f":"'2016 syoa'!EL13-'2011 syoa'!EL13","v":7},{"$f":"'2016 syoa'!EM13-'2011 syoa'!EM13","v":-26},{"$f":"'2016 syoa'!EN13-'2011 syoa'!EN13","v":-1},{"$f":"'2016 syoa'!EO13-'2011 syoa'!EO13","v":-38},{"$f":"'2016 syoa'!EP13-'2011 syoa'!EP13","v":3},{"$f":"'2016 syoa'!EQ13-'2011 syoa'!EQ13","v":8},{"$f":"'2016 syoa'!ER13-'2011 syoa'!ER13","v":12},{"$f":"'2016 syoa'!ES13-'2011 syoa'!ES13","v":-3},{"$f":"'2016 syoa'!ET13-'2011 syoa'!ET13","v":46},{"$f":"'2016 syoa'!EU13-'2011 syoa'!EU13","v":-10},{"$f":"'2016 syoa'!EV13-'2011 syoa'!EV13","v":12},{"$f":"'2016 syoa'!EW13-'2011 syoa'!EW13","v":36},{"$f":"'2016 syoa'!EX13-'2011 syoa'!EX13","v":38},{"$f":"'2016 syoa'!EY13-'2011 syoa'!EY13","v":28},{"$f":"'2016 syoa'!EZ13-'2011 syoa'!EZ13","v":35},{"$f":"'2016 syoa'!FA13-'2011 syoa'!FA13","v":-9},{"$f":"'2016 syoa'!FB13-'2011 syoa'!FB13","v":2},{"$f":"'2016 syoa'!FC13-'2011 syoa'!FC13","v":-15},{"$f":"'2016 syoa'!FD13-'2011 syoa'!FD13","v":-1},{"$f":"'2016 syoa'!FE13-'2011 syoa'!FE13","v":-12},{"$f":"'2016 syoa'!FF13-'2011 syoa'!FF13","v":27},{"$f":"'2016 syoa'!FG13-'2011 syoa'!FG13","v":-1},{"$f":"'2016 syoa'!FH13-'2011 syoa'!FH13","v":-9},{"$f":"'2016 syoa'!FI13-'2011 syoa'!FI13","v":8},{"$f":"'2016 syoa'!FJ13-'2011 syoa'!FJ13","v":27},{"$f":"'2016 syoa'!FK13-'2011 syoa'!FK13","v":16},{"$f":"'2016 syoa'!FL13-'2011 syoa'!FL13","v":8},{"$f":"'2016 syoa'!FM13-'2011 syoa'!FM13","v":27},{"$f":"'2016 syoa'!FN13-'2011 syoa'!FN13","v":-4},{"$f":"'2016 syoa'!FO13-'2011 syoa'!FO13","v":5},{"$f":"'2016 syoa'!FP13-'2011 syoa'!FP13","v":-12},{"$f":"'2016 syoa'!FQ13-'2011 syoa'!FQ13","v":-17},{"$f":"'2016 syoa'!FR13-'2011 syoa'!FR13","v":-10},{"$f":"'2016 syoa'!FS13-'2011 syoa'!FS13","v":0},{"$f":"'2016 syoa'!FT13-'2011 syoa'!FT13","v":3},{"$f":"'2016 syoa'!FU13-'2011 syoa'!FU13","v":12},{"$f":"'2016 syoa'!FV13-'2011 syoa'!FV13","v":14},{"$f":"'2016 syoa'!FW13-'2011 syoa'!FW13","v":17},{"$f":"'2016 syoa'!FX13-'2011 syoa'!FX13","v":-7},{"$f":"'2016 syoa'!FY13-'2011 syoa'!FY13","v":6},{"$f":"'2016 syoa'!FZ13-'2011 syoa'!FZ13","v":-15},{"$f":"'2016 syoa'!GA13-'2011 syoa'!GA13","v":-11},{"$f":"'2016 syoa'!GB13-'2011 syoa'!GB13","v":-14},{"$f":"'2016 syoa'!GC13-'2011 syoa'!GC13","v":7},{"$f":"'2016 syoa'!GD13-'2011 syoa'!GD13","v":7},{"$f":"'2016 syoa'!GE13-'2011 syoa'!GE13","v":19}]
["Hall Green","Hall Green","E05001187",{"$f":"'2016 syoa'!D14-'2011 syoa'!D14","v":325},{"$f":"'2016 syoa'!E14-'2011 syoa'!E14","v":54},{"$f":"'2016 syoa'!F14-'2011 syoa'!F14","v":-22},{"$f":"'2016 syoa'!G14-'2011 syoa'!G14","v":-1},{"$f":"'2016 syoa'!H14-'2011 syoa'!H14","v":-41},{"$f":"'2016 syoa'!I14-'2011 syoa'!I14","v":-3},{"$f":"'2016 syoa'!J14-'2011 syoa'!J14","v":15},{"$f":"'2016 syoa'!K14-'2011 syoa'!K14","v":16},{"$f":"'2016 syoa'!L14-'2011 syoa'!L14","v":34},{"$f":"'2016 syoa'!M14-'2011 syoa'!M14","v":31},{"$f":"'2016 syoa'!N14-'2011 syoa'!N14","v":-8},{"$f":"'2016 syoa'!O14-'2011 syoa'!O14","v":21},{"$f":"'2016 syoa'!P14-'2011 syoa'!P14","v":33},{"$f":"'2016 syoa'!Q14-'2011 syoa'!Q14","v":15},{"$f":"'2016 syoa'!R14-'2011 syoa'!R14","v":-3},{"$f":"'2016 syoa'!S14-'2011 syoa'!S14","v":-15},{"$f":"'2016 syoa'!T14-'2011 syoa'!T14","v":-10},{"$f":"'2016 syoa'!U14-'2011 syoa'!U14","v":-7},{"$f":"'2016 syoa'!V14-'2011 syoa'!V14","v":21},{"$f":"'2016 syoa'!W14-'2011 syoa'!W14","v":31},{"$f":"'2016 syoa'!X14-'2011 syoa'!X14","v":15},{"$f":"'2016 syoa'!Y14-'2011 syoa'!Y14","v":17},{"$f":"'2016 syoa'!Z14-'2011 syoa'!Z14","v":26},{"$f":"'2016 syoa'!AA14-'2011 syoa'!AA14","v":39},{"$f":"'2016 syoa'!AB14-'2011 syoa'!AB14","v":-31},{"$f":"'2016 syoa'!AC14-'2011 syoa'!AC14","v":7},{"$f":"'2016 syoa'!AD14-'2011 syoa'!AD14","v":45},{"$f":"'2016 syoa'!AE14-'2011 syoa'!AE14","v":-12},{"$f":"'2016 syoa'!AF14-'2011 syoa'!AF14","v":18},{"$f":"'2016 syoa'!AG14-'2011 syoa'!AG14","v":-9},{"$f":"'2016 syoa'!AH14-'2011 syoa'!AH14","v":-1},{"$f":"'2016 syoa'!AI14-'2011 syoa'!AI14","v":0},{"$f":"'2016 syoa'!AJ14-'2011 syoa'!AJ14","v":12},{"$f":"'2016 syoa'!AK14-'2011 syoa'!AK14","v":24},{"$f":"'2016 syoa'!AL14-'2011 syoa'!AL14","v":14},{"$f":"'2016 syoa'!AM14-'2011 syoa'!AM14","v":-15},{"$f":"'2016 syoa'!AN14-'2011 syoa'!AN14","v":24},{"$f":"'2016 syoa'!AO14-'2011 syoa'!AO14","v":-15},{"$f":"'2016 syoa'!AP14-'2011 syoa'!AP14","v":-17},{"$f":"'2016 syoa'!AQ14-'2011 syoa'!AQ14","v":-2},{"$f":"'2016 syoa'!AR14-'2011 syoa'!AR14","v":-19},{"$f":"'2016 syoa'!AS14-'2011 syoa'!AS14","v":-28},{"$f":"'2016 syoa'!AT14-'2011 syoa'!AT14","v":2},{"$f":"'2016 syoa'!AU14-'2011 syoa'!AU14","v":15},{"$f":"'2016 syoa'!AV14-'2011 syoa'!AV14","v":-15},{"$f":"'2016 syoa'!AW14-'2011 syoa'!AW14","v":-18},{"$f":"'2016 syoa'!AX14-'2011 syoa'!AX14","v":-17},{"$f":"'2016 syoa'!AY14-'2011 syoa'!AY14","v":-15},{"$f":"'2016 syoa'!AZ14-'2011 syoa'!AZ14","v":7},{"$f":"'2016 syoa'!BA14-'2011 syoa'!BA14","v":-13},{"$f":"'2016 syoa'!BB14-'2011 syoa'!BB14","v":1},{"$f":"'2016 syoa'!BC14-'2011 syoa'!BC14","v":-9},{"$f":"'2016 syoa'!BD14-'2011 syoa'!BD14","v":25},{"$f":"'2016 syoa'!BE14-'2011 syoa'!BE14","v":-7},{"$f":"'2016 syoa'!BF14-'2011 syoa'!BF14","v":11},{"$f":"'2016 syoa'!BG14-'2011 syoa'!BG14","v":22},{"$f":"'2016 syoa'!BH14-'2011 syoa'!BH14","v":4},{"$f":"'2016 syoa'!BI14-'2011 syoa'!BI14","v":6},{"$f":"'2016 syoa'!BJ14-'2011 syoa'!BJ14","v":8},{"$f":"'2016 syoa'!BK14-'2011 syoa'!BK14","v":6},{"$f":"'2016 syoa'!BL14-'2011 syoa'!BL14","v":-5},{"$f":"'2016 syoa'!BM14-'2011 syoa'!BM14","v":1},{"$f":"'2016 syoa'!BN14-'2011 syoa'!BN14","v":4},{"$f":"'2016 syoa'!BO14-'2011 syoa'!BO14","v":14},{"$f":"'2016 syoa'!BP14-'2011 syoa'!BP14","v":-24},{"$f":"'2016 syoa'!BQ14-'2011 syoa'!BQ14","v":-17},{"$f":"'2016 syoa'!BR14-'2011 syoa'!BR14","v":12},{"$f":"'2016 syoa'!BS14-'2011 syoa'!BS14","v":-20},{"$f":"'2016 syoa'!BT14-'2011 syoa'!BT14","v":-14},{"$f":"'2016 syoa'!BU14-'2011 syoa'!BU14","v":22},{"$f":"'2016 syoa'!BV14-'2011 syoa'!BV14","v":30},{"$f":"'2016 syoa'!BW14-'2011 syoa'!BW14","v":-1},{"$f":"'2016 syoa'!BX14-'2011 syoa'!BX14","v":13},{"$f":"'2016 syoa'!BY14-'2011 syoa'!BY14","v":6},{"$f":"'2016 syoa'!BZ14-'2011 syoa'!BZ14","v":9},{"$f":"'2016 syoa'!CA14-'2011 syoa'!CA14","v":2},{"$f":"'2016 syoa'!CB14-'2011 syoa'!CB14","v":0},{"$f":"'2016 syoa'!CC14-'2011 syoa'!CC14","v":-1},{"$f":"'2016 syoa'!CD14-'2011 syoa'!CD14","v":-2},{"$f":"'2016 syoa'!CE14-'2011 syoa'!CE14","v":-8},{"$f":"'2016 syoa'!CF14-'2011 syoa'!CF14","v":-6},{"$f":"'2016 syoa'!CG14-'2011 syoa'!CG14","v":-2},{"$f":"'2016 syoa'!CH14-'2011 syoa'!CH14","v":17},{"$f":"'2016 syoa'!CI14-'2011 syoa'!CI14","v":2},{"$f":"'2016 syoa'!CJ14-'2011 syoa'!CJ14","v":-1},{"$f":"'2016 syoa'!CK14-'2011 syoa'!CK14","v":-11},{"$f":"'2016 syoa'!CL14-'2011 syoa'!CL14","v":14},{"$f":"'2016 syoa'!CM14-'2011 syoa'!CM14","v":9},{"$f":"'2016 syoa'!CN14-'2011 syoa'!CN14","v":2},{"$f":"'2016 syoa'!CO14-'2011 syoa'!CO14","v":3},{"$f":"'2016 syoa'!CP14-'2011 syoa'!CP14","v":16},{"$f":"'2016 syoa'!CQ14-'2011 syoa'!CQ14","v":-5},{"$f":"'2016 syoa'!CR14-'2011 syoa'!CR14","v":385},{"$f":"'2016 syoa'!CS14-'2011 syoa'!CS14","v":24},{"$f":"'2016 syoa'!CT14-'2011 syoa'!CT14","v":28},{"$f":"'2016 syoa'!CU14-'2011 syoa'!CU14","v":-9},{"$f":"'2016 syoa'!CV14-'2011 syoa'!CV14","v":10},{"$f":"'2016 syoa'!CW14-'2011 syoa'!CW14","v":28},{"$f":"'2016 syoa'!CX14-'2011 syoa'!CX14","v":26},{"$f":"'2016 syoa'!CY14-'2011 syoa'!CY14","v":-38},{"$f":"'2016 syoa'!CZ14-'2011 syoa'!CZ14","v":24},{"$f":"'2016 syoa'!DA14-'2011 syoa'!DA14","v":33},{"$f":"'2016 syoa'!DB14-'2011 syoa'!DB14","v":28},{"$f":"'2016 syoa'!DC14-'2011 syoa'!DC14","v":13},{"$f":"'2016 syoa'!DD14-'2011 syoa'!DD14","v":-30},{"$f":"'2016 syoa'!DE14-'2011 syoa'!DE14","v":-10},{"$f":"'2016 syoa'!DF14-'2011 syoa'!DF14","v":-12},{"$f":"'2016 syoa'!DG14-'2011 syoa'!DG14","v":24},{"$f":"'2016 syoa'!DH14-'2011 syoa'!DH14","v":-24},{"$f":"'2016 syoa'!DI14-'2011 syoa'!DI14","v":11},{"$f":"'2016 syoa'!DJ14-'2011 syoa'!DJ14","v":5},{"$f":"'2016 syoa'!DK14-'2011 syoa'!DK14","v":10},{"$f":"'2016 syoa'!DL14-'2011 syoa'!DL14","v":-3},{"$f":"'2016 syoa'!DM14-'2011 syoa'!DM14","v":37},{"$f":"'2016 syoa'!DN14-'2011 syoa'!DN14","v":11},{"$f":"'2016 syoa'!DO14-'2011 syoa'!DO14","v":-9},{"$f":"'2016 syoa'!DP14-'2011 syoa'!DP14","v":-10},{"$f":"'2016 syoa'!DQ14-'2011 syoa'!DQ14","v":-9},{"$f":"'2016 syoa'!DR14-'2011 syoa'!DR14","v":9},{"$f":"'2016 syoa'!DS14-'2011 syoa'!DS14","v":-13},{"$f":"'2016 syoa'!DT14-'2011 syoa'!DT14","v":9},{"$f":"'2016 syoa'!DU14-'2011 syoa'!DU14","v":20},{"$f":"'2016 syoa'!DV14-'2011 syoa'!DV14","v":30},{"$f":"'2016 syoa'!DW14-'2011 syoa'!DW14","v":18},{"$f":"'2016 syoa'!DX14-'2011 syoa'!DX14","v":-23},{"$f":"'2016 syoa'!DY14-'2011 syoa'!DY14","v":-12},{"$f":"'2016 syoa'!DZ14-'2011 syoa'!DZ14","v":-29},{"$f":"'2016 syoa'!EA14-'2011 syoa'!EA14","v":-13},{"$f":"'2016 syoa'!EB14-'2011 syoa'!EB14","v":-2},{"$f":"'2016 syoa'!EC14-'2011 syoa'!EC14","v":22},{"$f":"'2016 syoa'!ED14-'2011 syoa'!ED14","v":25},{"$f":"'2016 syoa'!EE14-'2011 syoa'!EE14","v":1},{"$f":"'2016 syoa'!EF14-'2011 syoa'!EF14","v":-22},{"$f":"'2016 syoa'!EG14-'2011 syoa'!EG14","v":-2},{"$f":"'2016 syoa'!EH14-'2011 syoa'!EH14","v":-19},{"$f":"'2016 syoa'!EI14-'2011 syoa'!EI14","v":-18},{"$f":"'2016 syoa'!EJ14-'2011 syoa'!EJ14","v":-32},{"$f":"'2016 syoa'!EK14-'2011 syoa'!EK14","v":10},{"$f":"'2016 syoa'!EL14-'2011 syoa'!EL14","v":-13},{"$f":"'2016 syoa'!EM14-'2011 syoa'!EM14","v":16},{"$f":"'2016 syoa'!EN14-'2011 syoa'!EN14","v":4},{"$f":"'2016 syoa'!EO14-'2011 syoa'!EO14","v":13},{"$f":"'2016 syoa'!EP14-'2011 syoa'!EP14","v":6},{"$f":"'2016 syoa'!EQ14-'2011 syoa'!EQ14","v":6},{"$f":"'2016 syoa'!ER14-'2011 syoa'!ER14","v":-38},{"$f":"'2016 syoa'!ES14-'2011 syoa'!ES14","v":-3},{"$f":"'2016 syoa'!ET14-'2011 syoa'!ET14","v":14},{"$f":"'2016 syoa'!EU14-'2011 syoa'!EU14","v":36},{"$f":"'2016 syoa'!EV14-'2011 syoa'!EV14","v":0},{"$f":"'2016 syoa'!EW14-'2011 syoa'!EW14","v":36},{"$f":"'2016 syoa'!EX14-'2011 syoa'!EX14","v":12},{"$f":"'2016 syoa'!EY14-'2011 syoa'!EY14","v":-12},{"$f":"'2016 syoa'!EZ14-'2011 syoa'!EZ14","v":23},{"$f":"'2016 syoa'!FA14-'2011 syoa'!FA14","v":18},{"$f":"'2016 syoa'!FB14-'2011 syoa'!FB14","v":14},{"$f":"'2016 syoa'!FC14-'2011 syoa'!FC14","v":14},{"$f":"'2016 syoa'!FD14-'2011 syoa'!FD14","v":15},{"$f":"'2016 syoa'!FE14-'2011 syoa'!FE14","v":-34},{"$f":"'2016 syoa'!FF14-'2011 syoa'!FF14","v":26},{"$f":"'2016 syoa'!FG14-'2011 syoa'!FG14","v":-17},{"$f":"'2016 syoa'!FH14-'2011 syoa'!FH14","v":-9},{"$f":"'2016 syoa'!FI14-'2011 syoa'!FI14","v":-11},{"$f":"'2016 syoa'!FJ14-'2011 syoa'!FJ14","v":39},{"$f":"'2016 syoa'!FK14-'2011 syoa'!FK14","v":28},{"$f":"'2016 syoa'!FL14-'2011 syoa'!FL14","v":9},{"$f":"'2016 syoa'!FM14-'2011 syoa'!FM14","v":35},{"$f":"'2016 syoa'!FN14-'2011 syoa'!FN14","v":44},{"$f":"'2016 syoa'!FO14-'2011 syoa'!FO14","v":1},{"$f":"'2016 syoa'!FP14-'2011 syoa'!FP14","v":-33},{"$f":"'2016 syoa'!FQ14-'2011 syoa'!FQ14","v":1},{"$f":"'2016 syoa'!FR14-'2011 syoa'!FR14","v":-5},{"$f":"'2016 syoa'!FS14-'2011 syoa'!FS14","v":-14},{"$f":"'2016 syoa'!FT14-'2011 syoa'!FT14","v":-6},{"$f":"'2016 syoa'!FU14-'2011 syoa'!FU14","v":-6},{"$f":"'2016 syoa'!FV14-'2011 syoa'!FV14","v":1},{"$f":"'2016 syoa'!FW14-'2011 syoa'!FW14","v":2},{"$f":"'2016 syoa'!FX14-'2011 syoa'!FX14","v":15},{"$f":"'2016 syoa'!FY14-'2011 syoa'!FY14","v":3},{"$f":"'2016 syoa'!FZ14-'2011 syoa'!FZ14","v":13},{"$f":"'2016 syoa'!GA14-'2011 syoa'!GA14","v":10},{"$f":"'2016 syoa'!GB14-'2011 syoa'!GB14","v":10},{"$f":"'2016 syoa'!GC14-'2011 syoa'!GC14","v":-1},{"$f":"'2016 syoa'!GD14-'2011 syoa'!GD14","v":7},{"$f":"'2016 syoa'!GE14-'2011 syoa'!GE14","v":-1}]
["Handsworth Wood","Perry Barr","E05001188",{"$f":"'2016 syoa'!D15-'2011 syoa'!D15","v":580},{"$f":"'2016 syoa'!E15-'2011 syoa'!E15","v":-18},{"$f":"'2016 syoa'!F15-'2011 syoa'!F15","v":-8},{"$f":"'2016 syoa'!G15-'2011 syoa'!G15","v":9},{"$f":"'2016 syoa'!H15-'2011 syoa'!H15","v":23},{"$f":"'2016 syoa'!I15-'2011 syoa'!I15","v":34},{"$f":"'2016 syoa'!J15-'2011 syoa'!J15","v":30},{"$f":"'2016 syoa'!K15-'2011 syoa'!K15","v":34},{"$f":"'2016 syoa'!L15-'2011 syoa'!L15","v":1},{"$f":"'2016 syoa'!M15-'2011 syoa'!M15","v":-31},{"$f":"'2016 syoa'!N15-'2011 syoa'!N15","v":2},{"$f":"'2016 syoa'!O15-'2011 syoa'!O15","v":39},{"$f":"'2016 syoa'!P15-'2011 syoa'!P15","v":6},{"$f":"'2016 syoa'!Q15-'2011 syoa'!Q15","v":30},{"$f":"'2016 syoa'!R15-'2011 syoa'!R15","v":-7},{"$f":"'2016 syoa'!S15-'2011 syoa'!S15","v":1},{"$f":"'2016 syoa'!T15-'2011 syoa'!T15","v":-16},{"$f":"'2016 syoa'!U15-'2011 syoa'!U15","v":-11},{"$f":"'2016 syoa'!V15-'2011 syoa'!V15","v":-11},{"$f":"'2016 syoa'!W15-'2011 syoa'!W15","v":-8},{"$f":"'2016 syoa'!X15-'2011 syoa'!X15","v":-17},{"$f":"'2016 syoa'!Y15-'2011 syoa'!Y15","v":-19},{"$f":"'2016 syoa'!Z15-'2011 syoa'!Z15","v":-15},{"$f":"'2016 syoa'!AA15-'2011 syoa'!AA15","v":-7},{"$f":"'2016 syoa'!AB15-'2011 syoa'!AB15","v":38},{"$f":"'2016 syoa'!AC15-'2011 syoa'!AC15","v":21},{"$f":"'2016 syoa'!AD15-'2011 syoa'!AD15","v":-8},{"$f":"'2016 syoa'!AE15-'2011 syoa'!AE15","v":13},{"$f":"'2016 syoa'!AF15-'2011 syoa'!AF15","v":25},{"$f":"'2016 syoa'!AG15-'2011 syoa'!AG15","v":-43},{"$f":"'2016 syoa'!AH15-'2011 syoa'!AH15","v":-33},{"$f":"'2016 syoa'!AI15-'2011 syoa'!AI15","v":-24},{"$f":"'2016 syoa'!AJ15-'2011 syoa'!AJ15","v":22},{"$f":"'2016 syoa'!AK15-'2011 syoa'!AK15","v":58},{"$f":"'2016 syoa'!AL15-'2011 syoa'!AL15","v":38},{"$f":"'2016 syoa'!AM15-'2011 syoa'!AM15","v":21},{"$f":"'2016 syoa'!AN15-'2011 syoa'!AN15","v":46},{"$f":"'2016 syoa'!AO15-'2011 syoa'!AO15","v":8},{"$f":"'2016 syoa'!AP15-'2011 syoa'!AP15","v":-16},{"$f":"'2016 syoa'!AQ15-'2011 syoa'!AQ15","v":5},{"$f":"'2016 syoa'!AR15-'2011 syoa'!AR15","v":-2},{"$f":"'2016 syoa'!AS15-'2011 syoa'!AS15","v":-7},{"$f":"'2016 syoa'!AT15-'2011 syoa'!AT15","v":16},{"$f":"'2016 syoa'!AU15-'2011 syoa'!AU15","v":11},{"$f":"'2016 syoa'!AV15-'2011 syoa'!AV15","v":-61},{"$f":"'2016 syoa'!AW15-'2011 syoa'!AW15","v":36},{"$f":"'2016 syoa'!AX15-'2011 syoa'!AX15","v":20},{"$f":"'2016 syoa'!AY15-'2011 syoa'!AY15","v":8},{"$f":"'2016 syoa'!AZ15-'2011 syoa'!AZ15","v":8},{"$f":"'2016 syoa'!BA15-'2011 syoa'!BA15","v":26},{"$f":"'2016 syoa'!BB15-'2011 syoa'!BB15","v":-39},{"$f":"'2016 syoa'!BC15-'2011 syoa'!BC15","v":2},{"$f":"'2016 syoa'!BD15-'2011 syoa'!BD15","v":-28},{"$f":"'2016 syoa'!BE15-'2011 syoa'!BE15","v":24},{"$f":"'2016 syoa'!BF15-'2011 syoa'!BF15","v":23},{"$f":"'2016 syoa'!BG15-'2011 syoa'!BG15","v":41},{"$f":"'2016 syoa'!BH15-'2011 syoa'!BH15","v":12},{"$f":"'2016 syoa'!BI15-'2011 syoa'!BI15","v":18},{"$f":"'2016 syoa'!BJ15-'2011 syoa'!BJ15","v":11},{"$f":"'2016 syoa'!BK15-'2011 syoa'!BK15","v":-9},{"$f":"'2016 syoa'!BL15-'2011 syoa'!BL15","v":5},{"$f":"'2016 syoa'!BM15-'2011 syoa'!BM15","v":10},{"$f":"'2016 syoa'!BN15-'2011 syoa'!BN15","v":21},{"$f":"'2016 syoa'!BO15-'2011 syoa'!BO15","v":30},{"$f":"'2016 syoa'!BP15-'2011 syoa'!BP15","v":37},{"$f":"'2016 syoa'!BQ15-'2011 syoa'!BQ15","v":31},{"$f":"'2016 syoa'!BR15-'2011 syoa'!BR15","v":37},{"$f":"'2016 syoa'!BS15-'2011 syoa'!BS15","v":30},{"$f":"'2016 syoa'!BT15-'2011 syoa'!BT15","v":46},{"$f":"'2016 syoa'!BU15-'2011 syoa'!BU15","v":19},{"$f":"'2016 syoa'!BV15-'2011 syoa'!BV15","v":24},{"$f":"'2016 syoa'!BW15-'2011 syoa'!BW15","v":0},{"$f":"'2016 syoa'!BX15-'2011 syoa'!BX15","v":-5},{"$f":"'2016 syoa'!BY15-'2011 syoa'!BY15","v":-7},{"$f":"'2016 syoa'!BZ15-'2011 syoa'!BZ15","v":2},{"$f":"'2016 syoa'!CA15-'2011 syoa'!CA15","v":-18},{"$f":"'2016 syoa'!CB15-'2011 syoa'!CB15","v":-14},{"$f":"'2016 syoa'!CC15-'2011 syoa'!CC15","v":-4},{"$f":"'2016 syoa'!CD15-'2011 syoa'!CD15","v":-9},{"$f":"'2016 syoa'!CE15-'2011 syoa'!CE15","v":-20},{"$f":"'2016 syoa'!CF15-'2011 syoa'!CF15","v":14},{"$f":"'2016 syoa'!CG15-'2011 syoa'!CG15","v":1},{"$f":"'2016 syoa'!CH15-'2011 syoa'!CH15","v":6},{"$f":"'2016 syoa'!CI15-'2011 syoa'!CI15","v":9},{"$f":"'2016 syoa'!CJ15-'2011 syoa'!CJ15","v":1},{"$f":"'2016 syoa'!CK15-'2011 syoa'!CK15","v":7},{"$f":"'2016 syoa'!CL15-'2011 syoa'!CL15","v":-1},{"$f":"'2016 syoa'!CM15-'2011 syoa'!CM15","v":-2},{"$f":"'2016 syoa'!CN15-'2011 syoa'!CN15","v":1},{"$f":"'2016 syoa'!CO15-'2011 syoa'!CO15","v":-2},{"$f":"'2016 syoa'!CP15-'2011 syoa'!CP15","v":-3},{"$f":"'2016 syoa'!CQ15-'2011 syoa'!CQ15","v":12},{"$f":"'2016 syoa'!CR15-'2011 syoa'!CR15","v":248},{"$f":"'2016 syoa'!CS15-'2011 syoa'!CS15","v":18},{"$f":"'2016 syoa'!CT15-'2011 syoa'!CT15","v":32},{"$f":"'2016 syoa'!CU15-'2011 syoa'!CU15","v":-2},{"$f":"'2016 syoa'!CV15-'2011 syoa'!CV15","v":-9},{"$f":"'2016 syoa'!CW15-'2011 syoa'!CW15","v":29},{"$f":"'2016 syoa'!CX15-'2011 syoa'!CX15","v":19},{"$f":"'2016 syoa'!CY15-'2011 syoa'!CY15","v":-43},{"$f":"'2016 syoa'!CZ15-'2011 syoa'!CZ15","v":29},{"$f":"'2016 syoa'!DA15-'2011 syoa'!DA15","v":42},{"$f":"'2016 syoa'!DB15-'2011 syoa'!DB15","v":-13},{"$f":"'2016 syoa'!DC15-'2011 syoa'!DC15","v":9},{"$f":"'2016 syoa'!DD15-'2011 syoa'!DD15","v":30},{"$f":"'2016 syoa'!DE15-'2011 syoa'!DE15","v":-6},{"$f":"'2016 syoa'!DF15-'2011 syoa'!DF15","v":-18},{"$f":"'2016 syoa'!DG15-'2011 syoa'!DG15","v":-20},{"$f":"'2016 syoa'!DH15-'2011 syoa'!DH15","v":-4},{"$f":"'2016 syoa'!DI15-'2011 syoa'!DI15","v":-12},{"$f":"'2016 syoa'!DJ15-'2011 syoa'!DJ15","v":-32},{"$f":"'2016 syoa'!DK15-'2011 syoa'!DK15","v":-22},{"$f":"'2016 syoa'!DL15-'2011 syoa'!DL15","v":-62},{"$f":"'2016 syoa'!DM15-'2011 syoa'!DM15","v":9},{"$f":"'2016 syoa'!DN15-'2011 syoa'!DN15","v":-2},{"$f":"'2016 syoa'!DO15-'2011 syoa'!DO15","v":41},{"$f":"'2016 syoa'!DP15-'2011 syoa'!DP15","v":-20},{"$f":"'2016 syoa'!DQ15-'2011 syoa'!DQ15","v":-12},{"$f":"'2016 syoa'!DR15-'2011 syoa'!DR15","v":-19},{"$f":"'2016 syoa'!DS15-'2011 syoa'!DS15","v":-3},{"$f":"'2016 syoa'!DT15-'2011 syoa'!DT15","v":-5},{"$f":"'2016 syoa'!DU15-'2011 syoa'!DU15","v":-45},{"$f":"'2016 syoa'!DV15-'2011 syoa'!DV15","v":-14},{"$f":"'2016 syoa'!DW15-'2011 syoa'!DW15","v":39},{"$f":"'2016 syoa'!DX15-'2011 syoa'!DX15","v":-66},{"$f":"'2016 syoa'!DY15-'2011 syoa'!DY15","v":-5},{"$f":"'2016 syoa'!DZ15-'2011 syoa'!DZ15","v":20},{"$f":"'2016 syoa'!EA15-'2011 syoa'!EA15","v":8},{"$f":"'2016 syoa'!EB15-'2011 syoa'!EB15","v":36},{"$f":"'2016 syoa'!EC15-'2011 syoa'!EC15","v":53},{"$f":"'2016 syoa'!ED15-'2011 syoa'!ED15","v":32},{"$f":"'2016 syoa'!EE15-'2011 syoa'!EE15","v":10},{"$f":"'2016 syoa'!EF15-'2011 syoa'!EF15","v":-13},{"$f":"'2016 syoa'!EG15-'2011 syoa'!EG15","v":19},{"$f":"'2016 syoa'!EH15-'2011 syoa'!EH15","v":-3},{"$f":"'2016 syoa'!EI15-'2011 syoa'!EI15","v":12},{"$f":"'2016 syoa'!EJ15-'2011 syoa'!EJ15","v":-12},{"$f":"'2016 syoa'!EK15-'2011 syoa'!EK15","v":-36},{"$f":"'2016 syoa'!EL15-'2011 syoa'!EL15","v":-12},{"$f":"'2016 syoa'!EM15-'2011 syoa'!EM15","v":-35},{"$f":"'2016 syoa'!EN15-'2011 syoa'!EN15","v":-48},{"$f":"'2016 syoa'!EO15-'2011 syoa'!EO15","v":-25},{"$f":"'2016 syoa'!EP15-'2011 syoa'!EP15","v":-1},{"$f":"'2016 syoa'!EQ15-'2011 syoa'!EQ15","v":-24},{"$f":"'2016 syoa'!ER15-'2011 syoa'!ER15","v":1},{"$f":"'2016 syoa'!ES15-'2011 syoa'!ES15","v":41},{"$f":"'2016 syoa'!ET15-'2011 syoa'!ET15","v":65},{"$f":"'2016 syoa'!EU15-'2011 syoa'!EU15","v":76},{"$f":"'2016 syoa'!EV15-'2011 syoa'!EV15","v":36},{"$f":"'2016 syoa'!EW15-'2011 syoa'!EW15","v":29},{"$f":"'2016 syoa'!EX15-'2011 syoa'!EX15","v":2},{"$f":"'2016 syoa'!EY15-'2011 syoa'!EY15","v":21},{"$f":"'2016 syoa'!EZ15-'2011 syoa'!EZ15","v":-7},{"$f":"'2016 syoa'!FA15-'2011 syoa'!FA15","v":10},{"$f":"'2016 syoa'!FB15-'2011 syoa'!FB15","v":-13},{"$f":"'2016 syoa'!FC15-'2011 syoa'!FC15","v":43},{"$f":"'2016 syoa'!FD15-'2011 syoa'!FD15","v":50},{"$f":"'2016 syoa'!FE15-'2011 syoa'!FE15","v":32},{"$f":"'2016 syoa'!FF15-'2011 syoa'!FF15","v":24},{"$f":"'2016 syoa'!FG15-'2011 syoa'!FG15","v":50},{"$f":"'2016 syoa'!FH15-'2011 syoa'!FH15","v":7},{"$f":"'2016 syoa'!FI15-'2011 syoa'!FI15","v":3},{"$f":"'2016 syoa'!FJ15-'2011 syoa'!FJ15","v":21},{"$f":"'2016 syoa'!FK15-'2011 syoa'!FK15","v":-10},{"$f":"'2016 syoa'!FL15-'2011 syoa'!FL15","v":-45},{"$f":"'2016 syoa'!FM15-'2011 syoa'!FM15","v":-20},{"$f":"'2016 syoa'!FN15-'2011 syoa'!FN15","v":-14},{"$f":"'2016 syoa'!FO15-'2011 syoa'!FO15","v":-30},{"$f":"'2016 syoa'!FP15-'2011 syoa'!FP15","v":-18},{"$f":"'2016 syoa'!FQ15-'2011 syoa'!FQ15","v":19},{"$f":"'2016 syoa'!FR15-'2011 syoa'!FR15","v":-2},{"$f":"'2016 syoa'!FS15-'2011 syoa'!FS15","v":6},{"$f":"'2016 syoa'!FT15-'2011 syoa'!FT15","v":-27},{"$f":"'2016 syoa'!FU15-'2011 syoa'!FU15","v":13},{"$f":"'2016 syoa'!FV15-'2011 syoa'!FV15","v":-2},{"$f":"'2016 syoa'!FW15-'2011 syoa'!FW15","v":12},{"$f":"'2016 syoa'!FX15-'2011 syoa'!FX15","v":-11},{"$f":"'2016 syoa'!FY15-'2011 syoa'!FY15","v":5},{"$f":"'2016 syoa'!FZ15-'2011 syoa'!FZ15","v":-2},{"$f":"'2016 syoa'!GA15-'2011 syoa'!GA15","v":10},{"$f":"'2016 syoa'!GB15-'2011 syoa'!GB15","v":-3},{"$f":"'2016 syoa'!GC15-'2011 syoa'!GC15","v":-10},{"$f":"'2016 syoa'!GD15-'2011 syoa'!GD15","v":21},{"$f":"'2016 syoa'!GE15-'2011 syoa'!GE15","v":21}]
["Harborne","Edgbaston","E05001189",{"$f":"'2016 syoa'!D16-'2011 syoa'!D16","v":1115},{"$f":"'2016 syoa'!E16-'2011 syoa'!E16","v":45},{"$f":"'2016 syoa'!F16-'2011 syoa'!F16","v":4},{"$f":"'2016 syoa'!G16-'2011 syoa'!G16","v":31},{"$f":"'2016 syoa'!H16-'2011 syoa'!H16","v":42},{"$f":"'2016 syoa'!I16-'2011 syoa'!I16","v":16},{"$f":"'2016 syoa'!J16-'2011 syoa'!J16","v":4},{"$f":"'2016 syoa'!K16-'2011 syoa'!K16","v":27},{"$f":"'2016 syoa'!L16-'2011 syoa'!L16","v":15},{"$f":"'2016 syoa'!M16-'2011 syoa'!M16","v":12},{"$f":"'2016 syoa'!N16-'2011 syoa'!N16","v":51},{"$f":"'2016 syoa'!O16-'2011 syoa'!O16","v":12},{"$f":"'2016 syoa'!P16-'2011 syoa'!P16","v":7},{"$f":"'2016 syoa'!Q16-'2011 syoa'!Q16","v":29},{"$f":"'2016 syoa'!R16-'2011 syoa'!R16","v":14},{"$f":"'2016 syoa'!S16-'2011 syoa'!S16","v":-7},{"$f":"'2016 syoa'!T16-'2011 syoa'!T16","v":33},{"$f":"'2016 syoa'!U16-'2011 syoa'!U16","v":32},{"$f":"'2016 syoa'!V16-'2011 syoa'!V16","v":-5},{"$f":"'2016 syoa'!W16-'2011 syoa'!W16","v":-7},{"$f":"'2016 syoa'!X16-'2011 syoa'!X16","v":-29},{"$f":"'2016 syoa'!Y16-'2011 syoa'!Y16","v":-1},{"$f":"'2016 syoa'!Z16-'2011 syoa'!Z16","v":-17},{"$f":"'2016 syoa'!AA16-'2011 syoa'!AA16","v":42},{"$f":"'2016 syoa'!AB16-'2011 syoa'!AB16","v":46},{"$f":"'2016 syoa'!AC16-'2011 syoa'!AC16","v":72},{"$f":"'2016 syoa'!AD16-'2011 syoa'!AD16","v":8},{"$f":"'2016 syoa'!AE16-'2011 syoa'!AE16","v":-10},{"$f":"'2016 syoa'!AF16-'2011 syoa'!AF16","v":-37},{"$f":"'2016 syoa'!AG16-'2011 syoa'!AG16","v":5},{"$f":"'2016 syoa'!AH16-'2011 syoa'!AH16","v":59},{"$f":"'2016 syoa'!AI16-'2011 syoa'!AI16","v":-28},{"$f":"'2016 syoa'!AJ16-'2011 syoa'!AJ16","v":13},{"$f":"'2016 syoa'!AK16-'2011 syoa'!AK16","v":-11},{"$f":"'2016 syoa'!AL16-'2011 syoa'!AL16","v":17},{"$f":"'2016 syoa'!AM16-'2011 syoa'!AM16","v":1},{"$f":"'2016 syoa'!AN16-'2011 syoa'!AN16","v":46},{"$f":"'2016 syoa'!AO16-'2011 syoa'!AO16","v":10},{"$f":"'2016 syoa'!AP16-'2011 syoa'!AP16","v":31},{"$f":"'2016 syoa'!AQ16-'2011 syoa'!AQ16","v":32},{"$f":"'2016 syoa'!AR16-'2011 syoa'!AR16","v":-4},{"$f":"'2016 syoa'!AS16-'2011 syoa'!AS16","v":36},{"$f":"'2016 syoa'!AT16-'2011 syoa'!AT16","v":34},{"$f":"'2016 syoa'!AU16-'2011 syoa'!AU16","v":24},{"$f":"'2016 syoa'!AV16-'2011 syoa'!AV16","v":5},{"$f":"'2016 syoa'!AW16-'2011 syoa'!AW16","v":23},{"$f":"'2016 syoa'!AX16-'2011 syoa'!AX16","v":27},{"$f":"'2016 syoa'!AY16-'2011 syoa'!AY16","v":17},{"$f":"'2016 syoa'!AZ16-'2011 syoa'!AZ16","v":21},{"$f":"'2016 syoa'!BA16-'2011 syoa'!BA16","v":-4},{"$f":"'2016 syoa'!BB16-'2011 syoa'!BB16","v":16},{"$f":"'2016 syoa'!BC16-'2011 syoa'!BC16","v":-5},{"$f":"'2016 syoa'!BD16-'2011 syoa'!BD16","v":27},{"$f":"'2016 syoa'!BE16-'2011 syoa'!BE16","v":13},{"$f":"'2016 syoa'!BF16-'2011 syoa'!BF16","v":24},{"$f":"'2016 syoa'!BG16-'2011 syoa'!BG16","v":29},{"$f":"'2016 syoa'!BH16-'2011 syoa'!BH16","v":4},{"$f":"'2016 syoa'!BI16-'2011 syoa'!BI16","v":-10},{"$f":"'2016 syoa'!BJ16-'2011 syoa'!BJ16","v":-4},{"$f":"'2016 syoa'!BK16-'2011 syoa'!BK16","v":-13},{"$f":"'2016 syoa'!BL16-'2011 syoa'!BL16","v":3},{"$f":"'2016 syoa'!BM16-'2011 syoa'!BM16","v":-9},{"$f":"'2016 syoa'!BN16-'2011 syoa'!BN16","v":-12},{"$f":"'2016 syoa'!BO16-'2011 syoa'!BO16","v":8},{"$f":"'2016 syoa'!BP16-'2011 syoa'!BP16","v":3},{"$f":"'2016 syoa'!BQ16-'2011 syoa'!BQ16","v":-1},{"$f":"'2016 syoa'!BR16-'2011 syoa'!BR16","v":42},{"$f":"'2016 syoa'!BS16-'2011 syoa'!BS16","v":4},{"$f":"'2016 syoa'!BT16-'2011 syoa'!BT16","v":8},{"$f":"'2016 syoa'!BU16-'2011 syoa'!BU16","v":33},{"$f":"'2016 syoa'!BV16-'2011 syoa'!BV16","v":26},{"$f":"'2016 syoa'!BW16-'2011 syoa'!BW16","v":8},{"$f":"'2016 syoa'!BX16-'2011 syoa'!BX16","v":21},{"$f":"'2016 syoa'!BY16-'2011 syoa'!BY16","v":20},{"$f":"'2016 syoa'!BZ16-'2011 syoa'!BZ16","v":-8},{"$f":"'2016 syoa'!CA16-'2011 syoa'!CA16","v":-4},{"$f":"'2016 syoa'!CB16-'2011 syoa'!CB16","v":11},{"$f":"'2016 syoa'!CC16-'2011 syoa'!CC16","v":22},{"$f":"'2016 syoa'!CD16-'2011 syoa'!CD16","v":22},{"$f":"'2016 syoa'!CE16-'2011 syoa'!CE16","v":16},{"$f":"'2016 syoa'!CF16-'2011 syoa'!CF16","v":-4},{"$f":"'2016 syoa'!CG16-'2011 syoa'!CG16","v":-3},{"$f":"'2016 syoa'!CH16-'2011 syoa'!CH16","v":-8},{"$f":"'2016 syoa'!CI16-'2011 syoa'!CI16","v":-4},{"$f":"'2016 syoa'!CJ16-'2011 syoa'!CJ16","v":-5},{"$f":"'2016 syoa'!CK16-'2011 syoa'!CK16","v":9},{"$f":"'2016 syoa'!CL16-'2011 syoa'!CL16","v":4},{"$f":"'2016 syoa'!CM16-'2011 syoa'!CM16","v":6},{"$f":"'2016 syoa'!CN16-'2011 syoa'!CN16","v":5},{"$f":"'2016 syoa'!CO16-'2011 syoa'!CO16","v":15},{"$f":"'2016 syoa'!CP16-'2011 syoa'!CP16","v":-5},{"$f":"'2016 syoa'!CQ16-'2011 syoa'!CQ16","v":28},{"$f":"'2016 syoa'!CR16-'2011 syoa'!CR16","v":906},{"$f":"'2016 syoa'!CS16-'2011 syoa'!CS16","v":67},{"$f":"'2016 syoa'!CT16-'2011 syoa'!CT16","v":-19},{"$f":"'2016 syoa'!CU16-'2011 syoa'!CU16","v":40},{"$f":"'2016 syoa'!CV16-'2011 syoa'!CV16","v":29},{"$f":"'2016 syoa'!CW16-'2011 syoa'!CW16","v":28},{"$f":"'2016 syoa'!CX16-'2011 syoa'!CX16","v":20},{"$f":"'2016 syoa'!CY16-'2011 syoa'!CY16","v":24},{"$f":"'2016 syoa'!CZ16-'2011 syoa'!CZ16","v":20},{"$f":"'2016 syoa'!DA16-'2011 syoa'!DA16","v":32},{"$f":"'2016 syoa'!DB16-'2011 syoa'!DB16","v":20},{"$f":"'2016 syoa'!DC16-'2011 syoa'!DC16","v":45},{"$f":"'2016 syoa'!DD16-'2011 syoa'!DD16","v":11},{"$f":"'2016 syoa'!DE16-'2011 syoa'!DE16","v":-2},{"$f":"'2016 syoa'!DF16-'2011 syoa'!DF16","v":-3},{"$f":"'2016 syoa'!DG16-'2011 syoa'!DG16","v":-16},{"$f":"'2016 syoa'!DH16-'2011 syoa'!DH16","v":-8},{"$f":"'2016 syoa'!DI16-'2011 syoa'!DI16","v":-6},{"$f":"'2016 syoa'!DJ16-'2011 syoa'!DJ16","v":11},{"$f":"'2016 syoa'!DK16-'2011 syoa'!DK16","v":1},{"$f":"'2016 syoa'!DL16-'2011 syoa'!DL16","v":8},{"$f":"'2016 syoa'!DM16-'2011 syoa'!DM16","v":-5},{"$f":"'2016 syoa'!DN16-'2011 syoa'!DN16","v":2},{"$f":"'2016 syoa'!DO16-'2011 syoa'!DO16","v":40},{"$f":"'2016 syoa'!DP16-'2011 syoa'!DP16","v":82},{"$f":"'2016 syoa'!DQ16-'2011 syoa'!DQ16","v":51},{"$f":"'2016 syoa'!DR16-'2011 syoa'!DR16","v":8},{"$f":"'2016 syoa'!DS16-'2011 syoa'!DS16","v":38},{"$f":"'2016 syoa'!DT16-'2011 syoa'!DT16","v":13},{"$f":"'2016 syoa'!DU16-'2011 syoa'!DU16","v":-21},{"$f":"'2016 syoa'!DV16-'2011 syoa'!DV16","v":1},{"$f":"'2016 syoa'!DW16-'2011 syoa'!DW16","v":-55},{"$f":"'2016 syoa'!DX16-'2011 syoa'!DX16","v":-11},{"$f":"'2016 syoa'!DY16-'2011 syoa'!DY16","v":-28},{"$f":"'2016 syoa'!DZ16-'2011 syoa'!DZ16","v":14},{"$f":"'2016 syoa'!EA16-'2011 syoa'!EA16","v":-10},{"$f":"'2016 syoa'!EB16-'2011 syoa'!EB16","v":54},{"$f":"'2016 syoa'!EC16-'2011 syoa'!EC16","v":53},{"$f":"'2016 syoa'!ED16-'2011 syoa'!ED16","v":22},{"$f":"'2016 syoa'!EE16-'2011 syoa'!EE16","v":29},{"$f":"'2016 syoa'!EF16-'2011 syoa'!EF16","v":8},{"$f":"'2016 syoa'!EG16-'2011 syoa'!EG16","v":16},{"$f":"'2016 syoa'!EH16-'2011 syoa'!EH16","v":-1},{"$f":"'2016 syoa'!EI16-'2011 syoa'!EI16","v":2},{"$f":"'2016 syoa'!EJ16-'2011 syoa'!EJ16","v":4},{"$f":"'2016 syoa'!EK16-'2011 syoa'!EK16","v":0},{"$f":"'2016 syoa'!EL16-'2011 syoa'!EL16","v":17},{"$f":"'2016 syoa'!EM16-'2011 syoa'!EM16","v":7},{"$f":"'2016 syoa'!EN16-'2011 syoa'!EN16","v":12},{"$f":"'2016 syoa'!EO16-'2011 syoa'!EO16","v":10},{"$f":"'2016 syoa'!EP16-'2011 syoa'!EP16","v":-14},{"$f":"'2016 syoa'!EQ16-'2011 syoa'!EQ16","v":13},{"$f":"'2016 syoa'!ER16-'2011 syoa'!ER16","v":-4},{"$f":"'2016 syoa'!ES16-'2011 syoa'!ES16","v":22},{"$f":"'2016 syoa'!ET16-'2011 syoa'!ET16","v":-22},{"$f":"'2016 syoa'!EU16-'2011 syoa'!EU16","v":18},{"$f":"'2016 syoa'!EV16-'2011 syoa'!EV16","v":8},{"$f":"'2016 syoa'!EW16-'2011 syoa'!EW16","v":20},{"$f":"'2016 syoa'!EX16-'2011 syoa'!EX16","v":33},{"$f":"'2016 syoa'!EY16-'2011 syoa'!EY16","v":2},{"$f":"'2016 syoa'!EZ16-'2011 syoa'!EZ16","v":-19},{"$f":"'2016 syoa'!FA16-'2011 syoa'!FA16","v":1},{"$f":"'2016 syoa'!FB16-'2011 syoa'!FB16","v":23},{"$f":"'2016 syoa'!FC16-'2011 syoa'!FC16","v":-35},{"$f":"'2016 syoa'!FD16-'2011 syoa'!FD16","v":8},{"$f":"'2016 syoa'!FE16-'2011 syoa'!FE16","v":3},{"$f":"'2016 syoa'!FF16-'2011 syoa'!FF16","v":8},{"$f":"'2016 syoa'!FG16-'2011 syoa'!FG16","v":-11},{"$f":"'2016 syoa'!FH16-'2011 syoa'!FH16","v":37},{"$f":"'2016 syoa'!FI16-'2011 syoa'!FI16","v":35},{"$f":"'2016 syoa'!FJ16-'2011 syoa'!FJ16","v":48},{"$f":"'2016 syoa'!FK16-'2011 syoa'!FK16","v":-2},{"$f":"'2016 syoa'!FL16-'2011 syoa'!FL16","v":24},{"$f":"'2016 syoa'!FM16-'2011 syoa'!FM16","v":16},{"$f":"'2016 syoa'!FN16-'2011 syoa'!FN16","v":7},{"$f":"'2016 syoa'!FO16-'2011 syoa'!FO16","v":-5},{"$f":"'2016 syoa'!FP16-'2011 syoa'!FP16","v":9},{"$f":"'2016 syoa'!FQ16-'2011 syoa'!FQ16","v":16},{"$f":"'2016 syoa'!FR16-'2011 syoa'!FR16","v":15},{"$f":"'2016 syoa'!FS16-'2011 syoa'!FS16","v":1},{"$f":"'2016 syoa'!FT16-'2011 syoa'!FT16","v":7},{"$f":"'2016 syoa'!FU16-'2011 syoa'!FU16","v":-9},{"$f":"'2016 syoa'!FV16-'2011 syoa'!FV16","v":3},{"$f":"'2016 syoa'!FW16-'2011 syoa'!FW16","v":-5},{"$f":"'2016 syoa'!FX16-'2011 syoa'!FX16","v":8},{"$f":"'2016 syoa'!FY16-'2011 syoa'!FY16","v":4},{"$f":"'2016 syoa'!FZ16-'2011 syoa'!FZ16","v":3},{"$f":"'2016 syoa'!GA16-'2011 syoa'!GA16","v":1},{"$f":"'2016 syoa'!GB16-'2011 syoa'!GB16","v":-9},{"$f":"'2016 syoa'!GC16-'2011 syoa'!GC16","v":-4},{"$f":"'2016 syoa'!GD16-'2011 syoa'!GD16","v":-8},{"$f":"'2016 syoa'!GE16-'2011 syoa'!GE16","v":6}]
["Hodge Hill","Hodge Hill","E05001190",{"$f":"'2016 syoa'!D17-'2011 syoa'!D17","v":1083},{"$f":"'2016 syoa'!E17-'2011 syoa'!E17","v":21},{"$f":"'2016 syoa'!F17-'2011 syoa'!F17","v":40},{"$f":"'2016 syoa'!G17-'2011 syoa'!G17","v":31},{"$f":"'2016 syoa'!H17-'2011 syoa'!H17","v":-50},{"$f":"'2016 syoa'!I17-'2011 syoa'!I17","v":65},{"$f":"'2016 syoa'!J17-'2011 syoa'!J17","v":28},{"$f":"'2016 syoa'!K17-'2011 syoa'!K17","v":-12},{"$f":"'2016 syoa'!L17-'2011 syoa'!L17","v":41},{"$f":"'2016 syoa'!M17-'2011 syoa'!M17","v":53},{"$f":"'2016 syoa'!N17-'2011 syoa'!N17","v":15},{"$f":"'2016 syoa'!O17-'2011 syoa'!O17","v":5},{"$f":"'2016 syoa'!P17-'2011 syoa'!P17","v":43},{"$f":"'2016 syoa'!Q17-'2011 syoa'!Q17","v":35},{"$f":"'2016 syoa'!R17-'2011 syoa'!R17","v":73},{"$f":"'2016 syoa'!S17-'2011 syoa'!S17","v":23},{"$f":"'2016 syoa'!T17-'2011 syoa'!T17","v":43},{"$f":"'2016 syoa'!U17-'2011 syoa'!U17","v":-1},{"$f":"'2016 syoa'!V17-'2011 syoa'!V17","v":27},{"$f":"'2016 syoa'!W17-'2011 syoa'!W17","v":-13},{"$f":"'2016 syoa'!X17-'2011 syoa'!X17","v":41},{"$f":"'2016 syoa'!Y17-'2011 syoa'!Y17","v":55},{"$f":"'2016 syoa'!Z17-'2011 syoa'!Z17","v":29},{"$f":"'2016 syoa'!AA17-'2011 syoa'!AA17","v":68},{"$f":"'2016 syoa'!AB17-'2011 syoa'!AB17","v":36},{"$f":"'2016 syoa'!AC17-'2011 syoa'!AC17","v":25},{"$f":"'2016 syoa'!AD17-'2011 syoa'!AD17","v":64},{"$f":"'2016 syoa'!AE17-'2011 syoa'!AE17","v":3},{"$f":"'2016 syoa'!AF17-'2011 syoa'!AF17","v":24},{"$f":"'2016 syoa'!AG17-'2011 syoa'!AG17","v":14},{"$f":"'2016 syoa'!AH17-'2011 syoa'!AH17","v":-3},{"$f":"'2016 syoa'!AI17-'2011 syoa'!AI17","v":11},{"$f":"'2016 syoa'!AJ17-'2011 syoa'!AJ17","v":-1},{"$f":"'2016 syoa'!AK17-'2011 syoa'!AK17","v":-3},{"$f":"'2016 syoa'!AL17-'2011 syoa'!AL17","v":-12},{"$f":"'2016 syoa'!AM17-'2011 syoa'!AM17","v":50},{"$f":"'2016 syoa'!AN17-'2011 syoa'!AN17","v":41},{"$f":"'2016 syoa'!AO17-'2011 syoa'!AO17","v":95},{"$f":"'2016 syoa'!AP17-'2011 syoa'!AP17","v":28},{"$f":"'2016 syoa'!AQ17-'2011 syoa'!AQ17","v":25},{"$f":"'2016 syoa'!AR17-'2011 syoa'!AR17","v":-22},{"$f":"'2016 syoa'!AS17-'2011 syoa'!AS17","v":-17},{"$f":"'2016 syoa'!AT17-'2011 syoa'!AT17","v":-20},{"$f":"'2016 syoa'!AU17-'2011 syoa'!AU17","v":-18},{"$f":"'2016 syoa'!AV17-'2011 syoa'!AV17","v":-47},{"$f":"'2016 syoa'!AW17-'2011 syoa'!AW17","v":-3},{"$f":"'2016 syoa'!AX17-'2011 syoa'!AX17","v":2},{"$f":"'2016 syoa'!AY17-'2011 syoa'!AY17","v":13},{"$f":"'2016 syoa'!AZ17-'2011 syoa'!AZ17","v":35},{"$f":"'2016 syoa'!BA17-'2011 syoa'!BA17","v":37},{"$f":"'2016 syoa'!BB17-'2011 syoa'!BB17","v":-6},{"$f":"'2016 syoa'!BC17-'2011 syoa'!BC17","v":4},{"$f":"'2016 syoa'!BD17-'2011 syoa'!BD17","v":11},{"$f":"'2016 syoa'!BE17-'2011 syoa'!BE17","v":21},{"$f":"'2016 syoa'!BF17-'2011 syoa'!BF17","v":15},{"$f":"'2016 syoa'!BG17-'2011 syoa'!BG17","v":4},{"$f":"'2016 syoa'!BH17-'2011 syoa'!BH17","v":18},{"$f":"'2016 syoa'!BI17-'2011 syoa'!BI17","v":-1},{"$f":"'2016 syoa'!BJ17-'2011 syoa'!BJ17","v":-19},{"$f":"'2016 syoa'!BK17-'2011 syoa'!BK17","v":17},{"$f":"'2016 syoa'!BL17-'2011 syoa'!BL17","v":11},{"$f":"'2016 syoa'!BM17-'2011 syoa'!BM17","v":-8},{"$f":"'2016 syoa'!BN17-'2011 syoa'!BN17","v":-12},{"$f":"'2016 syoa'!BO17-'2011 syoa'!BO17","v":4},{"$f":"'2016 syoa'!BP17-'2011 syoa'!BP17","v":-30},{"$f":"'2016 syoa'!BQ17-'2011 syoa'!BQ17","v":-34},{"$f":"'2016 syoa'!BR17-'2011 syoa'!BR17","v":14},{"$f":"'2016 syoa'!BS17-'2011 syoa'!BS17","v":6},{"$f":"'2016 syoa'!BT17-'2011 syoa'!BT17","v":5},{"$f":"'2016 syoa'!BU17-'2011 syoa'!BU17","v":4},{"$f":"'2016 syoa'!BV17-'2011 syoa'!BV17","v":20},{"$f":"'2016 syoa'!BW17-'2011 syoa'!BW17","v":3},{"$f":"'2016 syoa'!BX17-'2011 syoa'!BX17","v":-7},{"$f":"'2016 syoa'!BY17-'2011 syoa'!BY17","v":-19},{"$f":"'2016 syoa'!BZ17-'2011 syoa'!BZ17","v":-2},{"$f":"'2016 syoa'!CA17-'2011 syoa'!CA17","v":0},{"$f":"'2016 syoa'!CB17-'2011 syoa'!CB17","v":14},{"$f":"'2016 syoa'!CC17-'2011 syoa'!CC17","v":23},{"$f":"'2016 syoa'!CD17-'2011 syoa'!CD17","v":17},{"$f":"'2016 syoa'!CE17-'2011 syoa'!CE17","v":11},{"$f":"'2016 syoa'!CF17-'2011 syoa'!CF17","v":6},{"$f":"'2016 syoa'!CG17-'2011 syoa'!CG17","v":-23},{"$f":"'2016 syoa'!CH17-'2011 syoa'!CH17","v":0},{"$f":"'2016 syoa'!CI17-'2011 syoa'!CI17","v":1},{"$f":"'2016 syoa'!CJ17-'2011 syoa'!CJ17","v":-9},{"$f":"'2016 syoa'!CK17-'2011 syoa'!CK17","v":-7},{"$f":"'2016 syoa'!CL17-'2011 syoa'!CL17","v":13},{"$f":"'2016 syoa'!CM17-'2011 syoa'!CM17","v":6},{"$f":"'2016 syoa'!CN17-'2011 syoa'!CN17","v":2},{"$f":"'2016 syoa'!CO17-'2011 syoa'!CO17","v":-17},{"$f":"'2016 syoa'!CP17-'2011 syoa'!CP17","v":5},{"$f":"'2016 syoa'!CQ17-'2011 syoa'!CQ17","v":5},{"$f":"'2016 syoa'!CR17-'2011 syoa'!CR17","v":614},{"$f":"'2016 syoa'!CS17-'2011 syoa'!CS17","v":-20},{"$f":"'2016 syoa'!CT17-'2011 syoa'!CT17","v":4},{"$f":"'2016 syoa'!CU17-'2011 syoa'!CU17","v":-48},{"$f":"'2016 syoa'!CV17-'2011 syoa'!CV17","v":34},{"$f":"'2016 syoa'!CW17-'2011 syoa'!CW17","v":-9},{"$f":"'2016 syoa'!CX17-'2011 syoa'!CX17","v":5},{"$f":"'2016 syoa'!CY17-'2011 syoa'!CY17","v":12},{"$f":"'2016 syoa'!CZ17-'2011 syoa'!CZ17","v":42},{"$f":"'2016 syoa'!DA17-'2011 syoa'!DA17","v":-4},{"$f":"'2016 syoa'!DB17-'2011 syoa'!DB17","v":15},{"$f":"'2016 syoa'!DC17-'2011 syoa'!DC17","v":37},{"$f":"'2016 syoa'!DD17-'2011 syoa'!DD17","v":26},{"$f":"'2016 syoa'!DE17-'2011 syoa'!DE17","v":-8},{"$f":"'2016 syoa'!DF17-'2011 syoa'!DF17","v":-6},{"$f":"'2016 syoa'!DG17-'2011 syoa'!DG17","v":24},{"$f":"'2016 syoa'!DH17-'2011 syoa'!DH17","v":30},{"$f":"'2016 syoa'!DI17-'2011 syoa'!DI17","v":34},{"$f":"'2016 syoa'!DJ17-'2011 syoa'!DJ17","v":53},{"$f":"'2016 syoa'!DK17-'2011 syoa'!DK17","v":52},{"$f":"'2016 syoa'!DL17-'2011 syoa'!DL17","v":63},{"$f":"'2016 syoa'!DM17-'2011 syoa'!DM17","v":24},{"$f":"'2016 syoa'!DN17-'2011 syoa'!DN17","v":1},{"$f":"'2016 syoa'!DO17-'2011 syoa'!DO17","v":31},{"$f":"'2016 syoa'!DP17-'2011 syoa'!DP17","v":13},{"$f":"'2016 syoa'!DQ17-'2011 syoa'!DQ17","v":-14},{"$f":"'2016 syoa'!DR17-'2011 syoa'!DR17","v":20},{"$f":"'2016 syoa'!DS17-'2011 syoa'!DS17","v":60},{"$f":"'2016 syoa'!DT17-'2011 syoa'!DT17","v":17},{"$f":"'2016 syoa'!DU17-'2011 syoa'!DU17","v":-65},{"$f":"'2016 syoa'!DV17-'2011 syoa'!DV17","v":24},{"$f":"'2016 syoa'!DW17-'2011 syoa'!DW17","v":-7},{"$f":"'2016 syoa'!DX17-'2011 syoa'!DX17","v":-19},{"$f":"'2016 syoa'!DY17-'2011 syoa'!DY17","v":11},{"$f":"'2016 syoa'!DZ17-'2011 syoa'!DZ17","v":20},{"$f":"'2016 syoa'!EA17-'2011 syoa'!EA17","v":43},{"$f":"'2016 syoa'!EB17-'2011 syoa'!EB17","v":53},{"$f":"'2016 syoa'!EC17-'2011 syoa'!EC17","v":17},{"$f":"'2016 syoa'!ED17-'2011 syoa'!ED17","v":51},{"$f":"'2016 syoa'!EE17-'2011 syoa'!EE17","v":12},{"$f":"'2016 syoa'!EF17-'2011 syoa'!EF17","v":-10},{"$f":"'2016 syoa'!EG17-'2011 syoa'!EG17","v":-33},{"$f":"'2016 syoa'!EH17-'2011 syoa'!EH17","v":0},{"$f":"'2016 syoa'!EI17-'2011 syoa'!EI17","v":-36},{"$f":"'2016 syoa'!EJ17-'2011 syoa'!EJ17","v":23},{"$f":"'2016 syoa'!EK17-'2011 syoa'!EK17","v":-4},{"$f":"'2016 syoa'!EL17-'2011 syoa'!EL17","v":-4},{"$f":"'2016 syoa'!EM17-'2011 syoa'!EM17","v":28},{"$f":"'2016 syoa'!EN17-'2011 syoa'!EN17","v":44},{"$f":"'2016 syoa'!EO17-'2011 syoa'!EO17","v":25},{"$f":"'2016 syoa'!EP17-'2011 syoa'!EP17","v":30},{"$f":"'2016 syoa'!EQ17-'2011 syoa'!EQ17","v":27},{"$f":"'2016 syoa'!ER17-'2011 syoa'!ER17","v":20},{"$f":"'2016 syoa'!ES17-'2011 syoa'!ES17","v":6},{"$f":"'2016 syoa'!ET17-'2011 syoa'!ET17","v":8},{"$f":"'2016 syoa'!EU17-'2011 syoa'!EU17","v":-1},{"$f":"'2016 syoa'!EV17-'2011 syoa'!EV17","v":-13},{"$f":"'2016 syoa'!EW17-'2011 syoa'!EW17","v":23},{"$f":"'2016 syoa'!EX17-'2011 syoa'!EX17","v":32},{"$f":"'2016 syoa'!EY17-'2011 syoa'!EY17","v":-9},{"$f":"'2016 syoa'!EZ17-'2011 syoa'!EZ17","v":7},{"$f":"'2016 syoa'!FA17-'2011 syoa'!FA17","v":-9},{"$f":"'2016 syoa'!FB17-'2011 syoa'!FB17","v":-12},{"$f":"'2016 syoa'!FC17-'2011 syoa'!FC17","v":-7},{"$f":"'2016 syoa'!FD17-'2011 syoa'!FD17","v":-3},{"$f":"'2016 syoa'!FE17-'2011 syoa'!FE17","v":2},{"$f":"'2016 syoa'!FF17-'2011 syoa'!FF17","v":13},{"$f":"'2016 syoa'!FG17-'2011 syoa'!FG17","v":5},{"$f":"'2016 syoa'!FH17-'2011 syoa'!FH17","v":-5},{"$f":"'2016 syoa'!FI17-'2011 syoa'!FI17","v":-5},{"$f":"'2016 syoa'!FJ17-'2011 syoa'!FJ17","v":-14},{"$f":"'2016 syoa'!FK17-'2011 syoa'!FK17","v":-32},{"$f":"'2016 syoa'!FL17-'2011 syoa'!FL17","v":-20},{"$f":"'2016 syoa'!FM17-'2011 syoa'!FM17","v":-5},{"$f":"'2016 syoa'!FN17-'2011 syoa'!FN17","v":-12},{"$f":"'2016 syoa'!FO17-'2011 syoa'!FO17","v":-18},{"$f":"'2016 syoa'!FP17-'2011 syoa'!FP17","v":-4},{"$f":"'2016 syoa'!FQ17-'2011 syoa'!FQ17","v":-9},{"$f":"'2016 syoa'!FR17-'2011 syoa'!FR17","v":-4},{"$f":"'2016 syoa'!FS17-'2011 syoa'!FS17","v":-16},{"$f":"'2016 syoa'!FT17-'2011 syoa'!FT17","v":9},{"$f":"'2016 syoa'!FU17-'2011 syoa'!FU17","v":-10},{"$f":"'2016 syoa'!FV17-'2011 syoa'!FV17","v":5},{"$f":"'2016 syoa'!FW17-'2011 syoa'!FW17","v":-3},{"$f":"'2016 syoa'!FX17-'2011 syoa'!FX17","v":-2},{"$f":"'2016 syoa'!FY17-'2011 syoa'!FY17","v":-2},{"$f":"'2016 syoa'!FZ17-'2011 syoa'!FZ17","v":-3},{"$f":"'2016 syoa'!GA17-'2011 syoa'!GA17","v":11},{"$f":"'2016 syoa'!GB17-'2011 syoa'!GB17","v":1},{"$f":"'2016 syoa'!GC17-'2011 syoa'!GC17","v":-12},{"$f":"'2016 syoa'!GD17-'2011 syoa'!GD17","v":-10},{"$f":"'2016 syoa'!GE17-'2011 syoa'!GE17","v":-6}]
["Kings Norton","Northfield","E05001191",{"$f":"'2016 syoa'!D18-'2011 syoa'!D18","v":1},{"$f":"'2016 syoa'!E18-'2011 syoa'!E18","v":-22},{"$f":"'2016 syoa'!F18-'2011 syoa'!F18","v":10},{"$f":"'2016 syoa'!G18-'2011 syoa'!G18","v":10},{"$f":"'2016 syoa'!H18-'2011 syoa'!H18","v":-24},{"$f":"'2016 syoa'!I18-'2011 syoa'!I18","v":-41},{"$f":"'2016 syoa'!J18-'2011 syoa'!J18","v":49},{"$f":"'2016 syoa'!K18-'2011 syoa'!K18","v":6},{"$f":"'2016 syoa'!L18-'2011 syoa'!L18","v":18},{"$f":"'2016 syoa'!M18-'2011 syoa'!M18","v":13},{"$f":"'2016 syoa'!N18-'2011 syoa'!N18","v":63},{"$f":"'2016 syoa'!O18-'2011 syoa'!O18","v":10},{"$f":"'2016 syoa'!P18-'2011 syoa'!P18","v":-13},{"$f":"'2016 syoa'!Q18-'2011 syoa'!Q18","v":-2},{"$f":"'2016 syoa'!R18-'2011 syoa'!R18","v":15},{"$f":"'2016 syoa'!S18-'2011 syoa'!S18","v":-46},{"$f":"'2016 syoa'!T18-'2011 syoa'!T18","v":-29},{"$f":"'2016 syoa'!U18-'2011 syoa'!U18","v":11},{"$f":"'2016 syoa'!V18-'2011 syoa'!V18","v":-36},{"$f":"'2016 syoa'!W18-'2011 syoa'!W18","v":-1},{"$f":"'2016 syoa'!X18-'2011 syoa'!X18","v":23},{"$f":"'2016 syoa'!Y18-'2011 syoa'!Y18","v":-15},{"$f":"'2016 syoa'!Z18-'2011 syoa'!Z18","v":3},{"$f":"'2016 syoa'!AA18-'2011 syoa'!AA18","v":25},{"$f":"'2016 syoa'!AB18-'2011 syoa'!AB18","v":19},{"$f":"'2016 syoa'!AC18-'2011 syoa'!AC18","v":5},{"$f":"'2016 syoa'!AD18-'2011 syoa'!AD18","v":72},{"$f":"'2016 syoa'!AE18-'2011 syoa'!AE18","v":13},{"$f":"'2016 syoa'!AF18-'2011 syoa'!AF18","v":11},{"$f":"'2016 syoa'!AG18-'2011 syoa'!AG18","v":14},{"$f":"'2016 syoa'!AH18-'2011 syoa'!AH18","v":-3},{"$f":"'2016 syoa'!AI18-'2011 syoa'!AI18","v":-12},{"$f":"'2016 syoa'!AJ18-'2011 syoa'!AJ18","v":-23},{"$f":"'2016 syoa'!AK18-'2011 syoa'!AK18","v":-3},{"$f":"'2016 syoa'!AL18-'2011 syoa'!AL18","v":-20},{"$f":"'2016 syoa'!AM18-'2011 syoa'!AM18","v":-26},{"$f":"'2016 syoa'!AN18-'2011 syoa'!AN18","v":-6},{"$f":"'2016 syoa'!AO18-'2011 syoa'!AO18","v":6},{"$f":"'2016 syoa'!AP18-'2011 syoa'!AP18","v":-9},{"$f":"'2016 syoa'!AQ18-'2011 syoa'!AQ18","v":-32},{"$f":"'2016 syoa'!AR18-'2011 syoa'!AR18","v":10},{"$f":"'2016 syoa'!AS18-'2011 syoa'!AS18","v":-43},{"$f":"'2016 syoa'!AT18-'2011 syoa'!AT18","v":-28},{"$f":"'2016 syoa'!AU18-'2011 syoa'!AU18","v":-18},{"$f":"'2016 syoa'!AV18-'2011 syoa'!AV18","v":-25},{"$f":"'2016 syoa'!AW18-'2011 syoa'!AW18","v":-44},{"$f":"'2016 syoa'!AX18-'2011 syoa'!AX18","v":-17},{"$f":"'2016 syoa'!AY18-'2011 syoa'!AY18","v":-10},{"$f":"'2016 syoa'!AZ18-'2011 syoa'!AZ18","v":-28},{"$f":"'2016 syoa'!BA18-'2011 syoa'!BA18","v":-2},{"$f":"'2016 syoa'!BB18-'2011 syoa'!BB18","v":27},{"$f":"'2016 syoa'!BC18-'2011 syoa'!BC18","v":8},{"$f":"'2016 syoa'!BD18-'2011 syoa'!BD18","v":6},{"$f":"'2016 syoa'!BE18-'2011 syoa'!BE18","v":16},{"$f":"'2016 syoa'!BF18-'2011 syoa'!BF18","v":16},{"$f":"'2016 syoa'!BG18-'2011 syoa'!BG18","v":5},{"$f":"'2016 syoa'!BH18-'2011 syoa'!BH18","v":46},{"$f":"'2016 syoa'!BI18-'2011 syoa'!BI18","v":41},{"$f":"'2016 syoa'!BJ18-'2011 syoa'!BJ18","v":-22},{"$f":"'2016 syoa'!BK18-'2011 syoa'!BK18","v":-13},{"$f":"'2016 syoa'!BL18-'2011 syoa'!BL18","v":-13},{"$f":"'2016 syoa'!BM18-'2011 syoa'!BM18","v":-37},{"$f":"'2016 syoa'!BN18-'2011 syoa'!BN18","v":-28},{"$f":"'2016 syoa'!BO18-'2011 syoa'!BO18","v":-13},{"$f":"'2016 syoa'!BP18-'2011 syoa'!BP18","v":-31},{"$f":"'2016 syoa'!BQ18-'2011 syoa'!BQ18","v":-34},{"$f":"'2016 syoa'!BR18-'2011 syoa'!BR18","v":-22},{"$f":"'2016 syoa'!BS18-'2011 syoa'!BS18","v":2},{"$f":"'2016 syoa'!BT18-'2011 syoa'!BT18","v":14},{"$f":"'2016 syoa'!BU18-'2011 syoa'!BU18","v":22},{"$f":"'2016 syoa'!BV18-'2011 syoa'!BV18","v":54},{"$f":"'2016 syoa'!BW18-'2011 syoa'!BW18","v":40},{"$f":"'2016 syoa'!BX18-'2011 syoa'!BX18","v":11},{"$f":"'2016 syoa'!BY18-'2011 syoa'!BY18","v":11},{"$f":"'2016 syoa'!BZ18-'2011 syoa'!BZ18","v":5},{"$f":"'2016 syoa'!CA18-'2011 syoa'!CA18","v":-8},{"$f":"'2016 syoa'!CB18-'2011 syoa'!CB18","v":-26},{"$f":"'2016 syoa'!CC18-'2011 syoa'!CC18","v":10},{"$f":"'2016 syoa'!CD18-'2011 syoa'!CD18","v":7},{"$f":"'2016 syoa'!CE18-'2011 syoa'!CE18","v":17},{"$f":"'2016 syoa'!CF18-'2011 syoa'!CF18","v":7},{"$f":"'2016 syoa'!CG18-'2011 syoa'!CG18","v":31},{"$f":"'2016 syoa'!CH18-'2011 syoa'!CH18","v":-5},{"$f":"'2016 syoa'!CI18-'2011 syoa'!CI18","v":11},{"$f":"'2016 syoa'!CJ18-'2011 syoa'!CJ18","v":16},{"$f":"'2016 syoa'!CK18-'2011 syoa'!CK18","v":-4},{"$f":"'2016 syoa'!CL18-'2011 syoa'!CL18","v":-11},{"$f":"'2016 syoa'!CM18-'2011 syoa'!CM18","v":-6},{"$f":"'2016 syoa'!CN18-'2011 syoa'!CN18","v":3},{"$f":"'2016 syoa'!CO18-'2011 syoa'!CO18","v":-5},{"$f":"'2016 syoa'!CP18-'2011 syoa'!CP18","v":-1},{"$f":"'2016 syoa'!CQ18-'2011 syoa'!CQ18","v":26},{"$f":"'2016 syoa'!CR18-'2011 syoa'!CR18","v":130},{"$f":"'2016 syoa'!CS18-'2011 syoa'!CS18","v":-12},{"$f":"'2016 syoa'!CT18-'2011 syoa'!CT18","v":-8},{"$f":"'2016 syoa'!CU18-'2011 syoa'!CU18","v":9},{"$f":"'2016 syoa'!CV18-'2011 syoa'!CV18","v":2},{"$f":"'2016 syoa'!CW18-'2011 syoa'!CW18","v":42},{"$f":"'2016 syoa'!CX18-'2011 syoa'!CX18","v":11},{"$f":"'2016 syoa'!CY18-'2011 syoa'!CY18","v":-14},{"$f":"'2016 syoa'!CZ18-'2011 syoa'!CZ18","v":44},{"$f":"'2016 syoa'!DA18-'2011 syoa'!DA18","v":81},{"$f":"'2016 syoa'!DB18-'2011 syoa'!DB18","v":5},{"$f":"'2016 syoa'!DC18-'2011 syoa'!DC18","v":47},{"$f":"'2016 syoa'!DD18-'2011 syoa'!DD18","v":18},{"$f":"'2016 syoa'!DE18-'2011 syoa'!DE18","v":-31},{"$f":"'2016 syoa'!DF18-'2011 syoa'!DF18","v":-52},{"$f":"'2016 syoa'!DG18-'2011 syoa'!DG18","v":-26},{"$f":"'2016 syoa'!DH18-'2011 syoa'!DH18","v":-25},{"$f":"'2016 syoa'!DI18-'2011 syoa'!DI18","v":-44},{"$f":"'2016 syoa'!DJ18-'2011 syoa'!DJ18","v":-29},{"$f":"'2016 syoa'!DK18-'2011 syoa'!DK18","v":2},{"$f":"'2016 syoa'!DL18-'2011 syoa'!DL18","v":-19},{"$f":"'2016 syoa'!DM18-'2011 syoa'!DM18","v":8},{"$f":"'2016 syoa'!DN18-'2011 syoa'!DN18","v":19},{"$f":"'2016 syoa'!DO18-'2011 syoa'!DO18","v":0},{"$f":"'2016 syoa'!DP18-'2011 syoa'!DP18","v":-60},{"$f":"'2016 syoa'!DQ18-'2011 syoa'!DQ18","v":7},{"$f":"'2016 syoa'!DR18-'2011 syoa'!DR18","v":42},{"$f":"'2016 syoa'!DS18-'2011 syoa'!DS18","v":10},{"$f":"'2016 syoa'!DT18-'2011 syoa'!DT18","v":20},{"$f":"'2016 syoa'!DU18-'2011 syoa'!DU18","v":-25},{"$f":"'2016 syoa'!DV18-'2011 syoa'!DV18","v":12},{"$f":"'2016 syoa'!DW18-'2011 syoa'!DW18","v":9},{"$f":"'2016 syoa'!DX18-'2011 syoa'!DX18","v":-34},{"$f":"'2016 syoa'!DY18-'2011 syoa'!DY18","v":1},{"$f":"'2016 syoa'!DZ18-'2011 syoa'!DZ18","v":17},{"$f":"'2016 syoa'!EA18-'2011 syoa'!EA18","v":6},{"$f":"'2016 syoa'!EB18-'2011 syoa'!EB18","v":-29},{"$f":"'2016 syoa'!EC18-'2011 syoa'!EC18","v":15},{"$f":"'2016 syoa'!ED18-'2011 syoa'!ED18","v":6},{"$f":"'2016 syoa'!EE18-'2011 syoa'!EE18","v":-17},{"$f":"'2016 syoa'!EF18-'2011 syoa'!EF18","v":-19},{"$f":"'2016 syoa'!EG18-'2011 syoa'!EG18","v":-26},{"$f":"'2016 syoa'!EH18-'2011 syoa'!EH18","v":-20},{"$f":"'2016 syoa'!EI18-'2011 syoa'!EI18","v":-18},{"$f":"'2016 syoa'!EJ18-'2011 syoa'!EJ18","v":-42},{"$f":"'2016 syoa'!EK18-'2011 syoa'!EK18","v":12},{"$f":"'2016 syoa'!EL18-'2011 syoa'!EL18","v":-15},{"$f":"'2016 syoa'!EM18-'2011 syoa'!EM18","v":-30},{"$f":"'2016 syoa'!EN18-'2011 syoa'!EN18","v":17},{"$f":"'2016 syoa'!EO18-'2011 syoa'!EO18","v":37},{"$f":"'2016 syoa'!EP18-'2011 syoa'!EP18","v":13},{"$f":"'2016 syoa'!EQ18-'2011 syoa'!EQ18","v":1},{"$f":"'2016 syoa'!ER18-'2011 syoa'!ER18","v":47},{"$f":"'2016 syoa'!ES18-'2011 syoa'!ES18","v":25},{"$f":"'2016 syoa'!ET18-'2011 syoa'!ET18","v":16},{"$f":"'2016 syoa'!EU18-'2011 syoa'!EU18","v":-5},{"$f":"'2016 syoa'!EV18-'2011 syoa'!EV18","v":38},{"$f":"'2016 syoa'!EW18-'2011 syoa'!EW18","v":10},{"$f":"'2016 syoa'!EX18-'2011 syoa'!EX18","v":5},{"$f":"'2016 syoa'!EY18-'2011 syoa'!EY18","v":-2},{"$f":"'2016 syoa'!EZ18-'2011 syoa'!EZ18","v":-6},{"$f":"'2016 syoa'!FA18-'2011 syoa'!FA18","v":-37},{"$f":"'2016 syoa'!FB18-'2011 syoa'!FB18","v":-40},{"$f":"'2016 syoa'!FC18-'2011 syoa'!FC18","v":-26},{"$f":"'2016 syoa'!FD18-'2011 syoa'!FD18","v":-62},{"$f":"'2016 syoa'!FE18-'2011 syoa'!FE18","v":-37},{"$f":"'2016 syoa'!FF18-'2011 syoa'!FF18","v":17},{"$f":"'2016 syoa'!FG18-'2011 syoa'!FG18","v":27},{"$f":"'2016 syoa'!FH18-'2011 syoa'!FH18","v":10},{"$f":"'2016 syoa'!FI18-'2011 syoa'!FI18","v":22},{"$f":"'2016 syoa'!FJ18-'2011 syoa'!FJ18","v":45},{"$f":"'2016 syoa'!FK18-'2011 syoa'!FK18","v":26},{"$f":"'2016 syoa'!FL18-'2011 syoa'!FL18","v":11},{"$f":"'2016 syoa'!FM18-'2011 syoa'!FM18","v":22},{"$f":"'2016 syoa'!FN18-'2011 syoa'!FN18","v":29},{"$f":"'2016 syoa'!FO18-'2011 syoa'!FO18","v":22},{"$f":"'2016 syoa'!FP18-'2011 syoa'!FP18","v":-3},{"$f":"'2016 syoa'!FQ18-'2011 syoa'!FQ18","v":0},{"$f":"'2016 syoa'!FR18-'2011 syoa'!FR18","v":10},{"$f":"'2016 syoa'!FS18-'2011 syoa'!FS18","v":17},{"$f":"'2016 syoa'!FT18-'2011 syoa'!FT18","v":-12},{"$f":"'2016 syoa'!FU18-'2011 syoa'!FU18","v":15},{"$f":"'2016 syoa'!FV18-'2011 syoa'!FV18","v":0},{"$f":"'2016 syoa'!FW18-'2011 syoa'!FW18","v":-13},{"$f":"'2016 syoa'!FX18-'2011 syoa'!FX18","v":-6},{"$f":"'2016 syoa'!FY18-'2011 syoa'!FY18","v":-3},{"$f":"'2016 syoa'!FZ18-'2011 syoa'!FZ18","v":13},{"$f":"'2016 syoa'!GA18-'2011 syoa'!GA18","v":-13},{"$f":"'2016 syoa'!GB18-'2011 syoa'!GB18","v":16},{"$f":"'2016 syoa'!GC18-'2011 syoa'!GC18","v":-10},{"$f":"'2016 syoa'!GD18-'2011 syoa'!GD18","v":-2},{"$f":"'2016 syoa'!GE18-'2011 syoa'!GE18","v":46}]
["Kingstanding","Erdington","E05001192",{"$f":"'2016 syoa'!D19-'2011 syoa'!D19","v":232},{"$f":"'2016 syoa'!E19-'2011 syoa'!E19","v":4},{"$f":"'2016 syoa'!F19-'2011 syoa'!F19","v":20},{"$f":"'2016 syoa'!G19-'2011 syoa'!G19","v":38},{"$f":"'2016 syoa'!H19-'2011 syoa'!H19","v":28},{"$f":"'2016 syoa'!I19-'2011 syoa'!I19","v":24},{"$f":"'2016 syoa'!J19-'2011 syoa'!J19","v":2},{"$f":"'2016 syoa'!K19-'2011 syoa'!K19","v":-1},{"$f":"'2016 syoa'!L19-'2011 syoa'!L19","v":8},{"$f":"'2016 syoa'!M19-'2011 syoa'!M19","v":36},{"$f":"'2016 syoa'!N19-'2011 syoa'!N19","v":33},{"$f":"'2016 syoa'!O19-'2011 syoa'!O19","v":32},{"$f":"'2016 syoa'!P19-'2011 syoa'!P19","v":-7},{"$f":"'2016 syoa'!Q19-'2011 syoa'!Q19","v":-18},{"$f":"'2016 syoa'!R19-'2011 syoa'!R19","v":-31},{"$f":"'2016 syoa'!S19-'2011 syoa'!S19","v":-46},{"$f":"'2016 syoa'!T19-'2011 syoa'!T19","v":6},{"$f":"'2016 syoa'!U19-'2011 syoa'!U19","v":-21},{"$f":"'2016 syoa'!V19-'2011 syoa'!V19","v":0},{"$f":"'2016 syoa'!W19-'2011 syoa'!W19","v":12},{"$f":"'2016 syoa'!X19-'2011 syoa'!X19","v":9},{"$f":"'2016 syoa'!Y19-'2011 syoa'!Y19","v":-27},{"$f":"'2016 syoa'!Z19-'2011 syoa'!Z19","v":-11},{"$f":"'2016 syoa'!AA19-'2011 syoa'!AA19","v":13},{"$f":"'2016 syoa'!AB19-'2011 syoa'!AB19","v":27},{"$f":"'2016 syoa'!AC19-'2011 syoa'!AC19","v":3},{"$f":"'2016 syoa'!AD19-'2011 syoa'!AD19","v":61},{"$f":"'2016 syoa'!AE19-'2011 syoa'!AE19","v":21},{"$f":"'2016 syoa'!AF19-'2011 syoa'!AF19","v":37},{"$f":"'2016 syoa'!AG19-'2011 syoa'!AG19","v":9},{"$f":"'2016 syoa'!AH19-'2011 syoa'!AH19","v":-12},{"$f":"'2016 syoa'!AI19-'2011 syoa'!AI19","v":-17},{"$f":"'2016 syoa'!AJ19-'2011 syoa'!AJ19","v":6},{"$f":"'2016 syoa'!AK19-'2011 syoa'!AK19","v":-10},{"$f":"'2016 syoa'!AL19-'2011 syoa'!AL19","v":40},{"$f":"'2016 syoa'!AM19-'2011 syoa'!AM19","v":13},{"$f":"'2016 syoa'!AN19-'2011 syoa'!AN19","v":14},{"$f":"'2016 syoa'!AO19-'2011 syoa'!AO19","v":-5},{"$f":"'2016 syoa'!AP19-'2011 syoa'!AP19","v":-22},{"$f":"'2016 syoa'!AQ19-'2011 syoa'!AQ19","v":-15},{"$f":"'2016 syoa'!AR19-'2011 syoa'!AR19","v":-7},{"$f":"'2016 syoa'!AS19-'2011 syoa'!AS19","v":-12},{"$f":"'2016 syoa'!AT19-'2011 syoa'!AT19","v":-5},{"$f":"'2016 syoa'!AU19-'2011 syoa'!AU19","v":-43},{"$f":"'2016 syoa'!AV19-'2011 syoa'!AV19","v":-22},{"$f":"'2016 syoa'!AW19-'2011 syoa'!AW19","v":9},{"$f":"'2016 syoa'!AX19-'2011 syoa'!AX19","v":-19},{"$f":"'2016 syoa'!AY19-'2011 syoa'!AY19","v":-43},{"$f":"'2016 syoa'!AZ19-'2011 syoa'!AZ19","v":-35},{"$f":"'2016 syoa'!BA19-'2011 syoa'!BA19","v":-27},{"$f":"'2016 syoa'!BB19-'2011 syoa'!BB19","v":12},{"$f":"'2016 syoa'!BC19-'2011 syoa'!BC19","v":-30},{"$f":"'2016 syoa'!BD19-'2011 syoa'!BD19","v":29},{"$f":"'2016 syoa'!BE19-'2011 syoa'!BE19","v":-6},{"$f":"'2016 syoa'!BF19-'2011 syoa'!BF19","v":11},{"$f":"'2016 syoa'!BG19-'2011 syoa'!BG19","v":29},{"$f":"'2016 syoa'!BH19-'2011 syoa'!BH19","v":40},{"$f":"'2016 syoa'!BI19-'2011 syoa'!BI19","v":2},{"$f":"'2016 syoa'!BJ19-'2011 syoa'!BJ19","v":17},{"$f":"'2016 syoa'!BK19-'2011 syoa'!BK19","v":43},{"$f":"'2016 syoa'!BL19-'2011 syoa'!BL19","v":20},{"$f":"'2016 syoa'!BM19-'2011 syoa'!BM19","v":-10},{"$f":"'2016 syoa'!BN19-'2011 syoa'!BN19","v":14},{"$f":"'2016 syoa'!BO19-'2011 syoa'!BO19","v":3},{"$f":"'2016 syoa'!BP19-'2011 syoa'!BP19","v":-21},{"$f":"'2016 syoa'!BQ19-'2011 syoa'!BQ19","v":-15},{"$f":"'2016 syoa'!BR19-'2011 syoa'!BR19","v":13},{"$f":"'2016 syoa'!BS19-'2011 syoa'!BS19","v":9},{"$f":"'2016 syoa'!BT19-'2011 syoa'!BT19","v":-18},{"$f":"'2016 syoa'!BU19-'2011 syoa'!BU19","v":17},{"$f":"'2016 syoa'!BV19-'2011 syoa'!BV19","v":5},{"$f":"'2016 syoa'!BW19-'2011 syoa'!BW19","v":-1},{"$f":"'2016 syoa'!BX19-'2011 syoa'!BX19","v":0},{"$f":"'2016 syoa'!BY19-'2011 syoa'!BY19","v":17},{"$f":"'2016 syoa'!BZ19-'2011 syoa'!BZ19","v":-4},{"$f":"'2016 syoa'!CA19-'2011 syoa'!CA19","v":14},{"$f":"'2016 syoa'!CB19-'2011 syoa'!CB19","v":-9},{"$f":"'2016 syoa'!CC19-'2011 syoa'!CC19","v":16},{"$f":"'2016 syoa'!CD19-'2011 syoa'!CD19","v":0},{"$f":"'2016 syoa'!CE19-'2011 syoa'!CE19","v":-8},{"$f":"'2016 syoa'!CF19-'2011 syoa'!CF19","v":-10},{"$f":"'2016 syoa'!CG19-'2011 syoa'!CG19","v":1},{"$f":"'2016 syoa'!CH19-'2011 syoa'!CH19","v":-13},{"$f":"'2016 syoa'!CI19-'2011 syoa'!CI19","v":-6},{"$f":"'2016 syoa'!CJ19-'2011 syoa'!CJ19","v":0},{"$f":"'2016 syoa'!CK19-'2011 syoa'!CK19","v":4},{"$f":"'2016 syoa'!CL19-'2011 syoa'!CL19","v":4},{"$f":"'2016 syoa'!CM19-'2011 syoa'!CM19","v":4},{"$f":"'2016 syoa'!CN19-'2011 syoa'!CN19","v":3},{"$f":"'2016 syoa'!CO19-'2011 syoa'!CO19","v":-5},{"$f":"'2016 syoa'!CP19-'2011 syoa'!CP19","v":4},{"$f":"'2016 syoa'!CQ19-'2011 syoa'!CQ19","v":8},{"$f":"'2016 syoa'!CR19-'2011 syoa'!CR19","v":189},{"$f":"'2016 syoa'!CS19-'2011 syoa'!CS19","v":-12},{"$f":"'2016 syoa'!CT19-'2011 syoa'!CT19","v":-31},{"$f":"'2016 syoa'!CU19-'2011 syoa'!CU19","v":-2},{"$f":"'2016 syoa'!CV19-'2011 syoa'!CV19","v":-12},{"$f":"'2016 syoa'!CW19-'2011 syoa'!CW19","v":49},{"$f":"'2016 syoa'!CX19-'2011 syoa'!CX19","v":-2},{"$f":"'2016 syoa'!CY19-'2011 syoa'!CY19","v":-34},{"$f":"'2016 syoa'!CZ19-'2011 syoa'!CZ19","v":14},{"$f":"'2016 syoa'!DA19-'2011 syoa'!DA19","v":32},{"$f":"'2016 syoa'!DB19-'2011 syoa'!DB19","v":23},{"$f":"'2016 syoa'!DC19-'2011 syoa'!DC19","v":19},{"$f":"'2016 syoa'!DD19-'2011 syoa'!DD19","v":36},{"$f":"'2016 syoa'!DE19-'2011 syoa'!DE19","v":-21},{"$f":"'2016 syoa'!DF19-'2011 syoa'!DF19","v":-44},{"$f":"'2016 syoa'!DG19-'2011 syoa'!DG19","v":-12},{"$f":"'2016 syoa'!DH19-'2011 syoa'!DH19","v":-5},{"$f":"'2016 syoa'!DI19-'2011 syoa'!DI19","v":0},{"$f":"'2016 syoa'!DJ19-'2011 syoa'!DJ19","v":-47},{"$f":"'2016 syoa'!DK19-'2011 syoa'!DK19","v":-4},{"$f":"'2016 syoa'!DL19-'2011 syoa'!DL19","v":-13},{"$f":"'2016 syoa'!DM19-'2011 syoa'!DM19","v":-10},{"$f":"'2016 syoa'!DN19-'2011 syoa'!DN19","v":24},{"$f":"'2016 syoa'!DO19-'2011 syoa'!DO19","v":34},{"$f":"'2016 syoa'!DP19-'2011 syoa'!DP19","v":-14},{"$f":"'2016 syoa'!DQ19-'2011 syoa'!DQ19","v":-10},{"$f":"'2016 syoa'!DR19-'2011 syoa'!DR19","v":42},{"$f":"'2016 syoa'!DS19-'2011 syoa'!DS19","v":21},{"$f":"'2016 syoa'!DT19-'2011 syoa'!DT19","v":17},{"$f":"'2016 syoa'!DU19-'2011 syoa'!DU19","v":-7},{"$f":"'2016 syoa'!DV19-'2011 syoa'!DV19","v":31},{"$f":"'2016 syoa'!DW19-'2011 syoa'!DW19","v":-27},{"$f":"'2016 syoa'!DX19-'2011 syoa'!DX19","v":1},{"$f":"'2016 syoa'!DY19-'2011 syoa'!DY19","v":-7},{"$f":"'2016 syoa'!DZ19-'2011 syoa'!DZ19","v":25},{"$f":"'2016 syoa'!EA19-'2011 syoa'!EA19","v":3},{"$f":"'2016 syoa'!EB19-'2011 syoa'!EB19","v":-6},{"$f":"'2016 syoa'!EC19-'2011 syoa'!EC19","v":7},{"$f":"'2016 syoa'!ED19-'2011 syoa'!ED19","v":28},{"$f":"'2016 syoa'!EE19-'2011 syoa'!EE19","v":5},{"$f":"'2016 syoa'!EF19-'2011 syoa'!EF19","v":-1},{"$f":"'2016 syoa'!EG19-'2011 syoa'!EG19","v":-7},{"$f":"'2016 syoa'!EH19-'2011 syoa'!EH19","v":-22},{"$f":"'2016 syoa'!EI19-'2011 syoa'!EI19","v":-2},{"$f":"'2016 syoa'!EJ19-'2011 syoa'!EJ19","v":-33},{"$f":"'2016 syoa'!EK19-'2011 syoa'!EK19","v":-57},{"$f":"'2016 syoa'!EL19-'2011 syoa'!EL19","v":-13},{"$f":"'2016 syoa'!EM19-'2011 syoa'!EM19","v":-37},{"$f":"'2016 syoa'!EN19-'2011 syoa'!EN19","v":7},{"$f":"'2016 syoa'!EO19-'2011 syoa'!EO19","v":-5},{"$f":"'2016 syoa'!EP19-'2011 syoa'!EP19","v":-19},{"$f":"'2016 syoa'!EQ19-'2011 syoa'!EQ19","v":11},{"$f":"'2016 syoa'!ER19-'2011 syoa'!ER19","v":92},{"$f":"'2016 syoa'!ES19-'2011 syoa'!ES19","v":24},{"$f":"'2016 syoa'!ET19-'2011 syoa'!ET19","v":13},{"$f":"'2016 syoa'!EU19-'2011 syoa'!EU19","v":41},{"$f":"'2016 syoa'!EV19-'2011 syoa'!EV19","v":20},{"$f":"'2016 syoa'!EW19-'2011 syoa'!EW19","v":0},{"$f":"'2016 syoa'!EX19-'2011 syoa'!EX19","v":16},{"$f":"'2016 syoa'!EY19-'2011 syoa'!EY19","v":43},{"$f":"'2016 syoa'!EZ19-'2011 syoa'!EZ19","v":19},{"$f":"'2016 syoa'!FA19-'2011 syoa'!FA19","v":40},{"$f":"'2016 syoa'!FB19-'2011 syoa'!FB19","v":15},{"$f":"'2016 syoa'!FC19-'2011 syoa'!FC19","v":27},{"$f":"'2016 syoa'!FD19-'2011 syoa'!FD19","v":-28},{"$f":"'2016 syoa'!FE19-'2011 syoa'!FE19","v":27},{"$f":"'2016 syoa'!FF19-'2011 syoa'!FF19","v":-21},{"$f":"'2016 syoa'!FG19-'2011 syoa'!FG19","v":-4},{"$f":"'2016 syoa'!FH19-'2011 syoa'!FH19","v":-20},{"$f":"'2016 syoa'!FI19-'2011 syoa'!FI19","v":4},{"$f":"'2016 syoa'!FJ19-'2011 syoa'!FJ19","v":-7},{"$f":"'2016 syoa'!FK19-'2011 syoa'!FK19","v":27},{"$f":"'2016 syoa'!FL19-'2011 syoa'!FL19","v":13},{"$f":"'2016 syoa'!FM19-'2011 syoa'!FM19","v":1},{"$f":"'2016 syoa'!FN19-'2011 syoa'!FN19","v":16},{"$f":"'2016 syoa'!FO19-'2011 syoa'!FO19","v":10},{"$f":"'2016 syoa'!FP19-'2011 syoa'!FP19","v":-18},{"$f":"'2016 syoa'!FQ19-'2011 syoa'!FQ19","v":1},{"$f":"'2016 syoa'!FR19-'2011 syoa'!FR19","v":-13},{"$f":"'2016 syoa'!FS19-'2011 syoa'!FS19","v":6},{"$f":"'2016 syoa'!FT19-'2011 syoa'!FT19","v":12},{"$f":"'2016 syoa'!FU19-'2011 syoa'!FU19","v":-10},{"$f":"'2016 syoa'!FV19-'2011 syoa'!FV19","v":-15},{"$f":"'2016 syoa'!FW19-'2011 syoa'!FW19","v":-3},{"$f":"'2016 syoa'!FX19-'2011 syoa'!FX19","v":-12},{"$f":"'2016 syoa'!FY19-'2011 syoa'!FY19","v":-16},{"$f":"'2016 syoa'!FZ19-'2011 syoa'!FZ19","v":-22},{"$f":"'2016 syoa'!GA19-'2011 syoa'!GA19","v":10},{"$f":"'2016 syoa'!GB19-'2011 syoa'!GB19","v":0},{"$f":"'2016 syoa'!GC19-'2011 syoa'!GC19","v":6},{"$f":"'2016 syoa'!GD19-'2011 syoa'!GD19","v":-7},{"$f":"'2016 syoa'!GE19-'2011 syoa'!GE19","v":-11}]
["Ladywood","Ladywood","E05001193",{"$f":"'2016 syoa'!D20-'2011 syoa'!D20","v":3218},{"$f":"'2016 syoa'!E20-'2011 syoa'!E20","v":17},{"$f":"'2016 syoa'!F20-'2011 syoa'!F20","v":12},{"$f":"'2016 syoa'!G20-'2011 syoa'!G20","v":20},{"$f":"'2016 syoa'!H20-'2011 syoa'!H20","v":42},{"$f":"'2016 syoa'!I20-'2011 syoa'!I20","v":66},{"$f":"'2016 syoa'!J20-'2011 syoa'!J20","v":52},{"$f":"'2016 syoa'!K20-'2011 syoa'!K20","v":35},{"$f":"'2016 syoa'!L20-'2011 syoa'!L20","v":52},{"$f":"'2016 syoa'!M20-'2011 syoa'!M20","v":24},{"$f":"'2016 syoa'!N20-'2011 syoa'!N20","v":36},{"$f":"'2016 syoa'!O20-'2011 syoa'!O20","v":46},{"$f":"'2016 syoa'!P20-'2011 syoa'!P20","v":27},{"$f":"'2016 syoa'!Q20-'2011 syoa'!Q20","v":22},{"$f":"'2016 syoa'!R20-'2011 syoa'!R20","v":18},{"$f":"'2016 syoa'!S20-'2011 syoa'!S20","v":-2},{"$f":"'2016 syoa'!T20-'2011 syoa'!T20","v":23},{"$f":"'2016 syoa'!U20-'2011 syoa'!U20","v":31},{"$f":"'2016 syoa'!V20-'2011 syoa'!V20","v":11},{"$f":"'2016 syoa'!W20-'2011 syoa'!W20","v":6},{"$f":"'2016 syoa'!X20-'2011 syoa'!X20","v":-97},{"$f":"'2016 syoa'!Y20-'2011 syoa'!Y20","v":77},{"$f":"'2016 syoa'!Z20-'2011 syoa'!Z20","v":89},{"$f":"'2016 syoa'!AA20-'2011 syoa'!AA20","v":7},{"$f":"'2016 syoa'!AB20-'2011 syoa'!AB20","v":109},{"$f":"'2016 syoa'!AC20-'2011 syoa'!AC20","v":160},{"$f":"'2016 syoa'!AD20-'2011 syoa'!AD20","v":69},{"$f":"'2016 syoa'!AE20-'2011 syoa'!AE20","v":149},{"$f":"'2016 syoa'!AF20-'2011 syoa'!AF20","v":98},{"$f":"'2016 syoa'!AG20-'2011 syoa'!AG20","v":186},{"$f":"'2016 syoa'!AH20-'2011 syoa'!AH20","v":156},{"$f":"'2016 syoa'!AI20-'2011 syoa'!AI20","v":73},{"$f":"'2016 syoa'!AJ20-'2011 syoa'!AJ20","v":63},{"$f":"'2016 syoa'!AK20-'2011 syoa'!AK20","v":73},{"$f":"'2016 syoa'!AL20-'2011 syoa'!AL20","v":156},{"$f":"'2016 syoa'!AM20-'2011 syoa'!AM20","v":164},{"$f":"'2016 syoa'!AN20-'2011 syoa'!AN20","v":102},{"$f":"'2016 syoa'!AO20-'2011 syoa'!AO20","v":102},{"$f":"'2016 syoa'!AP20-'2011 syoa'!AP20","v":62},{"$f":"'2016 syoa'!AQ20-'2011 syoa'!AQ20","v":13},{"$f":"'2016 syoa'!AR20-'2011 syoa'!AR20","v":60},{"$f":"'2016 syoa'!AS20-'2011 syoa'!AS20","v":58},{"$f":"'2016 syoa'!AT20-'2011 syoa'!AT20","v":43},{"$f":"'2016 syoa'!AU20-'2011 syoa'!AU20","v":49},{"$f":"'2016 syoa'!AV20-'2011 syoa'!AV20","v":53},{"$f":"'2016 syoa'!AW20-'2011 syoa'!AW20","v":21},{"$f":"'2016 syoa'!AX20-'2011 syoa'!AX20","v":46},{"$f":"'2016 syoa'!AY20-'2011 syoa'!AY20","v":14},{"$f":"'2016 syoa'!AZ20-'2011 syoa'!AZ20","v":4},{"$f":"'2016 syoa'!BA20-'2011 syoa'!BA20","v":17},{"$f":"'2016 syoa'!BB20-'2011 syoa'!BB20","v":16},{"$f":"'2016 syoa'!BC20-'2011 syoa'!BC20","v":36},{"$f":"'2016 syoa'!BD20-'2011 syoa'!BD20","v":42},{"$f":"'2016 syoa'!BE20-'2011 syoa'!BE20","v":38},{"$f":"'2016 syoa'!BF20-'2011 syoa'!BF20","v":44},{"$f":"'2016 syoa'!BG20-'2011 syoa'!BG20","v":26},{"$f":"'2016 syoa'!BH20-'2011 syoa'!BH20","v":67},{"$f":"'2016 syoa'!BI20-'2011 syoa'!BI20","v":26},{"$f":"'2016 syoa'!BJ20-'2011 syoa'!BJ20","v":23},{"$f":"'2016 syoa'!BK20-'2011 syoa'!BK20","v":6},{"$f":"'2016 syoa'!BL20-'2011 syoa'!BL20","v":35},{"$f":"'2016 syoa'!BM20-'2011 syoa'!BM20","v":11},{"$f":"'2016 syoa'!BN20-'2011 syoa'!BN20","v":14},{"$f":"'2016 syoa'!BO20-'2011 syoa'!BO20","v":18},{"$f":"'2016 syoa'!BP20-'2011 syoa'!BP20","v":22},{"$f":"'2016 syoa'!BQ20-'2011 syoa'!BQ20","v":1},{"$f":"'2016 syoa'!BR20-'2011 syoa'!BR20","v":12},{"$f":"'2016 syoa'!BS20-'2011 syoa'!BS20","v":5},{"$f":"'2016 syoa'!BT20-'2011 syoa'!BT20","v":-10},{"$f":"'2016 syoa'!BU20-'2011 syoa'!BU20","v":10},{"$f":"'2016 syoa'!BV20-'2011 syoa'!BV20","v":4},{"$f":"'2016 syoa'!BW20-'2011 syoa'!BW20","v":4},{"$f":"'2016 syoa'!BX20-'2011 syoa'!BX20","v":11},{"$f":"'2016 syoa'!BY20-'2011 syoa'!BY20","v":18},{"$f":"'2016 syoa'!BZ20-'2011 syoa'!BZ20","v":9},{"$f":"'2016 syoa'!CA20-'2011 syoa'!CA20","v":5},{"$f":"'2016 syoa'!CB20-'2011 syoa'!CB20","v":-17},{"$f":"'2016 syoa'!CC20-'2011 syoa'!CC20","v":8},{"$f":"'2016 syoa'!CD20-'2011 syoa'!CD20","v":-3},{"$f":"'2016 syoa'!CE20-'2011 syoa'!CE20","v":-4},{"$f":"'2016 syoa'!CF20-'2011 syoa'!CF20","v":5},{"$f":"'2016 syoa'!CG20-'2011 syoa'!CG20","v":19},{"$f":"'2016 syoa'!CH20-'2011 syoa'!CH20","v":-7},{"$f":"'2016 syoa'!CI20-'2011 syoa'!CI20","v":7},{"$f":"'2016 syoa'!CJ20-'2011 syoa'!CJ20","v":3},{"$f":"'2016 syoa'!CK20-'2011 syoa'!CK20","v":5},{"$f":"'2016 syoa'!CL20-'2011 syoa'!CL20","v":3},{"$f":"'2016 syoa'!CM20-'2011 syoa'!CM20","v":7},{"$f":"'2016 syoa'!CN20-'2011 syoa'!CN20","v":-5},{"$f":"'2016 syoa'!CO20-'2011 syoa'!CO20","v":-2},{"$f":"'2016 syoa'!CP20-'2011 syoa'!CP20","v":-2},{"$f":"'2016 syoa'!CQ20-'2011 syoa'!CQ20","v":-6},{"$f":"'2016 syoa'!CR20-'2011 syoa'!CR20","v":3026},{"$f":"'2016 syoa'!CS20-'2011 syoa'!CS20","v":-15},{"$f":"'2016 syoa'!CT20-'2011 syoa'!CT20","v":51},{"$f":"'2016 syoa'!CU20-'2011 syoa'!CU20","v":56},{"$f":"'2016 syoa'!CV20-'2011 syoa'!CV20","v":29},{"$f":"'2016 syoa'!CW20-'2011 syoa'!CW20","v":53},{"$f":"'2016 syoa'!CX20-'2011 syoa'!CX20","v":33},{"$f":"'2016 syoa'!CY20-'2011 syoa'!CY20","v":24},{"$f":"'2016 syoa'!CZ20-'2011 syoa'!CZ20","v":34},{"$f":"'2016 syoa'!DA20-'2011 syoa'!DA20","v":29},{"$f":"'2016 syoa'!DB20-'2011 syoa'!DB20","v":25},{"$f":"'2016 syoa'!DC20-'2011 syoa'!DC20","v":55},{"$f":"'2016 syoa'!DD20-'2011 syoa'!DD20","v":35},{"$f":"'2016 syoa'!DE20-'2011 syoa'!DE20","v":35},{"$f":"'2016 syoa'!DF20-'2011 syoa'!DF20","v":34},{"$f":"'2016 syoa'!DG20-'2011 syoa'!DG20","v":-6},{"$f":"'2016 syoa'!DH20-'2011 syoa'!DH20","v":21},{"$f":"'2016 syoa'!DI20-'2011 syoa'!DI20","v":8},{"$f":"'2016 syoa'!DJ20-'2011 syoa'!DJ20","v":42},{"$f":"'2016 syoa'!DK20-'2011 syoa'!DK20","v":32},{"$f":"'2016 syoa'!DL20-'2011 syoa'!DL20","v":-32},{"$f":"'2016 syoa'!DM20-'2011 syoa'!DM20","v":70},{"$f":"'2016 syoa'!DN20-'2011 syoa'!DN20","v":25},{"$f":"'2016 syoa'!DO20-'2011 syoa'!DO20","v":107},{"$f":"'2016 syoa'!DP20-'2011 syoa'!DP20","v":207},{"$f":"'2016 syoa'!DQ20-'2011 syoa'!DQ20","v":249},{"$f":"'2016 syoa'!DR20-'2011 syoa'!DR20","v":56},{"$f":"'2016 syoa'!DS20-'2011 syoa'!DS20","v":159},{"$f":"'2016 syoa'!DT20-'2011 syoa'!DT20","v":125},{"$f":"'2016 syoa'!DU20-'2011 syoa'!DU20","v":128},{"$f":"'2016 syoa'!DV20-'2011 syoa'!DV20","v":152},{"$f":"'2016 syoa'!DW20-'2011 syoa'!DW20","v":35},{"$f":"'2016 syoa'!DX20-'2011 syoa'!DX20","v":66},{"$f":"'2016 syoa'!DY20-'2011 syoa'!DY20","v":95},{"$f":"'2016 syoa'!DZ20-'2011 syoa'!DZ20","v":83},{"$f":"'2016 syoa'!EA20-'2011 syoa'!EA20","v":55},{"$f":"'2016 syoa'!EB20-'2011 syoa'!EB20","v":122},{"$f":"'2016 syoa'!EC20-'2011 syoa'!EC20","v":98},{"$f":"'2016 syoa'!ED20-'2011 syoa'!ED20","v":57},{"$f":"'2016 syoa'!EE20-'2011 syoa'!EE20","v":45},{"$f":"'2016 syoa'!EF20-'2011 syoa'!EF20","v":44},{"$f":"'2016 syoa'!EG20-'2011 syoa'!EG20","v":11},{"$f":"'2016 syoa'!EH20-'2011 syoa'!EH20","v":27},{"$f":"'2016 syoa'!EI20-'2011 syoa'!EI20","v":16},{"$f":"'2016 syoa'!EJ20-'2011 syoa'!EJ20","v":32},{"$f":"'2016 syoa'!EK20-'2011 syoa'!EK20","v":36},{"$f":"'2016 syoa'!EL20-'2011 syoa'!EL20","v":27},{"$f":"'2016 syoa'!EM20-'2011 syoa'!EM20","v":20},{"$f":"'2016 syoa'!EN20-'2011 syoa'!EN20","v":9},{"$f":"'2016 syoa'!EO20-'2011 syoa'!EO20","v":17},{"$f":"'2016 syoa'!EP20-'2011 syoa'!EP20","v":12},{"$f":"'2016 syoa'!EQ20-'2011 syoa'!EQ20","v":42},{"$f":"'2016 syoa'!ER20-'2011 syoa'!ER20","v":27},{"$f":"'2016 syoa'!ES20-'2011 syoa'!ES20","v":20},{"$f":"'2016 syoa'!ET20-'2011 syoa'!ET20","v":22},{"$f":"'2016 syoa'!EU20-'2011 syoa'!EU20","v":0},{"$f":"'2016 syoa'!EV20-'2011 syoa'!EV20","v":16},{"$f":"'2016 syoa'!EW20-'2011 syoa'!EW20","v":44},{"$f":"'2016 syoa'!EX20-'2011 syoa'!EX20","v":17},{"$f":"'2016 syoa'!EY20-'2011 syoa'!EY20","v":-2},{"$f":"'2016 syoa'!EZ20-'2011 syoa'!EZ20","v":41},{"$f":"'2016 syoa'!FA20-'2011 syoa'!FA20","v":14},{"$f":"'2016 syoa'!FB20-'2011 syoa'!FB20","v":10},{"$f":"'2016 syoa'!FC20-'2011 syoa'!FC20","v":9},{"$f":"'2016 syoa'!FD20-'2011 syoa'!FD20","v":15},{"$f":"'2016 syoa'!FE20-'2011 syoa'!FE20","v":-3},{"$f":"'2016 syoa'!FF20-'2011 syoa'!FF20","v":20},{"$f":"'2016 syoa'!FG20-'2011 syoa'!FG20","v":-3},{"$f":"'2016 syoa'!FH20-'2011 syoa'!FH20","v":5},{"$f":"'2016 syoa'!FI20-'2011 syoa'!FI20","v":5},{"$f":"'2016 syoa'!FJ20-'2011 syoa'!FJ20","v":4},{"$f":"'2016 syoa'!FK20-'2011 syoa'!FK20","v":4},{"$f":"'2016 syoa'!FL20-'2011 syoa'!FL20","v":-13},{"$f":"'2016 syoa'!FM20-'2011 syoa'!FM20","v":18},{"$f":"'2016 syoa'!FN20-'2011 syoa'!FN20","v":-2},{"$f":"'2016 syoa'!FO20-'2011 syoa'!FO20","v":-5},{"$f":"'2016 syoa'!FP20-'2011 syoa'!FP20","v":1},{"$f":"'2016 syoa'!FQ20-'2011 syoa'!FQ20","v":-4},{"$f":"'2016 syoa'!FR20-'2011 syoa'!FR20","v":3},{"$f":"'2016 syoa'!FS20-'2011 syoa'!FS20","v":8},{"$f":"'2016 syoa'!FT20-'2011 syoa'!FT20","v":-3},{"$f":"'2016 syoa'!FU20-'2011 syoa'!FU20","v":-7},{"$f":"'2016 syoa'!FV20-'2011 syoa'!FV20","v":2},{"$f":"'2016 syoa'!FW20-'2011 syoa'!FW20","v":-3},{"$f":"'2016 syoa'!FX20-'2011 syoa'!FX20","v":-9},{"$f":"'2016 syoa'!FY20-'2011 syoa'!FY20","v":3},{"$f":"'2016 syoa'!FZ20-'2011 syoa'!FZ20","v":10},{"$f":"'2016 syoa'!GA20-'2011 syoa'!GA20","v":3},{"$f":"'2016 syoa'!GB20-'2011 syoa'!GB20","v":-9},{"$f":"'2016 syoa'!GC20-'2011 syoa'!GC20","v":0},{"$f":"'2016 syoa'!GD20-'2011 syoa'!GD20","v":-1},{"$f":"'2016 syoa'!GE20-'2011 syoa'!GE20","v":-1}]
["Longbridge","Northfield","E05001194",{"$f":"'2016 syoa'!D21-'2011 syoa'!D21","v":282},{"$f":"'2016 syoa'!E21-'2011 syoa'!E21","v":-2},{"$f":"'2016 syoa'!F21-'2011 syoa'!F21","v":-24},{"$f":"'2016 syoa'!G21-'2011 syoa'!G21","v":43},{"$f":"'2016 syoa'!H21-'2011 syoa'!H21","v":4},{"$f":"'2016 syoa'!I21-'2011 syoa'!I21","v":19},{"$f":"'2016 syoa'!J21-'2011 syoa'!J21","v":53},{"$f":"'2016 syoa'!K21-'2011 syoa'!K21","v":31},{"$f":"'2016 syoa'!L21-'2011 syoa'!L21","v":22},{"$f":"'2016 syoa'!M21-'2011 syoa'!M21","v":19},{"$f":"'2016 syoa'!N21-'2011 syoa'!N21","v":41},{"$f":"'2016 syoa'!O21-'2011 syoa'!O21","v":29},{"$f":"'2016 syoa'!P21-'2011 syoa'!P21","v":4},{"$f":"'2016 syoa'!Q21-'2011 syoa'!Q21","v":-21},{"$f":"'2016 syoa'!R21-'2011 syoa'!R21","v":-7},{"$f":"'2016 syoa'!S21-'2011 syoa'!S21","v":-32},{"$f":"'2016 syoa'!T21-'2011 syoa'!T21","v":-32},{"$f":"'2016 syoa'!U21-'2011 syoa'!U21","v":21},{"$f":"'2016 syoa'!V21-'2011 syoa'!V21","v":-3},{"$f":"'2016 syoa'!W21-'2011 syoa'!W21","v":-2},{"$f":"'2016 syoa'!X21-'2011 syoa'!X21","v":2},{"$f":"'2016 syoa'!Y21-'2011 syoa'!Y21","v":9},{"$f":"'2016 syoa'!Z21-'2011 syoa'!Z21","v":-4},{"$f":"'2016 syoa'!AA21-'2011 syoa'!AA21","v":9},{"$f":"'2016 syoa'!AB21-'2011 syoa'!AB21","v":38},{"$f":"'2016 syoa'!AC21-'2011 syoa'!AC21","v":31},{"$f":"'2016 syoa'!AD21-'2011 syoa'!AD21","v":51},{"$f":"'2016 syoa'!AE21-'2011 syoa'!AE21","v":18},{"$f":"'2016 syoa'!AF21-'2011 syoa'!AF21","v":23},{"$f":"'2016 syoa'!AG21-'2011 syoa'!AG21","v":-33},{"$f":"'2016 syoa'!AH21-'2011 syoa'!AH21","v":-32},{"$f":"'2016 syoa'!AI21-'2011 syoa'!AI21","v":-24},{"$f":"'2016 syoa'!AJ21-'2011 syoa'!AJ21","v":-8},{"$f":"'2016 syoa'!AK21-'2011 syoa'!AK21","v":-15},{"$f":"'2016 syoa'!AL21-'2011 syoa'!AL21","v":0},{"$f":"'2016 syoa'!AM21-'2011 syoa'!AM21","v":-8},{"$f":"'2016 syoa'!AN21-'2011 syoa'!AN21","v":-16},{"$f":"'2016 syoa'!AO21-'2011 syoa'!AO21","v":-4},{"$f":"'2016 syoa'!AP21-'2011 syoa'!AP21","v":-5},{"$f":"'2016 syoa'!AQ21-'2011 syoa'!AQ21","v":-13},{"$f":"'2016 syoa'!AR21-'2011 syoa'!AR21","v":-39},{"$f":"'2016 syoa'!AS21-'2011 syoa'!AS21","v":6},{"$f":"'2016 syoa'!AT21-'2011 syoa'!AT21","v":0},{"$f":"'2016 syoa'!AU21-'2011 syoa'!AU21","v":-54},{"$f":"'2016 syoa'!AV21-'2011 syoa'!AV21","v":-19},{"$f":"'2016 syoa'!AW21-'2011 syoa'!AW21","v":-34},{"$f":"'2016 syoa'!AX21-'2011 syoa'!AX21","v":-27},{"$f":"'2016 syoa'!AY21-'2011 syoa'!AY21","v":-52},{"$f":"'2016 syoa'!AZ21-'2011 syoa'!AZ21","v":-16},{"$f":"'2016 syoa'!BA21-'2011 syoa'!BA21","v":2},{"$f":"'2016 syoa'!BB21-'2011 syoa'!BB21","v":-9},{"$f":"'2016 syoa'!BC21-'2011 syoa'!BC21","v":17},{"$f":"'2016 syoa'!BD21-'2011 syoa'!BD21","v":13},{"$f":"'2016 syoa'!BE21-'2011 syoa'!BE21","v":19},{"$f":"'2016 syoa'!BF21-'2011 syoa'!BF21","v":-4},{"$f":"'2016 syoa'!BG21-'2011 syoa'!BG21","v":41},{"$f":"'2016 syoa'!BH21-'2011 syoa'!BH21","v":11},{"$f":"'2016 syoa'!BI21-'2011 syoa'!BI21","v":1},{"$f":"'2016 syoa'!BJ21-'2011 syoa'!BJ21","v":1},{"$f":"'2016 syoa'!BK21-'2011 syoa'!BK21","v":2},{"$f":"'2016 syoa'!BL21-'2011 syoa'!BL21","v":-10},{"$f":"'2016 syoa'!BM21-'2011 syoa'!BM21","v":-7},{"$f":"'2016 syoa'!BN21-'2011 syoa'!BN21","v":14},{"$f":"'2016 syoa'!BO21-'2011 syoa'!BO21","v":-5},{"$f":"'2016 syoa'!BP21-'2011 syoa'!BP21","v":15},{"$f":"'2016 syoa'!BQ21-'2011 syoa'!BQ21","v":-32},{"$f":"'2016 syoa'!BR21-'2011 syoa'!BR21","v":-2},{"$f":"'2016 syoa'!BS21-'2011 syoa'!BS21","v":10},{"$f":"'2016 syoa'!BT21-'2011 syoa'!BT21","v":45},{"$f":"'2016 syoa'!BU21-'2011 syoa'!BU21","v":12},{"$f":"'2016 syoa'!BV21-'2011 syoa'!BV21","v":56},{"$f":"'2016 syoa'!BW21-'2011 syoa'!BW21","v":64},{"$f":"'2016 syoa'!BX21-'2011 syoa'!BX21","v":3},{"$f":"'2016 syoa'!BY21-'2011 syoa'!BY21","v":0},{"$f":"'2016 syoa'!BZ21-'2011 syoa'!BZ21","v":-3},{"$f":"'2016 syoa'!CA21-'2011 syoa'!CA21","v":21},{"$f":"'2016 syoa'!CB21-'2011 syoa'!CB21","v":-22},{"$f":"'2016 syoa'!CC21-'2011 syoa'!CC21","v":15},{"$f":"'2016 syoa'!CD21-'2011 syoa'!CD21","v":18},{"$f":"'2016 syoa'!CE21-'2011 syoa'!CE21","v":21},{"$f":"'2016 syoa'!CF21-'2011 syoa'!CF21","v":22},{"$f":"'2016 syoa'!CG21-'2011 syoa'!CG21","v":-4},{"$f":"'2016 syoa'!CH21-'2011 syoa'!CH21","v":9},{"$f":"'2016 syoa'!CI21-'2011 syoa'!CI21","v":2},{"$f":"'2016 syoa'!CJ21-'2011 syoa'!CJ21","v":3},{"$f":"'2016 syoa'!CK21-'2011 syoa'!CK21","v":-23},{"$f":"'2016 syoa'!CL21-'2011 syoa'!CL21","v":-8},{"$f":"'2016 syoa'!CM21-'2011 syoa'!CM21","v":5},{"$f":"'2016 syoa'!CN21-'2011 syoa'!CN21","v":7},{"$f":"'2016 syoa'!CO21-'2011 syoa'!CO21","v":-3},{"$f":"'2016 syoa'!CP21-'2011 syoa'!CP21","v":8},{"$f":"'2016 syoa'!CQ21-'2011 syoa'!CQ21","v":10},{"$f":"'2016 syoa'!CR21-'2011 syoa'!CR21","v":535},{"$f":"'2016 syoa'!CS21-'2011 syoa'!CS21","v":-6},{"$f":"'2016 syoa'!CT21-'2011 syoa'!CT21","v":37},{"$f":"'2016 syoa'!CU21-'2011 syoa'!CU21","v":50},{"$f":"'2016 syoa'!CV21-'2011 syoa'!CV21","v":-6},{"$f":"'2016 syoa'!CW21-'2011 syoa'!CW21","v":42},{"$f":"'2016 syoa'!CX21-'2011 syoa'!CX21","v":10},{"$f":"'2016 syoa'!CY21-'2011 syoa'!CY21","v":8},{"$f":"'2016 syoa'!CZ21-'2011 syoa'!CZ21","v":17},{"$f":"'2016 syoa'!DA21-'2011 syoa'!DA21","v":42},{"$f":"'2016 syoa'!DB21-'2011 syoa'!DB21","v":-7},{"$f":"'2016 syoa'!DC21-'2011 syoa'!DC21","v":30},{"$f":"'2016 syoa'!DD21-'2011 syoa'!DD21","v":22},{"$f":"'2016 syoa'!DE21-'2011 syoa'!DE21","v":-17},{"$f":"'2016 syoa'!DF21-'2011 syoa'!DF21","v":-22},{"$f":"'2016 syoa'!DG21-'2011 syoa'!DG21","v":-34},{"$f":"'2016 syoa'!DH21-'2011 syoa'!DH21","v":-32},{"$f":"'2016 syoa'!DI21-'2011 syoa'!DI21","v":-35},{"$f":"'2016 syoa'!DJ21-'2011 syoa'!DJ21","v":10},{"$f":"'2016 syoa'!DK21-'2011 syoa'!DK21","v":-2},{"$f":"'2016 syoa'!DL21-'2011 syoa'!DL21","v":2},{"$f":"'2016 syoa'!DM21-'2011 syoa'!DM21","v":7},{"$f":"'2016 syoa'!DN21-'2011 syoa'!DN21","v":26},{"$f":"'2016 syoa'!DO21-'2011 syoa'!DO21","v":8},{"$f":"'2016 syoa'!DP21-'2011 syoa'!DP21","v":9},{"$f":"'2016 syoa'!DQ21-'2011 syoa'!DQ21","v":25},{"$f":"'2016 syoa'!DR21-'2011 syoa'!DR21","v":40},{"$f":"'2016 syoa'!DS21-'2011 syoa'!DS21","v":38},{"$f":"'2016 syoa'!DT21-'2011 syoa'!DT21","v":39},{"$f":"'2016 syoa'!DU21-'2011 syoa'!DU21","v":-21},{"$f":"'2016 syoa'!DV21-'2011 syoa'!DV21","v":-2},{"$f":"'2016 syoa'!DW21-'2011 syoa'!DW21","v":-18},{"$f":"'2016 syoa'!DX21-'2011 syoa'!DX21","v":-58},{"$f":"'2016 syoa'!DY21-'2011 syoa'!DY21","v":-48},{"$f":"'2016 syoa'!DZ21-'2011 syoa'!DZ21","v":13},{"$f":"'2016 syoa'!EA21-'2011 syoa'!EA21","v":30},{"$f":"'2016 syoa'!EB21-'2011 syoa'!EB21","v":43},{"$f":"'2016 syoa'!EC21-'2011 syoa'!EC21","v":43},{"$f":"'2016 syoa'!ED21-'2011 syoa'!ED21","v":23},{"$f":"'2016 syoa'!EE21-'2011 syoa'!EE21","v":-16},{"$f":"'2016 syoa'!EF21-'2011 syoa'!EF21","v":-46},{"$f":"'2016 syoa'!EG21-'2011 syoa'!EG21","v":-41},{"$f":"'2016 syoa'!EH21-'2011 syoa'!EH21","v":-6},{"$f":"'2016 syoa'!EI21-'2011 syoa'!EI21","v":-29},{"$f":"'2016 syoa'!EJ21-'2011 syoa'!EJ21","v":-9},{"$f":"'2016 syoa'!EK21-'2011 syoa'!EK21","v":-29},{"$f":"'2016 syoa'!EL21-'2011 syoa'!EL21","v":13},{"$f":"'2016 syoa'!EM21-'2011 syoa'!EM21","v":-1},{"$f":"'2016 syoa'!EN21-'2011 syoa'!EN21","v":4},{"$f":"'2016 syoa'!EO21-'2011 syoa'!EO21","v":8},{"$f":"'2016 syoa'!EP21-'2011 syoa'!EP21","v":30},{"$f":"'2016 syoa'!EQ21-'2011 syoa'!EQ21","v":-8},{"$f":"'2016 syoa'!ER21-'2011 syoa'!ER21","v":-7},{"$f":"'2016 syoa'!ES21-'2011 syoa'!ES21","v":9},{"$f":"'2016 syoa'!ET21-'2011 syoa'!ET21","v":33},{"$f":"'2016 syoa'!EU21-'2011 syoa'!EU21","v":19},{"$f":"'2016 syoa'!EV21-'2011 syoa'!EV21","v":26},{"$f":"'2016 syoa'!EW21-'2011 syoa'!EW21","v":9},{"$f":"'2016 syoa'!EX21-'2011 syoa'!EX21","v":7},{"$f":"'2016 syoa'!EY21-'2011 syoa'!EY21","v":-8},{"$f":"'2016 syoa'!EZ21-'2011 syoa'!EZ21","v":-1},{"$f":"'2016 syoa'!FA21-'2011 syoa'!FA21","v":15},{"$f":"'2016 syoa'!FB21-'2011 syoa'!FB21","v":4},{"$f":"'2016 syoa'!FC21-'2011 syoa'!FC21","v":27},{"$f":"'2016 syoa'!FD21-'2011 syoa'!FD21","v":-7},{"$f":"'2016 syoa'!FE21-'2011 syoa'!FE21","v":10},{"$f":"'2016 syoa'!FF21-'2011 syoa'!FF21","v":25},{"$f":"'2016 syoa'!FG21-'2011 syoa'!FG21","v":30},{"$f":"'2016 syoa'!FH21-'2011 syoa'!FH21","v":17},{"$f":"'2016 syoa'!FI21-'2011 syoa'!FI21","v":42},{"$f":"'2016 syoa'!FJ21-'2011 syoa'!FJ21","v":59},{"$f":"'2016 syoa'!FK21-'2011 syoa'!FK21","v":17},{"$f":"'2016 syoa'!FL21-'2011 syoa'!FL21","v":15},{"$f":"'2016 syoa'!FM21-'2011 syoa'!FM21","v":32},{"$f":"'2016 syoa'!FN21-'2011 syoa'!FN21","v":9},{"$f":"'2016 syoa'!FO21-'2011 syoa'!FO21","v":-4},{"$f":"'2016 syoa'!FP21-'2011 syoa'!FP21","v":-13},{"$f":"'2016 syoa'!FQ21-'2011 syoa'!FQ21","v":5},{"$f":"'2016 syoa'!FR21-'2011 syoa'!FR21","v":-9},{"$f":"'2016 syoa'!FS21-'2011 syoa'!FS21","v":-12},{"$f":"'2016 syoa'!FT21-'2011 syoa'!FT21","v":-6},{"$f":"'2016 syoa'!FU21-'2011 syoa'!FU21","v":-21},{"$f":"'2016 syoa'!FV21-'2011 syoa'!FV21","v":-18},{"$f":"'2016 syoa'!FW21-'2011 syoa'!FW21","v":-13},{"$f":"'2016 syoa'!FX21-'2011 syoa'!FX21","v":3},{"$f":"'2016 syoa'!FY21-'2011 syoa'!FY21","v":18},{"$f":"'2016 syoa'!FZ21-'2011 syoa'!FZ21","v":2},{"$f":"'2016 syoa'!GA21-'2011 syoa'!GA21","v":11},{"$f":"'2016 syoa'!GB21-'2011 syoa'!GB21","v":5},{"$f":"'2016 syoa'!GC21-'2011 syoa'!GC21","v":7},{"$f":"'2016 syoa'!GD21-'2011 syoa'!GD21","v":2},{"$f":"'2016 syoa'!GE21-'2011 syoa'!GE21","v":20}]
["Lozells and East Handsworth","Perry Barr","E05001195",{"$f":"'2016 syoa'!D22-'2011 syoa'!D22","v":1002},{"$f":"'2016 syoa'!E22-'2011 syoa'!E22","v":5},{"$f":"'2016 syoa'!F22-'2011 syoa'!F22","v":0},{"$f":"'2016 syoa'!G22-'2011 syoa'!G22","v":-17},{"$f":"'2016 syoa'!H22-'2011 syoa'!H22","v":-1},{"$f":"'2016 syoa'!I22-'2011 syoa'!I22","v":48},{"$f":"'2016 syoa'!J22-'2011 syoa'!J22","v":-61},{"$f":"'2016 syoa'!K22-'2011 syoa'!K22","v":7},{"$f":"'2016 syoa'!L22-'2011 syoa'!L22","v":60},{"$f":"'2016 syoa'!M22-'2011 syoa'!M22","v":23},{"$f":"'2016 syoa'!N22-'2011 syoa'!N22","v":18},{"$f":"'2016 syoa'!O22-'2011 syoa'!O22","v":44},{"$f":"'2016 syoa'!P22-'2011 syoa'!P22","v":-23},{"$f":"'2016 syoa'!Q22-'2011 syoa'!Q22","v":19},{"$f":"'2016 syoa'!R22-'2011 syoa'!R22","v":71},{"$f":"'2016 syoa'!S22-'2011 syoa'!S22","v":-11},{"$f":"'2016 syoa'!T22-'2011 syoa'!T22","v":-3},{"$f":"'2016 syoa'!U22-'2011 syoa'!U22","v":10},{"$f":"'2016 syoa'!V22-'2011 syoa'!V22","v":-7},{"$f":"'2016 syoa'!W22-'2011 syoa'!W22","v":-37},{"$f":"'2016 syoa'!X22-'2011 syoa'!X22","v":40},{"$f":"'2016 syoa'!Y22-'2011 syoa'!Y22","v":2},{"$f":"'2016 syoa'!Z22-'2011 syoa'!Z22","v":-15},{"$f":"'2016 syoa'!AA22-'2011 syoa'!AA22","v":55},{"$f":"'2016 syoa'!AB22-'2011 syoa'!AB22","v":1},{"$f":"'2016 syoa'!AC22-'2011 syoa'!AC22","v":-26},{"$f":"'2016 syoa'!AD22-'2011 syoa'!AD22","v":-36},{"$f":"'2016 syoa'!AE22-'2011 syoa'!AE22","v":-33},{"$f":"'2016 syoa'!AF22-'2011 syoa'!AF22","v":-5},{"$f":"'2016 syoa'!AG22-'2011 syoa'!AG22","v":-14},{"$f":"'2016 syoa'!AH22-'2011 syoa'!AH22","v":18},{"$f":"'2016 syoa'!AI22-'2011 syoa'!AI22","v":-14},{"$f":"'2016 syoa'!AJ22-'2011 syoa'!AJ22","v":-10},{"$f":"'2016 syoa'!AK22-'2011 syoa'!AK22","v":12},{"$f":"'2016 syoa'!AL22-'2011 syoa'!AL22","v":19},{"$f":"'2016 syoa'!AM22-'2011 syoa'!AM22","v":3},{"$f":"'2016 syoa'!AN22-'2011 syoa'!AN22","v":35},{"$f":"'2016 syoa'!AO22-'2011 syoa'!AO22","v":42},{"$f":"'2016 syoa'!AP22-'2011 syoa'!AP22","v":26},{"$f":"'2016 syoa'!AQ22-'2011 syoa'!AQ22","v":13},{"$f":"'2016 syoa'!AR22-'2011 syoa'!AR22","v":-6},{"$f":"'2016 syoa'!AS22-'2011 syoa'!AS22","v":41},{"$f":"'2016 syoa'!AT22-'2011 syoa'!AT22","v":33},{"$f":"'2016 syoa'!AU22-'2011 syoa'!AU22","v":5},{"$f":"'2016 syoa'!AV22-'2011 syoa'!AV22","v":-1},{"$f":"'2016 syoa'!AW22-'2011 syoa'!AW22","v":69},{"$f":"'2016 syoa'!AX22-'2011 syoa'!AX22","v":65},{"$f":"'2016 syoa'!AY22-'2011 syoa'!AY22","v":69},{"$f":"'2016 syoa'!AZ22-'2011 syoa'!AZ22","v":19},{"$f":"'2016 syoa'!BA22-'2011 syoa'!BA22","v":42},{"$f":"'2016 syoa'!BB22-'2011 syoa'!BB22","v":1},{"$f":"'2016 syoa'!BC22-'2011 syoa'!BC22","v":15},{"$f":"'2016 syoa'!BD22-'2011 syoa'!BD22","v":-6},{"$f":"'2016 syoa'!BE22-'2011 syoa'!BE22","v":21},{"$f":"'2016 syoa'!BF22-'2011 syoa'!BF22","v":50},{"$f":"'2016 syoa'!BG22-'2011 syoa'!BG22","v":58},{"$f":"'2016 syoa'!BH22-'2011 syoa'!BH22","v":31},{"$f":"'2016 syoa'!BI22-'2011 syoa'!BI22","v":41},{"$f":"'2016 syoa'!BJ22-'2011 syoa'!BJ22","v":17},{"$f":"'2016 syoa'!BK22-'2011 syoa'!BK22","v":28},{"$f":"'2016 syoa'!BL22-'2011 syoa'!BL22","v":1},{"$f":"'2016 syoa'!BM22-'2011 syoa'!BM22","v":28},{"$f":"'2016 syoa'!BN22-'2011 syoa'!BN22","v":15},{"$f":"'2016 syoa'!BO22-'2011 syoa'!BO22","v":51},{"$f":"'2016 syoa'!BP22-'2011 syoa'!BP22","v":46},{"$f":"'2016 syoa'!BQ22-'2011 syoa'!BQ22","v":31},{"$f":"'2016 syoa'!BR22-'2011 syoa'!BR22","v":41},{"$f":"'2016 syoa'!BS22-'2011 syoa'!BS22","v":28},{"$f":"'2016 syoa'!BT22-'2011 syoa'!BT22","v":-23},{"$f":"'2016 syoa'!BU22-'2011 syoa'!BU22","v":-9},{"$f":"'2016 syoa'!BV22-'2011 syoa'!BV22","v":-20},{"$f":"'2016 syoa'!BW22-'2011 syoa'!BW22","v":-2},{"$f":"'2016 syoa'!BX22-'2011 syoa'!BX22","v":-18},{"$f":"'2016 syoa'!BY22-'2011 syoa'!BY22","v":-14},{"$f":"'2016 syoa'!BZ22-'2011 syoa'!BZ22","v":-21},{"$f":"'2016 syoa'!CA22-'2011 syoa'!CA22","v":-2},{"$f":"'2016 syoa'!CB22-'2011 syoa'!CB22","v":-19},{"$f":"'2016 syoa'!CC22-'2011 syoa'!CC22","v":-4},{"$f":"'2016 syoa'!CD22-'2011 syoa'!CD22","v":4},{"$f":"'2016 syoa'!CE22-'2011 syoa'!CE22","v":-9},{"$f":"'2016 syoa'!CF22-'2011 syoa'!CF22","v":-25},{"$f":"'2016 syoa'!CG22-'2011 syoa'!CG22","v":-9},{"$f":"'2016 syoa'!CH22-'2011 syoa'!CH22","v":12},{"$f":"'2016 syoa'!CI22-'2011 syoa'!CI22","v":-9},{"$f":"'2016 syoa'!CJ22-'2011 syoa'!CJ22","v":9},{"$f":"'2016 syoa'!CK22-'2011 syoa'!CK22","v":18},{"$f":"'2016 syoa'!CL22-'2011 syoa'!CL22","v":18},{"$f":"'2016 syoa'!CM22-'2011 syoa'!CM22","v":9},{"$f":"'2016 syoa'!CN22-'2011 syoa'!CN22","v":8},{"$f":"'2016 syoa'!CO22-'2011 syoa'!CO22","v":-5},{"$f":"'2016 syoa'!CP22-'2011 syoa'!CP22","v":4},{"$f":"'2016 syoa'!CQ22-'2011 syoa'!CQ22","v":18},{"$f":"'2016 syoa'!CR22-'2011 syoa'!CR22","v":919},{"$f":"'2016 syoa'!CS22-'2011 syoa'!CS22","v":-20},{"$f":"'2016 syoa'!CT22-'2011 syoa'!CT22","v":25},{"$f":"'2016 syoa'!CU22-'2011 syoa'!CU22","v":-23},{"$f":"'2016 syoa'!CV22-'2011 syoa'!CV22","v":-5},{"$f":"'2016 syoa'!CW22-'2011 syoa'!CW22","v":6},{"$f":"'2016 syoa'!CX22-'2011 syoa'!CX22","v":-18},{"$f":"'2016 syoa'!CY22-'2011 syoa'!CY22","v":-18},{"$f":"'2016 syoa'!CZ22-'2011 syoa'!CZ22","v":-8},{"$f":"'2016 syoa'!DA22-'2011 syoa'!DA22","v":14},{"$f":"'2016 syoa'!DB22-'2011 syoa'!DB22","v":41},{"$f":"'2016 syoa'!DC22-'2011 syoa'!DC22","v":59},{"$f":"'2016 syoa'!DD22-'2011 syoa'!DD22","v":4},{"$f":"'2016 syoa'!DE22-'2011 syoa'!DE22","v":52},{"$f":"'2016 syoa'!DF22-'2011 syoa'!DF22","v":31},{"$f":"'2016 syoa'!DG22-'2011 syoa'!DG22","v":7},{"$f":"'2016 syoa'!DH22-'2011 syoa'!DH22","v":-8},{"$f":"'2016 syoa'!DI22-'2011 syoa'!DI22","v":48},{"$f":"'2016 syoa'!DJ22-'2011 syoa'!DJ22","v":-8},{"$f":"'2016 syoa'!DK22-'2011 syoa'!DK22","v":19},{"$f":"'2016 syoa'!DL22-'2011 syoa'!DL22","v":22},{"$f":"'2016 syoa'!DM22-'2011 syoa'!DM22","v":23},{"$f":"'2016 syoa'!DN22-'2011 syoa'!DN22","v":-2},{"$f":"'2016 syoa'!DO22-'2011 syoa'!DO22","v":-11},{"$f":"'2016 syoa'!DP22-'2011 syoa'!DP22","v":-27},{"$f":"'2016 syoa'!DQ22-'2011 syoa'!DQ22","v":-8},{"$f":"'2016 syoa'!DR22-'2011 syoa'!DR22","v":-12},{"$f":"'2016 syoa'!DS22-'2011 syoa'!DS22","v":13},{"$f":"'2016 syoa'!DT22-'2011 syoa'!DT22","v":-3},{"$f":"'2016 syoa'!DU22-'2011 syoa'!DU22","v":30},{"$f":"'2016 syoa'!DV22-'2011 syoa'!DV22","v":3},{"$f":"'2016 syoa'!DW22-'2011 syoa'!DW22","v":-4},{"$f":"'2016 syoa'!DX22-'2011 syoa'!DX22","v":9},{"$f":"'2016 syoa'!DY22-'2011 syoa'!DY22","v":-1},{"$f":"'2016 syoa'!DZ22-'2011 syoa'!DZ22","v":-26},{"$f":"'2016 syoa'!EA22-'2011 syoa'!EA22","v":7},{"$f":"'2016 syoa'!EB22-'2011 syoa'!EB22","v":0},{"$f":"'2016 syoa'!EC22-'2011 syoa'!EC22","v":67},{"$f":"'2016 syoa'!ED22-'2011 syoa'!ED22","v":63},{"$f":"'2016 syoa'!EE22-'2011 syoa'!EE22","v":17},{"$f":"'2016 syoa'!EF22-'2011 syoa'!EF22","v":48},{"$f":"'2016 syoa'!EG22-'2011 syoa'!EG22","v":11},{"$f":"'2016 syoa'!EH22-'2011 syoa'!EH22","v":20},{"$f":"'2016 syoa'!EI22-'2011 syoa'!EI22","v":0},{"$f":"'2016 syoa'!EJ22-'2011 syoa'!EJ22","v":44},{"$f":"'2016 syoa'!EK22-'2011 syoa'!EK22","v":29},{"$f":"'2016 syoa'!EL22-'2011 syoa'!EL22","v":32},{"$f":"'2016 syoa'!EM22-'2011 syoa'!EM22","v":12},{"$f":"'2016 syoa'!EN22-'2011 syoa'!EN22","v":2},{"$f":"'2016 syoa'!EO22-'2011 syoa'!EO22","v":-41},{"$f":"'2016 syoa'!EP22-'2011 syoa'!EP22","v":15},{"$f":"'2016 syoa'!EQ22-'2011 syoa'!EQ22","v":51},{"$f":"'2016 syoa'!ER22-'2011 syoa'!ER22","v":7},{"$f":"'2016 syoa'!ES22-'2011 syoa'!ES22","v":39},{"$f":"'2016 syoa'!ET22-'2011 syoa'!ET22","v":60},{"$f":"'2016 syoa'!EU22-'2011 syoa'!EU22","v":1},{"$f":"'2016 syoa'!EV22-'2011 syoa'!EV22","v":19},{"$f":"'2016 syoa'!EW22-'2011 syoa'!EW22","v":22},{"$f":"'2016 syoa'!EX22-'2011 syoa'!EX22","v":12},{"$f":"'2016 syoa'!EY22-'2011 syoa'!EY22","v":-5},{"$f":"'2016 syoa'!EZ22-'2011 syoa'!EZ22","v":14},{"$f":"'2016 syoa'!FA22-'2011 syoa'!FA22","v":26},{"$f":"'2016 syoa'!FB22-'2011 syoa'!FB22","v":9},{"$f":"'2016 syoa'!FC22-'2011 syoa'!FC22","v":34},{"$f":"'2016 syoa'!FD22-'2011 syoa'!FD22","v":46},{"$f":"'2016 syoa'!FE22-'2011 syoa'!FE22","v":38},{"$f":"'2016 syoa'!FF22-'2011 syoa'!FF22","v":23},{"$f":"'2016 syoa'!FG22-'2011 syoa'!FG22","v":16},{"$f":"'2016 syoa'!FH22-'2011 syoa'!FH22","v":-27},{"$f":"'2016 syoa'!FI22-'2011 syoa'!FI22","v":3},{"$f":"'2016 syoa'!FJ22-'2011 syoa'!FJ22","v":-23},{"$f":"'2016 syoa'!FK22-'2011 syoa'!FK22","v":-2},{"$f":"'2016 syoa'!FL22-'2011 syoa'!FL22","v":-31},{"$f":"'2016 syoa'!FM22-'2011 syoa'!FM22","v":3},{"$f":"'2016 syoa'!FN22-'2011 syoa'!FN22","v":-15},{"$f":"'2016 syoa'!FO22-'2011 syoa'!FO22","v":-3},{"$f":"'2016 syoa'!FP22-'2011 syoa'!FP22","v":-17},{"$f":"'2016 syoa'!FQ22-'2011 syoa'!FQ22","v":0},{"$f":"'2016 syoa'!FR22-'2011 syoa'!FR22","v":3},{"$f":"'2016 syoa'!FS22-'2011 syoa'!FS22","v":6},{"$f":"'2016 syoa'!FT22-'2011 syoa'!FT22","v":10},{"$f":"'2016 syoa'!FU22-'2011 syoa'!FU22","v":7},{"$f":"'2016 syoa'!FV22-'2011 syoa'!FV22","v":4},{"$f":"'2016 syoa'!FW22-'2011 syoa'!FW22","v":-3},{"$f":"'2016 syoa'!FX22-'2011 syoa'!FX22","v":0},{"$f":"'2016 syoa'!FY22-'2011 syoa'!FY22","v":8},{"$f":"'2016 syoa'!FZ22-'2011 syoa'!FZ22","v":2},{"$f":"'2016 syoa'!GA22-'2011 syoa'!GA22","v":16},{"$f":"'2016 syoa'!GB22-'2011 syoa'!GB22","v":8},{"$f":"'2016 syoa'!GC22-'2011 syoa'!GC22","v":12},{"$f":"'2016 syoa'!GD22-'2011 syoa'!GD22","v":6},{"$f":"'2016 syoa'!GE22-'2011 syoa'!GE22","v":10}]
["Moseley and Kings Heath","Hall Green","E05001196",{"$f":"'2016 syoa'!D23-'2011 syoa'!D23","v":-143},{"$f":"'2016 syoa'!E23-'2011 syoa'!E23","v":-23},{"$f":"'2016 syoa'!F23-'2011 syoa'!F23","v":-20},{"$f":"'2016 syoa'!G23-'2011 syoa'!G23","v":-11},{"$f":"'2016 syoa'!H23-'2011 syoa'!H23","v":11},{"$f":"'2016 syoa'!I23-'2011 syoa'!I23","v":8},{"$f":"'2016 syoa'!J23-'2011 syoa'!J23","v":5},{"$f":"'2016 syoa'!K23-'2011 syoa'!K23","v":25},{"$f":"'2016 syoa'!L23-'2011 syoa'!L23","v":38},{"$f":"'2016 syoa'!M23-'2011 syoa'!M23","v":2},{"$f":"'2016 syoa'!N23-'2011 syoa'!N23","v":4},{"$f":"'2016 syoa'!O23-'2011 syoa'!O23","v":10},{"$f":"'2016 syoa'!P23-'2011 syoa'!P23","v":-15},{"$f":"'2016 syoa'!Q23-'2011 syoa'!Q23","v":-23},{"$f":"'2016 syoa'!R23-'2011 syoa'!R23","v":-13},{"$f":"'2016 syoa'!S23-'2011 syoa'!S23","v":-49},{"$f":"'2016 syoa'!T23-'2011 syoa'!T23","v":-5},{"$f":"'2016 syoa'!U23-'2011 syoa'!U23","v":-5},{"$f":"'2016 syoa'!V23-'2011 syoa'!V23","v":19},{"$f":"'2016 syoa'!W23-'2011 syoa'!W23","v":16},{"$f":"'2016 syoa'!X23-'2011 syoa'!X23","v":-6},{"$f":"'2016 syoa'!Y23-'2011 syoa'!Y23","v":29},{"$f":"'2016 syoa'!Z23-'2011 syoa'!Z23","v":8},{"$f":"'2016 syoa'!AA23-'2011 syoa'!AA23","v":14},{"$f":"'2016 syoa'!AB23-'2011 syoa'!AB23","v":-12},{"$f":"'2016 syoa'!AC23-'2011 syoa'!AC23","v":-22},{"$f":"'2016 syoa'!AD23-'2011 syoa'!AD23","v":-1},{"$f":"'2016 syoa'!AE23-'2011 syoa'!AE23","v":-1},{"$f":"'2016 syoa'!AF23-'2011 syoa'!AF23","v":-69},{"$f":"'2016 syoa'!AG23-'2011 syoa'!AG23","v":-20},{"$f":"'2016 syoa'!AH23-'2011 syoa'!AH23","v":-56},{"$f":"'2016 syoa'!AI23-'2011 syoa'!AI23","v":-31},{"$f":"'2016 syoa'!AJ23-'2011 syoa'!AJ23","v":-53},{"$f":"'2016 syoa'!AK23-'2011 syoa'!AK23","v":-44},{"$f":"'2016 syoa'!AL23-'2011 syoa'!AL23","v":-32},{"$f":"'2016 syoa'!AM23-'2011 syoa'!AM23","v":-23},{"$f":"'2016 syoa'!AN23-'2011 syoa'!AN23","v":-19},{"$f":"'2016 syoa'!AO23-'2011 syoa'!AO23","v":-29},{"$f":"'2016 syoa'!AP23-'2011 syoa'!AP23","v":9},{"$f":"'2016 syoa'!AQ23-'2011 syoa'!AQ23","v":-25},{"$f":"'2016 syoa'!AR23-'2011 syoa'!AR23","v":-24},{"$f":"'2016 syoa'!AS23-'2011 syoa'!AS23","v":-16},{"$f":"'2016 syoa'!AT23-'2011 syoa'!AT23","v":-24},{"$f":"'2016 syoa'!AU23-'2011 syoa'!AU23","v":1},{"$f":"'2016 syoa'!AV23-'2011 syoa'!AV23","v":8},{"$f":"'2016 syoa'!AW23-'2011 syoa'!AW23","v":-31},{"$f":"'2016 syoa'!AX23-'2011 syoa'!AX23","v":13},{"$f":"'2016 syoa'!AY23-'2011 syoa'!AY23","v":-14},{"$f":"'2016 syoa'!AZ23-'2011 syoa'!AZ23","v":-12},{"$f":"'2016 syoa'!BA23-'2011 syoa'!BA23","v":40},{"$f":"'2016 syoa'!BB23-'2011 syoa'!BB23","v":33},{"$f":"'2016 syoa'!BC23-'2011 syoa'!BC23","v":42},{"$f":"'2016 syoa'!BD23-'2011 syoa'!BD23","v":1},{"$f":"'2016 syoa'!BE23-'2011 syoa'!BE23","v":32},{"$f":"'2016 syoa'!BF23-'2011 syoa'!BF23","v":11},{"$f":"'2016 syoa'!BG23-'2011 syoa'!BG23","v":-13},{"$f":"'2016 syoa'!BH23-'2011 syoa'!BH23","v":-34},{"$f":"'2016 syoa'!BI23-'2011 syoa'!BI23","v":9},{"$f":"'2016 syoa'!BJ23-'2011 syoa'!BJ23","v":-17},{"$f":"'2016 syoa'!BK23-'2011 syoa'!BK23","v":-12},{"$f":"'2016 syoa'!BL23-'2011 syoa'!BL23","v":27},{"$f":"'2016 syoa'!BM23-'2011 syoa'!BM23","v":25},{"$f":"'2016 syoa'!BN23-'2011 syoa'!BN23","v":-26},{"$f":"'2016 syoa'!BO23-'2011 syoa'!BO23","v":1},{"$f":"'2016 syoa'!BP23-'2011 syoa'!BP23","v":42},{"$f":"'2016 syoa'!BQ23-'2011 syoa'!BQ23","v":-1},{"$f":"'2016 syoa'!BR23-'2011 syoa'!BR23","v":30},{"$f":"'2016 syoa'!BS23-'2011 syoa'!BS23","v":18},{"$f":"'2016 syoa'!BT23-'2011 syoa'!BT23","v":43},{"$f":"'2016 syoa'!BU23-'2011 syoa'!BU23","v":29},{"$f":"'2016 syoa'!BV23-'2011 syoa'!BV23","v":30},{"$f":"'2016 syoa'!BW23-'2011 syoa'!BW23","v":-2},{"$f":"'2016 syoa'!BX23-'2011 syoa'!BX23","v":24},{"$f":"'2016 syoa'!BY23-'2011 syoa'!BY23","v":0},{"$f":"'2016 syoa'!BZ23-'2011 syoa'!BZ23","v":8},{"$f":"'2016 syoa'!CA23-'2011 syoa'!CA23","v":5},{"$f":"'2016 syoa'!CB23-'2011 syoa'!CB23","v":-24},{"$f":"'2016 syoa'!CC23-'2011 syoa'!CC23","v":-18},{"$f":"'2016 syoa'!CD23-'2011 syoa'!CD23","v":-13},{"$f":"'2016 syoa'!CE23-'2011 syoa'!CE23","v":-10},{"$f":"'2016 syoa'!CF23-'2011 syoa'!CF23","v":8},{"$f":"'2016 syoa'!CG23-'2011 syoa'!CG23","v":5},{"$f":"'2016 syoa'!CH23-'2011 syoa'!CH23","v":8},{"$f":"'2016 syoa'!CI23-'2011 syoa'!CI23","v":15},{"$f":"'2016 syoa'!CJ23-'2011 syoa'!CJ23","v":14},{"$f":"'2016 syoa'!CK23-'2011 syoa'!CK23","v":1},{"$f":"'2016 syoa'!CL23-'2011 syoa'!CL23","v":-5},{"$f":"'2016 syoa'!CM23-'2011 syoa'!CM23","v":19},{"$f":"'2016 syoa'!CN23-'2011 syoa'!CN23","v":2},{"$f":"'2016 syoa'!CO23-'2011 syoa'!CO23","v":-4},{"$f":"'2016 syoa'!CP23-'2011 syoa'!CP23","v":2},{"$f":"'2016 syoa'!CQ23-'2011 syoa'!CQ23","v":20},{"$f":"'2016 syoa'!CR23-'2011 syoa'!CR23","v":63},{"$f":"'2016 syoa'!CS23-'2011 syoa'!CS23","v":-1},{"$f":"'2016 syoa'!CT23-'2011 syoa'!CT23","v":-23},{"$f":"'2016 syoa'!CU23-'2011 syoa'!CU23","v":-3},{"$f":"'2016 syoa'!CV23-'2011 syoa'!CV23","v":25},{"$f":"'2016 syoa'!CW23-'2011 syoa'!CW23","v":-8},{"$f":"'2016 syoa'!CX23-'2011 syoa'!CX23","v":-16},{"$f":"'2016 syoa'!CY23-'2011 syoa'!CY23","v":-10},{"$f":"'2016 syoa'!CZ23-'2011 syoa'!CZ23","v":-18},{"$f":"'2016 syoa'!DA23-'2011 syoa'!DA23","v":11},{"$f":"'2016 syoa'!DB23-'2011 syoa'!DB23","v":21},{"$f":"'2016 syoa'!DC23-'2011 syoa'!DC23","v":-9},{"$f":"'2016 syoa'!DD23-'2011 syoa'!DD23","v":-26},{"$f":"'2016 syoa'!DE23-'2011 syoa'!DE23","v":-1},{"$f":"'2016 syoa'!DF23-'2011 syoa'!DF23","v":4},{"$f":"'2016 syoa'!DG23-'2011 syoa'!DG23","v":-4},{"$f":"'2016 syoa'!DH23-'2011 syoa'!DH23","v":-31},{"$f":"'2016 syoa'!DI23-'2011 syoa'!DI23","v":-11},{"$f":"'2016 syoa'!DJ23-'2011 syoa'!DJ23","v":-17},{"$f":"'2016 syoa'!DK23-'2011 syoa'!DK23","v":-20},{"$f":"'2016 syoa'!DL23-'2011 syoa'!DL23","v":-35},{"$f":"'2016 syoa'!DM23-'2011 syoa'!DM23","v":8},{"$f":"'2016 syoa'!DN23-'2011 syoa'!DN23","v":-8},{"$f":"'2016 syoa'!DO23-'2011 syoa'!DO23","v":1},{"$f":"'2016 syoa'!DP23-'2011 syoa'!DP23","v":1},{"$f":"'2016 syoa'!DQ23-'2011 syoa'!DQ23","v":17},{"$f":"'2016 syoa'!DR23-'2011 syoa'!DR23","v":36},{"$f":"'2016 syoa'!DS23-'2011 syoa'!DS23","v":-26},{"$f":"'2016 syoa'!DT23-'2011 syoa'!DT23","v":-22},{"$f":"'2016 syoa'!DU23-'2011 syoa'!DU23","v":-63},{"$f":"'2016 syoa'!DV23-'2011 syoa'!DV23","v":-6},{"$f":"'2016 syoa'!DW23-'2011 syoa'!DW23","v":-6},{"$f":"'2016 syoa'!DX23-'2011 syoa'!DX23","v":-51},{"$f":"'2016 syoa'!DY23-'2011 syoa'!DY23","v":7},{"$f":"'2016 syoa'!DZ23-'2011 syoa'!DZ23","v":13},{"$f":"'2016 syoa'!EA23-'2011 syoa'!EA23","v":16},{"$f":"'2016 syoa'!EB23-'2011 syoa'!EB23","v":19},{"$f":"'2016 syoa'!EC23-'2011 syoa'!EC23","v":-2},{"$f":"'2016 syoa'!ED23-'2011 syoa'!ED23","v":2},{"$f":"'2016 syoa'!EE23-'2011 syoa'!EE23","v":7},{"$f":"'2016 syoa'!EF23-'2011 syoa'!EF23","v":-30},{"$f":"'2016 syoa'!EG23-'2011 syoa'!EG23","v":15},{"$f":"'2016 syoa'!EH23-'2011 syoa'!EH23","v":-8},{"$f":"'2016 syoa'!EI23-'2011 syoa'!EI23","v":-43},{"$f":"'2016 syoa'!EJ23-'2011 syoa'!EJ23","v":-25},{"$f":"'2016 syoa'!EK23-'2011 syoa'!EK23","v":29},{"$f":"'2016 syoa'!EL23-'2011 syoa'!EL23","v":-17},{"$f":"'2016 syoa'!EM23-'2011 syoa'!EM23","v":23},{"$f":"'2016 syoa'!EN23-'2011 syoa'!EN23","v":37},{"$f":"'2016 syoa'!EO23-'2011 syoa'!EO23","v":0},{"$f":"'2016 syoa'!EP23-'2011 syoa'!EP23","v":-1},{"$f":"'2016 syoa'!EQ23-'2011 syoa'!EQ23","v":14},{"$f":"'2016 syoa'!ER23-'2011 syoa'!ER23","v":2},{"$f":"'2016 syoa'!ES23-'2011 syoa'!ES23","v":15},{"$f":"'2016 syoa'!ET23-'2011 syoa'!ET23","v":-1},{"$f":"'2016 syoa'!EU23-'2011 syoa'!EU23","v":26},{"$f":"'2016 syoa'!EV23-'2011 syoa'!EV23","v":16},{"$f":"'2016 syoa'!EW23-'2011 syoa'!EW23","v":12},{"$f":"'2016 syoa'!EX23-'2011 syoa'!EX23","v":-8},{"$f":"'2016 syoa'!EY23-'2011 syoa'!EY23","v":-11},{"$f":"'2016 syoa'!EZ23-'2011 syoa'!EZ23","v":27},{"$f":"'2016 syoa'!FA23-'2011 syoa'!FA23","v":20},{"$f":"'2016 syoa'!FB23-'2011 syoa'!FB23","v":-15},{"$f":"'2016 syoa'!FC23-'2011 syoa'!FC23","v":22},{"$f":"'2016 syoa'!FD23-'2011 syoa'!FD23","v":12},{"$f":"'2016 syoa'!FE23-'2011 syoa'!FE23","v":-10},{"$f":"'2016 syoa'!FF23-'2011 syoa'!FF23","v":19},{"$f":"'2016 syoa'!FG23-'2011 syoa'!FG23","v":42},{"$f":"'2016 syoa'!FH23-'2011 syoa'!FH23","v":12},{"$f":"'2016 syoa'!FI23-'2011 syoa'!FI23","v":29},{"$f":"'2016 syoa'!FJ23-'2011 syoa'!FJ23","v":55},{"$f":"'2016 syoa'!FK23-'2011 syoa'!FK23","v":18},{"$f":"'2016 syoa'!FL23-'2011 syoa'!FL23","v":20},{"$f":"'2016 syoa'!FM23-'2011 syoa'!FM23","v":-1},{"$f":"'2016 syoa'!FN23-'2011 syoa'!FN23","v":4},{"$f":"'2016 syoa'!FO23-'2011 syoa'!FO23","v":-20},{"$f":"'2016 syoa'!FP23-'2011 syoa'!FP23","v":-11},{"$f":"'2016 syoa'!FQ23-'2011 syoa'!FQ23","v":-8},{"$f":"'2016 syoa'!FR23-'2011 syoa'!FR23","v":8},{"$f":"'2016 syoa'!FS23-'2011 syoa'!FS23","v":-4},{"$f":"'2016 syoa'!FT23-'2011 syoa'!FT23","v":5},{"$f":"'2016 syoa'!FU23-'2011 syoa'!FU23","v":-4},{"$f":"'2016 syoa'!FV23-'2011 syoa'!FV23","v":11},{"$f":"'2016 syoa'!FW23-'2011 syoa'!FW23","v":5},{"$f":"'2016 syoa'!FX23-'2011 syoa'!FX23","v":3},{"$f":"'2016 syoa'!FY23-'2011 syoa'!FY23","v":25},{"$f":"'2016 syoa'!FZ23-'2011 syoa'!FZ23","v":-10},{"$f":"'2016 syoa'!GA23-'2011 syoa'!GA23","v":3},{"$f":"'2016 syoa'!GB23-'2011 syoa'!GB23","v":0},{"$f":"'2016 syoa'!GC23-'2011 syoa'!GC23","v":0},{"$f":"'2016 syoa'!GD23-'2011 syoa'!GD23","v":-7},{"$f":"'2016 syoa'!GE23-'2011 syoa'!GE23","v":-3}]
["Nechells","Ladywood","E05001197",{"$f":"'2016 syoa'!D24-'2011 syoa'!D24","v":2600},{"$f":"'2016 syoa'!E24-'2011 syoa'!E24","v":26},{"$f":"'2016 syoa'!F24-'2011 syoa'!F24","v":1},{"$f":"'2016 syoa'!G24-'2011 syoa'!G24","v":-1},{"$f":"'2016 syoa'!H24-'2011 syoa'!H24","v":-4},{"$f":"'2016 syoa'!I24-'2011 syoa'!I24","v":24},{"$f":"'2016 syoa'!J24-'2011 syoa'!J24","v":-3},{"$f":"'2016 syoa'!K24-'2011 syoa'!K24","v":14},{"$f":"'2016 syoa'!L24-'2011 syoa'!L24","v":-4},{"$f":"'2016 syoa'!M24-'2011 syoa'!M24","v":45},{"$f":"'2016 syoa'!N24-'2011 syoa'!N24","v":52},{"$f":"'2016 syoa'!O24-'2011 syoa'!O24","v":92},{"$f":"'2016 syoa'!P24-'2011 syoa'!P24","v":-10},{"$f":"'2016 syoa'!Q24-'2011 syoa'!Q24","v":29},{"$f":"'2016 syoa'!R24-'2011 syoa'!R24","v":-3},{"$f":"'2016 syoa'!S24-'2011 syoa'!S24","v":5},{"$f":"'2016 syoa'!T24-'2011 syoa'!T24","v":56},{"$f":"'2016 syoa'!U24-'2011 syoa'!U24","v":79},{"$f":"'2016 syoa'!V24-'2011 syoa'!V24","v":45},{"$f":"'2016 syoa'!W24-'2011 syoa'!W24","v":103},{"$f":"'2016 syoa'!X24-'2011 syoa'!X24","v":99},{"$f":"'2016 syoa'!Y24-'2011 syoa'!Y24","v":29},{"$f":"'2016 syoa'!Z24-'2011 syoa'!Z24","v":132},{"$f":"'2016 syoa'!AA24-'2011 syoa'!AA24","v":133},{"$f":"'2016 syoa'!AB24-'2011 syoa'!AB24","v":167},{"$f":"'2016 syoa'!AC24-'2011 syoa'!AC24","v":208},{"$f":"'2016 syoa'!AD24-'2011 syoa'!AD24","v":171},{"$f":"'2016 syoa'!AE24-'2011 syoa'!AE24","v":138},{"$f":"'2016 syoa'!AF24-'2011 syoa'!AF24","v":91},{"$f":"'2016 syoa'!AG24-'2011 syoa'!AG24","v":85},{"$f":"'2016 syoa'!AH24-'2011 syoa'!AH24","v":42},{"$f":"'2016 syoa'!AI24-'2011 syoa'!AI24","v":21},{"$f":"'2016 syoa'!AJ24-'2011 syoa'!AJ24","v":-10},{"$f":"'2016 syoa'!AK24-'2011 syoa'!AK24","v":13},{"$f":"'2016 syoa'!AL24-'2011 syoa'!AL24","v":12},{"$f":"'2016 syoa'!AM24-'2011 syoa'!AM24","v":68},{"$f":"'2016 syoa'!AN24-'2011 syoa'!AN24","v":16},{"$f":"'2016 syoa'!AO24-'2011 syoa'!AO24","v":27},{"$f":"'2016 syoa'!AP24-'2011 syoa'!AP24","v":34},{"$f":"'2016 syoa'!AQ24-'2011 syoa'!AQ24","v":5},{"$f":"'2016 syoa'!AR24-'2011 syoa'!AR24","v":24},{"$f":"'2016 syoa'!AS24-'2011 syoa'!AS24","v":3},{"$f":"'2016 syoa'!AT24-'2011 syoa'!AT24","v":16},{"$f":"'2016 syoa'!AU24-'2011 syoa'!AU24","v":26},{"$f":"'2016 syoa'!AV24-'2011 syoa'!AV24","v":25},{"$f":"'2016 syoa'!AW24-'2011 syoa'!AW24","v":-4},{"$f":"'2016 syoa'!AX24-'2011 syoa'!AX24","v":10},{"$f":"'2016 syoa'!AY24-'2011 syoa'!AY24","v":31},{"$f":"'2016 syoa'!AZ24-'2011 syoa'!AZ24","v":34},{"$f":"'2016 syoa'!BA24-'2011 syoa'!BA24","v":35},{"$f":"'2016 syoa'!BB24-'2011 syoa'!BB24","v":-5},{"$f":"'2016 syoa'!BC24-'2011 syoa'!BC24","v":41},{"$f":"'2016 syoa'!BD24-'2011 syoa'!BD24","v":16},{"$f":"'2016 syoa'!BE24-'2011 syoa'!BE24","v":20},{"$f":"'2016 syoa'!BF24-'2011 syoa'!BF24","v":18},{"$f":"'2016 syoa'!BG24-'2011 syoa'!BG24","v":53},{"$f":"'2016 syoa'!BH24-'2011 syoa'!BH24","v":16},{"$f":"'2016 syoa'!BI24-'2011 syoa'!BI24","v":35},{"$f":"'2016 syoa'!BJ24-'2011 syoa'!BJ24","v":50},{"$f":"'2016 syoa'!BK24-'2011 syoa'!BK24","v":31},{"$f":"'2016 syoa'!BL24-'2011 syoa'!BL24","v":26},{"$f":"'2016 syoa'!BM24-'2011 syoa'!BM24","v":42},{"$f":"'2016 syoa'!BN24-'2011 syoa'!BN24","v":15},{"$f":"'2016 syoa'!BO24-'2011 syoa'!BO24","v":18},{"$f":"'2016 syoa'!BP24-'2011 syoa'!BP24","v":23},{"$f":"'2016 syoa'!BQ24-'2011 syoa'!BQ24","v":-1},{"$f":"'2016 syoa'!BR24-'2011 syoa'!BR24","v":6},{"$f":"'2016 syoa'!BS24-'2011 syoa'!BS24","v":24},{"$f":"'2016 syoa'!BT24-'2011 syoa'!BT24","v":-31},{"$f":"'2016 syoa'!BU24-'2011 syoa'!BU24","v":-7},{"$f":"'2016 syoa'!BV24-'2011 syoa'!BV24","v":5},{"$f":"'2016 syoa'!BW24-'2011 syoa'!BW24","v":-6},{"$f":"'2016 syoa'!BX24-'2011 syoa'!BX24","v":-29},{"$f":"'2016 syoa'!BY24-'2011 syoa'!BY24","v":-8},{"$f":"'2016 syoa'!BZ24-'2011 syoa'!BZ24","v":-16},{"$f":"'2016 syoa'!CA24-'2011 syoa'!CA24","v":-11},{"$f":"'2016 syoa'!CB24-'2011 syoa'!CB24","v":-18},{"$f":"'2016 syoa'!CC24-'2011 syoa'!CC24","v":-2},{"$f":"'2016 syoa'!CD24-'2011 syoa'!CD24","v":-3},{"$f":"'2016 syoa'!CE24-'2011 syoa'!CE24","v":0},{"$f":"'2016 syoa'!CF24-'2011 syoa'!CF24","v":10},{"$f":"'2016 syoa'!CG24-'2011 syoa'!CG24","v":5},{"$f":"'2016 syoa'!CH24-'2011 syoa'!CH24","v":7},{"$f":"'2016 syoa'!CI24-'2011 syoa'!CI24","v":0},{"$f":"'2016 syoa'!CJ24-'2011 syoa'!CJ24","v":14},{"$f":"'2016 syoa'!CK24-'2011 syoa'!CK24","v":1},{"$f":"'2016 syoa'!CL24-'2011 syoa'!CL24","v":13},{"$f":"'2016 syoa'!CM24-'2011 syoa'!CM24","v":-4},{"$f":"'2016 syoa'!CN24-'2011 syoa'!CN24","v":-3},{"$f":"'2016 syoa'!CO24-'2011 syoa'!CO24","v":0},{"$f":"'2016 syoa'!CP24-'2011 syoa'!CP24","v":7},{"$f":"'2016 syoa'!CQ24-'2011 syoa'!CQ24","v":21},{"$f":"'2016 syoa'!CR24-'2011 syoa'!CR24","v":2451},{"$f":"'2016 syoa'!CS24-'2011 syoa'!CS24","v":-32},{"$f":"'2016 syoa'!CT24-'2011 syoa'!CT24","v":61},{"$f":"'2016 syoa'!CU24-'2011 syoa'!CU24","v":-19},{"$f":"'2016 syoa'!CV24-'2011 syoa'!CV24","v":45},{"$f":"'2016 syoa'!CW24-'2011 syoa'!CW24","v":20},{"$f":"'2016 syoa'!CX24-'2011 syoa'!CX24","v":4},{"$f":"'2016 syoa'!CY24-'2011 syoa'!CY24","v":0},{"$f":"'2016 syoa'!CZ24-'2011 syoa'!CZ24","v":64},{"$f":"'2016 syoa'!DA24-'2011 syoa'!DA24","v":-4},{"$f":"'2016 syoa'!DB24-'2011 syoa'!DB24","v":55},{"$f":"'2016 syoa'!DC24-'2011 syoa'!DC24","v":14},{"$f":"'2016 syoa'!DD24-'2011 syoa'!DD24","v":20},{"$f":"'2016 syoa'!DE24-'2011 syoa'!DE24","v":24},{"$f":"'2016 syoa'!DF24-'2011 syoa'!DF24","v":11},{"$f":"'2016 syoa'!DG24-'2011 syoa'!DG24","v":14},{"$f":"'2016 syoa'!DH24-'2011 syoa'!DH24","v":58},{"$f":"'2016 syoa'!DI24-'2011 syoa'!DI24","v":10},{"$f":"'2016 syoa'!DJ24-'2011 syoa'!DJ24","v":1},{"$f":"'2016 syoa'!DK24-'2011 syoa'!DK24","v":102},{"$f":"'2016 syoa'!DL24-'2011 syoa'!DL24","v":248},{"$f":"'2016 syoa'!DM24-'2011 syoa'!DM24","v":150},{"$f":"'2016 syoa'!DN24-'2011 syoa'!DN24","v":124},{"$f":"'2016 syoa'!DO24-'2011 syoa'!DO24","v":171},{"$f":"'2016 syoa'!DP24-'2011 syoa'!DP24","v":158},{"$f":"'2016 syoa'!DQ24-'2011 syoa'!DQ24","v":230},{"$f":"'2016 syoa'!DR24-'2011 syoa'!DR24","v":71},{"$f":"'2016 syoa'!DS24-'2011 syoa'!DS24","v":20},{"$f":"'2016 syoa'!DT24-'2011 syoa'!DT24","v":16},{"$f":"'2016 syoa'!DU24-'2011 syoa'!DU24","v":18},{"$f":"'2016 syoa'!DV24-'2011 syoa'!DV24","v":-7},{"$f":"'2016 syoa'!DW24-'2011 syoa'!DW24","v":25},{"$f":"'2016 syoa'!DX24-'2011 syoa'!DX24","v":17},{"$f":"'2016 syoa'!DY24-'2011 syoa'!DY24","v":53},{"$f":"'2016 syoa'!DZ24-'2011 syoa'!DZ24","v":48},{"$f":"'2016 syoa'!EA24-'2011 syoa'!EA24","v":41},{"$f":"'2016 syoa'!EB24-'2011 syoa'!EB24","v":62},{"$f":"'2016 syoa'!EC24-'2011 syoa'!EC24","v":59},{"$f":"'2016 syoa'!ED24-'2011 syoa'!ED24","v":18},{"$f":"'2016 syoa'!EE24-'2011 syoa'!EE24","v":49},{"$f":"'2016 syoa'!EF24-'2011 syoa'!EF24","v":19},{"$f":"'2016 syoa'!EG24-'2011 syoa'!EG24","v":19},{"$f":"'2016 syoa'!EH24-'2011 syoa'!EH24","v":-22},{"$f":"'2016 syoa'!EI24-'2011 syoa'!EI24","v":18},{"$f":"'2016 syoa'!EJ24-'2011 syoa'!EJ24","v":8},{"$f":"'2016 syoa'!EK24-'2011 syoa'!EK24","v":-3},{"$f":"'2016 syoa'!EL24-'2011 syoa'!EL24","v":35},{"$f":"'2016 syoa'!EM24-'2011 syoa'!EM24","v":34},{"$f":"'2016 syoa'!EN24-'2011 syoa'!EN24","v":9},{"$f":"'2016 syoa'!EO24-'2011 syoa'!EO24","v":23},{"$f":"'2016 syoa'!EP24-'2011 syoa'!EP24","v":15},{"$f":"'2016 syoa'!EQ24-'2011 syoa'!EQ24","v":7},{"$f":"'2016 syoa'!ER24-'2011 syoa'!ER24","v":-20},{"$f":"'2016 syoa'!ES24-'2011 syoa'!ES24","v":44},{"$f":"'2016 syoa'!ET24-'2011 syoa'!ET24","v":33},{"$f":"'2016 syoa'!EU24-'2011 syoa'!EU24","v":39},{"$f":"'2016 syoa'!EV24-'2011 syoa'!EV24","v":43},{"$f":"'2016 syoa'!EW24-'2011 syoa'!EW24","v":25},{"$f":"'2016 syoa'!EX24-'2011 syoa'!EX24","v":29},{"$f":"'2016 syoa'!EY24-'2011 syoa'!EY24","v":7},{"$f":"'2016 syoa'!EZ24-'2011 syoa'!EZ24","v":-8},{"$f":"'2016 syoa'!FA24-'2011 syoa'!FA24","v":15},{"$f":"'2016 syoa'!FB24-'2011 syoa'!FB24","v":13},{"$f":"'2016 syoa'!FC24-'2011 syoa'!FC24","v":0},{"$f":"'2016 syoa'!FD24-'2011 syoa'!FD24","v":-4},{"$f":"'2016 syoa'!FE24-'2011 syoa'!FE24","v":16},{"$f":"'2016 syoa'!FF24-'2011 syoa'!FF24","v":22},{"$f":"'2016 syoa'!FG24-'2011 syoa'!FG24","v":-3},{"$f":"'2016 syoa'!FH24-'2011 syoa'!FH24","v":7},{"$f":"'2016 syoa'!FI24-'2011 syoa'!FI24","v":1},{"$f":"'2016 syoa'!FJ24-'2011 syoa'!FJ24","v":-1},{"$f":"'2016 syoa'!FK24-'2011 syoa'!FK24","v":-19},{"$f":"'2016 syoa'!FL24-'2011 syoa'!FL24","v":-13},{"$f":"'2016 syoa'!FM24-'2011 syoa'!FM24","v":-11},{"$f":"'2016 syoa'!FN24-'2011 syoa'!FN24","v":-13},{"$f":"'2016 syoa'!FO24-'2011 syoa'!FO24","v":-5},{"$f":"'2016 syoa'!FP24-'2011 syoa'!FP24","v":-9},{"$f":"'2016 syoa'!FQ24-'2011 syoa'!FQ24","v":2},{"$f":"'2016 syoa'!FR24-'2011 syoa'!FR24","v":-4},{"$f":"'2016 syoa'!FS24-'2011 syoa'!FS24","v":9},{"$f":"'2016 syoa'!FT24-'2011 syoa'!FT24","v":-2},{"$f":"'2016 syoa'!FU24-'2011 syoa'!FU24","v":9},{"$f":"'2016 syoa'!FV24-'2011 syoa'!FV24","v":17},{"$f":"'2016 syoa'!FW24-'2011 syoa'!FW24","v":5},{"$f":"'2016 syoa'!FX24-'2011 syoa'!FX24","v":5},{"$f":"'2016 syoa'!FY24-'2011 syoa'!FY24","v":3},{"$f":"'2016 syoa'!FZ24-'2011 syoa'!FZ24","v":2},{"$f":"'2016 syoa'!GA24-'2011 syoa'!GA24","v":1},{"$f":"'2016 syoa'!GB24-'2011 syoa'!GB24","v":12},{"$f":"'2016 syoa'!GC24-'2011 syoa'!GC24","v":0},{"$f":"'2016 syoa'!GD24-'2011 syoa'!GD24","v":12},{"$f":"'2016 syoa'!GE24-'2011 syoa'!GE24","v":11}]
["Northfield","Northfield","E05001198",{"$f":"'2016 syoa'!D25-'2011 syoa'!D25","v":274},{"$f":"'2016 syoa'!E25-'2011 syoa'!E25","v":27},{"$f":"'2016 syoa'!F25-'2011 syoa'!F25","v":29},{"$f":"'2016 syoa'!G25-'2011 syoa'!G25","v":-5},{"$f":"'2016 syoa'!H25-'2011 syoa'!H25","v":-18},{"$f":"'2016 syoa'!I25-'2011 syoa'!I25","v":36},{"$f":"'2016 syoa'!J25-'2011 syoa'!J25","v":-17},{"$f":"'2016 syoa'!K25-'2011 syoa'!K25","v":-12},{"$f":"'2016 syoa'!L25-'2011 syoa'!L25","v":1},{"$f":"'2016 syoa'!M25-'2011 syoa'!M25","v":32},{"$f":"'2016 syoa'!N25-'2011 syoa'!N25","v":27},{"$f":"'2016 syoa'!O25-'2011 syoa'!O25","v":69},{"$f":"'2016 syoa'!P25-'2011 syoa'!P25","v":33},{"$f":"'2016 syoa'!Q25-'2011 syoa'!Q25","v":3},{"$f":"'2016 syoa'!R25-'2011 syoa'!R25","v":-25},{"$f":"'2016 syoa'!S25-'2011 syoa'!S25","v":-56},{"$f":"'2016 syoa'!T25-'2011 syoa'!T25","v":-39},{"$f":"'2016 syoa'!U25-'2011 syoa'!U25","v":-43},{"$f":"'2016 syoa'!V25-'2011 syoa'!V25","v":-40},{"$f":"'2016 syoa'!W25-'2011 syoa'!W25","v":-18},{"$f":"'2016 syoa'!X25-'2011 syoa'!X25","v":-25},{"$f":"'2016 syoa'!Y25-'2011 syoa'!Y25","v":21},{"$f":"'2016 syoa'!Z25-'2011 syoa'!Z25","v":-14},{"$f":"'2016 syoa'!AA25-'2011 syoa'!AA25","v":0},{"$f":"'2016 syoa'!AB25-'2011 syoa'!AB25","v":7},{"$f":"'2016 syoa'!AC25-'2011 syoa'!AC25","v":31},{"$f":"'2016 syoa'!AD25-'2011 syoa'!AD25","v":84},{"$f":"'2016 syoa'!AE25-'2011 syoa'!AE25","v":19},{"$f":"'2016 syoa'!AF25-'2011 syoa'!AF25","v":33},{"$f":"'2016 syoa'!AG25-'2011 syoa'!AG25","v":-3},{"$f":"'2016 syoa'!AH25-'2011 syoa'!AH25","v":-1},{"$f":"'2016 syoa'!AI25-'2011 syoa'!AI25","v":18},{"$f":"'2016 syoa'!AJ25-'2011 syoa'!AJ25","v":31},{"$f":"'2016 syoa'!AK25-'2011 syoa'!AK25","v":0},{"$f":"'2016 syoa'!AL25-'2011 syoa'!AL25","v":2},{"$f":"'2016 syoa'!AM25-'2011 syoa'!AM25","v":11},{"$f":"'2016 syoa'!AN25-'2011 syoa'!AN25","v":20},{"$f":"'2016 syoa'!AO25-'2011 syoa'!AO25","v":-6},{"$f":"'2016 syoa'!AP25-'2011 syoa'!AP25","v":-44},{"$f":"'2016 syoa'!AQ25-'2011 syoa'!AQ25","v":-12},{"$f":"'2016 syoa'!AR25-'2011 syoa'!AR25","v":-15},{"$f":"'2016 syoa'!AS25-'2011 syoa'!AS25","v":-45},{"$f":"'2016 syoa'!AT25-'2011 syoa'!AT25","v":-26},{"$f":"'2016 syoa'!AU25-'2011 syoa'!AU25","v":-12},{"$f":"'2016 syoa'!AV25-'2011 syoa'!AV25","v":9},{"$f":"'2016 syoa'!AW25-'2011 syoa'!AW25","v":-14},{"$f":"'2016 syoa'!AX25-'2011 syoa'!AX25","v":-46},{"$f":"'2016 syoa'!AY25-'2011 syoa'!AY25","v":-50},{"$f":"'2016 syoa'!AZ25-'2011 syoa'!AZ25","v":-13},{"$f":"'2016 syoa'!BA25-'2011 syoa'!BA25","v":-20},{"$f":"'2016 syoa'!BB25-'2011 syoa'!BB25","v":16},{"$f":"'2016 syoa'!BC25-'2011 syoa'!BC25","v":22},{"$f":"'2016 syoa'!BD25-'2011 syoa'!BD25","v":33},{"$f":"'2016 syoa'!BE25-'2011 syoa'!BE25","v":22},{"$f":"'2016 syoa'!BF25-'2011 syoa'!BF25","v":12},{"$f":"'2016 syoa'!BG25-'2011 syoa'!BG25","v":2},{"$f":"'2016 syoa'!BH25-'2011 syoa'!BH25","v":14},{"$f":"'2016 syoa'!BI25-'2011 syoa'!BI25","v":19},{"$f":"'2016 syoa'!BJ25-'2011 syoa'!BJ25","v":12},{"$f":"'2016 syoa'!BK25-'2011 syoa'!BK25","v":12},{"$f":"'2016 syoa'!BL25-'2011 syoa'!BL25","v":0},{"$f":"'2016 syoa'!BM25-'2011 syoa'!BM25","v":6},{"$f":"'2016 syoa'!BN25-'2011 syoa'!BN25","v":-21},{"$f":"'2016 syoa'!BO25-'2011 syoa'!BO25","v":-40},{"$f":"'2016 syoa'!BP25-'2011 syoa'!BP25","v":17},{"$f":"'2016 syoa'!BQ25-'2011 syoa'!BQ25","v":-24},{"$f":"'2016 syoa'!BR25-'2011 syoa'!BR25","v":12},{"$f":"'2016 syoa'!BS25-'2011 syoa'!BS25","v":22},{"$f":"'2016 syoa'!BT25-'2011 syoa'!BT25","v":30},{"$f":"'2016 syoa'!BU25-'2011 syoa'!BU25","v":-16},{"$f":"'2016 syoa'!BV25-'2011 syoa'!BV25","v":69},{"$f":"'2016 syoa'!BW25-'2011 syoa'!BW25","v":21},{"$f":"'2016 syoa'!BX25-'2011 syoa'!BX25","v":17},{"$f":"'2016 syoa'!BY25-'2011 syoa'!BY25","v":25},{"$f":"'2016 syoa'!BZ25-'2011 syoa'!BZ25","v":33},{"$f":"'2016 syoa'!CA25-'2011 syoa'!CA25","v":-7},{"$f":"'2016 syoa'!CB25-'2011 syoa'!CB25","v":3},{"$f":"'2016 syoa'!CC25-'2011 syoa'!CC25","v":2},{"$f":"'2016 syoa'!CD25-'2011 syoa'!CD25","v":22},{"$f":"'2016 syoa'!CE25-'2011 syoa'!CE25","v":-14},{"$f":"'2016 syoa'!CF25-'2011 syoa'!CF25","v":-22},{"$f":"'2016 syoa'!CG25-'2011 syoa'!CG25","v":7},{"$f":"'2016 syoa'!CH25-'2011 syoa'!CH25","v":13},{"$f":"'2016 syoa'!CI25-'2011 syoa'!CI25","v":-11},{"$f":"'2016 syoa'!CJ25-'2011 syoa'!CJ25","v":27},{"$f":"'2016 syoa'!CK25-'2011 syoa'!CK25","v":12},{"$f":"'2016 syoa'!CL25-'2011 syoa'!CL25","v":-9},{"$f":"'2016 syoa'!CM25-'2011 syoa'!CM25","v":3},{"$f":"'2016 syoa'!CN25-'2011 syoa'!CN25","v":8},{"$f":"'2016 syoa'!CO25-'2011 syoa'!CO25","v":4},{"$f":"'2016 syoa'!CP25-'2011 syoa'!CP25","v":-13},{"$f":"'2016 syoa'!CQ25-'2011 syoa'!CQ25","v":10},{"$f":"'2016 syoa'!CR25-'2011 syoa'!CR25","v":264},{"$f":"'2016 syoa'!CS25-'2011 syoa'!CS25","v":55},{"$f":"'2016 syoa'!CT25-'2011 syoa'!CT25","v":7},{"$f":"'2016 syoa'!CU25-'2011 syoa'!CU25","v":-17},{"$f":"'2016 syoa'!CV25-'2011 syoa'!CV25","v":50},{"$f":"'2016 syoa'!CW25-'2011 syoa'!CW25","v":53},{"$f":"'2016 syoa'!CX25-'2011 syoa'!CX25","v":-34},{"$f":"'2016 syoa'!CY25-'2011 syoa'!CY25","v":23},{"$f":"'2016 syoa'!CZ25-'2011 syoa'!CZ25","v":14},{"$f":"'2016 syoa'!DA25-'2011 syoa'!DA25","v":14},{"$f":"'2016 syoa'!DB25-'2011 syoa'!DB25","v":-10},{"$f":"'2016 syoa'!DC25-'2011 syoa'!DC25","v":26},{"$f":"'2016 syoa'!DD25-'2011 syoa'!DD25","v":-29},{"$f":"'2016 syoa'!DE25-'2011 syoa'!DE25","v":-14},{"$f":"'2016 syoa'!DF25-'2011 syoa'!DF25","v":-48},{"$f":"'2016 syoa'!DG25-'2011 syoa'!DG25","v":-4},{"$f":"'2016 syoa'!DH25-'2011 syoa'!DH25","v":-50},{"$f":"'2016 syoa'!DI25-'2011 syoa'!DI25","v":-11},{"$f":"'2016 syoa'!DJ25-'2011 syoa'!DJ25","v":-13},{"$f":"'2016 syoa'!DK25-'2011 syoa'!DK25","v":3},{"$f":"'2016 syoa'!DL25-'2011 syoa'!DL25","v":-41},{"$f":"'2016 syoa'!DM25-'2011 syoa'!DM25","v":0},{"$f":"'2016 syoa'!DN25-'2011 syoa'!DN25","v":5},{"$f":"'2016 syoa'!DO25-'2011 syoa'!DO25","v":27},{"$f":"'2016 syoa'!DP25-'2011 syoa'!DP25","v":-7},{"$f":"'2016 syoa'!DQ25-'2011 syoa'!DQ25","v":-16},{"$f":"'2016 syoa'!DR25-'2011 syoa'!DR25","v":74},{"$f":"'2016 syoa'!DS25-'2011 syoa'!DS25","v":36},{"$f":"'2016 syoa'!DT25-'2011 syoa'!DT25","v":20},{"$f":"'2016 syoa'!DU25-'2011 syoa'!DU25","v":16},{"$f":"'2016 syoa'!DV25-'2011 syoa'!DV25","v":34},{"$f":"'2016 syoa'!DW25-'2011 syoa'!DW25","v":-3},{"$f":"'2016 syoa'!DX25-'2011 syoa'!DX25","v":-6},{"$f":"'2016 syoa'!DY25-'2011 syoa'!DY25","v":-11},{"$f":"'2016 syoa'!DZ25-'2011 syoa'!DZ25","v":-4},{"$f":"'2016 syoa'!EA25-'2011 syoa'!EA25","v":-9},{"$f":"'2016 syoa'!EB25-'2011 syoa'!EB25","v":11},{"$f":"'2016 syoa'!EC25-'2011 syoa'!EC25","v":-8},{"$f":"'2016 syoa'!ED25-'2011 syoa'!ED25","v":-22},{"$f":"'2016 syoa'!EE25-'2011 syoa'!EE25","v":-22},{"$f":"'2016 syoa'!EF25-'2011 syoa'!EF25","v":-43},{"$f":"'2016 syoa'!EG25-'2011 syoa'!EG25","v":-30},{"$f":"'2016 syoa'!EH25-'2011 syoa'!EH25","v":-22},{"$f":"'2016 syoa'!EI25-'2011 syoa'!EI25","v":-28},{"$f":"'2016 syoa'!EJ25-'2011 syoa'!EJ25","v":-22},{"$f":"'2016 syoa'!EK25-'2011 syoa'!EK25","v":3},{"$f":"'2016 syoa'!EL25-'2011 syoa'!EL25","v":-25},{"$f":"'2016 syoa'!EM25-'2011 syoa'!EM25","v":-27},{"$f":"'2016 syoa'!EN25-'2011 syoa'!EN25","v":-22},{"$f":"'2016 syoa'!EO25-'2011 syoa'!EO25","v":4},{"$f":"'2016 syoa'!EP25-'2011 syoa'!EP25","v":-26},{"$f":"'2016 syoa'!EQ25-'2011 syoa'!EQ25","v":11},{"$f":"'2016 syoa'!ER25-'2011 syoa'!ER25","v":51},{"$f":"'2016 syoa'!ES25-'2011 syoa'!ES25","v":33},{"$f":"'2016 syoa'!ET25-'2011 syoa'!ET25","v":40},{"$f":"'2016 syoa'!EU25-'2011 syoa'!EU25","v":61},{"$f":"'2016 syoa'!EV25-'2011 syoa'!EV25","v":34},{"$f":"'2016 syoa'!EW25-'2011 syoa'!EW25","v":2},{"$f":"'2016 syoa'!EX25-'2011 syoa'!EX25","v":42},{"$f":"'2016 syoa'!EY25-'2011 syoa'!EY25","v":-14},{"$f":"'2016 syoa'!EZ25-'2011 syoa'!EZ25","v":37},{"$f":"'2016 syoa'!FA25-'2011 syoa'!FA25","v":-6},{"$f":"'2016 syoa'!FB25-'2011 syoa'!FB25","v":-15},{"$f":"'2016 syoa'!FC25-'2011 syoa'!FC25","v":-17},{"$f":"'2016 syoa'!FD25-'2011 syoa'!FD25","v":-7},{"$f":"'2016 syoa'!FE25-'2011 syoa'!FE25","v":-23},{"$f":"'2016 syoa'!FF25-'2011 syoa'!FF25","v":21},{"$f":"'2016 syoa'!FG25-'2011 syoa'!FG25","v":2},{"$f":"'2016 syoa'!FH25-'2011 syoa'!FH25","v":24},{"$f":"'2016 syoa'!FI25-'2011 syoa'!FI25","v":19},{"$f":"'2016 syoa'!FJ25-'2011 syoa'!FJ25","v":31},{"$f":"'2016 syoa'!FK25-'2011 syoa'!FK25","v":8},{"$f":"'2016 syoa'!FL25-'2011 syoa'!FL25","v":33},{"$f":"'2016 syoa'!FM25-'2011 syoa'!FM25","v":-6},{"$f":"'2016 syoa'!FN25-'2011 syoa'!FN25","v":34},{"$f":"'2016 syoa'!FO25-'2011 syoa'!FO25","v":-10},{"$f":"'2016 syoa'!FP25-'2011 syoa'!FP25","v":-20},{"$f":"'2016 syoa'!FQ25-'2011 syoa'!FQ25","v":14},{"$f":"'2016 syoa'!FR25-'2011 syoa'!FR25","v":14},{"$f":"'2016 syoa'!FS25-'2011 syoa'!FS25","v":-5},{"$f":"'2016 syoa'!FT25-'2011 syoa'!FT25","v":12},{"$f":"'2016 syoa'!FU25-'2011 syoa'!FU25","v":11},{"$f":"'2016 syoa'!FV25-'2011 syoa'!FV25","v":-3},{"$f":"'2016 syoa'!FW25-'2011 syoa'!FW25","v":5},{"$f":"'2016 syoa'!FX25-'2011 syoa'!FX25","v":6},{"$f":"'2016 syoa'!FY25-'2011 syoa'!FY25","v":6},{"$f":"'2016 syoa'!FZ25-'2011 syoa'!FZ25","v":-4},{"$f":"'2016 syoa'!GA25-'2011 syoa'!GA25","v":-8},{"$f":"'2016 syoa'!GB25-'2011 syoa'!GB25","v":-10},{"$f":"'2016 syoa'!GC25-'2011 syoa'!GC25","v":1},{"$f":"'2016 syoa'!GD25-'2011 syoa'!GD25","v":0},{"$f":"'2016 syoa'!GE25-'2011 syoa'!GE25","v":9}]
["Oscott","Perry Barr","E05001199",{"$f":"'2016 syoa'!D26-'2011 syoa'!D26","v":305},{"$f":"'2016 syoa'!E26-'2011 syoa'!E26","v":15},{"$f":"'2016 syoa'!F26-'2011 syoa'!F26","v":12},{"$f":"'2016 syoa'!G26-'2011 syoa'!G26","v":28},{"$f":"'2016 syoa'!H26-'2011 syoa'!H26","v":17},{"$f":"'2016 syoa'!I26-'2011 syoa'!I26","v":29},{"$f":"'2016 syoa'!J26-'2011 syoa'!J26","v":20},{"$f":"'2016 syoa'!K26-'2011 syoa'!K26","v":15},{"$f":"'2016 syoa'!L26-'2011 syoa'!L26","v":5},{"$f":"'2016 syoa'!M26-'2011 syoa'!M26","v":24},{"$f":"'2016 syoa'!N26-'2011 syoa'!N26","v":45},{"$f":"'2016 syoa'!O26-'2011 syoa'!O26","v":-22},{"$f":"'2016 syoa'!P26-'2011 syoa'!P26","v":6},{"$f":"'2016 syoa'!Q26-'2011 syoa'!Q26","v":-1},{"$f":"'2016 syoa'!R26-'2011 syoa'!R26","v":-8},{"$f":"'2016 syoa'!S26-'2011 syoa'!S26","v":-46},{"$f":"'2016 syoa'!T26-'2011 syoa'!T26","v":-34},{"$f":"'2016 syoa'!U26-'2011 syoa'!U26","v":0},{"$f":"'2016 syoa'!V26-'2011 syoa'!V26","v":-22},{"$f":"'2016 syoa'!W26-'2011 syoa'!W26","v":-56},{"$f":"'2016 syoa'!X26-'2011 syoa'!X26","v":-21},{"$f":"'2016 syoa'!Y26-'2011 syoa'!Y26","v":53},{"$f":"'2016 syoa'!Z26-'2011 syoa'!Z26","v":29},{"$f":"'2016 syoa'!AA26-'2011 syoa'!AA26","v":53},{"$f":"'2016 syoa'!AB26-'2011 syoa'!AB26","v":27},{"$f":"'2016 syoa'!AC26-'2011 syoa'!AC26","v":1},{"$f":"'2016 syoa'!AD26-'2011 syoa'!AD26","v":17},{"$f":"'2016 syoa'!AE26-'2011 syoa'!AE26","v":29},{"$f":"'2016 syoa'!AF26-'2011 syoa'!AF26","v":23},{"$f":"'2016 syoa'!AG26-'2011 syoa'!AG26","v":1},{"$f":"'2016 syoa'!AH26-'2011 syoa'!AH26","v":2},{"$f":"'2016 syoa'!AI26-'2011 syoa'!AI26","v":-4},{"$f":"'2016 syoa'!AJ26-'2011 syoa'!AJ26","v":52},{"$f":"'2016 syoa'!AK26-'2011 syoa'!AK26","v":2},{"$f":"'2016 syoa'!AL26-'2011 syoa'!AL26","v":39},{"$f":"'2016 syoa'!AM26-'2011 syoa'!AM26","v":19},{"$f":"'2016 syoa'!AN26-'2011 syoa'!AN26","v":29},{"$f":"'2016 syoa'!AO26-'2011 syoa'!AO26","v":29},{"$f":"'2016 syoa'!AP26-'2011 syoa'!AP26","v":-11},{"$f":"'2016 syoa'!AQ26-'2011 syoa'!AQ26","v":-16},{"$f":"'2016 syoa'!AR26-'2011 syoa'!AR26","v":-69},{"$f":"'2016 syoa'!AS26-'2011 syoa'!AS26","v":-53},{"$f":"'2016 syoa'!AT26-'2011 syoa'!AT26","v":-25},{"$f":"'2016 syoa'!AU26-'2011 syoa'!AU26","v":-41},{"$f":"'2016 syoa'!AV26-'2011 syoa'!AV26","v":-69},{"$f":"'2016 syoa'!AW26-'2011 syoa'!AW26","v":-14},{"$f":"'2016 syoa'!AX26-'2011 syoa'!AX26","v":-29},{"$f":"'2016 syoa'!AY26-'2011 syoa'!AY26","v":-11},{"$f":"'2016 syoa'!AZ26-'2011 syoa'!AZ26","v":-19},{"$f":"'2016 syoa'!BA26-'2011 syoa'!BA26","v":4},{"$f":"'2016 syoa'!BB26-'2011 syoa'!BB26","v":-28},{"$f":"'2016 syoa'!BC26-'2011 syoa'!BC26","v":-23},{"$f":"'2016 syoa'!BD26-'2011 syoa'!BD26","v":-7},{"$f":"'2016 syoa'!BE26-'2011 syoa'!BE26","v":37},{"$f":"'2016 syoa'!BF26-'2011 syoa'!BF26","v":48},{"$f":"'2016 syoa'!BG26-'2011 syoa'!BG26","v":25},{"$f":"'2016 syoa'!BH26-'2011 syoa'!BH26","v":19},{"$f":"'2016 syoa'!BI26-'2011 syoa'!BI26","v":13},{"$f":"'2016 syoa'!BJ26-'2011 syoa'!BJ26","v":4},{"$f":"'2016 syoa'!BK26-'2011 syoa'!BK26","v":16},{"$f":"'2016 syoa'!BL26-'2011 syoa'!BL26","v":23},{"$f":"'2016 syoa'!BM26-'2011 syoa'!BM26","v":29},{"$f":"'2016 syoa'!BN26-'2011 syoa'!BN26","v":19},{"$f":"'2016 syoa'!BO26-'2011 syoa'!BO26","v":5},{"$f":"'2016 syoa'!BP26-'2011 syoa'!BP26","v":-13},{"$f":"'2016 syoa'!BQ26-'2011 syoa'!BQ26","v":-34},{"$f":"'2016 syoa'!BR26-'2011 syoa'!BR26","v":-18},{"$f":"'2016 syoa'!BS26-'2011 syoa'!BS26","v":6},{"$f":"'2016 syoa'!BT26-'2011 syoa'!BT26","v":-30},{"$f":"'2016 syoa'!BU26-'2011 syoa'!BU26","v":6},{"$f":"'2016 syoa'!BV26-'2011 syoa'!BV26","v":26},{"$f":"'2016 syoa'!BW26-'2011 syoa'!BW26","v":9},{"$f":"'2016 syoa'!BX26-'2011 syoa'!BX26","v":6},{"$f":"'2016 syoa'!BY26-'2011 syoa'!BY26","v":11},{"$f":"'2016 syoa'!BZ26-'2011 syoa'!BZ26","v":1},{"$f":"'2016 syoa'!CA26-'2011 syoa'!CA26","v":4},{"$f":"'2016 syoa'!CB26-'2011 syoa'!CB26","v":-34},{"$f":"'2016 syoa'!CC26-'2011 syoa'!CC26","v":7},{"$f":"'2016 syoa'!CD26-'2011 syoa'!CD26","v":34},{"$f":"'2016 syoa'!CE26-'2011 syoa'!CE26","v":10},{"$f":"'2016 syoa'!CF26-'2011 syoa'!CF26","v":9},{"$f":"'2016 syoa'!CG26-'2011 syoa'!CG26","v":16},{"$f":"'2016 syoa'!CH26-'2011 syoa'!CH26","v":-17},{"$f":"'2016 syoa'!CI26-'2011 syoa'!CI26","v":2},{"$f":"'2016 syoa'!CJ26-'2011 syoa'!CJ26","v":17},{"$f":"'2016 syoa'!CK26-'2011 syoa'!CK26","v":14},{"$f":"'2016 syoa'!CL26-'2011 syoa'!CL26","v":14},{"$f":"'2016 syoa'!CM26-'2011 syoa'!CM26","v":19},{"$f":"'2016 syoa'!CN26-'2011 syoa'!CN26","v":-2},{"$f":"'2016 syoa'!CO26-'2011 syoa'!CO26","v":1},{"$f":"'2016 syoa'!CP26-'2011 syoa'!CP26","v":-5},{"$f":"'2016 syoa'!CQ26-'2011 syoa'!CQ26","v":12},{"$f":"'2016 syoa'!CR26-'2011 syoa'!CR26","v":144},{"$f":"'2016 syoa'!CS26-'2011 syoa'!CS26","v":31},{"$f":"'2016 syoa'!CT26-'2011 syoa'!CT26","v":22},{"$f":"'2016 syoa'!CU26-'2011 syoa'!CU26","v":-32},{"$f":"'2016 syoa'!CV26-'2011 syoa'!CV26","v":4},{"$f":"'2016 syoa'!CW26-'2011 syoa'!CW26","v":49},{"$f":"'2016 syoa'!CX26-'2011 syoa'!CX26","v":-8},{"$f":"'2016 syoa'!CY26-'2011 syoa'!CY26","v":-5},{"$f":"'2016 syoa'!CZ26-'2011 syoa'!CZ26","v":26},{"$f":"'2016 syoa'!DA26-'2011 syoa'!DA26","v":51},{"$f":"'2016 syoa'!DB26-'2011 syoa'!DB26","v":4},{"$f":"'2016 syoa'!DC26-'2011 syoa'!DC26","v":-4},{"$f":"'2016 syoa'!DD26-'2011 syoa'!DD26","v":-5},{"$f":"'2016 syoa'!DE26-'2011 syoa'!DE26","v":-7},{"$f":"'2016 syoa'!DF26-'2011 syoa'!DF26","v":-6},{"$f":"'2016 syoa'!DG26-'2011 syoa'!DG26","v":-41},{"$f":"'2016 syoa'!DH26-'2011 syoa'!DH26","v":-10},{"$f":"'2016 syoa'!DI26-'2011 syoa'!DI26","v":-11},{"$f":"'2016 syoa'!DJ26-'2011 syoa'!DJ26","v":-15},{"$f":"'2016 syoa'!DK26-'2011 syoa'!DK26","v":17},{"$f":"'2016 syoa'!DL26-'2011 syoa'!DL26","v":21},{"$f":"'2016 syoa'!DM26-'2011 syoa'!DM26","v":-16},{"$f":"'2016 syoa'!DN26-'2011 syoa'!DN26","v":15},{"$f":"'2016 syoa'!DO26-'2011 syoa'!DO26","v":-8},{"$f":"'2016 syoa'!DP26-'2011 syoa'!DP26","v":-11},{"$f":"'2016 syoa'!DQ26-'2011 syoa'!DQ26","v":-2},{"$f":"'2016 syoa'!DR26-'2011 syoa'!DR26","v":55},{"$f":"'2016 syoa'!DS26-'2011 syoa'!DS26","v":-4},{"$f":"'2016 syoa'!DT26-'2011 syoa'!DT26","v":34},{"$f":"'2016 syoa'!DU26-'2011 syoa'!DU26","v":71},{"$f":"'2016 syoa'!DV26-'2011 syoa'!DV26","v":20},{"$f":"'2016 syoa'!DW26-'2011 syoa'!DW26","v":-14},{"$f":"'2016 syoa'!DX26-'2011 syoa'!DX26","v":-25},{"$f":"'2016 syoa'!DY26-'2011 syoa'!DY26","v":18},{"$f":"'2016 syoa'!DZ26-'2011 syoa'!DZ26","v":26},{"$f":"'2016 syoa'!EA26-'2011 syoa'!EA26","v":17},{"$f":"'2016 syoa'!EB26-'2011 syoa'!EB26","v":16},{"$f":"'2016 syoa'!EC26-'2011 syoa'!EC26","v":-5},{"$f":"'2016 syoa'!ED26-'2011 syoa'!ED26","v":-13},{"$f":"'2016 syoa'!EE26-'2011 syoa'!EE26","v":-22},{"$f":"'2016 syoa'!EF26-'2011 syoa'!EF26","v":-33},{"$f":"'2016 syoa'!EG26-'2011 syoa'!EG26","v":-51},{"$f":"'2016 syoa'!EH26-'2011 syoa'!EH26","v":-49},{"$f":"'2016 syoa'!EI26-'2011 syoa'!EI26","v":-67},{"$f":"'2016 syoa'!EJ26-'2011 syoa'!EJ26","v":-15},{"$f":"'2016 syoa'!EK26-'2011 syoa'!EK26","v":-60},{"$f":"'2016 syoa'!EL26-'2011 syoa'!EL26","v":-49},{"$f":"'2016 syoa'!EM26-'2011 syoa'!EM26","v":8},{"$f":"'2016 syoa'!EN26-'2011 syoa'!EN26","v":6},{"$f":"'2016 syoa'!EO26-'2011 syoa'!EO26","v":-10},{"$f":"'2016 syoa'!EP26-'2011 syoa'!EP26","v":11},{"$f":"'2016 syoa'!EQ26-'2011 syoa'!EQ26","v":57},{"$f":"'2016 syoa'!ER26-'2011 syoa'!ER26","v":16},{"$f":"'2016 syoa'!ES26-'2011 syoa'!ES26","v":34},{"$f":"'2016 syoa'!ET26-'2011 syoa'!ET26","v":-5},{"$f":"'2016 syoa'!EU26-'2011 syoa'!EU26","v":90},{"$f":"'2016 syoa'!EV26-'2011 syoa'!EV26","v":39},{"$f":"'2016 syoa'!EW26-'2011 syoa'!EW26","v":27},{"$f":"'2016 syoa'!EX26-'2011 syoa'!EX26","v":41},{"$f":"'2016 syoa'!EY26-'2011 syoa'!EY26","v":43},{"$f":"'2016 syoa'!EZ26-'2011 syoa'!EZ26","v":-8},{"$f":"'2016 syoa'!FA26-'2011 syoa'!FA26","v":-6},{"$f":"'2016 syoa'!FB26-'2011 syoa'!FB26","v":11},{"$f":"'2016 syoa'!FC26-'2011 syoa'!FC26","v":-15},{"$f":"'2016 syoa'!FD26-'2011 syoa'!FD26","v":-41},{"$f":"'2016 syoa'!FE26-'2011 syoa'!FE26","v":-39},{"$f":"'2016 syoa'!FF26-'2011 syoa'!FF26","v":-17},{"$f":"'2016 syoa'!FG26-'2011 syoa'!FG26","v":-20},{"$f":"'2016 syoa'!FH26-'2011 syoa'!FH26","v":-20},{"$f":"'2016 syoa'!FI26-'2011 syoa'!FI26","v":-10},{"$f":"'2016 syoa'!FJ26-'2011 syoa'!FJ26","v":16},{"$f":"'2016 syoa'!FK26-'2011 syoa'!FK26","v":29},{"$f":"'2016 syoa'!FL26-'2011 syoa'!FL26","v":34},{"$f":"'2016 syoa'!FM26-'2011 syoa'!FM26","v":32},{"$f":"'2016 syoa'!FN26-'2011 syoa'!FN26","v":28},{"$f":"'2016 syoa'!FO26-'2011 syoa'!FO26","v":-22},{"$f":"'2016 syoa'!FP26-'2011 syoa'!FP26","v":-15},{"$f":"'2016 syoa'!FQ26-'2011 syoa'!FQ26","v":-26},{"$f":"'2016 syoa'!FR26-'2011 syoa'!FR26","v":-3},{"$f":"'2016 syoa'!FS26-'2011 syoa'!FS26","v":-20},{"$f":"'2016 syoa'!FT26-'2011 syoa'!FT26","v":17},{"$f":"'2016 syoa'!FU26-'2011 syoa'!FU26","v":0},{"$f":"'2016 syoa'!FV26-'2011 syoa'!FV26","v":-6},{"$f":"'2016 syoa'!FW26-'2011 syoa'!FW26","v":-1},{"$f":"'2016 syoa'!FX26-'2011 syoa'!FX26","v":9},{"$f":"'2016 syoa'!FY26-'2011 syoa'!FY26","v":5},{"$f":"'2016 syoa'!FZ26-'2011 syoa'!FZ26","v":-12},{"$f":"'2016 syoa'!GA26-'2011 syoa'!GA26","v":-15},{"$f":"'2016 syoa'!GB26-'2011 syoa'!GB26","v":11},{"$f":"'2016 syoa'!GC26-'2011 syoa'!GC26","v":7},{"$f":"'2016 syoa'!GD26-'2011 syoa'!GD26","v":-4},{"$f":"'2016 syoa'!GE26-'2011 syoa'!GE26","v":-21}]
["Perry Barr","Perry Barr","E05001200",{"$f":"'2016 syoa'!D27-'2011 syoa'!D27","v":430},{"$f":"'2016 syoa'!E27-'2011 syoa'!E27","v":-13},{"$f":"'2016 syoa'!F27-'2011 syoa'!F27","v":15},{"$f":"'2016 syoa'!G27-'2011 syoa'!G27","v":12},{"$f":"'2016 syoa'!H27-'2011 syoa'!H27","v":11},{"$f":"'2016 syoa'!I27-'2011 syoa'!I27","v":-15},{"$f":"'2016 syoa'!J27-'2011 syoa'!J27","v":28},{"$f":"'2016 syoa'!K27-'2011 syoa'!K27","v":3},{"$f":"'2016 syoa'!L27-'2011 syoa'!L27","v":13},{"$f":"'2016 syoa'!M27-'2011 syoa'!M27","v":7},{"$f":"'2016 syoa'!N27-'2011 syoa'!N27","v":25},{"$f":"'2016 syoa'!O27-'2011 syoa'!O27","v":12},{"$f":"'2016 syoa'!P27-'2011 syoa'!P27","v":29},{"$f":"'2016 syoa'!Q27-'2011 syoa'!Q27","v":-15},{"$f":"'2016 syoa'!R27-'2011 syoa'!R27","v":9},{"$f":"'2016 syoa'!S27-'2011 syoa'!S27","v":21},{"$f":"'2016 syoa'!T27-'2011 syoa'!T27","v":-8},{"$f":"'2016 syoa'!U27-'2011 syoa'!U27","v":18},{"$f":"'2016 syoa'!V27-'2011 syoa'!V27","v":-4},{"$f":"'2016 syoa'!W27-'2011 syoa'!W27","v":23},{"$f":"'2016 syoa'!X27-'2011 syoa'!X27","v":4},{"$f":"'2016 syoa'!Y27-'2011 syoa'!Y27","v":1},{"$f":"'2016 syoa'!Z27-'2011 syoa'!Z27","v":22},{"$f":"'2016 syoa'!AA27-'2011 syoa'!AA27","v":11},{"$f":"'2016 syoa'!AB27-'2011 syoa'!AB27","v":-3},{"$f":"'2016 syoa'!AC27-'2011 syoa'!AC27","v":32},{"$f":"'2016 syoa'!AD27-'2011 syoa'!AD27","v":1},{"$f":"'2016 syoa'!AE27-'2011 syoa'!AE27","v":31},{"$f":"'2016 syoa'!AF27-'2011 syoa'!AF27","v":32},{"$f":"'2016 syoa'!AG27-'2011 syoa'!AG27","v":29},{"$f":"'2016 syoa'!AH27-'2011 syoa'!AH27","v":-2},{"$f":"'2016 syoa'!AI27-'2011 syoa'!AI27","v":-3},{"$f":"'2016 syoa'!AJ27-'2011 syoa'!AJ27","v":26},{"$f":"'2016 syoa'!AK27-'2011 syoa'!AK27","v":10},{"$f":"'2016 syoa'!AL27-'2011 syoa'!AL27","v":6},{"$f":"'2016 syoa'!AM27-'2011 syoa'!AM27","v":14},{"$f":"'2016 syoa'!AN27-'2011 syoa'!AN27","v":47},{"$f":"'2016 syoa'!AO27-'2011 syoa'!AO27","v":10},{"$f":"'2016 syoa'!AP27-'2011 syoa'!AP27","v":-3},{"$f":"'2016 syoa'!AQ27-'2011 syoa'!AQ27","v":27},{"$f":"'2016 syoa'!AR27-'2011 syoa'!AR27","v":-12},{"$f":"'2016 syoa'!AS27-'2011 syoa'!AS27","v":-57},{"$f":"'2016 syoa'!AT27-'2011 syoa'!AT27","v":-10},{"$f":"'2016 syoa'!AU27-'2011 syoa'!AU27","v":-25},{"$f":"'2016 syoa'!AV27-'2011 syoa'!AV27","v":-43},{"$f":"'2016 syoa'!AW27-'2011 syoa'!AW27","v":3},{"$f":"'2016 syoa'!AX27-'2011 syoa'!AX27","v":23},{"$f":"'2016 syoa'!AY27-'2011 syoa'!AY27","v":1},{"$f":"'2016 syoa'!AZ27-'2011 syoa'!AZ27","v":41},{"$f":"'2016 syoa'!BA27-'2011 syoa'!BA27","v":-6},{"$f":"'2016 syoa'!BB27-'2011 syoa'!BB27","v":-26},{"$f":"'2016 syoa'!BC27-'2011 syoa'!BC27","v":4},{"$f":"'2016 syoa'!BD27-'2011 syoa'!BD27","v":27},{"$f":"'2016 syoa'!BE27-'2011 syoa'!BE27","v":1},{"$f":"'2016 syoa'!BF27-'2011 syoa'!BF27","v":7},{"$f":"'2016 syoa'!BG27-'2011 syoa'!BG27","v":15},{"$f":"'2016 syoa'!BH27-'2011 syoa'!BH27","v":10},{"$f":"'2016 syoa'!BI27-'2011 syoa'!BI27","v":12},{"$f":"'2016 syoa'!BJ27-'2011 syoa'!BJ27","v":6},{"$f":"'2016 syoa'!BK27-'2011 syoa'!BK27","v":4},{"$f":"'2016 syoa'!BL27-'2011 syoa'!BL27","v":0},{"$f":"'2016 syoa'!BM27-'2011 syoa'!BM27","v":13},{"$f":"'2016 syoa'!BN27-'2011 syoa'!BN27","v":1},{"$f":"'2016 syoa'!BO27-'2011 syoa'!BO27","v":-8},{"$f":"'2016 syoa'!BP27-'2011 syoa'!BP27","v":-5},{"$f":"'2016 syoa'!BQ27-'2011 syoa'!BQ27","v":-12},{"$f":"'2016 syoa'!BR27-'2011 syoa'!BR27","v":-18},{"$f":"'2016 syoa'!BS27-'2011 syoa'!BS27","v":-45},{"$f":"'2016 syoa'!BT27-'2011 syoa'!BT27","v":-27},{"$f":"'2016 syoa'!BU27-'2011 syoa'!BU27","v":2},{"$f":"'2016 syoa'!BV27-'2011 syoa'!BV27","v":-6},{"$f":"'2016 syoa'!BW27-'2011 syoa'!BW27","v":7},{"$f":"'2016 syoa'!BX27-'2011 syoa'!BX27","v":34},{"$f":"'2016 syoa'!BY27-'2011 syoa'!BY27","v":11},{"$f":"'2016 syoa'!BZ27-'2011 syoa'!BZ27","v":-8},{"$f":"'2016 syoa'!CA27-'2011 syoa'!CA27","v":-4},{"$f":"'2016 syoa'!CB27-'2011 syoa'!CB27","v":0},{"$f":"'2016 syoa'!CC27-'2011 syoa'!CC27","v":5},{"$f":"'2016 syoa'!CD27-'2011 syoa'!CD27","v":-10},{"$f":"'2016 syoa'!CE27-'2011 syoa'!CE27","v":9},{"$f":"'2016 syoa'!CF27-'2011 syoa'!CF27","v":10},{"$f":"'2016 syoa'!CG27-'2011 syoa'!CG27","v":6},{"$f":"'2016 syoa'!CH27-'2011 syoa'!CH27","v":15},{"$f":"'2016 syoa'!CI27-'2011 syoa'!CI27","v":16},{"$f":"'2016 syoa'!CJ27-'2011 syoa'!CJ27","v":-5},{"$f":"'2016 syoa'!CK27-'2011 syoa'!CK27","v":-3},{"$f":"'2016 syoa'!CL27-'2011 syoa'!CL27","v":11},{"$f":"'2016 syoa'!CM27-'2011 syoa'!CM27","v":1},{"$f":"'2016 syoa'!CN27-'2011 syoa'!CN27","v":-4},{"$f":"'2016 syoa'!CO27-'2011 syoa'!CO27","v":4},{"$f":"'2016 syoa'!CP27-'2011 syoa'!CP27","v":-6},{"$f":"'2016 syoa'!CQ27-'2011 syoa'!CQ27","v":8},{"$f":"'2016 syoa'!CR27-'2011 syoa'!CR27","v":149},{"$f":"'2016 syoa'!CS27-'2011 syoa'!CS27","v":30},{"$f":"'2016 syoa'!CT27-'2011 syoa'!CT27","v":29},{"$f":"'2016 syoa'!CU27-'2011 syoa'!CU27","v":7},{"$f":"'2016 syoa'!CV27-'2011 syoa'!CV27","v":-13},{"$f":"'2016 syoa'!CW27-'2011 syoa'!CW27","v":24},{"$f":"'2016 syoa'!CX27-'2011 syoa'!CX27","v":20},{"$f":"'2016 syoa'!CY27-'2011 syoa'!CY27","v":-17},{"$f":"'2016 syoa'!CZ27-'2011 syoa'!CZ27","v":22},{"$f":"'2016 syoa'!DA27-'2011 syoa'!DA27","v":44},{"$f":"'2016 syoa'!DB27-'2011 syoa'!DB27","v":11},{"$f":"'2016 syoa'!DC27-'2011 syoa'!DC27","v":14},{"$f":"'2016 syoa'!DD27-'2011 syoa'!DD27","v":37},{"$f":"'2016 syoa'!DE27-'2011 syoa'!DE27","v":3},{"$f":"'2016 syoa'!DF27-'2011 syoa'!DF27","v":-24},{"$f":"'2016 syoa'!DG27-'2011 syoa'!DG27","v":-10},{"$f":"'2016 syoa'!DH27-'2011 syoa'!DH27","v":13},{"$f":"'2016 syoa'!DI27-'2011 syoa'!DI27","v":-14},{"$f":"'2016 syoa'!DJ27-'2011 syoa'!DJ27","v":1},{"$f":"'2016 syoa'!DK27-'2011 syoa'!DK27","v":-6},{"$f":"'2016 syoa'!DL27-'2011 syoa'!DL27","v":-35},{"$f":"'2016 syoa'!DM27-'2011 syoa'!DM27","v":-40},{"$f":"'2016 syoa'!DN27-'2011 syoa'!DN27","v":-2},{"$f":"'2016 syoa'!DO27-'2011 syoa'!DO27","v":-9},{"$f":"'2016 syoa'!DP27-'2011 syoa'!DP27","v":21},{"$f":"'2016 syoa'!DQ27-'2011 syoa'!DQ27","v":22},{"$f":"'2016 syoa'!DR27-'2011 syoa'!DR27","v":25},{"$f":"'2016 syoa'!DS27-'2011 syoa'!DS27","v":18},{"$f":"'2016 syoa'!DT27-'2011 syoa'!DT27","v":2},{"$f":"'2016 syoa'!DU27-'2011 syoa'!DU27","v":20},{"$f":"'2016 syoa'!DV27-'2011 syoa'!DV27","v":-1},{"$f":"'2016 syoa'!DW27-'2011 syoa'!DW27","v":12},{"$f":"'2016 syoa'!DX27-'2011 syoa'!DX27","v":-4},{"$f":"'2016 syoa'!DY27-'2011 syoa'!DY27","v":-12},{"$f":"'2016 syoa'!DZ27-'2011 syoa'!DZ27","v":8},{"$f":"'2016 syoa'!EA27-'2011 syoa'!EA27","v":-12},{"$f":"'2016 syoa'!EB27-'2011 syoa'!EB27","v":8},{"$f":"'2016 syoa'!EC27-'2011 syoa'!EC27","v":43},{"$f":"'2016 syoa'!ED27-'2011 syoa'!ED27","v":28},{"$f":"'2016 syoa'!EE27-'2011 syoa'!EE27","v":5},{"$f":"'2016 syoa'!EF27-'2011 syoa'!EF27","v":-45},{"$f":"'2016 syoa'!EG27-'2011 syoa'!EG27","v":-5},{"$f":"'2016 syoa'!EH27-'2011 syoa'!EH27","v":-26},{"$f":"'2016 syoa'!EI27-'2011 syoa'!EI27","v":-17},{"$f":"'2016 syoa'!EJ27-'2011 syoa'!EJ27","v":-35},{"$f":"'2016 syoa'!EK27-'2011 syoa'!EK27","v":-15},{"$f":"'2016 syoa'!EL27-'2011 syoa'!EL27","v":-20},{"$f":"'2016 syoa'!EM27-'2011 syoa'!EM27","v":-19},{"$f":"'2016 syoa'!EN27-'2011 syoa'!EN27","v":-22},{"$f":"'2016 syoa'!EO27-'2011 syoa'!EO27","v":-47},{"$f":"'2016 syoa'!EP27-'2011 syoa'!EP27","v":11},{"$f":"'2016 syoa'!EQ27-'2011 syoa'!EQ27","v":3},{"$f":"'2016 syoa'!ER27-'2011 syoa'!ER27","v":33},{"$f":"'2016 syoa'!ES27-'2011 syoa'!ES27","v":6},{"$f":"'2016 syoa'!ET27-'2011 syoa'!ET27","v":34},{"$f":"'2016 syoa'!EU27-'2011 syoa'!EU27","v":29},{"$f":"'2016 syoa'!EV27-'2011 syoa'!EV27","v":27},{"$f":"'2016 syoa'!EW27-'2011 syoa'!EW27","v":27},{"$f":"'2016 syoa'!EX27-'2011 syoa'!EX27","v":42},{"$f":"'2016 syoa'!EY27-'2011 syoa'!EY27","v":23},{"$f":"'2016 syoa'!EZ27-'2011 syoa'!EZ27","v":49},{"$f":"'2016 syoa'!FA27-'2011 syoa'!FA27","v":10},{"$f":"'2016 syoa'!FB27-'2011 syoa'!FB27","v":-35},{"$f":"'2016 syoa'!FC27-'2011 syoa'!FC27","v":-17},{"$f":"'2016 syoa'!FD27-'2011 syoa'!FD27","v":-38},{"$f":"'2016 syoa'!FE27-'2011 syoa'!FE27","v":-50},{"$f":"'2016 syoa'!FF27-'2011 syoa'!FF27","v":-27},{"$f":"'2016 syoa'!FG27-'2011 syoa'!FG27","v":-1},{"$f":"'2016 syoa'!FH27-'2011 syoa'!FH27","v":-30},{"$f":"'2016 syoa'!FI27-'2011 syoa'!FI27","v":2},{"$f":"'2016 syoa'!FJ27-'2011 syoa'!FJ27","v":33},{"$f":"'2016 syoa'!FK27-'2011 syoa'!FK27","v":0},{"$f":"'2016 syoa'!FL27-'2011 syoa'!FL27","v":-8},{"$f":"'2016 syoa'!FM27-'2011 syoa'!FM27","v":-2},{"$f":"'2016 syoa'!FN27-'2011 syoa'!FN27","v":-1},{"$f":"'2016 syoa'!FO27-'2011 syoa'!FO27","v":6},{"$f":"'2016 syoa'!FP27-'2011 syoa'!FP27","v":-26},{"$f":"'2016 syoa'!FQ27-'2011 syoa'!FQ27","v":0},{"$f":"'2016 syoa'!FR27-'2011 syoa'!FR27","v":1},{"$f":"'2016 syoa'!FS27-'2011 syoa'!FS27","v":15},{"$f":"'2016 syoa'!FT27-'2011 syoa'!FT27","v":-9},{"$f":"'2016 syoa'!FU27-'2011 syoa'!FU27","v":18},{"$f":"'2016 syoa'!FV27-'2011 syoa'!FV27","v":-7},{"$f":"'2016 syoa'!FW27-'2011 syoa'!FW27","v":11},{"$f":"'2016 syoa'!FX27-'2011 syoa'!FX27","v":0},{"$f":"'2016 syoa'!FY27-'2011 syoa'!FY27","v":1},{"$f":"'2016 syoa'!FZ27-'2011 syoa'!FZ27","v":13},{"$f":"'2016 syoa'!GA27-'2011 syoa'!GA27","v":2},{"$f":"'2016 syoa'!GB27-'2011 syoa'!GB27","v":3},{"$f":"'2016 syoa'!GC27-'2011 syoa'!GC27","v":-10},{"$f":"'2016 syoa'!GD27-'2011 syoa'!GD27","v":1},{"$f":"'2016 syoa'!GE27-'2011 syoa'!GE27","v":-7}]
["Quinton","Edgbaston","E05001201",{"$f":"'2016 syoa'!D28-'2011 syoa'!D28","v":209},{"$f":"'2016 syoa'!E28-'2011 syoa'!E28","v":2},{"$f":"'2016 syoa'!F28-'2011 syoa'!F28","v":8},{"$f":"'2016 syoa'!G28-'2011 syoa'!G28","v":9},{"$f":"'2016 syoa'!H28-'2011 syoa'!H28","v":12},{"$f":"'2016 syoa'!I28-'2011 syoa'!I28","v":29},{"$f":"'2016 syoa'!J28-'2011 syoa'!J28","v":8},{"$f":"'2016 syoa'!K28-'2011 syoa'!K28","v":12},{"$f":"'2016 syoa'!L28-'2011 syoa'!L28","v":-1},{"$f":"'2016 syoa'!M28-'2011 syoa'!M28","v":23},{"$f":"'2016 syoa'!N28-'2011 syoa'!N28","v":31},{"$f":"'2016 syoa'!O28-'2011 syoa'!O28","v":18},{"$f":"'2016 syoa'!P28-'2011 syoa'!P28","v":17},{"$f":"'2016 syoa'!Q28-'2011 syoa'!Q28","v":18},{"$f":"'2016 syoa'!R28-'2011 syoa'!R28","v":-17},{"$f":"'2016 syoa'!S28-'2011 syoa'!S28","v":-8},{"$f":"'2016 syoa'!T28-'2011 syoa'!T28","v":-7},{"$f":"'2016 syoa'!U28-'2011 syoa'!U28","v":-2},{"$f":"'2016 syoa'!V28-'2011 syoa'!V28","v":-9},{"$f":"'2016 syoa'!W28-'2011 syoa'!W28","v":-26},{"$f":"'2016 syoa'!X28-'2011 syoa'!X28","v":4},{"$f":"'2016 syoa'!Y28-'2011 syoa'!Y28","v":14},{"$f":"'2016 syoa'!Z28-'2011 syoa'!Z28","v":24},{"$f":"'2016 syoa'!AA28-'2011 syoa'!AA28","v":15},{"$f":"'2016 syoa'!AB28-'2011 syoa'!AB28","v":2},{"$f":"'2016 syoa'!AC28-'2011 syoa'!AC28","v":28},{"$f":"'2016 syoa'!AD28-'2011 syoa'!AD28","v":14},{"$f":"'2016 syoa'!AE28-'2011 syoa'!AE28","v":0},{"$f":"'2016 syoa'!AF28-'2011 syoa'!AF28","v":11},{"$f":"'2016 syoa'!AG28-'2011 syoa'!AG28","v":14},{"$f":"'2016 syoa'!AH28-'2011 syoa'!AH28","v":7},{"$f":"'2016 syoa'!AI28-'2011 syoa'!AI28","v":-3},{"$f":"'2016 syoa'!AJ28-'2011 syoa'!AJ28","v":15},{"$f":"'2016 syoa'!AK28-'2011 syoa'!AK28","v":-21},{"$f":"'2016 syoa'!AL28-'2011 syoa'!AL28","v":-6},{"$f":"'2016 syoa'!AM28-'2011 syoa'!AM28","v":34},{"$f":"'2016 syoa'!AN28-'2011 syoa'!AN28","v":-40},{"$f":"'2016 syoa'!AO28-'2011 syoa'!AO28","v":5},{"$f":"'2016 syoa'!AP28-'2011 syoa'!AP28","v":-3},{"$f":"'2016 syoa'!AQ28-'2011 syoa'!AQ28","v":-34},{"$f":"'2016 syoa'!AR28-'2011 syoa'!AR28","v":-46},{"$f":"'2016 syoa'!AS28-'2011 syoa'!AS28","v":-15},{"$f":"'2016 syoa'!AT28-'2011 syoa'!AT28","v":-30},{"$f":"'2016 syoa'!AU28-'2011 syoa'!AU28","v":-15},{"$f":"'2016 syoa'!AV28-'2011 syoa'!AV28","v":7},{"$f":"'2016 syoa'!AW28-'2011 syoa'!AW28","v":19},{"$f":"'2016 syoa'!AX28-'2011 syoa'!AX28","v":-4},{"$f":"'2016 syoa'!AY28-'2011 syoa'!AY28","v":16},{"$f":"'2016 syoa'!AZ28-'2011 syoa'!AZ28","v":8},{"$f":"'2016 syoa'!BA28-'2011 syoa'!BA28","v":-29},{"$f":"'2016 syoa'!BB28-'2011 syoa'!BB28","v":6},{"$f":"'2016 syoa'!BC28-'2011 syoa'!BC28","v":-16},{"$f":"'2016 syoa'!BD28-'2011 syoa'!BD28","v":11},{"$f":"'2016 syoa'!BE28-'2011 syoa'!BE28","v":32},{"$f":"'2016 syoa'!BF28-'2011 syoa'!BF28","v":34},{"$f":"'2016 syoa'!BG28-'2011 syoa'!BG28","v":55},{"$f":"'2016 syoa'!BH28-'2011 syoa'!BH28","v":48},{"$f":"'2016 syoa'!BI28-'2011 syoa'!BI28","v":-15},{"$f":"'2016 syoa'!BJ28-'2011 syoa'!BJ28","v":-3},{"$f":"'2016 syoa'!BK28-'2011 syoa'!BK28","v":-17},{"$f":"'2016 syoa'!BL28-'2011 syoa'!BL28","v":-39},{"$f":"'2016 syoa'!BM28-'2011 syoa'!BM28","v":-32},{"$f":"'2016 syoa'!BN28-'2011 syoa'!BN28","v":12},{"$f":"'2016 syoa'!BO28-'2011 syoa'!BO28","v":-6},{"$f":"'2016 syoa'!BP28-'2011 syoa'!BP28","v":6},{"$f":"'2016 syoa'!BQ28-'2011 syoa'!BQ28","v":-37},{"$f":"'2016 syoa'!BR28-'2011 syoa'!BR28","v":-12},{"$f":"'2016 syoa'!BS28-'2011 syoa'!BS28","v":-24},{"$f":"'2016 syoa'!BT28-'2011 syoa'!BT28","v":16},{"$f":"'2016 syoa'!BU28-'2011 syoa'!BU28","v":-31},{"$f":"'2016 syoa'!BV28-'2011 syoa'!BV28","v":37},{"$f":"'2016 syoa'!BW28-'2011 syoa'!BW28","v":20},{"$f":"'2016 syoa'!BX28-'2011 syoa'!BX28","v":26},{"$f":"'2016 syoa'!BY28-'2011 syoa'!BY28","v":-14},{"$f":"'2016 syoa'!BZ28-'2011 syoa'!BZ28","v":7},{"$f":"'2016 syoa'!CA28-'2011 syoa'!CA28","v":-10},{"$f":"'2016 syoa'!CB28-'2011 syoa'!CB28","v":-3},{"$f":"'2016 syoa'!CC28-'2011 syoa'!CC28","v":-9},{"$f":"'2016 syoa'!CD28-'2011 syoa'!CD28","v":6},{"$f":"'2016 syoa'!CE28-'2011 syoa'!CE28","v":1},{"$f":"'2016 syoa'!CF28-'2011 syoa'!CF28","v":3},{"$f":"'2016 syoa'!CG28-'2011 syoa'!CG28","v":-1},{"$f":"'2016 syoa'!CH28-'2011 syoa'!CH28","v":15},{"$f":"'2016 syoa'!CI28-'2011 syoa'!CI28","v":5},{"$f":"'2016 syoa'!CJ28-'2011 syoa'!CJ28","v":3},{"$f":"'2016 syoa'!CK28-'2011 syoa'!CK28","v":6},{"$f":"'2016 syoa'!CL28-'2011 syoa'!CL28","v":-4},{"$f":"'2016 syoa'!CM28-'2011 syoa'!CM28","v":-7},{"$f":"'2016 syoa'!CN28-'2011 syoa'!CN28","v":10},{"$f":"'2016 syoa'!CO28-'2011 syoa'!CO28","v":6},{"$f":"'2016 syoa'!CP28-'2011 syoa'!CP28","v":2},{"$f":"'2016 syoa'!CQ28-'2011 syoa'!CQ28","v":14},{"$f":"'2016 syoa'!CR28-'2011 syoa'!CR28","v":-29},{"$f":"'2016 syoa'!CS28-'2011 syoa'!CS28","v":-23},{"$f":"'2016 syoa'!CT28-'2011 syoa'!CT28","v":3},{"$f":"'2016 syoa'!CU28-'2011 syoa'!CU28","v":16},{"$f":"'2016 syoa'!CV28-'2011 syoa'!CV28","v":32},{"$f":"'2016 syoa'!CW28-'2011 syoa'!CW28","v":-5},{"$f":"'2016 syoa'!CX28-'2011 syoa'!CX28","v":7},{"$f":"'2016 syoa'!CY28-'2011 syoa'!CY28","v":25},{"$f":"'2016 syoa'!CZ28-'2011 syoa'!CZ28","v":7},{"$f":"'2016 syoa'!DA28-'2011 syoa'!DA28","v":14},{"$f":"'2016 syoa'!DB28-'2011 syoa'!DB28","v":23},{"$f":"'2016 syoa'!DC28-'2011 syoa'!DC28","v":10},{"$f":"'2016 syoa'!DD28-'2011 syoa'!DD28","v":2},{"$f":"'2016 syoa'!DE28-'2011 syoa'!DE28","v":-3},{"$f":"'2016 syoa'!DF28-'2011 syoa'!DF28","v":11},{"$f":"'2016 syoa'!DG28-'2011 syoa'!DG28","v":-34},{"$f":"'2016 syoa'!DH28-'2011 syoa'!DH28","v":4},{"$f":"'2016 syoa'!DI28-'2011 syoa'!DI28","v":-30},{"$f":"'2016 syoa'!DJ28-'2011 syoa'!DJ28","v":4},{"$f":"'2016 syoa'!DK28-'2011 syoa'!DK28","v":-15},{"$f":"'2016 syoa'!DL28-'2011 syoa'!DL28","v":14},{"$f":"'2016 syoa'!DM28-'2011 syoa'!DM28","v":0},{"$f":"'2016 syoa'!DN28-'2011 syoa'!DN28","v":1},{"$f":"'2016 syoa'!DO28-'2011 syoa'!DO28","v":-14},{"$f":"'2016 syoa'!DP28-'2011 syoa'!DP28","v":-18},{"$f":"'2016 syoa'!DQ28-'2011 syoa'!DQ28","v":-22},{"$f":"'2016 syoa'!DR28-'2011 syoa'!DR28","v":47},{"$f":"'2016 syoa'!DS28-'2011 syoa'!DS28","v":-36},{"$f":"'2016 syoa'!DT28-'2011 syoa'!DT28","v":-14},{"$f":"'2016 syoa'!DU28-'2011 syoa'!DU28","v":7},{"$f":"'2016 syoa'!DV28-'2011 syoa'!DV28","v":-23},{"$f":"'2016 syoa'!DW28-'2011 syoa'!DW28","v":10},{"$f":"'2016 syoa'!DX28-'2011 syoa'!DX28","v":4},{"$f":"'2016 syoa'!DY28-'2011 syoa'!DY28","v":-32},{"$f":"'2016 syoa'!DZ28-'2011 syoa'!DZ28","v":-2},{"$f":"'2016 syoa'!EA28-'2011 syoa'!EA28","v":7},{"$f":"'2016 syoa'!EB28-'2011 syoa'!EB28","v":-10},{"$f":"'2016 syoa'!EC28-'2011 syoa'!EC28","v":1},{"$f":"'2016 syoa'!ED28-'2011 syoa'!ED28","v":43},{"$f":"'2016 syoa'!EE28-'2011 syoa'!EE28","v":-19},{"$f":"'2016 syoa'!EF28-'2011 syoa'!EF28","v":-44},{"$f":"'2016 syoa'!EG28-'2011 syoa'!EG28","v":-13},{"$f":"'2016 syoa'!EH28-'2011 syoa'!EH28","v":-39},{"$f":"'2016 syoa'!EI28-'2011 syoa'!EI28","v":-20},{"$f":"'2016 syoa'!EJ28-'2011 syoa'!EJ28","v":-18},{"$f":"'2016 syoa'!EK28-'2011 syoa'!EK28","v":17},{"$f":"'2016 syoa'!EL28-'2011 syoa'!EL28","v":11},{"$f":"'2016 syoa'!EM28-'2011 syoa'!EM28","v":-1},{"$f":"'2016 syoa'!EN28-'2011 syoa'!EN28","v":-1},{"$f":"'2016 syoa'!EO28-'2011 syoa'!EO28","v":5},{"$f":"'2016 syoa'!EP28-'2011 syoa'!EP28","v":1},{"$f":"'2016 syoa'!EQ28-'2011 syoa'!EQ28","v":3},{"$f":"'2016 syoa'!ER28-'2011 syoa'!ER28","v":26},{"$f":"'2016 syoa'!ES28-'2011 syoa'!ES28","v":1},{"$f":"'2016 syoa'!ET28-'2011 syoa'!ET28","v":12},{"$f":"'2016 syoa'!EU28-'2011 syoa'!EU28","v":-5},{"$f":"'2016 syoa'!EV28-'2011 syoa'!EV28","v":34},{"$f":"'2016 syoa'!EW28-'2011 syoa'!EW28","v":27},{"$f":"'2016 syoa'!EX28-'2011 syoa'!EX28","v":8},{"$f":"'2016 syoa'!EY28-'2011 syoa'!EY28","v":7},{"$f":"'2016 syoa'!EZ28-'2011 syoa'!EZ28","v":8},{"$f":"'2016 syoa'!FA28-'2011 syoa'!FA28","v":4},{"$f":"'2016 syoa'!FB28-'2011 syoa'!FB28","v":-6},{"$f":"'2016 syoa'!FC28-'2011 syoa'!FC28","v":-5},{"$f":"'2016 syoa'!FD28-'2011 syoa'!FD28","v":-33},{"$f":"'2016 syoa'!FE28-'2011 syoa'!FE28","v":-47},{"$f":"'2016 syoa'!FF28-'2011 syoa'!FF28","v":-10},{"$f":"'2016 syoa'!FG28-'2011 syoa'!FG28","v":-8},{"$f":"'2016 syoa'!FH28-'2011 syoa'!FH28","v":7},{"$f":"'2016 syoa'!FI28-'2011 syoa'!FI28","v":10},{"$f":"'2016 syoa'!FJ28-'2011 syoa'!FJ28","v":43},{"$f":"'2016 syoa'!FK28-'2011 syoa'!FK28","v":6},{"$f":"'2016 syoa'!FL28-'2011 syoa'!FL28","v":16},{"$f":"'2016 syoa'!FM28-'2011 syoa'!FM28","v":12},{"$f":"'2016 syoa'!FN28-'2011 syoa'!FN28","v":-3},{"$f":"'2016 syoa'!FO28-'2011 syoa'!FO28","v":-28},{"$f":"'2016 syoa'!FP28-'2011 syoa'!FP28","v":-7},{"$f":"'2016 syoa'!FQ28-'2011 syoa'!FQ28","v":-14},{"$f":"'2016 syoa'!FR28-'2011 syoa'!FR28","v":-19},{"$f":"'2016 syoa'!FS28-'2011 syoa'!FS28","v":8},{"$f":"'2016 syoa'!FT28-'2011 syoa'!FT28","v":15},{"$f":"'2016 syoa'!FU28-'2011 syoa'!FU28","v":25},{"$f":"'2016 syoa'!FV28-'2011 syoa'!FV28","v":9},{"$f":"'2016 syoa'!FW28-'2011 syoa'!FW28","v":5},{"$f":"'2016 syoa'!FX28-'2011 syoa'!FX28","v":8},{"$f":"'2016 syoa'!FY28-'2011 syoa'!FY28","v":-3},{"$f":"'2016 syoa'!FZ28-'2011 syoa'!FZ28","v":-2},{"$f":"'2016 syoa'!GA28-'2011 syoa'!GA28","v":6},{"$f":"'2016 syoa'!GB28-'2011 syoa'!GB28","v":-7},{"$f":"'2016 syoa'!GC28-'2011 syoa'!GC28","v":-5},{"$f":"'2016 syoa'!GD28-'2011 syoa'!GD28","v":-10},{"$f":"'2016 syoa'!GE28-'2011 syoa'!GE28","v":-7}]
["Selly Oak","Selly Oak","E05001202",{"$f":"'2016 syoa'!D29-'2011 syoa'!D29","v":1681},{"$f":"'2016 syoa'!E29-'2011 syoa'!E29","v":4},{"$f":"'2016 syoa'!F29-'2011 syoa'!F29","v":3},{"$f":"'2016 syoa'!G29-'2011 syoa'!G29","v":-12},{"$f":"'2016 syoa'!H29-'2011 syoa'!H29","v":20},{"$f":"'2016 syoa'!I29-'2011 syoa'!I29","v":25},{"$f":"'2016 syoa'!J29-'2011 syoa'!J29","v":9},{"$f":"'2016 syoa'!K29-'2011 syoa'!K29","v":25},{"$f":"'2016 syoa'!L29-'2011 syoa'!L29","v":34},{"$f":"'2016 syoa'!M29-'2011 syoa'!M29","v":13},{"$f":"'2016 syoa'!N29-'2011 syoa'!N29","v":11},{"$f":"'2016 syoa'!O29-'2011 syoa'!O29","v":-10},{"$f":"'2016 syoa'!P29-'2011 syoa'!P29","v":10},{"$f":"'2016 syoa'!Q29-'2011 syoa'!Q29","v":0},{"$f":"'2016 syoa'!R29-'2011 syoa'!R29","v":8},{"$f":"'2016 syoa'!S29-'2011 syoa'!S29","v":17},{"$f":"'2016 syoa'!T29-'2011 syoa'!T29","v":14},{"$f":"'2016 syoa'!U29-'2011 syoa'!U29","v":22},{"$f":"'2016 syoa'!V29-'2011 syoa'!V29","v":-2},{"$f":"'2016 syoa'!W29-'2011 syoa'!W29","v":9},{"$f":"'2016 syoa'!X29-'2011 syoa'!X29","v":57},{"$f":"'2016 syoa'!Y29-'2011 syoa'!Y29","v":-120},{"$f":"'2016 syoa'!Z29-'2011 syoa'!Z29","v":-148},{"$f":"'2016 syoa'!AA29-'2011 syoa'!AA29","v":331},{"$f":"'2016 syoa'!AB29-'2011 syoa'!AB29","v":453},{"$f":"'2016 syoa'!AC29-'2011 syoa'!AC29","v":638},{"$f":"'2016 syoa'!AD29-'2011 syoa'!AD29","v":-6},{"$f":"'2016 syoa'!AE29-'2011 syoa'!AE29","v":23},{"$f":"'2016 syoa'!AF29-'2011 syoa'!AF29","v":-1},{"$f":"'2016 syoa'!AG29-'2011 syoa'!AG29","v":28},{"$f":"'2016 syoa'!AH29-'2011 syoa'!AH29","v":5},{"$f":"'2016 syoa'!AI29-'2011 syoa'!AI29","v":-40},{"$f":"'2016 syoa'!AJ29-'2011 syoa'!AJ29","v":-22},{"$f":"'2016 syoa'!AK29-'2011 syoa'!AK29","v":0},{"$f":"'2016 syoa'!AL29-'2011 syoa'!AL29","v":-27},{"$f":"'2016 syoa'!AM29-'2011 syoa'!AM29","v":11},{"$f":"'2016 syoa'!AN29-'2011 syoa'!AN29","v":-8},{"$f":"'2016 syoa'!AO29-'2011 syoa'!AO29","v":26},{"$f":"'2016 syoa'!AP29-'2011 syoa'!AP29","v":35},{"$f":"'2016 syoa'!AQ29-'2011 syoa'!AQ29","v":28},{"$f":"'2016 syoa'!AR29-'2011 syoa'!AR29","v":16},{"$f":"'2016 syoa'!AS29-'2011 syoa'!AS29","v":18},{"$f":"'2016 syoa'!AT29-'2011 syoa'!AT29","v":37},{"$f":"'2016 syoa'!AU29-'2011 syoa'!AU29","v":17},{"$f":"'2016 syoa'!AV29-'2011 syoa'!AV29","v":5},{"$f":"'2016 syoa'!AW29-'2011 syoa'!AW29","v":38},{"$f":"'2016 syoa'!AX29-'2011 syoa'!AX29","v":38},{"$f":"'2016 syoa'!AY29-'2011 syoa'!AY29","v":1},{"$f":"'2016 syoa'!AZ29-'2011 syoa'!AZ29","v":6},{"$f":"'2016 syoa'!BA29-'2011 syoa'!BA29","v":6},{"$f":"'2016 syoa'!BB29-'2011 syoa'!BB29","v":-7},{"$f":"'2016 syoa'!BC29-'2011 syoa'!BC29","v":-5},{"$f":"'2016 syoa'!BD29-'2011 syoa'!BD29","v":20},{"$f":"'2016 syoa'!BE29-'2011 syoa'!BE29","v":-2},{"$f":"'2016 syoa'!BF29-'2011 syoa'!BF29","v":-2},{"$f":"'2016 syoa'!BG29-'2011 syoa'!BG29","v":-3},{"$f":"'2016 syoa'!BH29-'2011 syoa'!BH29","v":-7},{"$f":"'2016 syoa'!BI29-'2011 syoa'!BI29","v":-5},{"$f":"'2016 syoa'!BJ29-'2011 syoa'!BJ29","v":-18},{"$f":"'2016 syoa'!BK29-'2011 syoa'!BK29","v":-6},{"$f":"'2016 syoa'!BL29-'2011 syoa'!BL29","v":3},{"$f":"'2016 syoa'!BM29-'2011 syoa'!BM29","v":6},{"$f":"'2016 syoa'!BN29-'2011 syoa'!BN29","v":18},{"$f":"'2016 syoa'!BO29-'2011 syoa'!BO29","v":19},{"$f":"'2016 syoa'!BP29-'2011 syoa'!BP29","v":6},{"$f":"'2016 syoa'!BQ29-'2011 syoa'!BQ29","v":-20},{"$f":"'2016 syoa'!BR29-'2011 syoa'!BR29","v":14},{"$f":"'2016 syoa'!BS29-'2011 syoa'!BS29","v":17},{"$f":"'2016 syoa'!BT29-'2011 syoa'!BT29","v":2},{"$f":"'2016 syoa'!BU29-'2011 syoa'!BU29","v":-4},{"$f":"'2016 syoa'!BV29-'2011 syoa'!BV29","v":2},{"$f":"'2016 syoa'!BW29-'2011 syoa'!BW29","v":5},{"$f":"'2016 syoa'!BX29-'2011 syoa'!BX29","v":-7},{"$f":"'2016 syoa'!BY29-'2011 syoa'!BY29","v":-15},{"$f":"'2016 syoa'!BZ29-'2011 syoa'!BZ29","v":-5},{"$f":"'2016 syoa'!CA29-'2011 syoa'!CA29","v":7},{"$f":"'2016 syoa'!CB29-'2011 syoa'!CB29","v":-8},{"$f":"'2016 syoa'!CC29-'2011 syoa'!CC29","v":-13},{"$f":"'2016 syoa'!CD29-'2011 syoa'!CD29","v":14},{"$f":"'2016 syoa'!CE29-'2011 syoa'!CE29","v":4},{"$f":"'2016 syoa'!CF29-'2011 syoa'!CF29","v":0},{"$f":"'2016 syoa'!CG29-'2011 syoa'!CG29","v":-2},{"$f":"'2016 syoa'!CH29-'2011 syoa'!CH29","v":7},{"$f":"'2016 syoa'!CI29-'2011 syoa'!CI29","v":6},{"$f":"'2016 syoa'!CJ29-'2011 syoa'!CJ29","v":1},{"$f":"'2016 syoa'!CK29-'2011 syoa'!CK29","v":-1},{"$f":"'2016 syoa'!CL29-'2011 syoa'!CL29","v":-3},{"$f":"'2016 syoa'!CM29-'2011 syoa'!CM29","v":8},{"$f":"'2016 syoa'!CN29-'2011 syoa'!CN29","v":0},{"$f":"'2016 syoa'!CO29-'2011 syoa'!CO29","v":1},{"$f":"'2016 syoa'!CP29-'2011 syoa'!CP29","v":2},{"$f":"'2016 syoa'!CQ29-'2011 syoa'!CQ29","v":7},{"$f":"'2016 syoa'!CR29-'2011 syoa'!CR29","v":836},{"$f":"'2016 syoa'!CS29-'2011 syoa'!CS29","v":7},{"$f":"'2016 syoa'!CT29-'2011 syoa'!CT29","v":14},{"$f":"'2016 syoa'!CU29-'2011 syoa'!CU29","v":-5},{"$f":"'2016 syoa'!CV29-'2011 syoa'!CV29","v":42},{"$f":"'2016 syoa'!CW29-'2011 syoa'!CW29","v":1},{"$f":"'2016 syoa'!CX29-'2011 syoa'!CX29","v":7},{"$f":"'2016 syoa'!CY29-'2011 syoa'!CY29","v":20},{"$f":"'2016 syoa'!CZ29-'2011 syoa'!CZ29","v":21},{"$f":"'2016 syoa'!DA29-'2011 syoa'!DA29","v":6},{"$f":"'2016 syoa'!DB29-'2011 syoa'!DB29","v":20},{"$f":"'2016 syoa'!DC29-'2011 syoa'!DC29","v":8},{"$f":"'2016 syoa'!DD29-'2011 syoa'!DD29","v":0},{"$f":"'2016 syoa'!DE29-'2011 syoa'!DE29","v":10},{"$f":"'2016 syoa'!DF29-'2011 syoa'!DF29","v":-8},{"$f":"'2016 syoa'!DG29-'2011 syoa'!DG29","v":-6},{"$f":"'2016 syoa'!DH29-'2011 syoa'!DH29","v":0},{"$f":"'2016 syoa'!DI29-'2011 syoa'!DI29","v":-6},{"$f":"'2016 syoa'!DJ29-'2011 syoa'!DJ29","v":16},{"$f":"'2016 syoa'!DK29-'2011 syoa'!DK29","v":68},{"$f":"'2016 syoa'!DL29-'2011 syoa'!DL29","v":88},{"$f":"'2016 syoa'!DM29-'2011 syoa'!DM29","v":-87},{"$f":"'2016 syoa'!DN29-'2011 syoa'!DN29","v":-153},{"$f":"'2016 syoa'!DO29-'2011 syoa'!DO29","v":266},{"$f":"'2016 syoa'!DP29-'2011 syoa'!DP29","v":307},{"$f":"'2016 syoa'!DQ29-'2011 syoa'!DQ29","v":448},{"$f":"'2016 syoa'!DR29-'2011 syoa'!DR29","v":-6},{"$f":"'2016 syoa'!DS29-'2011 syoa'!DS29","v":7},{"$f":"'2016 syoa'!DT29-'2011 syoa'!DT29","v":-24},{"$f":"'2016 syoa'!DU29-'2011 syoa'!DU29","v":-18},{"$f":"'2016 syoa'!DV29-'2011 syoa'!DV29","v":-27},{"$f":"'2016 syoa'!DW29-'2011 syoa'!DW29","v":-45},{"$f":"'2016 syoa'!DX29-'2011 syoa'!DX29","v":-72},{"$f":"'2016 syoa'!DY29-'2011 syoa'!DY29","v":-16},{"$f":"'2016 syoa'!DZ29-'2011 syoa'!DZ29","v":-8},{"$f":"'2016 syoa'!EA29-'2011 syoa'!EA29","v":1},{"$f":"'2016 syoa'!EB29-'2011 syoa'!EB29","v":-1},{"$f":"'2016 syoa'!EC29-'2011 syoa'!EC29","v":12},{"$f":"'2016 syoa'!ED29-'2011 syoa'!ED29","v":30},{"$f":"'2016 syoa'!EE29-'2011 syoa'!EE29","v":18},{"$f":"'2016 syoa'!EF29-'2011 syoa'!EF29","v":-13},{"$f":"'2016 syoa'!EG29-'2011 syoa'!EG29","v":36},{"$f":"'2016 syoa'!EH29-'2011 syoa'!EH29","v":-9},{"$f":"'2016 syoa'!EI29-'2011 syoa'!EI29","v":-30},{"$f":"'2016 syoa'!EJ29-'2011 syoa'!EJ29","v":-8},{"$f":"'2016 syoa'!EK29-'2011 syoa'!EK29","v":-16},{"$f":"'2016 syoa'!EL29-'2011 syoa'!EL29","v":1},{"$f":"'2016 syoa'!EM29-'2011 syoa'!EM29","v":8},{"$f":"'2016 syoa'!EN29-'2011 syoa'!EN29","v":10},{"$f":"'2016 syoa'!EO29-'2011 syoa'!EO29","v":-6},{"$f":"'2016 syoa'!EP29-'2011 syoa'!EP29","v":-1},{"$f":"'2016 syoa'!EQ29-'2011 syoa'!EQ29","v":-1},{"$f":"'2016 syoa'!ER29-'2011 syoa'!ER29","v":-14},{"$f":"'2016 syoa'!ES29-'2011 syoa'!ES29","v":9},{"$f":"'2016 syoa'!ET29-'2011 syoa'!ET29","v":-4},{"$f":"'2016 syoa'!EU29-'2011 syoa'!EU29","v":-9},{"$f":"'2016 syoa'!EV29-'2011 syoa'!EV29","v":-2},{"$f":"'2016 syoa'!EW29-'2011 syoa'!EW29","v":17},{"$f":"'2016 syoa'!EX29-'2011 syoa'!EX29","v":5},{"$f":"'2016 syoa'!EY29-'2011 syoa'!EY29","v":-4},{"$f":"'2016 syoa'!EZ29-'2011 syoa'!EZ29","v":1},{"$f":"'2016 syoa'!FA29-'2011 syoa'!FA29","v":19},{"$f":"'2016 syoa'!FB29-'2011 syoa'!FB29","v":-8},{"$f":"'2016 syoa'!FC29-'2011 syoa'!FC29","v":16},{"$f":"'2016 syoa'!FD29-'2011 syoa'!FD29","v":-9},{"$f":"'2016 syoa'!FE29-'2011 syoa'!FE29","v":-17},{"$f":"'2016 syoa'!FF29-'2011 syoa'!FF29","v":1},{"$f":"'2016 syoa'!FG29-'2011 syoa'!FG29","v":-13},{"$f":"'2016 syoa'!FH29-'2011 syoa'!FH29","v":-13},{"$f":"'2016 syoa'!FI29-'2011 syoa'!FI29","v":15},{"$f":"'2016 syoa'!FJ29-'2011 syoa'!FJ29","v":7},{"$f":"'2016 syoa'!FK29-'2011 syoa'!FK29","v":-2},{"$f":"'2016 syoa'!FL29-'2011 syoa'!FL29","v":-19},{"$f":"'2016 syoa'!FM29-'2011 syoa'!FM29","v":-3},{"$f":"'2016 syoa'!FN29-'2011 syoa'!FN29","v":-7},{"$f":"'2016 syoa'!FO29-'2011 syoa'!FO29","v":-6},{"$f":"'2016 syoa'!FP29-'2011 syoa'!FP29","v":-17},{"$f":"'2016 syoa'!FQ29-'2011 syoa'!FQ29","v":8},{"$f":"'2016 syoa'!FR29-'2011 syoa'!FR29","v":7},{"$f":"'2016 syoa'!FS29-'2011 syoa'!FS29","v":7},{"$f":"'2016 syoa'!FT29-'2011 syoa'!FT29","v":-12},{"$f":"'2016 syoa'!FU29-'2011 syoa'!FU29","v":4},{"$f":"'2016 syoa'!FV29-'2011 syoa'!FV29","v":10},{"$f":"'2016 syoa'!FW29-'2011 syoa'!FW29","v":3},{"$f":"'2016 syoa'!FX29-'2011 syoa'!FX29","v":-5},{"$f":"'2016 syoa'!FY29-'2011 syoa'!FY29","v":-8},{"$f":"'2016 syoa'!FZ29-'2011 syoa'!FZ29","v":-27},{"$f":"'2016 syoa'!GA29-'2011 syoa'!GA29","v":2},{"$f":"'2016 syoa'!GB29-'2011 syoa'!GB29","v":5},{"$f":"'2016 syoa'!GC29-'2011 syoa'!GC29","v":-1},{"$f":"'2016 syoa'!GD29-'2011 syoa'!GD29","v":-1},{"$f":"'2016 syoa'!GE29-'2011 syoa'!GE29","v":-5}]
["Shard End","Hodge Hill","E05001203",{"$f":"'2016 syoa'!D30-'2011 syoa'!D30","v":524},{"$f":"'2016 syoa'!E30-'2011 syoa'!E30","v":-5},{"$f":"'2016 syoa'!F30-'2011 syoa'!F30","v":9},{"$f":"'2016 syoa'!G30-'2011 syoa'!G30","v":44},{"$f":"'2016 syoa'!H30-'2011 syoa'!H30","v":17},{"$f":"'2016 syoa'!I30-'2011 syoa'!I30","v":64},{"$f":"'2016 syoa'!J30-'2011 syoa'!J30","v":44},{"$f":"'2016 syoa'!K30-'2011 syoa'!K30","v":42},{"$f":"'2016 syoa'!L30-'2011 syoa'!L30","v":31},{"$f":"'2016 syoa'!M30-'2011 syoa'!M30","v":40},{"$f":"'2016 syoa'!N30-'2011 syoa'!N30","v":49},{"$f":"'2016 syoa'!O30-'2011 syoa'!O30","v":31},{"$f":"'2016 syoa'!P30-'2011 syoa'!P30","v":12},{"$f":"'2016 syoa'!Q30-'2011 syoa'!Q30","v":0},{"$f":"'2016 syoa'!R30-'2011 syoa'!R30","v":-23},{"$f":"'2016 syoa'!S30-'2011 syoa'!S30","v":-64},{"$f":"'2016 syoa'!T30-'2011 syoa'!T30","v":-12},{"$f":"'2016 syoa'!U30-'2011 syoa'!U30","v":-38},{"$f":"'2016 syoa'!V30-'2011 syoa'!V30","v":1},{"$f":"'2016 syoa'!W30-'2011 syoa'!W30","v":-37},{"$f":"'2016 syoa'!X30-'2011 syoa'!X30","v":11},{"$f":"'2016 syoa'!Y30-'2011 syoa'!Y30","v":6},{"$f":"'2016 syoa'!Z30-'2011 syoa'!Z30","v":-13},{"$f":"'2016 syoa'!AA30-'2011 syoa'!AA30","v":14},{"$f":"'2016 syoa'!AB30-'2011 syoa'!AB30","v":12},{"$f":"'2016 syoa'!AC30-'2011 syoa'!AC30","v":55},{"$f":"'2016 syoa'!AD30-'2011 syoa'!AD30","v":77},{"$f":"'2016 syoa'!AE30-'2011 syoa'!AE30","v":56},{"$f":"'2016 syoa'!AF30-'2011 syoa'!AF30","v":-3},{"$f":"'2016 syoa'!AG30-'2011 syoa'!AG30","v":-14},{"$f":"'2016 syoa'!AH30-'2011 syoa'!AH30","v":27},{"$f":"'2016 syoa'!AI30-'2011 syoa'!AI30","v":31},{"$f":"'2016 syoa'!AJ30-'2011 syoa'!AJ30","v":36},{"$f":"'2016 syoa'!AK30-'2011 syoa'!AK30","v":44},{"$f":"'2016 syoa'!AL30-'2011 syoa'!AL30","v":15},{"$f":"'2016 syoa'!AM30-'2011 syoa'!AM30","v":-9},{"$f":"'2016 syoa'!AN30-'2011 syoa'!AN30","v":9},{"$f":"'2016 syoa'!AO30-'2011 syoa'!AO30","v":10},{"$f":"'2016 syoa'!AP30-'2011 syoa'!AP30","v":8},{"$f":"'2016 syoa'!AQ30-'2011 syoa'!AQ30","v":-32},{"$f":"'2016 syoa'!AR30-'2011 syoa'!AR30","v":-39},{"$f":"'2016 syoa'!AS30-'2011 syoa'!AS30","v":-34},{"$f":"'2016 syoa'!AT30-'2011 syoa'!AT30","v":-57},{"$f":"'2016 syoa'!AU30-'2011 syoa'!AU30","v":-34},{"$f":"'2016 syoa'!AV30-'2011 syoa'!AV30","v":-23},{"$f":"'2016 syoa'!AW30-'2011 syoa'!AW30","v":9},{"$f":"'2016 syoa'!AX30-'2011 syoa'!AX30","v":-13},{"$f":"'2016 syoa'!AY30-'2011 syoa'!AY30","v":19},{"$f":"'2016 syoa'!AZ30-'2011 syoa'!AZ30","v":3},{"$f":"'2016 syoa'!BA30-'2011 syoa'!BA30","v":-10},{"$f":"'2016 syoa'!BB30-'2011 syoa'!BB30","v":3},{"$f":"'2016 syoa'!BC30-'2011 syoa'!BC30","v":13},{"$f":"'2016 syoa'!BD30-'2011 syoa'!BD30","v":13},{"$f":"'2016 syoa'!BE30-'2011 syoa'!BE30","v":10},{"$f":"'2016 syoa'!BF30-'2011 syoa'!BF30","v":-1},{"$f":"'2016 syoa'!BG30-'2011 syoa'!BG30","v":38},{"$f":"'2016 syoa'!BH30-'2011 syoa'!BH30","v":23},{"$f":"'2016 syoa'!BI30-'2011 syoa'!BI30","v":39},{"$f":"'2016 syoa'!BJ30-'2011 syoa'!BJ30","v":5},{"$f":"'2016 syoa'!BK30-'2011 syoa'!BK30","v":36},{"$f":"'2016 syoa'!BL30-'2011 syoa'!BL30","v":-23},{"$f":"'2016 syoa'!BM30-'2011 syoa'!BM30","v":-9},{"$f":"'2016 syoa'!BN30-'2011 syoa'!BN30","v":-17},{"$f":"'2016 syoa'!BO30-'2011 syoa'!BO30","v":-18},{"$f":"'2016 syoa'!BP30-'2011 syoa'!BP30","v":-36},{"$f":"'2016 syoa'!BQ30-'2011 syoa'!BQ30","v":-36},{"$f":"'2016 syoa'!BR30-'2011 syoa'!BR30","v":-26},{"$f":"'2016 syoa'!BS30-'2011 syoa'!BS30","v":0},{"$f":"'2016 syoa'!BT30-'2011 syoa'!BT30","v":44},{"$f":"'2016 syoa'!BU30-'2011 syoa'!BU30","v":37},{"$f":"'2016 syoa'!BV30-'2011 syoa'!BV30","v":65},{"$f":"'2016 syoa'!BW30-'2011 syoa'!BW30","v":29},{"$f":"'2016 syoa'!BX30-'2011 syoa'!BX30","v":23},{"$f":"'2016 syoa'!BY30-'2011 syoa'!BY30","v":6},{"$f":"'2016 syoa'!BZ30-'2011 syoa'!BZ30","v":33},{"$f":"'2016 syoa'!CA30-'2011 syoa'!CA30","v":-2},{"$f":"'2016 syoa'!CB30-'2011 syoa'!CB30","v":-13},{"$f":"'2016 syoa'!CC30-'2011 syoa'!CC30","v":-6},{"$f":"'2016 syoa'!CD30-'2011 syoa'!CD30","v":2},{"$f":"'2016 syoa'!CE30-'2011 syoa'!CE30","v":-27},{"$f":"'2016 syoa'!CF30-'2011 syoa'!CF30","v":2},{"$f":"'2016 syoa'!CG30-'2011 syoa'!CG30","v":-5},{"$f":"'2016 syoa'!CH30-'2011 syoa'!CH30","v":6},{"$f":"'2016 syoa'!CI30-'2011 syoa'!CI30","v":6},{"$f":"'2016 syoa'!CJ30-'2011 syoa'!CJ30","v":10},{"$f":"'2016 syoa'!CK30-'2011 syoa'!CK30","v":0},{"$f":"'2016 syoa'!CL30-'2011 syoa'!CL30","v":1},{"$f":"'2016 syoa'!CM30-'2011 syoa'!CM30","v":-19},{"$f":"'2016 syoa'!CN30-'2011 syoa'!CN30","v":-16},{"$f":"'2016 syoa'!CO30-'2011 syoa'!CO30","v":-14},{"$f":"'2016 syoa'!CP30-'2011 syoa'!CP30","v":-17},{"$f":"'2016 syoa'!CQ30-'2011 syoa'!CQ30","v":-1},{"$f":"'2016 syoa'!CR30-'2011 syoa'!CR30","v":458},{"$f":"'2016 syoa'!CS30-'2011 syoa'!CS30","v":-28},{"$f":"'2016 syoa'!CT30-'2011 syoa'!CT30","v":-1},{"$f":"'2016 syoa'!CU30-'2011 syoa'!CU30","v":-22},{"$f":"'2016 syoa'!CV30-'2011 syoa'!CV30","v":60},{"$f":"'2016 syoa'!CW30-'2011 syoa'!CW30","v":29},{"$f":"'2016 syoa'!CX30-'2011 syoa'!CX30","v":56},{"$f":"'2016 syoa'!CY30-'2011 syoa'!CY30","v":14},{"$f":"'2016 syoa'!CZ30-'2011 syoa'!CZ30","v":33},{"$f":"'2016 syoa'!DA30-'2011 syoa'!DA30","v":35},{"$f":"'2016 syoa'!DB30-'2011 syoa'!DB30","v":5},{"$f":"'2016 syoa'!DC30-'2011 syoa'!DC30","v":18},{"$f":"'2016 syoa'!DD30-'2011 syoa'!DD30","v":36},{"$f":"'2016 syoa'!DE30-'2011 syoa'!DE30","v":12},{"$f":"'2016 syoa'!DF30-'2011 syoa'!DF30","v":-15},{"$f":"'2016 syoa'!DG30-'2011 syoa'!DG30","v":-13},{"$f":"'2016 syoa'!DH30-'2011 syoa'!DH30","v":-35},{"$f":"'2016 syoa'!DI30-'2011 syoa'!DI30","v":-52},{"$f":"'2016 syoa'!DJ30-'2011 syoa'!DJ30","v":-36},{"$f":"'2016 syoa'!DK30-'2011 syoa'!DK30","v":-30},{"$f":"'2016 syoa'!DL30-'2011 syoa'!DL30","v":-26},{"$f":"'2016 syoa'!DM30-'2011 syoa'!DM30","v":56},{"$f":"'2016 syoa'!DN30-'2011 syoa'!DN30","v":22},{"$f":"'2016 syoa'!DO30-'2011 syoa'!DO30","v":-18},{"$f":"'2016 syoa'!DP30-'2011 syoa'!DP30","v":2},{"$f":"'2016 syoa'!DQ30-'2011 syoa'!DQ30","v":-8},{"$f":"'2016 syoa'!DR30-'2011 syoa'!DR30","v":50},{"$f":"'2016 syoa'!DS30-'2011 syoa'!DS30","v":0},{"$f":"'2016 syoa'!DT30-'2011 syoa'!DT30","v":55},{"$f":"'2016 syoa'!DU30-'2011 syoa'!DU30","v":27},{"$f":"'2016 syoa'!DV30-'2011 syoa'!DV30","v":29},{"$f":"'2016 syoa'!DW30-'2011 syoa'!DW30","v":19},{"$f":"'2016 syoa'!DX30-'2011 syoa'!DX30","v":3},{"$f":"'2016 syoa'!DY30-'2011 syoa'!DY30","v":15},{"$f":"'2016 syoa'!DZ30-'2011 syoa'!DZ30","v":41},{"$f":"'2016 syoa'!EA30-'2011 syoa'!EA30","v":33},{"$f":"'2016 syoa'!EB30-'2011 syoa'!EB30","v":39},{"$f":"'2016 syoa'!EC30-'2011 syoa'!EC30","v":53},{"$f":"'2016 syoa'!ED30-'2011 syoa'!ED30","v":1},{"$f":"'2016 syoa'!EE30-'2011 syoa'!EE30","v":-31},{"$f":"'2016 syoa'!EF30-'2011 syoa'!EF30","v":-37},{"$f":"'2016 syoa'!EG30-'2011 syoa'!EG30","v":-59},{"$f":"'2016 syoa'!EH30-'2011 syoa'!EH30","v":-57},{"$f":"'2016 syoa'!EI30-'2011 syoa'!EI30","v":-2},{"$f":"'2016 syoa'!EJ30-'2011 syoa'!EJ30","v":-11},{"$f":"'2016 syoa'!EK30-'2011 syoa'!EK30","v":-1},{"$f":"'2016 syoa'!EL30-'2011 syoa'!EL30","v":-4},{"$f":"'2016 syoa'!EM30-'2011 syoa'!EM30","v":9},{"$f":"'2016 syoa'!EN30-'2011 syoa'!EN30","v":-1},{"$f":"'2016 syoa'!EO30-'2011 syoa'!EO30","v":12},{"$f":"'2016 syoa'!EP30-'2011 syoa'!EP30","v":21},{"$f":"'2016 syoa'!EQ30-'2011 syoa'!EQ30","v":19},{"$f":"'2016 syoa'!ER30-'2011 syoa'!ER30","v":19},{"$f":"'2016 syoa'!ES30-'2011 syoa'!ES30","v":27},{"$f":"'2016 syoa'!ET30-'2011 syoa'!ET30","v":15},{"$f":"'2016 syoa'!EU30-'2011 syoa'!EU30","v":30},{"$f":"'2016 syoa'!EV30-'2011 syoa'!EV30","v":68},{"$f":"'2016 syoa'!EW30-'2011 syoa'!EW30","v":21},{"$f":"'2016 syoa'!EX30-'2011 syoa'!EX30","v":-2},{"$f":"'2016 syoa'!EY30-'2011 syoa'!EY30","v":12},{"$f":"'2016 syoa'!EZ30-'2011 syoa'!EZ30","v":21},{"$f":"'2016 syoa'!FA30-'2011 syoa'!FA30","v":-16},{"$f":"'2016 syoa'!FB30-'2011 syoa'!FB30","v":0},{"$f":"'2016 syoa'!FC30-'2011 syoa'!FC30","v":18},{"$f":"'2016 syoa'!FD30-'2011 syoa'!FD30","v":-9},{"$f":"'2016 syoa'!FE30-'2011 syoa'!FE30","v":-45},{"$f":"'2016 syoa'!FF30-'2011 syoa'!FF30","v":14},{"$f":"'2016 syoa'!FG30-'2011 syoa'!FG30","v":15},{"$f":"'2016 syoa'!FH30-'2011 syoa'!FH30","v":-6},{"$f":"'2016 syoa'!FI30-'2011 syoa'!FI30","v":44},{"$f":"'2016 syoa'!FJ30-'2011 syoa'!FJ30","v":30},{"$f":"'2016 syoa'!FK30-'2011 syoa'!FK30","v":20},{"$f":"'2016 syoa'!FL30-'2011 syoa'!FL30","v":36},{"$f":"'2016 syoa'!FM30-'2011 syoa'!FM30","v":34},{"$f":"'2016 syoa'!FN30-'2011 syoa'!FN30","v":-2},{"$f":"'2016 syoa'!FO30-'2011 syoa'!FO30","v":4},{"$f":"'2016 syoa'!FP30-'2011 syoa'!FP30","v":-6},{"$f":"'2016 syoa'!FQ30-'2011 syoa'!FQ30","v":-12},{"$f":"'2016 syoa'!FR30-'2011 syoa'!FR30","v":4},{"$f":"'2016 syoa'!FS30-'2011 syoa'!FS30","v":-3},{"$f":"'2016 syoa'!FT30-'2011 syoa'!FT30","v":-24},{"$f":"'2016 syoa'!FU30-'2011 syoa'!FU30","v":-18},{"$f":"'2016 syoa'!FV30-'2011 syoa'!FV30","v":8},{"$f":"'2016 syoa'!FW30-'2011 syoa'!FW30","v":-20},{"$f":"'2016 syoa'!FX30-'2011 syoa'!FX30","v":-16},{"$f":"'2016 syoa'!FY30-'2011 syoa'!FY30","v":-11},{"$f":"'2016 syoa'!FZ30-'2011 syoa'!FZ30","v":-26},{"$f":"'2016 syoa'!GA30-'2011 syoa'!GA30","v":-55},{"$f":"'2016 syoa'!GB30-'2011 syoa'!GB30","v":-16},{"$f":"'2016 syoa'!GC30-'2011 syoa'!GC30","v":-19},{"$f":"'2016 syoa'!GD30-'2011 syoa'!GD30","v":-19},{"$f":"'2016 syoa'!GE30-'2011 syoa'!GE30","v":26}]
["Sheldon","Yardley","E05001204",{"$f":"'2016 syoa'!D31-'2011 syoa'!D31","v":595},{"$f":"'2016 syoa'!E31-'2011 syoa'!E31","v":43},{"$f":"'2016 syoa'!F31-'2011 syoa'!F31","v":7},{"$f":"'2016 syoa'!G31-'2011 syoa'!G31","v":0},{"$f":"'2016 syoa'!H31-'2011 syoa'!H31","v":47},{"$f":"'2016 syoa'!I31-'2011 syoa'!I31","v":51},{"$f":"'2016 syoa'!J31-'2011 syoa'!J31","v":8},{"$f":"'2016 syoa'!K31-'2011 syoa'!K31","v":-2},{"$f":"'2016 syoa'!L31-'2011 syoa'!L31","v":32},{"$f":"'2016 syoa'!M31-'2011 syoa'!M31","v":-3},{"$f":"'2016 syoa'!N31-'2011 syoa'!N31","v":-9},{"$f":"'2016 syoa'!O31-'2011 syoa'!O31","v":24},{"$f":"'2016 syoa'!P31-'2011 syoa'!P31","v":11},{"$f":"'2016 syoa'!Q31-'2011 syoa'!Q31","v":4},{"$f":"'2016 syoa'!R31-'2011 syoa'!R31","v":19},{"$f":"'2016 syoa'!S31-'2011 syoa'!S31","v":-5},{"$f":"'2016 syoa'!T31-'2011 syoa'!T31","v":1},{"$f":"'2016 syoa'!U31-'2011 syoa'!U31","v":0},{"$f":"'2016 syoa'!V31-'2011 syoa'!V31","v":-7},{"$f":"'2016 syoa'!W31-'2011 syoa'!W31","v":0},{"$f":"'2016 syoa'!X31-'2011 syoa'!X31","v":25},{"$f":"'2016 syoa'!Y31-'2011 syoa'!Y31","v":1},{"$f":"'2016 syoa'!Z31-'2011 syoa'!Z31","v":17},{"$f":"'2016 syoa'!AA31-'2011 syoa'!AA31","v":31},{"$f":"'2016 syoa'!AB31-'2011 syoa'!AB31","v":27},{"$f":"'2016 syoa'!AC31-'2011 syoa'!AC31","v":23},{"$f":"'2016 syoa'!AD31-'2011 syoa'!AD31","v":43},{"$f":"'2016 syoa'!AE31-'2011 syoa'!AE31","v":19},{"$f":"'2016 syoa'!AF31-'2011 syoa'!AF31","v":37},{"$f":"'2016 syoa'!AG31-'2011 syoa'!AG31","v":16},{"$f":"'2016 syoa'!AH31-'2011 syoa'!AH31","v":26},{"$f":"'2016 syoa'!AI31-'2011 syoa'!AI31","v":35},{"$f":"'2016 syoa'!AJ31-'2011 syoa'!AJ31","v":45},{"$f":"'2016 syoa'!AK31-'2011 syoa'!AK31","v":14},{"$f":"'2016 syoa'!AL31-'2011 syoa'!AL31","v":27},{"$f":"'2016 syoa'!AM31-'2011 syoa'!AM31","v":19},{"$f":"'2016 syoa'!AN31-'2011 syoa'!AN31","v":27},{"$f":"'2016 syoa'!AO31-'2011 syoa'!AO31","v":12},{"$f":"'2016 syoa'!AP31-'2011 syoa'!AP31","v":3},{"$f":"'2016 syoa'!AQ31-'2011 syoa'!AQ31","v":15},{"$f":"'2016 syoa'!AR31-'2011 syoa'!AR31","v":-28},{"$f":"'2016 syoa'!AS31-'2011 syoa'!AS31","v":-42},{"$f":"'2016 syoa'!AT31-'2011 syoa'!AT31","v":-35},{"$f":"'2016 syoa'!AU31-'2011 syoa'!AU31","v":-54},{"$f":"'2016 syoa'!AV31-'2011 syoa'!AV31","v":-62},{"$f":"'2016 syoa'!AW31-'2011 syoa'!AW31","v":-17},{"$f":"'2016 syoa'!AX31-'2011 syoa'!AX31","v":-23},{"$f":"'2016 syoa'!AY31-'2011 syoa'!AY31","v":-19},{"$f":"'2016 syoa'!AZ31-'2011 syoa'!AZ31","v":-23},{"$f":"'2016 syoa'!BA31-'2011 syoa'!BA31","v":-10},{"$f":"'2016 syoa'!BB31-'2011 syoa'!BB31","v":21},{"$f":"'2016 syoa'!BC31-'2011 syoa'!BC31","v":23},{"$f":"'2016 syoa'!BD31-'2011 syoa'!BD31","v":10},{"$f":"'2016 syoa'!BE31-'2011 syoa'!BE31","v":14},{"$f":"'2016 syoa'!BF31-'2011 syoa'!BF31","v":33},{"$f":"'2016 syoa'!BG31-'2011 syoa'!BG31","v":42},{"$f":"'2016 syoa'!BH31-'2011 syoa'!BH31","v":39},{"$f":"'2016 syoa'!BI31-'2011 syoa'!BI31","v":-4},{"$f":"'2016 syoa'!BJ31-'2011 syoa'!BJ31","v":24},{"$f":"'2016 syoa'!BK31-'2011 syoa'!BK31","v":31},{"$f":"'2016 syoa'!BL31-'2011 syoa'!BL31","v":8},{"$f":"'2016 syoa'!BM31-'2011 syoa'!BM31","v":5},{"$f":"'2016 syoa'!BN31-'2011 syoa'!BN31","v":11},{"$f":"'2016 syoa'!BO31-'2011 syoa'!BO31","v":0},{"$f":"'2016 syoa'!BP31-'2011 syoa'!BP31","v":-37},{"$f":"'2016 syoa'!BQ31-'2011 syoa'!BQ31","v":-9},{"$f":"'2016 syoa'!BR31-'2011 syoa'!BR31","v":-37},{"$f":"'2016 syoa'!BS31-'2011 syoa'!BS31","v":-11},{"$f":"'2016 syoa'!BT31-'2011 syoa'!BT31","v":-35},{"$f":"'2016 syoa'!BU31-'2011 syoa'!BU31","v":-3},{"$f":"'2016 syoa'!BV31-'2011 syoa'!BV31","v":12},{"$f":"'2016 syoa'!BW31-'2011 syoa'!BW31","v":32},{"$f":"'2016 syoa'!BX31-'2011 syoa'!BX31","v":0},{"$f":"'2016 syoa'!BY31-'2011 syoa'!BY31","v":10},{"$f":"'2016 syoa'!BZ31-'2011 syoa'!BZ31","v":30},{"$f":"'2016 syoa'!CA31-'2011 syoa'!CA31","v":4},{"$f":"'2016 syoa'!CB31-'2011 syoa'!CB31","v":-11},{"$f":"'2016 syoa'!CC31-'2011 syoa'!CC31","v":6},{"$f":"'2016 syoa'!CD31-'2011 syoa'!CD31","v":-5},{"$f":"'2016 syoa'!CE31-'2011 syoa'!CE31","v":4},{"$f":"'2016 syoa'!CF31-'2011 syoa'!CF31","v":-4},{"$f":"'2016 syoa'!CG31-'2011 syoa'!CG31","v":-11},{"$f":"'2016 syoa'!CH31-'2011 syoa'!CH31","v":1},{"$f":"'2016 syoa'!CI31-'2011 syoa'!CI31","v":7},{"$f":"'2016 syoa'!CJ31-'2011 syoa'!CJ31","v":18},{"$f":"'2016 syoa'!CK31-'2011 syoa'!CK31","v":2},{"$f":"'2016 syoa'!CL31-'2011 syoa'!CL31","v":14},{"$f":"'2016 syoa'!CM31-'2011 syoa'!CM31","v":-2},{"$f":"'2016 syoa'!CN31-'2011 syoa'!CN31","v":0},{"$f":"'2016 syoa'!CO31-'2011 syoa'!CO31","v":-6},{"$f":"'2016 syoa'!CP31-'2011 syoa'!CP31","v":-2},{"$f":"'2016 syoa'!CQ31-'2011 syoa'!CQ31","v":1},{"$f":"'2016 syoa'!CR31-'2011 syoa'!CR31","v":680},{"$f":"'2016 syoa'!CS31-'2011 syoa'!CS31","v":41},{"$f":"'2016 syoa'!CT31-'2011 syoa'!CT31","v":25},{"$f":"'2016 syoa'!CU31-'2011 syoa'!CU31","v":38},{"$f":"'2016 syoa'!CV31-'2011 syoa'!CV31","v":-15},{"$f":"'2016 syoa'!CW31-'2011 syoa'!CW31","v":36},{"$f":"'2016 syoa'!CX31-'2011 syoa'!CX31","v":26},{"$f":"'2016 syoa'!CY31-'2011 syoa'!CY31","v":30},{"$f":"'2016 syoa'!CZ31-'2011 syoa'!CZ31","v":-9},{"$f":"'2016 syoa'!DA31-'2011 syoa'!DA31","v":45},{"$f":"'2016 syoa'!DB31-'2011 syoa'!DB31","v":27},{"$f":"'2016 syoa'!DC31-'2011 syoa'!DC31","v":40},{"$f":"'2016 syoa'!DD31-'2011 syoa'!DD31","v":-11},{"$f":"'2016 syoa'!DE31-'2011 syoa'!DE31","v":-9},{"$f":"'2016 syoa'!DF31-'2011 syoa'!DF31","v":-24},{"$f":"'2016 syoa'!DG31-'2011 syoa'!DG31","v":0},{"$f":"'2016 syoa'!DH31-'2011 syoa'!DH31","v":-24},{"$f":"'2016 syoa'!DI31-'2011 syoa'!DI31","v":13},{"$f":"'2016 syoa'!DJ31-'2011 syoa'!DJ31","v":4},{"$f":"'2016 syoa'!DK31-'2011 syoa'!DK31","v":-8},{"$f":"'2016 syoa'!DL31-'2011 syoa'!DL31","v":-21},{"$f":"'2016 syoa'!DM31-'2011 syoa'!DM31","v":31},{"$f":"'2016 syoa'!DN31-'2011 syoa'!DN31","v":25},{"$f":"'2016 syoa'!DO31-'2011 syoa'!DO31","v":31},{"$f":"'2016 syoa'!DP31-'2011 syoa'!DP31","v":14},{"$f":"'2016 syoa'!DQ31-'2011 syoa'!DQ31","v":34},{"$f":"'2016 syoa'!DR31-'2011 syoa'!DR31","v":48},{"$f":"'2016 syoa'!DS31-'2011 syoa'!DS31","v":53},{"$f":"'2016 syoa'!DT31-'2011 syoa'!DT31","v":35},{"$f":"'2016 syoa'!DU31-'2011 syoa'!DU31","v":29},{"$f":"'2016 syoa'!DV31-'2011 syoa'!DV31","v":22},{"$f":"'2016 syoa'!DW31-'2011 syoa'!DW31","v":12},{"$f":"'2016 syoa'!DX31-'2011 syoa'!DX31","v":-4},{"$f":"'2016 syoa'!DY31-'2011 syoa'!DY31","v":1},{"$f":"'2016 syoa'!DZ31-'2011 syoa'!DZ31","v":14},{"$f":"'2016 syoa'!EA31-'2011 syoa'!EA31","v":30},{"$f":"'2016 syoa'!EB31-'2011 syoa'!EB31","v":14},{"$f":"'2016 syoa'!EC31-'2011 syoa'!EC31","v":31},{"$f":"'2016 syoa'!ED31-'2011 syoa'!ED31","v":30},{"$f":"'2016 syoa'!EE31-'2011 syoa'!EE31","v":-8},{"$f":"'2016 syoa'!EF31-'2011 syoa'!EF31","v":-16},{"$f":"'2016 syoa'!EG31-'2011 syoa'!EG31","v":-2},{"$f":"'2016 syoa'!EH31-'2011 syoa'!EH31","v":-28},{"$f":"'2016 syoa'!EI31-'2011 syoa'!EI31","v":-36},{"$f":"'2016 syoa'!EJ31-'2011 syoa'!EJ31","v":-27},{"$f":"'2016 syoa'!EK31-'2011 syoa'!EK31","v":-24},{"$f":"'2016 syoa'!EL31-'2011 syoa'!EL31","v":-12},{"$f":"'2016 syoa'!EM31-'2011 syoa'!EM31","v":1},{"$f":"'2016 syoa'!EN31-'2011 syoa'!EN31","v":3},{"$f":"'2016 syoa'!EO31-'2011 syoa'!EO31","v":-26},{"$f":"'2016 syoa'!EP31-'2011 syoa'!EP31","v":18},{"$f":"'2016 syoa'!EQ31-'2011 syoa'!EQ31","v":38},{"$f":"'2016 syoa'!ER31-'2011 syoa'!ER31","v":-2},{"$f":"'2016 syoa'!ES31-'2011 syoa'!ES31","v":30},{"$f":"'2016 syoa'!ET31-'2011 syoa'!ET31","v":52},{"$f":"'2016 syoa'!EU31-'2011 syoa'!EU31","v":60},{"$f":"'2016 syoa'!EV31-'2011 syoa'!EV31","v":59},{"$f":"'2016 syoa'!EW31-'2011 syoa'!EW31","v":27},{"$f":"'2016 syoa'!EX31-'2011 syoa'!EX31","v":21},{"$f":"'2016 syoa'!EY31-'2011 syoa'!EY31","v":-5},{"$f":"'2016 syoa'!EZ31-'2011 syoa'!EZ31","v":19},{"$f":"'2016 syoa'!FA31-'2011 syoa'!FA31","v":-19},{"$f":"'2016 syoa'!FB31-'2011 syoa'!FB31","v":-22},{"$f":"'2016 syoa'!FC31-'2011 syoa'!FC31","v":-3},{"$f":"'2016 syoa'!FD31-'2011 syoa'!FD31","v":26},{"$f":"'2016 syoa'!FE31-'2011 syoa'!FE31","v":-52},{"$f":"'2016 syoa'!FF31-'2011 syoa'!FF31","v":-18},{"$f":"'2016 syoa'!FG31-'2011 syoa'!FG31","v":1},{"$f":"'2016 syoa'!FH31-'2011 syoa'!FH31","v":-5},{"$f":"'2016 syoa'!FI31-'2011 syoa'!FI31","v":-10},{"$f":"'2016 syoa'!FJ31-'2011 syoa'!FJ31","v":35},{"$f":"'2016 syoa'!FK31-'2011 syoa'!FK31","v":24},{"$f":"'2016 syoa'!FL31-'2011 syoa'!FL31","v":15},{"$f":"'2016 syoa'!FM31-'2011 syoa'!FM31","v":-6},{"$f":"'2016 syoa'!FN31-'2011 syoa'!FN31","v":-27},{"$f":"'2016 syoa'!FO31-'2011 syoa'!FO31","v":9},{"$f":"'2016 syoa'!FP31-'2011 syoa'!FP31","v":-27},{"$f":"'2016 syoa'!FQ31-'2011 syoa'!FQ31","v":-5},{"$f":"'2016 syoa'!FR31-'2011 syoa'!FR31","v":5},{"$f":"'2016 syoa'!FS31-'2011 syoa'!FS31","v":27},{"$f":"'2016 syoa'!FT31-'2011 syoa'!FT31","v":-6},{"$f":"'2016 syoa'!FU31-'2011 syoa'!FU31","v":23},{"$f":"'2016 syoa'!FV31-'2011 syoa'!FV31","v":-5},{"$f":"'2016 syoa'!FW31-'2011 syoa'!FW31","v":3},{"$f":"'2016 syoa'!FX31-'2011 syoa'!FX31","v":15},{"$f":"'2016 syoa'!FY31-'2011 syoa'!FY31","v":-4},{"$f":"'2016 syoa'!FZ31-'2011 syoa'!FZ31","v":-13},{"$f":"'2016 syoa'!GA31-'2011 syoa'!GA31","v":-11},{"$f":"'2016 syoa'!GB31-'2011 syoa'!GB31","v":-22},{"$f":"'2016 syoa'!GC31-'2011 syoa'!GC31","v":-21},{"$f":"'2016 syoa'!GD31-'2011 syoa'!GD31","v":-30},{"$f":"'2016 syoa'!GE31-'2011 syoa'!GE31","v":7}]
["Soho","Ladywood","E05001205",{"$f":"'2016 syoa'!D32-'2011 syoa'!D32","v":1405},{"$f":"'2016 syoa'!E32-'2011 syoa'!E32","v":25},{"$f":"'2016 syoa'!F32-'2011 syoa'!F32","v":17},{"$f":"'2016 syoa'!G32-'2011 syoa'!G32","v":-7},{"$f":"'2016 syoa'!H32-'2011 syoa'!H32","v":55},{"$f":"'2016 syoa'!I32-'2011 syoa'!I32","v":64},{"$f":"'2016 syoa'!J32-'2011 syoa'!J32","v":-2},{"$f":"'2016 syoa'!K32-'2011 syoa'!K32","v":15},{"$f":"'2016 syoa'!L32-'2011 syoa'!L32","v":-1},{"$f":"'2016 syoa'!M32-'2011 syoa'!M32","v":28},{"$f":"'2016 syoa'!N32-'2011 syoa'!N32","v":50},{"$f":"'2016 syoa'!O32-'2011 syoa'!O32","v":-11},{"$f":"'2016 syoa'!P32-'2011 syoa'!P32","v":72},{"$f":"'2016 syoa'!Q32-'2011 syoa'!Q32","v":44},{"$f":"'2016 syoa'!R32-'2011 syoa'!R32","v":36},{"$f":"'2016 syoa'!S32-'2011 syoa'!S32","v":2},{"$f":"'2016 syoa'!T32-'2011 syoa'!T32","v":27},{"$f":"'2016 syoa'!U32-'2011 syoa'!U32","v":-10},{"$f":"'2016 syoa'!V32-'2011 syoa'!V32","v":0},{"$f":"'2016 syoa'!W32-'2011 syoa'!W32","v":14},{"$f":"'2016 syoa'!X32-'2011 syoa'!X32","v":25},{"$f":"'2016 syoa'!Y32-'2011 syoa'!Y32","v":-15},{"$f":"'2016 syoa'!Z32-'2011 syoa'!Z32","v":-1},{"$f":"'2016 syoa'!AA32-'2011 syoa'!AA32","v":-15},{"$f":"'2016 syoa'!AB32-'2011 syoa'!AB32","v":9},{"$f":"'2016 syoa'!AC32-'2011 syoa'!AC32","v":20},{"$f":"'2016 syoa'!AD32-'2011 syoa'!AD32","v":16},{"$f":"'2016 syoa'!AE32-'2011 syoa'!AE32","v":48},{"$f":"'2016 syoa'!AF32-'2011 syoa'!AF32","v":31},{"$f":"'2016 syoa'!AG32-'2011 syoa'!AG32","v":-20},{"$f":"'2016 syoa'!AH32-'2011 syoa'!AH32","v":-10},{"$f":"'2016 syoa'!AI32-'2011 syoa'!AI32","v":-13},{"$f":"'2016 syoa'!AJ32-'2011 syoa'!AJ32","v":1},{"$f":"'2016 syoa'!AK32-'2011 syoa'!AK32","v":-31},{"$f":"'2016 syoa'!AL32-'2011 syoa'!AL32","v":47},{"$f":"'2016 syoa'!AM32-'2011 syoa'!AM32","v":46},{"$f":"'2016 syoa'!AN32-'2011 syoa'!AN32","v":45},{"$f":"'2016 syoa'!AO32-'2011 syoa'!AO32","v":52},{"$f":"'2016 syoa'!AP32-'2011 syoa'!AP32","v":45},{"$f":"'2016 syoa'!AQ32-'2011 syoa'!AQ32","v":16},{"$f":"'2016 syoa'!AR32-'2011 syoa'!AR32","v":-25},{"$f":"'2016 syoa'!AS32-'2011 syoa'!AS32","v":14},{"$f":"'2016 syoa'!AT32-'2011 syoa'!AT32","v":57},{"$f":"'2016 syoa'!AU32-'2011 syoa'!AU32","v":-1},{"$f":"'2016 syoa'!AV32-'2011 syoa'!AV32","v":24},{"$f":"'2016 syoa'!AW32-'2011 syoa'!AW32","v":26},{"$f":"'2016 syoa'!AX32-'2011 syoa'!AX32","v":55},{"$f":"'2016 syoa'!AY32-'2011 syoa'!AY32","v":44},{"$f":"'2016 syoa'!AZ32-'2011 syoa'!AZ32","v":23},{"$f":"'2016 syoa'!BA32-'2011 syoa'!BA32","v":13},{"$f":"'2016 syoa'!BB32-'2011 syoa'!BB32","v":13},{"$f":"'2016 syoa'!BC32-'2011 syoa'!BC32","v":26},{"$f":"'2016 syoa'!BD32-'2011 syoa'!BD32","v":33},{"$f":"'2016 syoa'!BE32-'2011 syoa'!BE32","v":38},{"$f":"'2016 syoa'!BF32-'2011 syoa'!BF32","v":44},{"$f":"'2016 syoa'!BG32-'2011 syoa'!BG32","v":51},{"$f":"'2016 syoa'!BH32-'2011 syoa'!BH32","v":32},{"$f":"'2016 syoa'!BI32-'2011 syoa'!BI32","v":25},{"$f":"'2016 syoa'!BJ32-'2011 syoa'!BJ32","v":14},{"$f":"'2016 syoa'!BK32-'2011 syoa'!BK32","v":9},{"$f":"'2016 syoa'!BL32-'2011 syoa'!BL32","v":3},{"$f":"'2016 syoa'!BM32-'2011 syoa'!BM32","v":7},{"$f":"'2016 syoa'!BN32-'2011 syoa'!BN32","v":30},{"$f":"'2016 syoa'!BO32-'2011 syoa'!BO32","v":42},{"$f":"'2016 syoa'!BP32-'2011 syoa'!BP32","v":38},{"$f":"'2016 syoa'!BQ32-'2011 syoa'!BQ32","v":32},{"$f":"'2016 syoa'!BR32-'2011 syoa'!BR32","v":15},{"$f":"'2016 syoa'!BS32-'2011 syoa'!BS32","v":-1},{"$f":"'2016 syoa'!BT32-'2011 syoa'!BT32","v":-10},{"$f":"'2016 syoa'!BU32-'2011 syoa'!BU32","v":0},{"$f":"'2016 syoa'!BV32-'2011 syoa'!BV32","v":-13},{"$f":"'2016 syoa'!BW32-'2011 syoa'!BW32","v":2},{"$f":"'2016 syoa'!BX32-'2011 syoa'!BX32","v":-21},{"$f":"'2016 syoa'!BY32-'2011 syoa'!BY32","v":-11},{"$f":"'2016 syoa'!BZ32-'2011 syoa'!BZ32","v":14},{"$f":"'2016 syoa'!CA32-'2011 syoa'!CA32","v":5},{"$f":"'2016 syoa'!CB32-'2011 syoa'!CB32","v":-9},{"$f":"'2016 syoa'!CC32-'2011 syoa'!CC32","v":26},{"$f":"'2016 syoa'!CD32-'2011 syoa'!CD32","v":-3},{"$f":"'2016 syoa'!CE32-'2011 syoa'!CE32","v":-4},{"$f":"'2016 syoa'!CF32-'2011 syoa'!CF32","v":-13},{"$f":"'2016 syoa'!CG32-'2011 syoa'!CG32","v":-10},{"$f":"'2016 syoa'!CH32-'2011 syoa'!CH32","v":2},{"$f":"'2016 syoa'!CI32-'2011 syoa'!CI32","v":-2},{"$f":"'2016 syoa'!CJ32-'2011 syoa'!CJ32","v":8},{"$f":"'2016 syoa'!CK32-'2011 syoa'!CK32","v":5},{"$f":"'2016 syoa'!CL32-'2011 syoa'!CL32","v":13},{"$f":"'2016 syoa'!CM32-'2011 syoa'!CM32","v":-4},{"$f":"'2016 syoa'!CN32-'2011 syoa'!CN32","v":11},{"$f":"'2016 syoa'!CO32-'2011 syoa'!CO32","v":12},{"$f":"'2016 syoa'!CP32-'2011 syoa'!CP32","v":0},{"$f":"'2016 syoa'!CQ32-'2011 syoa'!CQ32","v":12},{"$f":"'2016 syoa'!CR32-'2011 syoa'!CR32","v":995},{"$f":"'2016 syoa'!CS32-'2011 syoa'!CS32","v":11},{"$f":"'2016 syoa'!CT32-'2011 syoa'!CT32","v":-30},{"$f":"'2016 syoa'!CU32-'2011 syoa'!CU32","v":-30},{"$f":"'2016 syoa'!CV32-'2011 syoa'!CV32","v":9},{"$f":"'2016 syoa'!CW32-'2011 syoa'!CW32","v":49},{"$f":"'2016 syoa'!CX32-'2011 syoa'!CX32","v":9},{"$f":"'2016 syoa'!CY32-'2011 syoa'!CY32","v":5},{"$f":"'2016 syoa'!CZ32-'2011 syoa'!CZ32","v":47},{"$f":"'2016 syoa'!DA32-'2011 syoa'!DA32","v":70},{"$f":"'2016 syoa'!DB32-'2011 syoa'!DB32","v":9},{"$f":"'2016 syoa'!DC32-'2011 syoa'!DC32","v":63},{"$f":"'2016 syoa'!DD32-'2011 syoa'!DD32","v":45},{"$f":"'2016 syoa'!DE32-'2011 syoa'!DE32","v":32},{"$f":"'2016 syoa'!DF32-'2011 syoa'!DF32","v":-18},{"$f":"'2016 syoa'!DG32-'2011 syoa'!DG32","v":13},{"$f":"'2016 syoa'!DH32-'2011 syoa'!DH32","v":5},{"$f":"'2016 syoa'!DI32-'2011 syoa'!DI32","v":23},{"$f":"'2016 syoa'!DJ32-'2011 syoa'!DJ32","v":-14},{"$f":"'2016 syoa'!DK32-'2011 syoa'!DK32","v":31},{"$f":"'2016 syoa'!DL32-'2011 syoa'!DL32","v":3},{"$f":"'2016 syoa'!DM32-'2011 syoa'!DM32","v":18},{"$f":"'2016 syoa'!DN32-'2011 syoa'!DN32","v":-2},{"$f":"'2016 syoa'!DO32-'2011 syoa'!DO32","v":-25},{"$f":"'2016 syoa'!DP32-'2011 syoa'!DP32","v":6},{"$f":"'2016 syoa'!DQ32-'2011 syoa'!DQ32","v":-16},{"$f":"'2016 syoa'!DR32-'2011 syoa'!DR32","v":15},{"$f":"'2016 syoa'!DS32-'2011 syoa'!DS32","v":-9},{"$f":"'2016 syoa'!DT32-'2011 syoa'!DT32","v":-37},{"$f":"'2016 syoa'!DU32-'2011 syoa'!DU32","v":29},{"$f":"'2016 syoa'!DV32-'2011 syoa'!DV32","v":-5},{"$f":"'2016 syoa'!DW32-'2011 syoa'!DW32","v":-28},{"$f":"'2016 syoa'!DX32-'2011 syoa'!DX32","v":-12},{"$f":"'2016 syoa'!DY32-'2011 syoa'!DY32","v":8},{"$f":"'2016 syoa'!DZ32-'2011 syoa'!DZ32","v":49},{"$f":"'2016 syoa'!EA32-'2011 syoa'!EA32","v":25},{"$f":"'2016 syoa'!EB32-'2011 syoa'!EB32","v":65},{"$f":"'2016 syoa'!EC32-'2011 syoa'!EC32","v":71},{"$f":"'2016 syoa'!ED32-'2011 syoa'!ED32","v":41},{"$f":"'2016 syoa'!EE32-'2011 syoa'!EE32","v":-3},{"$f":"'2016 syoa'!EF32-'2011 syoa'!EF32","v":14},{"$f":"'2016 syoa'!EG32-'2011 syoa'!EG32","v":4},{"$f":"'2016 syoa'!EH32-'2011 syoa'!EH32","v":-19},{"$f":"'2016 syoa'!EI32-'2011 syoa'!EI32","v":22},{"$f":"'2016 syoa'!EJ32-'2011 syoa'!EJ32","v":-3},{"$f":"'2016 syoa'!EK32-'2011 syoa'!EK32","v":21},{"$f":"'2016 syoa'!EL32-'2011 syoa'!EL32","v":14},{"$f":"'2016 syoa'!EM32-'2011 syoa'!EM32","v":13},{"$f":"'2016 syoa'!EN32-'2011 syoa'!EN32","v":-16},{"$f":"'2016 syoa'!EO32-'2011 syoa'!EO32","v":20},{"$f":"'2016 syoa'!EP32-'2011 syoa'!EP32","v":-10},{"$f":"'2016 syoa'!EQ32-'2011 syoa'!EQ32","v":4},{"$f":"'2016 syoa'!ER32-'2011 syoa'!ER32","v":31},{"$f":"'2016 syoa'!ES32-'2011 syoa'!ES32","v":-6},{"$f":"'2016 syoa'!ET32-'2011 syoa'!ET32","v":24},{"$f":"'2016 syoa'!EU32-'2011 syoa'!EU32","v":41},{"$f":"'2016 syoa'!EV32-'2011 syoa'!EV32","v":22},{"$f":"'2016 syoa'!EW32-'2011 syoa'!EW32","v":18},{"$f":"'2016 syoa'!EX32-'2011 syoa'!EX32","v":39},{"$f":"'2016 syoa'!EY32-'2011 syoa'!EY32","v":29},{"$f":"'2016 syoa'!EZ32-'2011 syoa'!EZ32","v":1},{"$f":"'2016 syoa'!FA32-'2011 syoa'!FA32","v":36},{"$f":"'2016 syoa'!FB32-'2011 syoa'!FB32","v":18},{"$f":"'2016 syoa'!FC32-'2011 syoa'!FC32","v":23},{"$f":"'2016 syoa'!FD32-'2011 syoa'!FD32","v":9},{"$f":"'2016 syoa'!FE32-'2011 syoa'!FE32","v":17},{"$f":"'2016 syoa'!FF32-'2011 syoa'!FF32","v":15},{"$f":"'2016 syoa'!FG32-'2011 syoa'!FG32","v":41},{"$f":"'2016 syoa'!FH32-'2011 syoa'!FH32","v":-21},{"$f":"'2016 syoa'!FI32-'2011 syoa'!FI32","v":12},{"$f":"'2016 syoa'!FJ32-'2011 syoa'!FJ32","v":7},{"$f":"'2016 syoa'!FK32-'2011 syoa'!FK32","v":-21},{"$f":"'2016 syoa'!FL32-'2011 syoa'!FL32","v":-13},{"$f":"'2016 syoa'!FM32-'2011 syoa'!FM32","v":-3},{"$f":"'2016 syoa'!FN32-'2011 syoa'!FN32","v":-6},{"$f":"'2016 syoa'!FO32-'2011 syoa'!FO32","v":-7},{"$f":"'2016 syoa'!FP32-'2011 syoa'!FP32","v":0},{"$f":"'2016 syoa'!FQ32-'2011 syoa'!FQ32","v":-7},{"$f":"'2016 syoa'!FR32-'2011 syoa'!FR32","v":-2},{"$f":"'2016 syoa'!FS32-'2011 syoa'!FS32","v":7},{"$f":"'2016 syoa'!FT32-'2011 syoa'!FT32","v":-2},{"$f":"'2016 syoa'!FU32-'2011 syoa'!FU32","v":9},{"$f":"'2016 syoa'!FV32-'2011 syoa'!FV32","v":16},{"$f":"'2016 syoa'!FW32-'2011 syoa'!FW32","v":21},{"$f":"'2016 syoa'!FX32-'2011 syoa'!FX32","v":11},{"$f":"'2016 syoa'!FY32-'2011 syoa'!FY32","v":-6},{"$f":"'2016 syoa'!FZ32-'2011 syoa'!FZ32","v":7},{"$f":"'2016 syoa'!GA32-'2011 syoa'!GA32","v":15},{"$f":"'2016 syoa'!GB32-'2011 syoa'!GB32","v":-5},{"$f":"'2016 syoa'!GC32-'2011 syoa'!GC32","v":8},{"$f":"'2016 syoa'!GD32-'2011 syoa'!GD32","v":12},{"$f":"'2016 syoa'!GE32-'2011 syoa'!GE32","v":19}]
["South Yardley","Yardley","E05001206",{"$f":"'2016 syoa'!D33-'2011 syoa'!D33","v":817},{"$f":"'2016 syoa'!E33-'2011 syoa'!E33","v":-21},{"$f":"'2016 syoa'!F33-'2011 syoa'!F33","v":23},{"$f":"'2016 syoa'!G33-'2011 syoa'!G33","v":-3},{"$f":"'2016 syoa'!H33-'2011 syoa'!H33","v":5},{"$f":"'2016 syoa'!I33-'2011 syoa'!I33","v":-1},{"$f":"'2016 syoa'!J33-'2011 syoa'!J33","v":20},{"$f":"'2016 syoa'!K33-'2011 syoa'!K33","v":-9},{"$f":"'2016 syoa'!L33-'2011 syoa'!L33","v":30},{"$f":"'2016 syoa'!M33-'2011 syoa'!M33","v":21},{"$f":"'2016 syoa'!N33-'2011 syoa'!N33","v":76},{"$f":"'2016 syoa'!O33-'2011 syoa'!O33","v":47},{"$f":"'2016 syoa'!P33-'2011 syoa'!P33","v":45},{"$f":"'2016 syoa'!Q33-'2011 syoa'!Q33","v":35},{"$f":"'2016 syoa'!R33-'2011 syoa'!R33","v":45},{"$f":"'2016 syoa'!S33-'2011 syoa'!S33","v":32},{"$f":"'2016 syoa'!T33-'2011 syoa'!T33","v":12},{"$f":"'2016 syoa'!U33-'2011 syoa'!U33","v":18},{"$f":"'2016 syoa'!V33-'2011 syoa'!V33","v":9},{"$f":"'2016 syoa'!W33-'2011 syoa'!W33","v":31},{"$f":"'2016 syoa'!X33-'2011 syoa'!X33","v":51},{"$f":"'2016 syoa'!Y33-'2011 syoa'!Y33","v":17},{"$f":"'2016 syoa'!Z33-'2011 syoa'!Z33","v":-18},{"$f":"'2016 syoa'!AA33-'2011 syoa'!AA33","v":45},{"$f":"'2016 syoa'!AB33-'2011 syoa'!AB33","v":-2},{"$f":"'2016 syoa'!AC33-'2011 syoa'!AC33","v":-3},{"$f":"'2016 syoa'!AD33-'2011 syoa'!AD33","v":90},{"$f":"'2016 syoa'!AE33-'2011 syoa'!AE33","v":-12},{"$f":"'2016 syoa'!AF33-'2011 syoa'!AF33","v":2},{"$f":"'2016 syoa'!AG33-'2011 syoa'!AG33","v":20},{"$f":"'2016 syoa'!AH33-'2011 syoa'!AH33","v":-47},{"$f":"'2016 syoa'!AI33-'2011 syoa'!AI33","v":-38},{"$f":"'2016 syoa'!AJ33-'2011 syoa'!AJ33","v":-12},{"$f":"'2016 syoa'!AK33-'2011 syoa'!AK33","v":-10},{"$f":"'2016 syoa'!AL33-'2011 syoa'!AL33","v":46},{"$f":"'2016 syoa'!AM33-'2011 syoa'!AM33","v":6},{"$f":"'2016 syoa'!AN33-'2011 syoa'!AN33","v":56},{"$f":"'2016 syoa'!AO33-'2011 syoa'!AO33","v":4},{"$f":"'2016 syoa'!AP33-'2011 syoa'!AP33","v":9},{"$f":"'2016 syoa'!AQ33-'2011 syoa'!AQ33","v":-17},{"$f":"'2016 syoa'!AR33-'2011 syoa'!AR33","v":2},{"$f":"'2016 syoa'!AS33-'2011 syoa'!AS33","v":-5},{"$f":"'2016 syoa'!AT33-'2011 syoa'!AT33","v":3},{"$f":"'2016 syoa'!AU33-'2011 syoa'!AU33","v":-39},{"$f":"'2016 syoa'!AV33-'2011 syoa'!AV33","v":-25},{"$f":"'2016 syoa'!AW33-'2011 syoa'!AW33","v":5},{"$f":"'2016 syoa'!AX33-'2011 syoa'!AX33","v":-19},{"$f":"'2016 syoa'!AY33-'2011 syoa'!AY33","v":25},{"$f":"'2016 syoa'!AZ33-'2011 syoa'!AZ33","v":-2},{"$f":"'2016 syoa'!BA33-'2011 syoa'!BA33","v":-3},{"$f":"'2016 syoa'!BB33-'2011 syoa'!BB33","v":-15},{"$f":"'2016 syoa'!BC33-'2011 syoa'!BC33","v":-5},{"$f":"'2016 syoa'!BD33-'2011 syoa'!BD33","v":-32},{"$f":"'2016 syoa'!BE33-'2011 syoa'!BE33","v":10},{"$f":"'2016 syoa'!BF33-'2011 syoa'!BF33","v":36},{"$f":"'2016 syoa'!BG33-'2011 syoa'!BG33","v":52},{"$f":"'2016 syoa'!BH33-'2011 syoa'!BH33","v":-8},{"$f":"'2016 syoa'!BI33-'2011 syoa'!BI33","v":45},{"$f":"'2016 syoa'!BJ33-'2011 syoa'!BJ33","v":2},{"$f":"'2016 syoa'!BK33-'2011 syoa'!BK33","v":5},{"$f":"'2016 syoa'!BL33-'2011 syoa'!BL33","v":39},{"$f":"'2016 syoa'!BM33-'2011 syoa'!BM33","v":22},{"$f":"'2016 syoa'!BN33-'2011 syoa'!BN33","v":11},{"$f":"'2016 syoa'!BO33-'2011 syoa'!BO33","v":51},{"$f":"'2016 syoa'!BP33-'2011 syoa'!BP33","v":10},{"$f":"'2016 syoa'!BQ33-'2011 syoa'!BQ33","v":-14},{"$f":"'2016 syoa'!BR33-'2011 syoa'!BR33","v":-3},{"$f":"'2016 syoa'!BS33-'2011 syoa'!BS33","v":18},{"$f":"'2016 syoa'!BT33-'2011 syoa'!BT33","v":-11},{"$f":"'2016 syoa'!BU33-'2011 syoa'!BU33","v":7},{"$f":"'2016 syoa'!BV33-'2011 syoa'!BV33","v":29},{"$f":"'2016 syoa'!BW33-'2011 syoa'!BW33","v":16},{"$f":"'2016 syoa'!BX33-'2011 syoa'!BX33","v":-21},{"$f":"'2016 syoa'!BY33-'2011 syoa'!BY33","v":-7},{"$f":"'2016 syoa'!BZ33-'2011 syoa'!BZ33","v":-3},{"$f":"'2016 syoa'!CA33-'2011 syoa'!CA33","v":-8},{"$f":"'2016 syoa'!CB33-'2011 syoa'!CB33","v":-13},{"$f":"'2016 syoa'!CC33-'2011 syoa'!CC33","v":4},{"$f":"'2016 syoa'!CD33-'2011 syoa'!CD33","v":12},{"$f":"'2016 syoa'!CE33-'2011 syoa'!CE33","v":-15},{"$f":"'2016 syoa'!CF33-'2011 syoa'!CF33","v":-17},{"$f":"'2016 syoa'!CG33-'2011 syoa'!CG33","v":19},{"$f":"'2016 syoa'!CH33-'2011 syoa'!CH33","v":-2},{"$f":"'2016 syoa'!CI33-'2011 syoa'!CI33","v":-12},{"$f":"'2016 syoa'!CJ33-'2011 syoa'!CJ33","v":14},{"$f":"'2016 syoa'!CK33-'2011 syoa'!CK33","v":19},{"$f":"'2016 syoa'!CL33-'2011 syoa'!CL33","v":7},{"$f":"'2016 syoa'!CM33-'2011 syoa'!CM33","v":8},{"$f":"'2016 syoa'!CN33-'2011 syoa'!CN33","v":18},{"$f":"'2016 syoa'!CO33-'2011 syoa'!CO33","v":-2},{"$f":"'2016 syoa'!CP33-'2011 syoa'!CP33","v":4},{"$f":"'2016 syoa'!CQ33-'2011 syoa'!CQ33","v":3},{"$f":"'2016 syoa'!CR33-'2011 syoa'!CR33","v":760},{"$f":"'2016 syoa'!CS33-'2011 syoa'!CS33","v":15},{"$f":"'2016 syoa'!CT33-'2011 syoa'!CT33","v":-47},{"$f":"'2016 syoa'!CU33-'2011 syoa'!CU33","v":41},{"$f":"'2016 syoa'!CV33-'2011 syoa'!CV33","v":16},{"$f":"'2016 syoa'!CW33-'2011 syoa'!CW33","v":36},{"$f":"'2016 syoa'!CX33-'2011 syoa'!CX33","v":12},{"$f":"'2016 syoa'!CY33-'2011 syoa'!CY33","v":17},{"$f":"'2016 syoa'!CZ33-'2011 syoa'!CZ33","v":68},{"$f":"'2016 syoa'!DA33-'2011 syoa'!DA33","v":36},{"$f":"'2016 syoa'!DB33-'2011 syoa'!DB33","v":52},{"$f":"'2016 syoa'!DC33-'2011 syoa'!DC33","v":15},{"$f":"'2016 syoa'!DD33-'2011 syoa'!DD33","v":48},{"$f":"'2016 syoa'!DE33-'2011 syoa'!DE33","v":31},{"$f":"'2016 syoa'!DF33-'2011 syoa'!DF33","v":1},{"$f":"'2016 syoa'!DG33-'2011 syoa'!DG33","v":-15},{"$f":"'2016 syoa'!DH33-'2011 syoa'!DH33","v":-6},{"$f":"'2016 syoa'!DI33-'2011 syoa'!DI33","v":6},{"$f":"'2016 syoa'!DJ33-'2011 syoa'!DJ33","v":-11},{"$f":"'2016 syoa'!DK33-'2011 syoa'!DK33","v":34},{"$f":"'2016 syoa'!DL33-'2011 syoa'!DL33","v":32},{"$f":"'2016 syoa'!DM33-'2011 syoa'!DM33","v":21},{"$f":"'2016 syoa'!DN33-'2011 syoa'!DN33","v":37},{"$f":"'2016 syoa'!DO33-'2011 syoa'!DO33","v":36},{"$f":"'2016 syoa'!DP33-'2011 syoa'!DP33","v":-70},{"$f":"'2016 syoa'!DQ33-'2011 syoa'!DQ33","v":-39},{"$f":"'2016 syoa'!DR33-'2011 syoa'!DR33","v":27},{"$f":"'2016 syoa'!DS33-'2011 syoa'!DS33","v":25},{"$f":"'2016 syoa'!DT33-'2011 syoa'!DT33","v":20},{"$f":"'2016 syoa'!DU33-'2011 syoa'!DU33","v":14},{"$f":"'2016 syoa'!DV33-'2011 syoa'!DV33","v":22},{"$f":"'2016 syoa'!DW33-'2011 syoa'!DW33","v":13},{"$f":"'2016 syoa'!DX33-'2011 syoa'!DX33","v":-20},{"$f":"'2016 syoa'!DY33-'2011 syoa'!DY33","v":-20},{"$f":"'2016 syoa'!DZ33-'2011 syoa'!DZ33","v":0},{"$f":"'2016 syoa'!EA33-'2011 syoa'!EA33","v":20},{"$f":"'2016 syoa'!EB33-'2011 syoa'!EB33","v":28},{"$f":"'2016 syoa'!EC33-'2011 syoa'!EC33","v":53},{"$f":"'2016 syoa'!ED33-'2011 syoa'!ED33","v":26},{"$f":"'2016 syoa'!EE33-'2011 syoa'!EE33","v":5},{"$f":"'2016 syoa'!EF33-'2011 syoa'!EF33","v":-2},{"$f":"'2016 syoa'!EG33-'2011 syoa'!EG33","v":14},{"$f":"'2016 syoa'!EH33-'2011 syoa'!EH33","v":-16},{"$f":"'2016 syoa'!EI33-'2011 syoa'!EI33","v":2},{"$f":"'2016 syoa'!EJ33-'2011 syoa'!EJ33","v":-10},{"$f":"'2016 syoa'!EK33-'2011 syoa'!EK33","v":55},{"$f":"'2016 syoa'!EL33-'2011 syoa'!EL33","v":7},{"$f":"'2016 syoa'!EM33-'2011 syoa'!EM33","v":-10},{"$f":"'2016 syoa'!EN33-'2011 syoa'!EN33","v":-48},{"$f":"'2016 syoa'!EO33-'2011 syoa'!EO33","v":-21},{"$f":"'2016 syoa'!EP33-'2011 syoa'!EP33","v":1},{"$f":"'2016 syoa'!EQ33-'2011 syoa'!EQ33","v":13},{"$f":"'2016 syoa'!ER33-'2011 syoa'!ER33","v":13},{"$f":"'2016 syoa'!ES33-'2011 syoa'!ES33","v":57},{"$f":"'2016 syoa'!ET33-'2011 syoa'!ET33","v":21},{"$f":"'2016 syoa'!EU33-'2011 syoa'!EU33","v":33},{"$f":"'2016 syoa'!EV33-'2011 syoa'!EV33","v":46},{"$f":"'2016 syoa'!EW33-'2011 syoa'!EW33","v":17},{"$f":"'2016 syoa'!EX33-'2011 syoa'!EX33","v":5},{"$f":"'2016 syoa'!EY33-'2011 syoa'!EY33","v":27},{"$f":"'2016 syoa'!EZ33-'2011 syoa'!EZ33","v":36},{"$f":"'2016 syoa'!FA33-'2011 syoa'!FA33","v":-5},{"$f":"'2016 syoa'!FB33-'2011 syoa'!FB33","v":5},{"$f":"'2016 syoa'!FC33-'2011 syoa'!FC33","v":24},{"$f":"'2016 syoa'!FD33-'2011 syoa'!FD33","v":5},{"$f":"'2016 syoa'!FE33-'2011 syoa'!FE33","v":-30},{"$f":"'2016 syoa'!FF33-'2011 syoa'!FF33","v":26},{"$f":"'2016 syoa'!FG33-'2011 syoa'!FG33","v":18},{"$f":"'2016 syoa'!FH33-'2011 syoa'!FH33","v":5},{"$f":"'2016 syoa'!FI33-'2011 syoa'!FI33","v":-11},{"$f":"'2016 syoa'!FJ33-'2011 syoa'!FJ33","v":14},{"$f":"'2016 syoa'!FK33-'2011 syoa'!FK33","v":-20},{"$f":"'2016 syoa'!FL33-'2011 syoa'!FL33","v":4},{"$f":"'2016 syoa'!FM33-'2011 syoa'!FM33","v":-18},{"$f":"'2016 syoa'!FN33-'2011 syoa'!FN33","v":-17},{"$f":"'2016 syoa'!FO33-'2011 syoa'!FO33","v":11},{"$f":"'2016 syoa'!FP33-'2011 syoa'!FP33","v":-8},{"$f":"'2016 syoa'!FQ33-'2011 syoa'!FQ33","v":-10},{"$f":"'2016 syoa'!FR33-'2011 syoa'!FR33","v":-6},{"$f":"'2016 syoa'!FS33-'2011 syoa'!FS33","v":-2},{"$f":"'2016 syoa'!FT33-'2011 syoa'!FT33","v":-11},{"$f":"'2016 syoa'!FU33-'2011 syoa'!FU33","v":-17},{"$f":"'2016 syoa'!FV33-'2011 syoa'!FV33","v":-10},{"$f":"'2016 syoa'!FW33-'2011 syoa'!FW33","v":-1},{"$f":"'2016 syoa'!FX33-'2011 syoa'!FX33","v":-5},{"$f":"'2016 syoa'!FY33-'2011 syoa'!FY33","v":-10},{"$f":"'2016 syoa'!FZ33-'2011 syoa'!FZ33","v":19},{"$f":"'2016 syoa'!GA33-'2011 syoa'!GA33","v":3},{"$f":"'2016 syoa'!GB33-'2011 syoa'!GB33","v":-9},{"$f":"'2016 syoa'!GC33-'2011 syoa'!GC33","v":16},{"$f":"'2016 syoa'!GD33-'2011 syoa'!GD33","v":-7},{"$f":"'2016 syoa'!GE33-'2011 syoa'!GE33","v":-12}]
["Sparkbrook","Hall Green","E05001207",{"$f":"'2016 syoa'!D34-'2011 syoa'!D34","v":594},{"$f":"'2016 syoa'!E34-'2011 syoa'!E34","v":-80},{"$f":"'2016 syoa'!F34-'2011 syoa'!F34","v":-76},{"$f":"'2016 syoa'!G34-'2011 syoa'!G34","v":6},{"$f":"'2016 syoa'!H34-'2011 syoa'!H34","v":-48},{"$f":"'2016 syoa'!I34-'2011 syoa'!I34","v":-48},{"$f":"'2016 syoa'!J34-'2011 syoa'!J34","v":-21},{"$f":"'2016 syoa'!K34-'2011 syoa'!K34","v":-2},{"$f":"'2016 syoa'!L34-'2011 syoa'!L34","v":13},{"$f":"'2016 syoa'!M34-'2011 syoa'!M34","v":4},{"$f":"'2016 syoa'!N34-'2011 syoa'!N34","v":-36},{"$f":"'2016 syoa'!O34-'2011 syoa'!O34","v":34},{"$f":"'2016 syoa'!P34-'2011 syoa'!P34","v":-5},{"$f":"'2016 syoa'!Q34-'2011 syoa'!Q34","v":-63},{"$f":"'2016 syoa'!R34-'2011 syoa'!R34","v":-6},{"$f":"'2016 syoa'!S34-'2011 syoa'!S34","v":35},{"$f":"'2016 syoa'!T34-'2011 syoa'!T34","v":21},{"$f":"'2016 syoa'!U34-'2011 syoa'!U34","v":15},{"$f":"'2016 syoa'!V34-'2011 syoa'!V34","v":40},{"$f":"'2016 syoa'!W34-'2011 syoa'!W34","v":31},{"$f":"'2016 syoa'!X34-'2011 syoa'!X34","v":9},{"$f":"'2016 syoa'!Y34-'2011 syoa'!Y34","v":6},{"$f":"'2016 syoa'!Z34-'2011 syoa'!Z34","v":-10},{"$f":"'2016 syoa'!AA34-'2011 syoa'!AA34","v":49},{"$f":"'2016 syoa'!AB34-'2011 syoa'!AB34","v":22},{"$f":"'2016 syoa'!AC34-'2011 syoa'!AC34","v":-18},{"$f":"'2016 syoa'!AD34-'2011 syoa'!AD34","v":14},{"$f":"'2016 syoa'!AE34-'2011 syoa'!AE34","v":14},{"$f":"'2016 syoa'!AF34-'2011 syoa'!AF34","v":5},{"$f":"'2016 syoa'!AG34-'2011 syoa'!AG34","v":-37},{"$f":"'2016 syoa'!AH34-'2011 syoa'!AH34","v":27},{"$f":"'2016 syoa'!AI34-'2011 syoa'!AI34","v":9},{"$f":"'2016 syoa'!AJ34-'2011 syoa'!AJ34","v":13},{"$f":"'2016 syoa'!AK34-'2011 syoa'!AK34","v":55},{"$f":"'2016 syoa'!AL34-'2011 syoa'!AL34","v":53},{"$f":"'2016 syoa'!AM34-'2011 syoa'!AM34","v":17},{"$f":"'2016 syoa'!AN34-'2011 syoa'!AN34","v":-41},{"$f":"'2016 syoa'!AO34-'2011 syoa'!AO34","v":25},{"$f":"'2016 syoa'!AP34-'2011 syoa'!AP34","v":33},{"$f":"'2016 syoa'!AQ34-'2011 syoa'!AQ34","v":-16},{"$f":"'2016 syoa'!AR34-'2011 syoa'!AR34","v":17},{"$f":"'2016 syoa'!AS34-'2011 syoa'!AS34","v":78},{"$f":"'2016 syoa'!AT34-'2011 syoa'!AT34","v":22},{"$f":"'2016 syoa'!AU34-'2011 syoa'!AU34","v":11},{"$f":"'2016 syoa'!AV34-'2011 syoa'!AV34","v":19},{"$f":"'2016 syoa'!AW34-'2011 syoa'!AW34","v":20},{"$f":"'2016 syoa'!AX34-'2011 syoa'!AX34","v":23},{"$f":"'2016 syoa'!AY34-'2011 syoa'!AY34","v":13},{"$f":"'2016 syoa'!AZ34-'2011 syoa'!AZ34","v":28},{"$f":"'2016 syoa'!BA34-'2011 syoa'!BA34","v":25},{"$f":"'2016 syoa'!BB34-'2011 syoa'!BB34","v":26},{"$f":"'2016 syoa'!BC34-'2011 syoa'!BC34","v":42},{"$f":"'2016 syoa'!BD34-'2011 syoa'!BD34","v":29},{"$f":"'2016 syoa'!BE34-'2011 syoa'!BE34","v":20},{"$f":"'2016 syoa'!BF34-'2011 syoa'!BF34","v":-4},{"$f":"'2016 syoa'!BG34-'2011 syoa'!BG34","v":-30},{"$f":"'2016 syoa'!BH34-'2011 syoa'!BH34","v":-2},{"$f":"'2016 syoa'!BI34-'2011 syoa'!BI34","v":18},{"$f":"'2016 syoa'!BJ34-'2011 syoa'!BJ34","v":5},{"$f":"'2016 syoa'!BK34-'2011 syoa'!BK34","v":17},{"$f":"'2016 syoa'!BL34-'2011 syoa'!BL34","v":17},{"$f":"'2016 syoa'!BM34-'2011 syoa'!BM34","v":33},{"$f":"'2016 syoa'!BN34-'2011 syoa'!BN34","v":5},{"$f":"'2016 syoa'!BO34-'2011 syoa'!BO34","v":45},{"$f":"'2016 syoa'!BP34-'2011 syoa'!BP34","v":33},{"$f":"'2016 syoa'!BQ34-'2011 syoa'!BQ34","v":52},{"$f":"'2016 syoa'!BR34-'2011 syoa'!BR34","v":15},{"$f":"'2016 syoa'!BS34-'2011 syoa'!BS34","v":12},{"$f":"'2016 syoa'!BT34-'2011 syoa'!BT34","v":-3},{"$f":"'2016 syoa'!BU34-'2011 syoa'!BU34","v":-9},{"$f":"'2016 syoa'!BV34-'2011 syoa'!BV34","v":-2},{"$f":"'2016 syoa'!BW34-'2011 syoa'!BW34","v":2},{"$f":"'2016 syoa'!BX34-'2011 syoa'!BX34","v":-26},{"$f":"'2016 syoa'!BY34-'2011 syoa'!BY34","v":11},{"$f":"'2016 syoa'!BZ34-'2011 syoa'!BZ34","v":-20},{"$f":"'2016 syoa'!CA34-'2011 syoa'!CA34","v":-8},{"$f":"'2016 syoa'!CB34-'2011 syoa'!CB34","v":-35},{"$f":"'2016 syoa'!CC34-'2011 syoa'!CC34","v":-7},{"$f":"'2016 syoa'!CD34-'2011 syoa'!CD34","v":-9},{"$f":"'2016 syoa'!CE34-'2011 syoa'!CE34","v":-12},{"$f":"'2016 syoa'!CF34-'2011 syoa'!CF34","v":4},{"$f":"'2016 syoa'!CG34-'2011 syoa'!CG34","v":-3},{"$f":"'2016 syoa'!CH34-'2011 syoa'!CH34","v":1},{"$f":"'2016 syoa'!CI34-'2011 syoa'!CI34","v":21},{"$f":"'2016 syoa'!CJ34-'2011 syoa'!CJ34","v":6},{"$f":"'2016 syoa'!CK34-'2011 syoa'!CK34","v":3},{"$f":"'2016 syoa'!CL34-'2011 syoa'!CL34","v":10},{"$f":"'2016 syoa'!CM34-'2011 syoa'!CM34","v":10},{"$f":"'2016 syoa'!CN34-'2011 syoa'!CN34","v":2},{"$f":"'2016 syoa'!CO34-'2011 syoa'!CO34","v":13},{"$f":"'2016 syoa'!CP34-'2011 syoa'!CP34","v":3},{"$f":"'2016 syoa'!CQ34-'2011 syoa'!CQ34","v":10},{"$f":"'2016 syoa'!CR34-'2011 syoa'!CR34","v":318},{"$f":"'2016 syoa'!CS34-'2011 syoa'!CS34","v":-19},{"$f":"'2016 syoa'!CT34-'2011 syoa'!CT34","v":-18},{"$f":"'2016 syoa'!CU34-'2011 syoa'!CU34","v":-40},{"$f":"'2016 syoa'!CV34-'2011 syoa'!CV34","v":-47},{"$f":"'2016 syoa'!CW34-'2011 syoa'!CW34","v":-31},{"$f":"'2016 syoa'!CX34-'2011 syoa'!CX34","v":-48},{"$f":"'2016 syoa'!CY34-'2011 syoa'!CY34","v":-29},{"$f":"'2016 syoa'!CZ34-'2011 syoa'!CZ34","v":34},{"$f":"'2016 syoa'!DA34-'2011 syoa'!DA34","v":-14},{"$f":"'2016 syoa'!DB34-'2011 syoa'!DB34","v":-24},{"$f":"'2016 syoa'!DC34-'2011 syoa'!DC34","v":7},{"$f":"'2016 syoa'!DD34-'2011 syoa'!DD34","v":-20},{"$f":"'2016 syoa'!DE34-'2011 syoa'!DE34","v":14},{"$f":"'2016 syoa'!DF34-'2011 syoa'!DF34","v":-42},{"$f":"'2016 syoa'!DG34-'2011 syoa'!DG34","v":-7},{"$f":"'2016 syoa'!DH34-'2011 syoa'!DH34","v":4},{"$f":"'2016 syoa'!DI34-'2011 syoa'!DI34","v":46},{"$f":"'2016 syoa'!DJ34-'2011 syoa'!DJ34","v":18},{"$f":"'2016 syoa'!DK34-'2011 syoa'!DK34","v":-39},{"$f":"'2016 syoa'!DL34-'2011 syoa'!DL34","v":-31},{"$f":"'2016 syoa'!DM34-'2011 syoa'!DM34","v":69},{"$f":"'2016 syoa'!DN34-'2011 syoa'!DN34","v":34},{"$f":"'2016 syoa'!DO34-'2011 syoa'!DO34","v":-8},{"$f":"'2016 syoa'!DP34-'2011 syoa'!DP34","v":1},{"$f":"'2016 syoa'!DQ34-'2011 syoa'!DQ34","v":18},{"$f":"'2016 syoa'!DR34-'2011 syoa'!DR34","v":-74},{"$f":"'2016 syoa'!DS34-'2011 syoa'!DS34","v":-5},{"$f":"'2016 syoa'!DT34-'2011 syoa'!DT34","v":8},{"$f":"'2016 syoa'!DU34-'2011 syoa'!DU34","v":18},{"$f":"'2016 syoa'!DV34-'2011 syoa'!DV34","v":24},{"$f":"'2016 syoa'!DW34-'2011 syoa'!DW34","v":-5},{"$f":"'2016 syoa'!DX34-'2011 syoa'!DX34","v":-15},{"$f":"'2016 syoa'!DY34-'2011 syoa'!DY34","v":-17},{"$f":"'2016 syoa'!DZ34-'2011 syoa'!DZ34","v":-4},{"$f":"'2016 syoa'!EA34-'2011 syoa'!EA34","v":47},{"$f":"'2016 syoa'!EB34-'2011 syoa'!EB34","v":17},{"$f":"'2016 syoa'!EC34-'2011 syoa'!EC34","v":44},{"$f":"'2016 syoa'!ED34-'2011 syoa'!ED34","v":32},{"$f":"'2016 syoa'!EE34-'2011 syoa'!EE34","v":24},{"$f":"'2016 syoa'!EF34-'2011 syoa'!EF34","v":1},{"$f":"'2016 syoa'!EG34-'2011 syoa'!EG34","v":13},{"$f":"'2016 syoa'!EH34-'2011 syoa'!EH34","v":-40},{"$f":"'2016 syoa'!EI34-'2011 syoa'!EI34","v":-13},{"$f":"'2016 syoa'!EJ34-'2011 syoa'!EJ34","v":-5},{"$f":"'2016 syoa'!EK34-'2011 syoa'!EK34","v":21},{"$f":"'2016 syoa'!EL34-'2011 syoa'!EL34","v":22},{"$f":"'2016 syoa'!EM34-'2011 syoa'!EM34","v":27},{"$f":"'2016 syoa'!EN34-'2011 syoa'!EN34","v":30},{"$f":"'2016 syoa'!EO34-'2011 syoa'!EO34","v":17},{"$f":"'2016 syoa'!EP34-'2011 syoa'!EP34","v":13},{"$f":"'2016 syoa'!EQ34-'2011 syoa'!EQ34","v":12},{"$f":"'2016 syoa'!ER34-'2011 syoa'!ER34","v":40},{"$f":"'2016 syoa'!ES34-'2011 syoa'!ES34","v":-5},{"$f":"'2016 syoa'!ET34-'2011 syoa'!ET34","v":11},{"$f":"'2016 syoa'!EU34-'2011 syoa'!EU34","v":-17},{"$f":"'2016 syoa'!EV34-'2011 syoa'!EV34","v":-19},{"$f":"'2016 syoa'!EW34-'2011 syoa'!EW34","v":27},{"$f":"'2016 syoa'!EX34-'2011 syoa'!EX34","v":20},{"$f":"'2016 syoa'!EY34-'2011 syoa'!EY34","v":24},{"$f":"'2016 syoa'!EZ34-'2011 syoa'!EZ34","v":24},{"$f":"'2016 syoa'!FA34-'2011 syoa'!FA34","v":50},{"$f":"'2016 syoa'!FB34-'2011 syoa'!FB34","v":6},{"$f":"'2016 syoa'!FC34-'2011 syoa'!FC34","v":14},{"$f":"'2016 syoa'!FD34-'2011 syoa'!FD34","v":3},{"$f":"'2016 syoa'!FE34-'2011 syoa'!FE34","v":7},{"$f":"'2016 syoa'!FF34-'2011 syoa'!FF34","v":14},{"$f":"'2016 syoa'!FG34-'2011 syoa'!FG34","v":9},{"$f":"'2016 syoa'!FH34-'2011 syoa'!FH34","v":10},{"$f":"'2016 syoa'!FI34-'2011 syoa'!FI34","v":19},{"$f":"'2016 syoa'!FJ34-'2011 syoa'!FJ34","v":8},{"$f":"'2016 syoa'!FK34-'2011 syoa'!FK34","v":2},{"$f":"'2016 syoa'!FL34-'2011 syoa'!FL34","v":-3},{"$f":"'2016 syoa'!FM34-'2011 syoa'!FM34","v":-20},{"$f":"'2016 syoa'!FN34-'2011 syoa'!FN34","v":-18},{"$f":"'2016 syoa'!FO34-'2011 syoa'!FO34","v":-34},{"$f":"'2016 syoa'!FP34-'2011 syoa'!FP34","v":-11},{"$f":"'2016 syoa'!FQ34-'2011 syoa'!FQ34","v":-19},{"$f":"'2016 syoa'!FR34-'2011 syoa'!FR34","v":-7},{"$f":"'2016 syoa'!FS34-'2011 syoa'!FS34","v":8},{"$f":"'2016 syoa'!FT34-'2011 syoa'!FT34","v":11},{"$f":"'2016 syoa'!FU34-'2011 syoa'!FU34","v":-2},{"$f":"'2016 syoa'!FV34-'2011 syoa'!FV34","v":1},{"$f":"'2016 syoa'!FW34-'2011 syoa'!FW34","v":30},{"$f":"'2016 syoa'!FX34-'2011 syoa'!FX34","v":13},{"$f":"'2016 syoa'!FY34-'2011 syoa'!FY34","v":17},{"$f":"'2016 syoa'!FZ34-'2011 syoa'!FZ34","v":25},{"$f":"'2016 syoa'!GA34-'2011 syoa'!GA34","v":29},{"$f":"'2016 syoa'!GB34-'2011 syoa'!GB34","v":-2},{"$f":"'2016 syoa'!GC34-'2011 syoa'!GC34","v":3},{"$f":"'2016 syoa'!GD34-'2011 syoa'!GD34","v":3},{"$f":"'2016 syoa'!GE34-'2011 syoa'!GE34","v":27}]
["Springfield","Hall Green","E05001208",{"$f":"'2016 syoa'!D35-'2011 syoa'!D35","v":1007},{"$f":"'2016 syoa'!E35-'2011 syoa'!E35","v":-19},{"$f":"'2016 syoa'!F35-'2011 syoa'!F35","v":24},{"$f":"'2016 syoa'!G35-'2011 syoa'!G35","v":-26},{"$f":"'2016 syoa'!H35-'2011 syoa'!H35","v":-12},{"$f":"'2016 syoa'!I35-'2011 syoa'!I35","v":-19},{"$f":"'2016 syoa'!J35-'2011 syoa'!J35","v":-31},{"$f":"'2016 syoa'!K35-'2011 syoa'!K35","v":28},{"$f":"'2016 syoa'!L35-'2011 syoa'!L35","v":39},{"$f":"'2016 syoa'!M35-'2011 syoa'!M35","v":19},{"$f":"'2016 syoa'!N35-'2011 syoa'!N35","v":28},{"$f":"'2016 syoa'!O35-'2011 syoa'!O35","v":71},{"$f":"'2016 syoa'!P35-'2011 syoa'!P35","v":56},{"$f":"'2016 syoa'!Q35-'2011 syoa'!Q35","v":19},{"$f":"'2016 syoa'!R35-'2011 syoa'!R35","v":33},{"$f":"'2016 syoa'!S35-'2011 syoa'!S35","v":15},{"$f":"'2016 syoa'!T35-'2011 syoa'!T35","v":36},{"$f":"'2016 syoa'!U35-'2011 syoa'!U35","v":6},{"$f":"'2016 syoa'!V35-'2011 syoa'!V35","v":10},{"$f":"'2016 syoa'!W35-'2011 syoa'!W35","v":41},{"$f":"'2016 syoa'!X35-'2011 syoa'!X35","v":29},{"$f":"'2016 syoa'!Y35-'2011 syoa'!Y35","v":16},{"$f":"'2016 syoa'!Z35-'2011 syoa'!Z35","v":1},{"$f":"'2016 syoa'!AA35-'2011 syoa'!AA35","v":47},{"$f":"'2016 syoa'!AB35-'2011 syoa'!AB35","v":-18},{"$f":"'2016 syoa'!AC35-'2011 syoa'!AC35","v":-7},{"$f":"'2016 syoa'!AD35-'2011 syoa'!AD35","v":-7},{"$f":"'2016 syoa'!AE35-'2011 syoa'!AE35","v":11},{"$f":"'2016 syoa'!AF35-'2011 syoa'!AF35","v":2},{"$f":"'2016 syoa'!AG35-'2011 syoa'!AG35","v":-20},{"$f":"'2016 syoa'!AH35-'2011 syoa'!AH35","v":-28},{"$f":"'2016 syoa'!AI35-'2011 syoa'!AI35","v":12},{"$f":"'2016 syoa'!AJ35-'2011 syoa'!AJ35","v":10},{"$f":"'2016 syoa'!AK35-'2011 syoa'!AK35","v":-9},{"$f":"'2016 syoa'!AL35-'2011 syoa'!AL35","v":38},{"$f":"'2016 syoa'!AM35-'2011 syoa'!AM35","v":26},{"$f":"'2016 syoa'!AN35-'2011 syoa'!AN35","v":5},{"$f":"'2016 syoa'!AO35-'2011 syoa'!AO35","v":52},{"$f":"'2016 syoa'!AP35-'2011 syoa'!AP35","v":17},{"$f":"'2016 syoa'!AQ35-'2011 syoa'!AQ35","v":21},{"$f":"'2016 syoa'!AR35-'2011 syoa'!AR35","v":-9},{"$f":"'2016 syoa'!AS35-'2011 syoa'!AS35","v":1},{"$f":"'2016 syoa'!AT35-'2011 syoa'!AT35","v":-31},{"$f":"'2016 syoa'!AU35-'2011 syoa'!AU35","v":22},{"$f":"'2016 syoa'!AV35-'2011 syoa'!AV35","v":68},{"$f":"'2016 syoa'!AW35-'2011 syoa'!AW35","v":33},{"$f":"'2016 syoa'!AX35-'2011 syoa'!AX35","v":46},{"$f":"'2016 syoa'!AY35-'2011 syoa'!AY35","v":70},{"$f":"'2016 syoa'!AZ35-'2011 syoa'!AZ35","v":46},{"$f":"'2016 syoa'!BA35-'2011 syoa'!BA35","v":21},{"$f":"'2016 syoa'!BB35-'2011 syoa'!BB35","v":48},{"$f":"'2016 syoa'!BC35-'2011 syoa'!BC35","v":29},{"$f":"'2016 syoa'!BD35-'2011 syoa'!BD35","v":4},{"$f":"'2016 syoa'!BE35-'2011 syoa'!BE35","v":10},{"$f":"'2016 syoa'!BF35-'2011 syoa'!BF35","v":-4},{"$f":"'2016 syoa'!BG35-'2011 syoa'!BG35","v":11},{"$f":"'2016 syoa'!BH35-'2011 syoa'!BH35","v":-7},{"$f":"'2016 syoa'!BI35-'2011 syoa'!BI35","v":-24},{"$f":"'2016 syoa'!BJ35-'2011 syoa'!BJ35","v":-6},{"$f":"'2016 syoa'!BK35-'2011 syoa'!BK35","v":-16},{"$f":"'2016 syoa'!BL35-'2011 syoa'!BL35","v":8},{"$f":"'2016 syoa'!BM35-'2011 syoa'!BM35","v":10},{"$f":"'2016 syoa'!BN35-'2011 syoa'!BN35","v":20},{"$f":"'2016 syoa'!BO35-'2011 syoa'!BO35","v":34},{"$f":"'2016 syoa'!BP35-'2011 syoa'!BP35","v":40},{"$f":"'2016 syoa'!BQ35-'2011 syoa'!BQ35","v":33},{"$f":"'2016 syoa'!BR35-'2011 syoa'!BR35","v":33},{"$f":"'2016 syoa'!BS35-'2011 syoa'!BS35","v":29},{"$f":"'2016 syoa'!BT35-'2011 syoa'!BT35","v":24},{"$f":"'2016 syoa'!BU35-'2011 syoa'!BU35","v":-6},{"$f":"'2016 syoa'!BV35-'2011 syoa'!BV35","v":-26},{"$f":"'2016 syoa'!BW35-'2011 syoa'!BW35","v":-23},{"$f":"'2016 syoa'!BX35-'2011 syoa'!BX35","v":-24},{"$f":"'2016 syoa'!BY35-'2011 syoa'!BY35","v":-30},{"$f":"'2016 syoa'!BZ35-'2011 syoa'!BZ35","v":-13},{"$f":"'2016 syoa'!CA35-'2011 syoa'!CA35","v":8},{"$f":"'2016 syoa'!CB35-'2011 syoa'!CB35","v":-21},{"$f":"'2016 syoa'!CC35-'2011 syoa'!CC35","v":-22},{"$f":"'2016 syoa'!CD35-'2011 syoa'!CD35","v":-9},{"$f":"'2016 syoa'!CE35-'2011 syoa'!CE35","v":4},{"$f":"'2016 syoa'!CF35-'2011 syoa'!CF35","v":9},{"$f":"'2016 syoa'!CG35-'2011 syoa'!CG35","v":-3},{"$f":"'2016 syoa'!CH35-'2011 syoa'!CH35","v":-8},{"$f":"'2016 syoa'!CI35-'2011 syoa'!CI35","v":17},{"$f":"'2016 syoa'!CJ35-'2011 syoa'!CJ35","v":20},{"$f":"'2016 syoa'!CK35-'2011 syoa'!CK35","v":8},{"$f":"'2016 syoa'!CL35-'2011 syoa'!CL35","v":16},{"$f":"'2016 syoa'!CM35-'2011 syoa'!CM35","v":9},{"$f":"'2016 syoa'!CN35-'2011 syoa'!CN35","v":0},{"$f":"'2016 syoa'!CO35-'2011 syoa'!CO35","v":9},{"$f":"'2016 syoa'!CP35-'2011 syoa'!CP35","v":6},{"$f":"'2016 syoa'!CQ35-'2011 syoa'!CQ35","v":27},{"$f":"'2016 syoa'!CR35-'2011 syoa'!CR35","v":966},{"$f":"'2016 syoa'!CS35-'2011 syoa'!CS35","v":-2},{"$f":"'2016 syoa'!CT35-'2011 syoa'!CT35","v":-5},{"$f":"'2016 syoa'!CU35-'2011 syoa'!CU35","v":1},{"$f":"'2016 syoa'!CV35-'2011 syoa'!CV35","v":7},{"$f":"'2016 syoa'!CW35-'2011 syoa'!CW35","v":24},{"$f":"'2016 syoa'!CX35-'2011 syoa'!CX35","v":38},{"$f":"'2016 syoa'!CY35-'2011 syoa'!CY35","v":-1},{"$f":"'2016 syoa'!CZ35-'2011 syoa'!CZ35","v":28},{"$f":"'2016 syoa'!DA35-'2011 syoa'!DA35","v":0},{"$f":"'2016 syoa'!DB35-'2011 syoa'!DB35","v":-6},{"$f":"'2016 syoa'!DC35-'2011 syoa'!DC35","v":28},{"$f":"'2016 syoa'!DD35-'2011 syoa'!DD35","v":38},{"$f":"'2016 syoa'!DE35-'2011 syoa'!DE35","v":35},{"$f":"'2016 syoa'!DF35-'2011 syoa'!DF35","v":38},{"$f":"'2016 syoa'!DG35-'2011 syoa'!DG35","v":-17},{"$f":"'2016 syoa'!DH35-'2011 syoa'!DH35","v":36},{"$f":"'2016 syoa'!DI35-'2011 syoa'!DI35","v":27},{"$f":"'2016 syoa'!DJ35-'2011 syoa'!DJ35","v":4},{"$f":"'2016 syoa'!DK35-'2011 syoa'!DK35","v":60},{"$f":"'2016 syoa'!DL35-'2011 syoa'!DL35","v":41},{"$f":"'2016 syoa'!DM35-'2011 syoa'!DM35","v":53},{"$f":"'2016 syoa'!DN35-'2011 syoa'!DN35","v":44},{"$f":"'2016 syoa'!DO35-'2011 syoa'!DO35","v":28},{"$f":"'2016 syoa'!DP35-'2011 syoa'!DP35","v":-17},{"$f":"'2016 syoa'!DQ35-'2011 syoa'!DQ35","v":-37},{"$f":"'2016 syoa'!DR35-'2011 syoa'!DR35","v":24},{"$f":"'2016 syoa'!DS35-'2011 syoa'!DS35","v":-6},{"$f":"'2016 syoa'!DT35-'2011 syoa'!DT35","v":-29},{"$f":"'2016 syoa'!DU35-'2011 syoa'!DU35","v":-24},{"$f":"'2016 syoa'!DV35-'2011 syoa'!DV35","v":-10},{"$f":"'2016 syoa'!DW35-'2011 syoa'!DW35","v":-55},{"$f":"'2016 syoa'!DX35-'2011 syoa'!DX35","v":-29},{"$f":"'2016 syoa'!DY35-'2011 syoa'!DY35","v":-2},{"$f":"'2016 syoa'!DZ35-'2011 syoa'!DZ35","v":29},{"$f":"'2016 syoa'!EA35-'2011 syoa'!EA35","v":24},{"$f":"'2016 syoa'!EB35-'2011 syoa'!EB35","v":59},{"$f":"'2016 syoa'!EC35-'2011 syoa'!EC35","v":67},{"$f":"'2016 syoa'!ED35-'2011 syoa'!ED35","v":-8},{"$f":"'2016 syoa'!EE35-'2011 syoa'!EE35","v":40},{"$f":"'2016 syoa'!EF35-'2011 syoa'!EF35","v":22},{"$f":"'2016 syoa'!EG35-'2011 syoa'!EG35","v":47},{"$f":"'2016 syoa'!EH35-'2011 syoa'!EH35","v":-42},{"$f":"'2016 syoa'!EI35-'2011 syoa'!EI35","v":31},{"$f":"'2016 syoa'!EJ35-'2011 syoa'!EJ35","v":13},{"$f":"'2016 syoa'!EK35-'2011 syoa'!EK35","v":6},{"$f":"'2016 syoa'!EL35-'2011 syoa'!EL35","v":39},{"$f":"'2016 syoa'!EM35-'2011 syoa'!EM35","v":56},{"$f":"'2016 syoa'!EN35-'2011 syoa'!EN35","v":15},{"$f":"'2016 syoa'!EO35-'2011 syoa'!EO35","v":32},{"$f":"'2016 syoa'!EP35-'2011 syoa'!EP35","v":31},{"$f":"'2016 syoa'!EQ35-'2011 syoa'!EQ35","v":-1},{"$f":"'2016 syoa'!ER35-'2011 syoa'!ER35","v":26},{"$f":"'2016 syoa'!ES35-'2011 syoa'!ES35","v":2},{"$f":"'2016 syoa'!ET35-'2011 syoa'!ET35","v":14},{"$f":"'2016 syoa'!EU35-'2011 syoa'!EU35","v":-2},{"$f":"'2016 syoa'!EV35-'2011 syoa'!EV35","v":-48},{"$f":"'2016 syoa'!EW35-'2011 syoa'!EW35","v":6},{"$f":"'2016 syoa'!EX35-'2011 syoa'!EX35","v":7},{"$f":"'2016 syoa'!EY35-'2011 syoa'!EY35","v":-12},{"$f":"'2016 syoa'!EZ35-'2011 syoa'!EZ35","v":21},{"$f":"'2016 syoa'!FA35-'2011 syoa'!FA35","v":24},{"$f":"'2016 syoa'!FB35-'2011 syoa'!FB35","v":14},{"$f":"'2016 syoa'!FC35-'2011 syoa'!FC35","v":18},{"$f":"'2016 syoa'!FD35-'2011 syoa'!FD35","v":22},{"$f":"'2016 syoa'!FE35-'2011 syoa'!FE35","v":15},{"$f":"'2016 syoa'!FF35-'2011 syoa'!FF35","v":1},{"$f":"'2016 syoa'!FG35-'2011 syoa'!FG35","v":18},{"$f":"'2016 syoa'!FH35-'2011 syoa'!FH35","v":18},{"$f":"'2016 syoa'!FI35-'2011 syoa'!FI35","v":17},{"$f":"'2016 syoa'!FJ35-'2011 syoa'!FJ35","v":6},{"$f":"'2016 syoa'!FK35-'2011 syoa'!FK35","v":17},{"$f":"'2016 syoa'!FL35-'2011 syoa'!FL35","v":-8},{"$f":"'2016 syoa'!FM35-'2011 syoa'!FM35","v":12},{"$f":"'2016 syoa'!FN35-'2011 syoa'!FN35","v":-7},{"$f":"'2016 syoa'!FO35-'2011 syoa'!FO35","v":-16},{"$f":"'2016 syoa'!FP35-'2011 syoa'!FP35","v":-1},{"$f":"'2016 syoa'!FQ35-'2011 syoa'!FQ35","v":-1},{"$f":"'2016 syoa'!FR35-'2011 syoa'!FR35","v":-16},{"$f":"'2016 syoa'!FS35-'2011 syoa'!FS35","v":12},{"$f":"'2016 syoa'!FT35-'2011 syoa'!FT35","v":11},{"$f":"'2016 syoa'!FU35-'2011 syoa'!FU35","v":5},{"$f":"'2016 syoa'!FV35-'2011 syoa'!FV35","v":-15},{"$f":"'2016 syoa'!FW35-'2011 syoa'!FW35","v":8},{"$f":"'2016 syoa'!FX35-'2011 syoa'!FX35","v":-5},{"$f":"'2016 syoa'!FY35-'2011 syoa'!FY35","v":3},{"$f":"'2016 syoa'!FZ35-'2011 syoa'!FZ35","v":3},{"$f":"'2016 syoa'!GA35-'2011 syoa'!GA35","v":2},{"$f":"'2016 syoa'!GB35-'2011 syoa'!GB35","v":0},{"$f":"'2016 syoa'!GC35-'2011 syoa'!GC35","v":5},{"$f":"'2016 syoa'!GD35-'2011 syoa'!GD35","v":-5},{"$f":"'2016 syoa'!GE35-'2011 syoa'!GE35","v":21}]
["Stechford and Yardley North","Yardley","E05001209",{"$f":"'2016 syoa'!D36-'2011 syoa'!D36","v":735},{"$f":"'2016 syoa'!E36-'2011 syoa'!E36","v":7},{"$f":"'2016 syoa'!F36-'2011 syoa'!F36","v":15},{"$f":"'2016 syoa'!G36-'2011 syoa'!G36","v":21},{"$f":"'2016 syoa'!H36-'2011 syoa'!H36","v":35},{"$f":"'2016 syoa'!I36-'2011 syoa'!I36","v":29},{"$f":"'2016 syoa'!J36-'2011 syoa'!J36","v":21},{"$f":"'2016 syoa'!K36-'2011 syoa'!K36","v":14},{"$f":"'2016 syoa'!L36-'2011 syoa'!L36","v":50},{"$f":"'2016 syoa'!M36-'2011 syoa'!M36","v":53},{"$f":"'2016 syoa'!N36-'2011 syoa'!N36","v":49},{"$f":"'2016 syoa'!O36-'2011 syoa'!O36","v":44},{"$f":"'2016 syoa'!P36-'2011 syoa'!P36","v":26},{"$f":"'2016 syoa'!Q36-'2011 syoa'!Q36","v":-4},{"$f":"'2016 syoa'!R36-'2011 syoa'!R36","v":-26},{"$f":"'2016 syoa'!S36-'2011 syoa'!S36","v":-34},{"$f":"'2016 syoa'!T36-'2011 syoa'!T36","v":-17},{"$f":"'2016 syoa'!U36-'2011 syoa'!U36","v":19},{"$f":"'2016 syoa'!V36-'2011 syoa'!V36","v":-3},{"$f":"'2016 syoa'!W36-'2011 syoa'!W36","v":4},{"$f":"'2016 syoa'!X36-'2011 syoa'!X36","v":7},{"$f":"'2016 syoa'!Y36-'2011 syoa'!Y36","v":24},{"$f":"'2016 syoa'!Z36-'2011 syoa'!Z36","v":-15},{"$f":"'2016 syoa'!AA36-'2011 syoa'!AA36","v":9},{"$f":"'2016 syoa'!AB36-'2011 syoa'!AB36","v":4},{"$f":"'2016 syoa'!AC36-'2011 syoa'!AC36","v":29},{"$f":"'2016 syoa'!AD36-'2011 syoa'!AD36","v":52},{"$f":"'2016 syoa'!AE36-'2011 syoa'!AE36","v":24},{"$f":"'2016 syoa'!AF36-'2011 syoa'!AF36","v":28},{"$f":"'2016 syoa'!AG36-'2011 syoa'!AG36","v":9},{"$f":"'2016 syoa'!AH36-'2011 syoa'!AH36","v":-9},{"$f":"'2016 syoa'!AI36-'2011 syoa'!AI36","v":31},{"$f":"'2016 syoa'!AJ36-'2011 syoa'!AJ36","v":12},{"$f":"'2016 syoa'!AK36-'2011 syoa'!AK36","v":23},{"$f":"'2016 syoa'!AL36-'2011 syoa'!AL36","v":37},{"$f":"'2016 syoa'!AM36-'2011 syoa'!AM36","v":44},{"$f":"'2016 syoa'!AN36-'2011 syoa'!AN36","v":36},{"$f":"'2016 syoa'!AO36-'2011 syoa'!AO36","v":15},{"$f":"'2016 syoa'!AP36-'2011 syoa'!AP36","v":1},{"$f":"'2016 syoa'!AQ36-'2011 syoa'!AQ36","v":-59},{"$f":"'2016 syoa'!AR36-'2011 syoa'!AR36","v":-14},{"$f":"'2016 syoa'!AS36-'2011 syoa'!AS36","v":-40},{"$f":"'2016 syoa'!AT36-'2011 syoa'!AT36","v":-45},{"$f":"'2016 syoa'!AU36-'2011 syoa'!AU36","v":-16},{"$f":"'2016 syoa'!AV36-'2011 syoa'!AV36","v":12},{"$f":"'2016 syoa'!AW36-'2011 syoa'!AW36","v":2},{"$f":"'2016 syoa'!AX36-'2011 syoa'!AX36","v":3},{"$f":"'2016 syoa'!AY36-'2011 syoa'!AY36","v":-26},{"$f":"'2016 syoa'!AZ36-'2011 syoa'!AZ36","v":-15},{"$f":"'2016 syoa'!BA36-'2011 syoa'!BA36","v":11},{"$f":"'2016 syoa'!BB36-'2011 syoa'!BB36","v":-16},{"$f":"'2016 syoa'!BC36-'2011 syoa'!BC36","v":-15},{"$f":"'2016 syoa'!BD36-'2011 syoa'!BD36","v":48},{"$f":"'2016 syoa'!BE36-'2011 syoa'!BE36","v":24},{"$f":"'2016 syoa'!BF36-'2011 syoa'!BF36","v":18},{"$f":"'2016 syoa'!BG36-'2011 syoa'!BG36","v":31},{"$f":"'2016 syoa'!BH36-'2011 syoa'!BH36","v":3},{"$f":"'2016 syoa'!BI36-'2011 syoa'!BI36","v":-4},{"$f":"'2016 syoa'!BJ36-'2011 syoa'!BJ36","v":15},{"$f":"'2016 syoa'!BK36-'2011 syoa'!BK36","v":-2},{"$f":"'2016 syoa'!BL36-'2011 syoa'!BL36","v":6},{"$f":"'2016 syoa'!BM36-'2011 syoa'!BM36","v":32},{"$f":"'2016 syoa'!BN36-'2011 syoa'!BN36","v":5},{"$f":"'2016 syoa'!BO36-'2011 syoa'!BO36","v":-2},{"$f":"'2016 syoa'!BP36-'2011 syoa'!BP36","v":-8},{"$f":"'2016 syoa'!BQ36-'2011 syoa'!BQ36","v":-13},{"$f":"'2016 syoa'!BR36-'2011 syoa'!BR36","v":18},{"$f":"'2016 syoa'!BS36-'2011 syoa'!BS36","v":26},{"$f":"'2016 syoa'!BT36-'2011 syoa'!BT36","v":-5},{"$f":"'2016 syoa'!BU36-'2011 syoa'!BU36","v":15},{"$f":"'2016 syoa'!BV36-'2011 syoa'!BV36","v":29},{"$f":"'2016 syoa'!BW36-'2011 syoa'!BW36","v":31},{"$f":"'2016 syoa'!BX36-'2011 syoa'!BX36","v":-2},{"$f":"'2016 syoa'!BY36-'2011 syoa'!BY36","v":0},{"$f":"'2016 syoa'!BZ36-'2011 syoa'!BZ36","v":-4},{"$f":"'2016 syoa'!CA36-'2011 syoa'!CA36","v":-4},{"$f":"'2016 syoa'!CB36-'2011 syoa'!CB36","v":0},{"$f":"'2016 syoa'!CC36-'2011 syoa'!CC36","v":-6},{"$f":"'2016 syoa'!CD36-'2011 syoa'!CD36","v":3},{"$f":"'2016 syoa'!CE36-'2011 syoa'!CE36","v":-5},{"$f":"'2016 syoa'!CF36-'2011 syoa'!CF36","v":-3},{"$f":"'2016 syoa'!CG36-'2011 syoa'!CG36","v":-15},{"$f":"'2016 syoa'!CH36-'2011 syoa'!CH36","v":11},{"$f":"'2016 syoa'!CI36-'2011 syoa'!CI36","v":17},{"$f":"'2016 syoa'!CJ36-'2011 syoa'!CJ36","v":4},{"$f":"'2016 syoa'!CK36-'2011 syoa'!CK36","v":-3},{"$f":"'2016 syoa'!CL36-'2011 syoa'!CL36","v":-5},{"$f":"'2016 syoa'!CM36-'2011 syoa'!CM36","v":9},{"$f":"'2016 syoa'!CN36-'2011 syoa'!CN36","v":10},{"$f":"'2016 syoa'!CO36-'2011 syoa'!CO36","v":3},{"$f":"'2016 syoa'!CP36-'2011 syoa'!CP36","v":5},{"$f":"'2016 syoa'!CQ36-'2011 syoa'!CQ36","v":7},{"$f":"'2016 syoa'!CR36-'2011 syoa'!CR36","v":658},{"$f":"'2016 syoa'!CS36-'2011 syoa'!CS36","v":15},{"$f":"'2016 syoa'!CT36-'2011 syoa'!CT36","v":15},{"$f":"'2016 syoa'!CU36-'2011 syoa'!CU36","v":42},{"$f":"'2016 syoa'!CV36-'2011 syoa'!CV36","v":17},{"$f":"'2016 syoa'!CW36-'2011 syoa'!CW36","v":16},{"$f":"'2016 syoa'!CX36-'2011 syoa'!CX36","v":0},{"$f":"'2016 syoa'!CY36-'2011 syoa'!CY36","v":56},{"$f":"'2016 syoa'!CZ36-'2011 syoa'!CZ36","v":15},{"$f":"'2016 syoa'!DA36-'2011 syoa'!DA36","v":29},{"$f":"'2016 syoa'!DB36-'2011 syoa'!DB36","v":37},{"$f":"'2016 syoa'!DC36-'2011 syoa'!DC36","v":39},{"$f":"'2016 syoa'!DD36-'2011 syoa'!DD36","v":10},{"$f":"'2016 syoa'!DE36-'2011 syoa'!DE36","v":11},{"$f":"'2016 syoa'!DF36-'2011 syoa'!DF36","v":0},{"$f":"'2016 syoa'!DG36-'2011 syoa'!DG36","v":10},{"$f":"'2016 syoa'!DH36-'2011 syoa'!DH36","v":-24},{"$f":"'2016 syoa'!DI36-'2011 syoa'!DI36","v":16},{"$f":"'2016 syoa'!DJ36-'2011 syoa'!DJ36","v":-18},{"$f":"'2016 syoa'!DK36-'2011 syoa'!DK36","v":-2},{"$f":"'2016 syoa'!DL36-'2011 syoa'!DL36","v":1},{"$f":"'2016 syoa'!DM36-'2011 syoa'!DM36","v":19},{"$f":"'2016 syoa'!DN36-'2011 syoa'!DN36","v":28},{"$f":"'2016 syoa'!DO36-'2011 syoa'!DO36","v":28},{"$f":"'2016 syoa'!DP36-'2011 syoa'!DP36","v":21},{"$f":"'2016 syoa'!DQ36-'2011 syoa'!DQ36","v":8},{"$f":"'2016 syoa'!DR36-'2011 syoa'!DR36","v":39},{"$f":"'2016 syoa'!DS36-'2011 syoa'!DS36","v":24},{"$f":"'2016 syoa'!DT36-'2011 syoa'!DT36","v":15},{"$f":"'2016 syoa'!DU36-'2011 syoa'!DU36","v":63},{"$f":"'2016 syoa'!DV36-'2011 syoa'!DV36","v":34},{"$f":"'2016 syoa'!DW36-'2011 syoa'!DW36","v":47},{"$f":"'2016 syoa'!DX36-'2011 syoa'!DX36","v":-17},{"$f":"'2016 syoa'!DY36-'2011 syoa'!DY36","v":25},{"$f":"'2016 syoa'!DZ36-'2011 syoa'!DZ36","v":18},{"$f":"'2016 syoa'!EA36-'2011 syoa'!EA36","v":-18},{"$f":"'2016 syoa'!EB36-'2011 syoa'!EB36","v":18},{"$f":"'2016 syoa'!EC36-'2011 syoa'!EC36","v":36},{"$f":"'2016 syoa'!ED36-'2011 syoa'!ED36","v":-14},{"$f":"'2016 syoa'!EE36-'2011 syoa'!EE36","v":7},{"$f":"'2016 syoa'!EF36-'2011 syoa'!EF36","v":8},{"$f":"'2016 syoa'!EG36-'2011 syoa'!EG36","v":-58},{"$f":"'2016 syoa'!EH36-'2011 syoa'!EH36","v":1},{"$f":"'2016 syoa'!EI36-'2011 syoa'!EI36","v":-52},{"$f":"'2016 syoa'!EJ36-'2011 syoa'!EJ36","v":-26},{"$f":"'2016 syoa'!EK36-'2011 syoa'!EK36","v":-7},{"$f":"'2016 syoa'!EL36-'2011 syoa'!EL36","v":-11},{"$f":"'2016 syoa'!EM36-'2011 syoa'!EM36","v":-16},{"$f":"'2016 syoa'!EN36-'2011 syoa'!EN36","v":-13},{"$f":"'2016 syoa'!EO36-'2011 syoa'!EO36","v":-4},{"$f":"'2016 syoa'!EP36-'2011 syoa'!EP36","v":18},{"$f":"'2016 syoa'!EQ36-'2011 syoa'!EQ36","v":-8},{"$f":"'2016 syoa'!ER36-'2011 syoa'!ER36","v":29},{"$f":"'2016 syoa'!ES36-'2011 syoa'!ES36","v":20},{"$f":"'2016 syoa'!ET36-'2011 syoa'!ET36","v":1},{"$f":"'2016 syoa'!EU36-'2011 syoa'!EU36","v":11},{"$f":"'2016 syoa'!EV36-'2011 syoa'!EV36","v":33},{"$f":"'2016 syoa'!EW36-'2011 syoa'!EW36","v":40},{"$f":"'2016 syoa'!EX36-'2011 syoa'!EX36","v":17},{"$f":"'2016 syoa'!EY36-'2011 syoa'!EY36","v":33},{"$f":"'2016 syoa'!EZ36-'2011 syoa'!EZ36","v":30},{"$f":"'2016 syoa'!FA36-'2011 syoa'!FA36","v":47},{"$f":"'2016 syoa'!FB36-'2011 syoa'!FB36","v":3},{"$f":"'2016 syoa'!FC36-'2011 syoa'!FC36","v":4},{"$f":"'2016 syoa'!FD36-'2011 syoa'!FD36","v":-40},{"$f":"'2016 syoa'!FE36-'2011 syoa'!FE36","v":-28},{"$f":"'2016 syoa'!FF36-'2011 syoa'!FF36","v":-35},{"$f":"'2016 syoa'!FG36-'2011 syoa'!FG36","v":4},{"$f":"'2016 syoa'!FH36-'2011 syoa'!FH36","v":0},{"$f":"'2016 syoa'!FI36-'2011 syoa'!FI36","v":20},{"$f":"'2016 syoa'!FJ36-'2011 syoa'!FJ36","v":7},{"$f":"'2016 syoa'!FK36-'2011 syoa'!FK36","v":19},{"$f":"'2016 syoa'!FL36-'2011 syoa'!FL36","v":13},{"$f":"'2016 syoa'!FM36-'2011 syoa'!FM36","v":-2},{"$f":"'2016 syoa'!FN36-'2011 syoa'!FN36","v":7},{"$f":"'2016 syoa'!FO36-'2011 syoa'!FO36","v":-12},{"$f":"'2016 syoa'!FP36-'2011 syoa'!FP36","v":-11},{"$f":"'2016 syoa'!FQ36-'2011 syoa'!FQ36","v":-8},{"$f":"'2016 syoa'!FR36-'2011 syoa'!FR36","v":19},{"$f":"'2016 syoa'!FS36-'2011 syoa'!FS36","v":-9},{"$f":"'2016 syoa'!FT36-'2011 syoa'!FT36","v":7},{"$f":"'2016 syoa'!FU36-'2011 syoa'!FU36","v":4},{"$f":"'2016 syoa'!FV36-'2011 syoa'!FV36","v":5},{"$f":"'2016 syoa'!FW36-'2011 syoa'!FW36","v":-25},{"$f":"'2016 syoa'!FX36-'2011 syoa'!FX36","v":3},{"$f":"'2016 syoa'!FY36-'2011 syoa'!FY36","v":-11},{"$f":"'2016 syoa'!FZ36-'2011 syoa'!FZ36","v":-2},{"$f":"'2016 syoa'!GA36-'2011 syoa'!GA36","v":-3},{"$f":"'2016 syoa'!GB36-'2011 syoa'!GB36","v":2},{"$f":"'2016 syoa'!GC36-'2011 syoa'!GC36","v":-14},{"$f":"'2016 syoa'!GD36-'2011 syoa'!GD36","v":-5},{"$f":"'2016 syoa'!GE36-'2011 syoa'!GE36","v":-13}]
["Stockland Green","Erdington","E05001210",{"$f":"'2016 syoa'!D37-'2011 syoa'!D37","v":1168},{"$f":"'2016 syoa'!E37-'2011 syoa'!E37","v":-3},{"$f":"'2016 syoa'!F37-'2011 syoa'!F37","v":41},{"$f":"'2016 syoa'!G37-'2011 syoa'!G37","v":27},{"$f":"'2016 syoa'!H37-'2011 syoa'!H37","v":24},{"$f":"'2016 syoa'!I37-'2011 syoa'!I37","v":26},{"$f":"'2016 syoa'!J37-'2011 syoa'!J37","v":9},{"$f":"'2016 syoa'!K37-'2011 syoa'!K37","v":20},{"$f":"'2016 syoa'!L37-'2011 syoa'!L37","v":42},{"$f":"'2016 syoa'!M37-'2011 syoa'!M37","v":23},{"$f":"'2016 syoa'!N37-'2011 syoa'!N37","v":29},{"$f":"'2016 syoa'!O37-'2011 syoa'!O37","v":15},{"$f":"'2016 syoa'!P37-'2011 syoa'!P37","v":19},{"$f":"'2016 syoa'!Q37-'2011 syoa'!Q37","v":12},{"$f":"'2016 syoa'!R37-'2011 syoa'!R37","v":3},{"$f":"'2016 syoa'!S37-'2011 syoa'!S37","v":-3},{"$f":"'2016 syoa'!T37-'2011 syoa'!T37","v":22},{"$f":"'2016 syoa'!U37-'2011 syoa'!U37","v":26},{"$f":"'2016 syoa'!V37-'2011 syoa'!V37","v":-19},{"$f":"'2016 syoa'!W37-'2011 syoa'!W37","v":15},{"$f":"'2016 syoa'!X37-'2011 syoa'!X37","v":14},{"$f":"'2016 syoa'!Y37-'2011 syoa'!Y37","v":29},{"$f":"'2016 syoa'!Z37-'2011 syoa'!Z37","v":2},{"$f":"'2016 syoa'!AA37-'2011 syoa'!AA37","v":43},{"$f":"'2016 syoa'!AB37-'2011 syoa'!AB37","v":-2},{"$f":"'2016 syoa'!AC37-'2011 syoa'!AC37","v":64},{"$f":"'2016 syoa'!AD37-'2011 syoa'!AD37","v":56},{"$f":"'2016 syoa'!AE37-'2011 syoa'!AE37","v":13},{"$f":"'2016 syoa'!AF37-'2011 syoa'!AF37","v":44},{"$f":"'2016 syoa'!AG37-'2011 syoa'!AG37","v":-5},{"$f":"'2016 syoa'!AH37-'2011 syoa'!AH37","v":-7},{"$f":"'2016 syoa'!AI37-'2011 syoa'!AI37","v":67},{"$f":"'2016 syoa'!AJ37-'2011 syoa'!AJ37","v":34},{"$f":"'2016 syoa'!AK37-'2011 syoa'!AK37","v":40},{"$f":"'2016 syoa'!AL37-'2011 syoa'!AL37","v":12},{"$f":"'2016 syoa'!AM37-'2011 syoa'!AM37","v":48},{"$f":"'2016 syoa'!AN37-'2011 syoa'!AN37","v":73},{"$f":"'2016 syoa'!AO37-'2011 syoa'!AO37","v":35},{"$f":"'2016 syoa'!AP37-'2011 syoa'!AP37","v":7},{"$f":"'2016 syoa'!AQ37-'2011 syoa'!AQ37","v":-11},{"$f":"'2016 syoa'!AR37-'2011 syoa'!AR37","v":26},{"$f":"'2016 syoa'!AS37-'2011 syoa'!AS37","v":-44},{"$f":"'2016 syoa'!AT37-'2011 syoa'!AT37","v":-2},{"$f":"'2016 syoa'!AU37-'2011 syoa'!AU37","v":28},{"$f":"'2016 syoa'!AV37-'2011 syoa'!AV37","v":28},{"$f":"'2016 syoa'!AW37-'2011 syoa'!AW37","v":-17},{"$f":"'2016 syoa'!AX37-'2011 syoa'!AX37","v":-34},{"$f":"'2016 syoa'!AY37-'2011 syoa'!AY37","v":-17},{"$f":"'2016 syoa'!AZ37-'2011 syoa'!AZ37","v":-8},{"$f":"'2016 syoa'!BA37-'2011 syoa'!BA37","v":-11},{"$f":"'2016 syoa'!BB37-'2011 syoa'!BB37","v":9},{"$f":"'2016 syoa'!BC37-'2011 syoa'!BC37","v":52},{"$f":"'2016 syoa'!BD37-'2011 syoa'!BD37","v":1},{"$f":"'2016 syoa'!BE37-'2011 syoa'!BE37","v":12},{"$f":"'2016 syoa'!BF37-'2011 syoa'!BF37","v":45},{"$f":"'2016 syoa'!BG37-'2011 syoa'!BG37","v":22},{"$f":"'2016 syoa'!BH37-'2011 syoa'!BH37","v":-5},{"$f":"'2016 syoa'!BI37-'2011 syoa'!BI37","v":31},{"$f":"'2016 syoa'!BJ37-'2011 syoa'!BJ37","v":2},{"$f":"'2016 syoa'!BK37-'2011 syoa'!BK37","v":-7},{"$f":"'2016 syoa'!BL37-'2011 syoa'!BL37","v":53},{"$f":"'2016 syoa'!BM37-'2011 syoa'!BM37","v":28},{"$f":"'2016 syoa'!BN37-'2011 syoa'!BN37","v":3},{"$f":"'2016 syoa'!BO37-'2011 syoa'!BO37","v":32},{"$f":"'2016 syoa'!BP37-'2011 syoa'!BP37","v":15},{"$f":"'2016 syoa'!BQ37-'2011 syoa'!BQ37","v":-19},{"$f":"'2016 syoa'!BR37-'2011 syoa'!BR37","v":0},{"$f":"'2016 syoa'!BS37-'2011 syoa'!BS37","v":15},{"$f":"'2016 syoa'!BT37-'2011 syoa'!BT37","v":2},{"$f":"'2016 syoa'!BU37-'2011 syoa'!BU37","v":23},{"$f":"'2016 syoa'!BV37-'2011 syoa'!BV37","v":8},{"$f":"'2016 syoa'!BW37-'2011 syoa'!BW37","v":18},{"$f":"'2016 syoa'!BX37-'2011 syoa'!BX37","v":-2},{"$f":"'2016 syoa'!BY37-'2011 syoa'!BY37","v":-9},{"$f":"'2016 syoa'!BZ37-'2011 syoa'!BZ37","v":0},{"$f":"'2016 syoa'!CA37-'2011 syoa'!CA37","v":3},{"$f":"'2016 syoa'!CB37-'2011 syoa'!CB37","v":-22},{"$f":"'2016 syoa'!CC37-'2011 syoa'!CC37","v":-11},{"$f":"'2016 syoa'!CD37-'2011 syoa'!CD37","v":10},{"$f":"'2016 syoa'!CE37-'2011 syoa'!CE37","v":-7},{"$f":"'2016 syoa'!CF37-'2011 syoa'!CF37","v":2},{"$f":"'2016 syoa'!CG37-'2011 syoa'!CG37","v":3},{"$f":"'2016 syoa'!CH37-'2011 syoa'!CH37","v":1},{"$f":"'2016 syoa'!CI37-'2011 syoa'!CI37","v":6},{"$f":"'2016 syoa'!CJ37-'2011 syoa'!CJ37","v":7},{"$f":"'2016 syoa'!CK37-'2011 syoa'!CK37","v":-11},{"$f":"'2016 syoa'!CL37-'2011 syoa'!CL37","v":9},{"$f":"'2016 syoa'!CM37-'2011 syoa'!CM37","v":0},{"$f":"'2016 syoa'!CN37-'2011 syoa'!CN37","v":-5},{"$f":"'2016 syoa'!CO37-'2011 syoa'!CO37","v":11},{"$f":"'2016 syoa'!CP37-'2011 syoa'!CP37","v":5},{"$f":"'2016 syoa'!CQ37-'2011 syoa'!CQ37","v":5},{"$f":"'2016 syoa'!CR37-'2011 syoa'!CR37","v":730},{"$f":"'2016 syoa'!CS37-'2011 syoa'!CS37","v":-17},{"$f":"'2016 syoa'!CT37-'2011 syoa'!CT37","v":10},{"$f":"'2016 syoa'!CU37-'2011 syoa'!CU37","v":-24},{"$f":"'2016 syoa'!CV37-'2011 syoa'!CV37","v":39},{"$f":"'2016 syoa'!CW37-'2011 syoa'!CW37","v":17},{"$f":"'2016 syoa'!CX37-'2011 syoa'!CX37","v":53},{"$f":"'2016 syoa'!CY37-'2011 syoa'!CY37","v":22},{"$f":"'2016 syoa'!CZ37-'2011 syoa'!CZ37","v":29},{"$f":"'2016 syoa'!DA37-'2011 syoa'!DA37","v":5},{"$f":"'2016 syoa'!DB37-'2011 syoa'!DB37","v":56},{"$f":"'2016 syoa'!DC37-'2011 syoa'!DC37","v":43},{"$f":"'2016 syoa'!DD37-'2011 syoa'!DD37","v":22},{"$f":"'2016 syoa'!DE37-'2011 syoa'!DE37","v":9},{"$f":"'2016 syoa'!DF37-'2011 syoa'!DF37","v":16},{"$f":"'2016 syoa'!DG37-'2011 syoa'!DG37","v":-1},{"$f":"'2016 syoa'!DH37-'2011 syoa'!DH37","v":0},{"$f":"'2016 syoa'!DI37-'2011 syoa'!DI37","v":8},{"$f":"'2016 syoa'!DJ37-'2011 syoa'!DJ37","v":-14},{"$f":"'2016 syoa'!DK37-'2011 syoa'!DK37","v":-5},{"$f":"'2016 syoa'!DL37-'2011 syoa'!DL37","v":-35},{"$f":"'2016 syoa'!DM37-'2011 syoa'!DM37","v":-22},{"$f":"'2016 syoa'!DN37-'2011 syoa'!DN37","v":-27},{"$f":"'2016 syoa'!DO37-'2011 syoa'!DO37","v":55},{"$f":"'2016 syoa'!DP37-'2011 syoa'!DP37","v":42},{"$f":"'2016 syoa'!DQ37-'2011 syoa'!DQ37","v":-14},{"$f":"'2016 syoa'!DR37-'2011 syoa'!DR37","v":24},{"$f":"'2016 syoa'!DS37-'2011 syoa'!DS37","v":7},{"$f":"'2016 syoa'!DT37-'2011 syoa'!DT37","v":-26},{"$f":"'2016 syoa'!DU37-'2011 syoa'!DU37","v":-17},{"$f":"'2016 syoa'!DV37-'2011 syoa'!DV37","v":37},{"$f":"'2016 syoa'!DW37-'2011 syoa'!DW37","v":22},{"$f":"'2016 syoa'!DX37-'2011 syoa'!DX37","v":46},{"$f":"'2016 syoa'!DY37-'2011 syoa'!DY37","v":34},{"$f":"'2016 syoa'!DZ37-'2011 syoa'!DZ37","v":83},{"$f":"'2016 syoa'!EA37-'2011 syoa'!EA37","v":10},{"$f":"'2016 syoa'!EB37-'2011 syoa'!EB37","v":26},{"$f":"'2016 syoa'!EC37-'2011 syoa'!EC37","v":32},{"$f":"'2016 syoa'!ED37-'2011 syoa'!ED37","v":6},{"$f":"'2016 syoa'!EE37-'2011 syoa'!EE37","v":5},{"$f":"'2016 syoa'!EF37-'2011 syoa'!EF37","v":-10},{"$f":"'2016 syoa'!EG37-'2011 syoa'!EG37","v":-3},{"$f":"'2016 syoa'!EH37-'2011 syoa'!EH37","v":-37},{"$f":"'2016 syoa'!EI37-'2011 syoa'!EI37","v":-70},{"$f":"'2016 syoa'!EJ37-'2011 syoa'!EJ37","v":5},{"$f":"'2016 syoa'!EK37-'2011 syoa'!EK37","v":5},{"$f":"'2016 syoa'!EL37-'2011 syoa'!EL37","v":20},{"$f":"'2016 syoa'!EM37-'2011 syoa'!EM37","v":-15},{"$f":"'2016 syoa'!EN37-'2011 syoa'!EN37","v":-9},{"$f":"'2016 syoa'!EO37-'2011 syoa'!EO37","v":0},{"$f":"'2016 syoa'!EP37-'2011 syoa'!EP37","v":-52},{"$f":"'2016 syoa'!EQ37-'2011 syoa'!EQ37","v":0},{"$f":"'2016 syoa'!ER37-'2011 syoa'!ER37","v":66},{"$f":"'2016 syoa'!ES37-'2011 syoa'!ES37","v":28},{"$f":"'2016 syoa'!ET37-'2011 syoa'!ET37","v":20},{"$f":"'2016 syoa'!EU37-'2011 syoa'!EU37","v":63},{"$f":"'2016 syoa'!EV37-'2011 syoa'!EV37","v":36},{"$f":"'2016 syoa'!EW37-'2011 syoa'!EW37","v":32},{"$f":"'2016 syoa'!EX37-'2011 syoa'!EX37","v":47},{"$f":"'2016 syoa'!EY37-'2011 syoa'!EY37","v":32},{"$f":"'2016 syoa'!EZ37-'2011 syoa'!EZ37","v":48},{"$f":"'2016 syoa'!FA37-'2011 syoa'!FA37","v":8},{"$f":"'2016 syoa'!FB37-'2011 syoa'!FB37","v":-19},{"$f":"'2016 syoa'!FC37-'2011 syoa'!FC37","v":7},{"$f":"'2016 syoa'!FD37-'2011 syoa'!FD37","v":-21},{"$f":"'2016 syoa'!FE37-'2011 syoa'!FE37","v":-32},{"$f":"'2016 syoa'!FF37-'2011 syoa'!FF37","v":24},{"$f":"'2016 syoa'!FG37-'2011 syoa'!FG37","v":43},{"$f":"'2016 syoa'!FH37-'2011 syoa'!FH37","v":18},{"$f":"'2016 syoa'!FI37-'2011 syoa'!FI37","v":17},{"$f":"'2016 syoa'!FJ37-'2011 syoa'!FJ37","v":27},{"$f":"'2016 syoa'!FK37-'2011 syoa'!FK37","v":6},{"$f":"'2016 syoa'!FL37-'2011 syoa'!FL37","v":-8},{"$f":"'2016 syoa'!FM37-'2011 syoa'!FM37","v":11},{"$f":"'2016 syoa'!FN37-'2011 syoa'!FN37","v":-26},{"$f":"'2016 syoa'!FO37-'2011 syoa'!FO37","v":-4},{"$f":"'2016 syoa'!FP37-'2011 syoa'!FP37","v":-10},{"$f":"'2016 syoa'!FQ37-'2011 syoa'!FQ37","v":-1},{"$f":"'2016 syoa'!FR37-'2011 syoa'!FR37","v":14},{"$f":"'2016 syoa'!FS37-'2011 syoa'!FS37","v":10},{"$f":"'2016 syoa'!FT37-'2011 syoa'!FT37","v":-5},{"$f":"'2016 syoa'!FU37-'2011 syoa'!FU37","v":5},{"$f":"'2016 syoa'!FV37-'2011 syoa'!FV37","v":-34},{"$f":"'2016 syoa'!FW37-'2011 syoa'!FW37","v":-16},{"$f":"'2016 syoa'!FX37-'2011 syoa'!FX37","v":5},{"$f":"'2016 syoa'!FY37-'2011 syoa'!FY37","v":-9},{"$f":"'2016 syoa'!FZ37-'2011 syoa'!FZ37","v":8},{"$f":"'2016 syoa'!GA37-'2011 syoa'!GA37","v":10},{"$f":"'2016 syoa'!GB37-'2011 syoa'!GB37","v":1},{"$f":"'2016 syoa'!GC37-'2011 syoa'!GC37","v":-5},{"$f":"'2016 syoa'!GD37-'2011 syoa'!GD37","v":-3},{"$f":"'2016 syoa'!GE37-'2011 syoa'!GE37","v":-53}]
["Sutton Four Oaks","Sutton Coldfield","E05001211",{"$f":"'2016 syoa'!D38-'2011 syoa'!D38","v":248},{"$f":"'2016 syoa'!E38-'2011 syoa'!E38","v":22},{"$f":"'2016 syoa'!F38-'2011 syoa'!F38","v":22},{"$f":"'2016 syoa'!G38-'2011 syoa'!G38","v":-4},{"$f":"'2016 syoa'!H38-'2011 syoa'!H38","v":-12},{"$f":"'2016 syoa'!I38-'2011 syoa'!I38","v":-25},{"$f":"'2016 syoa'!J38-'2011 syoa'!J38","v":-3},{"$f":"'2016 syoa'!K38-'2011 syoa'!K38","v":21},{"$f":"'2016 syoa'!L38-'2011 syoa'!L38","v":16},{"$f":"'2016 syoa'!M38-'2011 syoa'!M38","v":42},{"$f":"'2016 syoa'!N38-'2011 syoa'!N38","v":31},{"$f":"'2016 syoa'!O38-'2011 syoa'!O38","v":-14},{"$f":"'2016 syoa'!P38-'2011 syoa'!P38","v":1},{"$f":"'2016 syoa'!Q38-'2011 syoa'!Q38","v":-3},{"$f":"'2016 syoa'!R38-'2011 syoa'!R38","v":7},{"$f":"'2016 syoa'!S38-'2011 syoa'!S38","v":12},{"$f":"'2016 syoa'!T38-'2011 syoa'!T38","v":16},{"$f":"'2016 syoa'!U38-'2011 syoa'!U38","v":8},{"$f":"'2016 syoa'!V38-'2011 syoa'!V38","v":31},{"$f":"'2016 syoa'!W38-'2011 syoa'!W38","v":5},{"$f":"'2016 syoa'!X38-'2011 syoa'!X38","v":-15},{"$f":"'2016 syoa'!Y38-'2011 syoa'!Y38","v":9},{"$f":"'2016 syoa'!Z38-'2011 syoa'!Z38","v":8},{"$f":"'2016 syoa'!AA38-'2011 syoa'!AA38","v":2},{"$f":"'2016 syoa'!AB38-'2011 syoa'!AB38","v":-11},{"$f":"'2016 syoa'!AC38-'2011 syoa'!AC38","v":7},{"$f":"'2016 syoa'!AD38-'2011 syoa'!AD38","v":24},{"$f":"'2016 syoa'!AE38-'2011 syoa'!AE38","v":46},{"$f":"'2016 syoa'!AF38-'2011 syoa'!AF38","v":30},{"$f":"'2016 syoa'!AG38-'2011 syoa'!AG38","v":4},{"$f":"'2016 syoa'!AH38-'2011 syoa'!AH38","v":-3},{"$f":"'2016 syoa'!AI38-'2011 syoa'!AI38","v":10},{"$f":"'2016 syoa'!AJ38-'2011 syoa'!AJ38","v":2},{"$f":"'2016 syoa'!AK38-'2011 syoa'!AK38","v":-6},{"$f":"'2016 syoa'!AL38-'2011 syoa'!AL38","v":-9},{"$f":"'2016 syoa'!AM38-'2011 syoa'!AM38","v":8},{"$f":"'2016 syoa'!AN38-'2011 syoa'!AN38","v":-37},{"$f":"'2016 syoa'!AO38-'2011 syoa'!AO38","v":-3},{"$f":"'2016 syoa'!AP38-'2011 syoa'!AP38","v":-20},{"$f":"'2016 syoa'!AQ38-'2011 syoa'!AQ38","v":-15},{"$f":"'2016 syoa'!AR38-'2011 syoa'!AR38","v":-46},{"$f":"'2016 syoa'!AS38-'2011 syoa'!AS38","v":-7},{"$f":"'2016 syoa'!AT38-'2011 syoa'!AT38","v":-20},{"$f":"'2016 syoa'!AU38-'2011 syoa'!AU38","v":-34},{"$f":"'2016 syoa'!AV38-'2011 syoa'!AV38","v":-56},{"$f":"'2016 syoa'!AW38-'2011 syoa'!AW38","v":-5},{"$f":"'2016 syoa'!AX38-'2011 syoa'!AX38","v":-13},{"$f":"'2016 syoa'!AY38-'2011 syoa'!AY38","v":-30},{"$f":"'2016 syoa'!AZ38-'2011 syoa'!AZ38","v":-6},{"$f":"'2016 syoa'!BA38-'2011 syoa'!BA38","v":9},{"$f":"'2016 syoa'!BB38-'2011 syoa'!BB38","v":-1},{"$f":"'2016 syoa'!BC38-'2011 syoa'!BC38","v":10},{"$f":"'2016 syoa'!BD38-'2011 syoa'!BD38","v":41},{"$f":"'2016 syoa'!BE38-'2011 syoa'!BE38","v":29},{"$f":"'2016 syoa'!BF38-'2011 syoa'!BF38","v":30},{"$f":"'2016 syoa'!BG38-'2011 syoa'!BG38","v":18},{"$f":"'2016 syoa'!BH38-'2011 syoa'!BH38","v":1},{"$f":"'2016 syoa'!BI38-'2011 syoa'!BI38","v":1},{"$f":"'2016 syoa'!BJ38-'2011 syoa'!BJ38","v":8},{"$f":"'2016 syoa'!BK38-'2011 syoa'!BK38","v":-1},{"$f":"'2016 syoa'!BL38-'2011 syoa'!BL38","v":20},{"$f":"'2016 syoa'!BM38-'2011 syoa'!BM38","v":-4},{"$f":"'2016 syoa'!BN38-'2011 syoa'!BN38","v":-3},{"$f":"'2016 syoa'!BO38-'2011 syoa'!BO38","v":-13},{"$f":"'2016 syoa'!BP38-'2011 syoa'!BP38","v":-24},{"$f":"'2016 syoa'!BQ38-'2011 syoa'!BQ38","v":-72},{"$f":"'2016 syoa'!BR38-'2011 syoa'!BR38","v":-14},{"$f":"'2016 syoa'!BS38-'2011 syoa'!BS38","v":-26},{"$f":"'2016 syoa'!BT38-'2011 syoa'!BT38","v":-23},{"$f":"'2016 syoa'!BU38-'2011 syoa'!BU38","v":3},{"$f":"'2016 syoa'!BV38-'2011 syoa'!BV38","v":55},{"$f":"'2016 syoa'!BW38-'2011 syoa'!BW38","v":41},{"$f":"'2016 syoa'!BX38-'2011 syoa'!BX38","v":43},{"$f":"'2016 syoa'!BY38-'2011 syoa'!BY38","v":45},{"$f":"'2016 syoa'!BZ38-'2011 syoa'!BZ38","v":0},{"$f":"'2016 syoa'!CA38-'2011 syoa'!CA38","v":17},{"$f":"'2016 syoa'!CB38-'2011 syoa'!CB38","v":-3},{"$f":"'2016 syoa'!CC38-'2011 syoa'!CC38","v":-18},{"$f":"'2016 syoa'!CD38-'2011 syoa'!CD38","v":3},{"$f":"'2016 syoa'!CE38-'2011 syoa'!CE38","v":7},{"$f":"'2016 syoa'!CF38-'2011 syoa'!CF38","v":-4},{"$f":"'2016 syoa'!CG38-'2011 syoa'!CG38","v":-22},{"$f":"'2016 syoa'!CH38-'2011 syoa'!CH38","v":-6},{"$f":"'2016 syoa'!CI38-'2011 syoa'!CI38","v":-1},{"$f":"'2016 syoa'!CJ38-'2011 syoa'!CJ38","v":2},{"$f":"'2016 syoa'!CK38-'2011 syoa'!CK38","v":3},{"$f":"'2016 syoa'!CL38-'2011 syoa'!CL38","v":35},{"$f":"'2016 syoa'!CM38-'2011 syoa'!CM38","v":11},{"$f":"'2016 syoa'!CN38-'2011 syoa'!CN38","v":1},{"$f":"'2016 syoa'!CO38-'2011 syoa'!CO38","v":23},{"$f":"'2016 syoa'!CP38-'2011 syoa'!CP38","v":3},{"$f":"'2016 syoa'!CQ38-'2011 syoa'!CQ38","v":37},{"$f":"'2016 syoa'!CR38-'2011 syoa'!CR38","v":452},{"$f":"'2016 syoa'!CS38-'2011 syoa'!CS38","v":14},{"$f":"'2016 syoa'!CT38-'2011 syoa'!CT38","v":11},{"$f":"'2016 syoa'!CU38-'2011 syoa'!CU38","v":28},{"$f":"'2016 syoa'!CV38-'2011 syoa'!CV38","v":23},{"$f":"'2016 syoa'!CW38-'2011 syoa'!CW38","v":18},{"$f":"'2016 syoa'!CX38-'2011 syoa'!CX38","v":0},{"$f":"'2016 syoa'!CY38-'2011 syoa'!CY38","v":6},{"$f":"'2016 syoa'!CZ38-'2011 syoa'!CZ38","v":-14},{"$f":"'2016 syoa'!DA38-'2011 syoa'!DA38","v":23},{"$f":"'2016 syoa'!DB38-'2011 syoa'!DB38","v":27},{"$f":"'2016 syoa'!DC38-'2011 syoa'!DC38","v":32},{"$f":"'2016 syoa'!DD38-'2011 syoa'!DD38","v":5},{"$f":"'2016 syoa'!DE38-'2011 syoa'!DE38","v":13},{"$f":"'2016 syoa'!DF38-'2011 syoa'!DF38","v":-3},{"$f":"'2016 syoa'!DG38-'2011 syoa'!DG38","v":-8},{"$f":"'2016 syoa'!DH38-'2011 syoa'!DH38","v":-20},{"$f":"'2016 syoa'!DI38-'2011 syoa'!DI38","v":18},{"$f":"'2016 syoa'!DJ38-'2011 syoa'!DJ38","v":-22},{"$f":"'2016 syoa'!DK38-'2011 syoa'!DK38","v":-16},{"$f":"'2016 syoa'!DL38-'2011 syoa'!DL38","v":20},{"$f":"'2016 syoa'!DM38-'2011 syoa'!DM38","v":38},{"$f":"'2016 syoa'!DN38-'2011 syoa'!DN38","v":21},{"$f":"'2016 syoa'!DO38-'2011 syoa'!DO38","v":9},{"$f":"'2016 syoa'!DP38-'2011 syoa'!DP38","v":-2},{"$f":"'2016 syoa'!DQ38-'2011 syoa'!DQ38","v":28},{"$f":"'2016 syoa'!DR38-'2011 syoa'!DR38","v":0},{"$f":"'2016 syoa'!DS38-'2011 syoa'!DS38","v":33},{"$f":"'2016 syoa'!DT38-'2011 syoa'!DT38","v":4},{"$f":"'2016 syoa'!DU38-'2011 syoa'!DU38","v":26},{"$f":"'2016 syoa'!DV38-'2011 syoa'!DV38","v":4},{"$f":"'2016 syoa'!DW38-'2011 syoa'!DW38","v":12},{"$f":"'2016 syoa'!DX38-'2011 syoa'!DX38","v":-16},{"$f":"'2016 syoa'!DY38-'2011 syoa'!DY38","v":-21},{"$f":"'2016 syoa'!DZ38-'2011 syoa'!DZ38","v":-3},{"$f":"'2016 syoa'!EA38-'2011 syoa'!EA38","v":-5},{"$f":"'2016 syoa'!EB38-'2011 syoa'!EB38","v":-20},{"$f":"'2016 syoa'!EC38-'2011 syoa'!EC38","v":6},{"$f":"'2016 syoa'!ED38-'2011 syoa'!ED38","v":17},{"$f":"'2016 syoa'!EE38-'2011 syoa'!EE38","v":13},{"$f":"'2016 syoa'!EF38-'2011 syoa'!EF38","v":-7},{"$f":"'2016 syoa'!EG38-'2011 syoa'!EG38","v":-45},{"$f":"'2016 syoa'!EH38-'2011 syoa'!EH38","v":-20},{"$f":"'2016 syoa'!EI38-'2011 syoa'!EI38","v":-35},{"$f":"'2016 syoa'!EJ38-'2011 syoa'!EJ38","v":-61},{"$f":"'2016 syoa'!EK38-'2011 syoa'!EK38","v":3},{"$f":"'2016 syoa'!EL38-'2011 syoa'!EL38","v":47},{"$f":"'2016 syoa'!EM38-'2011 syoa'!EM38","v":-29},{"$f":"'2016 syoa'!EN38-'2011 syoa'!EN38","v":-18},{"$f":"'2016 syoa'!EO38-'2011 syoa'!EO38","v":23},{"$f":"'2016 syoa'!EP38-'2011 syoa'!EP38","v":3},{"$f":"'2016 syoa'!EQ38-'2011 syoa'!EQ38","v":16},{"$f":"'2016 syoa'!ER38-'2011 syoa'!ER38","v":52},{"$f":"'2016 syoa'!ES38-'2011 syoa'!ES38","v":29},{"$f":"'2016 syoa'!ET38-'2011 syoa'!ET38","v":45},{"$f":"'2016 syoa'!EU38-'2011 syoa'!EU38","v":30},{"$f":"'2016 syoa'!EV38-'2011 syoa'!EV38","v":-12},{"$f":"'2016 syoa'!EW38-'2011 syoa'!EW38","v":21},{"$f":"'2016 syoa'!EX38-'2011 syoa'!EX38","v":31},{"$f":"'2016 syoa'!EY38-'2011 syoa'!EY38","v":-20},{"$f":"'2016 syoa'!EZ38-'2011 syoa'!EZ38","v":0},{"$f":"'2016 syoa'!FA38-'2011 syoa'!FA38","v":35},{"$f":"'2016 syoa'!FB38-'2011 syoa'!FB38","v":-26},{"$f":"'2016 syoa'!FC38-'2011 syoa'!FC38","v":-17},{"$f":"'2016 syoa'!FD38-'2011 syoa'!FD38","v":-25},{"$f":"'2016 syoa'!FE38-'2011 syoa'!FE38","v":-44},{"$f":"'2016 syoa'!FF38-'2011 syoa'!FF38","v":-48},{"$f":"'2016 syoa'!FG38-'2011 syoa'!FG38","v":-45},{"$f":"'2016 syoa'!FH38-'2011 syoa'!FH38","v":-4},{"$f":"'2016 syoa'!FI38-'2011 syoa'!FI38","v":18},{"$f":"'2016 syoa'!FJ38-'2011 syoa'!FJ38","v":62},{"$f":"'2016 syoa'!FK38-'2011 syoa'!FK38","v":51},{"$f":"'2016 syoa'!FL38-'2011 syoa'!FL38","v":71},{"$f":"'2016 syoa'!FM38-'2011 syoa'!FM38","v":16},{"$f":"'2016 syoa'!FN38-'2011 syoa'!FN38","v":1},{"$f":"'2016 syoa'!FO38-'2011 syoa'!FO38","v":-4},{"$f":"'2016 syoa'!FP38-'2011 syoa'!FP38","v":-38},{"$f":"'2016 syoa'!FQ38-'2011 syoa'!FQ38","v":-38},{"$f":"'2016 syoa'!FR38-'2011 syoa'!FR38","v":14},{"$f":"'2016 syoa'!FS38-'2011 syoa'!FS38","v":18},{"$f":"'2016 syoa'!FT38-'2011 syoa'!FT38","v":-15},{"$f":"'2016 syoa'!FU38-'2011 syoa'!FU38","v":7},{"$f":"'2016 syoa'!FV38-'2011 syoa'!FV38","v":19},{"$f":"'2016 syoa'!FW38-'2011 syoa'!FW38","v":-5},{"$f":"'2016 syoa'!FX38-'2011 syoa'!FX38","v":4},{"$f":"'2016 syoa'!FY38-'2011 syoa'!FY38","v":34},{"$f":"'2016 syoa'!FZ38-'2011 syoa'!FZ38","v":14},{"$f":"'2016 syoa'!GA38-'2011 syoa'!GA38","v":28},{"$f":"'2016 syoa'!GB38-'2011 syoa'!GB38","v":2},{"$f":"'2016 syoa'!GC38-'2011 syoa'!GC38","v":-8},{"$f":"'2016 syoa'!GD38-'2011 syoa'!GD38","v":-5},{"$f":"'2016 syoa'!GE38-'2011 syoa'!GE38","v":28}]
["Sutton New Hall","Sutton Coldfield","E05001212",{"$f":"'2016 syoa'!D39-'2011 syoa'!D39","v":-206},{"$f":"'2016 syoa'!E39-'2011 syoa'!E39","v":-1},{"$f":"'2016 syoa'!F39-'2011 syoa'!F39","v":12},{"$f":"'2016 syoa'!G39-'2011 syoa'!G39","v":23},{"$f":"'2016 syoa'!H39-'2011 syoa'!H39","v":-20},{"$f":"'2016 syoa'!I39-'2011 syoa'!I39","v":-16},{"$f":"'2016 syoa'!J39-'2011 syoa'!J39","v":2},{"$f":"'2016 syoa'!K39-'2011 syoa'!K39","v":-14},{"$f":"'2016 syoa'!L39-'2011 syoa'!L39","v":-30},{"$f":"'2016 syoa'!M39-'2011 syoa'!M39","v":-11},{"$f":"'2016 syoa'!N39-'2011 syoa'!N39","v":30},{"$f":"'2016 syoa'!O39-'2011 syoa'!O39","v":-27},{"$f":"'2016 syoa'!P39-'2011 syoa'!P39","v":-2},{"$f":"'2016 syoa'!Q39-'2011 syoa'!Q39","v":-8},{"$f":"'2016 syoa'!R39-'2011 syoa'!R39","v":-18},{"$f":"'2016 syoa'!S39-'2011 syoa'!S39","v":-40},{"$f":"'2016 syoa'!T39-'2011 syoa'!T39","v":-7},{"$f":"'2016 syoa'!U39-'2011 syoa'!U39","v":-23},{"$f":"'2016 syoa'!V39-'2011 syoa'!V39","v":8},{"$f":"'2016 syoa'!W39-'2011 syoa'!W39","v":-3},{"$f":"'2016 syoa'!X39-'2011 syoa'!X39","v":-1},{"$f":"'2016 syoa'!Y39-'2011 syoa'!Y39","v":10},{"$f":"'2016 syoa'!Z39-'2011 syoa'!Z39","v":49},{"$f":"'2016 syoa'!AA39-'2011 syoa'!AA39","v":-14},{"$f":"'2016 syoa'!AB39-'2011 syoa'!AB39","v":2},{"$f":"'2016 syoa'!AC39-'2011 syoa'!AC39","v":-17},{"$f":"'2016 syoa'!AD39-'2011 syoa'!AD39","v":29},{"$f":"'2016 syoa'!AE39-'2011 syoa'!AE39","v":4},{"$f":"'2016 syoa'!AF39-'2011 syoa'!AF39","v":-14},{"$f":"'2016 syoa'!AG39-'2011 syoa'!AG39","v":5},{"$f":"'2016 syoa'!AH39-'2011 syoa'!AH39","v":-6},{"$f":"'2016 syoa'!AI39-'2011 syoa'!AI39","v":-14},{"$f":"'2016 syoa'!AJ39-'2011 syoa'!AJ39","v":-2},{"$f":"'2016 syoa'!AK39-'2011 syoa'!AK39","v":-19},{"$f":"'2016 syoa'!AL39-'2011 syoa'!AL39","v":3},{"$f":"'2016 syoa'!AM39-'2011 syoa'!AM39","v":4},{"$f":"'2016 syoa'!AN39-'2011 syoa'!AN39","v":-15},{"$f":"'2016 syoa'!AO39-'2011 syoa'!AO39","v":-9},{"$f":"'2016 syoa'!AP39-'2011 syoa'!AP39","v":-10},{"$f":"'2016 syoa'!AQ39-'2011 syoa'!AQ39","v":-51},{"$f":"'2016 syoa'!AR39-'2011 syoa'!AR39","v":-15},{"$f":"'2016 syoa'!AS39-'2011 syoa'!AS39","v":-15},{"$f":"'2016 syoa'!AT39-'2011 syoa'!AT39","v":-28},{"$f":"'2016 syoa'!AU39-'2011 syoa'!AU39","v":-46},{"$f":"'2016 syoa'!AV39-'2011 syoa'!AV39","v":1},{"$f":"'2016 syoa'!AW39-'2011 syoa'!AW39","v":-36},{"$f":"'2016 syoa'!AX39-'2011 syoa'!AX39","v":-31},{"$f":"'2016 syoa'!AY39-'2011 syoa'!AY39","v":-3},{"$f":"'2016 syoa'!AZ39-'2011 syoa'!AZ39","v":0},{"$f":"'2016 syoa'!BA39-'2011 syoa'!BA39","v":-12},{"$f":"'2016 syoa'!BB39-'2011 syoa'!BB39","v":-16},{"$f":"'2016 syoa'!BC39-'2011 syoa'!BC39","v":-4},{"$f":"'2016 syoa'!BD39-'2011 syoa'!BD39","v":-2},{"$f":"'2016 syoa'!BE39-'2011 syoa'!BE39","v":-28},{"$f":"'2016 syoa'!BF39-'2011 syoa'!BF39","v":-21},{"$f":"'2016 syoa'!BG39-'2011 syoa'!BG39","v":27},{"$f":"'2016 syoa'!BH39-'2011 syoa'!BH39","v":-7},{"$f":"'2016 syoa'!BI39-'2011 syoa'!BI39","v":-23},{"$f":"'2016 syoa'!BJ39-'2011 syoa'!BJ39","v":8},{"$f":"'2016 syoa'!BK39-'2011 syoa'!BK39","v":14},{"$f":"'2016 syoa'!BL39-'2011 syoa'!BL39","v":-29},{"$f":"'2016 syoa'!BM39-'2011 syoa'!BM39","v":22},{"$f":"'2016 syoa'!BN39-'2011 syoa'!BN39","v":-7},{"$f":"'2016 syoa'!BO39-'2011 syoa'!BO39","v":0},{"$f":"'2016 syoa'!BP39-'2011 syoa'!BP39","v":-41},{"$f":"'2016 syoa'!BQ39-'2011 syoa'!BQ39","v":-41},{"$f":"'2016 syoa'!BR39-'2011 syoa'!BR39","v":-21},{"$f":"'2016 syoa'!BS39-'2011 syoa'!BS39","v":18},{"$f":"'2016 syoa'!BT39-'2011 syoa'!BT39","v":-12},{"$f":"'2016 syoa'!BU39-'2011 syoa'!BU39","v":45},{"$f":"'2016 syoa'!BV39-'2011 syoa'!BV39","v":79},{"$f":"'2016 syoa'!BW39-'2011 syoa'!BW39","v":34},{"$f":"'2016 syoa'!BX39-'2011 syoa'!BX39","v":33},{"$f":"'2016 syoa'!BY39-'2011 syoa'!BY39","v":30},{"$f":"'2016 syoa'!BZ39-'2011 syoa'!BZ39","v":42},{"$f":"'2016 syoa'!CA39-'2011 syoa'!CA39","v":12},{"$f":"'2016 syoa'!CB39-'2011 syoa'!CB39","v":15},{"$f":"'2016 syoa'!CC39-'2011 syoa'!CC39","v":-12},{"$f":"'2016 syoa'!CD39-'2011 syoa'!CD39","v":43},{"$f":"'2016 syoa'!CE39-'2011 syoa'!CE39","v":-12},{"$f":"'2016 syoa'!CF39-'2011 syoa'!CF39","v":-6},{"$f":"'2016 syoa'!CG39-'2011 syoa'!CG39","v":-21},{"$f":"'2016 syoa'!CH39-'2011 syoa'!CH39","v":4},{"$f":"'2016 syoa'!CI39-'2011 syoa'!CI39","v":-24},{"$f":"'2016 syoa'!CJ39-'2011 syoa'!CJ39","v":10},{"$f":"'2016 syoa'!CK39-'2011 syoa'!CK39","v":11},{"$f":"'2016 syoa'!CL39-'2011 syoa'!CL39","v":16},{"$f":"'2016 syoa'!CM39-'2011 syoa'!CM39","v":12},{"$f":"'2016 syoa'!CN39-'2011 syoa'!CN39","v":14},{"$f":"'2016 syoa'!CO39-'2011 syoa'!CO39","v":5},{"$f":"'2016 syoa'!CP39-'2011 syoa'!CP39","v":10},{"$f":"'2016 syoa'!CQ39-'2011 syoa'!CQ39","v":13},{"$f":"'2016 syoa'!CR39-'2011 syoa'!CR39","v":-174},{"$f":"'2016 syoa'!CS39-'2011 syoa'!CS39","v":0},{"$f":"'2016 syoa'!CT39-'2011 syoa'!CT39","v":-8},{"$f":"'2016 syoa'!CU39-'2011 syoa'!CU39","v":-16},{"$f":"'2016 syoa'!CV39-'2011 syoa'!CV39","v":0},{"$f":"'2016 syoa'!CW39-'2011 syoa'!CW39","v":2},{"$f":"'2016 syoa'!CX39-'2011 syoa'!CX39","v":-19},{"$f":"'2016 syoa'!CY39-'2011 syoa'!CY39","v":1},{"$f":"'2016 syoa'!CZ39-'2011 syoa'!CZ39","v":21},{"$f":"'2016 syoa'!DA39-'2011 syoa'!DA39","v":9},{"$f":"'2016 syoa'!DB39-'2011 syoa'!DB39","v":6},{"$f":"'2016 syoa'!DC39-'2011 syoa'!DC39","v":1},{"$f":"'2016 syoa'!DD39-'2011 syoa'!DD39","v":-10},{"$f":"'2016 syoa'!DE39-'2011 syoa'!DE39","v":-4},{"$f":"'2016 syoa'!DF39-'2011 syoa'!DF39","v":-30},{"$f":"'2016 syoa'!DG39-'2011 syoa'!DG39","v":-32},{"$f":"'2016 syoa'!DH39-'2011 syoa'!DH39","v":-34},{"$f":"'2016 syoa'!DI39-'2011 syoa'!DI39","v":-23},{"$f":"'2016 syoa'!DJ39-'2011 syoa'!DJ39","v":-4},{"$f":"'2016 syoa'!DK39-'2011 syoa'!DK39","v":-18},{"$f":"'2016 syoa'!DL39-'2011 syoa'!DL39","v":3},{"$f":"'2016 syoa'!DM39-'2011 syoa'!DM39","v":-7},{"$f":"'2016 syoa'!DN39-'2011 syoa'!DN39","v":6},{"$f":"'2016 syoa'!DO39-'2011 syoa'!DO39","v":-35},{"$f":"'2016 syoa'!DP39-'2011 syoa'!DP39","v":4},{"$f":"'2016 syoa'!DQ39-'2011 syoa'!DQ39","v":-13},{"$f":"'2016 syoa'!DR39-'2011 syoa'!DR39","v":35},{"$f":"'2016 syoa'!DS39-'2011 syoa'!DS39","v":-1},{"$f":"'2016 syoa'!DT39-'2011 syoa'!DT39","v":8},{"$f":"'2016 syoa'!DU39-'2011 syoa'!DU39","v":-19},{"$f":"'2016 syoa'!DV39-'2011 syoa'!DV39","v":-18},{"$f":"'2016 syoa'!DW39-'2011 syoa'!DW39","v":-16},{"$f":"'2016 syoa'!DX39-'2011 syoa'!DX39","v":4},{"$f":"'2016 syoa'!DY39-'2011 syoa'!DY39","v":10},{"$f":"'2016 syoa'!DZ39-'2011 syoa'!DZ39","v":-44},{"$f":"'2016 syoa'!EA39-'2011 syoa'!EA39","v":10},{"$f":"'2016 syoa'!EB39-'2011 syoa'!EB39","v":-2},{"$f":"'2016 syoa'!EC39-'2011 syoa'!EC39","v":-18},{"$f":"'2016 syoa'!ED39-'2011 syoa'!ED39","v":2},{"$f":"'2016 syoa'!EE39-'2011 syoa'!EE39","v":-3},{"$f":"'2016 syoa'!EF39-'2011 syoa'!EF39","v":-49},{"$f":"'2016 syoa'!EG39-'2011 syoa'!EG39","v":-52},{"$f":"'2016 syoa'!EH39-'2011 syoa'!EH39","v":-33},{"$f":"'2016 syoa'!EI39-'2011 syoa'!EI39","v":-22},{"$f":"'2016 syoa'!EJ39-'2011 syoa'!EJ39","v":-32},{"$f":"'2016 syoa'!EK39-'2011 syoa'!EK39","v":-22},{"$f":"'2016 syoa'!EL39-'2011 syoa'!EL39","v":-28},{"$f":"'2016 syoa'!EM39-'2011 syoa'!EM39","v":-42},{"$f":"'2016 syoa'!EN39-'2011 syoa'!EN39","v":-38},{"$f":"'2016 syoa'!EO39-'2011 syoa'!EO39","v":-9},{"$f":"'2016 syoa'!EP39-'2011 syoa'!EP39","v":-12},{"$f":"'2016 syoa'!EQ39-'2011 syoa'!EQ39","v":30},{"$f":"'2016 syoa'!ER39-'2011 syoa'!ER39","v":-1},{"$f":"'2016 syoa'!ES39-'2011 syoa'!ES39","v":40},{"$f":"'2016 syoa'!ET39-'2011 syoa'!ET39","v":12},{"$f":"'2016 syoa'!EU39-'2011 syoa'!EU39","v":10},{"$f":"'2016 syoa'!EV39-'2011 syoa'!EV39","v":2},{"$f":"'2016 syoa'!EW39-'2011 syoa'!EW39","v":10},{"$f":"'2016 syoa'!EX39-'2011 syoa'!EX39","v":16},{"$f":"'2016 syoa'!EY39-'2011 syoa'!EY39","v":-10},{"$f":"'2016 syoa'!EZ39-'2011 syoa'!EZ39","v":5},{"$f":"'2016 syoa'!FA39-'2011 syoa'!FA39","v":-6},{"$f":"'2016 syoa'!FB39-'2011 syoa'!FB39","v":-11},{"$f":"'2016 syoa'!FC39-'2011 syoa'!FC39","v":0},{"$f":"'2016 syoa'!FD39-'2011 syoa'!FD39","v":-40},{"$f":"'2016 syoa'!FE39-'2011 syoa'!FE39","v":-36},{"$f":"'2016 syoa'!FF39-'2011 syoa'!FF39","v":34},{"$f":"'2016 syoa'!FG39-'2011 syoa'!FG39","v":42},{"$f":"'2016 syoa'!FH39-'2011 syoa'!FH39","v":16},{"$f":"'2016 syoa'!FI39-'2011 syoa'!FI39","v":38},{"$f":"'2016 syoa'!FJ39-'2011 syoa'!FJ39","v":77},{"$f":"'2016 syoa'!FK39-'2011 syoa'!FK39","v":44},{"$f":"'2016 syoa'!FL39-'2011 syoa'!FL39","v":36},{"$f":"'2016 syoa'!FM39-'2011 syoa'!FM39","v":40},{"$f":"'2016 syoa'!FN39-'2011 syoa'!FN39","v":27},{"$f":"'2016 syoa'!FO39-'2011 syoa'!FO39","v":-16},{"$f":"'2016 syoa'!FP39-'2011 syoa'!FP39","v":-14},{"$f":"'2016 syoa'!FQ39-'2011 syoa'!FQ39","v":-10},{"$f":"'2016 syoa'!FR39-'2011 syoa'!FR39","v":3},{"$f":"'2016 syoa'!FS39-'2011 syoa'!FS39","v":9},{"$f":"'2016 syoa'!FT39-'2011 syoa'!FT39","v":3},{"$f":"'2016 syoa'!FU39-'2011 syoa'!FU39","v":10},{"$f":"'2016 syoa'!FV39-'2011 syoa'!FV39","v":-19},{"$f":"'2016 syoa'!FW39-'2011 syoa'!FW39","v":-2},{"$f":"'2016 syoa'!FX39-'2011 syoa'!FX39","v":-8},{"$f":"'2016 syoa'!FY39-'2011 syoa'!FY39","v":2},{"$f":"'2016 syoa'!FZ39-'2011 syoa'!FZ39","v":-14},{"$f":"'2016 syoa'!GA39-'2011 syoa'!GA39","v":24},{"$f":"'2016 syoa'!GB39-'2011 syoa'!GB39","v":6},{"$f":"'2016 syoa'!GC39-'2011 syoa'!GC39","v":4},{"$f":"'2016 syoa'!GD39-'2011 syoa'!GD39","v":10},{"$f":"'2016 syoa'!GE39-'2011 syoa'!GE39","v":54}]
["Sutton Trinity","Sutton Coldfield","E05001213",{"$f":"'2016 syoa'!D40-'2011 syoa'!D40","v":-94},{"$f":"'2016 syoa'!E40-'2011 syoa'!E40","v":12},{"$f":"'2016 syoa'!F40-'2011 syoa'!F40","v":24},{"$f":"'2016 syoa'!G40-'2011 syoa'!G40","v":16},{"$f":"'2016 syoa'!H40-'2011 syoa'!H40","v":35},{"$f":"'2016 syoa'!I40-'2011 syoa'!I40","v":17},{"$f":"'2016 syoa'!J40-'2011 syoa'!J40","v":1},{"$f":"'2016 syoa'!K40-'2011 syoa'!K40","v":-49},{"$f":"'2016 syoa'!L40-'2011 syoa'!L40","v":-20},{"$f":"'2016 syoa'!M40-'2011 syoa'!M40","v":-5},{"$f":"'2016 syoa'!N40-'2011 syoa'!N40","v":3},{"$f":"'2016 syoa'!O40-'2011 syoa'!O40","v":22},{"$f":"'2016 syoa'!P40-'2011 syoa'!P40","v":0},{"$f":"'2016 syoa'!Q40-'2011 syoa'!Q40","v":-23},{"$f":"'2016 syoa'!R40-'2011 syoa'!R40","v":-34},{"$f":"'2016 syoa'!S40-'2011 syoa'!S40","v":8},{"$f":"'2016 syoa'!T40-'2011 syoa'!T40","v":-40},{"$f":"'2016 syoa'!U40-'2011 syoa'!U40","v":2},{"$f":"'2016 syoa'!V40-'2011 syoa'!V40","v":-40},{"$f":"'2016 syoa'!W40-'2011 syoa'!W40","v":-22},{"$f":"'2016 syoa'!X40-'2011 syoa'!X40","v":-26},{"$f":"'2016 syoa'!Y40-'2011 syoa'!Y40","v":22},{"$f":"'2016 syoa'!Z40-'2011 syoa'!Z40","v":23},{"$f":"'2016 syoa'!AA40-'2011 syoa'!AA40","v":27},{"$f":"'2016 syoa'!AB40-'2011 syoa'!AB40","v":7},{"$f":"'2016 syoa'!AC40-'2011 syoa'!AC40","v":23},{"$f":"'2016 syoa'!AD40-'2011 syoa'!AD40","v":19},{"$f":"'2016 syoa'!AE40-'2011 syoa'!AE40","v":15},{"$f":"'2016 syoa'!AF40-'2011 syoa'!AF40","v":-4},{"$f":"'2016 syoa'!AG40-'2011 syoa'!AG40","v":-2},{"$f":"'2016 syoa'!AH40-'2011 syoa'!AH40","v":-14},{"$f":"'2016 syoa'!AI40-'2011 syoa'!AI40","v":16},{"$f":"'2016 syoa'!AJ40-'2011 syoa'!AJ40","v":-25},{"$f":"'2016 syoa'!AK40-'2011 syoa'!AK40","v":37},{"$f":"'2016 syoa'!AL40-'2011 syoa'!AL40","v":6},{"$f":"'2016 syoa'!AM40-'2011 syoa'!AM40","v":14},{"$f":"'2016 syoa'!AN40-'2011 syoa'!AN40","v":4},{"$f":"'2016 syoa'!AO40-'2011 syoa'!AO40","v":10},{"$f":"'2016 syoa'!AP40-'2011 syoa'!AP40","v":-31},{"$f":"'2016 syoa'!AQ40-'2011 syoa'!AQ40","v":-17},{"$f":"'2016 syoa'!AR40-'2011 syoa'!AR40","v":-52},{"$f":"'2016 syoa'!AS40-'2011 syoa'!AS40","v":-25},{"$f":"'2016 syoa'!AT40-'2011 syoa'!AT40","v":-36},{"$f":"'2016 syoa'!AU40-'2011 syoa'!AU40","v":-17},{"$f":"'2016 syoa'!AV40-'2011 syoa'!AV40","v":-36},{"$f":"'2016 syoa'!AW40-'2011 syoa'!AW40","v":3},{"$f":"'2016 syoa'!AX40-'2011 syoa'!AX40","v":-13},{"$f":"'2016 syoa'!AY40-'2011 syoa'!AY40","v":-45},{"$f":"'2016 syoa'!AZ40-'2011 syoa'!AZ40","v":-24},{"$f":"'2016 syoa'!BA40-'2011 syoa'!BA40","v":3},{"$f":"'2016 syoa'!BB40-'2011 syoa'!BB40","v":-29},{"$f":"'2016 syoa'!BC40-'2011 syoa'!BC40","v":-3},{"$f":"'2016 syoa'!BD40-'2011 syoa'!BD40","v":16},{"$f":"'2016 syoa'!BE40-'2011 syoa'!BE40","v":18},{"$f":"'2016 syoa'!BF40-'2011 syoa'!BF40","v":-13},{"$f":"'2016 syoa'!BG40-'2011 syoa'!BG40","v":22},{"$f":"'2016 syoa'!BH40-'2011 syoa'!BH40","v":39},{"$f":"'2016 syoa'!BI40-'2011 syoa'!BI40","v":18},{"$f":"'2016 syoa'!BJ40-'2011 syoa'!BJ40","v":-3},{"$f":"'2016 syoa'!BK40-'2011 syoa'!BK40","v":3},{"$f":"'2016 syoa'!BL40-'2011 syoa'!BL40","v":8},{"$f":"'2016 syoa'!BM40-'2011 syoa'!BM40","v":-10},{"$f":"'2016 syoa'!BN40-'2011 syoa'!BN40","v":-20},{"$f":"'2016 syoa'!BO40-'2011 syoa'!BO40","v":1},{"$f":"'2016 syoa'!BP40-'2011 syoa'!BP40","v":-1},{"$f":"'2016 syoa'!BQ40-'2011 syoa'!BQ40","v":-38},{"$f":"'2016 syoa'!BR40-'2011 syoa'!BR40","v":-21},{"$f":"'2016 syoa'!BS40-'2011 syoa'!BS40","v":29},{"$f":"'2016 syoa'!BT40-'2011 syoa'!BT40","v":4},{"$f":"'2016 syoa'!BU40-'2011 syoa'!BU40","v":14},{"$f":"'2016 syoa'!BV40-'2011 syoa'!BV40","v":44},{"$f":"'2016 syoa'!BW40-'2011 syoa'!BW40","v":31},{"$f":"'2016 syoa'!BX40-'2011 syoa'!BX40","v":6},{"$f":"'2016 syoa'!BY40-'2011 syoa'!BY40","v":24},{"$f":"'2016 syoa'!BZ40-'2011 syoa'!BZ40","v":24},{"$f":"'2016 syoa'!CA40-'2011 syoa'!CA40","v":8},{"$f":"'2016 syoa'!CB40-'2011 syoa'!CB40","v":-9},{"$f":"'2016 syoa'!CC40-'2011 syoa'!CC40","v":-20},{"$f":"'2016 syoa'!CD40-'2011 syoa'!CD40","v":4},{"$f":"'2016 syoa'!CE40-'2011 syoa'!CE40","v":-3},{"$f":"'2016 syoa'!CF40-'2011 syoa'!CF40","v":-13},{"$f":"'2016 syoa'!CG40-'2011 syoa'!CG40","v":-4},{"$f":"'2016 syoa'!CH40-'2011 syoa'!CH40","v":2},{"$f":"'2016 syoa'!CI40-'2011 syoa'!CI40","v":-18},{"$f":"'2016 syoa'!CJ40-'2011 syoa'!CJ40","v":-12},{"$f":"'2016 syoa'!CK40-'2011 syoa'!CK40","v":8},{"$f":"'2016 syoa'!CL40-'2011 syoa'!CL40","v":-5},{"$f":"'2016 syoa'!CM40-'2011 syoa'!CM40","v":3},{"$f":"'2016 syoa'!CN40-'2011 syoa'!CN40","v":13},{"$f":"'2016 syoa'!CO40-'2011 syoa'!CO40","v":5},{"$f":"'2016 syoa'!CP40-'2011 syoa'!CP40","v":-8},{"$f":"'2016 syoa'!CQ40-'2011 syoa'!CQ40","v":23},{"$f":"'2016 syoa'!CR40-'2011 syoa'!CR40","v":-32},{"$f":"'2016 syoa'!CS40-'2011 syoa'!CS40","v":26},{"$f":"'2016 syoa'!CT40-'2011 syoa'!CT40","v":-27},{"$f":"'2016 syoa'!CU40-'2011 syoa'!CU40","v":7},{"$f":"'2016 syoa'!CV40-'2011 syoa'!CV40","v":-1},{"$f":"'2016 syoa'!CW40-'2011 syoa'!CW40","v":31},{"$f":"'2016 syoa'!CX40-'2011 syoa'!CX40","v":17},{"$f":"'2016 syoa'!CY40-'2011 syoa'!CY40","v":9},{"$f":"'2016 syoa'!CZ40-'2011 syoa'!CZ40","v":-1},{"$f":"'2016 syoa'!DA40-'2011 syoa'!DA40","v":21},{"$f":"'2016 syoa'!DB40-'2011 syoa'!DB40","v":18},{"$f":"'2016 syoa'!DC40-'2011 syoa'!DC40","v":-20},{"$f":"'2016 syoa'!DD40-'2011 syoa'!DD40","v":26},{"$f":"'2016 syoa'!DE40-'2011 syoa'!DE40","v":-61},{"$f":"'2016 syoa'!DF40-'2011 syoa'!DF40","v":-32},{"$f":"'2016 syoa'!DG40-'2011 syoa'!DG40","v":-43},{"$f":"'2016 syoa'!DH40-'2011 syoa'!DH40","v":-29},{"$f":"'2016 syoa'!DI40-'2011 syoa'!DI40","v":-83},{"$f":"'2016 syoa'!DJ40-'2011 syoa'!DJ40","v":7},{"$f":"'2016 syoa'!DK40-'2011 syoa'!DK40","v":-21},{"$f":"'2016 syoa'!DL40-'2011 syoa'!DL40","v":-7},{"$f":"'2016 syoa'!DM40-'2011 syoa'!DM40","v":-3},{"$f":"'2016 syoa'!DN40-'2011 syoa'!DN40","v":38},{"$f":"'2016 syoa'!DO40-'2011 syoa'!DO40","v":-11},{"$f":"'2016 syoa'!DP40-'2011 syoa'!DP40","v":-3},{"$f":"'2016 syoa'!DQ40-'2011 syoa'!DQ40","v":8},{"$f":"'2016 syoa'!DR40-'2011 syoa'!DR40","v":34},{"$f":"'2016 syoa'!DS40-'2011 syoa'!DS40","v":13},{"$f":"'2016 syoa'!DT40-'2011 syoa'!DT40","v":14},{"$f":"'2016 syoa'!DU40-'2011 syoa'!DU40","v":1},{"$f":"'2016 syoa'!DV40-'2011 syoa'!DV40","v":42},{"$f":"'2016 syoa'!DW40-'2011 syoa'!DW40","v":13},{"$f":"'2016 syoa'!DX40-'2011 syoa'!DX40","v":5},{"$f":"'2016 syoa'!DY40-'2011 syoa'!DY40","v":4},{"$f":"'2016 syoa'!DZ40-'2011 syoa'!DZ40","v":5},{"$f":"'2016 syoa'!EA40-'2011 syoa'!EA40","v":-14},{"$f":"'2016 syoa'!EB40-'2011 syoa'!EB40","v":6},{"$f":"'2016 syoa'!EC40-'2011 syoa'!EC40","v":2},{"$f":"'2016 syoa'!ED40-'2011 syoa'!ED40","v":-34},{"$f":"'2016 syoa'!EE40-'2011 syoa'!EE40","v":-5},{"$f":"'2016 syoa'!EF40-'2011 syoa'!EF40","v":-23},{"$f":"'2016 syoa'!EG40-'2011 syoa'!EG40","v":-45},{"$f":"'2016 syoa'!EH40-'2011 syoa'!EH40","v":-15},{"$f":"'2016 syoa'!EI40-'2011 syoa'!EI40","v":-17},{"$f":"'2016 syoa'!EJ40-'2011 syoa'!EJ40","v":-39},{"$f":"'2016 syoa'!EK40-'2011 syoa'!EK40","v":-23},{"$f":"'2016 syoa'!EL40-'2011 syoa'!EL40","v":-30},{"$f":"'2016 syoa'!EM40-'2011 syoa'!EM40","v":-45},{"$f":"'2016 syoa'!EN40-'2011 syoa'!EN40","v":-30},{"$f":"'2016 syoa'!EO40-'2011 syoa'!EO40","v":-2},{"$f":"'2016 syoa'!EP40-'2011 syoa'!EP40","v":-21},{"$f":"'2016 syoa'!EQ40-'2011 syoa'!EQ40","v":33},{"$f":"'2016 syoa'!ER40-'2011 syoa'!ER40","v":3},{"$f":"'2016 syoa'!ES40-'2011 syoa'!ES40","v":28},{"$f":"'2016 syoa'!ET40-'2011 syoa'!ET40","v":5},{"$f":"'2016 syoa'!EU40-'2011 syoa'!EU40","v":33},{"$f":"'2016 syoa'!EV40-'2011 syoa'!EV40","v":46},{"$f":"'2016 syoa'!EW40-'2011 syoa'!EW40","v":36},{"$f":"'2016 syoa'!EX40-'2011 syoa'!EX40","v":13},{"$f":"'2016 syoa'!EY40-'2011 syoa'!EY40","v":8},{"$f":"'2016 syoa'!EZ40-'2011 syoa'!EZ40","v":-13},{"$f":"'2016 syoa'!FA40-'2011 syoa'!FA40","v":-8},{"$f":"'2016 syoa'!FB40-'2011 syoa'!FB40","v":8},{"$f":"'2016 syoa'!FC40-'2011 syoa'!FC40","v":-20},{"$f":"'2016 syoa'!FD40-'2011 syoa'!FD40","v":-24},{"$f":"'2016 syoa'!FE40-'2011 syoa'!FE40","v":-28},{"$f":"'2016 syoa'!FF40-'2011 syoa'!FF40","v":5},{"$f":"'2016 syoa'!FG40-'2011 syoa'!FG40","v":-12},{"$f":"'2016 syoa'!FH40-'2011 syoa'!FH40","v":-25},{"$f":"'2016 syoa'!FI40-'2011 syoa'!FI40","v":22},{"$f":"'2016 syoa'!FJ40-'2011 syoa'!FJ40","v":27},{"$f":"'2016 syoa'!FK40-'2011 syoa'!FK40","v":20},{"$f":"'2016 syoa'!FL40-'2011 syoa'!FL40","v":53},{"$f":"'2016 syoa'!FM40-'2011 syoa'!FM40","v":30},{"$f":"'2016 syoa'!FN40-'2011 syoa'!FN40","v":-12},{"$f":"'2016 syoa'!FO40-'2011 syoa'!FO40","v":17},{"$f":"'2016 syoa'!FP40-'2011 syoa'!FP40","v":-4},{"$f":"'2016 syoa'!FQ40-'2011 syoa'!FQ40","v":5},{"$f":"'2016 syoa'!FR40-'2011 syoa'!FR40","v":2},{"$f":"'2016 syoa'!FS40-'2011 syoa'!FS40","v":-7},{"$f":"'2016 syoa'!FT40-'2011 syoa'!FT40","v":-9},{"$f":"'2016 syoa'!FU40-'2011 syoa'!FU40","v":-15},{"$f":"'2016 syoa'!FV40-'2011 syoa'!FV40","v":12},{"$f":"'2016 syoa'!FW40-'2011 syoa'!FW40","v":9},{"$f":"'2016 syoa'!FX40-'2011 syoa'!FX40","v":6},{"$f":"'2016 syoa'!FY40-'2011 syoa'!FY40","v":-21},{"$f":"'2016 syoa'!FZ40-'2011 syoa'!FZ40","v":21},{"$f":"'2016 syoa'!GA40-'2011 syoa'!GA40","v":9},{"$f":"'2016 syoa'!GB40-'2011 syoa'!GB40","v":1},{"$f":"'2016 syoa'!GC40-'2011 syoa'!GC40","v":0},{"$f":"'2016 syoa'!GD40-'2011 syoa'!GD40","v":26},{"$f":"'2016 syoa'!GE40-'2011 syoa'!GE40","v":26}]
["Sutton Vesey","Sutton Coldfield","E05001214",{"$f":"'2016 syoa'!D41-'2011 syoa'!D41","v":-106},{"$f":"'2016 syoa'!E41-'2011 syoa'!E41","v":44},{"$f":"'2016 syoa'!F41-'2011 syoa'!F41","v":4},{"$f":"'2016 syoa'!G41-'2011 syoa'!G41","v":15},{"$f":"'2016 syoa'!H41-'2011 syoa'!H41","v":-1},{"$f":"'2016 syoa'!I41-'2011 syoa'!I41","v":22},{"$f":"'2016 syoa'!J41-'2011 syoa'!J41","v":0},{"$f":"'2016 syoa'!K41-'2011 syoa'!K41","v":42},{"$f":"'2016 syoa'!L41-'2011 syoa'!L41","v":14},{"$f":"'2016 syoa'!M41-'2011 syoa'!M41","v":8},{"$f":"'2016 syoa'!N41-'2011 syoa'!N41","v":6},{"$f":"'2016 syoa'!O41-'2011 syoa'!O41","v":4},{"$f":"'2016 syoa'!P41-'2011 syoa'!P41","v":-54},{"$f":"'2016 syoa'!Q41-'2011 syoa'!Q41","v":-21},{"$f":"'2016 syoa'!R41-'2011 syoa'!R41","v":-7},{"$f":"'2016 syoa'!S41-'2011 syoa'!S41","v":-10},{"$f":"'2016 syoa'!T41-'2011 syoa'!T41","v":-13},{"$f":"'2016 syoa'!U41-'2011 syoa'!U41","v":-12},{"$f":"'2016 syoa'!V41-'2011 syoa'!V41","v":-15},{"$f":"'2016 syoa'!W41-'2011 syoa'!W41","v":-38},{"$f":"'2016 syoa'!X41-'2011 syoa'!X41","v":-23},{"$f":"'2016 syoa'!Y41-'2011 syoa'!Y41","v":14},{"$f":"'2016 syoa'!Z41-'2011 syoa'!Z41","v":-5},{"$f":"'2016 syoa'!AA41-'2011 syoa'!AA41","v":14},{"$f":"'2016 syoa'!AB41-'2011 syoa'!AB41","v":-15},{"$f":"'2016 syoa'!AC41-'2011 syoa'!AC41","v":-4},{"$f":"'2016 syoa'!AD41-'2011 syoa'!AD41","v":-10},{"$f":"'2016 syoa'!AE41-'2011 syoa'!AE41","v":-2},{"$f":"'2016 syoa'!AF41-'2011 syoa'!AF41","v":9},{"$f":"'2016 syoa'!AG41-'2011 syoa'!AG41","v":-5},{"$f":"'2016 syoa'!AH41-'2011 syoa'!AH41","v":-8},{"$f":"'2016 syoa'!AI41-'2011 syoa'!AI41","v":25},{"$f":"'2016 syoa'!AJ41-'2011 syoa'!AJ41","v":13},{"$f":"'2016 syoa'!AK41-'2011 syoa'!AK41","v":11},{"$f":"'2016 syoa'!AL41-'2011 syoa'!AL41","v":39},{"$f":"'2016 syoa'!AM41-'2011 syoa'!AM41","v":-24},{"$f":"'2016 syoa'!AN41-'2011 syoa'!AN41","v":11},{"$f":"'2016 syoa'!AO41-'2011 syoa'!AO41","v":-7},{"$f":"'2016 syoa'!AP41-'2011 syoa'!AP41","v":-19},{"$f":"'2016 syoa'!AQ41-'2011 syoa'!AQ41","v":-17},{"$f":"'2016 syoa'!AR41-'2011 syoa'!AR41","v":-14},{"$f":"'2016 syoa'!AS41-'2011 syoa'!AS41","v":9},{"$f":"'2016 syoa'!AT41-'2011 syoa'!AT41","v":-27},{"$f":"'2016 syoa'!AU41-'2011 syoa'!AU41","v":-27},{"$f":"'2016 syoa'!AV41-'2011 syoa'!AV41","v":-52},{"$f":"'2016 syoa'!AW41-'2011 syoa'!AW41","v":-70},{"$f":"'2016 syoa'!AX41-'2011 syoa'!AX41","v":-28},{"$f":"'2016 syoa'!AY41-'2011 syoa'!AY41","v":-26},{"$f":"'2016 syoa'!AZ41-'2011 syoa'!AZ41","v":-40},{"$f":"'2016 syoa'!BA41-'2011 syoa'!BA41","v":-22},{"$f":"'2016 syoa'!BB41-'2011 syoa'!BB41","v":-23},{"$f":"'2016 syoa'!BC41-'2011 syoa'!BC41","v":-3},{"$f":"'2016 syoa'!BD41-'2011 syoa'!BD41","v":-31},{"$f":"'2016 syoa'!BE41-'2011 syoa'!BE41","v":-4},{"$f":"'2016 syoa'!BF41-'2011 syoa'!BF41","v":20},{"$f":"'2016 syoa'!BG41-'2011 syoa'!BG41","v":33},{"$f":"'2016 syoa'!BH41-'2011 syoa'!BH41","v":23},{"$f":"'2016 syoa'!BI41-'2011 syoa'!BI41","v":31},{"$f":"'2016 syoa'!BJ41-'2011 syoa'!BJ41","v":21},{"$f":"'2016 syoa'!BK41-'2011 syoa'!BK41","v":-17},{"$f":"'2016 syoa'!BL41-'2011 syoa'!BL41","v":7},{"$f":"'2016 syoa'!BM41-'2011 syoa'!BM41","v":-11},{"$f":"'2016 syoa'!BN41-'2011 syoa'!BN41","v":-30},{"$f":"'2016 syoa'!BO41-'2011 syoa'!BO41","v":-32},{"$f":"'2016 syoa'!BP41-'2011 syoa'!BP41","v":13},{"$f":"'2016 syoa'!BQ41-'2011 syoa'!BQ41","v":-26},{"$f":"'2016 syoa'!BR41-'2011 syoa'!BR41","v":-1},{"$f":"'2016 syoa'!BS41-'2011 syoa'!BS41","v":41},{"$f":"'2016 syoa'!BT41-'2011 syoa'!BT41","v":-21},{"$f":"'2016 syoa'!BU41-'2011 syoa'!BU41","v":2},{"$f":"'2016 syoa'!BV41-'2011 syoa'!BV41","v":31},{"$f":"'2016 syoa'!BW41-'2011 syoa'!BW41","v":13},{"$f":"'2016 syoa'!BX41-'2011 syoa'!BX41","v":14},{"$f":"'2016 syoa'!BY41-'2011 syoa'!BY41","v":25},{"$f":"'2016 syoa'!BZ41-'2011 syoa'!BZ41","v":14},{"$f":"'2016 syoa'!CA41-'2011 syoa'!CA41","v":3},{"$f":"'2016 syoa'!CB41-'2011 syoa'!CB41","v":6},{"$f":"'2016 syoa'!CC41-'2011 syoa'!CC41","v":2},{"$f":"'2016 syoa'!CD41-'2011 syoa'!CD41","v":5},{"$f":"'2016 syoa'!CE41-'2011 syoa'!CE41","v":-10},{"$f":"'2016 syoa'!CF41-'2011 syoa'!CF41","v":-2},{"$f":"'2016 syoa'!CG41-'2011 syoa'!CG41","v":18},{"$f":"'2016 syoa'!CH41-'2011 syoa'!CH41","v":0},{"$f":"'2016 syoa'!CI41-'2011 syoa'!CI41","v":9},{"$f":"'2016 syoa'!CJ41-'2011 syoa'!CJ41","v":1},{"$f":"'2016 syoa'!CK41-'2011 syoa'!CK41","v":-2},{"$f":"'2016 syoa'!CL41-'2011 syoa'!CL41","v":17},{"$f":"'2016 syoa'!CM41-'2011 syoa'!CM41","v":6},{"$f":"'2016 syoa'!CN41-'2011 syoa'!CN41","v":9},{"$f":"'2016 syoa'!CO41-'2011 syoa'!CO41","v":12},{"$f":"'2016 syoa'!CP41-'2011 syoa'!CP41","v":10},{"$f":"'2016 syoa'!CQ41-'2011 syoa'!CQ41","v":33},{"$f":"'2016 syoa'!CR41-'2011 syoa'!CR41","v":-179},{"$f":"'2016 syoa'!CS41-'2011 syoa'!CS41","v":-3},{"$f":"'2016 syoa'!CT41-'2011 syoa'!CT41","v":11},{"$f":"'2016 syoa'!CU41-'2011 syoa'!CU41","v":7},{"$f":"'2016 syoa'!CV41-'2011 syoa'!CV41","v":17},{"$f":"'2016 syoa'!CW41-'2011 syoa'!CW41","v":30},{"$f":"'2016 syoa'!CX41-'2011 syoa'!CX41","v":8},{"$f":"'2016 syoa'!CY41-'2011 syoa'!CY41","v":1},{"$f":"'2016 syoa'!CZ41-'2011 syoa'!CZ41","v":-5},{"$f":"'2016 syoa'!DA41-'2011 syoa'!DA41","v":7},{"$f":"'2016 syoa'!DB41-'2011 syoa'!DB41","v":-18},{"$f":"'2016 syoa'!DC41-'2011 syoa'!DC41","v":-2},{"$f":"'2016 syoa'!DD41-'2011 syoa'!DD41","v":4},{"$f":"'2016 syoa'!DE41-'2011 syoa'!DE41","v":4},{"$f":"'2016 syoa'!DF41-'2011 syoa'!DF41","v":-17},{"$f":"'2016 syoa'!DG41-'2011 syoa'!DG41","v":-34},{"$f":"'2016 syoa'!DH41-'2011 syoa'!DH41","v":-30},{"$f":"'2016 syoa'!DI41-'2011 syoa'!DI41","v":-25},{"$f":"'2016 syoa'!DJ41-'2011 syoa'!DJ41","v":-40},{"$f":"'2016 syoa'!DK41-'2011 syoa'!DK41","v":-20},{"$f":"'2016 syoa'!DL41-'2011 syoa'!DL41","v":4},{"$f":"'2016 syoa'!DM41-'2011 syoa'!DM41","v":1},{"$f":"'2016 syoa'!DN41-'2011 syoa'!DN41","v":26},{"$f":"'2016 syoa'!DO41-'2011 syoa'!DO41","v":-11},{"$f":"'2016 syoa'!DP41-'2011 syoa'!DP41","v":-8},{"$f":"'2016 syoa'!DQ41-'2011 syoa'!DQ41","v":-26},{"$f":"'2016 syoa'!DR41-'2011 syoa'!DR41","v":56},{"$f":"'2016 syoa'!DS41-'2011 syoa'!DS41","v":3},{"$f":"'2016 syoa'!DT41-'2011 syoa'!DT41","v":2},{"$f":"'2016 syoa'!DU41-'2011 syoa'!DU41","v":-2},{"$f":"'2016 syoa'!DV41-'2011 syoa'!DV41","v":4},{"$f":"'2016 syoa'!DW41-'2011 syoa'!DW41","v":-5},{"$f":"'2016 syoa'!DX41-'2011 syoa'!DX41","v":-4},{"$f":"'2016 syoa'!DY41-'2011 syoa'!DY41","v":-30},{"$f":"'2016 syoa'!DZ41-'2011 syoa'!DZ41","v":9},{"$f":"'2016 syoa'!EA41-'2011 syoa'!EA41","v":-12},{"$f":"'2016 syoa'!EB41-'2011 syoa'!EB41","v":-8},{"$f":"'2016 syoa'!EC41-'2011 syoa'!EC41","v":7},{"$f":"'2016 syoa'!ED41-'2011 syoa'!ED41","v":11},{"$f":"'2016 syoa'!EE41-'2011 syoa'!EE41","v":-20},{"$f":"'2016 syoa'!EF41-'2011 syoa'!EF41","v":-25},{"$f":"'2016 syoa'!EG41-'2011 syoa'!EG41","v":-18},{"$f":"'2016 syoa'!EH41-'2011 syoa'!EH41","v":-11},{"$f":"'2016 syoa'!EI41-'2011 syoa'!EI41","v":-20},{"$f":"'2016 syoa'!EJ41-'2011 syoa'!EJ41","v":-21},{"$f":"'2016 syoa'!EK41-'2011 syoa'!EK41","v":-26},{"$f":"'2016 syoa'!EL41-'2011 syoa'!EL41","v":-37},{"$f":"'2016 syoa'!EM41-'2011 syoa'!EM41","v":-17},{"$f":"'2016 syoa'!EN41-'2011 syoa'!EN41","v":-54},{"$f":"'2016 syoa'!EO41-'2011 syoa'!EO41","v":-35},{"$f":"'2016 syoa'!EP41-'2011 syoa'!EP41","v":-25},{"$f":"'2016 syoa'!EQ41-'2011 syoa'!EQ41","v":27},{"$f":"'2016 syoa'!ER41-'2011 syoa'!ER41","v":7},{"$f":"'2016 syoa'!ES41-'2011 syoa'!ES41","v":19},{"$f":"'2016 syoa'!ET41-'2011 syoa'!ET41","v":18},{"$f":"'2016 syoa'!EU41-'2011 syoa'!EU41","v":39},{"$f":"'2016 syoa'!EV41-'2011 syoa'!EV41","v":6},{"$f":"'2016 syoa'!EW41-'2011 syoa'!EW41","v":38},{"$f":"'2016 syoa'!EX41-'2011 syoa'!EX41","v":40},{"$f":"'2016 syoa'!EY41-'2011 syoa'!EY41","v":-14},{"$f":"'2016 syoa'!EZ41-'2011 syoa'!EZ41","v":-13},{"$f":"'2016 syoa'!FA41-'2011 syoa'!FA41","v":1},{"$f":"'2016 syoa'!FB41-'2011 syoa'!FB41","v":-26},{"$f":"'2016 syoa'!FC41-'2011 syoa'!FC41","v":-5},{"$f":"'2016 syoa'!FD41-'2011 syoa'!FD41","v":-22},{"$f":"'2016 syoa'!FE41-'2011 syoa'!FE41","v":-5},{"$f":"'2016 syoa'!FF41-'2011 syoa'!FF41","v":4},{"$f":"'2016 syoa'!FG41-'2011 syoa'!FG41","v":-6},{"$f":"'2016 syoa'!FH41-'2011 syoa'!FH41","v":-2},{"$f":"'2016 syoa'!FI41-'2011 syoa'!FI41","v":18},{"$f":"'2016 syoa'!FJ41-'2011 syoa'!FJ41","v":24},{"$f":"'2016 syoa'!FK41-'2011 syoa'!FK41","v":20},{"$f":"'2016 syoa'!FL41-'2011 syoa'!FL41","v":19},{"$f":"'2016 syoa'!FM41-'2011 syoa'!FM41","v":0},{"$f":"'2016 syoa'!FN41-'2011 syoa'!FN41","v":20},{"$f":"'2016 syoa'!FO41-'2011 syoa'!FO41","v":-7},{"$f":"'2016 syoa'!FP41-'2011 syoa'!FP41","v":-23},{"$f":"'2016 syoa'!FQ41-'2011 syoa'!FQ41","v":-9},{"$f":"'2016 syoa'!FR41-'2011 syoa'!FR41","v":7},{"$f":"'2016 syoa'!FS41-'2011 syoa'!FS41","v":38},{"$f":"'2016 syoa'!FT41-'2011 syoa'!FT41","v":-2},{"$f":"'2016 syoa'!FU41-'2011 syoa'!FU41","v":6},{"$f":"'2016 syoa'!FV41-'2011 syoa'!FV41","v":2},{"$f":"'2016 syoa'!FW41-'2011 syoa'!FW41","v":-11},{"$f":"'2016 syoa'!FX41-'2011 syoa'!FX41","v":-3},{"$f":"'2016 syoa'!FY41-'2011 syoa'!FY41","v":-3},{"$f":"'2016 syoa'!FZ41-'2011 syoa'!FZ41","v":-1},{"$f":"'2016 syoa'!GA41-'2011 syoa'!GA41","v":-3},{"$f":"'2016 syoa'!GB41-'2011 syoa'!GB41","v":-1},{"$f":"'2016 syoa'!GC41-'2011 syoa'!GC41","v":14},{"$f":"'2016 syoa'!GD41-'2011 syoa'!GD41","v":17},{"$f":"'2016 syoa'!GE41-'2011 syoa'!GE41","v":-10}]
["Tyburn","Erdington","E05001215",{"$f":"'2016 syoa'!D42-'2011 syoa'!D42","v":79},{"$f":"'2016 syoa'!E42-'2011 syoa'!E42","v":2},{"$f":"'2016 syoa'!F42-'2011 syoa'!F42","v":-2},{"$f":"'2016 syoa'!G42-'2011 syoa'!G42","v":-16},{"$f":"'2016 syoa'!H42-'2011 syoa'!H42","v":4},{"$f":"'2016 syoa'!I42-'2011 syoa'!I42","v":22},{"$f":"'2016 syoa'!J42-'2011 syoa'!J42","v":-2},{"$f":"'2016 syoa'!K42-'2011 syoa'!K42","v":9},{"$f":"'2016 syoa'!L42-'2011 syoa'!L42","v":-9},{"$f":"'2016 syoa'!M42-'2011 syoa'!M42","v":16},{"$f":"'2016 syoa'!N42-'2011 syoa'!N42","v":20},{"$f":"'2016 syoa'!O42-'2011 syoa'!O42","v":21},{"$f":"'2016 syoa'!P42-'2011 syoa'!P42","v":-12},{"$f":"'2016 syoa'!Q42-'2011 syoa'!Q42","v":-6},{"$f":"'2016 syoa'!R42-'2011 syoa'!R42","v":-6},{"$f":"'2016 syoa'!S42-'2011 syoa'!S42","v":-37},{"$f":"'2016 syoa'!T42-'2011 syoa'!T42","v":-25},{"$f":"'2016 syoa'!U42-'2011 syoa'!U42","v":-20},{"$f":"'2016 syoa'!V42-'2011 syoa'!V42","v":-28},{"$f":"'2016 syoa'!W42-'2011 syoa'!W42","v":-13},{"$f":"'2016 syoa'!X42-'2011 syoa'!X42","v":18},{"$f":"'2016 syoa'!Y42-'2011 syoa'!Y42","v":17},{"$f":"'2016 syoa'!Z42-'2011 syoa'!Z42","v":4},{"$f":"'2016 syoa'!AA42-'2011 syoa'!AA42","v":42},{"$f":"'2016 syoa'!AB42-'2011 syoa'!AB42","v":10},{"$f":"'2016 syoa'!AC42-'2011 syoa'!AC42","v":17},{"$f":"'2016 syoa'!AD42-'2011 syoa'!AD42","v":49},{"$f":"'2016 syoa'!AE42-'2011 syoa'!AE42","v":30},{"$f":"'2016 syoa'!AF42-'2011 syoa'!AF42","v":0},{"$f":"'2016 syoa'!AG42-'2011 syoa'!AG42","v":18},{"$f":"'2016 syoa'!AH42-'2011 syoa'!AH42","v":19},{"$f":"'2016 syoa'!AI42-'2011 syoa'!AI42","v":-34},{"$f":"'2016 syoa'!AJ42-'2011 syoa'!AJ42","v":22},{"$f":"'2016 syoa'!AK42-'2011 syoa'!AK42","v":7},{"$f":"'2016 syoa'!AL42-'2011 syoa'!AL42","v":41},{"$f":"'2016 syoa'!AM42-'2011 syoa'!AM42","v":18},{"$f":"'2016 syoa'!AN42-'2011 syoa'!AN42","v":15},{"$f":"'2016 syoa'!AO42-'2011 syoa'!AO42","v":17},{"$f":"'2016 syoa'!AP42-'2011 syoa'!AP42","v":-12},{"$f":"'2016 syoa'!AQ42-'2011 syoa'!AQ42","v":-34},{"$f":"'2016 syoa'!AR42-'2011 syoa'!AR42","v":-67},{"$f":"'2016 syoa'!AS42-'2011 syoa'!AS42","v":-15},{"$f":"'2016 syoa'!AT42-'2011 syoa'!AT42","v":-67},{"$f":"'2016 syoa'!AU42-'2011 syoa'!AU42","v":-37},{"$f":"'2016 syoa'!AV42-'2011 syoa'!AV42","v":-27},{"$f":"'2016 syoa'!AW42-'2011 syoa'!AW42","v":-32},{"$f":"'2016 syoa'!AX42-'2011 syoa'!AX42","v":-22},{"$f":"'2016 syoa'!AY42-'2011 syoa'!AY42","v":-13},{"$f":"'2016 syoa'!AZ42-'2011 syoa'!AZ42","v":-10},{"$f":"'2016 syoa'!BA42-'2011 syoa'!BA42","v":-9},{"$f":"'2016 syoa'!BB42-'2011 syoa'!BB42","v":32},{"$f":"'2016 syoa'!BC42-'2011 syoa'!BC42","v":13},{"$f":"'2016 syoa'!BD42-'2011 syoa'!BD42","v":4},{"$f":"'2016 syoa'!BE42-'2011 syoa'!BE42","v":40},{"$f":"'2016 syoa'!BF42-'2011 syoa'!BF42","v":38},{"$f":"'2016 syoa'!BG42-'2011 syoa'!BG42","v":-5},{"$f":"'2016 syoa'!BH42-'2011 syoa'!BH42","v":18},{"$f":"'2016 syoa'!BI42-'2011 syoa'!BI42","v":34},{"$f":"'2016 syoa'!BJ42-'2011 syoa'!BJ42","v":-10},{"$f":"'2016 syoa'!BK42-'2011 syoa'!BK42","v":15},{"$f":"'2016 syoa'!BL42-'2011 syoa'!BL42","v":28},{"$f":"'2016 syoa'!BM42-'2011 syoa'!BM42","v":28},{"$f":"'2016 syoa'!BN42-'2011 syoa'!BN42","v":25},{"$f":"'2016 syoa'!BO42-'2011 syoa'!BO42","v":32},{"$f":"'2016 syoa'!BP42-'2011 syoa'!BP42","v":-16},{"$f":"'2016 syoa'!BQ42-'2011 syoa'!BQ42","v":-34},{"$f":"'2016 syoa'!BR42-'2011 syoa'!BR42","v":-18},{"$f":"'2016 syoa'!BS42-'2011 syoa'!BS42","v":-29},{"$f":"'2016 syoa'!BT42-'2011 syoa'!BT42","v":-22},{"$f":"'2016 syoa'!BU42-'2011 syoa'!BU42","v":-2},{"$f":"'2016 syoa'!BV42-'2011 syoa'!BV42","v":24},{"$f":"'2016 syoa'!BW42-'2011 syoa'!BW42","v":7},{"$f":"'2016 syoa'!BX42-'2011 syoa'!BX42","v":18},{"$f":"'2016 syoa'!BY42-'2011 syoa'!BY42","v":11},{"$f":"'2016 syoa'!BZ42-'2011 syoa'!BZ42","v":-3},{"$f":"'2016 syoa'!CA42-'2011 syoa'!CA42","v":-26},{"$f":"'2016 syoa'!CB42-'2011 syoa'!CB42","v":-10},{"$f":"'2016 syoa'!CC42-'2011 syoa'!CC42","v":-15},{"$f":"'2016 syoa'!CD42-'2011 syoa'!CD42","v":-1},{"$f":"'2016 syoa'!CE42-'2011 syoa'!CE42","v":1},{"$f":"'2016 syoa'!CF42-'2011 syoa'!CF42","v":-22},{"$f":"'2016 syoa'!CG42-'2011 syoa'!CG42","v":8},{"$f":"'2016 syoa'!CH42-'2011 syoa'!CH42","v":7},{"$f":"'2016 syoa'!CI42-'2011 syoa'!CI42","v":-29},{"$f":"'2016 syoa'!CJ42-'2011 syoa'!CJ42","v":4},{"$f":"'2016 syoa'!CK42-'2011 syoa'!CK42","v":26},{"$f":"'2016 syoa'!CL42-'2011 syoa'!CL42","v":-6},{"$f":"'2016 syoa'!CM42-'2011 syoa'!CM42","v":8},{"$f":"'2016 syoa'!CN42-'2011 syoa'!CN42","v":17},{"$f":"'2016 syoa'!CO42-'2011 syoa'!CO42","v":-6},{"$f":"'2016 syoa'!CP42-'2011 syoa'!CP42","v":-1},{"$f":"'2016 syoa'!CQ42-'2011 syoa'!CQ42","v":13},{"$f":"'2016 syoa'!CR42-'2011 syoa'!CR42","v":81},{"$f":"'2016 syoa'!CS42-'2011 syoa'!CS42","v":8},{"$f":"'2016 syoa'!CT42-'2011 syoa'!CT42","v":-9},{"$f":"'2016 syoa'!CU42-'2011 syoa'!CU42","v":31},{"$f":"'2016 syoa'!CV42-'2011 syoa'!CV42","v":-5},{"$f":"'2016 syoa'!CW42-'2011 syoa'!CW42","v":7},{"$f":"'2016 syoa'!CX42-'2011 syoa'!CX42","v":-7},{"$f":"'2016 syoa'!CY42-'2011 syoa'!CY42","v":-28},{"$f":"'2016 syoa'!CZ42-'2011 syoa'!CZ42","v":-4},{"$f":"'2016 syoa'!DA42-'2011 syoa'!DA42","v":11},{"$f":"'2016 syoa'!DB42-'2011 syoa'!DB42","v":22},{"$f":"'2016 syoa'!DC42-'2011 syoa'!DC42","v":19},{"$f":"'2016 syoa'!DD42-'2011 syoa'!DD42","v":-22},{"$f":"'2016 syoa'!DE42-'2011 syoa'!DE42","v":-10},{"$f":"'2016 syoa'!DF42-'2011 syoa'!DF42","v":6},{"$f":"'2016 syoa'!DG42-'2011 syoa'!DG42","v":-48},{"$f":"'2016 syoa'!DH42-'2011 syoa'!DH42","v":-24},{"$f":"'2016 syoa'!DI42-'2011 syoa'!DI42","v":1},{"$f":"'2016 syoa'!DJ42-'2011 syoa'!DJ42","v":-42},{"$f":"'2016 syoa'!DK42-'2011 syoa'!DK42","v":-10},{"$f":"'2016 syoa'!DL42-'2011 syoa'!DL42","v":-14},{"$f":"'2016 syoa'!DM42-'2011 syoa'!DM42","v":32},{"$f":"'2016 syoa'!DN42-'2011 syoa'!DN42","v":-19},{"$f":"'2016 syoa'!DO42-'2011 syoa'!DO42","v":49},{"$f":"'2016 syoa'!DP42-'2011 syoa'!DP42","v":8},{"$f":"'2016 syoa'!DQ42-'2011 syoa'!DQ42","v":6},{"$f":"'2016 syoa'!DR42-'2011 syoa'!DR42","v":9},{"$f":"'2016 syoa'!DS42-'2011 syoa'!DS42","v":12},{"$f":"'2016 syoa'!DT42-'2011 syoa'!DT42","v":2},{"$f":"'2016 syoa'!DU42-'2011 syoa'!DU42","v":-18},{"$f":"'2016 syoa'!DV42-'2011 syoa'!DV42","v":14},{"$f":"'2016 syoa'!DW42-'2011 syoa'!DW42","v":1},{"$f":"'2016 syoa'!DX42-'2011 syoa'!DX42","v":-36},{"$f":"'2016 syoa'!DY42-'2011 syoa'!DY42","v":11},{"$f":"'2016 syoa'!DZ42-'2011 syoa'!DZ42","v":33},{"$f":"'2016 syoa'!EA42-'2011 syoa'!EA42","v":27},{"$f":"'2016 syoa'!EB42-'2011 syoa'!EB42","v":20},{"$f":"'2016 syoa'!EC42-'2011 syoa'!EC42","v":6},{"$f":"'2016 syoa'!ED42-'2011 syoa'!ED42","v":-15},{"$f":"'2016 syoa'!EE42-'2011 syoa'!EE42","v":-10},{"$f":"'2016 syoa'!EF42-'2011 syoa'!EF42","v":-72},{"$f":"'2016 syoa'!EG42-'2011 syoa'!EG42","v":-24},{"$f":"'2016 syoa'!EH42-'2011 syoa'!EH42","v":-52},{"$f":"'2016 syoa'!EI42-'2011 syoa'!EI42","v":-46},{"$f":"'2016 syoa'!EJ42-'2011 syoa'!EJ42","v":-47},{"$f":"'2016 syoa'!EK42-'2011 syoa'!EK42","v":-28},{"$f":"'2016 syoa'!EL42-'2011 syoa'!EL42","v":-8},{"$f":"'2016 syoa'!EM42-'2011 syoa'!EM42","v":-20},{"$f":"'2016 syoa'!EN42-'2011 syoa'!EN42","v":-12},{"$f":"'2016 syoa'!EO42-'2011 syoa'!EO42","v":5},{"$f":"'2016 syoa'!EP42-'2011 syoa'!EP42","v":-1},{"$f":"'2016 syoa'!EQ42-'2011 syoa'!EQ42","v":19},{"$f":"'2016 syoa'!ER42-'2011 syoa'!ER42","v":41},{"$f":"'2016 syoa'!ES42-'2011 syoa'!ES42","v":60},{"$f":"'2016 syoa'!ET42-'2011 syoa'!ET42","v":79},{"$f":"'2016 syoa'!EU42-'2011 syoa'!EU42","v":54},{"$f":"'2016 syoa'!EV42-'2011 syoa'!EV42","v":71},{"$f":"'2016 syoa'!EW42-'2011 syoa'!EW42","v":12},{"$f":"'2016 syoa'!EX42-'2011 syoa'!EX42","v":24},{"$f":"'2016 syoa'!EY42-'2011 syoa'!EY42","v":-8},{"$f":"'2016 syoa'!EZ42-'2011 syoa'!EZ42","v":25},{"$f":"'2016 syoa'!FA42-'2011 syoa'!FA42","v":-3},{"$f":"'2016 syoa'!FB42-'2011 syoa'!FB42","v":15},{"$f":"'2016 syoa'!FC42-'2011 syoa'!FC42","v":6},{"$f":"'2016 syoa'!FD42-'2011 syoa'!FD42","v":5},{"$f":"'2016 syoa'!FE42-'2011 syoa'!FE42","v":-3},{"$f":"'2016 syoa'!FF42-'2011 syoa'!FF42","v":-9},{"$f":"'2016 syoa'!FG42-'2011 syoa'!FG42","v":-2},{"$f":"'2016 syoa'!FH42-'2011 syoa'!FH42","v":-7},{"$f":"'2016 syoa'!FI42-'2011 syoa'!FI42","v":-16},{"$f":"'2016 syoa'!FJ42-'2011 syoa'!FJ42","v":18},{"$f":"'2016 syoa'!FK42-'2011 syoa'!FK42","v":4},{"$f":"'2016 syoa'!FL42-'2011 syoa'!FL42","v":-2},{"$f":"'2016 syoa'!FM42-'2011 syoa'!FM42","v":-4},{"$f":"'2016 syoa'!FN42-'2011 syoa'!FN42","v":-19},{"$f":"'2016 syoa'!FO42-'2011 syoa'!FO42","v":-14},{"$f":"'2016 syoa'!FP42-'2011 syoa'!FP42","v":-25},{"$f":"'2016 syoa'!FQ42-'2011 syoa'!FQ42","v":-15},{"$f":"'2016 syoa'!FR42-'2011 syoa'!FR42","v":-2},{"$f":"'2016 syoa'!FS42-'2011 syoa'!FS42","v":9},{"$f":"'2016 syoa'!FT42-'2011 syoa'!FT42","v":-18},{"$f":"'2016 syoa'!FU42-'2011 syoa'!FU42","v":7},{"$f":"'2016 syoa'!FV42-'2011 syoa'!FV42","v":-2},{"$f":"'2016 syoa'!FW42-'2011 syoa'!FW42","v":3},{"$f":"'2016 syoa'!FX42-'2011 syoa'!FX42","v":15},{"$f":"'2016 syoa'!FY42-'2011 syoa'!FY42","v":-2},{"$f":"'2016 syoa'!FZ42-'2011 syoa'!FZ42","v":14},{"$f":"'2016 syoa'!GA42-'2011 syoa'!GA42","v":12},{"$f":"'2016 syoa'!GB42-'2011 syoa'!GB42","v":11},{"$f":"'2016 syoa'!GC42-'2011 syoa'!GC42","v":-5},{"$f":"'2016 syoa'!GD42-'2011 syoa'!GD42","v":7},{"$f":"'2016 syoa'!GE42-'2011 syoa'!GE42","v":17}]
["Washwood Heath","Hodge Hill","E05001216",{"$f":"'2016 syoa'!D43-'2011 syoa'!D43","v":1148},{"$f":"'2016 syoa'!E43-'2011 syoa'!E43","v":51},{"$f":"'2016 syoa'!F43-'2011 syoa'!F43","v":-24},{"$f":"'2016 syoa'!G43-'2011 syoa'!G43","v":26},{"$f":"'2016 syoa'!H43-'2011 syoa'!H43","v":-41},{"$f":"'2016 syoa'!I43-'2011 syoa'!I43","v":-2},{"$f":"'2016 syoa'!J43-'2011 syoa'!J43","v":-46},{"$f":"'2016 syoa'!K43-'2011 syoa'!K43","v":19},{"$f":"'2016 syoa'!L43-'2011 syoa'!L43","v":-41},{"$f":"'2016 syoa'!M43-'2011 syoa'!M43","v":49},{"$f":"'2016 syoa'!N43-'2011 syoa'!N43","v":-21},{"$f":"'2016 syoa'!O43-'2011 syoa'!O43","v":38},{"$f":"'2016 syoa'!P43-'2011 syoa'!P43","v":3},{"$f":"'2016 syoa'!Q43-'2011 syoa'!Q43","v":29},{"$f":"'2016 syoa'!R43-'2011 syoa'!R43","v":-31},{"$f":"'2016 syoa'!S43-'2011 syoa'!S43","v":39},{"$f":"'2016 syoa'!T43-'2011 syoa'!T43","v":6},{"$f":"'2016 syoa'!U43-'2011 syoa'!U43","v":31},{"$f":"'2016 syoa'!V43-'2011 syoa'!V43","v":33},{"$f":"'2016 syoa'!W43-'2011 syoa'!W43","v":42},{"$f":"'2016 syoa'!X43-'2011 syoa'!X43","v":53},{"$f":"'2016 syoa'!Y43-'2011 syoa'!Y43","v":23},{"$f":"'2016 syoa'!Z43-'2011 syoa'!Z43","v":56},{"$f":"'2016 syoa'!AA43-'2011 syoa'!AA43","v":46},{"$f":"'2016 syoa'!AB43-'2011 syoa'!AB43","v":25},{"$f":"'2016 syoa'!AC43-'2011 syoa'!AC43","v":31},{"$f":"'2016 syoa'!AD43-'2011 syoa'!AD43","v":50},{"$f":"'2016 syoa'!AE43-'2011 syoa'!AE43","v":43},{"$f":"'2016 syoa'!AF43-'2011 syoa'!AF43","v":-26},{"$f":"'2016 syoa'!AG43-'2011 syoa'!AG43","v":10},{"$f":"'2016 syoa'!AH43-'2011 syoa'!AH43","v":-7},{"$f":"'2016 syoa'!AI43-'2011 syoa'!AI43","v":20},{"$f":"'2016 syoa'!AJ43-'2011 syoa'!AJ43","v":-6},{"$f":"'2016 syoa'!AK43-'2011 syoa'!AK43","v":-10},{"$f":"'2016 syoa'!AL43-'2011 syoa'!AL43","v":10},{"$f":"'2016 syoa'!AM43-'2011 syoa'!AM43","v":-15},{"$f":"'2016 syoa'!AN43-'2011 syoa'!AN43","v":36},{"$f":"'2016 syoa'!AO43-'2011 syoa'!AO43","v":59},{"$f":"'2016 syoa'!AP43-'2011 syoa'!AP43","v":51},{"$f":"'2016 syoa'!AQ43-'2011 syoa'!AQ43","v":5},{"$f":"'2016 syoa'!AR43-'2011 syoa'!AR43","v":-3},{"$f":"'2016 syoa'!AS43-'2011 syoa'!AS43","v":26},{"$f":"'2016 syoa'!AT43-'2011 syoa'!AT43","v":1},{"$f":"'2016 syoa'!AU43-'2011 syoa'!AU43","v":8},{"$f":"'2016 syoa'!AV43-'2011 syoa'!AV43","v":37},{"$f":"'2016 syoa'!AW43-'2011 syoa'!AW43","v":54},{"$f":"'2016 syoa'!AX43-'2011 syoa'!AX43","v":21},{"$f":"'2016 syoa'!AY43-'2011 syoa'!AY43","v":78},{"$f":"'2016 syoa'!AZ43-'2011 syoa'!AZ43","v":49},{"$f":"'2016 syoa'!BA43-'2011 syoa'!BA43","v":46},{"$f":"'2016 syoa'!BB43-'2011 syoa'!BB43","v":33},{"$f":"'2016 syoa'!BC43-'2011 syoa'!BC43","v":25},{"$f":"'2016 syoa'!BD43-'2011 syoa'!BD43","v":5},{"$f":"'2016 syoa'!BE43-'2011 syoa'!BE43","v":24},{"$f":"'2016 syoa'!BF43-'2011 syoa'!BF43","v":17},{"$f":"'2016 syoa'!BG43-'2011 syoa'!BG43","v":42},{"$f":"'2016 syoa'!BH43-'2011 syoa'!BH43","v":-17},{"$f":"'2016 syoa'!BI43-'2011 syoa'!BI43","v":15},{"$f":"'2016 syoa'!BJ43-'2011 syoa'!BJ43","v":-9},{"$f":"'2016 syoa'!BK43-'2011 syoa'!BK43","v":1},{"$f":"'2016 syoa'!BL43-'2011 syoa'!BL43","v":-14},{"$f":"'2016 syoa'!BM43-'2011 syoa'!BM43","v":16},{"$f":"'2016 syoa'!BN43-'2011 syoa'!BN43","v":12},{"$f":"'2016 syoa'!BO43-'2011 syoa'!BO43","v":51},{"$f":"'2016 syoa'!BP43-'2011 syoa'!BP43","v":19},{"$f":"'2016 syoa'!BQ43-'2011 syoa'!BQ43","v":45},{"$f":"'2016 syoa'!BR43-'2011 syoa'!BR43","v":45},{"$f":"'2016 syoa'!BS43-'2011 syoa'!BS43","v":23},{"$f":"'2016 syoa'!BT43-'2011 syoa'!BT43","v":6},{"$f":"'2016 syoa'!BU43-'2011 syoa'!BU43","v":10},{"$f":"'2016 syoa'!BV43-'2011 syoa'!BV43","v":1},{"$f":"'2016 syoa'!BW43-'2011 syoa'!BW43","v":-27},{"$f":"'2016 syoa'!BX43-'2011 syoa'!BX43","v":-19},{"$f":"'2016 syoa'!BY43-'2011 syoa'!BY43","v":-32},{"$f":"'2016 syoa'!BZ43-'2011 syoa'!BZ43","v":-19},{"$f":"'2016 syoa'!CA43-'2011 syoa'!CA43","v":-19},{"$f":"'2016 syoa'!CB43-'2011 syoa'!CB43","v":-29},{"$f":"'2016 syoa'!CC43-'2011 syoa'!CC43","v":-22},{"$f":"'2016 syoa'!CD43-'2011 syoa'!CD43","v":0},{"$f":"'2016 syoa'!CE43-'2011 syoa'!CE43","v":-1},{"$f":"'2016 syoa'!CF43-'2011 syoa'!CF43","v":3},{"$f":"'2016 syoa'!CG43-'2011 syoa'!CG43","v":11},{"$f":"'2016 syoa'!CH43-'2011 syoa'!CH43","v":-9},{"$f":"'2016 syoa'!CI43-'2011 syoa'!CI43","v":-13},{"$f":"'2016 syoa'!CJ43-'2011 syoa'!CJ43","v":9},{"$f":"'2016 syoa'!CK43-'2011 syoa'!CK43","v":-9},{"$f":"'2016 syoa'!CL43-'2011 syoa'!CL43","v":0},{"$f":"'2016 syoa'!CM43-'2011 syoa'!CM43","v":15},{"$f":"'2016 syoa'!CN43-'2011 syoa'!CN43","v":16},{"$f":"'2016 syoa'!CO43-'2011 syoa'!CO43","v":7},{"$f":"'2016 syoa'!CP43-'2011 syoa'!CP43","v":-1},{"$f":"'2016 syoa'!CQ43-'2011 syoa'!CQ43","v":6},{"$f":"'2016 syoa'!CR43-'2011 syoa'!CR43","v":1079},{"$f":"'2016 syoa'!CS43-'2011 syoa'!CS43","v":9},{"$f":"'2016 syoa'!CT43-'2011 syoa'!CT43","v":27},{"$f":"'2016 syoa'!CU43-'2011 syoa'!CU43","v":-54},{"$f":"'2016 syoa'!CV43-'2011 syoa'!CV43","v":4},{"$f":"'2016 syoa'!CW43-'2011 syoa'!CW43","v":0},{"$f":"'2016 syoa'!CX43-'2011 syoa'!CX43","v":-63},{"$f":"'2016 syoa'!CY43-'2011 syoa'!CY43","v":-19},{"$f":"'2016 syoa'!CZ43-'2011 syoa'!CZ43","v":42},{"$f":"'2016 syoa'!DA43-'2011 syoa'!DA43","v":51},{"$f":"'2016 syoa'!DB43-'2011 syoa'!DB43","v":-14},{"$f":"'2016 syoa'!DC43-'2011 syoa'!DC43","v":35},{"$f":"'2016 syoa'!DD43-'2011 syoa'!DD43","v":5},{"$f":"'2016 syoa'!DE43-'2011 syoa'!DE43","v":28},{"$f":"'2016 syoa'!DF43-'2011 syoa'!DF43","v":10},{"$f":"'2016 syoa'!DG43-'2011 syoa'!DG43","v":5},{"$f":"'2016 syoa'!DH43-'2011 syoa'!DH43","v":25},{"$f":"'2016 syoa'!DI43-'2011 syoa'!DI43","v":28},{"$f":"'2016 syoa'!DJ43-'2011 syoa'!DJ43","v":34},{"$f":"'2016 syoa'!DK43-'2011 syoa'!DK43","v":36},{"$f":"'2016 syoa'!DL43-'2011 syoa'!DL43","v":87},{"$f":"'2016 syoa'!DM43-'2011 syoa'!DM43","v":68},{"$f":"'2016 syoa'!DN43-'2011 syoa'!DN43","v":49},{"$f":"'2016 syoa'!DO43-'2011 syoa'!DO43","v":67},{"$f":"'2016 syoa'!DP43-'2011 syoa'!DP43","v":-1},{"$f":"'2016 syoa'!DQ43-'2011 syoa'!DQ43","v":-35},{"$f":"'2016 syoa'!DR43-'2011 syoa'!DR43","v":14},{"$f":"'2016 syoa'!DS43-'2011 syoa'!DS43","v":18},{"$f":"'2016 syoa'!DT43-'2011 syoa'!DT43","v":-26},{"$f":"'2016 syoa'!DU43-'2011 syoa'!DU43","v":21},{"$f":"'2016 syoa'!DV43-'2011 syoa'!DV43","v":6},{"$f":"'2016 syoa'!DW43-'2011 syoa'!DW43","v":-35},{"$f":"'2016 syoa'!DX43-'2011 syoa'!DX43","v":-41},{"$f":"'2016 syoa'!DY43-'2011 syoa'!DY43","v":26},{"$f":"'2016 syoa'!DZ43-'2011 syoa'!DZ43","v":-6},{"$f":"'2016 syoa'!EA43-'2011 syoa'!EA43","v":22},{"$f":"'2016 syoa'!EB43-'2011 syoa'!EB43","v":49},{"$f":"'2016 syoa'!EC43-'2011 syoa'!EC43","v":47},{"$f":"'2016 syoa'!ED43-'2011 syoa'!ED43","v":53},{"$f":"'2016 syoa'!EE43-'2011 syoa'!EE43","v":8},{"$f":"'2016 syoa'!EF43-'2011 syoa'!EF43","v":-14},{"$f":"'2016 syoa'!EG43-'2011 syoa'!EG43","v":-44},{"$f":"'2016 syoa'!EH43-'2011 syoa'!EH43","v":37},{"$f":"'2016 syoa'!EI43-'2011 syoa'!EI43","v":-5},{"$f":"'2016 syoa'!EJ43-'2011 syoa'!EJ43","v":20},{"$f":"'2016 syoa'!EK43-'2011 syoa'!EK43","v":57},{"$f":"'2016 syoa'!EL43-'2011 syoa'!EL43","v":61},{"$f":"'2016 syoa'!EM43-'2011 syoa'!EM43","v":58},{"$f":"'2016 syoa'!EN43-'2011 syoa'!EN43","v":61},{"$f":"'2016 syoa'!EO43-'2011 syoa'!EO43","v":26},{"$f":"'2016 syoa'!EP43-'2011 syoa'!EP43","v":39},{"$f":"'2016 syoa'!EQ43-'2011 syoa'!EQ43","v":38},{"$f":"'2016 syoa'!ER43-'2011 syoa'!ER43","v":-3},{"$f":"'2016 syoa'!ES43-'2011 syoa'!ES43","v":-10},{"$f":"'2016 syoa'!ET43-'2011 syoa'!ET43","v":-3},{"$f":"'2016 syoa'!EU43-'2011 syoa'!EU43","v":12},{"$f":"'2016 syoa'!EV43-'2011 syoa'!EV43","v":5},{"$f":"'2016 syoa'!EW43-'2011 syoa'!EW43","v":-7},{"$f":"'2016 syoa'!EX43-'2011 syoa'!EX43","v":-26},{"$f":"'2016 syoa'!EY43-'2011 syoa'!EY43","v":4},{"$f":"'2016 syoa'!EZ43-'2011 syoa'!EZ43","v":19},{"$f":"'2016 syoa'!FA43-'2011 syoa'!FA43","v":26},{"$f":"'2016 syoa'!FB43-'2011 syoa'!FB43","v":23},{"$f":"'2016 syoa'!FC43-'2011 syoa'!FC43","v":42},{"$f":"'2016 syoa'!FD43-'2011 syoa'!FD43","v":22},{"$f":"'2016 syoa'!FE43-'2011 syoa'!FE43","v":5},{"$f":"'2016 syoa'!FF43-'2011 syoa'!FF43","v":11},{"$f":"'2016 syoa'!FG43-'2011 syoa'!FG43","v":16},{"$f":"'2016 syoa'!FH43-'2011 syoa'!FH43","v":-9},{"$f":"'2016 syoa'!FI43-'2011 syoa'!FI43","v":5},{"$f":"'2016 syoa'!FJ43-'2011 syoa'!FJ43","v":0},{"$f":"'2016 syoa'!FK43-'2011 syoa'!FK43","v":-2},{"$f":"'2016 syoa'!FL43-'2011 syoa'!FL43","v":-22},{"$f":"'2016 syoa'!FM43-'2011 syoa'!FM43","v":-11},{"$f":"'2016 syoa'!FN43-'2011 syoa'!FN43","v":-8},{"$f":"'2016 syoa'!FO43-'2011 syoa'!FO43","v":-11},{"$f":"'2016 syoa'!FP43-'2011 syoa'!FP43","v":-24},{"$f":"'2016 syoa'!FQ43-'2011 syoa'!FQ43","v":-18},{"$f":"'2016 syoa'!FR43-'2011 syoa'!FR43","v":-6},{"$f":"'2016 syoa'!FS43-'2011 syoa'!FS43","v":6},{"$f":"'2016 syoa'!FT43-'2011 syoa'!FT43","v":14},{"$f":"'2016 syoa'!FU43-'2011 syoa'!FU43","v":8},{"$f":"'2016 syoa'!FV43-'2011 syoa'!FV43","v":23},{"$f":"'2016 syoa'!FW43-'2011 syoa'!FW43","v":12},{"$f":"'2016 syoa'!FX43-'2011 syoa'!FX43","v":4},{"$f":"'2016 syoa'!FY43-'2011 syoa'!FY43","v":5},{"$f":"'2016 syoa'!FZ43-'2011 syoa'!FZ43","v":13},{"$f":"'2016 syoa'!GA43-'2011 syoa'!GA43","v":14},{"$f":"'2016 syoa'!GB43-'2011 syoa'!GB43","v":10},{"$f":"'2016 syoa'!GC43-'2011 syoa'!GC43","v":13},{"$f":"'2016 syoa'!GD43-'2011 syoa'!GD43","v":-5},{"$f":"'2016 syoa'!GE43-'2011 syoa'!GE43","v":18}]
["Weoley","Northfield","E05001217",{"$f":"'2016 syoa'!D44-'2011 syoa'!D44","v":201},{"$f":"'2016 syoa'!E44-'2011 syoa'!E44","v":-15},{"$f":"'2016 syoa'!F44-'2011 syoa'!F44","v":-4},{"$f":"'2016 syoa'!G44-'2011 syoa'!G44","v":-7},{"$f":"'2016 syoa'!H44-'2011 syoa'!H44","v":9},{"$f":"'2016 syoa'!I44-'2011 syoa'!I44","v":14},{"$f":"'2016 syoa'!J44-'2011 syoa'!J44","v":5},{"$f":"'2016 syoa'!K44-'2011 syoa'!K44","v":40},{"$f":"'2016 syoa'!L44-'2011 syoa'!L44","v":67},{"$f":"'2016 syoa'!M44-'2011 syoa'!M44","v":18},{"$f":"'2016 syoa'!N44-'2011 syoa'!N44","v":46},{"$f":"'2016 syoa'!O44-'2011 syoa'!O44","v":20},{"$f":"'2016 syoa'!P44-'2011 syoa'!P44","v":17},{"$f":"'2016 syoa'!Q44-'2011 syoa'!Q44","v":-13},{"$f":"'2016 syoa'!R44-'2011 syoa'!R44","v":-26},{"$f":"'2016 syoa'!S44-'2011 syoa'!S44","v":-23},{"$f":"'2016 syoa'!T44-'2011 syoa'!T44","v":-19},{"$f":"'2016 syoa'!U44-'2011 syoa'!U44","v":-20},{"$f":"'2016 syoa'!V44-'2011 syoa'!V44","v":-11},{"$f":"'2016 syoa'!W44-'2011 syoa'!W44","v":12},{"$f":"'2016 syoa'!X44-'2011 syoa'!X44","v":-20},{"$f":"'2016 syoa'!Y44-'2011 syoa'!Y44","v":-19},{"$f":"'2016 syoa'!Z44-'2011 syoa'!Z44","v":-13},{"$f":"'2016 syoa'!AA44-'2011 syoa'!AA44","v":28},{"$f":"'2016 syoa'!AB44-'2011 syoa'!AB44","v":35},{"$f":"'2016 syoa'!AC44-'2011 syoa'!AC44","v":39},{"$f":"'2016 syoa'!AD44-'2011 syoa'!AD44","v":59},{"$f":"'2016 syoa'!AE44-'2011 syoa'!AE44","v":-2},{"$f":"'2016 syoa'!AF44-'2011 syoa'!AF44","v":22},{"$f":"'2016 syoa'!AG44-'2011 syoa'!AG44","v":-13},{"$f":"'2016 syoa'!AH44-'2011 syoa'!AH44","v":-11},{"$f":"'2016 syoa'!AI44-'2011 syoa'!AI44","v":0},{"$f":"'2016 syoa'!AJ44-'2011 syoa'!AJ44","v":17},{"$f":"'2016 syoa'!AK44-'2011 syoa'!AK44","v":-9},{"$f":"'2016 syoa'!AL44-'2011 syoa'!AL44","v":12},{"$f":"'2016 syoa'!AM44-'2011 syoa'!AM44","v":-16},{"$f":"'2016 syoa'!AN44-'2011 syoa'!AN44","v":-4},{"$f":"'2016 syoa'!AO44-'2011 syoa'!AO44","v":-5},{"$f":"'2016 syoa'!AP44-'2011 syoa'!AP44","v":-8},{"$f":"'2016 syoa'!AQ44-'2011 syoa'!AQ44","v":-23},{"$f":"'2016 syoa'!AR44-'2011 syoa'!AR44","v":-17},{"$f":"'2016 syoa'!AS44-'2011 syoa'!AS44","v":-24},{"$f":"'2016 syoa'!AT44-'2011 syoa'!AT44","v":-26},{"$f":"'2016 syoa'!AU44-'2011 syoa'!AU44","v":2},{"$f":"'2016 syoa'!AV44-'2011 syoa'!AV44","v":-21},{"$f":"'2016 syoa'!AW44-'2011 syoa'!AW44","v":7},{"$f":"'2016 syoa'!AX44-'2011 syoa'!AX44","v":-24},{"$f":"'2016 syoa'!AY44-'2011 syoa'!AY44","v":-1},{"$f":"'2016 syoa'!AZ44-'2011 syoa'!AZ44","v":-6},{"$f":"'2016 syoa'!BA44-'2011 syoa'!BA44","v":-16},{"$f":"'2016 syoa'!BB44-'2011 syoa'!BB44","v":-7},{"$f":"'2016 syoa'!BC44-'2011 syoa'!BC44","v":30},{"$f":"'2016 syoa'!BD44-'2011 syoa'!BD44","v":-22},{"$f":"'2016 syoa'!BE44-'2011 syoa'!BE44","v":23},{"$f":"'2016 syoa'!BF44-'2011 syoa'!BF44","v":-7},{"$f":"'2016 syoa'!BG44-'2011 syoa'!BG44","v":6},{"$f":"'2016 syoa'!BH44-'2011 syoa'!BH44","v":17},{"$f":"'2016 syoa'!BI44-'2011 syoa'!BI44","v":18},{"$f":"'2016 syoa'!BJ44-'2011 syoa'!BJ44","v":11},{"$f":"'2016 syoa'!BK44-'2011 syoa'!BK44","v":-23},{"$f":"'2016 syoa'!BL44-'2011 syoa'!BL44","v":-1},{"$f":"'2016 syoa'!BM44-'2011 syoa'!BM44","v":-5},{"$f":"'2016 syoa'!BN44-'2011 syoa'!BN44","v":16},{"$f":"'2016 syoa'!BO44-'2011 syoa'!BO44","v":-11},{"$f":"'2016 syoa'!BP44-'2011 syoa'!BP44","v":10},{"$f":"'2016 syoa'!BQ44-'2011 syoa'!BQ44","v":-11},{"$f":"'2016 syoa'!BR44-'2011 syoa'!BR44","v":-1},{"$f":"'2016 syoa'!BS44-'2011 syoa'!BS44","v":-15},{"$f":"'2016 syoa'!BT44-'2011 syoa'!BT44","v":-11},{"$f":"'2016 syoa'!BU44-'2011 syoa'!BU44","v":23},{"$f":"'2016 syoa'!BV44-'2011 syoa'!BV44","v":27},{"$f":"'2016 syoa'!BW44-'2011 syoa'!BW44","v":14},{"$f":"'2016 syoa'!BX44-'2011 syoa'!BX44","v":-2},{"$f":"'2016 syoa'!BY44-'2011 syoa'!BY44","v":32},{"$f":"'2016 syoa'!BZ44-'2011 syoa'!BZ44","v":-9},{"$f":"'2016 syoa'!CA44-'2011 syoa'!CA44","v":4},{"$f":"'2016 syoa'!CB44-'2011 syoa'!CB44","v":-12},{"$f":"'2016 syoa'!CC44-'2011 syoa'!CC44","v":6},{"$f":"'2016 syoa'!CD44-'2011 syoa'!CD44","v":-22},{"$f":"'2016 syoa'!CE44-'2011 syoa'!CE44","v":10},{"$f":"'2016 syoa'!CF44-'2011 syoa'!CF44","v":-10},{"$f":"'2016 syoa'!CG44-'2011 syoa'!CG44","v":2},{"$f":"'2016 syoa'!CH44-'2011 syoa'!CH44","v":-20},{"$f":"'2016 syoa'!CI44-'2011 syoa'!CI44","v":4},{"$f":"'2016 syoa'!CJ44-'2011 syoa'!CJ44","v":2},{"$f":"'2016 syoa'!CK44-'2011 syoa'!CK44","v":17},{"$f":"'2016 syoa'!CL44-'2011 syoa'!CL44","v":10},{"$f":"'2016 syoa'!CM44-'2011 syoa'!CM44","v":0},{"$f":"'2016 syoa'!CN44-'2011 syoa'!CN44","v":10},{"$f":"'2016 syoa'!CO44-'2011 syoa'!CO44","v":10},{"$f":"'2016 syoa'!CP44-'2011 syoa'!CP44","v":-4},{"$f":"'2016 syoa'!CQ44-'2011 syoa'!CQ44","v":39},{"$f":"'2016 syoa'!CR44-'2011 syoa'!CR44","v":266},{"$f":"'2016 syoa'!CS44-'2011 syoa'!CS44","v":19},{"$f":"'2016 syoa'!CT44-'2011 syoa'!CT44","v":31},{"$f":"'2016 syoa'!CU44-'2011 syoa'!CU44","v":-15},{"$f":"'2016 syoa'!CV44-'2011 syoa'!CV44","v":-12},{"$f":"'2016 syoa'!CW44-'2011 syoa'!CW44","v":4},{"$f":"'2016 syoa'!CX44-'2011 syoa'!CX44","v":7},{"$f":"'2016 syoa'!CY44-'2011 syoa'!CY44","v":-9},{"$f":"'2016 syoa'!CZ44-'2011 syoa'!CZ44","v":25},{"$f":"'2016 syoa'!DA44-'2011 syoa'!DA44","v":26},{"$f":"'2016 syoa'!DB44-'2011 syoa'!DB44","v":38},{"$f":"'2016 syoa'!DC44-'2011 syoa'!DC44","v":48},{"$f":"'2016 syoa'!DD44-'2011 syoa'!DD44","v":27},{"$f":"'2016 syoa'!DE44-'2011 syoa'!DE44","v":-3},{"$f":"'2016 syoa'!DF44-'2011 syoa'!DF44","v":-27},{"$f":"'2016 syoa'!DG44-'2011 syoa'!DG44","v":-32},{"$f":"'2016 syoa'!DH44-'2011 syoa'!DH44","v":-83},{"$f":"'2016 syoa'!DI44-'2011 syoa'!DI44","v":-41},{"$f":"'2016 syoa'!DJ44-'2011 syoa'!DJ44","v":0},{"$f":"'2016 syoa'!DK44-'2011 syoa'!DK44","v":-18},{"$f":"'2016 syoa'!DL44-'2011 syoa'!DL44","v":-24},{"$f":"'2016 syoa'!DM44-'2011 syoa'!DM44","v":40},{"$f":"'2016 syoa'!DN44-'2011 syoa'!DN44","v":9},{"$f":"'2016 syoa'!DO44-'2011 syoa'!DO44","v":-11},{"$f":"'2016 syoa'!DP44-'2011 syoa'!DP44","v":24},{"$f":"'2016 syoa'!DQ44-'2011 syoa'!DQ44","v":-11},{"$f":"'2016 syoa'!DR44-'2011 syoa'!DR44","v":69},{"$f":"'2016 syoa'!DS44-'2011 syoa'!DS44","v":27},{"$f":"'2016 syoa'!DT44-'2011 syoa'!DT44","v":14},{"$f":"'2016 syoa'!DU44-'2011 syoa'!DU44","v":-1},{"$f":"'2016 syoa'!DV44-'2011 syoa'!DV44","v":4},{"$f":"'2016 syoa'!DW44-'2011 syoa'!DW44","v":-7},{"$f":"'2016 syoa'!DX44-'2011 syoa'!DX44","v":-47},{"$f":"'2016 syoa'!DY44-'2011 syoa'!DY44","v":-15},{"$f":"'2016 syoa'!DZ44-'2011 syoa'!DZ44","v":4},{"$f":"'2016 syoa'!EA44-'2011 syoa'!EA44","v":8},{"$f":"'2016 syoa'!EB44-'2011 syoa'!EB44","v":-18},{"$f":"'2016 syoa'!EC44-'2011 syoa'!EC44","v":25},{"$f":"'2016 syoa'!ED44-'2011 syoa'!ED44","v":2},{"$f":"'2016 syoa'!EE44-'2011 syoa'!EE44","v":30},{"$f":"'2016 syoa'!EF44-'2011 syoa'!EF44","v":-6},{"$f":"'2016 syoa'!EG44-'2011 syoa'!EG44","v":-40},{"$f":"'2016 syoa'!EH44-'2011 syoa'!EH44","v":-31},{"$f":"'2016 syoa'!EI44-'2011 syoa'!EI44","v":-25},{"$f":"'2016 syoa'!EJ44-'2011 syoa'!EJ44","v":-19},{"$f":"'2016 syoa'!EK44-'2011 syoa'!EK44","v":-49},{"$f":"'2016 syoa'!EL44-'2011 syoa'!EL44","v":34},{"$f":"'2016 syoa'!EM44-'2011 syoa'!EM44","v":3},{"$f":"'2016 syoa'!EN44-'2011 syoa'!EN44","v":13},{"$f":"'2016 syoa'!EO44-'2011 syoa'!EO44","v":2},{"$f":"'2016 syoa'!EP44-'2011 syoa'!EP44","v":21},{"$f":"'2016 syoa'!EQ44-'2011 syoa'!EQ44","v":2},{"$f":"'2016 syoa'!ER44-'2011 syoa'!ER44","v":23},{"$f":"'2016 syoa'!ES44-'2011 syoa'!ES44","v":20},{"$f":"'2016 syoa'!ET44-'2011 syoa'!ET44","v":29},{"$f":"'2016 syoa'!EU44-'2011 syoa'!EU44","v":8},{"$f":"'2016 syoa'!EV44-'2011 syoa'!EV44","v":15},{"$f":"'2016 syoa'!EW44-'2011 syoa'!EW44","v":21},{"$f":"'2016 syoa'!EX44-'2011 syoa'!EX44","v":19},{"$f":"'2016 syoa'!EY44-'2011 syoa'!EY44","v":23},{"$f":"'2016 syoa'!EZ44-'2011 syoa'!EZ44","v":26},{"$f":"'2016 syoa'!FA44-'2011 syoa'!FA44","v":5},{"$f":"'2016 syoa'!FB44-'2011 syoa'!FB44","v":19},{"$f":"'2016 syoa'!FC44-'2011 syoa'!FC44","v":-2},{"$f":"'2016 syoa'!FD44-'2011 syoa'!FD44","v":-17},{"$f":"'2016 syoa'!FE44-'2011 syoa'!FE44","v":-5},{"$f":"'2016 syoa'!FF44-'2011 syoa'!FF44","v":-9},{"$f":"'2016 syoa'!FG44-'2011 syoa'!FG44","v":2},{"$f":"'2016 syoa'!FH44-'2011 syoa'!FH44","v":-7},{"$f":"'2016 syoa'!FI44-'2011 syoa'!FI44","v":-7},{"$f":"'2016 syoa'!FJ44-'2011 syoa'!FJ44","v":23},{"$f":"'2016 syoa'!FK44-'2011 syoa'!FK44","v":47},{"$f":"'2016 syoa'!FL44-'2011 syoa'!FL44","v":9},{"$f":"'2016 syoa'!FM44-'2011 syoa'!FM44","v":6},{"$f":"'2016 syoa'!FN44-'2011 syoa'!FN44","v":2},{"$f":"'2016 syoa'!FO44-'2011 syoa'!FO44","v":-13},{"$f":"'2016 syoa'!FP44-'2011 syoa'!FP44","v":-16},{"$f":"'2016 syoa'!FQ44-'2011 syoa'!FQ44","v":4},{"$f":"'2016 syoa'!FR44-'2011 syoa'!FR44","v":13},{"$f":"'2016 syoa'!FS44-'2011 syoa'!FS44","v":-4},{"$f":"'2016 syoa'!FT44-'2011 syoa'!FT44","v":-4},{"$f":"'2016 syoa'!FU44-'2011 syoa'!FU44","v":-11},{"$f":"'2016 syoa'!FV44-'2011 syoa'!FV44","v":-45},{"$f":"'2016 syoa'!FW44-'2011 syoa'!FW44","v":-3},{"$f":"'2016 syoa'!FX44-'2011 syoa'!FX44","v":7},{"$f":"'2016 syoa'!FY44-'2011 syoa'!FY44","v":-2},{"$f":"'2016 syoa'!FZ44-'2011 syoa'!FZ44","v":-14},{"$f":"'2016 syoa'!GA44-'2011 syoa'!GA44","v":24},{"$f":"'2016 syoa'!GB44-'2011 syoa'!GB44","v":13},{"$f":"'2016 syoa'!GC44-'2011 syoa'!GC44","v":12},{"$f":"'2016 syoa'!GD44-'2011 syoa'!GD44","v":2},{"$f":"'2016 syoa'!GE44-'2011 syoa'!GE44","v":41}]
[]
[null,"Males "]
[null,"Females"]
[]
["Office for National Statistics, Crown Copyright 2017"]
[]
["Service Development Team"]
["Planning & Regeneration"]
["www.birmingham.gov.uk/census"]
["population.census@birmingham.gov.uk"]
["0121 303 4208"]

{"sheet":"chart data","index":7,"n_rows":40,"n_cols":2,"rows_kept":40,"cut":false,"hidden":true,"merged":[]}
["Ladywood",20.689198144466534]
["Nechells",14.832760696561243]
["Edgbaston",14.372015184293236]
["Selly Oak",9.70690320092557]
["Harborne",8.7888671450315279]
["Soho",7.9051383399209492]
["Stockland Green",7.7809207559545772]
["Washwood Heath",6.7519631325228149]
["Springfield",6.2770425044540596]
["Lozells and East Handsworth",6.1594202898550732]
["Hodge Hill",6.0419411115462669]
["Aston",5.9982703236965653]
["Sheldon",5.8437986983224857]
["Erdington",5.7845802999736868]
["Bordesley Green",5.7166358215093558]
["Stechford and Yardley North",5.4015277831633641]
["South Yardley",5.10752688172043]
["Acocks Green",3.7847344354555048]
["Shard End",3.6626757674088997]
["Bartley Green",3.5159999999999996]
["Longbridge",3.2100899768182001]
["Handsworth Wood",2.9743516057188017]
["Sutton Four Oaks",2.9240987509921048]
["Sparkbrook",2.8051181102362204]
["Hall Green",2.6841070618478753]
["Perry Barr",2.4435534922979532]
["Northfield",2.0923268385641505]
["Oscott",1.8237205523964257]
["Weoley",1.8004472202945483]
["Kingstanding",1.6619295752408021]
["Billesley",1.3968899431454498]
["Quinton",0.74349442379182151]
["Tyburn",0.6319864122921357]
["Brandwood",0.59109469181411622]
["Kings Norton",0.53684124252110477]
["Moseley and Kings Heath",-0.31130827301735547]
["Bournville",-0.45079756492255529]
["Sutton Trinity",-0.49994048327580048]
["Sutton Vesey",-1.2225987731114065]
["Sutton New Hall",-1.6978687279388769]

{"sheet":"Sheet1","index":8,"n_rows":0,"n_cols":0,"rows_kept":0,"cut":false,"hidden":true,"merged":[]}

{"sheet":"Sheet3","index":9,"n_rows":0,"n_cols":0,"rows_kept":0,"cut":false,"hidden":true,"merged":[]}

{"sheet":"Introduction","index":10,"n_rows":31,"n_cols":2,"rows_kept":31,"cut":false,"hidden":false,"merged":[]}
["mid-2016 Population estimates for Wards in Birmingham"]
[]
["This workbook contains Birmingham ward population datasheets and tools:"]
[]
["quinary 2016","Data sheet - 2016 population by five year ages"]
[]
[null,"chart - total population change for wards 2011-2016"]
[]
[]
[]
["pyramids 2016","Tool - age structures in a pyramid diagram, wards are selected using the drop down box"]
[]
["pyramids 2011-16 change","Tool -  2011-2016 population change as a pyramid diagram, wards are selected using the drop down box"]
[]
["broad age group","Tool -  select up to 4 wards and make comparisons between the proportion of children, working age population and people of pensionable age. The tool also summarises the age distribution of a population by displaying dependency ratios.  These compares the number of dependents (children and pensioners) with the working age population and is expressed per thousand population."]
[]
["2011 time series","Tool - select up to 4 wards and display the population time series (2011-2016) as a chart."]
[]
["2016 syoa","Data sheet - 2016 single year of age population by sex - these are here to encourage further analysis any results should be published by at least 5 year age groups"]
[]
[]
[null,"Notes"]
[null,"The estimated resident population of an area includes all those people who usually live there, regardless of nationality.  Arriving international migrants are included in the usually "]
[null,"resident population if they remain in the UK for at least a year.   Emigrants are excluded if they remain outside the UK for at least a year.   This is consistent with the United"]
[null,"Nations defintion of a long-term migrant.  Armed forces stationed outside of the UK are excluded.  Students are taken to be usually resident at their term time address."]
[]
[null,"Estimates for mid-2016 wards are based on aggregations of whole mid-2016 Output Area (OA) estimates. OA boundaries are not an exact fit (non-coterminous) for electoral"]
[null,"wards boundaries and therefore are allocated using a best-fit approach."]
[]
[null,"Source: Office for National Statistics, 2011-2016 mid-year ward population estimates for Birmingham wards, Crown Copyright 2017"]
[null,"Transportation & Connectivity, Economy Directorate, www.birmingham.gov.uk/census, brenda.henry@birmingham.gov.uk, 0121 303 4208"]

{"sheet":"quinary 2016","index":11,"n_rows":52,"n_cols":24,"rows_kept":52,"cut":false,"hidden":false,"merged":[]}
["2013 Birmingaham Ward Population (experimental statistics)","mid-2016 Birmingham ward population"]
["five-year age groups","five-year age groups"]
["ward code","Ward Name","Constituency","All Ages","0-4","5-9","10-14","15-19","20-24","25-29","30-34","35-39","40-44","45-49","50-54","55-59","60-64","65-69","70-74","75-79","80-84","85-89","90+"]
[]
["E05001178","Acocks Green","Yardley",{"$f":"SUM('2016 syoa'!D5)+SUM('2016 syoa'!CR5)","v":29506},{"$f":"SUM('2016 syoa'!E5:I5)+SUM('2016 syoa'!CS5:CW5)","v":2382},{"$f":"SUM('2016 syoa'!J5:N5)+SUM('2016 syoa'!CX5:DB5)","v":2352},{"$f":"SUM('2016 syoa'!O5:S5)+SUM('2016 syoa'!DC5:DG5)","v":1954},{"$f":"SUM('2016 syoa'!T5:X5)+SUM('2016 syoa'!DH5:DL5)","v":2057},{"$f":"SUM('2016 syoa'!Y5:AC5)+SUM('2016 syoa'!DM5:DQ5)","v":2077},{"$f":"SUM('2016 syoa'!AD5:AH5)+SUM('2016 syoa'!DR5:DV5)","v":2346},{"$f":"SUM('2016 syoa'!AI5:AM5)+SUM('2016 syoa'!DW5:EA5)","v":2245},{"$f":"SUM('2016 syoa'!AN5:AR5)+SUM('2016 syoa'!EB5:EF5)","v":2050},{"$f":"SUM('2016 syoa'!AS5:AW5)+SUM('2016 syoa'!EG5:EK5)","v":1822},{"$f":"SUM('2016 syoa'!AX5:BB5)+SUM('2016 syoa'!EL5:EP5)","v":1985},{"$f":"SUM('2016 syoa'!BC5:BG5)+SUM('2016 syoa'!EQ5:EU5)","v":1811},{"$f":"SUM('2016 syoa'!BH5:BL5)+SUM('2016 syoa'!EV5:EZ5)","v":1512},{"$f":"SUM('2016 syoa'!BM5:BQ5)+SUM('2016 syoa'!FA5:FE5)","v":1187},{"$f":"SUM('2016 syoa'!BR5:BV5)+SUM('2016 syoa'!FF5:FJ5)","v":1074},{"$f":"SUM('2016 syoa'!BW5:CA5)+SUM('2016 syoa'!FK5:FO5)","v":827},{"$f":"SUM('2016 syoa'!CB5:CF5)+SUM('2016 syoa'!FP5:FT5)","v":699},{"$f":"SUM('2016 syoa'!CG5:CK5)+SUM('2016 syoa'!FU5:FY5)","v":531},{"$f":"SUM('2016 syoa'!CL5:CP5)+SUM('2016 syoa'!FZ5:GD5)","v":346},{"$f":"SUM('2016 syoa'!CQ5)+SUM('2016 syoa'!GE5)","v":249}]
["E05001179","Aston","Ladywood",{"$f":"SUM('2016 syoa'!D6)+SUM('2016 syoa'!CR6)","v":34318},{"$f":"SUM('2016 syoa'!E6:I6)+SUM('2016 syoa'!CS6:CW6)","v":3083},{"$f":"SUM('2016 syoa'!J6:N6)+SUM('2016 syoa'!CX6:DB6)","v":2949},{"$f":"SUM('2016 syoa'!O6:S6)+SUM('2016 syoa'!DC6:DG6)","v":2798},{"$f":"SUM('2016 syoa'!T6:X6)+SUM('2016 syoa'!DH6:DL6)","v":3123},{"$f":"SUM('2016 syoa'!Y6:AC6)+SUM('2016 syoa'!DM6:DQ6)","v":4295},{"$f":"SUM('2016 syoa'!AD6:AH6)+SUM('2016 syoa'!DR6:DV6)","v":2868},{"$f":"SUM('2016 syoa'!AI6:AM6)+SUM('2016 syoa'!DW6:EA6)","v":2638},{"$f":"SUM('2016 syoa'!AN6:AR6)+SUM('2016 syoa'!EB6:EF6)","v":2403},{"$f":"SUM('2016 syoa'!AS6:AW6)+SUM('2016 syoa'!EG6:EK6)","v":2127},{"$f":"SUM('2016 syoa'!AX6:BB6)+SUM('2016 syoa'!EL6:EP6)","v":1788},{"$f":"SUM('2016 syoa'!BC6:BG6)+SUM('2016 syoa'!EQ6:EU6)","v":1516},{"$f":"SUM('2016 syoa'!BH6:BL6)+SUM('2016 syoa'!EV6:EZ6)","v":1149},{"$f":"SUM('2016 syoa'!BM6:BQ6)+SUM('2016 syoa'!FA6:FE6)","v":1026},{"$f":"SUM('2016 syoa'!BR6:BV6)+SUM('2016 syoa'!FF6:FJ6)","v":672},{"$f":"SUM('2016 syoa'!BW6:CA6)+SUM('2016 syoa'!FK6:FO6)","v":520},{"$f":"SUM('2016 syoa'!CB6:CF6)+SUM('2016 syoa'!FP6:FT6)","v":539},{"$f":"SUM('2016 syoa'!CG6:CK6)+SUM('2016 syoa'!FU6:FY6)","v":410},{"$f":"SUM('2016 syoa'!CL6:CP6)+SUM('2016 syoa'!FZ6:GD6)","v":245},{"$f":"SUM('2016 syoa'!CQ6)+SUM('2016 syoa'!GE6)","v":169}]
["E05001180","Bartley Green","Edgbaston",{"$f":"SUM('2016 syoa'!D7)+SUM('2016 syoa'!CR7)","v":25879},{"$f":"SUM('2016 syoa'!E7:I7)+SUM('2016 syoa'!CS7:CW7)","v":1995},{"$f":"SUM('2016 syoa'!J7:N7)+SUM('2016 syoa'!CX7:DB7)","v":1889},{"$f":"SUM('2016 syoa'!O7:S7)+SUM('2016 syoa'!DC7:DG7)","v":1677},{"$f":"SUM('2016 syoa'!T7:X7)+SUM('2016 syoa'!DH7:DL7)","v":1690},{"$f":"SUM('2016 syoa'!Y7:AC7)+SUM('2016 syoa'!DM7:DQ7)","v":1866},{"$f":"SUM('2016 syoa'!AD7:AH7)+SUM('2016 syoa'!DR7:DV7)","v":1794},{"$f":"SUM('2016 syoa'!AI7:AM7)+SUM('2016 syoa'!DW7:EA7)","v":1676},{"$f":"SUM('2016 syoa'!AN7:AR7)+SUM('2016 syoa'!EB7:EF7)","v":1676},{"$f":"SUM('2016 syoa'!AS7:AW7)+SUM('2016 syoa'!EG7:EK7)","v":1662},{"$f":"SUM('2016 syoa'!AX7:BB7)+SUM('2016 syoa'!EL7:EP7)","v":1547},{"$f":"SUM('2016 syoa'!BC7:BG7)+SUM('2016 syoa'!EQ7:EU7)","v":1655},{"$f":"SUM('2016 syoa'!BH7:BL7)+SUM('2016 syoa'!EV7:EZ7)","v":1406},{"$f":"SUM('2016 syoa'!BM7:BQ7)+SUM('2016 syoa'!FA7:FE7)","v":1304},{"$f":"SUM('2016 syoa'!BR7:BV7)+SUM('2016 syoa'!FF7:FJ7)","v":1356},{"$f":"SUM('2016 syoa'!BW7:CA7)+SUM('2016 syoa'!FK7:FO7)","v":1008},{"$f":"SUM('2016 syoa'!CB7:CF7)+SUM('2016 syoa'!FP7:FT7)","v":638},{"$f":"SUM('2016 syoa'!CG7:CK7)+SUM('2016 syoa'!FU7:FY7)","v":509},{"$f":"SUM('2016 syoa'!CL7:CP7)+SUM('2016 syoa'!FZ7:GD7)","v":351},{"$f":"SUM('2016 syoa'!CQ7)+SUM('2016 syoa'!GE7)","v":180}]
["E05001181","Billesley","Selly Oak",{"$f":"SUM('2016 syoa'!D8)+SUM('2016 syoa'!CR8)","v":26930},{"$f":"SUM('2016 syoa'!E8:I8)+SUM('2016 syoa'!CS8:CW8)","v":2110},{"$f":"SUM('2016 syoa'!J8:N8)+SUM('2016 syoa'!CX8:DB8)","v":1881},{"$f":"SUM('2016 syoa'!O8:S8)+SUM('2016 syoa'!DC8:DG8)","v":1680},{"$f":"SUM('2016 syoa'!T8:X8)+SUM('2016 syoa'!DH8:DL8)","v":1721},{"$f":"SUM('2016 syoa'!Y8:AC8)+SUM('2016 syoa'!DM8:DQ8)","v":1683},{"$f":"SUM('2016 syoa'!AD8:AH8)+SUM('2016 syoa'!DR8:DV8)","v":2064},{"$f":"SUM('2016 syoa'!AI8:AM8)+SUM('2016 syoa'!DW8:EA8)","v":1911},{"$f":"SUM('2016 syoa'!AN8:AR8)+SUM('2016 syoa'!EB8:EF8)","v":1731},{"$f":"SUM('2016 syoa'!AS8:AW8)+SUM('2016 syoa'!EG8:EK8)","v":1468},{"$f":"SUM('2016 syoa'!AX8:BB8)+SUM('2016 syoa'!EL8:EP8)","v":1742},{"$f":"SUM('2016 syoa'!BC8:BG8)+SUM('2016 syoa'!EQ8:EU8)","v":1782},{"$f":"SUM('2016 syoa'!BH8:BL8)+SUM('2016 syoa'!EV8:EZ8)","v":1539},{"$f":"SUM('2016 syoa'!BM8:BQ8)+SUM('2016 syoa'!FA8:FE8)","v":1358},{"$f":"SUM('2016 syoa'!BR8:BV8)+SUM('2016 syoa'!FF8:FJ8)","v":1224},{"$f":"SUM('2016 syoa'!BW8:CA8)+SUM('2016 syoa'!FK8:FO8)","v":908},{"$f":"SUM('2016 syoa'!CB8:CF8)+SUM('2016 syoa'!FP8:FT8)","v":824},{"$f":"SUM('2016 syoa'!CG8:CK8)+SUM('2016 syoa'!FU8:FY8)","v":643},{"$f":"SUM('2016 syoa'!CL8:CP8)+SUM('2016 syoa'!FZ8:GD8)","v":391},{"$f":"SUM('2016 syoa'!CQ8)+SUM('2016 syoa'!GE8)","v":270}]
["E05001182","Bordesley Green","Hodge Hill",{"$f":"SUM('2016 syoa'!D9)+SUM('2016 syoa'!CR9)","v":35987},{"$f":"SUM('2016 syoa'!E9:I9)+SUM('2016 syoa'!CS9:CW9)","v":3617},{"$f":"SUM('2016 syoa'!J9:N9)+SUM('2016 syoa'!CX9:DB9)","v":3753},{"$f":"SUM('2016 syoa'!O9:S9)+SUM('2016 syoa'!DC9:DG9)","v":3703},{"$f":"SUM('2016 syoa'!T9:X9)+SUM('2016 syoa'!DH9:DL9)","v":3412},{"$f":"SUM('2016 syoa'!Y9:AC9)+SUM('2016 syoa'!DM9:DQ9)","v":2835},{"$f":"SUM('2016 syoa'!AD9:AH9)+SUM('2016 syoa'!DR9:DV9)","v":2699},{"$f":"SUM('2016 syoa'!AI9:AM9)+SUM('2016 syoa'!DW9:EA9)","v":2714},{"$f":"SUM('2016 syoa'!AN9:AR9)+SUM('2016 syoa'!EB9:EF9)","v":2518},{"$f":"SUM('2016 syoa'!AS9:AW9)+SUM('2016 syoa'!EG9:EK9)","v":2284},{"$f":"SUM('2016 syoa'!AX9:BB9)+SUM('2016 syoa'!EL9:EP9)","v":1957},{"$f":"SUM('2016 syoa'!BC9:BG9)+SUM('2016 syoa'!EQ9:EU9)","v":1420},{"$f":"SUM('2016 syoa'!BH9:BL9)+SUM('2016 syoa'!EV9:EZ9)","v":1231},{"$f":"SUM('2016 syoa'!BM9:BQ9)+SUM('2016 syoa'!FA9:FE9)","v":1049},{"$f":"SUM('2016 syoa'!BR9:BV9)+SUM('2016 syoa'!FF9:FJ9)","v":686},{"$f":"SUM('2016 syoa'!BW9:CA9)+SUM('2016 syoa'!FK9:FO9)","v":557},{"$f":"SUM('2016 syoa'!CB9:CF9)+SUM('2016 syoa'!FP9:FT9)","v":626},{"$f":"SUM('2016 syoa'!CG9:CK9)+SUM('2016 syoa'!FU9:FY9)","v":529},{"$f":"SUM('2016 syoa'!CL9:CP9)+SUM('2016 syoa'!FZ9:GD9)","v":275},{"$f":"SUM('2016 syoa'!CQ9)+SUM('2016 syoa'!GE9)","v":122}]
["E05001183","Bournville","Selly Oak",{"$f":"SUM('2016 syoa'!D10)+SUM('2016 syoa'!CR10)","v":25837},{"$f":"SUM('2016 syoa'!E10:I10)+SUM('2016 syoa'!CS10:CW10)","v":1671},{"$f":"SUM('2016 syoa'!J10:N10)+SUM('2016 syoa'!CX10:DB10)","v":1671},{"$f":"SUM('2016 syoa'!O10:S10)+SUM('2016 syoa'!DC10:DG10)","v":1444},{"$f":"SUM('2016 syoa'!T10:X10)+SUM('2016 syoa'!DH10:DL10)","v":1393},{"$f":"SUM('2016 syoa'!Y10:AC10)+SUM('2016 syoa'!DM10:DQ10)","v":1543},{"$f":"SUM('2016 syoa'!AD10:AH10)+SUM('2016 syoa'!DR10:DV10)","v":1755},{"$f":"SUM('2016 syoa'!AI10:AM10)+SUM('2016 syoa'!DW10:EA10)","v":1808},{"$f":"SUM('2016 syoa'!AN10:AR10)+SUM('2016 syoa'!EB10:EF10)","v":1811},{"$f":"SUM('2016 syoa'!AS10:AW10)+SUM('2016 syoa'!EG10:EK10)","v":1665},{"$f":"SUM('2016 syoa'!AX10:BB10)+SUM('2016 syoa'!EL10:EP10)","v":1806},{"$f":"SUM('2016 syoa'!BC10:BG10)+SUM('2016 syoa'!EQ10:EU10)","v":1896},{"$f":"SUM('2016 syoa'!BH10:BL10)+SUM('2016 syoa'!EV10:EZ10)","v":1561},{"$f":"SUM('2016 syoa'!BM10:BQ10)+SUM('2016 syoa'!FA10:FE10)","v":1398},{"$f":"SUM('2016 syoa'!BR10:BV10)+SUM('2016 syoa'!FF10:FJ10)","v":1353},{"$f":"SUM('2016 syoa'!BW10:CA10)+SUM('2016 syoa'!FK10:FO10)","v":998},{"$f":"SUM('2016 syoa'!CB10:CF10)+SUM('2016 syoa'!FP10:FT10)","v":766},{"$f":"SUM('2016 syoa'!CG10:CK10)+SUM('2016 syoa'!FU10:FY10)","v":585},{"$f":"SUM('2016 syoa'!CL10:CP10)+SUM('2016 syoa'!FZ10:GD10)","v":441},{"$f":"SUM('2016 syoa'!CQ10)+SUM('2016 syoa'!GE10)","v":272}]
["E05001184","Brandwood","Selly Oak",{"$f":"SUM('2016 syoa'!D11)+SUM('2016 syoa'!CR11)","v":25867},{"$f":"SUM('2016 syoa'!E11:I11)+SUM('2016 syoa'!CS11:CW11)","v":1999},{"$f":"SUM('2016 syoa'!J11:N11)+SUM('2016 syoa'!CX11:DB11)","v":1786},{"$f":"SUM('2016 syoa'!O11:S11)+SUM('2016 syoa'!DC11:DG11)","v":1573},{"$f":"SUM('2016 syoa'!T11:X11)+SUM('2016 syoa'!DH11:DL11)","v":1565},{"$f":"SUM('2016 syoa'!Y11:AC11)+SUM('2016 syoa'!DM11:DQ11)","v":1612},{"$f":"SUM('2016 syoa'!AD11:AH11)+SUM('2016 syoa'!DR11:DV11)","v":1784},{"$f":"SUM('2016 syoa'!AI11:AM11)+SUM('2016 syoa'!DW11:EA11)","v":1713},{"$f":"SUM('2016 syoa'!AN11:AR11)+SUM('2016 syoa'!EB11:EF11)","v":1686},{"$f":"SUM('2016 syoa'!AS11:AW11)+SUM('2016 syoa'!EG11:EK11)","v":1664},{"$f":"SUM('2016 syoa'!AX11:BB11)+SUM('2016 syoa'!EL11:EP11)","v":1829},{"$f":"SUM('2016 syoa'!BC11:BG11)+SUM('2016 syoa'!EQ11:EU11)","v":1753},{"$f":"SUM('2016 syoa'!BH11:BL11)+SUM('2016 syoa'!EV11:EZ11)","v":1456},{"$f":"SUM('2016 syoa'!BM11:BQ11)+SUM('2016 syoa'!FA11:FE11)","v":1263},{"$f":"SUM('2016 syoa'!BR11:BV11)+SUM('2016 syoa'!FF11:FJ11)","v":1222},{"$f":"SUM('2016 syoa'!BW11:CA11)+SUM('2016 syoa'!FK11:FO11)","v":1010},{"$f":"SUM('2016 syoa'!CB11:CF11)+SUM('2016 syoa'!FP11:FT11)","v":820},{"$f":"SUM('2016 syoa'!CG11:CK11)+SUM('2016 syoa'!FU11:FY11)","v":549},{"$f":"SUM('2016 syoa'!CL11:CP11)+SUM('2016 syoa'!FZ11:GD11)","v":363},{"$f":"SUM('2016 syoa'!CQ11)+SUM('2016 syoa'!GE11)","v":220}]
["E05001185","Edgbaston","Edgbaston",{"$f":"SUM('2016 syoa'!D12)+SUM('2016 syoa'!CR12)","v":28020},{"$f":"SUM('2016 syoa'!E12:I12)+SUM('2016 syoa'!CS12:CW12)","v":1353},{"$f":"SUM('2016 syoa'!J12:N12)+SUM('2016 syoa'!CX12:DB12)","v":1180},{"$f":"SUM('2016 syoa'!O12:S12)+SUM('2016 syoa'!DC12:DG12)","v":955},{"$f":"SUM('2016 syoa'!T12:X12)+SUM('2016 syoa'!DH12:DL12)","v":4891},{"$f":"SUM('2016 syoa'!Y12:AC12)+SUM('2016 syoa'!DM12:DQ12)","v":4591},{"$f":"SUM('2016 syoa'!AD12:AH12)+SUM('2016 syoa'!DR12:DV12)","v":2651},{"$f":"SUM('2016 syoa'!AI12:AM12)+SUM('2016 syoa'!DW12:EA12)","v":1940},{"$f":"SUM('2016 syoa'!AN12:AR12)+SUM('2016 syoa'!EB12:EF12)","v":1559},{"$f":"SUM('2016 syoa'!AS12:AW12)+SUM('2016 syoa'!EG12:EK12)","v":1372},{"$f":"SUM('2016 syoa'!AX12:BB12)+SUM('2016 syoa'!EL12:EP12)","v":1441},{"$f":"SUM('2016 syoa'!BC12:BG12)+SUM('2016 syoa'!EQ12:EU12)","v":1216},{"$f":"SUM('2016 syoa'!BH12:BL12)+SUM('2016 syoa'!EV12:EZ12)","v":990},{"$f":"SUM('2016 syoa'!BM12:BQ12)+SUM('2016 syoa'!FA12:FE12)","v":879},{"$f":"SUM('2016 syoa'!BR12:BV12)+SUM('2016 syoa'!FF12:FJ12)","v":835},{"$f":"SUM('2016 syoa'!BW12:CA12)+SUM('2016 syoa'!FK12:FO12)","v":714},{"$f":"SUM('2016 syoa'!CB12:CF12)+SUM('2016 syoa'!FP12:FT12)","v":581},{"$f":"SUM('2016 syoa'!CG12:CK12)+SUM('2016 syoa'!FU12:FY12)","v":376},{"$f":"SUM('2016 syoa'!CL12:CP12)+SUM('2016 syoa'!FZ12:GD12)","v":315},{"$f":"SUM('2016 syoa'!CQ12)+SUM('2016 syoa'!GE12)","v":181}]
["E05001186","Erdington","Erdington",{"$f":"SUM('2016 syoa'!D13)+SUM('2016 syoa'!CR13)","v":24121},{"$f":"SUM('2016 syoa'!E13:I13)+SUM('2016 syoa'!CS13:CW13)","v":1923},{"$f":"SUM('2016 syoa'!J13:N13)+SUM('2016 syoa'!CX13:DB13)","v":1624},{"$f":"SUM('2016 syoa'!O13:S13)+SUM('2016 syoa'!DC13:DG13)","v":1274},{"$f":"SUM('2016 syoa'!T13:X13)+SUM('2016 syoa'!DH13:DL13)","v":1243},{"$f":"SUM('2016 syoa'!Y13:AC13)+SUM('2016 syoa'!DM13:DQ13)","v":1520},{"$f":"SUM('2016 syoa'!AD13:AH13)+SUM('2016 syoa'!DR13:DV13)","v":1928},{"$f":"SUM('2016 syoa'!AI13:AM13)+SUM('2016 syoa'!DW13:EA13)","v":1852},{"$f":"SUM('2016 syoa'!AN13:AR13)+SUM('2016 syoa'!EB13:EF13)","v":1642},{"$f":"SUM('2016 syoa'!AS13:AW13)+SUM('2016 syoa'!EG13:EK13)","v":1404},{"$f":"SUM('2016 syoa'!AX13:BB13)+SUM('2016 syoa'!EL13:EP13)","v":1544},{"$f":"SUM('2016 syoa'!BC13:BG13)+SUM('2016 syoa'!EQ13:EU13)","v":1651},{"$f":"SUM('2016 syoa'!BH13:BL13)+SUM('2016 syoa'!EV13:EZ13)","v":1433},{"$f":"SUM('2016 syoa'!BM13:BQ13)+SUM('2016 syoa'!FA13:FE13)","v":1158},{"$f":"SUM('2016 syoa'!BR13:BV13)+SUM('2016 syoa'!FF13:FJ13)","v":1074},{"$f":"SUM('2016 syoa'!BW13:CA13)+SUM('2016 syoa'!FK13:FO13)","v":935},{"$f":"SUM('2016 syoa'!CB13:CF13)+SUM('2016 syoa'!FP13:FT13)","v":686},{"$f":"SUM('2016 syoa'!CG13:CK13)+SUM('2016 syoa'!FU13:FY13)","v":633},{"$f":"SUM('2016 syoa'!CL13:CP13)+SUM('2016 syoa'!FZ13:GD13)","v":373},{"$f":"SUM('2016 syoa'!CQ13)+SUM('2016 syoa'!GE13)","v":224}]
["E05001187","Hall Green","Hall Green",{"$f":"SUM('2016 syoa'!D14)+SUM('2016 syoa'!CR14)","v":27162},{"$f":"SUM('2016 syoa'!E14:I14)+SUM('2016 syoa'!CS14:CW14)","v":1891},{"$f":"SUM('2016 syoa'!J14:N14)+SUM('2016 syoa'!CX14:DB14)","v":1978},{"$f":"SUM('2016 syoa'!O14:S14)+SUM('2016 syoa'!DC14:DG14)","v":1865},{"$f":"SUM('2016 syoa'!T14:X14)+SUM('2016 syoa'!DH14:DL14)","v":1884},{"$f":"SUM('2016 syoa'!Y14:AC14)+SUM('2016 syoa'!DM14:DQ14)","v":1661},{"$f":"SUM('2016 syoa'!AD14:AH14)+SUM('2016 syoa'!DR14:DV14)","v":1777},{"$f":"SUM('2016 syoa'!AI14:AM14)+SUM('2016 syoa'!DW14:EA14)","v":1772},{"$f":"SUM('2016 syoa'!AN14:AR14)+SUM('2016 syoa'!EB14:EF14)","v":1773},{"$f":"SUM('2016 syoa'!AS14:AW14)+SUM('2016 syoa'!EG14:EK14)","v":1785},{"$f":"SUM('2016 syoa'!AX14:BB14)+SUM('2016 syoa'!EL14:EP14)","v":1827},{"$f":"SUM('2016 syoa'!BC14:BG14)+SUM('2016 syoa'!EQ14:EU14)","v":1759},{"$f":"SUM('2016 syoa'!BH14:BL14)+SUM('2016 syoa'!EV14:EZ14)","v":1553},{"$f":"SUM('2016 syoa'!BM14:BQ14)+SUM('2016 syoa'!FA14:FE14)","v":1360},{"$f":"SUM('2016 syoa'!BR14:BV14)+SUM('2016 syoa'!FF14:FJ14)","v":1197},{"$f":"SUM('2016 syoa'!BW14:CA14)+SUM('2016 syoa'!FK14:FO14)","v":1030},{"$f":"SUM('2016 syoa'!CB14:CF14)+SUM('2016 syoa'!FP14:FT14)","v":761},{"$f":"SUM('2016 syoa'!CG14:CK14)+SUM('2016 syoa'!FU14:FY14)","v":668},{"$f":"SUM('2016 syoa'!CL14:CP14)+SUM('2016 syoa'!FZ14:GD14)","v":435},{"$f":"SUM('2016 syoa'!CQ14)+SUM('2016 syoa'!GE14)","v":186}]
["E05001188","Handsworth Wood","Perry Barr",{"$f":"SUM('2016 syoa'!D15)+SUM('2016 syoa'!CR15)","v":28666},{"$f":"SUM('2016 syoa'!E15:I15)+SUM('2016 syoa'!CS15:CW15)","v":2013},{"$f":"SUM('2016 syoa'!J15:N15)+SUM('2016 syoa'!CX15:DB15)","v":1840},{"$f":"SUM('2016 syoa'!O15:S15)+SUM('2016 syoa'!DC15:DG15)","v":1958},{"$f":"SUM('2016 syoa'!T15:X15)+SUM('2016 syoa'!DH15:DL15)","v":2005},{"$f":"SUM('2016 syoa'!Y15:AC15)+SUM('2016 syoa'!DM15:DQ15)","v":2340},{"$f":"SUM('2016 syoa'!AD15:AH15)+SUM('2016 syoa'!DR15:DV15)","v":2395},{"$f":"SUM('2016 syoa'!AI15:AM15)+SUM('2016 syoa'!DW15:EA15)","v":2226},{"$f":"SUM('2016 syoa'!AN15:AR15)+SUM('2016 syoa'!EB15:EF15)","v":2062},{"$f":"SUM('2016 syoa'!AS15:AW15)+SUM('2016 syoa'!EG15:EK15)","v":1851},{"$f":"SUM('2016 syoa'!AX15:BB15)+SUM('2016 syoa'!EL15:EP15)","v":1852},{"$f":"SUM('2016 syoa'!BC15:BG15)+SUM('2016 syoa'!EQ15:EU15)","v":1896},{"$f":"SUM('2016 syoa'!BH15:BL15)+SUM('2016 syoa'!EV15:EZ15)","v":1597},{"$f":"SUM('2016 syoa'!BM15:BQ15)+SUM('2016 syoa'!FA15:FE15)","v":1323},{"$f":"SUM('2016 syoa'!BR15:BV15)+SUM('2016 syoa'!FF15:FJ15)","v":1010},{"$f":"SUM('2016 syoa'!BW15:CA15)+SUM('2016 syoa'!FK15:FO15)","v":632},{"$f":"SUM('2016 syoa'!CB15:CF15)+SUM('2016 syoa'!FP15:FT15)","v":655},{"$f":"SUM('2016 syoa'!CG15:CK15)+SUM('2016 syoa'!FU15:FY15)","v":531},{"$f":"SUM('2016 syoa'!CL15:CP15)+SUM('2016 syoa'!FZ15:GD15)","v":313},{"$f":"SUM('2016 syoa'!CQ15)+SUM('2016 syoa'!GE15)","v":167}]
["E05001189","Harborne","Edgbaston",{"$f":"SUM('2016 syoa'!D16)+SUM('2016 syoa'!CR16)","v":25016},{"$f":"SUM('2016 syoa'!E16:I16)+SUM('2016 syoa'!CS16:CW16)","v":1670},{"$f":"SUM('2016 syoa'!J16:N16)+SUM('2016 syoa'!CX16:DB16)","v":1400},{"$f":"SUM('2016 syoa'!O16:S16)+SUM('2016 syoa'!DC16:DG16)","v":1153},{"$f":"SUM('2016 syoa'!T16:X16)+SUM('2016 syoa'!DH16:DL16)","v":1094},{"$f":"SUM('2016 syoa'!Y16:AC16)+SUM('2016 syoa'!DM16:DQ16)","v":2462},{"$f":"SUM('2016 syoa'!AD16:AH16)+SUM('2016 syoa'!DR16:DV16)","v":2710},{"$f":"SUM('2016 syoa'!AI16:AM16)+SUM('2016 syoa'!DW16:EA16)","v":2088},{"$f":"SUM('2016 syoa'!AN16:AR16)+SUM('2016 syoa'!EB16:EF16)","v":1945},{"$f":"SUM('2016 syoa'!AS16:AW16)+SUM('2016 syoa'!EG16:EK16)","v":1671},{"$f":"SUM('2016 syoa'!AX16:BB16)+SUM('2016 syoa'!EL16:EP16)","v":1519},{"$f":"SUM('2016 syoa'!BC16:BG16)+SUM('2016 syoa'!EQ16:EU16)","v":1335},{"$f":"SUM('2016 syoa'!BH16:BL16)+SUM('2016 syoa'!EV16:EZ16)","v":1158},{"$f":"SUM('2016 syoa'!BM16:BQ16)+SUM('2016 syoa'!FA16:FE16)","v":1107},{"$f":"SUM('2016 syoa'!BR16:BV16)+SUM('2016 syoa'!FF16:FJ16)","v":1068},{"$f":"SUM('2016 syoa'!BW16:CA16)+SUM('2016 syoa'!FK16:FO16)","v":807},{"$f":"SUM('2016 syoa'!CB16:CF16)+SUM('2016 syoa'!FP16:FT16)","v":680},{"$f":"SUM('2016 syoa'!CG16:CK16)+SUM('2016 syoa'!FU16:FY16)","v":501},{"$f":"SUM('2016 syoa'!CL16:CP16)+SUM('2016 syoa'!FZ16:GD16)","v":389},{"$f":"SUM('2016 syoa'!CQ16)+SUM('2016 syoa'!GE16)","v":259}]
["E05001190","Hodge Hill","Hodge Hill",{"$f":"SUM('2016 syoa'!D17)+SUM('2016 syoa'!CR17)","v":29784},{"$f":"SUM('2016 syoa'!E17:I17)+SUM('2016 syoa'!CS17:CW17)","v":2737},{"$f":"SUM('2016 syoa'!J17:N17)+SUM('2016 syoa'!CX17:DB17)","v":2753},{"$f":"SUM('2016 syoa'!O17:S17)+SUM('2016 syoa'!DC17:DG17)","v":2624},{"$f":"SUM('2016 syoa'!T17:X17)+SUM('2016 syoa'!DH17:DL17)","v":2456},{"$f":"SUM('2016 syoa'!Y17:AC17)+SUM('2016 syoa'!DM17:DQ17)","v":2142},{"$f":"SUM('2016 syoa'!AD17:AH17)+SUM('2016 syoa'!DR17:DV17)","v":2205},{"$f":"SUM('2016 syoa'!AI17:AM17)+SUM('2016 syoa'!DW17:EA17)","v":2070},{"$f":"SUM('2016 syoa'!AN17:AR17)+SUM('2016 syoa'!EB17:EF17)","v":2075},{"$f":"SUM('2016 syoa'!AS17:AW17)+SUM('2016 syoa'!EG17:EK17)","v":1753},{"$f":"SUM('2016 syoa'!AX17:BB17)+SUM('2016 syoa'!EL17:EP17)","v":1794},{"$f":"SUM('2016 syoa'!BC17:BG17)+SUM('2016 syoa'!EQ17:EU17)","v":1518},{"$f":"SUM('2016 syoa'!BH17:BL17)+SUM('2016 syoa'!EV17:EZ17)","v":1235},{"$f":"SUM('2016 syoa'!BM17:BQ17)+SUM('2016 syoa'!FA17:FE17)","v":976},{"$f":"SUM('2016 syoa'!BR17:BV17)+SUM('2016 syoa'!FF17:FJ17)","v":954},{"$f":"SUM('2016 syoa'!BW17:CA17)+SUM('2016 syoa'!FK17:FO17)","v":741},{"$f":"SUM('2016 syoa'!CB17:CF17)+SUM('2016 syoa'!FP17:FT17)","v":751},{"$f":"SUM('2016 syoa'!CG17:CK17)+SUM('2016 syoa'!FU17:FY17)","v":509},{"$f":"SUM('2016 syoa'!CL17:CP17)+SUM('2016 syoa'!FZ17:GD17)","v":324},{"$f":"SUM('2016 syoa'!CQ17)+SUM('2016 syoa'!GE17)","v":167}]
["E05001191","Kings Norton","Northfield",{"$f":"SUM('2016 syoa'!D18)+SUM('2016 syoa'!CR18)","v":24533},{"$f":"SUM('2016 syoa'!E18:I18)+SUM('2016 syoa'!CS18:CW18)","v":1914},{"$f":"SUM('2016 syoa'!J18:N18)+SUM('2016 syoa'!CX18:DB18)","v":1842},{"$f":"SUM('2016 syoa'!O18:S18)+SUM('2016 syoa'!DC18:DG18)","v":1576},{"$f":"SUM('2016 syoa'!T18:X18)+SUM('2016 syoa'!DH18:DL18)","v":1484},{"$f":"SUM('2016 syoa'!Y18:AC18)+SUM('2016 syoa'!DM18:DQ18)","v":1506},{"$f":"SUM('2016 syoa'!AD18:AH18)+SUM('2016 syoa'!DR18:DV18)","v":1773},{"$f":"SUM('2016 syoa'!AI18:AM18)+SUM('2016 syoa'!DW18:EA18)","v":1540},{"$f":"SUM('2016 syoa'!AN18:AR18)+SUM('2016 syoa'!EB18:EF18)","v":1485},{"$f":"SUM('2016 syoa'!AS18:AW18)+SUM('2016 syoa'!EG18:EK18)","v":1462},{"$f":"SUM('2016 syoa'!AX18:BB18)+SUM('2016 syoa'!EL18:EP18)","v":1617},{"$f":"SUM('2016 syoa'!BC18:BG18)+SUM('2016 syoa'!EQ18:EU18)","v":1520},{"$f":"SUM('2016 syoa'!BH18:BL18)+SUM('2016 syoa'!EV18:EZ18)","v":1399},{"$f":"SUM('2016 syoa'!BM18:BQ18)+SUM('2016 syoa'!FA18:FE18)","v":1140},{"$f":"SUM('2016 syoa'!BR18:BV18)+SUM('2016 syoa'!FF18:FJ18)","v":1372},{"$f":"SUM('2016 syoa'!BW18:CA18)+SUM('2016 syoa'!FK18:FO18)","v":1016},{"$f":"SUM('2016 syoa'!CB18:CF18)+SUM('2016 syoa'!FP18:FT18)","v":729},{"$f":"SUM('2016 syoa'!CG18:CK18)+SUM('2016 syoa'!FU18:FY18)","v":580},{"$f":"SUM('2016 syoa'!CL18:CP18)+SUM('2016 syoa'!FZ18:GD18)","v":340},{"$f":"SUM('2016 syoa'!CQ18)+SUM('2016 syoa'!GE18)","v":238}]
["E05001192","Kingstanding","Erdington",{"$f":"SUM('2016 syoa'!D19)+SUM('2016 syoa'!CR19)","v":25753},{"$f":"SUM('2016 syoa'!E19:I19)+SUM('2016 syoa'!CS19:CW19)","v":2174},{"$f":"SUM('2016 syoa'!J19:N19)+SUM('2016 syoa'!CX19:DB19)","v":2022},{"$f":"SUM('2016 syoa'!O19:S19)+SUM('2016 syoa'!DC19:DG19)","v":1868},{"$f":"SUM('2016 syoa'!T19:X19)+SUM('2016 syoa'!DH19:DL19)","v":1948},{"$f":"SUM('2016 syoa'!Y19:AC19)+SUM('2016 syoa'!DM19:DQ19)","v":1721},{"$f":"SUM('2016 syoa'!AD19:AH19)+SUM('2016 syoa'!DR19:DV19)","v":1880},{"$f":"SUM('2016 syoa'!AI19:AM19)+SUM('2016 syoa'!DW19:EA19)","v":1682},{"$f":"SUM('2016 syoa'!AN19:AR19)+SUM('2016 syoa'!EB19:EF19)","v":1550},{"$f":"SUM('2016 syoa'!AS19:AW19)+SUM('2016 syoa'!EG19:EK19)","v":1528},{"$f":"SUM('2016 syoa'!AX19:BB19)+SUM('2016 syoa'!EL19:EP19)","v":1632},{"$f":"SUM('2016 syoa'!BC19:BG19)+SUM('2016 syoa'!EQ19:EU19)","v":1748},{"$f":"SUM('2016 syoa'!BH19:BL19)+SUM('2016 syoa'!EV19:EZ19)","v":1461},{"$f":"SUM('2016 syoa'!BM19:BQ19)+SUM('2016 syoa'!FA19:FE19)","v":1176},{"$f":"SUM('2016 syoa'!BR19:BV19)+SUM('2016 syoa'!FF19:FJ19)","v":960},{"$f":"SUM('2016 syoa'!BW19:CA19)+SUM('2016 syoa'!FK19:FO19)","v":880},{"$f":"SUM('2016 syoa'!CB19:CF19)+SUM('2016 syoa'!FP19:FT19)","v":624},{"$f":"SUM('2016 syoa'!CG19:CK19)+SUM('2016 syoa'!FU19:FY19)","v":455},{"$f":"SUM('2016 syoa'!CL19:CP19)+SUM('2016 syoa'!FZ19:GD19)","v":292},{"$f":"SUM('2016 syoa'!CQ19)+SUM('2016 syoa'!GE19)","v":152}]
["E05001193","Ladywood","Ladywood",{"$f":"SUM('2016 syoa'!D20)+SUM('2016 syoa'!CR20)","v":36424},{"$f":"SUM('2016 syoa'!E20:I20)+SUM('2016 syoa'!CS20:CW20)","v":1864},{"$f":"SUM('2016 syoa'!J20:N20)+SUM('2016 syoa'!CX20:DB20)","v":1333},{"$f":"SUM('2016 syoa'!O20:S20)+SUM('2016 syoa'!DC20:DG20)","v":1126},{"$f":"SUM('2016 syoa'!T20:X20)+SUM('2016 syoa'!DH20:DL20)","v":1474},{"$f":"SUM('2016 syoa'!Y20:AC20)+SUM('2016 syoa'!DM20:DQ20)","v":7314},{"$f":"SUM('2016 syoa'!AD20:AH20)+SUM('2016 syoa'!DR20:DV20)","v":7453},{"$f":"SUM('2016 syoa'!AI20:AM20)+SUM('2016 syoa'!DW20:EA20)","v":4751},{"$f":"SUM('2016 syoa'!AN20:AR20)+SUM('2016 syoa'!EB20:EF20)","v":2850},{"$f":"SUM('2016 syoa'!AS20:AW20)+SUM('2016 syoa'!EG20:EK20)","v":1929},{"$f":"SUM('2016 syoa'!AX20:BB20)+SUM('2016 syoa'!EL20:EP20)","v":1622},{"$f":"SUM('2016 syoa'!BC20:BG20)+SUM('2016 syoa'!EQ20:EU20)","v":1362},{"$f":"SUM('2016 syoa'!BH20:BL20)+SUM('2016 syoa'!EV20:EZ20)","v":1040},{"$f":"SUM('2016 syoa'!BM20:BQ20)+SUM('2016 syoa'!FA20:FE20)","v":713},{"$f":"SUM('2016 syoa'!BR20:BV20)+SUM('2016 syoa'!FF20:FJ20)","v":529},{"$f":"SUM('2016 syoa'!BW20:CA20)+SUM('2016 syoa'!FK20:FO20)","v":390},{"$f":"SUM('2016 syoa'!CB20:CF20)+SUM('2016 syoa'!FP20:FT20)","v":289},{"$f":"SUM('2016 syoa'!CG20:CK20)+SUM('2016 syoa'!FU20:FY20)","v":222},{"$f":"SUM('2016 syoa'!CL20:CP20)+SUM('2016 syoa'!FZ20:GD20)","v":111},{"$f":"SUM('2016 syoa'!CQ20)+SUM('2016 syoa'!GE20)","v":52}]
["E05001194","Longbridge","Northfield",{"$f":"SUM('2016 syoa'!D21)+SUM('2016 syoa'!CR21)","v":26268},{"$f":"SUM('2016 syoa'!E21:I21)+SUM('2016 syoa'!CS21:CW21)","v":2035},{"$f":"SUM('2016 syoa'!J21:N21)+SUM('2016 syoa'!CX21:DB21)","v":1862},{"$f":"SUM('2016 syoa'!O21:S21)+SUM('2016 syoa'!DC21:DG21)","v":1638},{"$f":"SUM('2016 syoa'!T21:X21)+SUM('2016 syoa'!DH21:DL21)","v":1629},{"$f":"SUM('2016 syoa'!Y21:AC21)+SUM('2016 syoa'!DM21:DQ21)","v":1661},{"$f":"SUM('2016 syoa'!AD21:AH21)+SUM('2016 syoa'!DR21:DV21)","v":1870},{"$f":"SUM('2016 syoa'!AI21:AM21)+SUM('2016 syoa'!DW21:EA21)","v":1777},{"$f":"SUM('2016 syoa'!AN21:AR21)+SUM('2016 syoa'!EB21:EF21)","v":1780},{"$f":"SUM('2016 syoa'!AS21:AW21)+SUM('2016 syoa'!EG21:EK21)","v":1614},{"$f":"SUM('2016 syoa'!AX21:BB21)+SUM('2016 syoa'!EL21:EP21)","v":1761},{"$f":"SUM('2016 syoa'!BC21:BG21)+SUM('2016 syoa'!EQ21:EU21)","v":1734},{"$f":"SUM('2016 syoa'!BH21:BL21)+SUM('2016 syoa'!EV21:EZ21)","v":1531},{"$f":"SUM('2016 syoa'!BM21:BQ21)+SUM('2016 syoa'!FA21:FE21)","v":1454},{"$f":"SUM('2016 syoa'!BR21:BV21)+SUM('2016 syoa'!FF21:FJ21)","v":1352},{"$f":"SUM('2016 syoa'!BW21:CA21)+SUM('2016 syoa'!FK21:FO21)","v":919},{"$f":"SUM('2016 syoa'!CB21:CF21)+SUM('2016 syoa'!FP21:FT21)","v":657},{"$f":"SUM('2016 syoa'!CG21:CK21)+SUM('2016 syoa'!FU21:FY21)","v":496},{"$f":"SUM('2016 syoa'!CL21:CP21)+SUM('2016 syoa'!FZ21:GD21)","v":339},{"$f":"SUM('2016 syoa'!CQ21)+SUM('2016 syoa'!GE21)","v":159}]
["E05001195","Lozells and East Handsworth","Perry Barr",{"$f":"SUM('2016 syoa'!D22)+SUM('2016 syoa'!CR22)","v":33109},{"$f":"SUM('2016 syoa'!E22:I22)+SUM('2016 syoa'!CS22:CW22)","v":2881},{"$f":"SUM('2016 syoa'!J22:N22)+SUM('2016 syoa'!CX22:DB22)","v":2892},{"$f":"SUM('2016 syoa'!O22:S22)+SUM('2016 syoa'!DC22:DG22)","v":2932},{"$f":"SUM('2016 syoa'!T22:X22)+SUM('2016 syoa'!DH22:DL22)","v":2634},{"$f":"SUM('2016 syoa'!Y22:AC22)+SUM('2016 syoa'!DM22:DQ22)","v":2769},{"$f":"SUM('2016 syoa'!AD22:AH22)+SUM('2016 syoa'!DR22:DV22)","v":2813},{"$f":"SUM('2016 syoa'!AI22:AM22)+SUM('2016 syoa'!DW22:EA22)","v":2672},{"$f":"SUM('2016 syoa'!AN22:AR22)+SUM('2016 syoa'!EB22:EF22)","v":2648},{"$f":"SUM('2016 syoa'!AS22:AW22)+SUM('2016 syoa'!EG22:EK22)","v":2179},{"$f":"SUM('2016 syoa'!AX22:BB22)+SUM('2016 syoa'!EL22:EP22)","v":1950},{"$f":"SUM('2016 syoa'!BC22:BG22)+SUM('2016 syoa'!EQ22:EU22)","v":1653},{"$f":"SUM('2016 syoa'!BH22:BL22)+SUM('2016 syoa'!EV22:EZ22)","v":1344},{"$f":"SUM('2016 syoa'!BM22:BQ22)+SUM('2016 syoa'!FA22:FE22)","v":1093},{"$f":"SUM('2016 syoa'!BR22:BV22)+SUM('2016 syoa'!FF22:FJ22)","v":678},{"$f":"SUM('2016 syoa'!BW22:CA22)+SUM('2016 syoa'!FK22:FO22)","v":604},{"$f":"SUM('2016 syoa'!CB22:CF22)+SUM('2016 syoa'!FP22:FT22)","v":563},{"$f":"SUM('2016 syoa'!CG22:CK22)+SUM('2016 syoa'!FU22:FY22)","v":452},{"$f":"SUM('2016 syoa'!CL22:CP22)+SUM('2016 syoa'!FZ22:GD22)","v":250},{"$f":"SUM('2016 syoa'!CQ22)+SUM('2016 syoa'!GE22)","v":102}]
["E05001196","Moseley and Kings Heath","Hall Green",{"$f":"SUM('2016 syoa'!D23)+SUM('2016 syoa'!CR23)","v":25618},{"$f":"SUM('2016 syoa'!E23:I23)+SUM('2016 syoa'!CS23:CW23)","v":1583},{"$f":"SUM('2016 syoa'!J23:N23)+SUM('2016 syoa'!CX23:DB23)","v":1432},{"$f":"SUM('2016 syoa'!O23:S23)+SUM('2016 syoa'!DC23:DG23)","v":1237},{"$f":"SUM('2016 syoa'!T23:X23)+SUM('2016 syoa'!DH23:DL23)","v":1369},{"$f":"SUM('2016 syoa'!Y23:AC23)+SUM('2016 syoa'!DM23:DQ23)","v":1798},{"$f":"SUM('2016 syoa'!AD23:AH23)+SUM('2016 syoa'!DR23:DV23)","v":2456},{"$f":"SUM('2016 syoa'!AI23:AM23)+SUM('2016 syoa'!DW23:EA23)","v":2222},{"$f":"SUM('2016 syoa'!AN23:AR23)+SUM('2016 syoa'!EB23:EF23)","v":1946},{"$f":"SUM('2016 syoa'!AS23:AW23)+SUM('2016 syoa'!EG23:EK23)","v":1840},{"$f":"SUM('2016 syoa'!AX23:BB23)+SUM('2016 syoa'!EL23:EP23)","v":1848},{"$f":"SUM('2016 syoa'!BC23:BG23)+SUM('2016 syoa'!EQ23:EU23)","v":1663},{"$f":"SUM('2016 syoa'!BH23:BL23)+SUM('2016 syoa'!EV23:EZ23)","v":1434},{"$f":"SUM('2016 syoa'!BM23:BQ23)+SUM('2016 syoa'!FA23:FE23)","v":1304},{"$f":"SUM('2016 syoa'!BR23:BV23)+SUM('2016 syoa'!FF23:FJ23)","v":1162},{"$f":"SUM('2016 syoa'!BW23:CA23)+SUM('2016 syoa'!FK23:FO23)","v":742},{"$f":"SUM('2016 syoa'!CB23:CF23)+SUM('2016 syoa'!FP23:FT23)","v":586},{"$f":"SUM('2016 syoa'!CG23:CK23)+SUM('2016 syoa'!FU23:FY23)","v":520},{"$f":"SUM('2016 syoa'!CL23:CP23)+SUM('2016 syoa'!FZ23:GD23)","v":277},{"$f":"SUM('2016 syoa'!CQ23)+SUM('2016 syoa'!GE23)","v":199}]
["E05001197","Nechells","Ladywood",{"$f":"SUM('2016 syoa'!D24)+SUM('2016 syoa'!CR24)","v":39104},{"$f":"SUM('2016 syoa'!E24:I24)+SUM('2016 syoa'!CS24:CW24)","v":3455},{"$f":"SUM('2016 syoa'!J24:N24)+SUM('2016 syoa'!CX24:DB24)","v":3042},{"$f":"SUM('2016 syoa'!O24:S24)+SUM('2016 syoa'!DC24:DG24)","v":2655},{"$f":"SUM('2016 syoa'!T24:X24)+SUM('2016 syoa'!DH24:DL24)","v":4104},{"$f":"SUM('2016 syoa'!Y24:AC24)+SUM('2016 syoa'!DM24:DQ24)","v":6561},{"$f":"SUM('2016 syoa'!AD24:AH24)+SUM('2016 syoa'!DR24:DV24)","v":3935},{"$f":"SUM('2016 syoa'!AI24:AM24)+SUM('2016 syoa'!DW24:EA24)","v":3011},{"$f":"SUM('2016 syoa'!AN24:AR24)+SUM('2016 syoa'!EB24:EF24)","v":2455},{"$f":"SUM('2016 syoa'!AS24:AW24)+SUM('2016 syoa'!EG24:EK24)","v":1994},{"$f":"SUM('2016 syoa'!AX24:BB24)+SUM('2016 syoa'!EL24:EP24)","v":1815},{"$f":"SUM('2016 syoa'!BC24:BG24)+SUM('2016 syoa'!EQ24:EU24)","v":1501},{"$f":"SUM('2016 syoa'!BH24:BL24)+SUM('2016 syoa'!EV24:EZ24)","v":1236},{"$f":"SUM('2016 syoa'!BM24:BQ24)+SUM('2016 syoa'!FA24:FE24)","v":936},{"$f":"SUM('2016 syoa'!BR24:BV24)+SUM('2016 syoa'!FF24:FJ24)","v":672},{"$f":"SUM('2016 syoa'!BW24:CA24)+SUM('2016 syoa'!FK24:FO24)","v":567},{"$f":"SUM('2016 syoa'!CB24:CF24)+SUM('2016 syoa'!FP24:FT24)","v":500},{"$f":"SUM('2016 syoa'!CG24:CK24)+SUM('2016 syoa'!FU24:FY24)","v":384},{"$f":"SUM('2016 syoa'!CL24:CP24)+SUM('2016 syoa'!FZ24:GD24)","v":198},{"$f":"SUM('2016 syoa'!CQ24)+SUM('2016 syoa'!GE24)","v":83}]
["E05001198","Northfield","Northfield",{"$f":"SUM('2016 syoa'!D25)+SUM('2016 syoa'!CR25)","v":26251},{"$f":"SUM('2016 syoa'!E25:I25)+SUM('2016 syoa'!CS25:CW25)","v":1873},{"$f":"SUM('2016 syoa'!J25:N25)+SUM('2016 syoa'!CX25:DB25)","v":1571},{"$f":"SUM('2016 syoa'!O25:S25)+SUM('2016 syoa'!DC25:DG25)","v":1496},{"$f":"SUM('2016 syoa'!T25:X25)+SUM('2016 syoa'!DH25:DL25)","v":1444},{"$f":"SUM('2016 syoa'!Y25:AC25)+SUM('2016 syoa'!DM25:DQ25)","v":1778},{"$f":"SUM('2016 syoa'!AD25:AH25)+SUM('2016 syoa'!DR25:DV25)","v":1868},{"$f":"SUM('2016 syoa'!AI25:AM25)+SUM('2016 syoa'!DW25:EA25)","v":1613},{"$f":"SUM('2016 syoa'!AN25:AR25)+SUM('2016 syoa'!EB25:EF25)","v":1504},{"$f":"SUM('2016 syoa'!AS25:AW25)+SUM('2016 syoa'!EG25:EK25)","v":1583},{"$f":"SUM('2016 syoa'!AX25:BB25)+SUM('2016 syoa'!EL25:EP25)","v":1779},{"$f":"SUM('2016 syoa'!BC25:BG25)+SUM('2016 syoa'!EQ25:EU25)","v":1978},{"$f":"SUM('2016 syoa'!BH25:BL25)+SUM('2016 syoa'!EV25:EZ25)","v":1632},{"$f":"SUM('2016 syoa'!BM25:BQ25)+SUM('2016 syoa'!FA25:FE25)","v":1384},{"$f":"SUM('2016 syoa'!BR25:BV25)+SUM('2016 syoa'!FF25:FJ25)","v":1473},{"$f":"SUM('2016 syoa'!BW25:CA25)+SUM('2016 syoa'!FK25:FO25)","v":1134},{"$f":"SUM('2016 syoa'!CB25:CF25)+SUM('2016 syoa'!FP25:FT25)","v":843},{"$f":"SUM('2016 syoa'!CG25:CK25)+SUM('2016 syoa'!FU25:FY25)","v":676},{"$f":"SUM('2016 syoa'!CL25:CP25)+SUM('2016 syoa'!FZ25:GD25)","v":394},{"$f":"SUM('2016 syoa'!CQ25)+SUM('2016 syoa'!GE25)","v":228}]
["E05001199","Oscott","Perry Barr",{"$f":"SUM('2016 syoa'!D26)+SUM('2016 syoa'!CR26)","v":25069},{"$f":"SUM('2016 syoa'!E26:I26)+SUM('2016 syoa'!CS26:CW26)","v":1918},{"$f":"SUM('2016 syoa'!J26:N26)+SUM('2016 syoa'!CX26:DB26)","v":1647},{"$f":"SUM('2016 syoa'!O26:S26)+SUM('2016 syoa'!DC26:DG26)","v":1410},{"$f":"SUM('2016 syoa'!T26:X26)+SUM('2016 syoa'!DH26:DL26)","v":1509},{"$f":"SUM('2016 syoa'!Y26:AC26)+SUM('2016 syoa'!DM26:DQ26)","v":1684},{"$f":"SUM('2016 syoa'!AD26:AH26)+SUM('2016 syoa'!DR26:DV26)","v":1902},{"$f":"SUM('2016 syoa'!AI26:AM26)+SUM('2016 syoa'!DW26:EA26)","v":1653},{"$f":"SUM('2016 syoa'!AN26:AR26)+SUM('2016 syoa'!EB26:EF26)","v":1478},{"$f":"SUM('2016 syoa'!AS26:AW26)+SUM('2016 syoa'!EG26:EK26)","v":1478},{"$f":"SUM('2016 syoa'!AX26:BB26)+SUM('2016 syoa'!EL26:EP26)","v":1792},{"$f":"SUM('2016 syoa'!BC26:BG26)+SUM('2016 syoa'!EQ26:EU26)","v":1781},{"$f":"SUM('2016 syoa'!BH26:BL26)+SUM('2016 syoa'!EV26:EZ26)","v":1459},{"$f":"SUM('2016 syoa'!BM26:BQ26)+SUM('2016 syoa'!FA26:FE26)","v":1149},{"$f":"SUM('2016 syoa'!BR26:BV26)+SUM('2016 syoa'!FF26:FJ26)","v":1131},{"$f":"SUM('2016 syoa'!BW26:CA26)+SUM('2016 syoa'!FK26:FO26)","v":1081},{"$f":"SUM('2016 syoa'!CB26:CF26)+SUM('2016 syoa'!FP26:FT26)","v":807},{"$f":"SUM('2016 syoa'!CG26:CK26)+SUM('2016 syoa'!FU26:FY26)","v":622},{"$f":"SUM('2016 syoa'!CL26:CP26)+SUM('2016 syoa'!FZ26:GD26)","v":364},{"$f":"SUM('2016 syoa'!CQ26)+SUM('2016 syoa'!GE26)","v":204}]
["E05001200","Perry Barr","Perry Barr",{"$f":"SUM('2016 syoa'!D27)+SUM('2016 syoa'!CR27)","v":24274},{"$f":"SUM('2016 syoa'!E27:I27)+SUM('2016 syoa'!CS27:CW27)","v":1783},{"$f":"SUM('2016 syoa'!J27:N27)+SUM('2016 syoa'!CX27:DB27)","v":1817},{"$f":"SUM('2016 syoa'!O27:S27)+SUM('2016 syoa'!DC27:DG27)","v":1630},{"$f":"SUM('2016 syoa'!T27:X27)+SUM('2016 syoa'!DH27:DL27)","v":1861},{"$f":"SUM('2016 syoa'!Y27:AC27)+SUM('2016 syoa'!DM27:DQ27)","v":2104},{"$f":"SUM('2016 syoa'!AD27:AH27)+SUM('2016 syoa'!DR27:DV27)","v":1819},{"$f":"SUM('2016 syoa'!AI27:AM27)+SUM('2016 syoa'!DW27:EA27)","v":1763},{"$f":"SUM('2016 syoa'!AN27:AR27)+SUM('2016 syoa'!EB27:EF27)","v":1633},{"$f":"SUM('2016 syoa'!AS27:AW27)+SUM('2016 syoa'!EG27:EK27)","v":1413},{"$f":"SUM('2016 syoa'!AX27:BB27)+SUM('2016 syoa'!EL27:EP27)","v":1555},{"$f":"SUM('2016 syoa'!BC27:BG27)+SUM('2016 syoa'!EQ27:EU27)","v":1500},{"$f":"SUM('2016 syoa'!BH27:BL27)+SUM('2016 syoa'!EV27:EZ27)","v":1247},{"$f":"SUM('2016 syoa'!BM27:BQ27)+SUM('2016 syoa'!FA27:FE27)","v":920},{"$f":"SUM('2016 syoa'!BR27:BV27)+SUM('2016 syoa'!FF27:FJ27)","v":891},{"$f":"SUM('2016 syoa'!BW27:CA27)+SUM('2016 syoa'!FK27:FO27)","v":798},{"$f":"SUM('2016 syoa'!CB27:CF27)+SUM('2016 syoa'!FP27:FT27)","v":624},{"$f":"SUM('2016 syoa'!CG27:CK27)+SUM('2016 syoa'!FU27:FY27)","v":496},{"$f":"SUM('2016 syoa'!CL27:CP27)+SUM('2016 syoa'!FZ27:GD27)","v":277},{"$f":"SUM('2016 syoa'!CQ27)+SUM('2016 syoa'!GE27)","v":143}]
["E05001201","Quinton","Edgbaston",{"$f":"SUM('2016 syoa'!D28)+SUM('2016 syoa'!CR28)","v":24390},{"$f":"SUM('2016 syoa'!E28:I28)+SUM('2016 syoa'!CS28:CW28)","v":1898},{"$f":"SUM('2016 syoa'!J28:N28)+SUM('2016 syoa'!CX28:DB28)","v":1760},{"$f":"SUM('2016 syoa'!O28:S28)+SUM('2016 syoa'!DC28:DG28)","v":1608},{"$f":"SUM('2016 syoa'!T28:X28)+SUM('2016 syoa'!DH28:DL28)","v":1523},{"$f":"SUM('2016 syoa'!Y28:AC28)+SUM('2016 syoa'!DM28:DQ28)","v":1469},{"$f":"SUM('2016 syoa'!AD28:AH28)+SUM('2016 syoa'!DR28:DV28)","v":1665},{"$f":"SUM('2016 syoa'!AI28:AM28)+SUM('2016 syoa'!DW28:EA28)","v":1741},{"$f":"SUM('2016 syoa'!AN28:AR28)+SUM('2016 syoa'!EB28:EF28)","v":1589},{"$f":"SUM('2016 syoa'!AS28:AW28)+SUM('2016 syoa'!EG28:EK28)","v":1600},{"$f":"SUM('2016 syoa'!AX28:BB28)+SUM('2016 syoa'!EL28:EP28)","v":1655},{"$f":"SUM('2016 syoa'!BC28:BG28)+SUM('2016 syoa'!EQ28:EU28)","v":1493},{"$f":"SUM('2016 syoa'!BH28:BL28)+SUM('2016 syoa'!EV28:EZ28)","v":1345},{"$f":"SUM('2016 syoa'!BM28:BQ28)+SUM('2016 syoa'!FA28:FE28)","v":1143},{"$f":"SUM('2016 syoa'!BR28:BV28)+SUM('2016 syoa'!FF28:FJ28)","v":1109},{"$f":"SUM('2016 syoa'!BW28:CA28)+SUM('2016 syoa'!FK28:FO28)","v":931},{"$f":"SUM('2016 syoa'!CB28:CF28)+SUM('2016 syoa'!FP28:FT28)","v":728},{"$f":"SUM('2016 syoa'!CG28:CK28)+SUM('2016 syoa'!FU28:FY28)","v":622},{"$f":"SUM('2016 syoa'!CL28:CP28)+SUM('2016 syoa'!FZ28:GD28)","v":333},{"$f":"SUM('2016 syoa'!CQ28)+SUM('2016 syoa'!GE28)","v":178}]
["E05001202","Selly Oak","Selly Oak",{"$f":"SUM('2016 syoa'!D29)+SUM('2016 syoa'!CR29)","v":28447},{"$f":"SUM('2016 syoa'!E29:I29)+SUM('2016 syoa'!CS29:CW29)","v":1042},{"$f":"SUM('2016 syoa'!J29:N29)+SUM('2016 syoa'!CX29:DB29)","v":924},{"$f":"SUM('2016 syoa'!O29:S29)+SUM('2016 syoa'!DC29:DG29)","v":704},{"$f":"SUM('2016 syoa'!T29:X29)+SUM('2016 syoa'!DH29:DL29)","v":1915},{"$f":"SUM('2016 syoa'!Y29:AC29)+SUM('2016 syoa'!DM29:DQ29)","v":13224},{"$f":"SUM('2016 syoa'!AD29:AH29)+SUM('2016 syoa'!DR29:DV29)","v":2083},{"$f":"SUM('2016 syoa'!AI29:AM29)+SUM('2016 syoa'!DW29:EA29)","v":1225},{"$f":"SUM('2016 syoa'!AN29:AR29)+SUM('2016 syoa'!EB29:EF29)","v":1199},{"$f":"SUM('2016 syoa'!AS29:AW29)+SUM('2016 syoa'!EG29:EK29)","v":1023},{"$f":"SUM('2016 syoa'!AX29:BB29)+SUM('2016 syoa'!EL29:EP29)","v":834},{"$f":"SUM('2016 syoa'!BC29:BG29)+SUM('2016 syoa'!EQ29:EU29)","v":768},{"$f":"SUM('2016 syoa'!BH29:BL29)+SUM('2016 syoa'!EV29:EZ29)","v":695},{"$f":"SUM('2016 syoa'!BM29:BQ29)+SUM('2016 syoa'!FA29:FE29)","v":652},{"$f":"SUM('2016 syoa'!BR29:BV29)+SUM('2016 syoa'!FF29:FJ29)","v":591},{"$f":"SUM('2016 syoa'!BW29:CA29)+SUM('2016 syoa'!FK29:FO29)","v":452},{"$f":"SUM('2016 syoa'!CB29:CF29)+SUM('2016 syoa'!FP29:FT29)","v":441},{"$f":"SUM('2016 syoa'!CG29:CK29)+SUM('2016 syoa'!FU29:FY29)","v":326},{"$f":"SUM('2016 syoa'!CL29:CP29)+SUM('2016 syoa'!FZ29:GD29)","v":222},{"$f":"SUM('2016 syoa'!CQ29)+SUM('2016 syoa'!GE29)","v":127}]
["E05001203","Shard End","Hodge Hill",{"$f":"SUM('2016 syoa'!D30)+SUM('2016 syoa'!CR30)","v":27793},{"$f":"SUM('2016 syoa'!E30:I30)+SUM('2016 syoa'!CS30:CW30)","v":2442},{"$f":"SUM('2016 syoa'!J30:N30)+SUM('2016 syoa'!CX30:DB30)","v":2274},{"$f":"SUM('2016 syoa'!O30:S30)+SUM('2016 syoa'!DC30:DG30)","v":1823},{"$f":"SUM('2016 syoa'!T30:X30)+SUM('2016 syoa'!DH30:DL30)","v":1609},{"$f":"SUM('2016 syoa'!Y30:AC30)+SUM('2016 syoa'!DM30:DQ30)","v":1915},{"$f":"SUM('2016 syoa'!AD30:AH30)+SUM('2016 syoa'!DR30:DV30)","v":2216},{"$f":"SUM('2016 syoa'!AI30:AM30)+SUM('2016 syoa'!DW30:EA30)","v":2051},{"$f":"SUM('2016 syoa'!AN30:AR30)+SUM('2016 syoa'!EB30:EF30)","v":1660},{"$f":"SUM('2016 syoa'!AS30:AW30)+SUM('2016 syoa'!EG30:EK30)","v":1600},{"$f":"SUM('2016 syoa'!AX30:BB30)+SUM('2016 syoa'!EL30:EP30)","v":1789},{"$f":"SUM('2016 syoa'!BC30:BG30)+SUM('2016 syoa'!EQ30:EU30)","v":1672},{"$f":"SUM('2016 syoa'!BH30:BL30)+SUM('2016 syoa'!EV30:EZ30)","v":1468},{"$f":"SUM('2016 syoa'!BM30:BQ30)+SUM('2016 syoa'!FA30:FE30)","v":1230},{"$f":"SUM('2016 syoa'!BR30:BV30)+SUM('2016 syoa'!FF30:FJ30)","v":1281},{"$f":"SUM('2016 syoa'!BW30:CA30)+SUM('2016 syoa'!FK30:FO30)","v":956},{"$f":"SUM('2016 syoa'!CB30:CF30)+SUM('2016 syoa'!FP30:FT30)","v":647},{"$f":"SUM('2016 syoa'!CG30:CK30)+SUM('2016 syoa'!FU30:FY30)","v":549},{"$f":"SUM('2016 syoa'!CL30:CP30)+SUM('2016 syoa'!FZ30:GD30)","v":331},{"$f":"SUM('2016 syoa'!CQ30)+SUM('2016 syoa'!GE30)","v":280}]
["E05001204","Sheldon","Yardley",{"$f":"SUM('2016 syoa'!D31)+SUM('2016 syoa'!CR31)","v":23093},{"$f":"SUM('2016 syoa'!E31:I31)+SUM('2016 syoa'!CS31:CW31)","v":1659},{"$f":"SUM('2016 syoa'!J31:N31)+SUM('2016 syoa'!CX31:DB31)","v":1466},{"$f":"SUM('2016 syoa'!O31:S31)+SUM('2016 syoa'!DC31:DG31)","v":1445},{"$f":"SUM('2016 syoa'!T31:X31)+SUM('2016 syoa'!DH31:DL31)","v":1356},{"$f":"SUM('2016 syoa'!Y31:AC31)+SUM('2016 syoa'!DM31:DQ31)","v":1505},{"$f":"SUM('2016 syoa'!AD31:AH31)+SUM('2016 syoa'!DR31:DV31)","v":1699},{"$f":"SUM('2016 syoa'!AI31:AM31)+SUM('2016 syoa'!DW31:EA31)","v":1515},{"$f":"SUM('2016 syoa'!AN31:AR31)+SUM('2016 syoa'!EB31:EF31)","v":1374},{"$f":"SUM('2016 syoa'!AS31:AW31)+SUM('2016 syoa'!EG31:EK31)","v":1317},{"$f":"SUM('2016 syoa'!AX31:BB31)+SUM('2016 syoa'!EL31:EP31)","v":1571},{"$f":"SUM('2016 syoa'!BC31:BG31)+SUM('2016 syoa'!EQ31:EU31)","v":1700},{"$f":"SUM('2016 syoa'!BH31:BL31)+SUM('2016 syoa'!EV31:EZ31)","v":1395},{"$f":"SUM('2016 syoa'!BM31:BQ31)+SUM('2016 syoa'!FA31:FE31)","v":1070},{"$f":"SUM('2016 syoa'!BR31:BV31)+SUM('2016 syoa'!FF31:FJ31)","v":1056},{"$f":"SUM('2016 syoa'!BW31:CA31)+SUM('2016 syoa'!FK31:FO31)","v":1002},{"$f":"SUM('2016 syoa'!CB31:CF31)+SUM('2016 syoa'!FP31:FT31)","v":778},{"$f":"SUM('2016 syoa'!CG31:CK31)+SUM('2016 syoa'!FU31:FY31)","v":613},{"$f":"SUM('2016 syoa'!CL31:CP31)+SUM('2016 syoa'!FZ31:GD31)","v":348},{"$f":"SUM('2016 syoa'!CQ31)+SUM('2016 syoa'!GE31)","v":224}]
["E05001205","Soho","Ladywood",{"$f":"SUM('2016 syoa'!D32)+SUM('2016 syoa'!CR32)","v":32760},{"$f":"SUM('2016 syoa'!E32:I32)+SUM('2016 syoa'!CS32:CW32)","v":2928},{"$f":"SUM('2016 syoa'!J32:N32)+SUM('2016 syoa'!CX32:DB32)","v":2844},{"$f":"SUM('2016 syoa'!O32:S32)+SUM('2016 syoa'!DC32:DG32)","v":2494},{"$f":"SUM('2016 syoa'!T32:X32)+SUM('2016 syoa'!DH32:DL32)","v":2302},{"$f":"SUM('2016 syoa'!Y32:AC32)+SUM('2016 syoa'!DM32:DQ32)","v":2670},{"$f":"SUM('2016 syoa'!AD32:AH32)+SUM('2016 syoa'!DR32:DV32)","v":3002},{"$f":"SUM('2016 syoa'!AI32:AM32)+SUM('2016 syoa'!DW32:EA32)","v":2913},{"$f":"SUM('2016 syoa'!AN32:AR32)+SUM('2016 syoa'!EB32:EF32)","v":2638},{"$f":"SUM('2016 syoa'!AS32:AW32)+SUM('2016 syoa'!EG32:EK32)","v":2243},{"$f":"SUM('2016 syoa'!AX32:BB32)+SUM('2016 syoa'!EL32:EP32)","v":2031},{"$f":"SUM('2016 syoa'!BC32:BG32)+SUM('2016 syoa'!EQ32:EU32)","v":1631},{"$f":"SUM('2016 syoa'!BH32:BL32)+SUM('2016 syoa'!EV32:EZ32)","v":1308},{"$f":"SUM('2016 syoa'!BM32:BQ32)+SUM('2016 syoa'!FA32:FE32)","v":1042},{"$f":"SUM('2016 syoa'!BR32:BV32)+SUM('2016 syoa'!FF32:FJ32)","v":733},{"$f":"SUM('2016 syoa'!BW32:CA32)+SUM('2016 syoa'!FK32:FO32)","v":584},{"$f":"SUM('2016 syoa'!CB32:CF32)+SUM('2016 syoa'!FP32:FT32)","v":582},{"$f":"SUM('2016 syoa'!CG32:CK32)+SUM('2016 syoa'!FU32:FY32)","v":400},{"$f":"SUM('2016 syoa'!CL32:CP32)+SUM('2016 syoa'!FZ32:GD32)","v":269},{"$f":"SUM('2016 syoa'!CQ32)+SUM('2016 syoa'!GE32)","v":146}]
["E05001206","South Yardley","Yardley",{"$f":"SUM('2016 syoa'!D33)+SUM('2016 syoa'!CR33)","v":32453},{"$f":"SUM('2016 syoa'!E33:I33)+SUM('2016 syoa'!CS33:CW33)","v":2994},{"$f":"SUM('2016 syoa'!J33:N33)+SUM('2016 syoa'!CX33:DB33)","v":2909},{"$f":"SUM('2016 syoa'!O33:S33)+SUM('2016 syoa'!DC33:DG33)","v":2586},{"$f":"SUM('2016 syoa'!T33:X33)+SUM('2016 syoa'!DH33:DL33)","v":2245},{"$f":"SUM('2016 syoa'!Y33:AC33)+SUM('2016 syoa'!DM33:DQ33)","v":2120},{"$f":"SUM('2016 syoa'!AD33:AH33)+SUM('2016 syoa'!DR33:DV33)","v":2684},{"$f":"SUM('2016 syoa'!AI33:AM33)+SUM('2016 syoa'!DW33:EA33)","v":2415},{"$f":"SUM('2016 syoa'!AN33:AR33)+SUM('2016 syoa'!EB33:EF33)","v":2382},{"$f":"SUM('2016 syoa'!AS33:AW33)+SUM('2016 syoa'!EG33:EK33)","v":2044},{"$f":"SUM('2016 syoa'!AX33:BB33)+SUM('2016 syoa'!EL33:EP33)","v":1881},{"$f":"SUM('2016 syoa'!BC33:BG33)+SUM('2016 syoa'!EQ33:EU33)","v":1917},{"$f":"SUM('2016 syoa'!BH33:BL33)+SUM('2016 syoa'!EV33:EZ33)","v":1600},{"$f":"SUM('2016 syoa'!BM33:BQ33)+SUM('2016 syoa'!FA33:FE33)","v":1255},{"$f":"SUM('2016 syoa'!BR33:BV33)+SUM('2016 syoa'!FF33:FJ33)","v":1055},{"$f":"SUM('2016 syoa'!BW33:CA33)+SUM('2016 syoa'!FK33:FO33)","v":784},{"$f":"SUM('2016 syoa'!CB33:CF33)+SUM('2016 syoa'!FP33:FT33)","v":644},{"$f":"SUM('2016 syoa'!CG33:CK33)+SUM('2016 syoa'!FU33:FY33)","v":517},{"$f":"SUM('2016 syoa'!CL33:CP33)+SUM('2016 syoa'!FZ33:GD33)","v":305},{"$f":"SUM('2016 syoa'!CQ33)+SUM('2016 syoa'!GE33)","v":116}]
["E05001207","Sparkbrook","Hall Green",{"$f":"SUM('2016 syoa'!D34)+SUM('2016 syoa'!CR34)","v":33424},{"$f":"SUM('2016 syoa'!E34:I34)+SUM('2016 syoa'!CS34:CW34)","v":2874},{"$f":"SUM('2016 syoa'!J34:N34)+SUM('2016 syoa'!CX34:DB34)","v":3040},{"$f":"SUM('2016 syoa'!O34:S34)+SUM('2016 syoa'!DC34:DG34)","v":2951},{"$f":"SUM('2016 syoa'!T34:X34)+SUM('2016 syoa'!DH34:DL34)","v":2969},{"$f":"SUM('2016 syoa'!Y34:AC34)+SUM('2016 syoa'!DM34:DQ34)","v":2979},{"$f":"SUM('2016 syoa'!AD34:AH34)+SUM('2016 syoa'!DR34:DV34)","v":3013},{"$f":"SUM('2016 syoa'!AI34:AM34)+SUM('2016 syoa'!DW34:EA34)","v":2783},{"$f":"SUM('2016 syoa'!AN34:AR34)+SUM('2016 syoa'!EB34:EF34)","v":2329},{"$f":"SUM('2016 syoa'!AS34:AW34)+SUM('2016 syoa'!EG34:EK34)","v":2046},{"$f":"SUM('2016 syoa'!AX34:BB34)+SUM('2016 syoa'!EL34:EP34)","v":1781},{"$f":"SUM('2016 syoa'!BC34:BG34)+SUM('2016 syoa'!EQ34:EU34)","v":1475},{"$f":"SUM('2016 syoa'!BH34:BL34)+SUM('2016 syoa'!EV34:EZ34)","v":1314},{"$f":"SUM('2016 syoa'!BM34:BQ34)+SUM('2016 syoa'!FA34:FE34)","v":1116},{"$f":"SUM('2016 syoa'!BR34:BV34)+SUM('2016 syoa'!FF34:FJ34)","v":731},{"$f":"SUM('2016 syoa'!BW34:CA34)+SUM('2016 syoa'!FK34:FO34)","v":583},{"$f":"SUM('2016 syoa'!CB34:CF34)+SUM('2016 syoa'!FP34:FT34)","v":584},{"$f":"SUM('2016 syoa'!CG34:CK34)+SUM('2016 syoa'!FU34:FY34)","v":488},{"$f":"SUM('2016 syoa'!CL34:CP34)+SUM('2016 syoa'!FZ34:GD34)","v":255},{"$f":"SUM('2016 syoa'!CQ34)+SUM('2016 syoa'!GE34)","v":113}]
["E05001208","Springfield","Hall Green",{"$f":"SUM('2016 syoa'!D35)+SUM('2016 syoa'!CR35)","v":33405},{"$f":"SUM('2016 syoa'!E35:I35)+SUM('2016 syoa'!CS35:CW35)","v":2970},{"$f":"SUM('2016 syoa'!J35:N35)+SUM('2016 syoa'!CX35:DB35)","v":3013},{"$f":"SUM('2016 syoa'!O35:S35)+SUM('2016 syoa'!DC35:DG35)","v":2986},{"$f":"SUM('2016 syoa'!T35:X35)+SUM('2016 syoa'!DH35:DL35)","v":2767},{"$f":"SUM('2016 syoa'!Y35:AC35)+SUM('2016 syoa'!DM35:DQ35)","v":2616},{"$f":"SUM('2016 syoa'!AD35:AH35)+SUM('2016 syoa'!DR35:DV35)","v":2705},{"$f":"SUM('2016 syoa'!AI35:AM35)+SUM('2016 syoa'!DW35:EA35)","v":2642},{"$f":"SUM('2016 syoa'!AN35:AR35)+SUM('2016 syoa'!EB35:EF35)","v":2499},{"$f":"SUM('2016 syoa'!AS35:AW35)+SUM('2016 syoa'!EG35:EK35)","v":2110},{"$f":"SUM('2016 syoa'!AX35:BB35)+SUM('2016 syoa'!EL35:EP35)","v":1944},{"$f":"SUM('2016 syoa'!BC35:BG35)+SUM('2016 syoa'!EQ35:EU35)","v":1492},{"$f":"SUM('2016 syoa'!BH35:BL35)+SUM('2016 syoa'!EV35:EZ35)","v":1310},{"$f":"SUM('2016 syoa'!BM35:BQ35)+SUM('2016 syoa'!FA35:FE35)","v":1224},{"$f":"SUM('2016 syoa'!BR35:BV35)+SUM('2016 syoa'!FF35:FJ35)","v":910},{"$f":"SUM('2016 syoa'!BW35:CA35)+SUM('2016 syoa'!FK35:FO35)","v":695},{"$f":"SUM('2016 syoa'!CB35:CF35)+SUM('2016 syoa'!FP35:FT35)","v":613},{"$f":"SUM('2016 syoa'!CG35:CK35)+SUM('2016 syoa'!FU35:FY35)","v":481},{"$f":"SUM('2016 syoa'!CL35:CP35)+SUM('2016 syoa'!FZ35:GD35)","v":284},{"$f":"SUM('2016 syoa'!CQ35)+SUM('2016 syoa'!GE35)","v":144}]
["E05001209","Stechford and Yardley North","Yardley",{"$f":"SUM('2016 syoa'!D36)+SUM('2016 syoa'!CR36)","v":27182},{"$f":"SUM('2016 syoa'!E36:I36)+SUM('2016 syoa'!CS36:CW36)","v":2242},{"$f":"SUM('2016 syoa'!J36:N36)+SUM('2016 syoa'!CX36:DB36)","v":2217},{"$f":"SUM('2016 syoa'!O36:S36)+SUM('2016 syoa'!DC36:DG36)","v":1981},{"$f":"SUM('2016 syoa'!T36:X36)+SUM('2016 syoa'!DH36:DL36)","v":1887},{"$f":"SUM('2016 syoa'!Y36:AC36)+SUM('2016 syoa'!DM36:DQ36)","v":1888},{"$f":"SUM('2016 syoa'!AD36:AH36)+SUM('2016 syoa'!DR36:DV36)","v":2064},{"$f":"SUM('2016 syoa'!AI36:AM36)+SUM('2016 syoa'!DW36:EA36)","v":1869},{"$f":"SUM('2016 syoa'!AN36:AR36)+SUM('2016 syoa'!EB36:EF36)","v":1634},{"$f":"SUM('2016 syoa'!AS36:AW36)+SUM('2016 syoa'!EG36:EK36)","v":1540},{"$f":"SUM('2016 syoa'!AX36:BB36)+SUM('2016 syoa'!EL36:EP36)","v":1692},{"$f":"SUM('2016 syoa'!BC36:BG36)+SUM('2016 syoa'!EQ36:EU36)","v":1696},{"$f":"SUM('2016 syoa'!BH36:BL36)+SUM('2016 syoa'!EV36:EZ36)","v":1420},{"$f":"SUM('2016 syoa'!BM36:BQ36)+SUM('2016 syoa'!FA36:FE36)","v":1198},{"$f":"SUM('2016 syoa'!BR36:BV36)+SUM('2016 syoa'!FF36:FJ36)","v":1069},{"$f":"SUM('2016 syoa'!BW36:CA36)+SUM('2016 syoa'!FK36:FO36)","v":904},{"$f":"SUM('2016 syoa'!CB36:CF36)+SUM('2016 syoa'!FP36:FT36)","v":735},{"$f":"SUM('2016 syoa'!CG36:CK36)+SUM('2016 syoa'!FU36:FY36)","v":575},{"$f":"SUM('2016 syoa'!CL36:CP36)+SUM('2016 syoa'!FZ36:GD36)","v":361},{"$f":"SUM('2016 syoa'!CQ36)+SUM('2016 syoa'!GE36)","v":210}]
["E05001210","Stockland Green","Erdington",{"$f":"SUM('2016 syoa'!D37)+SUM('2016 syoa'!CR37)","v":26291},{"$f":"SUM('2016 syoa'!E37:I37)+SUM('2016 syoa'!CS37:CW37)","v":1985},{"$f":"SUM('2016 syoa'!J37:N37)+SUM('2016 syoa'!CX37:DB37)","v":1713},{"$f":"SUM('2016 syoa'!O37:S37)+SUM('2016 syoa'!DC37:DG37)","v":1552},{"$f":"SUM('2016 syoa'!T37:X37)+SUM('2016 syoa'!DH37:DL37)","v":1574},{"$f":"SUM('2016 syoa'!Y37:AC37)+SUM('2016 syoa'!DM37:DQ37)","v":2146},{"$f":"SUM('2016 syoa'!AD37:AH37)+SUM('2016 syoa'!DR37:DV37)","v":2334},{"$f":"SUM('2016 syoa'!AI37:AM37)+SUM('2016 syoa'!DW37:EA37)","v":2330},{"$f":"SUM('2016 syoa'!AN37:AR37)+SUM('2016 syoa'!EB37:EF37)","v":1902},{"$f":"SUM('2016 syoa'!AS37:AW37)+SUM('2016 syoa'!EG37:EK37)","v":1620},{"$f":"SUM('2016 syoa'!AX37:BB37)+SUM('2016 syoa'!EL37:EP37)","v":1768},{"$f":"SUM('2016 syoa'!BC37:BG37)+SUM('2016 syoa'!EQ37:EU37)","v":1791},{"$f":"SUM('2016 syoa'!BH37:BL37)+SUM('2016 syoa'!EV37:EZ37)","v":1411},{"$f":"SUM('2016 syoa'!BM37:BQ37)+SUM('2016 syoa'!FA37:FE37)","v":1073},{"$f":"SUM('2016 syoa'!BR37:BV37)+SUM('2016 syoa'!FF37:FJ37)","v":949},{"$f":"SUM('2016 syoa'!BW37:CA37)+SUM('2016 syoa'!FK37:FO37)","v":698},{"$f":"SUM('2016 syoa'!CB37:CF37)+SUM('2016 syoa'!FP37:FT37)","v":584},{"$f":"SUM('2016 syoa'!CG37:CK37)+SUM('2016 syoa'!FU37:FY37)","v":418},{"$f":"SUM('2016 syoa'!CL37:CP37)+SUM('2016 syoa'!FZ37:GD37)","v":314},{"$f":"SUM('2016 syoa'!CQ37)+SUM('2016 syoa'!GE37)","v":129}]
["E05001211","Sutton Four Oaks","Sutton Coldfield",{"$f":"SUM('2016 syoa'!D38)+SUM('2016 syoa'!CR38)","v":24639},{"$f":"SUM('2016 syoa'!E38:I38)+SUM('2016 syoa'!CS38:CW38)","v":1409},{"$f":"SUM('2016 syoa'!J38:N38)+SUM('2016 syoa'!CX38:DB38)","v":1558},{"$f":"SUM('2016 syoa'!O38:S38)+SUM('2016 syoa'!DC38:DG38)","v":1545},{"$f":"SUM('2016 syoa'!T38:X38)+SUM('2016 syoa'!DH38:DL38)","v":1373},{"$f":"SUM('2016 syoa'!Y38:AC38)+SUM('2016 syoa'!DM38:DQ38)","v":1080},{"$f":"SUM('2016 syoa'!AD38:AH38)+SUM('2016 syoa'!DR38:DV38)","v":1178},{"$f":"SUM('2016 syoa'!AI38:AM38)+SUM('2016 syoa'!DW38:EA38)","v":1136},{"$f":"SUM('2016 syoa'!AN38:AR38)+SUM('2016 syoa'!EB38:EF38)","v":1328},{"$f":"SUM('2016 syoa'!AS38:AW38)+SUM('2016 syoa'!EG38:EK38)","v":1593},{"$f":"SUM('2016 syoa'!AX38:BB38)+SUM('2016 syoa'!EL38:EP38)","v":1866},{"$f":"SUM('2016 syoa'!BC38:BG38)+SUM('2016 syoa'!EQ38:EU38)","v":1874},{"$f":"SUM('2016 syoa'!BH38:BL38)+SUM('2016 syoa'!EV38:EZ38)","v":1500},{"$f":"SUM('2016 syoa'!BM38:BQ38)+SUM('2016 syoa'!FA38:FE38)","v":1381},{"$f":"SUM('2016 syoa'!BR38:BV38)+SUM('2016 syoa'!FF38:FJ38)","v":1474},{"$f":"SUM('2016 syoa'!BW38:CA38)+SUM('2016 syoa'!FK38:FO38)","v":1427},{"$f":"SUM('2016 syoa'!CB38:CF38)+SUM('2016 syoa'!FP38:FT38)","v":1041},{"$f":"SUM('2016 syoa'!CG38:CK38)+SUM('2016 syoa'!FU38:FY38)","v":949},{"$f":"SUM('2016 syoa'!CL38:CP38)+SUM('2016 syoa'!FZ38:GD38)","v":610},{"$f":"SUM('2016 syoa'!CQ38)+SUM('2016 syoa'!GE38)","v":317}]
["E05001212","Sutton New Hall","Sutton Coldfield",{"$f":"SUM('2016 syoa'!D39)+SUM('2016 syoa'!CR39)","v":22001},{"$f":"SUM('2016 syoa'!E39:I39)+SUM('2016 syoa'!CS39:CW39)","v":1086},{"$f":"SUM('2016 syoa'!J39:N39)+SUM('2016 syoa'!CX39:DB39)","v":1176},{"$f":"SUM('2016 syoa'!O39:S39)+SUM('2016 syoa'!DC39:DG39)","v":1125},{"$f":"SUM('2016 syoa'!T39:X39)+SUM('2016 syoa'!DH39:DL39)","v":1177},{"$f":"SUM('2016 syoa'!Y39:AC39)+SUM('2016 syoa'!DM39:DQ39)","v":1035},{"$f":"SUM('2016 syoa'!AD39:AH39)+SUM('2016 syoa'!DR39:DV39)","v":1119},{"$f":"SUM('2016 syoa'!AI39:AM39)+SUM('2016 syoa'!DW39:EA39)","v":1068},{"$f":"SUM('2016 syoa'!AN39:AR39)+SUM('2016 syoa'!EB39:EF39)","v":1175},{"$f":"SUM('2016 syoa'!AS39:AW39)+SUM('2016 syoa'!EG39:EK39)","v":1343},{"$f":"SUM('2016 syoa'!AX39:BB39)+SUM('2016 syoa'!EL39:EP39)","v":1648},{"$f":"SUM('2016 syoa'!BC39:BG39)+SUM('2016 syoa'!EQ39:EU39)","v":1743},{"$f":"SUM('2016 syoa'!BH39:BL39)+SUM('2016 syoa'!EV39:EZ39)","v":1627},{"$f":"SUM('2016 syoa'!BM39:BQ39)+SUM('2016 syoa'!FA39:FE39)","v":1587},{"$f":"SUM('2016 syoa'!BR39:BV39)+SUM('2016 syoa'!FF39:FJ39)","v":1564},{"$f":"SUM('2016 syoa'!BW39:CA39)+SUM('2016 syoa'!FK39:FO39)","v":1225},{"$f":"SUM('2016 syoa'!CB39:CF39)+SUM('2016 syoa'!FP39:FT39)","v":865},{"$f":"SUM('2016 syoa'!CG39:CK39)+SUM('2016 syoa'!FU39:FY39)","v":675},{"$f":"SUM('2016 syoa'!CL39:CP39)+SUM('2016 syoa'!FZ39:GD39)","v":497},{"$f":"SUM('2016 syoa'!CQ39)+SUM('2016 syoa'!GE39)","v":266}]
["E05001213","Sutton Trinity","Sutton Coldfield",{"$f":"SUM('2016 syoa'!D40)+SUM('2016 syoa'!CR40)","v":25077},{"$f":"SUM('2016 syoa'!E40:I40)+SUM('2016 syoa'!CS40:CW40)","v":1591},{"$f":"SUM('2016 syoa'!J40:N40)+SUM('2016 syoa'!CX40:DB40)","v":1469},{"$f":"SUM('2016 syoa'!O40:S40)+SUM('2016 syoa'!DC40:DG40)","v":1441},{"$f":"SUM('2016 syoa'!T40:X40)+SUM('2016 syoa'!DH40:DL40)","v":1366},{"$f":"SUM('2016 syoa'!Y40:AC40)+SUM('2016 syoa'!DM40:DQ40)","v":1401},{"$f":"SUM('2016 syoa'!AD40:AH40)+SUM('2016 syoa'!DR40:DV40)","v":1558},{"$f":"SUM('2016 syoa'!AI40:AM40)+SUM('2016 syoa'!DW40:EA40)","v":1485},{"$f":"SUM('2016 syoa'!AN40:AR40)+SUM('2016 syoa'!EB40:EF40)","v":1412},{"$f":"SUM('2016 syoa'!AS40:AW40)+SUM('2016 syoa'!EG40:EK40)","v":1624},{"$f":"SUM('2016 syoa'!AX40:BB40)+SUM('2016 syoa'!EL40:EP40)","v":1739},{"$f":"SUM('2016 syoa'!BC40:BG40)+SUM('2016 syoa'!EQ40:EU40)","v":1921},{"$f":"SUM('2016 syoa'!BH40:BL40)+SUM('2016 syoa'!EV40:EZ40)","v":1639},{"$f":"SUM('2016 syoa'!BM40:BQ40)+SUM('2016 syoa'!FA40:FE40)","v":1382},{"$f":"SUM('2016 syoa'!BR40:BV40)+SUM('2016 syoa'!FF40:FJ40)","v":1427},{"$f":"SUM('2016 syoa'!BW40:CA40)+SUM('2016 syoa'!FK40:FO40)","v":1212},{"$f":"SUM('2016 syoa'!CB40:CF40)+SUM('2016 syoa'!FP40:FT40)","v":870},{"$f":"SUM('2016 syoa'!CG40:CK40)+SUM('2016 syoa'!FU40:FY40)","v":746},{"$f":"SUM('2016 syoa'!CL40:CP40)+SUM('2016 syoa'!FZ40:GD40)","v":524},{"$f":"SUM('2016 syoa'!CQ40)+SUM('2016 syoa'!GE40)","v":270}]
["E05001214","Sutton Vesey","Sutton Coldfield",{"$f":"SUM('2016 syoa'!D41)+SUM('2016 syoa'!CR41)","v":23026},{"$f":"SUM('2016 syoa'!E41:I41)+SUM('2016 syoa'!CS41:CW41)","v":1332},{"$f":"SUM('2016 syoa'!J41:N41)+SUM('2016 syoa'!CX41:DB41)","v":1283},{"$f":"SUM('2016 syoa'!O41:S41)+SUM('2016 syoa'!DC41:DG41)","v":1240},{"$f":"SUM('2016 syoa'!T41:X41)+SUM('2016 syoa'!DH41:DL41)","v":1206},{"$f":"SUM('2016 syoa'!Y41:AC41)+SUM('2016 syoa'!DM41:DQ41)","v":1185},{"$f":"SUM('2016 syoa'!AD41:AH41)+SUM('2016 syoa'!DR41:DV41)","v":1308},{"$f":"SUM('2016 syoa'!AI41:AM41)+SUM('2016 syoa'!DW41:EA41)","v":1229},{"$f":"SUM('2016 syoa'!AN41:AR41)+SUM('2016 syoa'!EB41:EF41)","v":1353},{"$f":"SUM('2016 syoa'!AS41:AW41)+SUM('2016 syoa'!EG41:EK41)","v":1429},{"$f":"SUM('2016 syoa'!AX41:BB41)+SUM('2016 syoa'!EL41:EP41)","v":1588},{"$f":"SUM('2016 syoa'!BC41:BG41)+SUM('2016 syoa'!EQ41:EU41)","v":1871},{"$f":"SUM('2016 syoa'!BH41:BL41)+SUM('2016 syoa'!EV41:EZ41)","v":1638},{"$f":"SUM('2016 syoa'!BM41:BQ41)+SUM('2016 syoa'!FA41:FE41)","v":1420},{"$f":"SUM('2016 syoa'!BR41:BV41)+SUM('2016 syoa'!FF41:FJ41)","v":1384},{"$f":"SUM('2016 syoa'!BW41:CA41)+SUM('2016 syoa'!FK41:FO41)","v":1156},{"$f":"SUM('2016 syoa'!CB41:CF41)+SUM('2016 syoa'!FP41:FT41)","v":915},{"$f":"SUM('2016 syoa'!CG41:CK41)+SUM('2016 syoa'!FU41:FY41)","v":722},{"$f":"SUM('2016 syoa'!CL41:CP41)+SUM('2016 syoa'!FZ41:GD41)","v":518},{"$f":"SUM('2016 syoa'!CQ41)+SUM('2016 syoa'!GE41)","v":249}]
["E05001215","Tyburn","Erdington",{"$f":"SUM('2016 syoa'!D42)+SUM('2016 syoa'!CR42)","v":25477},{"$f":"SUM('2016 syoa'!E42:I42)+SUM('2016 syoa'!CS42:CW42)","v":1884},{"$f":"SUM('2016 syoa'!J42:N42)+SUM('2016 syoa'!CX42:DB42)","v":1831},{"$f":"SUM('2016 syoa'!O42:S42)+SUM('2016 syoa'!DC42:DG42)","v":1784},{"$f":"SUM('2016 syoa'!T42:X42)+SUM('2016 syoa'!DH42:DL42)","v":1741},{"$f":"SUM('2016 syoa'!Y42:AC42)+SUM('2016 syoa'!DM42:DQ42)","v":1814},{"$f":"SUM('2016 syoa'!AD42:AH42)+SUM('2016 syoa'!DR42:DV42)","v":1832},{"$f":"SUM('2016 syoa'!AI42:AM42)+SUM('2016 syoa'!DW42:EA42)","v":1704},{"$f":"SUM('2016 syoa'!AN42:AR42)+SUM('2016 syoa'!EB42:EF42)","v":1472},{"$f":"SUM('2016 syoa'!AS42:AW42)+SUM('2016 syoa'!EG42:EK42)","v":1550},{"$f":"SUM('2016 syoa'!AX42:BB42)+SUM('2016 syoa'!EL42:EP42)","v":1782},{"$f":"SUM('2016 syoa'!BC42:BG42)+SUM('2016 syoa'!EQ42:EU42)","v":1825},{"$f":"SUM('2016 syoa'!BH42:BL42)+SUM('2016 syoa'!EV42:EZ42)","v":1430},{"$f":"SUM('2016 syoa'!BM42:BQ42)+SUM('2016 syoa'!FA42:FE42)","v":1137},{"$f":"SUM('2016 syoa'!BR42:BV42)+SUM('2016 syoa'!FF42:FJ42)","v":944},{"$f":"SUM('2016 syoa'!BW42:CA42)+SUM('2016 syoa'!FK42:FO42)","v":834},{"$f":"SUM('2016 syoa'!CB42:CF42)+SUM('2016 syoa'!FP42:FT42)","v":720},{"$f":"SUM('2016 syoa'!CG42:CK42)+SUM('2016 syoa'!FU42:FY42)","v":635},{"$f":"SUM('2016 syoa'!CL42:CP42)+SUM('2016 syoa'!FZ42:GD42)","v":379},{"$f":"SUM('2016 syoa'!CQ42)+SUM('2016 syoa'!GE42)","v":179}]
["E05001216","Washwood Heath","Hodge Hill",{"$f":"SUM('2016 syoa'!D43)+SUM('2016 syoa'!CR43)","v":35210},{"$f":"SUM('2016 syoa'!E43:I43)+SUM('2016 syoa'!CS43:CW43)","v":3476},{"$f":"SUM('2016 syoa'!J43:N43)+SUM('2016 syoa'!CX43:DB43)","v":3563},{"$f":"SUM('2016 syoa'!O43:S43)+SUM('2016 syoa'!DC43:DG43)","v":3583},{"$f":"SUM('2016 syoa'!T43:X43)+SUM('2016 syoa'!DH43:DL43)","v":3372},{"$f":"SUM('2016 syoa'!Y43:AC43)+SUM('2016 syoa'!DM43:DQ43)","v":2955},{"$f":"SUM('2016 syoa'!AD43:AH43)+SUM('2016 syoa'!DR43:DV43)","v":2815},{"$f":"SUM('2016 syoa'!AI43:AM43)+SUM('2016 syoa'!DW43:EA43)","v":2725},{"$f":"SUM('2016 syoa'!AN43:AR43)+SUM('2016 syoa'!EB43:EF43)","v":2658},{"$f":"SUM('2016 syoa'!AS43:AW43)+SUM('2016 syoa'!EG43:EK43)","v":2234},{"$f":"SUM('2016 syoa'!AX43:BB43)+SUM('2016 syoa'!EL43:EP43)","v":1908},{"$f":"SUM('2016 syoa'!BC43:BG43)+SUM('2016 syoa'!EQ43:EU43)","v":1368},{"$f":"SUM('2016 syoa'!BH43:BL43)+SUM('2016 syoa'!EV43:EZ43)","v":1115},{"$f":"SUM('2016 syoa'!BM43:BQ43)+SUM('2016 syoa'!FA43:FE43)","v":997},{"$f":"SUM('2016 syoa'!BR43:BV43)+SUM('2016 syoa'!FF43:FJ43)","v":680},{"$f":"SUM('2016 syoa'!BW43:CA43)+SUM('2016 syoa'!FK43:FO43)","v":457},{"$f":"SUM('2016 syoa'!CB43:CF43)+SUM('2016 syoa'!FP43:FT43)","v":491},{"$f":"SUM('2016 syoa'!CG43:CK43)+SUM('2016 syoa'!FU43:FY43)","v":431},{"$f":"SUM('2016 syoa'!CL43:CP43)+SUM('2016 syoa'!FZ43:GD43)","v":262},{"$f":"SUM('2016 syoa'!CQ43)+SUM('2016 syoa'!GE43)","v":120}]
["E05001217","Weoley","Northfield",{"$f":"SUM('2016 syoa'!D44)+SUM('2016 syoa'!CR44)","v":26405},{"$f":"SUM('2016 syoa'!E44:I44)+SUM('2016 syoa'!CS44:CW44)","v":2085},{"$f":"SUM('2016 syoa'!J44:N44)+SUM('2016 syoa'!CX44:DB44)","v":2001},{"$f":"SUM('2016 syoa'!O44:S44)+SUM('2016 syoa'!DC44:DG44)","v":1746},{"$f":"SUM('2016 syoa'!T44:X44)+SUM('2016 syoa'!DH44:DL44)","v":1663},{"$f":"SUM('2016 syoa'!Y44:AC44)+SUM('2016 syoa'!DM44:DQ44)","v":1870},{"$f":"SUM('2016 syoa'!AD44:AH44)+SUM('2016 syoa'!DR44:DV44)","v":1919},{"$f":"SUM('2016 syoa'!AI44:AM44)+SUM('2016 syoa'!DW44:EA44)","v":1640},{"$f":"SUM('2016 syoa'!AN44:AR44)+SUM('2016 syoa'!EB44:EF44)","v":1716},{"$f":"SUM('2016 syoa'!AS44:AW44)+SUM('2016 syoa'!EG44:EK44)","v":1580},{"$f":"SUM('2016 syoa'!AX44:BB44)+SUM('2016 syoa'!EL44:EP44)","v":1767},{"$f":"SUM('2016 syoa'!BC44:BG44)+SUM('2016 syoa'!EQ44:EU44)","v":1684},{"$f":"SUM('2016 syoa'!BH44:BL44)+SUM('2016 syoa'!EV44:EZ44)","v":1449},{"$f":"SUM('2016 syoa'!BM44:BQ44)+SUM('2016 syoa'!FA44:FE44)","v":1203},{"$f":"SUM('2016 syoa'!BR44:BV44)+SUM('2016 syoa'!FF44:FJ44)","v":1069},{"$f":"SUM('2016 syoa'!BW44:CA44)+SUM('2016 syoa'!FK44:FO44)","v":946},{"$f":"SUM('2016 syoa'!CB44:CF44)+SUM('2016 syoa'!FP44:FT44)","v":749},{"$f":"SUM('2016 syoa'!CG44:CK44)+SUM('2016 syoa'!FU44:FY44)","v":602},{"$f":"SUM('2016 syoa'!CL44:CP44)+SUM('2016 syoa'!FZ44:GD44)","v":449},{"$f":"SUM('2016 syoa'!CQ44)+SUM('2016 syoa'!GE44)","v":267}]
[null,"Birmingham",null,{"$f":"SUM(D5:D44)","v":1124569},{"$f":"SUM(E5:E44)","v":85821},81557,74820,80035,103395,91939,81808,74580,68044,69246,65569,55267,46767,41971,33664,27235,21626,13664,7561,0]
["Office for National Statistics, Crown Copyright 2014","Office for National Statistics, Crown Copyright 2017"]
[]
["Service Development Team","Transportation & Connectivity"]
["Planning & Regeneration","Economy Directorate"]
["www.birmingham.gov.uk/census","www.birmingham.gov.uk/census"]
["population.census@birmingham.gov.uk","brenda.henry@birmingham.gov.uk"]
["0121 303 4208","0121 303 4208"]

{"sheet":"pyramids 2016","index":13,"n_rows":1995,"n_cols":93,"rows_kept":1995,"cut":false,"hidden":false,"merged":[[6,13,6,16]]}
["chart and table data in rows 1967 onwards"]
["2016 Age Structure Charts for Birmingham Wards"]
[]
[]
[null,null,null,null,null,null,null,null,null,null,null,null,null,null,null,null,null,"use the the drop down box to select Ward"]
[null,null,null,null,null,null,null,null,null,null,null,null,null,{"$f":"A1969","v":"Springfield"}]
[null,null,null,null,null,null,null,null,null,null,null,null,null,"2016 Ward population by five-year age groups"]
[null,null,null,null,null,null,null,null,null,null,null,null,null,"age","males","females","total"]
[null,null,null,null,null,null,null,null,null,null,null,null,null,"0-4",{"$f":"SUM(C1973:G1973)","v":1530},{"$f":"SUM(C1971:G1971)","v":1440},{"$f":"O9+P9","v":2970}]
[null,null,null,null,null,null,null,null,null,null,null,null,null,"5-9",{"$f":"SUM(H1973:L1973)","v":1546},{"$f":"SUM(H1971:L1971)","v":1467},{"$f":"O10+P10","v":3013}]
[null,null,null,null,null,null,null,null,null,null,null,null,null,"10-14",{"$f":"SUM(M1973:Q1973)","v":1535},{"$f":"SUM(M1971:Q1971)","v":1451},2986]
[null,null,null,null,null,null,null,null,null,null,null,null,null,"15-19",{"$f":"SUM(R1973:V1973)","v":1420},{"$f":"SUM(R1971:V1971)","v":1347},2767]
[null,null,null,null,null,null,null,null,null,null,null,null,null,"20-24",{"$f":"SUM(W1973:AA1973)","v":1311},{"$f":"SUM(W1971:AA1971)","v":1305},2616]
[null,null,null,null,null,null,null,null,null,null,null,null,null,"25-29",{"$f":"SUM(AB1973:AF1973)","v":1356},{"$f":"SUM(AB1971:AF1971)","v":1349},2705]
[null,null,null,null,null,null,null,null,null,null,null,null,null,"30-34",{"$f":"SUM(AG1973:AK1973)","v":1378},{"$f":"SUM(AG1971:AK1971)","v":1264},2642]
[null,null,null,null,null,null,null,null,null,null,null,null,null,"35-39",{"$f":"SUM(AL1973:AP1973)","v":1254},{"$f":"SUM(AL1971:AP1971)","v":1245},2499]
[null,null,null,null,null,null,null,null,null,null,null,null,null,"40-44",{"$f":"SUM(AQ1973:AU1973)","v":1086},{"$f":"SUM(AQ1971:AU1971)","v":1024},2110]
[null,null,null,null,null,null,null,null,null,null,null,null,null,"45-49",{"$f":"SUM(AV1973:AZ1973)","v":987},{"$f":"SUM(AV1971:AZ1971)","v":957},1944]
[null,null,null,null,null,null,null,null,null,null,null,null,null,"50-54",{"$f":"SUM(BA1973:BE1973)","v":761},{"$f":"SUM(BA1971:BE1971)","v":731},1492]
[null,null,null,null,null,null,null,null,null,null,null,null,null,"55-59",{"$f":"SUM(BF1973:BJ1973)","v":668},{"$f":"SUM(BF1971:BJ1971)","v":642},1310]
[null,null,null,null,null,null,null,null,null,null,null,null,null,"60-64",{"$f":"SUM(BK1973:BO1973)","v":607},{"$f":"SUM(BK1971:BO1971)","v":617},1224]
[null,null,null,null,null,null,null,null,null,null,null,null,null,"65-69",{"$f":"SUM(BP1973:BT1973)","v":413},{"$f":"SUM(BP1971:BT1971)","v":497},910]
[null,null,null,null,null,null,null,null,null,null,null,null,null,"70-74",{"$f":"SUM(BU1973:BY1973)","v":294},{"$f":"SUM(BU1971:BY1971)","v":401},695]
[null,null,null,null,null,null,null,null,null,null,null,null,null,"75-79",{"$f":"SUM(BZ1973:CD1973)","v":278},{"$f":"SUM(BZ1971:CD1971)","v":335},613]
[null,null,null,null,null,null,null,null,null,null,null,null,null,"80-84",{"$f":"SUM(CE1973:CI1973)","v":241},{"$f":"SUM(CE1971:CI1971)","v":240},481]
[null,null,null,null,null,null,null,null,null,null,null,null,null,"85-89",{"$f":"SUM(CJ1973:CN1973)","v":130},{"$f":"SUM(CJ1971:CN1971)","v":154},284]
[null,null,null,null,null,null,null,null,null,null,null,null,null,"90+",{"$f":"CO1973","v":49},{"$f":"CO1971","v":95},144]
[null,null,null,null,null,null,null,null,null,null,null,null,null,null,{"$f":"SUM(O9:O27)","v":16844},{"$f":"SUM(P9:P27)","v":16561},{"$f":"SUM(Q9:Q27)","v":33405}]
[]
[]
[]
[]
[]
[]
[]
[]
[]
["Note: Axis varies according to the population size of the ward"]
["Source: Office for National Statistics, 2016 mid-year ward population estimates (experimental statistics), Crown Copyright 2017"]
[]
[]
[]
[]
[]
[]
[]
[]
[]
[]
[]
[]
[]
[]
[]
[]
[]
[]
[]
[]
[]
[]
[]
[]
[]
[]
[]
[]
[]
[]
[]
[]
[]
[]
[]
[]
[]
[]
[]
[]
[]
[]
[]
[]
[]
[]
[]
[]
[]
[]
[]
[]
[]
[]
[]
[]
[]
[]
[]
[]
[]
[]
[]
[]
[]
[]
[]
[]
[]
[]
[]
[]
[]
[]
[]
[]
[]
[]
[]
[]
[]
[]
[]
[]
[]
[]
[]
[]
[]
[]
[]
[]
[]
[]
[]
[]
[]
[]
[]
[]
[]
[]
[]
[]
[]
[]
[]
[]
[]
[]
[]
[]
[]
[]
[]
[]
[]
[]
[]
[]
[]
[]
[]
[]
[]
[]
[]
[]
[]
[]
[]
[]
[]
[]
[]
[]
[]
[]
[]
[]
[]
[]
[]
[]
[]
[]
[]
[]
[]
[]
[]
[]
[]
[]
[]
[]
[]
[]
[]
[]
[]
[]
[]
[]
[]
[]
[]
[]
[]
[]
[]
[]
[]
[]
[]
[]
[]
[]
[]
[]
[]
[]
[]
[]
[]
[]
[]
[]
[]
[]
[]
[]
[]
[]
[]
[]
[]
[]
[]
[]
[]
[]
[]
[]
[]
[]
[]
[]
[]
[]
[]
[]
[]
[]
[]
[]
[]
[]
[]
[]
[]
[]
[]
[]
[]
[]
[]
[]
[]
[]
[]
[]
[]
[]
[]
[]
[]
[]
[]
[]
[]
[]
[]
[]
[]
[]
[]
[]
[]
[]
[]
[]
[]
[]
[]
[]
[]
[]
[]
[]
[]
[]
[]
[]
[]
[]
[]
[]
[]
[]
[]
[]
[]
[]
[]
[]
[]
[]
[]
[]
[]
[]
[]
[]
[]
[]
[]
[]
[]
[]
[]
[]
[]
[]
[]
[]
[]
[]
[]
[]
[]
[]
[]
[]
[]
[]
[]
[]
[]
[]
[]
[]
[]
[]
[]
[]
[]
[]
[]
[]
[]
[]
[]
[]
[]
[]
[]
[]
[]
[]
[]
[]
[]
[]
[]
[]
[]
[]
[]
[]
[]
[]
[]
[]
[]
[]
[]
[]
[]
[]
[]
[]
[]
[]
[]
[]
[]
[]
[]
[]
[]
[]
[]
[]
[]
[]
[]
[]
[]
[]
[]
[]
[]
[]
[]
[]
[]
[]
[]
[]
[]
[]
[]
[]
[]
[]
[]
[]
[]
[]
[]
[]
[]
[]
[]
[]
[]
[]
[]
[]
[]
[]
[]
[]
[]
[]
[]
[]
[]
[]
[]
[]
[]
[]
[]
[]
[]
[]
[]
[]
[]
[]
[]
[]
[]
[]
[]
[]
[]
[]
[]
[]
[]
[]
[]
[]
[]
[]
[]
[]
[]
[]
[]
[]
[]
[]
[]
[]
[]
[]
[]
[]
[]
[]
[]
[]
[]
[]
[]
[]
[]
[]
[]
[]
[]
[]
[]
[]
[]
[]
[]
[]
[]
[]
[]
[]
[]
[]
[]
[]
[]
[]
[]
[]
[]
[]
[]
[]
[]
[]
[]
[]
[]
[]
[]
[]
[]
[]
[]
[]
[]
[]
[]
[]
[]
[]
[]
[]
[]
[]
[]
[]
[]
[]
[]
[]
[]
[]
[]
[]
[]
[]
[]
[]
[]
[]
[]
[]
[]
[]
[]
[]
[]
[]
[]
[]
[]
[]
[]
[]
[]
[]
[]
[]
[]
[]
[]
[]
[]
[]
[]
[]
[]
[]
[]
[]
[]
[]
[]
[]
[]
[]
[]
[]
[]
[]
[]
[]
[]
[]
[]
[]
[]
[]
[]
[]
[]
[]
[]
[]
[]
[]
[]
[]
[]
[]
[]
[]
[]
[]
[]
[]
[]
[]
[]
[]
[]
[]
[]
[]
[]
[]
[]
[]
[]
[]
[]
[]
[]
[]
[]
[]
[]
[]
[]
[]
[]
[]
[]
[]
[]
[]
[]
[]
[]
[]
[]
[]
[]
[]
[]
[]
[]
[]
[]
[]
[]
[]
[]
[]
[]
[]
[]
[]
[]
[]
[]
[]
[]
[]
[]
[]
[]
[]
[]
[]
[]
[]
[]
[]
[]
[]
[]
[]
[]
[]
[]
[]
[]
[]
[]
[]
[]
[]
[]
[]
[]
[]
[]
[]
[]
[]
[]
[]
[]
[]
[]
[]
[]
[]
[]
[]
[]
[]
[]
[]
[]
[]
[]
[]
[]
[]
[]
[]
[]
[]
[]
[]
[]
[]
[]
[]
[]
[]
[]
[]
[]
[]
[]
[]
[]
[]
[]
[]
[]
[]
[]
[]
[]
[]
[]
[]
[]
[]
[]
[]
[]
[]
[]
[]
[]
[]
[]
[]
[]
[]
[]
[]
[]
[]
[]
[]
[]
[]
[]
[]
[]
[]
[]
[]
[]
[]
[]
[]
[]
[]
[]
[]
[]
[]
[]
[]
[]
[]
[]
[]
[]
[]
[]
[]
[]
[]
[]
[]
[]
[]
[]
[]
[]
[]
[]
[]
[]
[]
[]
[]
[]
[]
[]
[]
[]
[]
[]
[]
[]
[]
[]
[]
[]
[]
[]
[]
[]
[]
[]
[]
[]
[]
[]
[]
[]
[]
[]
[]
[]
[]
[]
[]
[]
[]
[]
[]
[]
[]
[]
[]
[]
[]
[]
[]
[]
[]
[]
[]
[]
[]
[]
[]
[]
[]
[]
[]
[]
[]
[]
[]
[]
[]
[]
[]
[]
[]
[]
[]
[]
[]
[]
[]
[]
[]
[]
[]
[]
[]
[]
[]
[]
[]
[]
[]
[]
[]
[]
[]
[]
[]
[]
[]
[]
[]
[]
[]
[]
[]
[]
[]
[]
[]
[]
[]
[]
[]
[]
[]
[]
[]
[]
[]
[]
[]
[]
[]
[]
[]
[]
[]
[]
[]
[]
[]
[]
[]
[]
[]
[]
[]
[]
[]
[]
[]
[]
[]
[]
[]
[]
[]
[]
[]
[]
[]
[]
[]
[]
[]
[]
[]
[]
[]
[]
[]
[]
[]
[]
[]
[]
[]
[]
[]
[]
[]
[]
[]
[]
[]
[]
[]
[]
[]
[]
[]
[]
[]
[]
[]
[]
[]
[]
[]
[]
[]
[]
[]
[]
[]
[]
[]
[]
[]
[]
[]
[]
[]
[]
[]
[]
[]
[]
[]
[]
[]
[]
[]
[]
[]
[]
[]
[]
[]
[]
[]
[]
[]
[]
[]
[]
[]
[]
[]
[]
[]
[]
[]
[]
[]
[]
[]
[]
[]
[]
[]
[]
[]
[]
[]
[]
[]
[]
[]
[]
[]
[]
[]
[]
[]
[]
[]
[]
[]
[]
[]
[]
[]
[]
[]
[]
[]
[]
[]
[]
[]
[]
[]
[]
[]
[]
[]
[]
[]
[]
[]
[]
[]
[]
[]
[]
[]
[]
[]
[]
[]
[]
[]
[]
[]
[]
[]
[]
[]
[]
[]
[]
[]
[]
[]
[]
[]
[]
[]
[]
[]
[]
[]
[]
[]
[]
[]
[]
[]
[]
[]
[]
[]
[]
[]
[]
[]
[]
[]
[]
[]
[]
[]
[]
[]
[]
[]
[]
[]
[]
[]
[]
[]
[]
[]
[]
[]
[]
[]
[]
[]
[]
[]
[]
[]
[]
[]
[]
[]
[]
[]
[]
[]
[]
[]
[]
[]
[]
[]
[]
[]
[]
[]
[]
[]
[]
[]
[]
[]
[]
[]
[]
[]
[]
[]
[]
[]
[]
[]
[]
[]
[]
[]
[]
[]
[]
[]
[]
[]
[]
[]
[]
[]
[]
[]
[]
[]
[]
[]
[]
[]
[]
[]
[]
[]
[]
[]
[]
[]
[]
[]
[]
[]
[]
[]
[]
[]
[]
[]
[]
[]
[]
[]
[]
[]
[]
[]
[]
[]
[]
[]
[]
[]
[]
[]
[]
[]
[]
[]
[]
[]
[]
[]
[]
[]
[]
[]
[]
[]
[]
[]
[]
[]
[]
[]
[]
[]
[]
[]
[]
[]
[]
[]
[]
[]
[]
[]
[]
[]
[]
[]
[]
[]
[]
[]
[]
[]
[]
[]
[]
[]
[]
[]
[]
[]
[]
[]
[]
[]
[]
[]
[]
[]
[]
[]
[]
[]
[]
[]
[]
[]
[]
[]
[]
[]
[]
[]
[]
[]
[]
[]
[]
[]
[]
[]
[]
[]
[]
[]
[]
[]
[]
[]
[]
[]
[]
[]
[]
[]
[]
[]
[]
[]
[]
[]
[]
[]
[]
[]
[]
[]
[]
[]
[]
[]
[]
[]
[]
[]
[]
[]
[]
[]
[]
[]
[]
[]
[]
[]
[]
[]
[]
[]
[]
[]
[]
[]
[]
[]
[]
[]
[]
[]
[]
[]
[]
[]
[]
[]
[]
[]
[]
[]
[]
[]
[]
[]
[]
[]
[]
[]
[]
[]
[]
[]
[]
[]
[]
[]
[]
[]
[]
[]
[]
[]
[]
[]
[]
[]
[]
[]
[]
[]
[]
[]
[]
[]
[]
[]
[]
[]
[]
[]
[]
[]
[]
[]
[]
[]
[]
[]
[]
[]
[]
[]
[]
[]
[]
[]
[]
[]
[]
[]
[]
[]
[]
[]
[]
[]
[]
[]
[]
[]
[]
[]
[]
[]
[]
[]
[]
[]
[]
[]
[]
[]
[]
[]
[]
[]
[]
[]
[]
[]
[]
[]
[]
[]
[]
[]
[]
[]
[]
[]
[]
[]
[]
[]
[]
[]
[]
[]
[]
[]
[]
[]
[]
[]
[]
[]
[]
[]
[]
[]
[]
[]
[]
[]
[]
[]
[]
[]
[]
[]
[]
[]
[]
[]
[]
[]
[]
[]
[]
[]
[]
[]
[]
[]
[]
[]
[]
[]
[]
[]
[]
[]
[]
[]
[]
[]
[]
[]
[]
[]
[]
[]
[]
[]
[]
[]
[]
[]
[]
[]
[]
[]
[]
[]
[]
[]
[]
[]
[]
[]
[]
[]
[]
[]
[]
[]
[]
[]
[]
[]
[]
[]
[]
[]
[]
[]
[]
[]
[]
[]
[]
[]
[]
[]
[]
[]
[]
[]
[]
[]
[]
[]
[]
[]
[]
[]
[]
[]
[]
[]
[]
[]
[]
[]
[]
[]
[]
[]
[]
[]
[]
[]
[]
[]
[]
[]
[]
[]
[]
[]
[]
[]
[]
[]
[]
[]
[]
[]
[]
[]
[]
[]
[]
[]
[]
[]
[]
[]
[]
[]
[]
[]
[]
[]
[]
[]
[]
[]
[]
[]
[]
[]
[]
[]
[]
[]
[]
[]
[]
[]
[]
[]
[]
[]
[]
[]
[]
[]
[]
[]
[]
[]
[]
[]
[]
[]
[]
[]
[]
[]
[]
[]
[]
[]
[]
[]
[]
[]
[]
[]
[]
[]
[]
[]
[]
[]
[]
[]
[]
[]
[]
[]
[]
[]
[]
[]
[]
[]
[]
[]
[]
[]
[]
[]
[]
[]
[]
[]
[]
[]
[]
[]
[]
[]
[]
[]
[]
[]
[]
[]
[]
[]
[]
[]
[]
[]
[]
[]
[]
[]
[]
[]
[]
[]
[]
[]
[]
[]
[]
[]
[]
[]
[]
[]
[]
[]
[]
[]
[]
[]
[]
[]
[]
[]
[]
[]
[]
[]
[]
[]
[]
[]
[]
[]
[]
[]
[]
[]
[]
[]
[]
[]
[]
[]
[]
[]
[]
[]
[]
[]
[]
[]
[]
[]
[]
[]
[]
[]
[]
[]
[]
[]
[]
[]
[]
[]
[]
[]
[]
[]
[]
[]
[]
[]
[]
[]
[]
[]
[]
[]
[]
[]
[]
[]
[]
[]
[]
[]
[]
[]
[]
[]
[]
[]
[]
[]
[]
[]
[]
[]
[]
[]
[]
[]
[]
[]
[]
[]
[]
[]
[]
[]
[]
[]
[]
[]
[]
[]
[]
[]
[]
[]
[]
[]
[]
[]
[]
[]
[]
[]
[]
[]
[]
[]
[]
[]
[]
[]
[]
[]
[]
[]
[]
[]
[]
[]
[]
[]
[]
[]
[]
[]
[]
[]
[]
[]
[]
[]
[]
[]
[]
[]
[]
[]
[]
[]
[]
[]
[]
[]
[]
[]
[]
[]
[]
[]
[]
[]
[]
[]
[]
[]
[]
[]
[]
["2016 Ward"]
["Population pyramid for",null,{"$f":"A1969","v":"Springfield"}]
["Springfield","row discription",0,1,2,3,4,5,6,7,8,9,10,11,12,13,14,15,16,17,18,19,20,21,22,23,24,25,26,27,28,29,30,31,32,33,34,35,36,37,38,39,40,41,42,43,44,45,46,47,48,49,50,51,52,53,54,55,56,57,58,59,60,61,62,63,64,65,66,67,68,69,70,71,72,73,74,75,76,77,78,79,80,81,82,83,84,85,86,87,88,89,90]
[{"$f":"VLOOKUP($A$1969,'2016 syoa'!$A$5:$GE$44,4,FALSE)","v":16844},"M chart data",{"$f":"-VLOOKUP($A$1969,'2016 syoa'!$A$5:$GE$44,5,FALSE)","v":-287},{"$f":"-VLOOKUP($A$1969,'2016 syoa'!$A$5:$GE$44,6,FALSE)","v":-313},{"$f":"-VLOOKUP($A$1969,'2016 syoa'!$A$5:$GE$44,7,FALSE)","v":-310},{"$f":"-VLOOKUP($A$1969,'2016 syoa'!$A$5:$GE$44,8,FALSE)","v":-323},{"$f":"-VLOOKUP($A$1969,'2016 syoa'!$A$5:$GE$44,9,FALSE)","v":-297},{"$f":"-VLOOKUP($A$1969,'2016 syoa'!$A$5:$GE$44,10,FALSE)","v":-285},{"$f":"-VLOOKUP($A$1969,'2016 syoa'!$A$5:$GE$44,11,FALSE)","v":-304},{"$f":"-VLOOKUP($A$1969,'2016 syoa'!$A$5:$GE$44,12,FALSE)","v":-327},{"$f":"-VLOOKUP($A$1969,'2016 syoa'!$A$5:$GE$44,13,FALSE)","v":-330},{"$f":"-VLOOKUP($A$1969,'2016 syoa'!$A$5:$GE$44,14,FALSE)","v":-300},{"$f":"-VLOOKUP($A$1969,'2016 syoa'!$A$5:$GE$44,15,FALSE)","v":-329},{"$f":"-VLOOKUP($A$1969,'2016 syoa'!$A$5:$GE$44,16,FALSE)","v":-308},{"$f":"-VLOOKUP($A$1969,'2016 syoa'!$A$5:$GE$44,17,FALSE)","v":-306},{"$f":"-VLOOKUP($A$1969,'2016 syoa'!$A$5:$GE$44,18,FALSE)","v":-319},{"$f":"-VLOOKUP($A$1969,'2016 syoa'!$A$5:$GE$44,19,FALSE)","v":-273},{"$f":"-VLOOKUP($A$1969,'2016 syoa'!$A$5:$GE$44,20,FALSE)","v":-276},{"$f":"-VLOOKUP($A$1969,'2016 syoa'!$A$5:$GE$44,21,FALSE)","v":-266},{"$f":"-VLOOKUP($A$1969,'2016 syoa'!$A$5:$GE$44,22,FALSE)","v":-285},{"$f":"-VLOOKUP($A$1969,'2016 syoa'!$A$5:$GE$44,23,FALSE)","v":-294},{"$f":"-VLOOKUP($A$1969,'2016 syoa'!$A$5:$GE$44,24,FALSE)","v":-299},{"$f":"-VLOOKUP($A$1969,'2016 syoa'!$A$5:$GE$44,25,FALSE)","v":-253},{"$f":"-VLOOKUP($A$1969,'2016 syoa'!$A$5:$GE$44,26,FALSE)","v":-255},{"$f":"-VLOOKUP($A$1969,'2016 syoa'!$A$5:$GE$44,27,FALSE)","v":-290},{"$f":"-VLOOKUP($A$1969,'2016 syoa'!$A$5:$GE$44,28,FALSE)","v":-252},{"$f":"-VLOOKUP($A$1969,'2016 syoa'!$A$5:$GE$44,29,FALSE)","v":-261},{"$f":"-VLOOKUP($A$1969,'2016 syoa'!$A$5:$GE$44,30,FALSE)","v":-270},{"$f":"-VLOOKUP($A$1969,'2016 syoa'!$A$5:$GE$44,31,FALSE)","v":-286},{"$f":"-VLOOKUP($A$1969,'2016 syoa'!$A$5:$GE$44,32,FALSE)","v":-270},{"$f":"-VLOOKUP($A$1969,'2016 syoa'!$A$5:$GE$44,33,FALSE)","v":-264},{"$f":"-VLOOKUP($A$1969,'2016 syoa'!$A$5:$GE$44,34,FALSE)","v":-266},{"$f":"-VLOOKUP($A$1969,'2016 syoa'!$A$5:$GE$44,35,FALSE)","v":-300},{"$f":"-VLOOKUP($A$1969,'2016 syoa'!$A$5:$GE$44,36,FALSE)","v":-281},{"$f":"-VLOOKUP($A$1969,'2016 syoa'!$A$5:$GE$44,37,FALSE)","v":-266},{"$f":"-VLOOKUP($A$1969,'2016 syoa'!$A$5:$GE$44,38,FALSE)","v":-277},{"$f":"-VLOOKUP($A$1969,'2016 syoa'!$A$5:$GE$44,39,FALSE)","v":-254},{"$f":"-VLOOKUP($A$1969,'2016 syoa'!$A$5:$GE$44,40,FALSE)","v":-265},{"$f":"-VLOOKUP($A$1969,'2016 syoa'!$A$5:$GE$44,41,FALSE)","v":-262},{"$f":"-VLOOKUP($A$1969,'2016 syoa'!$A$5:$GE$44,42,FALSE)","v":-243},{"$f":"-VLOOKUP($A$1969,'2016 syoa'!$A$5:$GE$44,43,FALSE)","v":-249},{"$f":"-VLOOKUP($A$1969,'2016 syoa'!$A$5:$GE$44,44,FALSE)","v":-235},{"$f":"-VLOOKUP($A$1969,'2016 syoa'!$A$5:$GE$44,45,FALSE)","v":-227},{"$f":"-VLOOKUP($A$1969,'2016 syoa'!$A$5:$GE$44,46,FALSE)","v":-187},{"$f":"-VLOOKUP($A$1969,'2016 syoa'!$A$5:$GE$44,47,FALSE)","v":-215},{"$f":"-VLOOKUP($A$1969,'2016 syoa'!$A$5:$GE$44,48,FALSE)","v":-230},{"$f":"-VLOOKUP($A$1969,'2016 syoa'!$A$5:$GE$44,49,FALSE)","v":-227},{"$f":"-VLOOKUP($A$1969,'2016 syoa'!$A$5:$GE$44,50,FALSE)","v":-211},{"$f":"-VLOOKUP($A$1969,'2016 syoa'!$A$5:$GE$44,51,FALSE)","v":-214},{"$f":"-VLOOKUP($A$1969,'2016 syoa'!$A$5:$GE$44,52,FALSE)","v":-199},{"$f":"-VLOOKUP($A$1969,'2016 syoa'!$A$5:$GE$44,53,FALSE)","v":-170},{"$f":"-VLOOKUP($A$1969,'2016 syoa'!$A$5:$GE$44,54,FALSE)","v":-193},{"$f":"-VLOOKUP($A$1969,'2016 syoa'!$A$5:$GE$44,55,FALSE)","v":-168},{"$f":"-VLOOKUP($A$1969,'2016 syoa'!$A$5:$GE$44,56,FALSE)","v":-154},{"$f":"-VLOOKUP($A$1969,'2016 syoa'!$A$5:$GE$44,57,FALSE)","v":-153},{"$f":"-VLOOKUP($A$1969,'2016 syoa'!$A$5:$GE$44,58,FALSE)","v":-134},{"$f":"-VLOOKUP($A$1969,'2016 syoa'!$A$5:$GE$44,59,FALSE)","v":-152},{"$f":"-VLOOKUP($A$1969,'2016 syoa'!$A$5:$GE$44,60,FALSE)","v":-137},{"$f":"-VLOOKUP($A$1969,'2016 syoa'!$A$5:$GE$44,61,FALSE)","v":-127},{"$f":"-VLOOKUP($A$1969,'2016 syoa'!$A$5:$GE$44,62,FALSE)","v":-137},{"$f":"-VLOOKUP($A$1969,'2016 syoa'!$A$5:$GE$44,63,FALSE)","v":-134},{"$f":"-VLOOKUP($A$1969,'2016 syoa'!$A$5:$GE$44,64,FALSE)","v":-133},{"$f":"-VLOOKUP($A$1969,'2016 syoa'!$A$5:$GE$44,65,FALSE)","v":-125},{"$f":"-VLOOKUP($A$1969,'2016 syoa'!$A$5:$GE$44,66,FALSE)","v":-126},{"$f":"-VLOOKUP($A$1969,'2016 syoa'!$A$5:$GE$44,67,FALSE)","v":-123},{"$f":"-VLOOKUP($A$1969,'2016 syoa'!$A$5:$GE$44,68,FALSE)","v":-133},{"$f":"-VLOOKUP($A$1969,'2016 syoa'!$A$5:$GE$44,69,FALSE)","v":-100},{"$f":"-VLOOKUP($A$1969,'2016 syoa'!$A$5:$GE$44,70,FALSE)","v":-97},{"$f":"-VLOOKUP($A$1969,'2016 syoa'!$A$5:$GE$44,71,FALSE)","v":-92},{"$f":"-VLOOKUP($A$1969,'2016 syoa'!$A$5:$GE$44,72,FALSE)","v":-88},{"$f":"-VLOOKUP($A$1969,'2016 syoa'!$A$5:$GE$44,73,FALSE)","v":-76},{"$f":"-VLOOKUP($A$1969,'2016 syoa'!$A$5:$GE$44,74,FALSE)","v":-60},{"$f":"-VLOOKUP($A$1969,'2016 syoa'!$A$5:$GE$44,75,FALSE)","v":-52},{"$f":"-VLOOKUP($A$1969,'2016 syoa'!$A$5:$GE$44,76,FALSE)","v":-48},{"$f":"-VLOOKUP($A$1969,'2016 syoa'!$A$5:$GE$44,77,FALSE)","v":-48},{"$f":"-VLOOKUP($A$1969,'2016 syoa'!$A$5:$GE$44,78,FALSE)","v":-72},{"$f":"-VLOOKUP($A$1969,'2016 syoa'!$A$5:$GE$44,79,FALSE)","v":-74},{"$f":"-VLOOKUP($A$1969,'2016 syoa'!$A$5:$GE$44,80,FALSE)","v":-55},{"$f":"-VLOOKUP($A$1969,'2016 syoa'!$A$5:$GE$44,81,FALSE)","v":-47},{"$f":"-VLOOKUP($A$1969,'2016 syoa'!$A$5:$GE$44,82,FALSE)","v":-58},{"$f":"-VLOOKUP($A$1969,'2016 syoa'!$A$5:$GE$44,83,FALSE)","v":-68},{"$f":"-VLOOKUP($A$1969,'2016 syoa'!$A$5:$GE$44,84,FALSE)","v":-50},{"$f":"-VLOOKUP($A$1969,'2016 syoa'!$A$5:$GE$44,85,FALSE)","v":-49},{"$f":"-VLOOKUP($A$1969,'2016 syoa'!$A$5:$GE$44,86,FALSE)","v":-56},{"$f":"-VLOOKUP($A$1969,'2016 syoa'!$A$5:$GE$44,87,FALSE)","v":-51},{"$f":"-VLOOKUP($A$1969,'2016 syoa'!$A$5:$GE$44,88,FALSE)","v":-49},{"$f":"-VLOOKUP($A$1969,'2016 syoa'!$A$5:$GE$44,89,FALSE)","v":-36},{"$f":"-VLOOKUP($A$1969,'2016 syoa'!$A$5:$GE$44,90,FALSE)","v":-43},{"$f":"-VLOOKUP($A$1969,'2016 syoa'!$A$5:$GE$44,91,FALSE)","v":-30},{"$f":"-VLOOKUP($A$1969,'2016 syoa'!$A$5:$GE$44,92,FALSE)","v":-22},{"$f":"-VLOOKUP($A$1969,'2016 syoa'!$A$5:$GE$44,93,FALSE)","v":-17},{"$f":"-VLOOKUP($A$1969,'2016 syoa'!$A$5:$GE$44,94,FALSE)","v":-18},{"$f":"-VLOOKUP($A$1969,'2016 syoa'!$A$5:$GE$44,95,FALSE)","v":-49}]
[{"$f":"VLOOKUP($A$1969,'2016 syoa'!$A$5:$GE$44,96,FALSE)","v":16561},"F table data, chart",{"$f":"VLOOKUP($A$1969,'2016 syoa'!$A$5:$GE$44,97,FALSE)","v":292},{"$f":"VLOOKUP($A$1969,'2016 syoa'!$A$5:$GE$44,98,FALSE)","v":269},{"$f":"VLOOKUP($A$1969,'2016 syoa'!$A$5:$GE$44,99,FALSE)","v":302},{"$f":"VLOOKUP($A$1969,'2016 syoa'!$A$5:$GE$44,100,FALSE)","v":286},{"$f":"VLOOKUP($A$1969,'2016 syoa'!$A$5:$GE$44,101,FALSE)","v":291},{"$f":"VLOOKUP($A$1969,'2016 syoa'!$A$5:$GE$44,102,FALSE)","v":310},{"$f":"VLOOKUP($A$1969,'2016 syoa'!$A$5:$GE$44,103,FALSE)","v":294},{"$f":"VLOOKUP($A$1969,'2016 syoa'!$A$5:$GE$44,104,FALSE)","v":311},{"$f":"VLOOKUP($A$1969,'2016 syoa'!$A$5:$GE$44,105,FALSE)","v":280},{"$f":"VLOOKUP($A$1969,'2016 syoa'!$A$5:$GE$44,106,FALSE)","v":272},{"$f":"VLOOKUP($A$1969,'2016 syoa'!$A$5:$GE$44,107,FALSE)","v":292},{"$f":"VLOOKUP($A$1969,'2016 syoa'!$A$5:$GE$44,108,FALSE)","v":299},{"$f":"VLOOKUP($A$1969,'2016 syoa'!$A$5:$GE$44,109,FALSE)","v":288},{"$f":"VLOOKUP($A$1969,'2016 syoa'!$A$5:$GE$44,110,FALSE)","v":302},{"$f":"VLOOKUP($A$1969,'2016 syoa'!$A$5:$GE$44,111,FALSE)","v":270},{"$f":"VLOOKUP($A$1969,'2016 syoa'!$A$5:$GE$44,112,FALSE)","v":286},{"$f":"VLOOKUP($A$1969,'2016 syoa'!$A$5:$GE$44,113,FALSE)","v":255},{"$f":"VLOOKUP($A$1969,'2016 syoa'!$A$5:$GE$44,114,FALSE)","v":253},{"$f":"VLOOKUP($A$1969,'2016 syoa'!$A$5:$GE$44,115,FALSE)","v":283},{"$f":"VLOOKUP($A$1969,'2016 syoa'!$A$5:$GE$44,116,FALSE)","v":270},{"$f":"VLOOKUP($A$1969,'2016 syoa'!$A$5:$GE$44,117,FALSE)","v":273},{"$f":"VLOOKUP($A$1969,'2016 syoa'!$A$5:$GE$44,118,FALSE)","v":247},{"$f":"VLOOKUP($A$1969,'2016 syoa'!$A$5:$GE$44,119,FALSE)","v":278},{"$f":"VLOOKUP($A$1969,'2016 syoa'!$A$5:$GE$44,120,FALSE)","v":244},{"$f":"VLOOKUP($A$1969,'2016 syoa'!$A$5:$GE$44,121,FALSE)","v":263},{"$f":"VLOOKUP($A$1969,'2016 syoa'!$A$5:$GE$44,122,FALSE)","v":282},{"$f":"VLOOKUP($A$1969,'2016 syoa'!$A$5:$GE$44,123,FALSE)","v":264},{"$f":"VLOOKUP($A$1969,'2016 syoa'!$A$5:$GE$44,124,FALSE)","v":263},{"$f":"VLOOKUP($A$1969,'2016 syoa'!$A$5:$GE$44,125,FALSE)","v":269},{"$f":"VLOOKUP($A$1969,'2016 syoa'!$A$5:$GE$44,126,FALSE)","v":271},{"$f":"VLOOKUP($A$1969,'2016 syoa'!$A$5:$GE$44,127,FALSE)","v":236},{"$f":"VLOOKUP($A$1969,'2016 syoa'!$A$5:$GE$44,128,FALSE)","v":250},{"$f":"VLOOKUP($A$1969,'2016 syoa'!$A$5:$GE$44,129,FALSE)","v":251},{"$f":"VLOOKUP($A$1969,'2016 syoa'!$A$5:$GE$44,130,FALSE)","v":261},{"$f":"VLOOKUP($A$1969,'2016 syoa'!$A$5:$GE$44,131,FALSE)","v":266},{"$f":"VLOOKUP($A$1969,'2016 syoa'!$A$5:$GE$44,132,FALSE)","v":291},{"$f":"VLOOKUP($A$1969,'2016 syoa'!$A$5:$GE$44,133,FALSE)","v":270},{"$f":"VLOOKUP($A$1969,'2016 syoa'!$A$5:$GE$44,134,FALSE)","v":222},{"$f":"VLOOKUP($A$1969,'2016 syoa'!$A$5:$GE$44,135,FALSE)","v":242},{"$f":"VLOOKUP($A$1969,'2016 syoa'!$A$5:$GE$44,136,FALSE)","v":220},{"$f":"VLOOKUP($A$1969,'2016 syoa'!$A$5:$GE$44,137,FALSE)","v":230},{"$f":"VLOOKUP($A$1969,'2016 syoa'!$A$5:$GE$44,138,FALSE)","v":194},{"$f":"VLOOKUP($A$1969,'2016 syoa'!$A$5:$GE$44,139,FALSE)","v":218},{"$f":"VLOOKUP($A$1969,'2016 syoa'!$A$5:$GE$44,140,FALSE)","v":203},{"$f":"VLOOKUP($A$1969,'2016 syoa'!$A$5:$GE$44,141,FALSE)","v":179},{"$f":"VLOOKUP($A$1969,'2016 syoa'!$A$5:$GE$44,142,FALSE)","v":205},{"$f":"VLOOKUP($A$1969,'2016 syoa'!$A$5:$GE$44,143,FALSE)","v":211},{"$f":"VLOOKUP($A$1969,'2016 syoa'!$A$5:$GE$44,144,FALSE)","v":176},{"$f":"VLOOKUP($A$1969,'2016 syoa'!$A$5:$GE$44,145,FALSE)","v":183},{"$f":"VLOOKUP($A$1969,'2016 syoa'!$A$5:$GE$44,146,FALSE)","v":182},{"$f":"VLOOKUP($A$1969,'2016 syoa'!$A$5:$GE$44,147,FALSE)","v":146},{"$f":"VLOOKUP($A$1969,'2016 syoa'!$A$5:$GE$44,148,FALSE)","v":162},{"$f":"VLOOKUP($A$1969,'2016 syoa'!$A$5:$GE$44,149,FALSE)","v":140},{"$f":"VLOOKUP($A$1969,'2016 syoa'!$A$5:$GE$44,150,FALSE)","v":136},{"$f":"VLOOKUP($A$1969,'2016 syoa'!$A$5:$GE$44,151,FALSE)","v":147},{"$f":"VLOOKUP($A$1969,'2016 syoa'!$A$5:$GE$44,152,FALSE)","v":120},{"$f":"VLOOKUP($A$1969,'2016 syoa'!$A$5:$GE$44,153,FALSE)","v":142},{"$f":"VLOOKUP($A$1969,'2016 syoa'!$A$5:$GE$44,154,FALSE)","v":136},{"$f":"VLOOKUP($A$1969,'2016 syoa'!$A$5:$GE$44,155,FALSE)","v":110},{"$f":"VLOOKUP($A$1969,'2016 syoa'!$A$5:$GE$44,156,FALSE)","v":134},{"$f":"VLOOKUP($A$1969,'2016 syoa'!$A$5:$GE$44,157,FALSE)","v":135},{"$f":"VLOOKUP($A$1969,'2016 syoa'!$A$5:$GE$44,158,FALSE)","v":130},{"$f":"VLOOKUP($A$1969,'2016 syoa'!$A$5:$GE$44,159,FALSE)","v":125},{"$f":"VLOOKUP($A$1969,'2016 syoa'!$A$5:$GE$44,160,FALSE)","v":117},{"$f":"VLOOKUP($A$1969,'2016 syoa'!$A$5:$GE$44,161,FALSE)","v":110},{"$f":"VLOOKUP($A$1969,'2016 syoa'!$A$5:$GE$44,162,FALSE)","v":107},{"$f":"VLOOKUP($A$1969,'2016 syoa'!$A$5:$GE$44,163,FALSE)","v":104},{"$f":"VLOOKUP($A$1969,'2016 syoa'!$A$5:$GE$44,164,FALSE)","v":104},{"$f":"VLOOKUP($A$1969,'2016 syoa'!$A$5:$GE$44,165,FALSE)","v":92},{"$f":"VLOOKUP($A$1969,'2016 syoa'!$A$5:$GE$44,166,FALSE)","v":90},{"$f":"VLOOKUP($A$1969,'2016 syoa'!$A$5:$GE$44,167,FALSE)","v":91},{"$f":"VLOOKUP($A$1969,'2016 syoa'!$A$5:$GE$44,168,FALSE)","v":71},{"$f":"VLOOKUP($A$1969,'2016 syoa'!$A$5:$GE$44,169,FALSE)","v":80},{"$f":"VLOOKUP($A$1969,'2016 syoa'!$A$5:$GE$44,170,FALSE)","v":82},{"$f":"VLOOKUP($A$1969,'2016 syoa'!$A$5:$GE$44,171,FALSE)","v":77},{"$f":"VLOOKUP($A$1969,'2016 syoa'!$A$5:$GE$44,172,FALSE)","v":66},{"$f":"VLOOKUP($A$1969,'2016 syoa'!$A$5:$GE$44,173,FALSE)","v":63},{"$f":"VLOOKUP($A$1969,'2016 syoa'!$A$5:$GE$44,174,FALSE)","v":59},{"$f":"VLOOKUP($A$1969,'2016 syoa'!$A$5:$GE$44,175,FALSE)","v":70},{"$f":"VLOOKUP($A$1969,'2016 syoa'!$A$5:$GE$44,176,FALSE)","v":77},{"$f":"VLOOKUP($A$1969,'2016 syoa'!$A$5:$GE$44,177,FALSE)","v":57},{"$f":"VLOOKUP($A$1969,'2016 syoa'!$A$5:$GE$44,178,FALSE)","v":46},{"$f":"VLOOKUP($A$1969,'2016 syoa'!$A$5:$GE$44,179,FALSE)","v":56},{"$f":"VLOOKUP($A$1969,'2016 syoa'!$A$5:$GE$44,180,FALSE)","v":40},{"$f":"VLOOKUP($A$1969,'2016 syoa'!$A$5:$GE$44,181,FALSE)","v":41},{"$f":"VLOOKUP($A$1969,'2016 syoa'!$A$5:$GE$44,182,FALSE)","v":38},{"$f":"VLOOKUP($A$1969,'2016 syoa'!$A$5:$GE$44,183,FALSE)","v":34},{"$f":"VLOOKUP($A$1969,'2016 syoa'!$A$5:$GE$44,184,FALSE)","v":30},{"$f":"VLOOKUP($A$1969,'2016 syoa'!$A$5:$GE$44,185,FALSE)","v":27},{"$f":"VLOOKUP($A$1969,'2016 syoa'!$A$5:$GE$44,186,FALSE)","v":25},{"$f":"VLOOKUP($A$1969,'2016 syoa'!$A$5:$GE$44,187,FALSE)","v":95}]
[{"$f":"SUM(A1970:A1971)","v":33405},"check table total",{"$f":"C1971+C1973","v":579},582,612,609,588,595,598,638,610,572,621,607,594,621,543,562,521,538,{"$f":"U1971+U1973","v":577},569,526,502,568,496,524,552,550,533,533,537,536,531,517,538,520,556,532,465,491,455,457,381,433,433,406,416,425,375,353,375,314,316,293,270,299,257,269,273,244,267,260,256,248,250,210,204,196,192,168,150,143,119,128,154,151,121,110,117,138,127,106,102,{"$f":"CG1971+CG1973","v":107},89,77,81,64,52,44,43,144]
[null,"M table data",{"$f":"-C1970","v":287},313,310,323,297,285,304,327,330,300,329,308,306,319,273,276,266,285,{"$f":"-U1970","v":294},299,253,255,290,252,261,270,286,270,264,266,300,281,266,277,254,265,262,243,249,235,227,187,215,230,227,211,214,199,170,193,168,154,153,134,152,137,127,137,134,133,125,126,123,133,100,97,92,88,76,60,52,48,48,72,74,55,47,58,68,50,49,56,{"$f":"-CG1970","v":51},49,36,43,30,22,17,18,49]
[]
[]
[]
[null,"0-4",{"$f":"SUM(C1973:G1973)","v":1530}]
[null,"5-9",{"$f":"SUM(H1973:L1973)","v":1546}]
[null,"10-14",{"$f":"SUM(M1973:Q1973)","v":1535}]
[null,"15-19",{"$f":"SUM(R1973:V1973)","v":1420}]
[null,"20-24",{"$f":"SUM(W1973:AA1973)","v":1311}]
[null,"25-29",{"$f":"SUM(AB1973:AF1973)","v":1356}]
[null,"30-34",{"$f":"SUM(AG1973:AK1973)","v":1378}]
[null,"35-39",{"$f":"SUM(AL1973:AP1973)","v":1254}]
[null,"40-44",{"$f":"SUM(AQ1973:AU1973)","v":1086}]
[null,"45-49",{"$f":"SUM(AV1973:AZ1973)","v":987}]
[null,"50-54",{"$f":"SUM(BA1973:BE1973)","v":761}]
[null,"55-59",{"$f":"SUM(BF1973:BJ1973)","v":668}]
[null,"60-64",{"$f":"SUM(BK1973:BO1973)","v":607}]
[null,"65-69",{"$f":"SUM(BP1973:BT1973)","v":413}]
[null,"70-74",{"$f":"SUM(BU1973:BY1973)","v":294}]
[null,"75-79",{"$f":"SUM(BZ1973:CD1973)","v":278}]
[null,"80-84",{"$f":"SUM(CE1973:CI1973)","v":241}]
[null,"85-89",{"$f":"SUM(CJ1973:CN1973)","v":130}]
[null,"90+",{"$f":"CO1973","v":49}]

{"sheet":"pyramids 2011-16 change ","index":14,"n_rows":1978,"n_cols":96,"rows_kept":1978,"cut":false,"hidden":false,"merged":[[5,13,6,13],[5,14,6,14],[5,15,6,15],[4,13,4,17],[5,16,5,17]]}
["formulae for charts in rows from 1967, rows Y6 to AB28 contain unrounded data for table"]
["2011-2016 Population change for Birmingham Wards"]
[null,null,null,null,null,null,null,null,null,null,null,null,null,null,null,null,null,null,null,null,null,null,null,null,"unrounded change"]
[null,null,null,null,null,null,null,null,null,null,null,null,null,{"$f":"D1968","v":"Sutton Vesey"},null,null,null,null,null,null,null,null,null,null,{"$f":"D1968","v":"Sutton Vesey"}]
[null,null,null,null,null,null,null,null,null,null,null,null,null,"2011-2016 Ward population change by five-year ages ",null,null,null,null,null,null,null,null,null,null,"Constituency change by quinary age, 2001-9"]
[null,null,null,null,null,null,null,null,null,null,null,null,null,"quinary age",2016,2011,"change 2011-2016",null,"use the drop down box to select ward",null,null,null,null,null,"quinary age",{"$f":"O6","v":2016},{"$f":"P6","v":2011},"2011-16"]
[null,null,null,null,null,null,null,null,null,null,null,null,null,null,null,null,"number","percent",null,null,null,null,null,null,null,null,null,"number"]
[null,null,null,null,null,null,null,null,null,null,null,null,null,"0-4",{"$f":"SUM(F1977:J1977)","v":1332},{"$f":"SUM(F1978:J1978)","v":1186},{"$f":"O8-P8","v":146},{"$f":"Q8/P8*100","v":12.310286677908937},null,null,null,null,null,null,{"$f":"N8","v":"0-4"},{"$f":"O8","v":1332},{"$f":"P8","v":1186},{"$f":"Z8-AA8","v":146}]
[null,null,null,null,null,null,null,null,null,null,null,null,null,"5-9",{"$f":"SUM(K1977:O1977)","v":1283},{"$f":"SUM(K1978:O1978)","v":1220},{"$f":"O9-P9","v":63},{"$f":"Q9/P9*100","v":5.1639344262295088},null,null,null,null,null,null,{"$f":"N9","v":"5-9"},{"$f":"O9","v":1283},{"$f":"P9","v":1220},{"$f":"Z9-AA9","v":63}]
[null,null,null,null,null,null,null,null,null,null,null,null,null,"10-14",{"$f":"SUM(P1977:T1977)","v":1240},{"$f":"SUM(P1978:T1978)","v":1373},-133,-9.6868171886380203,null,null,null,null,null,null,"10-14",1240,1373,-133]
[null,null,null,null,null,null,null,null,null,null,null,null,null,"15-19",{"$f":"SUM(U1977:Y1977)","v":1206},{"$f":"SUM(U1978:Y1978)","v":1418},-212,-14.950634696755994,null,null,null,null,null,null,"15-19",1206,1418,-212]
[null,null,null,null,null,null,null,null,null,null,null,null,null,"20-24",{"$f":"SUM(Z1977:AD1977)","v":1185},{"$f":"SUM(Z1978:AD1978)","v":1199},-14,-1.1676396997497915,null,null,null,null,null,null,"20-24",1185,1199,-14]
[null,null,null,null,null,null,null,null,null,null,null,null,null,"25-29",{"$f":"SUM(AE1977:AI1977)","v":1308},{"$f":"SUM(AE1978:AI1978)","v":1261},47,3.7272006344171293,null,null,null,null,null,null,"25-29",1308,1261,47]
[null,null,null,null,null,null,null,null,null,null,null,null,null,"30-34",{"$f":"SUM(AJ1977:AN1977)","v":1229},{"$f":"SUM(AJ1978:AN1978)","v":1207},22,1.8227009113504555,null,null,null,null,null,null,"30-34",1229,1207,22]
[null,null,null,null,null,null,null,null,null,null,null,null,null,"35-39",{"$f":"SUM(AO1977:AS1977)","v":1353},{"$f":"SUM(AO1978:AS1978)","v":1434},-81,-5.6485355648535567,null,null,null,null,null,null,"35-39",1353,1434,-81]
[null,null,null,null,null,null,null,null,null,null,null,null,null,"40-44",{"$f":"SUM(AT1977:AX1977)","v":1429},{"$f":"SUM(AT1978:AX1978)","v":1692},-263,-15.543735224586289,null,null,null,null,null,null,"40-44",1429,1692,-263]
[null,null,null,null,null,null,null,null,null,null,null,null,null,"45-49",{"$f":"SUM(AY1977:BC1977)","v":1588},{"$f":"SUM(AY1978:BC1978)","v":1895},-307,-16.200527704485488,null,null,null,null,null,null,"45-49",1588,1895,-307]
[null,null,null,null,null,null,null,null,null,null,null,null,null,"50-54",{"$f":"SUM(BD1977:BH1977)","v":1871},{"$f":"SUM(BD1978:BH1978)","v":1746},125,7.1592210767468494,null,null,null,null,null,null,"50-54",1871,1746,125]
[null,null,null,null,null,null,null,null,null,null,null,null,null,"55-59",{"$f":"SUM(BI1977:BM1977)","v":1638},{"$f":"SUM(BI1978:BM1978)","v":1516},122,8.047493403693931,null,null,null,null,null,null,"55-59",1638,1516,122]
[null,null,null,null,null,null,null,null,null,null,null,null,null,"60-64",{"$f":"SUM(BN1977:BR1977)","v":1420},{"$f":"SUM(BN1978:BR1978)","v":1563},-143,-9.149072296865004,null,null,null,null,null,null,"60-64",1420,1563,-143]
[null,null,null,null,null,null,null,null,null,null,null,null,null,"65-69",{"$f":"SUM(BS1977:BW1977)","v":1384},{"$f":"SUM(BS1978:BW1978)","v":1294},90,6.9551777434312205,null,null,null,null,null,null,"65-69",1384,1294,90]
[null,null,null,null,null,null,null,null,null,null,null,null,null,"70-74",{"$f":"SUM(BX1977:CB1977)","v":1156},{"$f":"SUM(BX1978:CB1978)","v":1035},121,11.690821256038648,null,null,null,null,null,null,"70-74",1156,1035,121]
[null,null,null,null,null,null,null,null,null,null,null,null,null,"75-79",{"$f":"SUM(CC1977:CG1977)","v":915},{"$f":"SUM(CC1978:CG1978)","v":903},12,1.3289036544850499,null,null,null,null,null,null,"75-79",915,903,12]
[null,null,null,null,null,null,null,null,null,null,null,null,null,"80-84",{"$f":"SUM(CH1977:CL1977)","v":722},{"$f":"SUM(CH1978:CL1978)","v":705},17,2.4113475177304964,null,null,null,null,null,null,"80-84",722,705,17]
[null,null,null,null,null,null,null,null,null,null,null,null,null,"85-89",{"$f":"SUM(CM1977:CQ1977)","v":518},{"$f":"SUM(CM1978:CQ1978)","v":438},80,18.264840182648399,null,null,null,null,null,null,"85-89",518,438,80]
[null,null,null,null,null,null,null,null,null,null,null,null,null,"90+",{"$f":"CR1977","v":249},{"$f":"SUM(CR1978)","v":226},23,10.176991150442479,null,null,null,null,null,null,"90+",249,226,23]
[null,null,null,null,null,null,null,null,null,null,null,null,null,null,{"$f":"SUM(O8:O26)","v":23026},{"$f":"SUM(P8:P26)","v":23311},{"$f":"O27-P27","v":-285},-1.2225987731114065,null,null,null,null,null,null,null,23026,23311,-285]
[]
[]
[]
[]
[]
[]
[]
[]
[]
[]
["Note: Axis varies according to population size of ward"]
["Source: Office for National Statistics , 2011 & 2016 mid-year ward population estimates(experimental statistics), Crown Copyright 2017"]
["Transportation & Connectivity, Economy Directorate"]
["www.birmingham.gov.uk/census"]
["brenda.henry@birmingham.gov.uk"]
["0121 303 4208"]
[]
[]
[]
[]
[]
[]
[]
[]
[]
[]
[null,null,null,null,"sex diff"]
[null,null,null,null,"sex diff %"]
[null,null,null,null,"change"]
[null,null,null,null,"change%"]
[]
[]
[]
[]
[]
[]
[]
[]
[]
[]
[]
[]
[]
[]
[]
[]
[]
[]
[]
[]
[]
[]
[]
[]
[]
[]
[]
[]
[]
[]
[]
[]
[]
[]
[]
[]
[]
[]
[]
[]
[]
[]
[]
[]
[]
[]
[]
[]
[]
[]
[]
[]
[]
[]
[]
[]
[]
[]
[]
[]
[]
[]
[]
[]
[]
[]
[]
[]
[]
[]
[]
[]
[]
[]
[]
[]
[]
[]
[]
[]
[]
[]
[]
[]
[]
[]
[]
[]
[]
[]
[]
[]
[]
[]
[]
[]
[]
[]
[]
[]
[]
[]
[]
[]
[]
[]
[]
[]
[]
[]
[]
[]
[]
[]
[]
[]
[]
[]
[]
[]
[]
[]
[]
[]
[]
[]
[]
[]
[]
[]
[]
[]
[]
[]
[]
[]
[]
[]
[]
[]
[]
[]
[]
[]
[]
[]
[]
[]
[]
[]
[]
[]
[]
[]
[]
[]
[]
[]
[]
[]
[]
[]
[]
[]
[]
[]
[]
[]
[]
[]
[]
[]
[]
[]
[]
[]
[]
[]
[]
[]
[]
[]
[]
[]
[]
[]
[]
[]
[]
[]
[]
[]
[]
[]
[]
[]
[]
[]
[]
[]
[]
[]
[]
[]
[]
[]
[]
[]
[]
[]
[]
[]
[]
[]
[]
[]
[]
[]
[]
[]
[]
[]
[]
[]
[]
[]
[]
[]
[]
[]
[]
[]
[]
[]
[]
[]
[]
[]
[]
[]
[]
[]
[]
[]
[]
[]
[]
[]
[]
[]
[]
[]
[]
[]
[]
[]
[]
[]
[]
[]
[]
[]
[]
[]
[]
[]
[]
[]
[]
[]
[]
[]
[]
[]
[]
[]
[]
[]
[]
[]
[]
[]
[]
[]
[]
[]
[]
[]
[]
[]
[]
[]
[]
[]
[]
[]
[]
[]
[]
[]
[]
[]
[]
[]
[]
[]
[]
[]
[]
[]
[]
[]
[]
[]
[]
[]
[]
[]
[]
[]
[]
[]
[]
[]
[]
[]
[]
[]
[]
[]
[]
[]
[]
[]
[]
[]
[]
[]
[]
[]
[]
[]
[]
[]
[]
[]
[]
[]
[]
[]
[]
[]
[]
[]
[]
[]
[]
[]
[]
[]
[]
[]
[]
[]
[]
[]
[]
[]
[]
[]
[]
[]
[]
[]
[]
[]
[]
[]
[]
[]
[]
[]
[]
[]
[]
[]
[]
[]
[]
[]
[]
[]
[]
[]
[]
[]
[]
[]
[]
[]
[]
[]
[]
[]
[]
[]
[]
[]
[]
[]
[]
[]
[]
[]
[]
[]
[]
[]
[]
[]
[]
[]
[]
[]
[]
[]
[]
[]
[]
[]
[]
[]
[]
[]
[]
[]
[]
[]
[]
[]
[]
[]
[]
[]
[]
[]
[]
[]
[]
[]
[]
[]
[]
[]
[]
[]
[]
[]
[]
[]
[]
[]
[]
[]
[]
[]
[]
[]
[]
[]
[]
[]
[]
[]
[]
[]
[]
[]
[]
[]
[]
[]
[]
[]
[]
[]
[]
[]
[]
[]
[]
[]
[]
[]
[]
[]
[]
[]
[]
[]
[]
[]
[]
[]
[]
[]
[]
[]
[]
[]
[]
[]
[]
[]
[]
[]
[]
[]
[]
[]
[]
[]
[]
[]
[]
[]
[]
[]
[]
[]
[]
[]
[]
[]
[]
[]
[]
[]
[]
[]
[]
[]
[]
[]
[]
[]
[]
[]
[]
[]
[]
[]
[]
[]
[]
[]
[]
[]
[]
[]
[]
[]
[]
[]
[]
[]
[]
[]
[]
[]
[]
[]
[]
[]
[]
[]
[]
[]
[]
[]
[]
[]
[]
[]
[]
[]
[]
[]
[]
[]
[]
[]
[]
[]
[]
[]
[]
[]
[]
[]
[]
[]
[]
[]
[]
[]
[]
[]
[]
[]
[]
[]
[]
[]
[]
[]
[]
[]
[]
[]
[]
[]
[]
[]
[]
[]
[]
[]
[]
[]
[]
[]
[]
[]
[]
[]
[]
[]
[]
[]
[]
[]
[]
[]
[]
[]
[]
[]
[]
[]
[]
[]
[]
[]
[]
[]
[]
[]
[]
[]
[]
[]
[]
[]
[]
[]
[]
[]
[]
[]
[]
[]
[]
[]
[]
[]
[]
[]
[]
[]
[]
[]
[]
[]
[]
[]
[]
[]
[]
[]
[]
[]
[]
[]
[]
[]
[]
[]
[]
[]
[]
[]
[]
[]
[]
[]
[]
[]
[]
[]
[]
[]
[]
[]
[]
[]
[]
[]
[]
[]
[]
[]
[]
[]
[]
[]
[]
[]
[]
[]
[]
[]
[]
[]
[]
[]
[]
[]
[]
[]
[]
[]
[]
[]
[]
[]
[]
[]
[]
[]
[]
[]
[]
[]
[]
[]
[]
[]
[]
[]
[]
[]
[]
[]
[]
[]
[]
[]
[]
[]
[]
[]
[]
[]
[]
[]
[]
[]
[]
[]
[]
[]
[]
[]
[]
[]
[]
[]
[]
[]
[]
[]
[]
[]
[]
[]
[]
[]
[]
[]
[]
[]
[]
[]
[]
[]
[]
[]
[]
[]
[]
[]
[]
[]
[]
[]
[]
[]
[]
[]
[]
[]
[]
[]
[]
[]
[]
[]
[]
[]
[]
[]
[]
[]
[]
[]
[]
[]
[]
[]
[]
[]
[]
[]
[]
[]
[]
[]
[]
[]
[]
[]
[]
[]
[]
[]
[]
[]
[]
[]
[]
[]
[]
[]
[]
[]
[]
[]
[]
[]
[]
[]
[]
[]
[]
[]
[]
[]
[]
[]
[]
[]
[]
[]
[]
[]
[]
[]
[]
[]
[]
[]
[]
[]
[]
[]
[]
[]
[]
[]
[]
[]
[]
[]
[]
[]
[]
[]
[]
[]
[]
[]
[]
[]
[]
[]
[]
[]
[]
[]
[]
[]
[]
[]
[]
[]
[]
[]
[]
[]
[]
[]
[]
[]
[]
[]
[]
[]
[]
[]
[]
[]
[]
[]
[]
[]
[]
[]
[]
[]
[]
[]
[]
[]
[]
[]
[]
[]
[]
[]
[]
[]
[]
[]
[]
[]
[]
[]
[]
[]
[]
[]
[]
[]
[]
[]
[]
[]
[]
[]
[]
[]
[]
[]
[]
[]
[]
[]
[]
[]
[]
[]
[]
[]
[]
[]
[]
[]
[]
[]
[]
[]
[]
[]
[]
[]
[]
[]
[]
[]
[]
[]
[]
[]
[]
[]
[]
[]
[]
[]
[]
[]
[]
[]
[]
[]
[]
[]
[]
[]
[]
[]
[]
[]
[]
[]
[]
[]
[]
[]
[]
[]
[]
[]
[]
[]
[]
[]
[]
[]
[]
[]
[]
[]
[]
[]
[]
[]
[]
[]
[]
[]
[]
[]
[]
[]
[]
[]
[]
[]
[]
[]
[]
[]
[]
[]
[]
[]
[]
[]
[]
[]
[]
[]
[]
[]
[]
[]
[]
[]
[]
[]
[]
[]
[]
[]
[]
[]
[]
[]
[]
[]
[]
[]
[]
[]
[]
[]
[]
[]
[]
[]
[]
[]
[]
[]
[]
[]
[]
[]
[]
[]
[]
[]
[]
[]
[]
[]
[]
[]
[]
[]
[]
[]
[]
[]
[]
[]
[]
[]
[]
[]
[]
[]
[]
[]
[]
[]
[]
[]
[]
[]
[]
[]
[]
[]
[]
[]
[]
[]
[]
[]
[]
[]
[]
[]
[]
[]
[]
[]
[]
[]
[]
[]
[]
[]
[]
[]
[]
[]
[]
[]
[]
[]
[]
[]
[]
[]
[]
[]
[]
[]
[]
[]
[]
[]
[]
[]
[]
[]
[]
[]
[]
[]
[]
[]
[]
[]
[]
[]
[]
[]
[]
[]
[]
[]
[]
[]
[]
[]
[]
[]
[]
[]
[]
[]
[]
[]
[]
[]
[]
[]
[]
[]
[]
[]
[]
[]
[]
[]
[]
[]
[]
[]
[]
[]
[]
[]
[]
[]
[]
[]
[]
[]
[]
[]
[]
[]
[]
[]
[]
[]
[]
[]
[]
[]
[]
[]
[]
[]
[]
[]
[]
[]
[]
[]
[]
[]
[]
[]
[]
[]
[]
[]
[]
[]
[]
[]
[]
[]
[]
[]
[]
[]
[]
[]
[]
[]
[]
[]
[]
[]
[]
[]
[]
[]
[]
[]
[]
[]
[]
[]
[]
[]
[]
[]
[]
[]
[]
[]
[]
[]
[]
[]
[]
[]
[]
[]
[]
[]
[]
[]
[]
[]
[]
[]
[]
[]
[]
[]
[]
[]
[]
[]
[]
[]
[]
[]
[]
[]
[]
[]
[]
[]
[]
[]
[]
[]
[]
[]
[]
[]
[]
[]
[]
[]
[]
[]
[]
[]
[]
[]
[]
[]
[]
[]
[]
[]
[]
[]
[]
[]
[]
[]
[]
[]
[]
[]
[]
[]
[]
[]
[]
[]
[]
[]
[]
[]
[]
[]
[]
[]
[]
[]
[]
[]
[]
[]
[]
[]
[]
[]
[]
[]
[]
[]
[]
[]
[]
[]
[]
[]
[]
[]
[]
[]
[]
[]
[]
[]
[]
[]
[]
[]
[]
[]
[]
[]
[]
[]
[]
[]
[]
[]
[]
[]
[]
[]
[]
[]
[]
[]
[]
[]
[]
[]
[]
[]
[]
[]
[]
[]
[]
[]
[]
[]
[]
[]
[]
[]
[]
[]
[]
[]
[]
[]
[]
[]
[]
[]
[]
[]
[]
[]
[]
[]
[]
[]
[]
[]
[]
[]
[]
[]
[]
[]
[]
[]
[]
[]
[]
[]
[]
[]
[]
[]
[]
[]
[]
[]
[]
[]
[]
[]
[]
[]
[]
[]
[]
[]
[]
[]
[]
[]
[]
[]
[]
[]
[]
[]
[]
[]
[]
[]
[]
[]
[]
[]
[]
[]
[]
[]
[]
[]
[]
[]
[]
[]
[]
[]
[]
[]
[]
[]
[]
[]
[]
[]
[]
[]
[]
[]
[]
[]
[]
[]
[]
[]
[]
[]
[]
[]
[]
[]
[]
[]
[]
[]
[]
[]
[]
[]
[]
[]
[]
[]
[]
[]
[]
[]
[]
[]
[]
[]
[]
[]
[]
[]
[]
[]
[]
[]
[]
[]
[]
[]
[]
[]
[]
[]
[]
[]
[]
[]
[]
[]
[]
[]
[]
[]
[]
[]
[]
[]
[]
[]
[]
[]
[]
[]
[]
[]
[]
[]
[]
[]
[]
[]
[]
[]
[]
[]
[]
[]
[]
[]
[]
[]
[]
[]
[]
[]
[]
[]
[]
[]
[]
[]
[]
[]
[]
[]
[]
[]
[]
[]
[]
[]
[]
[]
[]
[]
[]
[]
[]
[]
[]
[]
[]
[]
[]
[]
[]
[]
[]
[]
[]
[]
[]
[]
[]
[]
[]
[]
[]
[]
[]
[]
[]
[]
[]
[]
[]
[]
[]
[]
[]
[]
[]
[]
[]
[]
[]
[]
[]
[]
[]
[]
[]
[]
[]
[]
[]
[]
[]
[]
[]
[]
[]
[]
[]
[]
[]
[]
[]
[]
[]
[]
[]
[]
[]
[]
[]
[]
[]
[]
[]
[]
[]
[]
[]
[]
[]
[]
[]
[]
[]
[]
[]
[]
[]
[]
[]
[]
[]
[]
[]
[]
[]
[]
[]
[]
[]
[]
[]
[]
[]
[]
[]
[]
[]
[]
[]
[]
[]
[]
[]
[]
[]
[]
[]
[]
[]
[]
[]
[]
[]
[]
[]
[]
[]
[]
[]
[]
[]
[]
[]
[]
[]
[]
[]
[]
[]
[]
[]
[]
[]
[]
[]
[]
[]
[]
[]
[]
[]
[]
[]
[]
[]
[]
[]
[]
[]
[]
[]
[]
[]
[]
[]
[]
[]
[]
[]
[]
[]
[]
[]
[]
[]
[]
[]
[]
[]
[]
[]
[]
[]
[]
[]
[]
[]
[]
[]
[]
[]
[]
[]
[]
[]
[]
[]
[]
[]
[]
[]
[]
[]
[]
[]
[]
[]
[]
[]
[]
[]
[]
[]
[]
[]
[]
[]
[]
[]
[]
[]
[]
[]
[]
[]
[]
[]
[]
[]
[]
[]
[]
[]
[]
[]
[]
["Gain in 2013",null,"row description","Sutton Vesey",null,0,{"$f":"F1968+1","v":1},{"$f":"G1968+1","v":2},3,4,5,6,7,8,9,10,11,12,13,14,15,16,17,18,19,20,21,22,23,24,25,26,27,28,29,30,31,32,33,34,35,36,37,38,39,40,41,42,43,44,45,46,47,48,49,50,51,52,53,54,55,56,57,58,59,60,61,62,63,64,65,{"$f":"BS1968+1","v":66},67,68,69,70,71,72,73,74,75,76,77,78,79,80,81,82,83,84,85,86,87,88,89,90]
["Loss in 2013",{"$f":"SUM(F1969:CR1969)","v":-11246},"2016 male",null,"2009 males",{"$f":"-VLOOKUP($D$1968,'2016 syoa'!$A$5:$GE$44,5,FALSE)","v":-146},{"$f":"-VLOOKUP($D$1968,'2016 syoa'!$A$5:$GE$44,6,FALSE)","v":-131},{"$f":"-VLOOKUP($D$1968,'2016 syoa'!$A$5:$GE$44,7,FALSE)","v":-141},{"$f":"-VLOOKUP($D$1968,'2016 syoa'!$A$5:$GE$44,8,FALSE)","v":-131},{"$f":"-VLOOKUP($D$1968,'2016 syoa'!$A$5:$GE$44,9,FALSE)","v":-149},{"$f":"-VLOOKUP($D$1968,'2016 syoa'!$A$5:$GE$44,10,FALSE)","v":-142},{"$f":"-VLOOKUP($D$1968,'2016 syoa'!$A$5:$GE$44,11,FALSE)","v":-144},{"$f":"-VLOOKUP($D$1968,'2016 syoa'!$A$5:$GE$44,12,FALSE)","v":-133},{"$f":"-VLOOKUP($D$1968,'2016 syoa'!$A$5:$GE$44,13,FALSE)","v":-136},{"$f":"-VLOOKUP($D$1968,'2016 syoa'!$A$5:$GE$44,14,FALSE)","v":-125},{"$f":"-VLOOKUP($D$1968,'2016 syoa'!$A$5:$GE$44,15,FALSE)","v":-139},{"$f":"-VLOOKUP($D$1968,'2016 syoa'!$A$5:$GE$44,16,FALSE)","v":-95},{"$f":"-VLOOKUP($D$1968,'2016 syoa'!$A$5:$GE$44,17,FALSE)","v":-127},{"$f":"-VLOOKUP($D$1968,'2016 syoa'!$A$5:$GE$44,18,FALSE)","v":-119},{"$f":"-VLOOKUP($D$1968,'2016 syoa'!$A$5:$GE$44,19,FALSE)","v":-135},{"$f":"-VLOOKUP($D$1968,'2016 syoa'!$A$5:$GE$44,20,FALSE)","v":-119},{"$f":"-VLOOKUP($D$1968,'2016 syoa'!$A$5:$GE$44,21,FALSE)","v":-137},{"$f":"-VLOOKUP($D$1968,'2016 syoa'!$A$5:$GE$44,22,FALSE)","v":-141},{"$f":"-VLOOKUP($D$1968,'2016 syoa'!$A$5:$GE$44,23,FALSE)","v":-113},{"$f":"-VLOOKUP($D$1968,'2016 syoa'!$A$5:$GE$44,24,FALSE)","v":-103},{"$f":"-VLOOKUP($D$1968,'2016 syoa'!$A$5:$GE$44,25,FALSE)","v":-120},{"$f":"-VLOOKUP($D$1968,'2016 syoa'!$A$5:$GE$44,26,FALSE)","v":-124},{"$f":"-VLOOKUP($D$1968,'2016 syoa'!$A$5:$GE$44,27,FALSE)","v":-144},{"$f":"-VLOOKUP($D$1968,'2016 syoa'!$A$5:$GE$44,28,FALSE)","v":-119},{"$f":"-VLOOKUP($D$1968,'2016 syoa'!$A$5:$GE$44,29,FALSE)","v":-122},{"$f":"-VLOOKUP($D$1968,'2016 syoa'!$A$5:$GE$44,30,FALSE)","v":-144},{"$f":"-VLOOKUP($D$1968,'2016 syoa'!$A$5:$GE$44,31,FALSE)","v":-145},{"$f":"-VLOOKUP($D$1968,'2016 syoa'!$A$5:$GE$44,32,FALSE)","v":-127},{"$f":"-VLOOKUP($D$1968,'2016 syoa'!$A$5:$GE$44,33,FALSE)","v":-130},{"$f":"-VLOOKUP($D$1968,'2016 syoa'!$A$5:$GE$44,34,FALSE)","v":-107},{"$f":"-VLOOKUP($D$1968,'2016 syoa'!$A$5:$GE$44,35,FALSE)","v":-140},{"$f":"-VLOOKUP($D$1968,'2016 syoa'!$A$5:$GE$44,36,FALSE)","v":-132},{"$f":"-VLOOKUP($D$1968,'2016 syoa'!$A$5:$GE$44,37,FALSE)","v":-115},{"$f":"-VLOOKUP($D$1968,'2016 syoa'!$A$5:$GE$44,38,FALSE)","v":-137},{"$f":"-VLOOKUP($D$1968,'2016 syoa'!$A$5:$GE$44,39,FALSE)","v":-114},{"$f":"-VLOOKUP($D$1968,'2016 syoa'!$A$5:$GE$44,40,FALSE)","v":-152},{"$f":"-VLOOKUP($D$1968,'2016 syoa'!$A$5:$GE$44,41,FALSE)","v":-122},{"$f":"-VLOOKUP($D$1968,'2016 syoa'!$A$5:$GE$44,42,FALSE)","v":-123},{"$f":"-VLOOKUP($D$1968,'2016 syoa'!$A$5:$GE$44,43,FALSE)","v":-115},{"$f":"-VLOOKUP($D$1968,'2016 syoa'!$A$5:$GE$44,44,FALSE)","v":-136},{"$f":"-VLOOKUP($D$1968,'2016 syoa'!$A$5:$GE$44,45,FALSE)","v":-146},{"$f":"-VLOOKUP($D$1968,'2016 syoa'!$A$5:$GE$44,46,FALSE)","v":-138},{"$f":"-VLOOKUP($D$1968,'2016 syoa'!$A$5:$GE$44,47,FALSE)","v":-134},{"$f":"-VLOOKUP($D$1968,'2016 syoa'!$A$5:$GE$44,48,FALSE)","v":-130},{"$f":"-VLOOKUP($D$1968,'2016 syoa'!$A$5:$GE$44,49,FALSE)","v":-134},{"$f":"-VLOOKUP($D$1968,'2016 syoa'!$A$5:$GE$44,50,FALSE)","v":-138},{"$f":"-VLOOKUP($D$1968,'2016 syoa'!$A$5:$GE$44,51,FALSE)","v":-155},{"$f":"-VLOOKUP($D$1968,'2016 syoa'!$A$5:$GE$44,52,FALSE)","v":-150},{"$f":"-VLOOKUP($D$1968,'2016 syoa'!$A$5:$GE$44,53,FALSE)","v":-170},{"$f":"-VLOOKUP($D$1968,'2016 syoa'!$A$5:$GE$44,54,FALSE)","v":-169},{"$f":"-VLOOKUP($D$1968,'2016 syoa'!$A$5:$GE$44,55,FALSE)","v":-159},{"$f":"-VLOOKUP($D$1968,'2016 syoa'!$A$5:$GE$44,56,FALSE)","v":-167},{"$f":"-VLOOKUP($D$1968,'2016 syoa'!$A$5:$GE$44,57,FALSE)","v":-186},{"$f":"-VLOOKUP($D$1968,'2016 syoa'!$A$5:$GE$44,58,FALSE)","v":-186},{"$f":"-VLOOKUP($D$1968,'2016 syoa'!$A$5:$GE$44,59,FALSE)","v":-181},{"$f":"-VLOOKUP($D$1968,'2016 syoa'!$A$5:$GE$44,60,FALSE)","v":-151},{"$f":"-VLOOKUP($D$1968,'2016 syoa'!$A$5:$GE$44,61,FALSE)","v":-177},{"$f":"-VLOOKUP($D$1968,'2016 syoa'!$A$5:$GE$44,62,FALSE)","v":-166},{"$f":"-VLOOKUP($D$1968,'2016 syoa'!$A$5:$GE$44,63,FALSE)","v":-155},{"$f":"-VLOOKUP($D$1968,'2016 syoa'!$A$5:$GE$44,64,FALSE)","v":-151},{"$f":"-VLOOKUP($D$1968,'2016 syoa'!$A$5:$GE$44,65,FALSE)","v":-136},{"$f":"-VLOOKUP($D$1968,'2016 syoa'!$A$5:$GE$44,66,FALSE)","v":-128},{"$f":"-VLOOKUP($D$1968,'2016 syoa'!$A$5:$GE$44,67,FALSE)","v":-132},{"$f":"-VLOOKUP($D$1968,'2016 syoa'!$A$5:$GE$44,68,FALSE)","v":-164},{"$f":"-VLOOKUP($D$1968,'2016 syoa'!$A$5:$GE$44,69,FALSE)","v":-135},{"$f":"-VLOOKUP($D$1968,'2016 syoa'!$A$5:$GE$44,70,FALSE)","v":-128},{"$f":"-VLOOKUP($D$1968,'2016 syoa'!$A$5:$GE$44,71,FALSE)","v":-142},{"$f":"-VLOOKUP($D$1968,'2016 syoa'!$A$5:$GE$44,72,FALSE)","v":-137},{"$f":"-VLOOKUP($D$1968,'2016 syoa'!$A$5:$GE$44,73,FALSE)","v":-140},{"$f":"-VLOOKUP($D$1968,'2016 syoa'!$A$5:$GE$44,74,FALSE)","v":-134},{"$f":"-VLOOKUP($D$1968,'2016 syoa'!$A$5:$GE$44,75,FALSE)","v":-109},{"$f":"-VLOOKUP($D$1968,'2016 syoa'!$A$5:$GE$44,76,FALSE)","v":-96},{"$f":"-VLOOKUP($D$1968,'2016 syoa'!$A$5:$GE$44,77,FALSE)","v":-130},{"$f":"-VLOOKUP($D$1968,'2016 syoa'!$A$5:$GE$44,78,FALSE)","v":-115},{"$f":"-VLOOKUP($D$1968,'2016 syoa'!$A$5:$GE$44,79,FALSE)","v":-94},{"$f":"-VLOOKUP($D$1968,'2016 syoa'!$A$5:$GE$44,80,FALSE)","v":-88},{"$f":"-VLOOKUP($D$1968,'2016 syoa'!$A$5:$GE$44,81,FALSE)","v":-69},{"$f":"-VLOOKUP($D$1968,'2016 syoa'!$A$5:$GE$44,82,FALSE)","v":-90},{"$f":"-VLOOKUP($D$1968,'2016 syoa'!$A$5:$GE$44,83,FALSE)","v":-84},{"$f":"-VLOOKUP($D$1968,'2016 syoa'!$A$5:$GE$44,84,FALSE)","v":-68},{"$f":"-VLOOKUP($D$1968,'2016 syoa'!$A$5:$GE$44,85,FALSE)","v":-79},{"$f":"-VLOOKUP($D$1968,'2016 syoa'!$A$5:$GE$44,86,FALSE)","v":-60},{"$f":"-VLOOKUP($D$1968,'2016 syoa'!$A$5:$GE$44,87,FALSE)","v":-63},{"$f":"-VLOOKUP($D$1968,'2016 syoa'!$A$5:$GE$44,88,FALSE)","v":-70},{"$f":"-VLOOKUP($D$1968,'2016 syoa'!$A$5:$GE$44,89,FALSE)","v":-48},{"$f":"-VLOOKUP($D$1968,'2016 syoa'!$A$5:$GE$44,90,FALSE)","v":-52},{"$f":"-VLOOKUP($D$1968,'2016 syoa'!$A$5:$GE$44,91,FALSE)","v":-40},{"$f":"-VLOOKUP($D$1968,'2016 syoa'!$A$5:$GE$44,92,FALSE)","v":-38},{"$f":"-VLOOKUP($D$1968,'2016 syoa'!$A$5:$GE$44,93,FALSE)","v":-48},{"$f":"-VLOOKUP($D$1968,'2016 syoa'!$A$5:$GE$44,94,FALSE)","v":-32},{"$f":"-VLOOKUP($D$1968,'2016 syoa'!$A$5:$GE$44,95,FALSE)","v":-80}]
[null,{"$f":"SUM(F1970:CR1970)","v":-11352},"2011 male",null,"2001 male",{"$f":"-VLOOKUP($D$1968,'2011 syoa'!$A$5:$GE$44,5,FALSE)","v":-102},{"$f":"-VLOOKUP($D$1968,'2011 syoa'!$A$5:$GE$44,6,FALSE)","v":-127},{"$f":"-VLOOKUP($D$1968,'2011 syoa'!$A$5:$GE$44,7,FALSE)","v":-126},{"$f":"-VLOOKUP($D$1968,'2011 syoa'!$A$5:$GE$44,8,FALSE)","v":-132},{"$f":"-VLOOKUP($D$1968,'2011 syoa'!$A$5:$GE$44,9,FALSE)","v":-127},{"$f":"-VLOOKUP($D$1968,'2011 syoa'!$A$5:$GE$44,10,FALSE)","v":-142},{"$f":"-VLOOKUP($D$1968,'2011 syoa'!$A$5:$GE$44,11,FALSE)","v":-102},{"$f":"-VLOOKUP($D$1968,'2011 syoa'!$A$5:$GE$44,12,FALSE)","v":-119},{"$f":"-VLOOKUP($D$1968,'2011 syoa'!$A$5:$GE$44,13,FALSE)","v":-128},{"$f":"-VLOOKUP($D$1968,'2011 syoa'!$A$5:$GE$44,14,FALSE)","v":-119},{"$f":"-VLOOKUP($D$1968,'2011 syoa'!$A$5:$GE$44,15,FALSE)","v":-135},{"$f":"-VLOOKUP($D$1968,'2011 syoa'!$A$5:$GE$44,16,FALSE)","v":-149},{"$f":"-VLOOKUP($D$1968,'2011 syoa'!$A$5:$GE$44,17,FALSE)","v":-148},{"$f":"-VLOOKUP($D$1968,'2011 syoa'!$A$5:$GE$44,18,FALSE)","v":-126},{"$f":"-VLOOKUP($D$1968,'2011 syoa'!$A$5:$GE$44,19,FALSE)","v":-145},{"$f":"-VLOOKUP($D$1968,'2011 syoa'!$A$5:$GE$44,20,FALSE)","v":-132},{"$f":"-VLOOKUP($D$1968,'2011 syoa'!$A$5:$GE$44,21,FALSE)","v":-149},{"$f":"-VLOOKUP($D$1968,'2011 syoa'!$A$5:$GE$44,22,FALSE)","v":-156},{"$f":"-VLOOKUP($D$1968,'2011 syoa'!$A$5:$GE$44,23,FALSE)","v":-151},{"$f":"-VLOOKUP($D$1968,'2011 syoa'!$A$5:$GE$44,24,FALSE)","v":-126},{"$f":"-VLOOKUP($D$1968,'2011 syoa'!$A$5:$GE$44,25,FALSE)","v":-106},{"$f":"-VLOOKUP($D$1968,'2011 syoa'!$A$5:$GE$44,26,FALSE)","v":-129},{"$f":"-VLOOKUP($D$1968,'2011 syoa'!$A$5:$GE$44,27,FALSE)","v":-130},{"$f":"-VLOOKUP($D$1968,'2011 syoa'!$A$5:$GE$44,28,FALSE)","v":-134},{"$f":"-VLOOKUP($D$1968,'2011 syoa'!$A$5:$GE$44,29,FALSE)","v":-126},{"$f":"-VLOOKUP($D$1968,'2011 syoa'!$A$5:$GE$44,30,FALSE)","v":-154},{"$f":"-VLOOKUP($D$1968,'2011 syoa'!$A$5:$GE$44,31,FALSE)","v":-147},{"$f":"-VLOOKUP($D$1968,'2011 syoa'!$A$5:$GE$44,32,FALSE)","v":-118},{"$f":"-VLOOKUP($D$1968,'2011 syoa'!$A$5:$GE$44,33,FALSE)","v":-135},{"$f":"-VLOOKUP($D$1968,'2011 syoa'!$A$5:$GE$44,34,FALSE)","v":-115},{"$f":"-VLOOKUP($D$1968,'2011 syoa'!$A$5:$GE$44,35,FALSE)","v":-115},{"$f":"-VLOOKUP($D$1968,'2011 syoa'!$A$5:$GE$44,36,FALSE)","v":-119},{"$f":"-VLOOKUP($D$1968,'2011 syoa'!$A$5:$GE$44,37,FALSE)","v":-104},{"$f":"-VLOOKUP($D$1968,'2011 syoa'!$A$5:$GE$44,38,FALSE)","v":-98},{"$f":"-VLOOKUP($D$1968,'2011 syoa'!$A$5:$GE$44,39,FALSE)","v":-138},{"$f":"-VLOOKUP($D$1968,'2011 syoa'!$A$5:$GE$44,40,FALSE)","v":-141},{"$f":"-VLOOKUP($D$1968,'2011 syoa'!$A$5:$GE$44,41,FALSE)","v":-129},{"$f":"-VLOOKUP($D$1968,'2011 syoa'!$A$5:$GE$44,42,FALSE)","v":-142},{"$f":"-VLOOKUP($D$1968,'2011 syoa'!$A$5:$GE$44,43,FALSE)","v":-132},{"$f":"-VLOOKUP($D$1968,'2011 syoa'!$A$5:$GE$44,44,FALSE)","v":-150},{"$f":"-VLOOKUP($D$1968,'2011 syoa'!$A$5:$GE$44,45,FALSE)","v":-137},{"$f":"-VLOOKUP($D$1968,'2011 syoa'!$A$5:$GE$44,46,FALSE)","v":-165},{"$f":"-VLOOKUP($D$1968,'2011 syoa'!$A$5:$GE$44,47,FALSE)","v":-161},{"$f":"-VLOOKUP($D$1968,'2011 syoa'!$A$5:$GE$44,48,FALSE)","v":-182},{"$f":"-VLOOKUP($D$1968,'2011 syoa'!$A$5:$GE$44,49,FALSE)","v":-204},{"$f":"-VLOOKUP($D$1968,'2011 syoa'!$A$5:$GE$44,50,FALSE)","v":-166},{"$f":"-VLOOKUP($D$1968,'2011 syoa'!$A$5:$GE$44,51,FALSE)","v":-181},{"$f":"-VLOOKUP($D$1968,'2011 syoa'!$A$5:$GE$44,52,FALSE)","v":-190},{"$f":"-VLOOKUP($D$1968,'2011 syoa'!$A$5:$GE$44,53,FALSE)","v":-192},{"$f":"-VLOOKUP($D$1968,'2011 syoa'!$A$5:$GE$44,54,FALSE)","v":-192},{"$f":"-VLOOKUP($D$1968,'2011 syoa'!$A$5:$GE$44,55,FALSE)","v":-162},{"$f":"-VLOOKUP($D$1968,'2011 syoa'!$A$5:$GE$44,56,FALSE)","v":-198},{"$f":"-VLOOKUP($D$1968,'2011 syoa'!$A$5:$GE$44,57,FALSE)","v":-190},{"$f":"-VLOOKUP($D$1968,'2011 syoa'!$A$5:$GE$44,58,FALSE)","v":-166},{"$f":"-VLOOKUP($D$1968,'2011 syoa'!$A$5:$GE$44,59,FALSE)","v":-148},{"$f":"-VLOOKUP($D$1968,'2011 syoa'!$A$5:$GE$44,60,FALSE)","v":-128},{"$f":"-VLOOKUP($D$1968,'2011 syoa'!$A$5:$GE$44,61,FALSE)","v":-146},{"$f":"-VLOOKUP($D$1968,'2011 syoa'!$A$5:$GE$44,62,FALSE)","v":-145},{"$f":"-VLOOKUP($D$1968,'2011 syoa'!$A$5:$GE$44,63,FALSE)","v":-172},{"$f":"-VLOOKUP($D$1968,'2011 syoa'!$A$5:$GE$44,64,FALSE)","v":-144},{"$f":"-VLOOKUP($D$1968,'2011 syoa'!$A$5:$GE$44,65,FALSE)","v":-147},{"$f":"-VLOOKUP($D$1968,'2011 syoa'!$A$5:$GE$44,66,FALSE)","v":-158},{"$f":"-VLOOKUP($D$1968,'2011 syoa'!$A$5:$GE$44,67,FALSE)","v":-164},{"$f":"-VLOOKUP($D$1968,'2011 syoa'!$A$5:$GE$44,68,FALSE)","v":-151},{"$f":"-VLOOKUP($D$1968,'2011 syoa'!$A$5:$GE$44,69,FALSE)","v":-161},{"$f":"-VLOOKUP($D$1968,'2011 syoa'!$A$5:$GE$44,70,FALSE)","v":-129},{"$f":"-VLOOKUP($D$1968,'2011 syoa'!$A$5:$GE$44,71,FALSE)","v":-101},{"$f":"-VLOOKUP($D$1968,'2011 syoa'!$A$5:$GE$44,72,FALSE)","v":-158},{"$f":"-VLOOKUP($D$1968,'2011 syoa'!$A$5:$GE$44,73,FALSE)","v":-138},{"$f":"-VLOOKUP($D$1968,'2011 syoa'!$A$5:$GE$44,74,FALSE)","v":-103},{"$f":"-VLOOKUP($D$1968,'2011 syoa'!$A$5:$GE$44,75,FALSE)","v":-96},{"$f":"-VLOOKUP($D$1968,'2011 syoa'!$A$5:$GE$44,76,FALSE)","v":-82},{"$f":"-VLOOKUP($D$1968,'2011 syoa'!$A$5:$GE$44,77,FALSE)","v":-105},{"$f":"-VLOOKUP($D$1968,'2011 syoa'!$A$5:$GE$44,78,FALSE)","v":-101},{"$f":"-VLOOKUP($D$1968,'2011 syoa'!$A$5:$GE$44,79,FALSE)","v":-91},{"$f":"-VLOOKUP($D$1968,'2011 syoa'!$A$5:$GE$44,80,FALSE)","v":-82},{"$f":"-VLOOKUP($D$1968,'2011 syoa'!$A$5:$GE$44,81,FALSE)","v":-67},{"$f":"-VLOOKUP($D$1968,'2011 syoa'!$A$5:$GE$44,82,FALSE)","v":-85},{"$f":"-VLOOKUP($D$1968,'2011 syoa'!$A$5:$GE$44,83,FALSE)","v":-94},{"$f":"-VLOOKUP($D$1968,'2011 syoa'!$A$5:$GE$44,84,FALSE)","v":-70},{"$f":"-VLOOKUP($D$1968,'2011 syoa'!$A$5:$GE$44,85,FALSE)","v":-61},{"$f":"-VLOOKUP($D$1968,'2011 syoa'!$A$5:$GE$44,86,FALSE)","v":-60},{"$f":"-VLOOKUP($D$1968,'2011 syoa'!$A$5:$GE$44,87,FALSE)","v":-54},{"$f":"-VLOOKUP($D$1968,'2011 syoa'!$A$5:$GE$44,88,FALSE)","v":-69},{"$f":"-VLOOKUP($D$1968,'2011 syoa'!$A$5:$GE$44,89,FALSE)","v":-50},{"$f":"-VLOOKUP($D$1968,'2011 syoa'!$A$5:$GE$44,90,FALSE)","v":-35},{"$f":"-VLOOKUP($D$1968,'2011 syoa'!$A$5:$GE$44,91,FALSE)","v":-34},{"$f":"-VLOOKUP($D$1968,'2011 syoa'!$A$5:$GE$44,92,FALSE)","v":-29},{"$f":"-VLOOKUP($D$1968,'2011 syoa'!$A$5:$GE$44,93,FALSE)","v":-36},{"$f":"-VLOOKUP($D$1968,'2011 syoa'!$A$5:$GE$44,94,FALSE)","v":-22},{"$f":"-VLOOKUP($D$1968,'2011 syoa'!$A$5:$GE$44,95,FALSE)","v":-47}]
[null,null,"max 2011,2013 male",null,"male common",{"$f":"MAX(F1969:F1970)","v":-102},-127,-126,-131,-127,-142,-102,-119,-128,-119,-135,-95,-127,-119,-135,-119,-137,-141,-113,-103,-106,-124,-130,-119,-122,-144,-145,-118,-130,-107,-115,-119,-104,-98,-114,-141,-122,-123,-115,-136,-137,-138,-134,-130,-134,-138,-155,-150,-170,-169,-159,-167,-186,-166,-148,-128,-146,-145,-155,-144,-136,-128,-132,-151,{"$f":"MAX(BR1969:BR1970)","v":-135},-128,-101,-137,-138,-103,-96,-82,-105,-101,-91,-82,-67,-85,-84,-68,-61,-60,-54,-69,-48,-35,-34,-29,-36,-22,-47]
[null,{"$f":"SUM(F1972:CR1972)","v":11780},"2016 female",null,"2009 females",{"$f":"VLOOKUP($D$1968,'2016 syoa'!$A$5:$GE$44,97,FALSE)","v":122},{"$f":"VLOOKUP($D$1968,'2016 syoa'!$A$5:$GE$44,98,FALSE)","v":112},{"$f":"VLOOKUP($D$1968,'2016 syoa'!$A$5:$GE$44,99,FALSE)","v":109},{"$f":"VLOOKUP($D$1968,'2016 syoa'!$A$5:$GE$44,100,FALSE)","v":137},{"$f":"VLOOKUP($D$1968,'2016 syoa'!$A$5:$GE$44,101,FALSE)","v":154},{"$f":"VLOOKUP($D$1968,'2016 syoa'!$A$5:$GE$44,102,FALSE)","v":139},{"$f":"VLOOKUP($D$1968,'2016 syoa'!$A$5:$GE$44,103,FALSE)","v":123},{"$f":"VLOOKUP($D$1968,'2016 syoa'!$A$5:$GE$44,104,FALSE)","v":116},{"$f":"VLOOKUP($D$1968,'2016 syoa'!$A$5:$GE$44,105,FALSE)","v":119},{"$f":"VLOOKUP($D$1968,'2016 syoa'!$A$5:$GE$44,106,FALSE)","v":106},{"$f":"VLOOKUP($D$1968,'2016 syoa'!$A$5:$GE$44,107,FALSE)","v":131},{"$f":"VLOOKUP($D$1968,'2016 syoa'!$A$5:$GE$44,108,FALSE)","v":134},{"$f":"VLOOKUP($D$1968,'2016 syoa'!$A$5:$GE$44,109,FALSE)","v":122},{"$f":"VLOOKUP($D$1968,'2016 syoa'!$A$5:$GE$44,110,FALSE)","v":119},{"$f":"VLOOKUP($D$1968,'2016 syoa'!$A$5:$GE$44,111,FALSE)","v":119},{"$f":"VLOOKUP($D$1968,'2016 syoa'!$A$5:$GE$44,112,FALSE)","v":117},{"$f":"VLOOKUP($D$1968,'2016 syoa'!$A$5:$GE$44,113,FALSE)","v":127},{"$f":"VLOOKUP($D$1968,'2016 syoa'!$A$5:$GE$44,114,FALSE)","v":104},{"$f":"VLOOKUP($D$1968,'2016 syoa'!$A$5:$GE$44,115,FALSE)","v":137},{"$f":"VLOOKUP($D$1968,'2016 syoa'!$A$5:$GE$44,116,FALSE)","v":108},{"$f":"VLOOKUP($D$1968,'2016 syoa'!$A$5:$GE$44,117,FALSE)","v":96},{"$f":"VLOOKUP($D$1968,'2016 syoa'!$A$5:$GE$44,118,FALSE)","v":118},{"$f":"VLOOKUP($D$1968,'2016 syoa'!$A$5:$GE$44,119,FALSE)","v":95},{"$f":"VLOOKUP($D$1968,'2016 syoa'!$A$5:$GE$44,120,FALSE)","v":121},{"$f":"VLOOKUP($D$1968,'2016 syoa'!$A$5:$GE$44,121,FALSE)","v":126},{"$f":"VLOOKUP($D$1968,'2016 syoa'!$A$5:$GE$44,122,FALSE)","v":161},{"$f":"VLOOKUP($D$1968,'2016 syoa'!$A$5:$GE$44,123,FALSE)","v":124},{"$f":"VLOOKUP($D$1968,'2016 syoa'!$A$5:$GE$44,124,FALSE)","v":110},{"$f":"VLOOKUP($D$1968,'2016 syoa'!$A$5:$GE$44,125,FALSE)","v":137},{"$f":"VLOOKUP($D$1968,'2016 syoa'!$A$5:$GE$44,126,FALSE)","v":123},{"$f":"VLOOKUP($D$1968,'2016 syoa'!$A$5:$GE$44,127,FALSE)","v":114},{"$f":"VLOOKUP($D$1968,'2016 syoa'!$A$5:$GE$44,128,FALSE)","v":117},{"$f":"VLOOKUP($D$1968,'2016 syoa'!$A$5:$GE$44,129,FALSE)","v":106},{"$f":"VLOOKUP($D$1968,'2016 syoa'!$A$5:$GE$44,130,FALSE)","v":129},{"$f":"VLOOKUP($D$1968,'2016 syoa'!$A$5:$GE$44,131,FALSE)","v":125},{"$f":"VLOOKUP($D$1968,'2016 syoa'!$A$5:$GE$44,132,FALSE)","v":127},{"$f":"VLOOKUP($D$1968,'2016 syoa'!$A$5:$GE$44,133,FALSE)","v":153},{"$f":"VLOOKUP($D$1968,'2016 syoa'!$A$5:$GE$44,134,FALSE)","v":147},{"$f":"VLOOKUP($D$1968,'2016 syoa'!$A$5:$GE$44,135,FALSE)","v":133},{"$f":"VLOOKUP($D$1968,'2016 syoa'!$A$5:$GE$44,136,FALSE)","v":145},{"$f":"VLOOKUP($D$1968,'2016 syoa'!$A$5:$GE$44,137,FALSE)","v":144},{"$f":"VLOOKUP($D$1968,'2016 syoa'!$A$5:$GE$44,138,FALSE)","v":156},{"$f":"VLOOKUP($D$1968,'2016 syoa'!$A$5:$GE$44,139,FALSE)","v":133},{"$f":"VLOOKUP($D$1968,'2016 syoa'!$A$5:$GE$44,140,FALSE)","v":156},{"$f":"VLOOKUP($D$1968,'2016 syoa'!$A$5:$GE$44,141,FALSE)","v":158},{"$f":"VLOOKUP($D$1968,'2016 syoa'!$A$5:$GE$44,142,FALSE)","v":161},{"$f":"VLOOKUP($D$1968,'2016 syoa'!$A$5:$GE$44,143,FALSE)","v":162},{"$f":"VLOOKUP($D$1968,'2016 syoa'!$A$5:$GE$44,144,FALSE)","v":147},{"$f":"VLOOKUP($D$1968,'2016 syoa'!$A$5:$GE$44,145,FALSE)","v":164},{"$f":"VLOOKUP($D$1968,'2016 syoa'!$A$5:$GE$44,146,FALSE)","v":172},{"$f":"VLOOKUP($D$1968,'2016 syoa'!$A$5:$GE$44,147,FALSE)","v":204},{"$f":"VLOOKUP($D$1968,'2016 syoa'!$A$5:$GE$44,148,FALSE)","v":197},{"$f":"VLOOKUP($D$1968,'2016 syoa'!$A$5:$GE$441,149,FALSE)","v":212},{"$f":"VLOOKUP($D$1968,'2016 syoa'!$A$5:$GE$44,150,FALSE)","v":184},{"$f":"VLOOKUP($D$1968,'2016 syoa'!$A$5:$GE$44,151,FALSE)","v":195},{"$f":"VLOOKUP($D$1968,'2016 syoa'!$A$5:$GE$44,152,FALSE)","v":169},{"$f":"VLOOKUP($D$1968,'2016 syoa'!$A$5:$GE$44,153,FALSE)","v":184},{"$f":"VLOOKUP($D$1968,'2016 syoa'!$A$5:$GE$44,154,FALSE)","v":193},{"$f":"VLOOKUP($D$1968,'2016 syoa'!$A$5:$GE$44,155,FALSE)","v":142},{"$f":"VLOOKUP($D$1968,'2016 syoa'!$A$5:$GE$44,156,FALSE)","v":150},{"$f":"VLOOKUP($D$1968,'2016 syoa'!$A$5:$GE$44,157,FALSE)","v":144},{"$f":"VLOOKUP($D$1968,'2016 syoa'!$A$5:$GE$44,158,FALSE)","v":136},{"$f":"VLOOKUP($D$1968,'2016 syoa'!$A$5:$GE$44,159,FALSE)","v":142},{"$f":"VLOOKUP($D$1968,'2016 syoa'!$A$5:$GE$44,160,FALSE)","v":147},{"$f":"VLOOKUP($D$1968,'2016 syoa'!$A$5:$GE$44,161,FALSE)","v":156},{"$f":"VLOOKUP($D$1968,'2016 syoa'!$A$5:$GE$44,162,FALSE)","v":128},{"$f":"VLOOKUP($D$1968,'2016 syoa'!$A$5:$GE$44,163,FALSE)","v":134},{"$f":"VLOOKUP($D$1968,'2016 syoa'!$A$5:$GE$44,164,FALSE)","v":141},{"$f":"VLOOKUP($D$1968,'2016 syoa'!$A$5:$GE$44,165,FALSE)","v":156},{"$f":"VLOOKUP($D$1968,'2016 syoa'!$A$5:$GE$44,166,FALSE)","v":144},{"$f":"VLOOKUP($D$1968,'2016 syoa'!$A$5:$GE$44,167,FALSE)","v":113},{"$f":"VLOOKUP($D$1968,'2016 syoa'!$A$5:$GE$44,168,FALSE)","v":129},{"$f":"VLOOKUP($D$1968,'2016 syoa'!$A$5:$GE$44,169,FALSE)","v":124},{"$f":"VLOOKUP($D$1968,'2016 syoa'!$A$5:$GE$44,170,FALSE)","v":138},{"$f":"VLOOKUP($D$1968,'2016 syoa'!$A$5:$GE$44,171,FALSE)","v":108},{"$f":"VLOOKUP($D$1968,'2016 syoa'!$A$5:$GE$44,172,FALSE)","v":88},{"$f":"VLOOKUP($D$1968,'2016 syoa'!$A$5:$GE$44,173,FALSE)","v":104},{"$f":"VLOOKUP($D$1968,'2016 syoa'!$A$5:$GE$44,174,FALSE)","v":98},{"$f":"VLOOKUP($D$1968,'2016 syoa'!$A$5:$GE$44,175,FALSE)","v":121},{"$f":"VLOOKUP($D$1968,'2016 syoa'!$A$5:$GE$44,176,FALSE)","v":105},{"$f":"VLOOKUP($D$1968,'2016 syoa'!$A$5:$GE$44,177,FALSE)","v":97},{"$f":"VLOOKUP($D$1968,'2016 syoa'!$A$5:$GE$44,178,FALSE)","v":85},{"$f":"VLOOKUP($D$1968,'2016 syoa'!$A$5:$GE$44,179,FALSE)","v":78},{"$f":"VLOOKUP($D$1968,'2016 syoa'!$A$5:$GE$44,180,FALSE)","v":70},{"$f":"VLOOKUP($D$1968,'2016 syoa'!$A$5:$GE$44,181,FALSE)","v":72},{"$f":"VLOOKUP($D$1968,'2016 syoa'!$A$5:$GE$44,182,FALSE)","v":63},{"$f":"VLOOKUP($D$1968,'2016 syoa'!$A$5:$GE$44,183,FALSE)","v":64},{"$f":"VLOOKUP($D$1968,'2016 syoa'!$A$5:$GE$44,184,FALSE)","v":58},{"$f":"VLOOKUP($D$1968,'2016 syoa'!$A$5:$GE$44,185,FALSE)","v":63},{"$f":"VLOOKUP($D$1968,'2016 syoa'!$A$5:$GE$44,186,FALSE)","v":60},{"$f":"VLOOKUP($D$1968,'2016 syoa'!$A$5:$GE$44,187,FALSE)","v":169}]
[null,{"$f":"SUM(F1973:CR1973)","v":11959},"2011 female",null,"2001 female",{"$f":"VLOOKUP($D$1968,'2011 syoa'!$A$5:$GE$44,97,FALSE)","v":125},{"$f":"VLOOKUP($D$1968,'2011 syoa'!$A$5:$GE$44,98,FALSE)","v":101},{"$f":"VLOOKUP($D$1968,'2011 syoa'!$A$5:$GE$44,99,FALSE)","v":102},{"$f":"VLOOKUP($D$1968,'2011 syoa'!$A$5:$GE$44,100,FALSE)","v":120},{"$f":"VLOOKUP($D$1968,'2011 syoa'!$A$5:$GE$44,101,FALSE)","v":124},{"$f":"VLOOKUP($D$1968,'2011 syoa'!$A$5:$GE$44,102,FALSE)","v":131},{"$f":"VLOOKUP($D$1968,'2011 syoa'!$A$5:$GE$44,103,FALSE)","v":122},{"$f":"VLOOKUP($D$1968,'2011 syoa'!$A$5:$GE$44,104,FALSE)","v":121},{"$f":"VLOOKUP($D$1968,'2011 syoa'!$A$5:$GE$44,105,FALSE)","v":112},{"$f":"VLOOKUP($D$1968,'2011 syoa'!$A$5:$GE$44,106,FALSE)","v":124},{"$f":"VLOOKUP($D$1968,'2011 syoa'!$A$5:$GE$44,107,FALSE)","v":133},{"$f":"VLOOKUP($D$1968,'2011 syoa'!$A$5:$GE$44,108,FALSE)","v":130},{"$f":"VLOOKUP($D$1968,'2011 syoa'!$A$5:$GE$44,109,FALSE)","v":118},{"$f":"VLOOKUP($D$1968,'2011 syoa'!$A$5:$GE$44,110,FALSE)","v":136},{"$f":"VLOOKUP($D$1968,'2011 syoa'!$A$5:$GE$44,111,FALSE)","v":153},{"$f":"VLOOKUP($D$1968,'2011 syoa'!$A$5:$GE$44,112,FALSE)","v":147},{"$f":"VLOOKUP($D$1968,'2011 syoa'!$A$5:$GE$44,113,FALSE)","v":152},{"$f":"VLOOKUP($D$1968,'2011 syoa'!$A$5:$GE$44,114,FALSE)","v":144},{"$f":"VLOOKUP($D$1968,'2011 syoa'!$A$5:$GE$44,115,FALSE)","v":157},{"$f":"VLOOKUP($D$1968,'2011 syoa'!$A$5:$GE$44,116,FALSE)","v":104},{"$f":"VLOOKUP($D$1968,'2011 syoa'!$A$5:$GE$44,117,FALSE)","v":95},{"$f":"VLOOKUP($D$1968,'2011 syoa'!$A$5:$GE$44,118,FALSE)","v":92},{"$f":"VLOOKUP($D$1968,'2011 syoa'!$A$5:$GE$44,119,FALSE)","v":106},{"$f":"VLOOKUP($D$1968,'2011 syoa'!$A$5:$GE$44,120,FALSE)","v":129},{"$f":"VLOOKUP($D$1968,'2011 syoa'!$A$5:$GE$44,121,FALSE)","v":152},{"$f":"VLOOKUP($D$1968,'2011 syoa'!$A$5:$GE$44,122,FALSE)","v":105},{"$f":"VLOOKUP($D$1968,'2011 syoa'!$A$5:$GE$44,123,FALSE)","v":121},{"$f":"VLOOKUP($D$1968,'2011 syoa'!$A$5:$GE$44,124,FALSE)","v":108},{"$f":"VLOOKUP($D$1968,'2011 syoa'!$A$5:$GE$44,125,FALSE)","v":139},{"$f":"VLOOKUP($D$1968,'2011 syoa'!$A$5:$GE$44,126,FALSE)","v":119},{"$f":"VLOOKUP($D$1968,'2011 syoa'!$A$5:$GE$44,127,FALSE)","v":119},{"$f":"VLOOKUP($D$1968,'2011 syoa'!$A$5:$GE$44,128,FALSE)","v":121},{"$f":"VLOOKUP($D$1968,'2011 syoa'!$A$5:$GE$44,129,FALSE)","v":136},{"$f":"VLOOKUP($D$1968,'2011 syoa'!$A$5:$GE$44,130,FALSE)","v":120},{"$f":"VLOOKUP($D$1968,'2011 syoa'!$A$5:$GE$44,131,FALSE)","v":137},{"$f":"VLOOKUP($D$1968,'2011 syoa'!$A$5:$GE$44,132,FALSE)","v":135},{"$f":"VLOOKUP($D$1968,'2011 syoa'!$A$5:$GE$44,133,FALSE)","v":146},{"$f":"VLOOKUP($D$1968,'2011 syoa'!$A$5:$GE$44,134,FALSE)","v":136},{"$f":"VLOOKUP($D$1968,'2011 syoa'!$A$5:$GE$44,135,FALSE)","v":153},{"$f":"VLOOKUP($D$1968,'2011 syoa'!$A$5:$GE$44,136,FALSE)","v":170},{"$f":"VLOOKUP($D$1968,'2011 syoa'!$A$5:$GE$44,137,FALSE)","v":162},{"$f":"VLOOKUP($D$1968,'2011 syoa'!$A$5:$GE$44,138,FALSE)","v":167},{"$f":"VLOOKUP($D$1968,'2011 syoa'!$A$5:$GE$44,139,FALSE)","v":153},{"$f":"VLOOKUP($D$1968,'2011 syoa'!$A$5:$GE$44,140,FALSE)","v":177},{"$f":"VLOOKUP($D$1968,'2011 syoa'!$A$5:$GE$44,141,FALSE)","v":184},{"$f":"VLOOKUP($D$1968,'2011 syoa'!$A$5:$GE$44,142,FALSE)","v":198},{"$f":"VLOOKUP($D$1968,'2011 syoa'!$A$5:$GE$44,143,FALSE)","v":179},{"$f":"VLOOKUP($D$1968,'2011 syoa'!$A$5:$GE$44,144,FALSE)","v":201},{"$f":"VLOOKUP($D$1968,'2011 syoa'!$A$5:$GE$44,145,FALSE)","v":199},{"$f":"VLOOKUP($D$1968,'2011 syoa'!$A$5:$GE$44,146,FALSE)","v":197},{"$f":"VLOOKUP($D$1968,'2011 syoa'!$A$5:$GE$44,147,FALSE)","v":177},{"$f":"VLOOKUP($D$1968,'2011 syoa'!$A$5:$GE$44,148,FALSE)","v":190},{"$f":"VLOOKUP($D$1968,'2011 syoa'!$A$5:$GE$441,149,FALSE)","v":193},{"$f":"VLOOKUP($D$1968,'2011 syoa'!$A$5:$GE$44,150,FALSE)","v":166},{"$f":"VLOOKUP($D$1968,'2011 syoa'!$A$5:$GE$44,151,FALSE)","v":156},{"$f":"VLOOKUP($D$1968,'2011 syoa'!$A$5:$GE$44,152,FALSE)","v":163},{"$f":"VLOOKUP($D$1968,'2011 syoa'!$A$5:$GE$44,153,FALSE)","v":146},{"$f":"VLOOKUP($D$1968,'2011 syoa'!$A$5:$GE$44,154,FALSE)","v":153},{"$f":"VLOOKUP($D$1968,'2011 syoa'!$A$5:$GE$44,155,FALSE)","v":156},{"$f":"VLOOKUP($D$1968,'2011 syoa'!$A$5:$GE$44,156,FALSE)","v":163},{"$f":"VLOOKUP($D$1968,'2011 syoa'!$A$5:$GE$44,157,FALSE)","v":143},{"$f":"VLOOKUP($D$1968,'2011 syoa'!$A$5:$GE$44,158,FALSE)","v":162},{"$f":"VLOOKUP($D$1968,'2011 syoa'!$A$5:$GE$44,159,FALSE)","v":147},{"$f":"VLOOKUP($D$1968,'2011 syoa'!$A$5:$GE$44,160,FALSE)","v":169},{"$f":"VLOOKUP($D$1968,'2011 syoa'!$A$5:$GE$44,161,FALSE)","v":161},{"$f":"VLOOKUP($D$1968,'2011 syoa'!$A$5:$GE$44,162,FALSE)","v":124},{"$f":"VLOOKUP($D$1968,'2011 syoa'!$A$5:$GE$44,163,FALSE)","v":140},{"$f":"VLOOKUP($D$1968,'2011 syoa'!$A$5:$GE$44,164,FALSE)","v":143},{"$f":"VLOOKUP($D$1968,'2011 syoa'!$A$5:$GE$44,165,FALSE)","v":138},{"$f":"VLOOKUP($D$1968,'2011 syoa'!$A$5:$GE$44,166,FALSE)","v":120},{"$f":"VLOOKUP($D$1968,'2011 syoa'!$A$5:$GE$44,167,FALSE)","v":93},{"$f":"VLOOKUP($D$1968,'2011 syoa'!$A$5:$GE$44,168,FALSE)","v":110},{"$f":"VLOOKUP($D$1968,'2011 syoa'!$A$5:$GE$44,169,FALSE)","v":124},{"$f":"VLOOKUP($D$1968,'2011 syoa'!$A$5:$GE$44,170,FALSE)","v":118},{"$f":"VLOOKUP($D$1968,'2011 syoa'!$A$5:$GE$44,171,FALSE)","v":115},{"$f":"VLOOKUP($D$1968,'2011 syoa'!$A$5:$GE$44,172,FALSE)","v":111},{"$f":"VLOOKUP($D$1968,'2011 syoa'!$A$5:$GE$44,173,FALSE)","v":113},{"$f":"VLOOKUP($D$1968,'2011 syoa'!$A$5:$GE$44,174,FALSE)","v":91},{"$f":"VLOOKUP($D$1968,'2011 syoa'!$A$5:$GE$44,175,FALSE)","v":83},{"$f":"VLOOKUP($D$1968,'2011 syoa'!$A$5:$GE$44,176,FALSE)","v":107},{"$f":"VLOOKUP($D$1968,'2011 syoa'!$A$5:$GE$44,177,FALSE)","v":91},{"$f":"VLOOKUP($D$1968,'2011 syoa'!$A$5:$GE$44,178,FALSE)","v":83},{"$f":"VLOOKUP($D$1968,'2011 syoa'!$A$5:$GE$44,179,FALSE)","v":89},{"$f":"VLOOKUP($D$1968,'2011 syoa'!$A$5:$GE$44,180,FALSE)","v":73},{"$f":"VLOOKUP($D$1968,'2011 syoa'!$A$5:$GE$44,181,FALSE)","v":75},{"$f":"VLOOKUP($D$1968,'2011 syoa'!$A$5:$GE$44,182,FALSE)","v":64},{"$f":"VLOOKUP($D$1968,'2011 syoa'!$A$5:$GE$44,183,FALSE)","v":67},{"$f":"VLOOKUP($D$1968,'2011 syoa'!$A$5:$GE$44,184,FALSE)","v":59},{"$f":"VLOOKUP($D$1968,'2011 syoa'!$A$5:$GE$44,185,FALSE)","v":49},{"$f":"VLOOKUP($D$1968,'2011 syoa'!$A$5:$GE$44,186,FALSE)","v":43},{"$f":"VLOOKUP($D$1968,'2011 syoa'!$A$5:$GE$44,187,FALSE)","v":179}]
[null,null,"min 2011,2013 fem",null,"female common",{"$f":"MIN(F1972:F1973)","v":122},101,102,120,124,131,122,116,112,106,131,130,118,119,119,117,127,104,137,104,95,92,95,121,126,105,121,108,137,119,114,117,106,120,125,127,146,136,133,145,144,156,133,156,158,161,162,147,164,172,177,190,193,166,156,163,146,153,142,150,143,136,142,147,{"$f":"MIN(BR1972:BR1973)","v":156},124,134,141,138,120,93,110,124,118,108,88,104,91,83,105,91,83,78,70,72,63,64,58,49,43,169]
[null,null,"2016 male for table",null,"2009 males",{"$f":"-F1969","v":146},131,141,131,149,142,144,133,136,125,139,95,127,119,135,119,137,141,{"$f":"-X1969","v":113},103,120,124,144,119,122,144,145,127,130,107,140,132,115,137,114,152,122,123,115,136,146,138,134,130,134,138,155,150,170,169,159,167,186,186,181,151,177,166,155,151,136,128,132,164,135,128,142,137,140,134,109,96,130,115,94,88,69,90,84,68,79,60,{"$f":"-CJ1969","v":63},70,48,52,40,38,48,32,80]
[null,null,"2011 male for table",null,"2001 male",{"$f":"-F1970","v":102},127,126,132,127,142,102,119,128,119,135,149,148,126,145,132,149,156,{"$f":"-X1970","v":151},126,106,129,130,134,126,154,147,118,135,115,115,119,104,98,138,141,129,142,132,150,137,165,161,182,204,166,181,190,192,192,162,198,190,166,148,128,146,145,172,144,147,158,164,151,161,129,101,158,138,103,96,82,105,101,91,82,67,85,94,70,61,60,{"$f":"-CJ1970","v":54},69,50,35,34,29,36,22,47]
[null,{"$f":"SUM(F1977:CR1977)","v":23026},"2016 persons",null,"2009 total",{"$f":"F1975+F1972","v":268},243,250,268,303,281,267,249,255,231,270,229,249,238,254,236,264,245,{"$f":"X1975+X1972","v":250},211,216,242,239,240,248,305,269,237,267,230,254,249,221,266,239,279,275,270,248,281,290,294,267,286,292,299,317,297,334,341,363,364,398,370,376,320,361,359,297,301,280,264,274,311,291,256,276,278,296,278,222,225,254,253,202,176,173,188,205,173,176,145,{"$f":"CJ1975+CJ1972","v":141},140,120,115,104,96,111,92,249]
[null,{"$f":"SUM(F1978:CR1978)","v":23311},"2011 persons",null,"2001 total",{"$f":"F1976+F1973","v":227},228,228,252,251,273,224,240,240,243,268,279,266,262,298,279,301,300,{"$f":"X1976+X1973","v":308},230,201,221,236,263,278,259,268,226,274,234,234,240,240,218,275,276,275,278,285,320,299,332,314,359,388,364,360,391,391,389,339,388,383,332,304,291,292,298,328,307,290,320,311,320,322,253,241,301,276,223,189,192,229,219,206,193,180,176,177,177,152,143,{"$f":"CJ1976+CJ1973","v":143},142,125,99,101,88,85,65,226]

{"sheet":"broad age prop","index":15,"n_rows":1971,"n_cols":13,"rows_kept":1971,"cut":false,"hidden":false,"merged":[]}
[null,null,"unrounded look up  data from row 1945"]
["2016 Birmingham ward population by broad age group"]
[]
["Ward","Constituency","Children","Working Age","Pension age","All people","Dependency ratio","Child dependency ratio","Pensioner dependency ratio","Use the drop down box to compare up to 4 wards"]
["Washwood Heath",{"$f":"VLOOKUP(A5,$A$1931:$M$1970,2,FALSE)","v":"Hodge Hill"},{"$f":"VLOOKUP(A5,$A$1931:$M$1970,7,FALSE)","v":11279},{"$f":"VLOOKUP(A5,$A$1931:$M$1970,8,FALSE)","v":21490},{"$f":"VLOOKUP(A5,$A$1931:$M$1970,9,FALSE)","v":2441},{"$f":"VLOOKUP(A5,$A$1931:$M$1970,10,FALSE)","v":35210},{"$f":"VLOOKUP(A5,$A$1931:$M$1970,11,FALSE)","v":638.43648208469051},{"$f":"VLOOKUP(A5,$A$1931:$M$1970,12,FALSE)","v":524.8487668683108},{"$f":"VLOOKUP(A5,$A$1931:$M$1970,13,FALSE)","v":113.58771521637971}]
["Sparkbrook",{"$f":"VLOOKUP(A6,$A$1931:$M$1970,2,FALSE)","v":"Hall Green"},{"$f":"VLOOKUP(A6,$A$1931:$M$1970,7,FALSE)","v":9471},{"$f":"VLOOKUP(A6,$A$1931:$M$1970,8,FALSE)","v":21199},{"$f":"VLOOKUP(A6,$A$1931:$M$1970,9,FALSE)","v":2754},{"$f":"VLOOKUP(A6,$A$1931:$M$1970,10,FALSE)","v":33424},{"$f":"VLOOKUP(A6,$A$1931:$M$1970,11,FALSE)","v":576.67814519552803},{"$f":"VLOOKUP(A6,$A$1931:$M$1970,12,FALSE)","v":446.76635690362752},{"$f":"VLOOKUP(A6,$A$1931:$M$1970,13,FALSE)","v":129.91178829190056}]
["South Yardley",{"$f":"VLOOKUP(A7,$A$1931:$M$1970,2,FALSE)","v":"Yardley"},{"$f":"VLOOKUP(A7,$A$1931:$M$1970,7,FALSE)","v":8932},{"$f":"VLOOKUP(A7,$A$1931:$M$1970,8,FALSE)","v":20100},{"$f":"VLOOKUP(A7,$A$1931:$M$1970,9,FALSE)","v":3421},{"$f":"VLOOKUP(A7,$A$1931:$M$1970,10,FALSE)","v":32453},{"$f":"VLOOKUP(A7,$A$1931:$M$1970,11,FALSE)","v":614.57711442786069},{"$f":"VLOOKUP(A7,$A$1931:$M$1970,12,FALSE)","v":444.37810945273634},{"$f":"VLOOKUP(A7,$A$1931:$M$1970,13,FALSE)","v":170.19900497512438}]
["Weoley",{"$f":"VLOOKUP(A8,$A$1931:$M$1970,2,FALSE)","v":"Northfield"},{"$f":"VLOOKUP(A8,$A$1931:$M$1970,7,FALSE)","v":6120},{"$f":"VLOOKUP(A8,$A$1931:$M$1970,8,FALSE)","v":16203},{"$f":"VLOOKUP(A8,$A$1931:$M$1970,9,FALSE)","v":4082},{"$f":"VLOOKUP(A8,$A$1931:$M$1970,10,FALSE)","v":26405},{"$f":"VLOOKUP(A8,$A$1931:$M$1970,11,FALSE)","v":629.63648707029563},{"$f":"VLOOKUP(A8,$A$1931:$M$1970,12,FALSE)","v":377.70783188298464},{"$f":"VLOOKUP(A8,$A$1931:$M$1970,13,FALSE)","v":251.92865518731099}]
[{"$f":"A1971","v":"Birmingham"},{"$f":"B1971","v":"Birmingham"},{"$f":"G1971","v":256582},{"$f":"H1971","v":722266},{"$f":"I1971","v":145721},{"$f":"F1971","v":1124569},{"$f":"K1971","v":557.00116023736416},{"$f":"L1971","v":355.24585125147803},{"$f":"M1971","v":201.7553089858861}]
[]
[]
[]
[]
[]
[]
[]
[]
[]
[]
[]
[]
[]
[]
[]
[]
[]
[]
[]
[]
[]
[]
[]
["Notes"]
["children","0-15 years",null,null,null,null,null,null,"Transportation & Connectivity, Economy Service"]
["working age","16-64 years",null,null,null,null,null,null,"www.birmingham.gov.uk/census"]
["pension age","65 years or more",null,null,null,null,null,null,"brenda.henry@birmingham.gov.uk"]
["Dependency ratio ","Depends per 1,000 working age population"]
["Source:Office for National Statistics, 2016 mid-year Ward population (experimental statistics), Crown Copyright 2017"]
[]
[]
[]
[]
[]
[]
[]
[]
[]
[]
[]
[]
[]
[]
[]
[]
[]
[]
[]
[]
[]
[]
[]
[]
[]
[]
[]
[]
[]
[]
[]
[]
[]
[]
[]
[]
[]
[]
[]
[]
[]
[]
[]
[]
[]
[]
[]
[]
[]
[]
[]
[]
[]
[]
[]
[]
[]
[]
[]
[]
[]
[]
[]
[]
[]
[]
[]
[]
[]
[]
[]
[]
[]
[]
[]
[]
[]
[]
[]
[]
[]
[]
[]
[]
[]
[]
[]
[]
[]
[]
[]
[]
[]
[]
[]
[]
[]
[]
[]
[]
[]
[]
[]
[]
[]
[]
[]
[]
[]
[]
[]
[]
[]
[]
[]
[]
[]
[]
[]
[]
[]
[]
[]
[]
[]
[]
[]
[]
[]
[]
[]
[]
[]
[]
[]
[]
[]
[]
[]
[]
[]
[]
[]
[]
[]
[]
[]
[]
[]
[]
[]
[]
[]
[]
[]
[]
[]
[]
[]
[]
[]
[]
[]
[]
[]
[]
[]
[]
[]
[]
[]
[]
[]
[]
[]
[]
[]
[]
[]
[]
[]
[]
[]
[]
[]
[]
[]
[]
[]
[]
[]
[]
[]
[]
[]
[]
[]
[]
[]
[]
[]
[]
[]
[]
[]
[]
[]
[]
[]
[]
[]
[]
[]
[]
[]
[]
[]
[]
[]
[]
[]
[]
[]
[]
[]
[]
[]
[]
[]
[]
[]
[]
[]
[]
[]
[]
[]
[]
[]
[]
[]
[]
[]
[]
[]
[]
[]
[]
[]
[]
[]
[]
[]
[]
[]
[]
[]
[]
[]
[]
[]
[]
[]
[]
[]
[]
[]
[]
[]
[]
[]
[]
[]
[]
[]
[]
[]
[]
[]
[]
[]
[]
[]
[]
[]
[]
[]
[]
[]
[]
[]
[]
[]
[]
[]
[]
[]
[]
[]
[]
[]
[]
[]
[]
[]
[]
[]
[]
[]
[]
[]
[]
[]
[]
[]
[]
[]
[]
[]
[]
[]
[]
[]
[]
[]
[]
[]
[]
[]
[]
[]
[]
[]
[]
[]
[]
[]
[]
[]
[]
[]
[]
[]
[]
[]
[]
[]
[]
[]
[]
[]
[]
[]
[]
[]
[]
[]
[]
[]
[]
[]
[]
[]
[]
[]
[]
[]
[]
[]
[]
[]
[]
[]
[]
[]
[]
[]
[]
[]
[]
[]
[]
[]
[]
[]
[]
[]
[]
[]
[]
[]
[]
[]
[]
[]
[]
[]
[]
[]
[]
[]
[]
[]
[]
[]
[]
[]
[]
[]
[]
[]
[]
[]
[]
[]
[]
[]
[]
[]
[]
[]
[]
[]
[]
[]
[]
[]
[]
[]
[]
[]
[]
[]
[]
[]
[]
[]
[]
[]
[]
[]
[]
[]
[]
[]
[]
[]
[]
[]
[]
[]
[]
[]
[]
[]
[]
[]
[]
[]
[]
[]
[]
[]
[]
[]
[]
[]
[]
[]
[]
[]
[]
[]
[]
[]
[]
[]
[]
[]
[]
[]
[]
[]
[]
[]
[]
[]
[]
[]
[]
[]
[]
[]
[]
[]
[]
[]
[]
[]
[]
[]
[]
[]
[]
[]
[]
[]
[]
[]
[]
[]
[]
[]
[]
[]
[]
[]
[]
[]
[]
[]
[]
[]
[]
[]
[]
[]
[]
[]
[]
[]
[]
[]
[]
[]
[]
[]
[]
[]
[]
[]
[]
[]
[]
[]
[]
[]
[]
[]
[]
[]
[]
[]
[]
[]
[]
[]
[]
[]
[]
[]
[]
[]
[]
[]
[]
[]
[]
[]
[]
[]
[]
[]
[]
[]
[]
[]
[]
[]
[]
[]
[]
[]
[]
[]
[]
[]
[]
[]
[]
[]
[]
[]
[]
[]
[]
[]
[]
[]
[]
[]
[]
[]
[]
[]
[]
[]
[]
[]
[]
[]
[]
[]
[]
[]
[]
[]
[]
[]
[]
[]
[]
[]
[]
[]
[]
[]
[]
[]
[]
[]
[]
[]
[]
[]
[]
[]
[]
[]
[]
[]
[]
[]
[]
[]
[]
[]
[]
[]
[]
[]
[]
[]
[]
[]
[]
[]
[]
[]
[]
[]
[]
[]
[]
[]
[]
[]
[]
[]
[]
[]
[]
[]
[]
[]
[]
[]
[]
[]
[]
[]
[]
[]
[]
[]
[]
[]
[]
[]
[]
[]
[]
[]
[]
[]
[]
[]
[]
[]
[]
[]
[]
[]
[]
[]
[]
[]
[]
[]
[]
[]
[]
[]
[]
[]
[]
[]
[]
[]
[]
[]
[]
[]
[]
[]
[]
[]
[]
[]
[]
[]
[]
[]
[]
[]
[]
[]
[]
[]
[]
[]
[]
[]
[]
[]
[]
[]
[]
[]
[]
[]
[]
[]
[]
[]
[]
[]
[]
[]
[]
[]
[]
[]
[]
[]
[]
[]
[]
[]
[]
[]
[]
[]
[]
[]
[]
[]
[]
[]
[]
[]
[]
[]
[]
[]
[]
[]
[]
[]
[]
[]
[]
[]
[]
[]
[]
[]
[]
[]
[]
[]
[]
[]
[]
[]
[]
[]
[]
[]
[]
[]
[]
[]
[]
[]
[]
[]
[]
[]
[]
[]
[]
[]
[]
[]
[]
[]
[]
[]
[]
[]
[]
[]
[]
[]
[]
[]
[]
[]
[]
[]
[]
[]
[]
[]
[]
[]
[]
[]
[]
[]
[]
[]
[]
[]
[]
[]
[]
[]
[]
[]
[]
[]
[]
[]
[]
[]
[]
[]
[]
[]
[]
[]
[]
[]
[]
[]
[]
[]
[]
[]
[]
[]
[]
[]
[]
[]
[]
[]
[]
[]
[]
[]
[]
[]
[]
[]
[]
[]
[]
[]
[]
[]
[]
[]
[]
[]
[]
[]
[]
[]
[]
[]
[]
[]
[]
[]
[]
[]
[]
[]
[]
[]
[]
[]
[]
[]
[]
[]
[]
[]
[]
[]
[]
[]
[]
[]
[]
[]
[]
[]
[]
[]
[]
[]
[]
[]
[]
[]
[]
[]
[]
[]
[]
[]
[]
[]
[]
[]
[]
[]
[]
[]
[]
[]
[]
[]
[]
[]
[]
[]
[]
[]
[]
[]
[]
[]
[]
[]
[]
[]
[]
[]
[]
[]
[]
[]
[]
[]
[]
[]
[]
[]
[]
[]
[]
[]
[]
[]
[]
[]
[]
[]
[]
[]
[]
[]
[]
[]
[]
[]
[]
[]
[]
[]
[]
[]
[]
[]
[]
[]
[]
[]
[]
[]
[]
[]
[]
[]
[]
[]
[]
[]
[]
[]
[]
[]
[]
[]
[]
[]
[]
[]
[]
[]
[]
[]
[]
[]
[]
[]
[]
[]
[]
[]
[]
[]
[]
[]
[]
[]
[]
[]
[]
[]
[]
[]
[]
[]
[]
[]
[]
[]
[]
[]
[]
[]
[]
[]
[]
[]
[]
[]
[]
[]
[]
[]
[]
[]
[]
[]
[]
[]
[]
[]
[]
[]
[]
[]
[]
[]
[]
[]
[]
[]
[]
[]
[]
[]
[]
[]
[]
[]
[]
[]
[]
[]
[]
[]
[]
[]
[]
[]
[]
[]
[]
[]
[]
[]
[]
[]
[]
[]
[]
[]
[]
[]
[]
[]
[]
[]
[]
[]
[]
[]
[]
[]
[]
[]
[]
[]
[]
[]
[]
[]
[]
[]
[]
[]
[]
[]
[]
[]
[]
[]
[]
[]
[]
[]
[]
[]
[]
[]
[]
[]
[]
[]
[]
[]
[]
[]
[]
[]
[]
[]
[]
[]
[]
[]
[]
[]
[]
[]
[]
[]
[]
[]
[]
[]
[]
[]
[]
[]
[]
[]
[]
[]
[]
[]
[]
[]
[]
[]
[]
[]
[]
[]
[]
[]
[]
[]
[]
[]
[]
[]
[]
[]
[]
[]
[]
[]
[]
[]
[]
[]
[]
[]
[]
[]
[]
[]
[]
[]
[]
[]
[]
[]
[]
[]
[]
[]
[]
[]
[]
[]
[]
[]
[]
[]
[]
[]
[]
[]
[]
[]
[]
[]
[]
[]
[]
[]
[]
[]
[]
[]
[]
[]
[]
[]
[]
[]
[]
[]
[]
[]
[]
[]
[]
[]
[]
[]
[]
[]
[]
[]
[]
[]
[]
[]
[]
[]
[]
[]
[]
[]
[]
[]
[]
[]
[]
[]
[]
[]
[]
[]
[]
[]
[]
[]
[]
[]
[]
[]
[]
[]
[]
[]
[]
[]
[]
[]
[]
[]
[]
[]
[]
[]
[]
[]
[]
[]
[]
[]
[]
[]
[]
[]
[]
[]
[]
[]
[]
[]
[]
[]
[]
[]
[]
[]
[]
[]
[]
[]
[]
[]
[]
[]
[]
[]
[]
[]
[]
[]
[]
[]
[]
[]
[]
[]
[]
[]
[]
[]
[]
[]
[]
[]
[]
[]
[]
[]
[]
[]
[]
[]
[]
[]
[]
[]
[]
[]
[]
[]
[]
[]
[]
[]
[]
[]
[]
[]
[]
[]
[]
[]
[]
[]
[]
[]
[]
[]
[]
[]
[]
[]
[]
[]
[]
[]
[]
[]
[]
[]
[]
[]
[]
[]
[]
[]
[]
[]
[]
[]
[]
[]
[]
[]
[]
[]
[]
[]
[]
[]
[]
[]
[]
[]
[]
[]
[]
[]
[]
[]
[]
[]
[]
[]
[]
[]
[]
[]
[]
[]
[]
[]
[]
[]
[]
[]
[]
[]
[]
[]
[]
[]
[]
[]
[]
[]
[]
[]
[]
[]
[]
[]
[]
[]
[]
[]
[]
[]
[]
[]
[]
[]
[]
[]
[]
[]
[]
[]
[]
[]
[]
[]
[]
[]
[]
[]
[]
[]
[]
[]
[]
[]
[]
[]
[]
[]
[]
[]
[]
[]
[]
[]
[]
[]
[]
[]
[]
[]
[]
[]
[]
[]
[]
[]
[]
[]
[]
[]
[]
[]
[]
[]
[]
[]
[]
[]
[]
[]
[]
[]
[]
[]
[]
[]
[]
[]
[]
[]
[]
[]
[]
[]
[]
[]
[]
[]
[]
[]
[]
[]
[]
[]
[]
[]
[]
[]
[]
[]
[]
[]
[]
[]
[]
[]
[]
[]
[]
[]
[]
[]
[]
[]
[]
[]
[]
[]
[]
[]
[]
[]
[]
[]
[]
[]
[]
[]
[]
[]
[]
[]
[]
[]
[]
[]
[]
[]
[]
[]
[]
[]
[]
[]
[]
[]
[]
[]
[]
[]
[]
[]
[]
[]
[]
[]
[]
[]
[]
[]
[]
[]
[]
[]
[]
[]
[]
[]
[]
[]
[]
[]
[]
[]
[]
[]
[]
[]
[]
[]
[]
[]
[]
[]
[]
[]
[]
[]
[]
[]
[]
[]
[]
[]
[]
[]
[]
[]
[]
[]
[]
[]
[]
[]
[]
[]
[]
[]
[]
[]
[]
[]
[]
[]
[]
[]
[]
[]
[]
[]
[]
[]
[]
[]
[]
[]
[]
[]
[]
[]
[]
[]
[]
[]
[]
[]
[]
[]
[]
[]
[]
[]
[]
[]
[]
[]
[]
[]
[]
[]
[]
[]
[]
[]
[]
[]
[]
[]
[]
[]
[]
[]
[]
[]
[]
[]
[]
[]
[]
[]
[]
[]
[]
[]
[]
[]
[]
[]
[]
[]
[]
[]
[]
[]
[]
[]
[]
[]
[]
[]
[]
[]
[]
[]
[]
[]
[]
[]
[]
[]
[]
[]
[]
[]
[]
[]
[]
[]
[]
[]
[]
[]
[]
[]
[]
[]
[]
[]
[]
[]
[]
[]
[]
[]
[]
[]
[]
[]
[]
[]
[]
[]
[]
[]
[]
[]
[]
[]
[]
[]
[]
[]
[]
[]
[]
[]
[]
[]
[]
[]
[]
[]
[]
[]
[]
[]
[]
[]
[]
[]
[]
[]
[]
[]
[]
[]
[]
[]
[]
[]
[]
[]
[]
[]
[]
[]
[]
[]
[]
[]
[]
[]
[]
[]
[]
[]
[]
[]
[]
[]
[]
[]
[]
[]
[]
[]
[]
[]
[1,2,3,4,5,6,7,8,9,10,11,12,13]
[null,null,null,null,null,null,"rounded"]
[null,null,"0-15","16-64","65+","persons","children","working age","pensions","persons","dependency","child depend","pension depend"]
["Acocks Green","Yardley",{"$f":"SUM('quinary 2016'!E5:G5)+'2016 syoa'!T5+'2016 syoa'!DH5","v":7071},{"$f":"SUM('quinary 2016'!H5:Q5)-('2016 syoa'!T5+'2016 syoa'!DH5)","v":18709},{"$f":"SUM('quinary 2016'!R5:W5)","v":3726},{"$f":"'quinary 2016'!D5","v":29506},{"$f":"C1931","v":7071},{"$f":"D1931","v":18709},{"$f":"E1931","v":3726},{"$f":"F1931","v":29506},{"$f":"(E1931+C1931)/D1931*1000","v":577.10192955262175},{"$f":"C1931/D1931*1000","v":377.94644288844944},{"$f":"E1931/D1931*1000","v":199.15548666417232}]
["Aston","Ladywood",{"$f":"SUM('quinary 2016'!E6:G6)+'2016 syoa'!T6+'2016 syoa'!DH6","v":9414},{"$f":"SUM('quinary 2016'!H6:Q6)-('2016 syoa'!T6+'2016 syoa'!DH6)","v":22349},{"$f":"SUM('quinary 2016'!R6:W6)","v":2555},{"$f":"'quinary 2016'!D6","v":34318},{"$f":"C1932","v":9414},{"$f":"D1932","v":22349},{"$f":"E1932","v":2555},{"$f":"F1932","v":34318},{"$f":"(E1932+C1932)/D1932*1000","v":535.54968902411736},{"$f":"C1932/D1932*1000","v":421.22690053246231},{"$f":"E1932/D1932*1000","v":114.32278849165512}]
["Bartley Green","Edgbaston",{"$f":"SUM('quinary 2016'!E7:G7)+'2016 syoa'!T7+'2016 syoa'!DH7","v":5914},{"$f":"SUM('quinary 2016'!H7:Q7)-('2016 syoa'!T7+'2016 syoa'!DH7)","v":15923},{"$f":"SUM('quinary 2016'!R7:W7)","v":4042},{"$f":"'quinary 2016'!D7","v":25879},5914,15923,4042,25879,625.25905922250831,371.41242228223325,253.84663694027509]
["Billesley","Selly Oak",{"$f":"SUM('quinary 2016'!E8:G8)+'2016 syoa'!T8+'2016 syoa'!DH8","v":6011},{"$f":"SUM('quinary 2016'!H8:Q8)-('2016 syoa'!T8+'2016 syoa'!DH8)","v":16659},{"$f":"SUM('quinary 2016'!R8:W8)","v":4260},{"$f":"'quinary 2016'!D8","v":26930},6011,16659,4260,26930,616.54361006062788,360.82597995077737,255.71763010985055]
["Bordesley Green","Hodge Hill",{"$f":"SUM('quinary 2016'!E9:G9)+'2016 syoa'!T9+'2016 syoa'!DH9","v":11785},{"$f":"SUM('quinary 2016'!H9:Q9)-('2016 syoa'!T9+'2016 syoa'!DH9)","v":21407},{"$f":"SUM('quinary 2016'!R9:W9)","v":2795},{"$f":"'quinary 2016'!D9","v":35987},11785,21407,2795,35987,681.08562619703844,550.52085766338109,130.56476853365723]
["Bournville","Selly Oak",{"$f":"SUM('quinary 2016'!E10:G10)+'2016 syoa'!T10+'2016 syoa'!DH10","v":5038},{"$f":"SUM('quinary 2016'!H10:Q10)-('2016 syoa'!T10+'2016 syoa'!DH10)","v":16384},{"$f":"SUM('quinary 2016'!R10:W10)","v":4415},{"$f":"'quinary 2016'!D10","v":25837},5038,16384,4415,25837,576.96533203125,307.4951171875,269.47021484375]
["Brandwood","Selly Oak",{"$f":"SUM('quinary 2016'!E11:G11)+'2016 syoa'!T11+'2016 syoa'!DH11","v":5649},{"$f":"SUM('quinary 2016'!H11:Q11)-('2016 syoa'!T11+'2016 syoa'!DH11)","v":16034},{"$f":"SUM('quinary 2016'!R11:W11)","v":4184},{"$f":"'quinary 2016'!D11","v":25867},5649,16034,4184,25867,613.25932393663459,352.31383310465264,260.94549083198206]
["Edgbaston","Edgbaston",{"$f":"SUM('quinary 2016'!E12:G12)+'2016 syoa'!T12+'2016 syoa'!DH12","v":3770},{"$f":"SUM('quinary 2016'!H12:Q12)-('2016 syoa'!T12+'2016 syoa'!DH12)","v":21248},{"$f":"SUM('quinary 2016'!R12:W12)","v":3002},{"$f":"'quinary 2016'!D12","v":28020},3770,21248,3002,28020,318.71234939759034,177.42846385542168,141.28388554216866]
["Erdington","Erdington",{"$f":"SUM('quinary 2016'!E13:G13)+'2016 syoa'!T13+'2016 syoa'!DH13","v":5041},{"$f":"SUM('quinary 2016'!H13:Q13)-('2016 syoa'!T13+'2016 syoa'!DH13)","v":15155},{"$f":"SUM('quinary 2016'!R13:W13)","v":3925},{"$f":"'quinary 2016'!D13","v":24121},5041,15155,3925,24121,591.61992741669417,332.62949521610028,258.99043220059389]
["Hall Green","Hall Green",{"$f":"SUM('quinary 2016'!E14:G14)+'2016 syoa'!T14+'2016 syoa'!DH14","v":6093},{"$f":"SUM('quinary 2016'!H14:Q14)-('2016 syoa'!T14+'2016 syoa'!DH14)","v":16792},{"$f":"SUM('quinary 2016'!R14:W14)","v":4277},{"$f":"'quinary 2016'!D14","v":27162},6093,16792,4277,27162,617.55597903763692,362.8513577894235,254.70462124821341]
["Handsworth Wood","Perry Barr",{"$f":"SUM('quinary 2016'!E15:G15)+'2016 syoa'!T15+'2016 syoa'!DH15","v":6184},{"$f":"SUM('quinary 2016'!H15:Q15)-('2016 syoa'!T15+'2016 syoa'!DH15)","v":19174},{"$f":"SUM('quinary 2016'!R15:W15)","v":3308},{"$f":"'quinary 2016'!D15","v":28666},6184,19174,3308,28666,495.04537394388234,322.52007927401689,172.52529466986545]
["Harborne","Edgbaston",{"$f":"SUM('quinary 2016'!E16:G16)+'2016 syoa'!T16+'2016 syoa'!DH16","v":4446},{"$f":"SUM('quinary 2016'!H16:Q16)-('2016 syoa'!T16+'2016 syoa'!DH16)","v":16866},{"$f":"SUM('quinary 2016'!R16:W16)","v":3704},{"$f":"'quinary 2016'!D16","v":25016},4446,16866,3704,25016,483.22068065931461,263.60725720384204,219.61342345547254]
["Hodge Hill","Hodge Hill",{"$f":"SUM('quinary 2016'!E17:G17)+'2016 syoa'!T17+'2016 syoa'!DH17","v":8635},{"$f":"SUM('quinary 2016'!H17:Q17)-('2016 syoa'!T17+'2016 syoa'!DH17)","v":17703},{"$f":"SUM('quinary 2016'!R17:W17)","v":3446},{"$f":"'quinary 2016'!D17","v":29784},8635,17703,3446,29784,682.42670733773934,487.77043438965143,194.65627294808792]
["Kings Norton","Northfield",{"$f":"SUM('quinary 2016'!E18:G18)+'2016 syoa'!T18+'2016 syoa'!DH18","v":5611},{"$f":"SUM('quinary 2016'!H18:Q18)-('2016 syoa'!T18+'2016 syoa'!DH18)","v":14647},{"$f":"SUM('quinary 2016'!R18:W18)","v":4275},{"$f":"'quinary 2016'!D18","v":24533},5611,14647,4275,24533,674.9505018092442,383.08185976650509,291.86864204273911]
["Kingstanding","Erdington",{"$f":"SUM('quinary 2016'!E19:G19)+'2016 syoa'!T19+'2016 syoa'!DH19","v":6453},{"$f":"SUM('quinary 2016'!H19:Q19)-('2016 syoa'!T19+'2016 syoa'!DH19)","v":15937},{"$f":"SUM('quinary 2016'!R19:W19)","v":3363},{"$f":"'quinary 2016'!D19","v":25753},6453,15937,3363,25753,615.925205496643,404.90682060613665,211.01838489050635]
["Ladywood","Ladywood",{"$f":"SUM('quinary 2016'!E20:G20)+'2016 syoa'!T20+'2016 syoa'!DH20","v":4520},{"$f":"SUM('quinary 2016'!H20:Q20)-('2016 syoa'!T20+'2016 syoa'!DH20)","v":30311},{"$f":"SUM('quinary 2016'!R20:W20)","v":1593},{"$f":"'quinary 2016'!D20","v":36424},4520,30311,1593,36424,201.6759592227244,149.12078123453531,52.555177988189108]
["Longbridge","Northfield",{"$f":"SUM('quinary 2016'!E21:G21)+'2016 syoa'!T21+'2016 syoa'!DH21","v":5840},{"$f":"SUM('quinary 2016'!H21:Q21)-('2016 syoa'!T21+'2016 syoa'!DH21)","v":16506},{"$f":"SUM('quinary 2016'!R21:W21)","v":3922},{"$f":"'quinary 2016'!D21","v":26268},5840,16506,3922,26268,591.42130134496551,353.81073549012484,237.61056585484067]
["Lozells and East Handsworth","Perry Barr",{"$f":"SUM('quinary 2016'!E22:G22)+'2016 syoa'!T22+'2016 syoa'!DH22","v":9230},{"$f":"SUM('quinary 2016'!H22:Q22)-('2016 syoa'!T22+'2016 syoa'!DH22)","v":21230},{"$f":"SUM('quinary 2016'!R22:W22)","v":2649},{"$f":"'quinary 2016'!D22","v":33109},9230,21230,2649,33109,559.53838907206784,434.7621290626472,124.77626000942062]
["Moseley and Kings Heath","Hall Green",{"$f":"SUM('quinary 2016'!E23:G23)+'2016 syoa'!T23+'2016 syoa'!DH23","v":4520},{"$f":"SUM('quinary 2016'!H23:Q23)-('2016 syoa'!T23+'2016 syoa'!DH23)","v":17612},{"$f":"SUM('quinary 2016'!R23:W23)","v":3486},{"$f":"'quinary 2016'!D23","v":25618},4520,17612,3486,25618,454.57642516466046,256.64319781966844,197.93322734499205]
["Nechells","Ladywood",{"$f":"SUM('quinary 2016'!E24:G24)+'2016 syoa'!T24+'2016 syoa'!DH24","v":9701},{"$f":"SUM('quinary 2016'!H24:Q24)-('2016 syoa'!T24+'2016 syoa'!DH24)","v":26999},{"$f":"SUM('quinary 2016'!R24:W24)","v":2404},{"$f":"'quinary 2016'!D24","v":39104},9701,26999,2404,39104,448.34993888662547,359.30960405940959,89.040334827215815]
["Northfield","Northfield",{"$f":"SUM('quinary 2016'!E25:G25)+'2016 syoa'!T25+'2016 syoa'!DH25","v":5182},{"$f":"SUM('quinary 2016'!H25:Q25)-('2016 syoa'!T25+'2016 syoa'!DH25)","v":16321},{"$f":"SUM('quinary 2016'!R25:W25)","v":4748},{"$f":"'quinary 2016'!D25","v":26251},5182,16321,4748,26251,608.41860180136018,317.50505483732616,290.91354696403403]
["Oscott","Perry Barr",{"$f":"SUM('quinary 2016'!E26:G26)+'2016 syoa'!T26+'2016 syoa'!DH26","v":5282},{"$f":"SUM('quinary 2016'!H26:Q26)-('2016 syoa'!T26+'2016 syoa'!DH26)","v":15578},{"$f":"SUM('quinary 2016'!R26:W26)","v":4209},{"$f":"'quinary 2016'!D26","v":25069},5282,15578,4209,25069,609.25664398510719,339.06791629220697,270.18872769290027]
["Perry Barr","Perry Barr",{"$f":"SUM('quinary 2016'!E27:G27)+'2016 syoa'!T27+'2016 syoa'!DH27","v":5553},{"$f":"SUM('quinary 2016'!H27:Q27)-('2016 syoa'!T27+'2016 syoa'!DH27)","v":15492},{"$f":"SUM('quinary 2016'!R27:W27)","v":3229},{"$f":"'quinary 2016'!D27","v":24274},5553,15492,3229,24274,566.87322489026587,358.44306738962047,208.43015750064549]
["Quinton","Edgbaston",{"$f":"SUM('quinary 2016'!E28:G28)+'2016 syoa'!T28+'2016 syoa'!DH28","v":5580},{"$f":"SUM('quinary 2016'!H28:Q28)-('2016 syoa'!T28+'2016 syoa'!DH28)","v":14909},{"$f":"SUM('quinary 2016'!R28:W28)","v":3901},{"$f":"'quinary 2016'!D28","v":24390},5580,14909,3901,24390,635.9246092963981,374.27057482057819,261.65403447581997]
["Selly Oak","Selly Oak",{"$f":"SUM('quinary 2016'!E29:G29)+'2016 syoa'!T29+'2016 syoa'!DH29","v":2837},{"$f":"SUM('quinary 2016'!H29:Q29)-('2016 syoa'!T29+'2016 syoa'!DH29)","v":23451},{"$f":"SUM('quinary 2016'!R29:W29)","v":2159},{"$f":"'quinary 2016'!D29","v":28447},2837,23451,2159,28447,213.03995565221098,120.97565135815104,92.064304294059951]
["Shard End","Hodge Hill",{"$f":"SUM('quinary 2016'!E30:G30)+'2016 syoa'!T30+'2016 syoa'!DH30","v":6851},{"$f":"SUM('quinary 2016'!H30:Q30)-('2016 syoa'!T30+'2016 syoa'!DH30)","v":16898},{"$f":"SUM('quinary 2016'!R30:W30)","v":4044},{"$f":"'quinary 2016'!D30","v":27793},6851,16898,4044,27793,644.75085808971482,405.43259557344061,239.3182625162741]
["Sheldon","Yardley",{"$f":"SUM('quinary 2016'!E31:G31)+'2016 syoa'!T31+'2016 syoa'!DH31","v":4822},{"$f":"SUM('quinary 2016'!H31:Q31)-('2016 syoa'!T31+'2016 syoa'!DH31)","v":14250},{"$f":"SUM('quinary 2016'!R31:W31)","v":4021},{"$f":"'quinary 2016'!D31","v":23093},4822,14250,4021,23093,620.56140350877195,338.38596491228066,282.17543859649123]
["Soho","Ladywood",{"$f":"SUM('quinary 2016'!E32:G32)+'2016 syoa'!T32+'2016 syoa'!DH32","v":8760},{"$f":"SUM('quinary 2016'!H32:Q32)-('2016 syoa'!T32+'2016 syoa'!DH32)","v":21286},{"$f":"SUM('quinary 2016'!R32:W32)","v":2714},{"$f":"'quinary 2016'!D32","v":32760},8760,21286,2714,32760,539.03974443296067,411.53810015972942,127.50164427323124]
["South Yardley","Yardley",{"$f":"SUM('quinary 2016'!E33:G33)+'2016 syoa'!T33+'2016 syoa'!DH33","v":8932},{"$f":"SUM('quinary 2016'!H33:Q33)-('2016 syoa'!T33+'2016 syoa'!DH33)","v":20100},{"$f":"SUM('quinary 2016'!R33:W33)","v":3421},{"$f":"'quinary 2016'!D33","v":32453},8932,20100,3421,32453,614.57711442786069,444.37810945273634,170.19900497512438]
["Sparkbrook","Hall Green",{"$f":"SUM('quinary 2016'!E34:G34)+'2016 syoa'!T34+'2016 syoa'!DH34","v":9471},{"$f":"SUM('quinary 2016'!H34:Q34)-('2016 syoa'!T34+'2016 syoa'!DH34)","v":21199},{"$f":"SUM('quinary 2016'!R34:W34)","v":2754},{"$f":"'quinary 2016'!D34","v":33424},9471,21199,2754,33424,576.67814519552803,446.76635690362752,129.91178829190056]
["Springfield","Hall Green",{"$f":"SUM('quinary 2016'!E35:G35)+'2016 syoa'!T35+'2016 syoa'!DH35","v":9531},{"$f":"SUM('quinary 2016'!H35:Q35)-('2016 syoa'!T35+'2016 syoa'!DH35)","v":20747},{"$f":"SUM('quinary 2016'!R35:W35)","v":3127},{"$f":"'quinary 2016'!D35","v":33405},9531,20747,3127,33405,610.11230539355086,459.39171928471586,150.72058610883502]
["Stechford and Yardley North","Yardley",{"$f":"SUM('quinary 2016'!E36:G36)+'2016 syoa'!T36+'2016 syoa'!DH36","v":6801},{"$f":"SUM('quinary 2016'!H36:Q36)-('2016 syoa'!T36+'2016 syoa'!DH36)","v":16527},{"$f":"SUM('quinary 2016'!R36:W36)","v":3854},{"$f":"'quinary 2016'!D36","v":27182},6801,16527,3854,27182,644.70260785381492,411.50844073334542,233.19416712046953]
["Stockland Green","Erdington",{"$f":"SUM('quinary 2016'!E37:G37)+'2016 syoa'!T37+'2016 syoa'!DH37","v":5552},{"$f":"SUM('quinary 2016'!H37:Q37)-('2016 syoa'!T37+'2016 syoa'!DH37)","v":17647},{"$f":"SUM('quinary 2016'!R37:W37)","v":3092},{"$f":"'quinary 2016'!D37","v":26291},5552,17647,3092,26291,489.82829942766477,314.61438204794018,175.21391737972462]
["Sutton Four Oaks","Sutton Coldfield",{"$f":"SUM('quinary 2016'!E38:G38)+'2016 syoa'!T38+'2016 syoa'!DH38","v":4803},{"$f":"SUM('quinary 2016'!H38:Q38)-('2016 syoa'!T38+'2016 syoa'!DH38)","v":14018},{"$f":"SUM('quinary 2016'!R38:W38)","v":5818},{"$f":"'quinary 2016'!D38","v":24639},4803,14018,5818,24639,757.6687116564417,342.63090312455415,415.03780853188761]
["Sutton New Hall","Sutton Coldfield",{"$f":"SUM('quinary 2016'!E39:G39)+'2016 syoa'!T39+'2016 syoa'!DH39","v":3619},{"$f":"SUM('quinary 2016'!H39:Q39)-('2016 syoa'!T39+'2016 syoa'!DH39)","v":13290},{"$f":"SUM('quinary 2016'!R39:W39)","v":5092},{"$f":"'quinary 2016'!D39","v":22001},3619,13290,5092,22001,655.45522949586154,272.31000752445448,383.14522197140707]
["Sutton Trinity","Sutton Coldfield",{"$f":"SUM('quinary 2016'!E40:G40)+'2016 syoa'!T40+'2016 syoa'!DH40","v":4764},{"$f":"SUM('quinary 2016'!H40:Q40)-('2016 syoa'!T40+'2016 syoa'!DH40)","v":15264},{"$f":"SUM('quinary 2016'!R40:W40)","v":5049},{"$f":"'quinary 2016'!D40","v":25077},4764,15264,5049,25077,642.88522012578619,312.10691823899373,330.77830188679246]
["Sutton Vesey","Sutton Coldfield",{"$f":"SUM('quinary 2016'!E41:G41)+'2016 syoa'!T41+'2016 syoa'!DH41","v":4091},{"$f":"SUM('quinary 2016'!H41:Q41)-('2016 syoa'!T41+'2016 syoa'!DH41)","v":13991},{"$f":"SUM('quinary 2016'!R41:W41)","v":4944},{"$f":"'quinary 2016'!D41","v":23026},4091,13991,4944,23026,645.77228218140237,292.40225859481097,353.37002358659134]
["Tyburn","Erdington",{"$f":"SUM('quinary 2016'!E42:G42)+'2016 syoa'!T42+'2016 syoa'!DH42","v":5826},{"$f":"SUM('quinary 2016'!H42:Q42)-('2016 syoa'!T42+'2016 syoa'!DH42)","v":15960},{"$f":"SUM('quinary 2016'!R42:W42)","v":3691},{"$f":"'quinary 2016'!D42","v":25477},5826,15960,3691,25477,596.30325814536343,365.03759398496237,231.265664160401]
["Washwood Heath","Hodge Hill",{"$f":"SUM('quinary 2016'!E43:G43)+'2016 syoa'!T43+'2016 syoa'!DH43","v":11279},{"$f":"SUM('quinary 2016'!H43:Q43)-('2016 syoa'!T43+'2016 syoa'!DH43)","v":21490},{"$f":"SUM('quinary 2016'!R43:W43)","v":2441},{"$f":"'quinary 2016'!D43","v":35210},11279,21490,2441,35210,638.43648208469051,524.8487668683108,113.58771521637971]
["Weoley","Northfield",{"$f":"SUM('quinary 2016'!E44:G44)+'2016 syoa'!T44+'2016 syoa'!DH44","v":6120},{"$f":"SUM('quinary 2016'!H44:Q44)-('2016 syoa'!T44+'2016 syoa'!DH44)","v":16203},{"$f":"SUM('quinary 2016'!R44:W44)","v":4082},{"$f":"'quinary 2016'!D44","v":26405},6120,16203,4082,26405,629.63648707029563,377.70783188298464,251.92865518731099]
["Birmingham","Birmingham",{"$f":"SUM(C1931:C1970)","v":256582},{"$f":"SUM(D1931:D1970)","v":722266},{"$f":"SUM(E1931:E1970)","v":145721},{"$f":"SUM(F1931:F1970)","v":1124569},256582,722266,145721,{"$f":"SUM(J1931:J1970)","v":1124569},{"$f":"(E1971+C1971)/D1971*1000","v":557.00116023736416},355.24585125147803,201.7553089858861]

{"sheet":"2011 time series","index":16,"n_rows":2010,"n_cols":16,"rows_kept":2010,"cut":false,"hidden":false,"merged":[[9,0,9,5],[3,0,3,6]]}
["data on row 1967",null,null,null,null,null,null,null,null,null,null,null,null,null,null,"first row of drop down box blank"]
["2011 Birmingham ward time series"]
[]
["Birmingham Ward population estimates 2011 - 2016",null,null,null,null,null,null,null,null,null,null,null,null,null,"Use drop down box to select ward"]
[null,2011,2012,2013,2014,2015,2016]
["Shard End",{"$f":"VLOOKUP($A$6,$A$1968:$K$2008,2,FALSE)","v":26811},{"$f":"VLOOKUP($A$6,$A$1968:$K$2008,3,FALSE)","v":27041},{"$f":"VLOOKUP($A$6,$A$1968:$K$2008,4,FALSE)","v":27464},{"$f":"VLOOKUP($A6,$A$1968:$K$2008,5,FALSE)","v":27576},{"$f":"VLOOKUP($A6,$A$1968:$K$2008,6,FALSE)","v":27655},{"$f":"VLOOKUP($A6,$A$1968:$K$2008,7,FALSE)","v":27793}]
["Sparkbrook",{"$f":"VLOOKUP($A$7,$A$1968:$K$2008,2,FALSE)","v":32512},{"$f":"VLOOKUP($A$7,$A$1968:$K$2008,3,FALSE)","v":32846},{"$f":"VLOOKUP($A$7,$A$1968:$K$2008,4,FALSE)","v":32801},{"$f":"VLOOKUP($A7,$A$1968:$K$2008,5,FALSE)","v":32979},{"$f":"VLOOKUP($A7,$A$1968:$K$2008,6,FALSE)","v":33097},{"$f":"VLOOKUP($A7,$A$1968:$K$2008,7,FALSE)","v":33424}]
["Weoley",{"$f":"VLOOKUP($A$8,$A$1968:$K$2008,2,FALSE)","v":25938},{"$f":"VLOOKUP($A$8,$A$1968:$K$2008,3,FALSE)","v":25994},{"$f":"VLOOKUP($A$8,$A$1968:$K$2008,4,FALSE)","v":25886},{"$f":"VLOOKUP($A8,$A$1968:$K$2008,5,FALSE)","v":26003},{"$f":"VLOOKUP($A8,$A$1968:$K$2008,6,FALSE)","v":26055},{"$f":"VLOOKUP($A8,$A$1968:$K$2008,7,FALSE)","v":26405}]
["Sutton Trinity",{"$f":"VLOOKUP($A$9,$A$1968:$K$2008,2,FALSE)","v":25203},{"$f":"VLOOKUP($A$9,$A$1968:$K$2008,3,FALSE)","v":25161},{"$f":"VLOOKUP($A$9,$A$1968:$K$2008,4,FALSE)","v":25036},{"$f":"VLOOKUP($A9,$A$1968:$K$2008,5,FALSE)","v":24990},{"$f":"VLOOKUP($A9,$A$1968:$K$2008,6,FALSE)","v":25046},{"$f":"VLOOKUP($A9,$A$1968:$K$2008,7,FALSE)","v":25077}]
["Source: Office for National Statistics, 2001-2016 mid-year population estimate, (experimental statistics) Crown Copyright 2017"]
[]
[]
[]
[]
[]
[]
[]
[]
[]
[]
[]
[]
[]
[]
[]
[]
[]
[]
[]
[]
[]
[]
[]
[]
[]
[]
[]
[]
[]
[]
[]
[]
[]
[]
[]
[]
[]
[]
[]
[]
[]
[]
[]
[]
[]
[]
[]
[]
[]
[]
[]
[]
[]
[]
[]
[]
[]
[]
[]
[]
[]
[]
[]
[]
[]
[]
[]
[]
[]
[]
[]
[]
[]
[]
[]
[]
[]
[]
[]
[]
[]
[]
[]
[]
[]
[]
[]
[]
[]
[]
[]
[]
[]
[]
[]
[]
[]
[]
[]
[]
[]
[]
[]
[]
[]
[]
[]
[]
[]
[]
[]
[]
[]
[]
[]
[]
[]
[]
[]
[]
[]
[]
[]
[]
[]
[]
[]
[]
[]
[]
[]
[]
[]
[]
[]
[]
[]
[]
[]
[]
[]
[]
[]
[]
[]
[]
[]
[]
[]
[]
[]
[]
[]
[]
[]
[]
[]
[]
[]
[]
[]
[]
[]
[]
[]
[]
[]
[]
[]
[]
[]
[]
[]
[]
[]
[]
[]
[]
[]
[]
[]
[]
[]
[]
[]
[]
[]
[]
[]
[]
[]
[]
[]
[]
[]
[]
[]
[]
[]
[]
[]
[]
[]
[]
[]
[]
[]
[]
[]
[]
[]
[]
[]
[]
[]
[]
[]
[]
[]
[]
[]
[]
[]
[]
[]
[]
[]
[]
[]
[]
[]
[]
[]
[]
[]
[]
[]
[]
[]
[]
[]
[]
[]
[]
[]
[]
[]
[]
[]
[]
[]
[]
[]
[]
[]
[]
[]
[]
[]
[]
[]
[]
[]
[]
[]
[]
[]
[]
[]
[]
[]
[]
[]
[]
[]
[]
[]
[]
[]
[]
[]
[]
[]
[]
[]
[]
[]
[]
[]
[]
[]
[]
[]
[]
[]
[]
[]
[]
[]
[]
[]
[]
[]
[]
[]
[]
[]
[]
[]
[]
[]
[]
[]
[]
[]
[]
[]
[]
[]
[]
[]
[]
[]
[]
[]
[]
[]
[]
[]
[]
[]
[]
[]
[]
[]
[]
[]
[]
[]
[]
[]
[]
[]
[]
[]
[]
[]
[]
[]
[]
[]
[]
[]
[]
[]
[]
[]
[]
[]
[]
[]
[]
[]
[]
[]
[]
[]
[]
[]
[]
[]
[]
[]
[]
[]
[]
[]
[]
[]
[]
[]
[]
[]
[]
[]
[]
[]
[]
[]
[]
[]
[]
[]
[]
[]
[]
[]
[]
[]
[]
[]
[]
[]
[]
[]
[]
[]
[]
[]
[]
[]
[]
[]
[]
[]
[]
[]
[]
[]
[]
[]
[]
[]
[]
[]
[]
[]
[]
[]
[]
[]
[]
[]
[]
[]
[]
[]
[]
[]
[]
[]
[]
[]
[]
[]
[]
[]
[]
[]
[]
[]
[]
[]
[]
[]
[]
[]
[]
[]
[]
[]
[]
[]
[]
[]
[]
[]
[]
[]
[]
[]
[]
[]
[]
[]
[]
[]
[]
[]
[]
[]
[]
[]
[]
[]
[]
[]
[]
[]
[]
[]
[]
[]
[]
[]
[]
[]
[]
[]
[]
[]
[]
[]
[]
[]
[]
[]
[]
[]
[]
[]
[]
[]
[]
[]
[]
[]
[]
[]
[]
[]
[]
[]
[]
[]
[]
[]
[]
[]
[]
[]
[]
[]
[]
[]
[]
[]
[]
[]
[]
[]
[]
[]
[]
[]
[]
[]
[]
[]
[]
[]
[]
[]
[]
[]
[]
[]
[]
[]
[]
[]
[]
[]
[]
[]
[]
[]
[]
[]
[]
[]
[]
[]
[]
[]
[]
[]
[]
[]
[]
[]
[]
[]
[]
[]
[]
[]
[]
[]
[]
[]
[]
[]
[]
[]
[]
[]
[]
[]
[]
[]
[]
[]
[]
[]
[]
[]
[]
[]
[]
[]
[]
[]
[]
[]
[]
[]
[]
[]
[]
[]
[]
[]
[]
[]
[]
[]
[]
[]
[]
[]
[]
[]
[]
[]
[]
[]
[]
[]
[]
[]
[]
[]
[]
[]
[]
[]
[]
[]
[]
[]
[]
[]
[]
[]
[]
[]
[]
[]
[]
[]
[]
[]
[]
[]
[]
[]
[]
[]
[]
[]
[]
[]
[]
[]
[]
[]
[]
[]
[]
[]
[]
[]
[]
[]
[]
[]
[]
[]
[]
[]
[]
[]
[]
[]
[]
[]
[]
[]
[]
[]
[]
[]
[]
[]
[]
[]
[]
[]
[]
[]
[]
[]
[]
[]
[]
[]
[]
[]
[]
[]
[]
[]
[]
[]
[]
[]
[]
[]
[]
[]
[]
[]
[]
[]
[]
[]
[]
[]
[]
[]
[]
[]
[]
[]
[]
[]
[]
[]
[]
[]
[]
[]
[]
[]
[]
[]
[]
[]
[]
[]
[]
[]
[]
[]
[]
[]
[]
[]
[]
[]
[]
[]
[]
[]
[]
[]
[]
[]
[]
[]
[]
[]
[]
[]
[]
[]
[]
[]
[]
[]
[]
[]
[]
[]
[]
[]
[]
[]
[]
[]
[]
[]
[]
[]
[]
[]
[]
[]
[]
[]
[]
[]
[]
[]
[]
[]
[]
[]
[]
[]
[]
[]
[]
[]
[]
[]
[]
[]
[]
[]
[]
[]
[]
[]
[]
[]
[]
[]
[]
[]
[]
[]
[]
[]
[]
[]
[]
[]
[]
[]
[]
[]
[]
[]
[]
[]
[]
[]
[]
[]
[]
[]
[]
[]
[]
[]
[]
[]
[]
[]
[]
[]
[]
[]
[]
[]
[]
[]
[]
[]
[]
[]
[]
[]
[]
[]
[]
[]
[]
[]
[]
[]
[]
[]
[]
[]
[]
[]
[]
[]
[]
[]
[]
[]
[]
[]
[]
[]
[]
[]
[]
[]
[]
[]
[]
[]
[]
[]
[]
[]
[]
[]
[]
[]
[]
[]
[]
[]
[]
[]
[]
[]
[]
[]
[]
[]
[]
[]
[]
[]
[]
[]
[]
[]
[]
[]
[]
[]
[]
[]
[]
[]
[]
[]
[]
[]
[]
[]
[]
[]
[]
[]
[]
[]
[]
[]
[]
[]
[]
[]
[]
[]
[]
[]
[]
[]
[]
[]
[]
[]
[]
[]
[]
[]
[]
[]
[]
[]
[]
[]
[]
[]
[]
[]
[]
[]
[]
[]
[]
[]
[]
[]
[]
[]
[]
[]
[]
[]
[]
[]
[]
[]
[]
[]
[]
[]
[]
[]
[]
[]
[]
[]
[]
[]
[]
[]
[]
[]
[]
[]
[]
[]
[]
[]
[]
[]
[]
[]
[]
[]
[]
[]
[]
[]
[]
[]
[]
[]
[]
[]
[]
[]
[]
[]
[]
[]
[]
[]
[]
[]
[]
[]
[]
[]
[]
[]
[]
[]
[]
[]
[]
[]
[]
[]
[]
[]
[]
[]
[]
[]
[]
[]
[]
[]
[]
[]
[]
[]
[]
[]
[]
[]
[]
[]
[]
[]
[]
[]
[]
[]
[]
[]
[]
[]
[]
[]
[]
[]
[]
[]
[]
[]
[]
[]
[]
[]
[]
[]
[]
[]
[]
[]
[]
[]
[]
[]
[]
[]
[]
[]
[]
[]
[]
[]
[]
[]
[]
[]
[]
[]
[]
[]
[]
[]
[]
[]
[]
[]
[]
[]
[]
[]
[]
[]
[]
[]
[]
[]
[]
[]
[]
[]
[]
[]
[]
[]
[]
[]
[]
[]
[]
[]
[]
[]
[]
[]
[]
[]
[]
[]
[]
[]
[]
[]
[]
[]
[]
[]
[]
[]
[]
[]
[]
[]
[]
[]
[]
[]
[]
[]
[]
[]
[]
[]
[]
[]
[]
[]
[]
[]
[]
[]
[]
[]
[]
[]
[]
[]
[]
[]
[]
[]
[]
[]
[]
[]
[]
[]
[]
[]
[]
[]
[]
[]
[]
[]
[]
[]
[]
[]
[]
[]
[]
[]
[]
[]
[]
[]
[]
[]
[]
[]
[]
[]
[]
[]
[]
[]
[]
[]
[]
[]
[]
[]
[]
[]
[]
[]
[]
[]
[]
[]
[]
[]
[]
[]
[]
[]
[]
[]
[]
[]
[]
[]
[]
[]
[]
[]
[]
[]
[]
[]
[]
[]
[]
[]
[]
[]
[]
[]
[]
[]
[]
[]
[]
[]
[]
[]
[]
[]
[]
[]
[]
[]
[]
[]
[]
[]
[]
[]
[]
[]
[]
[]
[]
[]
[]
[]
[]
[]
[]
[]
[]
[]
[]
[]
[]
[]
[]
[]
[]
[]
[]
[]
[]
[]
[]
[]
[]
[]
[]
[]
[]
[]
[]
[]
[]
[]
[]
[]
[]
[]
[]
[]
[]
[]
[]
[]
[]
[]
[]
[]
[]
[]
[]
[]
[]
[]
[]
[]
[]
[]
[]
[]
[]
[]
[]
[]
[]
[]
[]
[]
[]
[]
[]
[]
[]
[]
[]
[]
[]
[]
[]
[]
[]
[]
[]
[]
[]
[]
[]
[]
[]
[]
[]
[]
[]
[]
[]
[]
[]
[]
[]
[]
[]
[]
[]
[]
[]
[]
[]
[]
[]
[]
[]
[]
[]
[]
[]
[]
[]
[]
[]
[]
[]
[]
[]
[]
[]
[]
[]
[]
[]
[]
[]
[]
[]
[]
[]
[]
[]
[]
[]
[]
[]
[]
[]
[]
[]
[]
[]
[]
[]
[]
[]
[]
[]
[]
[]
[]
[]
[]
[]
[]
[]
[]
[]
[]
[]
[]
[]
[]
[]
[]
[]
[]
[]
[]
[]
[]
[]
[]
[]
[]
[]
[]
[]
[]
[]
[]
[]
[]
[]
[]
[]
[]
[]
[]
[]
[]
[]
[]
[]
[]
[]
[]
[]
[]
[]
[]
[]
[]
[]
[]
[]
[]
[]
[]
[]
[]
[]
[]
[]
[]
[]
[]
[]
[]
[]
[]
[]
[]
[]
[]
[]
[]
[]
[]
[]
[]
[]
[]
[]
[]
[]
[]
[]
[]
[]
[]
[]
[]
[]
[]
[]
[]
[]
[]
[]
[]
[]
[]
[]
[]
[]
[]
[]
[]
[]
[]
[]
[]
[]
[]
[]
[]
[]
[]
[]
[]
[]
[]
[]
[]
[]
[]
[]
[]
[]
[]
[]
[]
[]
[]
[]
[]
[]
[]
[]
[]
[]
[]
[]
[]
[]
[]
[]
[]
[]
[]
[]
[]
[]
[]
[]
[]
[]
[]
[]
[]
[]
[]
[]
[]
[]
[]
[]
[]
[]
[]
[]
[]
[]
[]
[]
[]
[]
[]
[]
[]
[]
[]
[]
[]
[]
[]
[]
[]
[]
[]
[]
[]
[]
[]
[]
[]
[]
[]
[]
[]
[]
[]
[]
[]
[]
[]
[]
[]
[]
[]
[]
[]
[]
[]
[]
[]
[]
[]
[]
[]
[]
[]
[]
[]
[]
[]
[]
[]
[]
[]
[]
[]
[]
[]
[]
[]
[]
[]
[]
[]
[]
[]
[]
[]
[]
[]
[]
[]
[]
[]
[]
[]
[]
[]
[]
[]
[]
[]
[]
[]
[]
[]
[]
[]
[]
[]
[]
[]
[]
[]
[]
[]
[]
[]
[]
[]
[]
[]
[]
[]
[]
[]
[]
[]
[]
[]
[]
[]
[]
[]
[]
[]
[]
[]
[]
[]
[]
[]
[]
[]
[]
[]
[]
[]
[]
[]
[]
[]
[]
[]
[]
[]
[]
[]
[]
[]
[]
[]
[]
[]
[]
[]
[]
[]
[]
[]
[]
[]
[]
[]
[]
[]
[]
[]
[]
[]
[]
[]
[]
[]
[]
[]
[]
[]
[]
[]
[]
[]
[]
[]
[]
[]
[]
[]
[]
[]
[]
[]
[]
[]
[]
[]
[]
[]
[]
[]
[]
[]
[]
[]
[]
[]
[]
[]
[]
[]
[]
[]
[]
[]
[]
[]
[]
[]
[]
[]
[]
[]
[]
[]
[]
[]
[]
[]
[]
[]
[]
[]
[]
[]
[]
[]
[]
[]
[]
[]
[]
[]
[]
[]
[]
[]
[]
[]
[]
[]
[]
[]
[]
[]
[]
[]
[]
[]
[]
[]
[]
[]
[]
[]
[]
[]
[]
[]
[]
[]
[]
[]
[]
[]
[]
[]
[]
[]
[]
[]
[]
[]
[]
[]
[]
[]
[]
[]
[]
[]
[]
[]
[]
[]
[]
[]
[]
[]
[]
[]
[]
[]
[]
[]
[]
[]
[]
[]
[]
[null,2011,2012,2013,2014,2015,2016,2017,2018,2019,2020,"2011-2016","2011-2016%"]
[]
["Acocks Green",28430,{"$f":"SUM('2012 syoa '!D5+'2012 syoa '!CR5)","v":28884},28785,28871,29163,29506,null,null,null,null,{"$f":"G1969-B1969","v":1076},{"$f":"L1969/B1969*100","v":3.7847344354555048}]
["Aston",32376,{"$f":"SUM('2012 syoa '!D6+'2012 syoa '!CR6)","v":32151},32634,33144,33373,34318,null,null,null,null,{"$f":"G1970-B1970","v":1942},{"$f":"L1970/B1970*100","v":5.9982703236965653}]
["Bartley Green",25000,{"$f":"SUM('2012 syoa '!D7+'2012 syoa '!CR7)","v":25107},25249,25340,25686,25879,null,null,null,null,879,3.5159999999999996]
["Billesley",26559,{"$f":"SUM('2012 syoa '!D8+'2012 syoa '!CR8)","v":26653},26556,26698,26903,26930,null,null,null,null,371,1.3968899431454498]
["Bordesley Green",34041,{"$f":"SUM('2012 syoa '!D9+'2012 syoa '!CR9)","v":34567},34904,35190,35652,35987,null,null,null,null,1946,5.7166358215093558]
["Bournville",25954,{"$f":"SUM('2012 syoa '!D10+'2012 syoa '!CR10)","v":25948},25984,25994,25862,25837,null,null,null,null,-117,-0.45079756492255529]
["Brandwood",25715,{"$f":"SUM('2012 syoa '!D11+'2012 syoa '!CR11)","v":25739},25838,25848,25785,25867,null,null,null,null,152,0.59109469181411622]
["Edgbaston",24499,{"$f":"SUM('2012 syoa '!D12+'2012 syoa '!CR12)","v":25138},25317,26006,27065,28020,null,null,null,null,3521,14.372015184293236]
["Erdington",22802,{"$f":"SUM('2012 syoa '!D13+'2012 syoa '!CR13)","v":22979},23197,23385,23896,24121,null,null,null,null,1319,5.7845802999736868]
["Hall Green",26452,{"$f":"SUM('2012 syoa '!D14+'2012 syoa '!CR14)","v":26739},26879,26889,27060,27162,null,null,null,null,710,2.6841070618478753]
["Handsworth Wood",27838,{"$f":"SUM('2012 syoa '!D15+'2012 syoa '!CR15)","v":27878},27900,28058,28343,28666,null,null,null,null,828,2.9743516057188017]
["Harborne",22995,{"$f":"SUM('2012 syoa '!D16+'2012 syoa '!CR16)","v":23254},23592,24057,24490,25016,null,null,null,null,2021,8.7888671450315279]
["Hodge Hill",28087,{"$f":"SUM('2012 syoa '!D17+'2012 syoa '!CR17)","v":28553},28693,29043,29404,29784,null,null,null,null,1697,6.0419411115462669]
["Kings Norton",24402,{"$f":"SUM('2012 syoa '!D18+'2012 syoa '!CR18)","v":24662},24701,24584,24562,24533,null,null,null,null,131,0.53684124252110477]
["Kingstanding",25332,{"$f":"SUM('2012 syoa '!D19+'2012 syoa '!CR19)","v":25570},25481,25558,25818,25753,null,null,null,null,421,1.6619295752408021]
["Ladywood",30180,{"$f":"SUM('2012 syoa '!D20+'2012 syoa '!CR20)","v":31920},31580,33416,34504,36424,null,null,null,null,6244,20.689198144466534]
["Longbridge",25451,{"$f":"SUM('2012 syoa '!D21+'2012 syoa '!CR21)","v":25503},25756,25880,26191,26268,null,null,null,null,817,3.2100899768182001]
["Lozells and East Handsworth",31188,{"$f":"SUM('2012 syoa '!D22+'2012 syoa '!CR22)","v":31742},31954,32143,32176,33109,null,null,null,null,1921,6.1594202898550732]
["Moseley and Kings Heath",25698,{"$f":"SUM('2012 syoa '!D23+'2012 syoa '!CR23)","v":25462},25445,25493,25457,25618,null,null,null,null,-80,-0.31130827301735547]
["Nechells",34053,{"$f":"SUM('2012 syoa '!D24+'2012 syoa '!CR24)","v":35549},36057,36590,38019,39104,null,null,null,null,5051,14.832760696561243]
["Northfield",25713,{"$f":"SUM('2012 syoa '!D25+'2012 syoa '!CR25)","v":25791},26059,25998,26121,26251,null,null,null,null,538,2.0923268385641505]
["Oscott",24620,{"$f":"SUM('2012 syoa '!D26+'2012 syoa '!CR26)","v":24695},24767,24773,24920,25069,null,null,null,null,449,1.8237205523964257]
["Perry Barr",23695,{"$f":"SUM('2012 syoa '!D27+'2012 syoa '!CR27)","v":23909},24186,24276,23873,24274,null,null,null,null,579,2.4435534922979532]
["Quinton",24210,{"$f":"SUM('2012 syoa '!D28+'2012 syoa '!CR28)","v":24162},24198,24211,24392,24390,null,null,null,null,180,0.74349442379182151]
["Selly Oak",25930,{"$f":"SUM('2012 syoa '!D29+'2012 syoa '!CR29)","v":26129},27019,27513,27738,28447,null,null,null,null,2517,9.70690320092557]
["Shard End",26811,{"$f":"SUM('2012 syoa '!D30+'2012 syoa '!CR30)","v":27041},27464,27576,27655,27793,null,null,null,null,982,3.6626757674088997]
["Sheldon",21818,{"$f":"SUM('2012 syoa '!D31+'2012 syoa '!CR31)","v":21929},22110,22358,22849,23093,null,null,null,null,1275,5.8437986983224857]
["Soho",30360,{"$f":"SUM('2012 syoa '!D32+'2012 syoa '!CR32)","v":31082},31368,31839,32129,32760,null,null,null,null,2400,7.9051383399209492]
["South Yardley",30876,{"$f":"SUM('2012 syoa '!D33+'2012 syoa '!CR33)","v":31262},31605,31774,32335,32453,null,null,null,null,1577,5.10752688172043]
["Sparkbrook",32512,{"$f":"SUM('2012 syoa '!D34+'2012 syoa '!CR34)","v":32846},32801,32979,33097,33424,null,null,null,null,912,2.8051181102362204]
["Springfield",31432,{"$f":"SUM('2012 syoa '!D35+'2012 syoa '!CR35)","v":32191},32548,32810,32932,33405,null,null,null,null,1973,6.2770425044540596]
["Stechford and Yardley North",25789,{"$f":"SUM('2012 syoa '!D36+'2012 syoa '!CR36)","v":26268},26721,26573,26861,27182,null,null,null,null,1393,5.4015277831633641]
["Stockland Green",24393,{"$f":"SUM('2012 syoa '!D37+'2012 syoa '!CR37)","v":24732},25137,25488,25704,26291,null,null,null,null,1898,7.7809207559545772]
["Sutton Four Oaks",23939,{"$f":"SUM('2012 syoa '!D38+'2012 syoa '!CR38)","v":23996},24237,24426,24426,24639,null,null,null,null,700,2.9240987509921048]
["Sutton New Hall",22381,{"$f":"SUM('2012 syoa '!D39+'2012 syoa '!CR39)","v":22291},22230,22274,22185,22001,null,null,null,null,-380,-1.6978687279388769]
["Sutton Trinity",25203,{"$f":"SUM('2012 syoa '!D40+'2012 syoa '!CR40)","v":25161},25036,24990,25046,25077,null,null,null,null,-126,-0.49994048327580048]
["Sutton Vesey",23311,{"$f":"SUM('2012 syoa '!D41+'2012 syoa '!CR41)","v":23242},23176,23224,23004,23026,null,null,null,null,-285,-1.2225987731114065]
["Tyburn",25317,{"$f":"SUM('2012 syoa '!D42+'2012 syoa '!CR42)","v":25322},25382,25537,25536,25477,null,null,null,null,160,0.6319864122921357]
["Washwood Heath",32983,{"$f":"SUM('2012 syoa '!D43+'2012 syoa '!CR43)","v":33376},33898,34551,35040,35210,null,null,null,null,2227,6.7519631325228149]
["Weoley",25938,{"$f":"SUM('2012 syoa '!D44+'2012 syoa '!CR44)","v":25994},25886,26003,26055,26405,null,null,null,null,467,1.8004472202945483]
[{"$f":"MIN(B1969:D2008)","v":21818},{"$f":"SUM(B1969:B2008)","v":1074283},1085417,1092330,1101360,{"$f":"SUM(F1969:F2008)","v":1111307},{"$f":"SUM(G1969:G2008)","v":1124569},null,null,null,null,50286,4.6808894862899253]
[{"$f":"MAX(B1969:D2008)","v":36057},null,null,null,null,{"$f":"'quinary 2016'!D46","v":0}]

{"sheet":"2014 syoa","index":17,"n_rows":50,"n_cols":187,"rows_kept":50,"cut":false,"hidden":true,"merged":[[3,3,3,21],[3,22,3,40],[3,95,3,186]]}
["2014 Birmingham Ward population (experimental statistics)",null,null,null,null,"Estimates should be aggregated to at least five-year age groups before publication"]
[{"$f":"1","v":1},{"$f":"1+A2","v":2},{"$f":"1+B2","v":3},4,5,6,7,8,9,10,11,12,13,14,15,16,17,18,19,20,21,22,23,24,25,26,27,28,29,30,31,32,33,34,35,36,37,38,39,40,41,42,43,44,45,46,47,48,49,50,51,52,53,54,55,56,57,58,59,60,61,62,63,64,65,66,{"$f":"1+BN2","v":67},68,69,70,71,72,73,74,75,76,77,78,79,80,81,82,83,84,85,86,87,88,89,90,91,92,93,94,95,96,97,98,99,100,101,102,103,104,105,106,107,108,109,110,111,112,113,114,115,116,117,118,119,120,121,122,123,124,125,126,127,128,129,130,{"$f":"1+DZ2","v":131},132,133,134,135,136,137,138,139,140,141,142,143,144,145,146,147,148,149,150,151,152,153,154,155,156,157,158,159,160,161,162,163,164,165,166,167,168,169,170,171,172,173,174,175,176,177,178,179,180,181,182,183,184,185,186,187]
["ward","constituency","code","All Ages",0,1,2,3,4,5,6,7,8,9,10,11,12,13,14,15,16,17,18,19,20,21,22,23,24,25,26,27,28,29,30,31,32,33,34,35,36,37,38,39,40,41,42,43,44,45,46,47,48,49,50,51,52,53,54,55,56,57,58,59,60,61,62,63,64,65,66,67,68,69,70,71,72,73,74,75,76,77,78,79,80,81,82,83,84,85,86,87,88,89,90,"All",0,{"$f":"CS3+1","v":1},{"$f":"CT3+1","v":2},3,4,5,6,7,8,9,10,11,12,13,14,15,16,17,18,19,20,21,22,23,24,25,26,27,28,29,30,31,32,33,34,35,36,37,38,39,40,41,42,43,44,45,46,47,48,49,50,51,52,53,54,55,56,57,58,59,60,61,62,63,64,65,{"$f":"FF3+1","v":66},67,68,69,70,71,72,73,74,75,76,77,78,79,80,81,82,83,84,85,86,87,88,89,90]
[null,null,null,"males",null,null,null,null,null,null,null,null,null,null,null,null,null,null,null,null,null,null,null,null,null,null,null,null,null,null,null,null,null,null,null,null,null,null,null,null,null,null,null,null,null,null,null,null,null,null,null,null,null,null,null,null,null,null,null,null,null,null,null,null,null,null,null,null,null,null,null,null,null,null,null,null,null,null,null,null,null,null,null,null,null,null,null,null,null,null,null,null,null,null,null,"Females"]
["Acocks Green","Yardley","E05001178",14221,242,234,253,235,209,280,210,249,204,196,213,212,212,196,200,226,202,239,215,207,229,219,199,199,192,201,204,236,178,230,231,230,228,211,227,215,187,169,188,191,171,191,169,212,183,195,186,182,199,188,171,182,191,161,150,145,141,139,131,132,118,128,139,111,114,109,95,104,93,81,99,85,66,78,72,66,69,58,53,38,56,46,55,32,52,36,30,29,24,10,58,14650,233,233,239,239,243,220,226,223,230,186,180,174,182,196,165,183,198,212,203,181,199,200,196,199,206,224,217,272,232,227,219,212,240,229,252,209,188,187,207,191,181,187,201,188,205,219,231,193,192,190,169,189,177,174,171,147,130,159,145,119,106,118,107,111,103,120,117,116,95,89,97,87,96,61,80,76,80,89,79,80,73,60,56,67,69,50,39,41,40,32,197]
["Aston","Ladywood","E05001179",16709,308,353,288,341,318,283,327,285,309,295,292,278,281,280,256,320,325,329,336,313,394,361,416,383,360,322,280,302,290,280,278,273,278,272,256,270,241,263,245,215,222,221,192,195,229,156,181,172,160,145,134,139,143,127,105,118,112,106,94,98,102,126,100,60,74,48,61,64,51,41,45,50,60,49,54,51,49,45,58,55,45,44,41,35,30,24,19,22,13,17,31,16435,317,293,325,289,276,337,284,283,291,275,292,269,238,265,257,272,289,284,264,311,454,422,409,370,317,275,262,281,262,247,282,268,257,249,267,241,216,190,216,205,183,237,200,197,201,163,170,182,169,161,166,154,165,151,140,108,118,108,114,100,98,90,99,91,87,84,66,64,51,59,46,74,64,72,87,71,60,81,56,63,45,29,43,46,36,32,31,29,11,12,70]
["Bartley Green","Edgbaston","E05001180",11967,208,168,204,199,168,222,194,177,174,164,156,153,165,171,187,157,167,156,179,174,193,164,194,164,158,147,148,142,154,143,148,167,156,162,146,157,157,139,141,169,155,148,151,145,144,146,161,143,143,129,156,175,157,167,123,129,144,131,114,146,122,136,115,147,115,116,130,153,112,112,103,105,73,80,63,57,72,40,70,56,49,40,40,42,42,38,13,30,19,21,57,13373,194,192,201,190,189,186,174,166,192,175,153,129,154,159,154,152,166,181,164,183,167,181,241,239,182,204,174,188,172,184,161,183,186,202,215,190,167,153,161,173,172,203,168,186,170,179,162,172,166,179,171,167,184,146,149,159,159,138,140,139,165,135,136,136,132,166,152,160,121,88,101,124,89,63,85,78,70,84,68,62,71,69,59,61,59,60,46,47,32,35,133]
["Billesley","Selly Oak","E05001181",12908,212,236,218,199,180,206,207,200,148,192,144,152,160,181,177,214,182,179,194,177,164,174,183,182,164,193,202,188,192,172,202,152,186,181,171,180,138,153,134,151,140,162,152,165,171,171,167,189,158,170,148,178,152,164,176,156,168,133,143,145,143,126,136,124,125,113,131,115,110,94,99,88,77,72,79,89,94,53,69,75,50,50,55,53,45,29,43,26,20,21,76,13790,185,202,215,189,174,187,168,162,179,203,171,171,153,183,157,158,167,204,150,182,179,178,176,184,162,215,205,204,203,194,180,199,168,186,229,188,138,171,179,162,154,158,167,175,192,176,190,186,210,187,197,200,214,193,179,145,158,148,154,156,116,127,123,136,140,112,144,128,110,103,103,99,90,82,104,93,96,98,97,84,75,90,89,72,74,53,46,43,43,50,171]
["Bordesley Green","Hodge Hill","E05001182",17416,326,392,394,380,391,380,392,374,366,366,353,377,368,346,353,363,341,371,304,325,287,301,244,273,263,260,276,262,255,277,286,273,257,264,263,254,228,240,235,237,226,245,213,209,224,212,206,173,164,136,139,138,122,128,126,107,128,139,115,115,90,108,84,81,68,56,62,64,51,46,54,65,45,60,65,51,59,75,53,55,48,52,47,36,46,26,19,18,19,14,37,17774,328,381,380,374,373,404,375,355,403,367,351,345,369,394,343,332,317,309,310,301,301,276,269,244,223,273,278,276,270,313,286,275,270,253,321,246,233,258,243,229,236,231,230,216,242,190,191,183,142,159,141,120,149,143,152,114,111,110,113,134,106,106,85,83,101,63,74,70,66,64,70,65,57,67,82,74,64,69,90,70,62,59,61,59,51,28,25,32,25,29,62]
["Bournville","Selly Oak","E05001183",12315,175,175,166,166,150,172,160,167,153,136,155,157,136,123,151,139,161,145,136,129,168,162,153,151,153,156,132,153,175,190,188,180,187,162,173,177,167,184,166,186,156,161,178,192,172,166,183,179,170,194,193,204,195,149,158,156,159,128,152,131,143,122,152,134,117,136,140,146,117,121,110,87,75,62,69,97,68,59,74,46,47,41,52,42,55,31,31,30,29,14,77,13679,170,169,170,201,155,157,186,161,185,166,146,124,124,139,131,146,163,173,174,124,150,142,158,195,156,192,157,175,170,181,182,183,173,202,194,213,185,161,159,186,168,199,198,233,195,190,200,198,204,187,190,194,196,195,156,163,185,167,147,139,153,175,151,154,144,153,156,147,98,128,113,124,93,97,98,99,108,84,84,73,79,68,70,72,76,51,67,61,43,54,224]
["Brandwood","Selly Oak","E05001184",12563,217,206,215,179,200,210,170,191,170,156,173,165,150,168,176,185,176,177,167,166,153,179,168,169,142,167,150,167,173,155,157,178,151,172,169,193,141,156,177,153,163,176,159,181,174,174,174,174,174,180,182,178,177,158,147,143,148,148,126,130,131,116,137,120,117,126,106,116,98,102,91,106,94,86,76,98,71,84,72,67,56,51,48,44,35,36,18,28,19,13,48,13285,210,207,200,198,188,171,173,166,164,162,147,133,150,135,150,142,155,160,151,141,140,166,207,193,160,201,185,170,167,176,169,164,179,185,192,210,153,179,188,179,156,180,184,214,200,198,221,189,201,179,185,151,162,168,152,153,152,145,107,149,147,137,124,127,142,129,111,162,117,98,139,117,113,84,90,98,109,93,74,68,64,57,63,71,62,51,50,56,42,34,144]
["Edgbaston","Edgbaston","E05001185",13403,145,126,149,131,113,124,131,105,111,98,84,96,101,93,99,150,135,164,345,1157,539,414,345,359,328,300,278,262,278,269,186,212,180,210,193,177,162,173,158,160,147,161,146,129,137,200,154,164,139,158,140,137,147,118,100,116,99,108,93,96,103,104,98,102,112,76,79,83,70,79,86,75,52,69,67,69,69,51,45,55,42,38,38,32,35,28,16,24,11,18,48,12603,127,131,115,118,126,98,105,81,102,88,82,83,78,88,102,139,171,149,381,1434,501,376,316,392,338,223,231,211,197,218,203,227,191,156,181,153,153,136,117,115,111,133,125,113,144,106,129,122,128,131,88,114,102,99,90,94,103,83,85,78,87,96,80,88,93,95,95,81,72,73,69,77,77,65,56,58,57,67,44,30,38,43,47,36,47,43,48,38,29,35,128]
["Erdington","Erdington","E05001186",11468,199,182,214,193,175,165,165,174,147,142,127,131,92,116,143,101,130,133,142,132,151,135,146,172,142,169,149,162,181,190,155,193,173,183,163,161,143,135,157,146,141,154,138,153,154,137,159,162,154,171,158,158,176,162,145,140,156,128,124,142,121,112,124,111,108,113,115,98,98,80,107,87,90,69,58,70,67,58,51,76,49,57,48,48,29,32,35,36,20,21,59,11917,211,188,158,177,174,142,141,134,117,140,129,103,103,105,123,108,112,133,145,140,139,147,182,178,158,197,170,188,167,195,176,200,190,167,185,149,162,163,156,141,142,144,142,165,155,157,149,145,157,183,153,198,142,140,171,140,151,133,115,113,98,114,108,126,106,111,127,107,102,96,109,98,81,91,81,83,84,75,76,95,85,67,75,66,65,53,53,45,70,44,138]
["Hall Green","Hall Green","E05001187",13225,184,190,196,188,213,215,208,188,196,216,198,214,189,203,192,199,215,211,204,173,173,152,174,175,146,176,169,158,168,156,176,164,170,169,174,167,174,172,149,189,191,184,174,162,176,180,180,190,179,198,147,175,177,163,155,152,150,152,132,144,151,127,142,115,124,99,135,136,88,114,96,95,82,79,90,88,77,58,69,78,67,59,54,56,43,34,32,34,27,16,56,13664,154,182,181,188,156,181,196,186,165,183,173,171,169,162,180,198,189,170,189,157,152,147,163,141,148,196,168,185,173,174,175,171,182,177,213,186,190,182,182,177,164,172,207,178,190,182,196,191,185,162,202,180,203,171,197,186,147,154,147,151,158,156,112,116,126,136,136,137,96,124,130,137,98,76,103,89,80,98,95,94,91,80,83,81,67,81,53,57,28,40,129]
["Handsworth Wood","Perry Barr","E05001188",13922,216,215,209,205,222,189,171,183,194,177,194,199,208,194,196,194,207,205,188,198,245,231,237,247,236,262,226,229,249,242,229,230,232,241,195,188,186,200,185,189,207,159,188,188,191,185,200,163,158,161,183,182,184,143,172,163,167,131,141,148,133,149,119,111,117,106,89,84,76,74,58,60,58,60,71,49,53,67,61,63,52,45,43,28,42,33,33,22,20,28,61,14136,184,175,193,173,157,199,192,165,173,205,176,168,173,177,185,192,189,204,216,192,266,245,244,223,239,227,232,218,252,219,217,223,195,226,244,208,189,168,195,186,171,186,170,179,174,164,196,198,180,198,219,237,217,194,181,163,154,131,139,126,149,147,129,115,136,91,91,92,80,66,74,76,62,79,98,79,85,72,91,61,68,66,63,58,55,40,42,44,29,27,90]
["Harborne","Edgbaston","E05001189",11827,168,154,137,144,153,136,139,152,124,123,115,113,95,117,107,94,109,102,106,104,132,155,216,285,319,240,251,244,260,276,214,229,214,233,217,178,194,182,182,185,156,179,167,175,156,158,159,172,136,141,140,143,134,123,108,122,116,109,117,112,115,107,101,112,107,114,108,114,82,97,98,58,77,69,73,70,61,57,56,39,42,30,45,36,38,38,36,26,23,22,55,12230,176,173,144,117,127,128,140,141,119,115,107,110,95,89,108,113,121,110,104,99,146,163,239,359,370,284,252,249,223,222,199,235,225,233,186,200,199,175,184,152,158,146,157,144,140,157,149,134,146,128,141,112,130,126,128,126,120,114,111,109,85,125,125,107,87,119,120,134,76,95,86,79,79,76,74,81,71,79,65,61,63,69,68,67,57,56,60,52,62,38,207]
["Hodge Hill","Hodge Hill","E05001190",14223,292,280,303,298,267,272,323,273,247,286,244,255,267,245,242,240,226,236,229,223,224,213,212,203,187,194,183,209,190,192,193,186,198,206,217,198,193,180,186,146,165,163,175,168,174,173,195,157,165,146,149,150,143,151,142,118,124,126,118,110,111,94,89,110,102,103,105,110,93,83,78,77,69,62,82,81,65,55,43,52,46,52,32,49,33,34,28,25,17,16,57,14820,244,261,237,291,257,286,257,266,260,259,257,244,271,243,246,275,240,260,221,210,232,182,178,198,204,238,188,243,202,205,206,232,238,215,218,211,213,187,172,191,171,198,189,186,201,202,176,177,180,162,158,141,129,123,136,139,125,134,125,106,92,107,101,101,105,91,96,82,73,86,75,88,99,78,85,74,77,98,84,85,64,74,71,57,62,50,47,41,29,21,131]
["Kings Norton","Northfield","E05001191",11676,199,170,204,215,187,198,192,202,157,164,185,190,132,144,182,154,172,176,140,154,174,138,137,162,133,163,127,137,135,137,140,155,142,138,141,153,128,151,121,151,135,138,136,147,168,145,154,183,165,169,152,139,137,140,148,134,132,133,94,108,127,131,126,105,119,137,145,146,124,113,106,95,70,65,80,80,80,70,71,50,60,47,41,38,38,32,22,25,16,17,63,12908,197,210,215,184,168,191,203,172,187,168,143,128,145,160,156,146,148,148,159,157,158,147,177,185,163,178,180,183,179,160,179,192,177,163,198,164,146,145,161,155,160,155,173,163,150,178,184,166,172,191,162,141,143,160,125,146,138,152,118,124,128,128,138,146,150,146,161,155,129,105,120,124,109,87,83,91,84,71,92,82,58,64,68,67,60,45,52,41,47,39,162]
["Kingstanding","Erdington","E05001192",12183,247,246,230,206,210,210,213,207,214,187,198,177,167,191,169,228,220,195,182,186,191,181,186,166,150,190,170,138,127,144,146,181,159,165,143,127,126,135,114,130,127,147,164,144,146,139,166,162,151,181,170,174,168,167,140,158,154,137,114,118,121,105,97,113,108,96,110,96,84,84,98,70,74,63,63,67,50,51,54,38,49,48,47,35,38,35,21,19,16,10,44,13375,202,200,229,202,201,210,201,175,199,220,170,172,174,194,192,183,202,188,188,175,216,177,177,180,148,206,195,201,169,194,175,191,164,186,191,181,167,171,189,166,165,160,161,194,179,182,183,189,199,217,162,186,195,170,127,136,162,143,139,129,120,113,130,96,116,79,125,90,113,105,92,110,96,79,87,71,82,70,69,64,67,47,51,45,59,44,44,39,28,22,123]
["Ladywood","Ladywood","E05001193",18147,203,190,201,188,161,152,119,102,130,105,97,100,73,83,107,102,96,116,148,231,410,537,636,846,874,723,731,710,795,744,527,562,508,462,456,354,295,286,278,250,265,232,214,196,208,193,174,197,188,167,165,172,140,140,113,119,116,114,88,85,95,87,75,74,70,58,56,55,43,42,59,46,45,25,35,25,29,33,35,17,33,31,21,12,19,14,8,7,2,4,18,15269,196,194,166,156,131,128,119,103,119,91,124,110,86,101,78,115,105,94,129,381,499,574,772,816,812,667,676,621,521,515,437,380,346,357,317,238,206,186,180,150,150,145,134,153,126,140,123,95,121,108,108,112,100,87,102,103,75,96,72,63,67,65,48,55,43,48,44,45,45,43,47,39,32,30,42,31,31,34,20,33,26,22,20,20,21,16,15,9,9,14,46]
["Longbridge","Northfield","E05001194",12453,245,191,209,200,214,183,204,183,184,169,161,160,146,159,169,174,151,192,184,147,162,150,176,149,132,181,147,154,154,176,157,170,172,165,174,181,171,153,172,169,142,157,168,145,141,182,165,192,187,171,167,160,182,160,142,141,161,143,140,150,137,139,131,131,129,138,120,157,116,100,85,89,94,55,84,67,78,52,52,58,51,50,28,51,32,28,23,26,19,15,32,13427,214,177,203,193,180,160,189,153,171,173,168,156,143,151,158,173,180,168,157,171,160,166,164,179,150,193,183,185,196,193,171,193,185,222,228,207,177,179,168,153,164,188,202,207,158,184,177,212,190,183,197,169,174,185,173,183,133,157,151,159,171,144,151,131,130,140,152,147,108,102,105,91,83,81,67,59,68,89,75,56,58,60,75,75,50,49,45,43,42,28,116]
["Lozells and East Handsworth","Perry Barr","E05001195",16604,291,302,346,273,264,324,312,292,331,252,286,298,318,281,288,268,232,303,285,258,288,292,255,277,269,273,290,308,298,312,295,312,285,299,284,272,256,254,253,248,226,225,235,209,213,201,215,173,160,154,161,180,187,136,141,144,131,120,123,106,112,113,98,93,73,48,62,56,52,48,62,54,68,53,67,64,60,55,49,57,48,54,65,47,36,31,20,21,16,20,38,15539,238,266,281,266,253,289,290,284,287,277,274,277,262,239,269,227,242,255,249,221,276,262,286,255,253,275,305,285,264,264,249,243,256,235,244,271,248,250,235,193,185,215,195,210,179,176,174,167,187,177,174,186,136,142,130,125,128,130,125,107,107,123,108,91,87,73,75,64,55,64,76,73,72,57,70,63,71,56,67,58,47,41,41,35,39,40,34,21,16,11,61]
["Moseley and Kings Heath","Hall Green","E05001196",12995,162,170,166,162,157,166,145,145,160,121,122,134,120,146,125,159,153,176,143,126,162,160,191,184,190,206,242,234,252,269,250,232,243,242,248,219,207,203,217,190,189,210,197,195,195,182,206,197,191,190,179,172,141,133,160,134,168,149,158,129,132,162,129,124,131,113,111,118,79,90,61,78,72,55,55,65,52,59,64,61,64,57,37,36,40,32,30,19,17,9,69,12498,177,171,147,139,148,142,144,139,141,120,126,116,118,123,133,133,126,137,163,132,149,141,184,219,196,219,234,235,255,233,219,225,196,220,225,198,187,171,189,174,176,164,189,173,194,187,163,155,175,155,167,153,170,160,145,136,135,138,134,125,136,139,116,120,130,104,124,120,102,96,79,83,58,71,68,68,57,68,68,70,58,62,60,47,42,32,33,28,40,35,146]
["Nechells","Ladywood","E05001197",18615,361,362,370,331,323,316,335,324,317,280,284,280,263,255,251,287,300,269,352,605,608,529,536,630,556,375,375,353,345,336,310,277,318,297,305,248,236,230,255,218,218,212,189,203,210,202,196,165,174,182,160,145,157,113,131,142,136,104,118,96,89,102,87,66,83,66,77,74,51,58,75,58,56,50,66,59,52,54,39,47,33,39,34,34,30,13,11,19,6,10,22,17975,330,367,338,331,313,353,286,298,301,263,265,253,223,258,243,240,243,226,302,662,618,529,616,600,546,354,365,362,347,310,320,295,295,280,265,253,233,236,216,209,198,163,197,183,201,158,155,159,147,132,164,153,135,145,143,107,108,94,103,109,76,83,96,80,81,70,66,64,50,69,65,51,56,64,70,66,63,49,53,52,49,46,45,27,25,36,23,26,18,16,42]
["Northfield","Northfield","E05001198",12725,202,193,207,180,152,168,185,179,187,169,156,140,145,116,136,134,162,173,170,173,172,173,169,194,167,187,186,158,165,172,154,144,142,161,150,135,148,144,129,141,158,176,167,148,163,173,174,185,204,216,187,197,176,188,177,151,163,151,155,138,132,135,147,146,150,160,120,167,119,133,122,130,86,84,84,84,70,66,63,61,56,79,63,49,39,33,29,29,32,18,74,13273,154,183,184,143,157,155,145,141,171,126,140,121,144,140,151,154,162,151,173,174,186,162,194,212,185,177,171,207,176,170,162,163,162,167,178,154,146,144,137,170,173,160,184,176,183,195,197,179,188,207,200,199,218,169,151,167,152,161,125,149,135,156,135,141,159,140,146,160,107,151,106,127,112,87,106,107,95,110,111,77,77,82,84,64,66,58,55,50,45,38,161]
["Oscott","Perry Barr","E05001199",11897,185,197,197,180,185,160,167,166,151,167,139,130,119,171,152,145,135,150,199,167,174,170,166,159,157,156,159,172,166,181,139,161,160,160,155,144,125,126,126,140,147,148,164,159,154,176,197,146,163,155,167,191,167,173,145,136,139,133,144,137,118,122,100,95,106,106,125,127,92,95,123,108,95,72,82,101,94,79,85,57,53,57,48,47,52,31,28,17,15,11,57,12876,176,193,199,153,154,164,189,145,158,147,145,131,135,145,150,153,157,163,132,153,173,157,158,185,151,191,206,184,173,169,166,168,176,161,162,149,153,146,137,159,150,165,156,191,206,217,172,211,232,187,197,161,213,176,149,163,151,126,124,121,125,95,122,118,110,127,121,138,129,121,127,128,106,87,76,93,83,109,87,76,77,89,73,72,58,63,51,44,43,41,153]
["Perry Barr","Perry Barr","E05001200",11816,190,192,170,174,183,204,173,197,171,189,176,161,169,146,186,150,158,146,159,249,237,192,208,185,204,182,196,174,185,187,168,165,165,170,162,159,153,143,132,159,146,130,145,177,149,175,157,141,141,164,120,158,140,125,125,106,126,124,119,104,89,112,108,94,90,89,95,92,96,108,93,71,83,73,66,61,62,59,60,51,52,37,37,41,23,22,24,13,17,10,47,12460,181,163,176,178,165,158,187,146,175,172,162,128,137,153,129,161,166,148,199,322,258,223,238,223,217,164,178,173,192,153,182,181,164,186,187,181,163,155,168,132,132,126,176,167,150,144,143,183,171,177,159,170,160,153,123,152,133,135,127,94,95,92,83,81,114,96,112,129,82,97,110,90,80,80,80,76,80,61,93,68,62,54,55,58,49,49,41,40,34,23,97]
["Quinton","Edgbaston","E05001201",11688,182,209,201,185,180,184,198,164,177,162,188,141,153,152,149,171,162,150,151,156,161,149,163,136,154,141,157,140,136,156,164,154,168,135,169,165,150,134,156,142,171,168,187,151,179,160,148,154,140,146,155,159,153,152,122,136,120,91,97,132,130,132,117,127,97,113,91,132,104,102,87,106,78,77,62,72,68,77,58,60,63,54,54,41,35,40,31,24,19,22,49,12523,170,206,172,194,175,177,154,165,169,140,164,151,144,171,138,158,136,162,150,145,146,147,139,173,148,177,167,148,174,189,169,180,181,176,185,194,162,178,189,176,145,178,179,181,189,181,166,170,172,196,150,147,139,154,131,155,137,138,125,119,120,116,108,110,125,117,129,138,111,117,102,103,78,91,78,71,92,92,94,79,72,82,63,56,48,61,40,35,34,35,135]
["Selly Oak","Selly Oak","E05001202",13466,123,97,115,105,120,103,96,90,76,94,76,62,73,65,68,84,97,81,141,440,1105,1456,1369,1045,834,244,259,224,183,197,138,133,132,142,140,137,138,133,119,110,115,109,124,99,91,102,93,78,71,87,75,79,65,72,80,70,74,67,82,81,78,70,54,66,59,59,62,67,51,49,43,48,57,33,41,48,51,45,37,45,26,31,27,27,23,15,21,12,19,5,39,14047,104,105,103,103,121,99,80,89,73,73,80,67,66,59,64,82,90,82,144,663,1677,1789,1281,905,741,254,187,173,142,152,172,152,141,142,128,122,117,98,119,92,90,99,81,92,91,100,63,85,79,62,89,78,84,80,79,78,75,74,74,61,59,59,58,47,61,53,67,65,48,64,54,43,50,44,54,57,56,45,54,49,38,33,37,38,32,29,28,33,34,19,94]
["Shard End","Hodge Hill","E05001203",13028,239,249,274,232,239,222,245,239,206,207,184,192,154,172,190,181,166,198,166,192,182,172,203,172,178,182,165,189,160,180,211,182,161,160,186,177,143,145,133,146,145,151,183,163,190,168,171,172,182,167,158,155,157,147,147,131,146,120,123,109,131,114,135,112,129,144,134,159,112,116,80,89,79,59,68,69,45,68,62,60,46,42,48,44,30,27,26,22,16,19,84,14548,224,260,261,263,226,234,207,207,215,194,189,158,188,169,141,150,154,168,187,170,203,214,240,226,181,253,256,257,224,227,223,210,221,205,193,192,162,159,151,147,181,193,188,190,214,173,197,197,189,182,186,179,172,173,163,152,157,139,124,139,134,134,118,135,140,111,136,147,101,112,118,98,110,72,68,79,89,75,65,71,67,66,84,66,49,65,49,60,47,60,225]
["Sheldon","Yardley","E05001204",10958,161,174,188,153,156,156,132,149,135,152,133,154,155,140,143,147,132,149,149,139,151,143,146,128,125,173,141,137,148,147,134,144,138,142,118,125,125,130,111,110,129,127,151,170,156,145,152,160,172,149,163,169,158,151,132,155,135,118,100,131,125,100,104,97,106,101,113,109,115,102,112,117,85,68,77,87,74,66,57,67,66,59,50,53,36,36,23,24,20,20,53,11400,160,125,151,145,141,126,153,130,142,132,140,128,117,114,155,129,132,134,127,127,141,137,151,142,136,178,159,151,141,153,144,127,134,143,159,148,139,139,147,132,115,123,149,159,167,157,161,172,185,157,147,181,177,166,148,145,123,126,102,115,115,121,103,101,119,124,99,135,117,101,110,104,95,85,88,93,109,84,95,80,81,68,75,57,65,55,39,42,35,53,168]
["Soho","Ladywood","E05001205",16318,307,316,336,290,291,284,281,290,261,281,277,251,229,252,212,212,230,229,224,211,222,308,306,311,315,339,301,316,320,303,288,320,323,305,331,282,267,237,264,275,222,245,212,248,242,195,194,193,176,178,173,160,167,146,136,128,131,113,95,110,111,108,105,70,71,69,66,62,64,63,61,63,60,49,69,65,47,49,47,47,38,36,43,33,26,30,22,13,13,13,44,15521,268,282,289,276,266,281,286,249,260,276,212,224,225,213,203,208,244,203,252,233,246,246,258,262,269,257,305,256,293,268,297,270,250,297,285,258,207,224,197,206,229,199,209,205,207,210,204,186,180,188,167,170,166,150,141,149,134,110,124,116,107,97,101,76,95,67,95,80,51,57,88,86,62,67,63,70,74,60,70,64,56,46,41,49,38,24,33,34,30,12,83]
["South Yardley","Yardley","E05001206",15719,296,320,298,319,276,283,313,291,286,290,291,263,263,222,219,238,214,233,222,188,228,177,185,245,207,247,236,204,218,246,231,245,227,246,228,255,232,221,209,234,203,210,210,194,207,206,205,195,188,188,174,194,196,180,192,154,154,145,157,148,143,124,111,115,113,91,98,112,97,82,87,66,64,66,72,77,66,66,70,59,52,59,59,40,36,39,25,24,20,7,33,16055,323,295,303,274,290,299,273,286,256,286,210,229,231,208,223,220,217,233,224,194,228,202,231,235,219,273,282,299,245,274,242,261,252,252,257,249,217,243,217,190,191,185,243,202,185,183,174,186,200,190,228,194,196,173,169,156,156,161,128,143,128,120,111,125,126,103,104,116,85,103,76,98,103,87,74,71,95,62,64,65,66,62,56,65,54,39,43,35,31,19,84]
["Sparkbrook","Hall Green","E05001207",16934,347,322,306,340,318,318,319,330,339,314,274,312,315,296,297,315,310,286,279,287,313,298,295,315,317,311,300,323,324,292,303,311,283,282,256,257,236,241,264,222,210,216,208,169,188,191,182,168,151,161,163,137,120,118,143,129,133,128,124,108,126,116,125,80,97,60,57,53,46,45,73,62,63,43,78,58,70,56,56,63,53,57,48,41,44,21,34,25,19,10,41,16045,314,298,293,276,263,307,298,280,300,288,299,299,283,291,309,287,274,275,312,286,280,309,292,259,255,289,287,297,288,268,262,260,229,270,249,220,215,198,205,170,191,192,194,189,205,180,183,154,141,182,137,152,145,127,149,142,136,129,122,114,123,113,99,84,91,87,89,83,76,77,60,57,52,52,71,68,67,73,52,82,48,49,46,45,55,22,24,24,20,11,47]
["Springfield","Hall Green","E05001208",16511,320,331,300,297,297,335,318,302,321,301,300,311,274,258,256,284,289,289,242,263,299,248,268,243,280,267,287,272,286,284,264,286,282,268,277,252,243,243,240,194,226,226,224,216,208,195,168,194,158,150,146,139,160,136,136,148,140,133,138,137,127,135,109,103,99,86,87,65,56,58,55,82,82,60,59,69,73,57,58,59,58,62,42,40,44,23,25,26,17,16,30,16299,299,307,279,284,297,323,289,273,292,282,276,307,269,284,256,254,284,273,228,232,275,262,272,246,236,289,288,291,256,274,274,264,284,275,280,229,243,215,224,192,230,206,178,195,221,181,185,179,145,167,147,150,155,128,149,135,119,145,135,141,130,118,109,110,99,109,94,90,97,79,84,82,79,72,73,67,79,84,71,60,62,47,45,50,40,35,34,30,23,19,80]
["Stechford and Yardley North","Yardley","E05001209",13031,213,243,209,221,228,225,227,217,244,233,196,188,164,197,200,184,187,221,205,181,191,187,182,191,187,190,195,166,193,185,171,168,167,167,163,153,140,135,136,143,141,172,149,169,169,147,161,145,170,167,185,167,162,154,146,151,142,133,142,131,119,113,126,119,130,100,119,123,97,100,89,87,73,68,72,83,81,67,54,67,72,53,49,46,42,42,27,28,22,11,56,13542,209,201,218,191,227,200,219,214,201,203,184,182,188,170,212,187,192,180,182,190,196,192,180,167,175,201,208,212,211,165,184,190,164,171,211,167,173,175,148,176,148,164,175,183,180,175,186,183,185,187,178,172,154,182,154,138,149,126,137,106,128,100,99,84,106,112,123,118,109,94,96,111,88,85,79,95,87,97,76,79,56,75,61,54,57,56,52,40,39,44,164]
["Stockland Green","Erdington","E05001210",12669,231,215,215,206,177,186,163,167,177,152,139,140,143,156,161,159,159,168,159,173,216,176,205,216,211,211,217,204,240,246,225,202,234,240,213,186,176,187,149,173,170,178,145,173,177,181,161,181,198,163,177,198,163,142,160,135,132,137,130,117,130,124,79,102,106,86,95,87,88,58,74,59,62,50,48,65,63,49,55,47,40,45,27,33,32,35,28,22,17,27,45,12819,179,222,185,201,173,166,165,163,162,161,152,170,128,140,157,138,160,146,148,142,192,211,204,221,206,209,221,241,235,228,244,224,218,205,204,183,167,170,173,151,149,167,172,187,175,193,173,187,161,203,210,153,195,145,139,160,135,143,114,100,106,105,89,106,109,94,100,112,78,67,85,68,80,70,66,74,72,60,71,43,47,60,56,48,55,38,32,41,20,24,117]
["Sutton Four Oaks","Sutton Coldfield","E05001211",11690,123,141,127,138,134,153,171,186,138,160,155,149,159,165,159,169,138,136,127,98,109,95,119,110,109,138,122,109,119,90,94,111,116,102,122,109,106,116,162,145,149,143,178,181,173,177,188,169,180,187,177,174,169,159,144,136,149,150,149,145,134,139,111,144,127,145,147,166,149,146,153,127,115,88,88,91,110,104,88,97,75,96,82,97,59,55,66,40,37,32,76,12736,129,150,124,137,144,123,153,149,162,144,142,152,142,146,161,142,144,153,149,102,96,122,126,118,108,97,128,114,116,107,99,111,113,114,140,149,142,141,166,149,149,142,178,212,168,188,217,194,184,216,214,180,175,173,153,184,138,161,173,125,137,155,153,125,157,151,159,184,150,183,161,150,122,108,111,129,134,121,136,140,99,102,121,105,99,75,66,66,57,40,212]
["Sutton New Hall","Sutton Coldfield","E05001212",10764,114,112,116,114,112,105,117,146,103,143,128,132,105,127,144,129,132,136,127,129,95,98,117,119,109,120,117,112,107,113,99,109,113,100,105,132,107,122,120,124,130,151,133,143,148,185,157,173,173,165,163,164,185,152,160,172,172,145,147,162,173,152,162,129,163,146,156,194,128,116,149,116,85,86,80,99,58,64,60,70,46,58,54,57,48,51,38,28,30,22,57,11510,113,106,109,110,117,129,114,106,136,110,115,90,99,129,109,106,118,135,144,101,84,97,112,123,103,127,89,105,102,117,100,95,116,113,107,139,142,105,116,132,148,138,156,185,152,174,175,180,197,184,202,172,180,161,180,165,155,167,161,162,174,158,159,174,170,150,179,194,133,120,145,137,100,92,84,100,102,105,111,97,91,76,93,66,105,65,66,59,50,45,196]
["Sutton Trinity","Sutton Coldfield","E05001213",12070,127,171,180,151,136,139,146,161,143,169,151,142,162,126,173,152,159,143,156,127,149,122,162,136,113,130,148,134,145,133,154,147,156,150,140,123,123,124,136,130,176,151,202,171,172,166,176,169,185,188,187,168,191,189,171,149,169,145,127,139,142,156,141,113,151,147,149,167,125,119,126,115,95,88,95,89,78,76,79,81,68,64,70,57,54,59,42,31,30,30,73,12920,164,146,148,143,164,153,164,124,130,159,128,133,110,144,134,162,141,147,150,143,119,135,155,152,140,154,144,145,167,151,142,143,118,149,161,127,155,156,169,144,172,159,170,200,170,183,205,180,232,209,201,183,184,186,195,180,171,144,132,164,146,139,147,136,145,148,150,159,127,165,159,107,125,98,110,114,100,92,92,93,97,99,77,99,65,67,68,79,60,46,178]
["Sutton Vesey","Sutton Coldfield","E05001214",11316,139,108,141,125,136,126,146,129,143,102,128,130,127,125,148,136,123,131,127,138,138,115,127,144,138,123,121,123,140,137,111,144,109,127,121,114,112,133,157,153,140,127,137,138,159,162,166,179,167,167,193,198,193,156,191,166,157,146,134,144,142,166,139,137,147,142,141,148,120,98,146,121,92,97,74,97,87,82,87,67,70,74,62,55,48,44,53,38,29,25,73,11908,101,128,141,131,124,117,121,103,135,127,125,112,124,127,133,112,141,154,132,120,93,114,119,141,107,113,136,133,126,125,102,115,130,126,140,133,128,141,144,159,140,157,163,163,155,151,156,187,198,185,210,196,200,188,180,193,146,155,148,145,141,147,156,127,149,145,157,146,118,131,147,139,113,90,110,106,120,113,103,100,88,72,89,74,79,63,68,80,53,47,188]
["Tyburn","Erdington","E05001215",12175,177,198,223,194,195,193,188,206,193,179,186,180,171,158,177,173,178,204,161,185,191,181,205,178,149,169,191,149,135,144,167,178,138,180,145,143,124,110,134,124,156,155,177,152,172,172,168,191,189,160,176,169,145,153,162,128,124,142,132,128,125,106,95,94,96,77,87,119,87,102,88,82,76,64,73,75,60,76,71,79,50,51,72,38,43,44,26,26,22,20,46,13362,213,199,198,165,154,175,198,209,172,180,169,178,183,192,190,156,168,202,192,168,193,184,188,139,163,175,208,194,198,174,183,211,187,194,178,161,156,139,161,165,176,156,176,194,197,192,200,192,203,197,198,200,191,188,143,154,118,143,106,125,128,127,115,104,100,112,93,117,102,92,102,91,87,82,84,100,89,81,97,75,90,77,65,72,62,57,55,53,37,29,126]
["Washwood Heath","Hodge Hill","E05001216",17484,388,350,359,315,329,379,411,367,370,376,389,360,388,358,351,349,358,332,309,340,321,312,304,304,286,284,287,276,271,263,304,274,278,277,312,282,266,255,235,258,222,228,219,192,208,210,192,173,152,141,144,142,139,118,122,109,112,99,119,103,108,98,102,83,74,56,60,59,34,43,37,48,38,60,58,45,48,48,61,41,35,39,27,29,43,38,23,18,12,11,37,17067,348,349,361,313,342,371,378,339,369,346,344,338,350,324,343,316,325,326,304,299,308,271,272,254,259,279,277,292,254,246,297,260,256,276,298,246,253,236,211,232,223,222,240,249,208,200,163,169,154,124,134,135,127,122,119,109,131,114,103,106,117,108,94,89,79,56,85,77,58,55,58,63,61,52,65,50,65,63,71,76,52,49,39,51,36,32,30,18,25,13,66]
["Weoley","Northfield","E05001217",12481,214,223,220,215,222,229,189,213,185,187,175,173,161,174,172,192,198,178,178,159,214,195,195,203,154,194,152,164,150,189,156,161,147,147,153,157,134,163,139,162,186,172,170,161,153,161,163,136,184,149,163,142,143,146,138,133,135,141,123,111,119,135,115,104,79,114,114,118,107,81,105,77,83,69,76,55,67,59,70,50,63,46,56,44,35,50,40,28,29,23,74,13522,212,180,200,195,184,190,184,179,185,192,167,168,134,133,158,181,176,168,202,174,170,197,203,215,179,195,186,195,181,159,158,157,181,159,188,181,184,179,174,175,156,152,176,194,186,196,192,226,170,189,178,198,190,167,180,151,145,151,131,133,125,118,127,119,105,120,116,116,125,98,122,105,81,70,97,99,98,86,78,71,68,85,73,75,86,57,53,59,48,36,167]
[null,null,null,{"$f":"SUM(D5:D44)","v":543580},8878,8903,9054,8567,8341,8555,8502,8362,8042,7852,7622,7552,7272,7268,7463,7658,7587,7807,7830,9180,9915,9814,10098,10110,9488,8886,8667,8494,8640,8735,8143,8295,8076,8095,7961,7556,6978,7000,6964,6958,6884,7008,6990,6887,7024,6944,6954,6791,6659,6579,6440,6541,6359,5860,5711,5460,5563,5139,4972,4956,4898,4851,4564,{"$f":"SUM(BP5:BP44)","v":4274},4303,4062,4153,4415,3575,3475,3573,3302,2948,2615,2791,2853,2647,2447,2416,2311,2069,2030,1889,1698,1550,1339,1119,974,788,668,2094,557780,8328,8470,8431,8090,7873,8116,8006,7510,7848,7574,7177,6902,6807,7013,7046,7083,7304,7368,7750,9692,10366,10192,10367,10147,9309,9093,8940,8999,8515,8393,8207,8233,7990,8124,8455,{"$f":"SUM(EB5:EB44)","v":7698},7174,6989,7050,6736,6653,6847,7132,7371,7205,7061,7031,7013,7017,6958,6846,6627,6644,6233,5942,5801,5453,5382,4999,4913,4838,4806,4553,4402,4598,4352,4586,4669,3763,3837,3906,3803,3388,3031,3247,3221,3283,3197,3138,2886,2635,2546,2541,2393,2274,1920,1780,1715,1448,1270,5261]
[null,"Males "]
[null,"Females"]
[]
["Office for National Statistics"]
["Crown Copyright 2016"]

{"sheet":"2013 syoa","index":18,"n_rows":50,"n_cols":187,"rows_kept":50,"cut":false,"hidden":true,"merged":[[3,3,3,21],[3,22,3,40],[3,95,3,186]]}
["2013 Birmingham Ward population (experimental statistics)",null,null,null,null,"Estimates should be aggregated to at least five-year age groups before publication"]
[{"$f":"1","v":1},{"$f":"1+A2","v":2},{"$f":"1+B2","v":3},4,5,6,7,8,9,10,11,12,13,14,15,16,17,18,19,20,21,22,23,24,25,26,27,28,29,30,31,32,33,34,35,36,37,38,39,40,41,42,43,44,45,46,47,48,49,50,51,52,53,54,55,56,57,58,59,60,61,62,63,64,65,66,{"$f":"1+BN2","v":67},68,69,70,71,72,73,74,75,76,77,78,79,80,81,82,83,84,85,86,87,88,89,90,91,92,93,94,95,96,97,98,99,100,101,102,103,104,105,106,107,108,109,110,111,112,113,114,115,116,117,118,119,120,121,122,123,124,125,126,127,128,129,130,{"$f":"1+DZ2","v":131},132,133,134,135,136,137,138,139,140,141,142,143,144,145,146,147,148,149,150,151,152,153,154,155,156,157,158,159,160,161,162,163,164,165,166,167,168,169,170,171,172,173,174,175,176,177,178,179,180,181,182,183,184,185,186,187]
["ward","constituency","code","All Ages",0,1,2,3,4,5,6,7,8,9,10,11,12,13,14,15,16,17,18,19,20,21,22,23,24,25,26,27,28,29,30,31,32,33,34,35,36,37,38,39,40,41,42,43,44,45,46,47,48,49,50,51,52,53,54,55,56,57,58,59,60,61,62,63,64,65,66,67,68,69,70,71,72,73,74,75,76,77,78,79,80,81,82,83,84,85,86,87,88,89,90,"All",0,{"$f":"CS3+1","v":1},{"$f":"CT3+1","v":2},3,4,5,6,7,8,9,10,11,12,13,14,15,16,17,18,19,20,21,22,23,24,25,26,27,28,29,30,31,32,33,34,35,36,37,38,39,40,41,42,43,44,45,46,47,48,49,50,51,52,53,54,55,56,57,58,59,60,61,62,63,64,65,{"$f":"FF3+1","v":66},67,68,69,70,71,72,73,74,75,76,77,78,79,80,81,82,83,84,85,86,87,88,89,90]
[null,null,null,"males",null,null,null,null,null,null,null,null,null,null,null,null,null,null,null,null,null,null,null,null,null,null,null,null,null,null,null,null,null,null,null,null,null,null,null,null,null,null,null,null,null,null,null,null,null,null,null,null,null,null,null,null,null,null,null,null,null,null,null,null,null,null,null,null,null,null,null,null,null,null,null,null,null,null,null,null,null,null,null,null,null,null,null,null,null,null,null,null,null,null,null,"Females"]
["Acocks Green","Yardley","E05001178",14138,221,260,247,210,269,198,257,211,208,213,212,209,198,197,233,199,230,205,212,215,231,191,201,204,187,193,228,178,226,217,235,240,212,233,236,193,180,178,197,171,192,163,212,192,192,189,183,198,188,178,183,186,167,150,148,137,137,134,127,116,134,137,122,115,109,100,110,100,84,105,90,66,86,70,68,72,67,62,44,61,48,57,38,59,39,37,31,26,14,12,68,14647,244,254,220,249,222,223,228,228,185,192,175,181,189,166,198,188,204,204,184,194,214,197,197,211,187,223,254,223,243,225,211,251,238,262,221,188,189,208,197,184,193,197,186,207,225,223,198,188,188,181,189,179,181,171,144,134,165,142,115,112,116,106,110,105,120,123,119,99,88,107,94,94,69,84,78,83,95,80,89,78,67,60,77,73,63,44,46,42,37,42,190]
["Aston","Ladywood","E05001179",16432,347,289,333,328,302,324,290,303,292,291,272,302,288,267,283,316,306,332,289,288,338,380,401,377,399,301,314,292,290,281,279,283,267,261,261,236,263,242,216,221,208,203,194,222,182,171,167,156,143,141,149,139,126,103,116,116,106,103,95,95,121,104,64,68,49,67,63,47,45,44,60,67,48,59,69,51,43,62,63,47,45,43,37,33,28,24,23,19,17,5,38,16202,298,347,286,291,348,280,294,286,276,282,264,233,264,255,245,277,299,266,258,309,395,441,418,351,338,278,285,276,256,284,263,278,252,275,239,223,190,221,201,182,229,201,202,204,165,172,182,162,151,172,157,163,151,139,110,115,106,115,102,98,93,96,90,90,81,70,60,53,57,45,74,64,74,91,83,62,81,61,61,51,29,42,51,36,38,31,30,16,14,19,59]
["Bartley Green","Edgbaston","E05001180",11965,179,219,200,168,201,188,175,167,167,162,155,169,178,191,167,167,161,176,174,190,175,191,171,167,131,150,154,157,146,147,171,159,162,145,160,156,138,141,166,155,156,154,153,145,160,158,145,141,135,153,164,159,171,124,129,143,133,124,146,127,128,123,146,116,128,133,154,116,114,100,106,76,82,64,60,74,51,77,59,46,45,41,49,46,39,22,32,24,24,13,61,13284,192,188,190,190,173,181,168,195,181,153,136,152,156,155,161,164,182,167,165,145,171,230,240,176,185,182,192,169,190,156,175,185,210,213,205,166,159,161,170,174,206,173,183,172,184,157,167,168,175,166,172,188,153,143,164,160,133,139,141,167,138,138,138,131,170,154,165,130,91,104,125,92,70,91,81,74,87,79,61,70,74,66,62,63,69,51,54,39,41,41,121]
["Billesley","Selly Oak","E05001181",12812,229,218,195,181,201,205,200,147,190,151,160,163,181,183,211,184,179,198,182,177,170,180,192,156,157,204,188,189,168,193,154,192,191,167,178,146,154,131,148,144,163,153,155,173,174,171,193,168,169,162,178,150,164,172,157,169,137,143,150,136,132,135,120,132,124,125,116,112,94,105,86,86,70,84,87,93,60,69,78,54,54,63,58,52,38,43,31,31,21,22,63,13744,205,217,180,172,181,168,161,186,205,171,173,148,181,162,174,169,194,151,193,184,170,176,203,162,173,203,202,194,204,178,196,174,184,236,183,136,171,171,170,164,161,167,179,190,175,190,199,211,195,182,208,211,198,180,150,159,150,152,153,109,132,130,139,139,118,145,128,109,109,104,105,94,84,102,99,101,97,99,82,74,90,99,76,81,62,49,50,52,49,47,155]
["Bordesley Green","Hodge Hill","E05001182",17317,355,394,379,389,372,403,373,377,374,336,391,364,354,347,376,341,371,310,314,295,297,256,278,277,236,281,275,264,277,274,287,262,274,263,260,226,235,236,234,231,258,215,212,220,217,214,176,172,135,137,143,122,137,139,108,130,135,116,118,93,110,91,78,69,52,59,63,59,47,61,64,60,58,73,63,59,78,57,62,51,55,55,44,54,34,24,16,22,18,12,34,17587,377,389,366,371,411,361,344,403,377,337,343,365,392,344,344,321,311,309,304,324,270,276,239,237,249,279,283,261,305,281,273,285,270,326,247,237,253,243,232,231,230,233,220,249,202,198,190,144,161,138,123,150,137,148,119,116,115,118,133,101,104,93,81,99,74,79,72,63,64,70,71,57,71,86,73,69,74,94,73,63,58,63,60,55,29,29,38,28,26,10,66]
["Bournville","Selly Oak","E05001183",12322,186,177,164,158,156,161,166,155,135,152,161,129,126,158,155,160,146,146,140,148,167,148,155,152,148,156,161,178,193,176,180,186,160,184,167,186,192,170,183,164,170,174,201,168,165,178,177,179,194,185,211,194,149,163,164,162,131,159,130,137,124,149,139,112,139,144,147,121,124,112,90,79,61,69,97,69,60,73,47,50,48,55,45,51,40,33,35,31,16,23,63,13662,183,174,188,159,158,183,159,178,169,154,128,128,138,133,150,158,176,179,145,157,136,154,177,160,151,169,189,168,187,176,191,169,202,192,204,191,164,158,187,168,189,201,227,196,193,202,200,204,188,191,192,195,197,164,168,187,167,144,146,153,176,151,153,146,145,151,149,101,130,119,131,91,98,100,93,111,84,83,73,87,73,74,79,81,61,75,66,47,55,57,228]
["Brandwood","Selly Oak","E05001184",12586,211,215,181,193,225,168,191,167,165,169,171,153,166,181,182,179,183,171,176,153,186,178,163,145,128,158,174,181,170,145,179,158,172,180,205,141,154,171,161,162,176,168,190,171,182,170,173,178,183,184,181,178,160,151,148,148,147,126,133,137,122,138,117,123,127,115,122,104,105,96,109,95,87,75,95,78,90,74,70,57,56,56,47,38,35,20,34,23,19,17,47,13252,197,200,197,191,174,183,168,161,157,154,139,138,138,149,145,166,168,148,136,149,170,193,190,160,180,185,158,164,165,169,168,181,186,198,210,156,171,196,182,156,179,187,210,204,206,233,189,210,179,189,161,165,174,151,161,153,144,112,148,147,140,125,130,140,135,115,162,118,99,144,120,114,86,96,98,107,95,87,70,65,58,67,74,66,60,57,61,48,44,34,139]
["Edgbaston","Edgbaston","E05001185",12907,130,144,131,107,123,128,105,115,87,85,93,95,90,95,98,129,155,169,324,1076,522,379,368,352,305,280,250,278,264,233,211,184,210,196,192,168,175,156,158,137,157,144,136,134,147,160,162,144,155,137,132,146,113,101,111,96,111,93,98,99,107,92,101,112,78,80,88,69,82,89,79,54,71,69,69,72,58,45,59,42,40,39,37,40,29,18,25,17,17,14,42,12410,127,130,118,104,96,111,79,107,81,83,77,64,83,105,92,167,141,147,414,1413,527,366,374,345,334,254,226,205,214,184,230,198,173,186,142,152,134,114,109,107,126,133,108,138,108,123,115,126,131,91,106,104,102,90,98,105,83,86,83,85,97,88,89,93,92,96,80,74,72,69,78,79,68,63,58,58,63,48,35,37,42,53,42,42,41,48,42,29,34,29,117]
["Erdington","Erdington","E05001186",11344,179,224,197,178,167,155,176,157,152,133,131,95,109,143,116,119,132,143,127,138,147,147,164,126,131,143,160,173,180,156,188,170,183,167,141,150,140,160,154,157,152,136,161,159,143,161,170,155,178,156,162,174,165,148,144,156,126,126,153,121,108,123,110,119,116,115,102,98,82,106,88,91,74,55,77,69,57,52,70,51,56,52,48,32,34,36,41,27,22,12,67,11853,194,180,161,184,143,153,140,120,149,136,105,101,110,127,107,107,127,142,138,126,143,176,179,151,165,158,181,164,193,172,199,184,178,195,166,163,177,156,139,140,144,141,172,154,163,150,144,160,184,151,191,138,145,180,149,146,137,117,122,100,119,106,128,108,105,123,113,105,97,114,100,81,89,91,91,86,74,79,101,82,72,74,69,61,57,64,50,70,52,36,139]
["Hall Green","Hall Green","E05001187",13245,190,194,180,217,210,206,184,193,209,186,198,188,202,189,197,215,205,204,192,178,157,180,178,161,158,171,162,173,162,170,171,179,173,177,152,174,184,156,196,192,181,183,168,180,180,181,187,184,201,149,178,179,165,166,158,150,158,140,145,147,130,146,113,131,107,138,142,97,116,95,99,89,79,94,91,83,62,73,77,68,72,56,58,43,43,41,38,28,21,13,59,13634,188,189,185,168,173,197,188,164,184,188,174,168,159,177,191,188,166,189,178,158,159,160,150,148,172,175,178,170,172,172,174,188,186,216,211,177,180,181,184,157,179,204,177,195,187,196,186,183,160,194,176,191,172,190,190,148,155,150,148,157,157,119,118,123,133,139,139,101,127,130,140,96,76,105,92,77,101,97,94,91,81,87,85,72,78,55,62,35,42,43,119]
["Handsworth Wood","Perry Barr","E05001188",13784,215,222,211,228,200,163,185,192,176,180,193,208,189,193,200,207,197,196,185,238,231,234,244,226,235,231,226,252,242,240,234,232,244,194,179,192,205,185,189,204,169,191,184,190,177,193,164,164,166,186,179,186,149,180,153,171,137,145,161,135,152,119,113,110,102,92,89,76,75,61,62,63,63,77,52,53,63,65,63,63,48,53,35,48,26,34,27,20,31,18,54,14116,173,189,177,166,189,190,162,168,203,175,165,180,179,186,178,184,191,207,189,248,250,254,245,233,209,238,238,250,220,240,228,190,223,242,214,190,177,202,184,175,190,162,182,179,169,202,203,176,194,205,239,219,196,184,175,156,137,146,130,148,149,127,120,137,90,98,94,83,67,79,82,63,85,99,84,88,76,92,62,70,70,71,63,60,43,52,47,32,32,22,86]
["Harborne","Edgbaston","E05001189",11625,161,136,133,142,131,130,149,125,132,129,113,104,114,105,88,108,108,108,94,108,147,189,221,256,235,259,242,281,284,266,236,221,231,218,206,198,182,182,180,155,181,177,174,161,148,160,168,136,149,145,142,133,126,113,124,122,114,108,115,121,120,101,117,105,102,112,113,77,86,98,59,80,72,71,73,59,59,55,38,44,34,47,39,38,38,34,29,19,19,13,50,11967,175,148,121,125,122,145,138,121,112,111,107,93,90,105,107,119,120,105,119,115,130,166,278,354,320,269,253,251,221,229,257,236,237,200,189,190,190,184,157,165,155,146,145,151,159,147,132,142,133,141,118,127,123,130,125,117,104,111,110,86,130,118,110,84,123,117,122,74,95,82,74,77,71,72,72,66,73,63,56,63,67,67,62,52,52,60,47,61,43,42,196]
["Hodge Hill","Hodge Hill","E05001190",14040,282,297,298,257,270,305,285,242,275,239,259,267,243,238,223,219,235,223,231,223,227,218,195,197,171,195,207,197,206,182,185,203,203,215,183,187,191,185,151,173,171,179,170,182,179,196,163,168,150,140,148,152,143,142,125,127,131,118,114,116,91,95,114,107,98,108,117,99,84,86,80,73,62,85,86,67,63,40,55,50,50,37,46,36,40,30,31,18,18,13,65,14653,247,242,279,248,282,255,266,266,261,251,251,270,232,250,260,239,267,217,214,224,185,182,205,218,187,189,240,211,206,204,240,232,212,214,208,211,178,171,193,164,199,196,183,212,204,175,174,177,163,163,139,136,133,138,140,122,130,123,111,101,116,112,103,102,93,102,84,75,91,75,89,95,83,88,78,78,99,88,87,68,77,79,64,59,51,48,55,35,25,33,131]
["Kings Norton","Northfield","E05001191",11746,171,192,212,187,205,191,210,149,164,179,186,128,147,173,169,175,176,142,161,183,152,140,160,142,142,135,134,131,140,152,153,154,141,148,148,139,160,130,147,151,137,137,151,169,143,159,190,171,167,167,142,133,144,142,131,126,138,102,109,136,138,135,109,129,131,154,154,126,118,110,99,75,69,82,85,81,76,72,57,60,52,50,43,42,40,24,23,24,22,14,59,12955,217,202,189,167,191,205,174,187,164,147,132,151,158,155,159,157,157,168,173,148,160,181,179,165,150,173,179,168,170,179,192,178,169,206,172,145,145,168,159,154,161,178,167,158,181,194,169,174,189,168,147,151,158,128,142,138,152,126,126,132,134,144,149,150,147,162,157,130,110,124,125,107,86,85,93,91,77,90,84,60,68,74,74,63,52,54,44,53,46,31,159]
["Kingstanding","Erdington","E05001192",12135,249,229,199,205,209,218,214,209,192,201,179,169,192,172,226,218,197,181,190,224,190,186,168,159,156,179,145,133,151,137,185,158,161,147,138,130,134,122,135,124,140,172,147,149,145,170,161,155,180,169,174,162,170,143,149,157,134,120,124,129,107,102,114,104,102,111,97,91,89,104,72,80,67,68,69,53,49,60,41,48,47,45,38,44,40,22,26,16,16,13,39,13346,204,229,202,197,211,186,172,204,221,183,179,179,195,191,193,201,190,184,179,216,187,176,192,153,162,194,199,167,191,182,179,176,195,200,180,172,173,188,163,162,161,159,192,184,178,186,199,198,220,163,193,195,172,128,138,163,146,143,127,116,117,128,95,120,86,126,98,113,107,88,112,100,79,88,79,85,72,76,67,71,52,54,50,63,50,46,50,37,25,22,122]
["Ladywood","Ladywood","E05001193",17263,223,218,196,167,151,119,108,124,98,98,107,67,87,93,81,84,113,114,128,180,401,541,667,721,817,681,694,751,738,650,585,515,487,447,415,301,295,292,257,256,234,209,190,209,183,176,194,186,172,173,170,138,141,105,124,116,108,90,83,93,86,77,72,75,64,57,58,43,42,59,45,43,22,32,29,33,33,36,21,26,26,25,14,20,15,10,9,3,8,4,15,14317,183,178,172,140,144,117,101,115,103,99,109,74,94,75,106,102,97,94,136,238,422,566,646,727,807,651,642,541,536,486,425,364,358,327,277,230,194,185,158,139,150,134,147,132,128,121,99,123,111,108,108,97,89,94,102,76,93,71,64,69,59,48,57,43,51,50,53,46,43,47,38,33,30,41,32,33,34,21,37,28,23,23,22,23,18,22,11,13,10,17,37]
["Longbridge","Northfield","E05001194",12406,191,203,196,221,176,193,192,187,177,166,159,148,161,174,181,158,197,182,150,161,150,183,152,143,142,148,149,159,177,146,163,182,169,183,164,176,160,179,170,157,162,170,145,143,189,175,194,191,177,176,158,186,162,145,145,157,146,139,146,144,137,137,136,127,140,126,160,116,109,85,93,92,53,89,76,79,55,64,59,43,53,34,46,40,34,28,31,26,16,13,34,13350,195,207,194,179,167,191,148,174,178,169,146,150,143,163,189,188,165,155,168,167,165,155,179,150,137,171,188,187,187,176,199,197,219,227,225,184,172,163,155,172,186,203,210,163,185,187,210,194,188,193,170,173,191,173,188,131,155,154,162,170,151,150,135,136,138,154,153,109,105,108,98,83,83,74,61,71,85,78,60,62,58,80,78,56,54,47,44,47,30,27,105]
["Lozells and East Handsworth","Perry Barr","E05001195",16559,309,357,278,275,311,320,293,334,257,268,299,309,284,294,279,232,301,282,258,282,302,271,293,286,265,292,311,286,316,282,319,298,297,300,268,257,263,261,248,233,236,243,218,210,204,210,178,160,162,170,176,182,140,150,135,134,117,124,103,119,116,105,91,82,52,63,62,56,54,60,51,67,48,71,66,68,58,53,63,49,57,65,49,41,40,22,28,15,21,9,36,15395,259,279,280,254,282,286,283,279,276,278,285,266,233,262,234,245,249,240,219,262,267,282,257,259,266,317,285,260,260,260,240,264,244,251,247,246,251,228,195,197,218,208,206,173,172,177,166,193,171,182,188,139,146,133,128,126,129,128,109,107,124,111,94,85,74,75,65,61,67,85,72,76,61,75,68,72,60,67,61,47,49,42,37,39,32,35,30,21,13,22,49]
["Moseley and Kings Heath","Hall Green","E05001196",13016,168,182,165,162,166,144,156,161,119,122,134,128,142,130,156,155,171,141,133,124,163,176,172,194,171,237,229,246,261,276,246,252,240,245,247,223,217,220,194,208,216,204,199,194,182,206,212,181,197,186,180,151,135,161,128,175,152,160,133,133,160,125,121,135,119,113,120,88,90,64,77,72,60,54,66,59,63,63,67,71,58,39,38,42,34,30,22,19,10,18,58,12429,186,157,147,158,158,136,143,145,129,128,121,111,120,127,116,128,135,163,168,137,138,155,187,170,186,221,243,253,237,231,234,211,231,227,213,189,168,202,179,167,163,188,178,191,189,168,150,173,155,157,154,174,155,148,140,138,139,147,126,134,141,118,123,135,103,128,118,106,101,78,86,63,75,68,72,63,71,65,75,60,61,58,50,45,35,37,28,48,32,31,133]
["Nechells","Ladywood","E05001197",18159,360,337,340,327,329,345,327,322,285,282,280,268,246,248,264,308,272,277,336,601,530,510,615,595,498,363,358,333,337,328,304,329,290,313,268,238,223,255,212,209,213,187,213,209,194,195,170,189,185,174,150,152,124,127,131,135,115,109,100,89,101,85,72,86,77,76,70,53,60,72,61,59,54,70,65,55,54,51,45,41,38,32,35,28,21,14,15,9,11,4,22,17898,376,343,327,315,361,279,310,308,269,277,259,229,249,240,232,252,225,222,331,645,556,606,613,603,545,413,378,373,340,339,318,300,295,269,234,247,234,222,213,203,178,195,186,197,170,154,162,156,137,158,147,143,155,145,111,108,91,100,112,76,90,98,78,85,71,64,69,50,74,60,49,64,63,75,73,63,54,56,56,54,49,44,32,28,35,23,26,20,12,10,42]
["Northfield","Northfield","E05001198",12752,218,213,190,156,171,205,177,191,163,164,149,142,120,139,142,158,166,170,179,171,178,169,189,171,168,175,166,168,186,150,147,140,169,142,137,153,137,132,142,168,169,170,154,161,172,175,184,198,218,199,189,182,188,183,156,169,151,156,142,143,139,148,149,155,156,121,172,120,129,131,129,84,86,86,87,76,72,66,65,56,76,63,55,45,40,33,30,39,21,16,77,13307,185,196,152,153,158,149,145,176,126,133,120,141,132,148,156,159,148,177,173,181,157,196,215,201,159,162,203,185,168,164,160,171,179,181,171,152,145,140,171,177,168,185,179,182,195,198,186,195,204,199,196,209,171,157,167,162,158,124,149,132,156,135,137,161,140,150,155,113,152,113,133,116,91,111,110,96,114,112,77,77,87,80,72,71,66,58,55,44,49,43,152]
["Oscott","Perry Barr","E05001199",11941,187,198,182,193,154,173,166,150,168,145,130,122,168,158,142,132,152,198,163,170,190,166,160,161,143,168,166,160,197,137,164,162,169,155,135,120,132,127,132,155,149,175,164,163,202,187,154,169,158,173,197,164,173,150,146,135,134,141,136,118,126,97,94,109,115,126,133,94,103,129,108,95,75,86,103,100,86,90,63,55,63,49,50,51,34,36,17,18,17,21,60,12826,213,196,163,162,169,200,149,156,138,145,131,130,147,149,157,152,163,126,159,153,162,159,175,144,154,203,194,169,164,166,168,175,171,171,145,157,140,140,153,157,161,164,195,204,216,176,214,235,187,206,164,205,171,151,160,153,127,120,126,118,101,128,124,111,128,119,151,131,117,131,128,107,89,78,100,90,107,90,77,78,94,74,73,64,69,60,49,46,48,31,155]
["Perry Barr","Perry Barr","E05001200",11719,191,177,166,182,199,183,195,172,184,168,158,169,143,178,158,166,145,152,190,252,219,222,189,202,186,193,182,178,178,169,165,157,177,159,158,163,147,128,163,150,132,141,185,150,173,155,145,141,162,118,156,147,130,128,111,122,116,115,105,95,109,108,96,92,92,105,95,101,112,91,80,84,79,64,64,67,60,60,50,51,44,37,46,27,22,29,17,19,13,14,51,12467,158,177,176,154,157,181,152,181,187,157,125,143,155,132,156,164,150,163,193,361,260,252,211,209,206,229,179,179,163,160,181,155,187,189,197,168,154,172,141,144,132,170,164,149,148,148,183,172,169,160,174,159,154,124,145,135,138,124,96,99,89,87,84,114,101,120,132,86,99,114,95,86,78,82,79,79,59,96,75,61,57,57,60,54,42,46,49,38,28,20,99]
["Quinton","Edgbaston","E05001201",11664,211,203,187,185,190,198,157,187,165,179,146,146,150,145,163,162,155,148,156,178,148,158,141,137,127,155,134,137,155,148,154,174,140,177,180,143,136,164,143,172,172,187,158,174,161,153,159,146,149,152,164,151,153,122,132,117,91,98,131,128,137,122,127,104,126,95,142,110,105,81,111,85,83,70,78,70,75,64,63,59,58,55,46,41,43,34,30,26,24,17,51,12534,213,173,206,181,181,156,175,173,142,163,146,147,172,140,162,139,155,149,154,133,146,147,177,144,150,170,142,180,178,178,170,178,179,182,197,171,184,184,176,155,171,181,180,192,170,167,170,176,196,166,146,140,161,133,142,141,142,127,120,131,114,112,111,126,121,131,147,115,117,108,107,84,96,80,71,98,99,97,79,72,80,65,55,54,65,41,42,36,40,31,140]
["Selly Oak","Selly Oak","E05001202",13098,96,121,102,101,106,100,79,76,85,70,58,74,64,68,62,96,87,92,114,399,1134,1486,1285,997,773,288,230,198,208,189,138,132,145,132,132,141,128,131,112,102,112,122,103,84,98,95,80,70,91,81,76,66,72,78,72,83,65,79,74,73,76,56,68,61,55,56,68,52,55,46,49,56,35,44,52,55,46,42,43,31,29,31,31,28,18,23,17,18,9,9,34,13921,103,106,92,121,91,69,86,85,76,76,64,60,64,64,68,84,72,85,152,671,1747,1735,1230,915,765,240,182,165,165,164,154,145,149,135,120,104,98,116,92,84,91,101,99,94,102,70,82,86,68,81,74,80,74,83,83,79,69,77,58,69,64,58,49,62,51,68,63,50,61,60,46,49,44,55,56,59,45,57,47,40,39,42,40,34,31,29,34,35,24,16,99]
["Shard End","Hodge Hill","E05001203",12953,254,279,237,246,223,252,235,210,208,187,192,153,169,192,200,165,204,169,184,172,184,204,173,177,145,161,188,161,176,186,184,153,169,184,182,142,150,129,142,157,149,187,167,184,169,173,171,183,165,160,160,167,147,147,129,150,128,122,106,125,121,132,121,135,143,135,161,115,111,86,95,83,61,70,69,50,70,66,62,62,49,54,43,35,36,30,30,24,25,26,86,14511,269,270,245,228,228,208,210,220,193,192,158,188,171,139,159,155,168,187,167,177,223,241,224,188,215,240,251,227,226,223,219,221,225,199,193,159,160,150,153,182,195,191,196,213,176,196,194,187,187,181,179,180,171,165,157,161,136,126,145,139,140,115,137,138,111,136,149,103,114,111,99,113,74,70,87,89,81,72,76,68,73,90,78,58,76,54,62,60,73,55,223]
["Sheldon","Yardley","E05001204",10858,167,178,140,143,152,136,149,132,151,131,157,152,141,142,156,133,153,148,132,154,144,146,133,129,134,153,137,141,139,129,132,137,136,120,131,118,129,112,102,126,127,158,175,153,165,156,157,163,157,166,177,159,152,131,157,136,118,103,128,127,98,109,98,112,104,121,112,118,109,114,117,89,71,85,91,83,67,62,70,65,63,54,51,43,36,26,27,20,26,26,51,11252,121,141,144,137,125,145,129,138,126,130,119,116,112,144,143,135,125,129,131,131,141,157,150,140,135,138,141,142,140,152,132,135,137,159,135,128,136,142,131,125,130,150,157,160,156,160,182,183,156,151,175,174,162,151,137,132,128,102,121,126,124,105,110,121,125,98,141,122,107,117,104,94,82,86,95,113,87,98,79,86,70,78,63,66,56,46,48,39,63,44,175]
["Soho","Ladywood","E05001205",16030,313,333,287,280,272,289,283,252,276,288,257,237,255,222,221,239,228,218,206,203,270,291,302,315,286,301,322,325,302,299,330,332,307,322,294,263,258,251,263,229,243,216,250,233,195,203,198,181,180,176,171,175,137,134,128,121,116,100,113,111,113,111,77,67,63,65,60,69,64,64,69,66,48,71,57,48,51,54,50,51,41,45,37,28,29,23,16,17,19,9,46,15338,269,299,264,278,271,280,250,258,277,224,226,223,218,209,200,243,209,249,218,250,241,250,261,276,240,304,256,281,275,283,285,261,298,283,264,213,233,203,203,224,204,214,210,214,197,197,196,182,184,184,173,159,155,140,147,138,110,128,113,107,98,102,77,100,67,93,82,58,57,84,83,57,68,68,74,77,65,71,65,64,49,47,44,43,24,36,33,32,18,22,79]
["South Yardley","Yardley","E05001206",15705,317,292,324,281,288,298,295,290,295,301,267,254,227,231,249,220,232,224,198,235,193,194,243,216,211,245,204,221,262,235,244,237,259,230,239,220,239,206,223,213,218,209,198,216,225,213,196,196,188,174,202,202,187,189,152,155,147,156,151,149,128,108,119,118,101,105,116,101,89,89,68,67,70,75,76,68,67,69,64,49,66,63,40,41,45,26,21,25,11,12,33,15900,292,293,273,284,303,274,284,261,284,217,232,233,218,226,208,233,237,220,204,212,211,224,233,230,203,272,299,251,277,253,265,261,249,256,247,228,248,227,199,206,196,239,204,186,186,185,185,196,195,228,191,189,180,169,155,155,169,120,139,141,121,117,128,121,103,111,124,84,108,85,100,102,89,79,82,93,69,68,66,65,63,64,69,59,44,48,37,35,28,24,79]
["Sparkbrook","Hall Green","E05001207",16838,338,322,338,333,333,323,331,339,315,285,320,312,297,298,313,312,291,281,291,299,312,295,318,321,286,301,325,319,294,315,327,286,281,266,248,239,250,275,230,218,217,212,177,187,199,180,164,149,169,152,137,118,118,140,143,135,131,124,114,122,123,127,80,98,70,54,57,44,49,66,67,66,42,81,59,74,59,58,67,60,57,50,48,45,25,35,25,21,13,14,39,15963,311,300,269,260,311,297,291,300,286,290,306,296,291,318,268,271,277,309,277,283,310,294,270,264,271,299,302,299,262,271,276,239,275,252,234,225,200,202,172,182,197,200,192,210,189,183,151,151,181,142,159,143,124,151,140,137,134,125,114,129,112,98,86,94,85,92,80,79,81,64,55,52,56,71,73,71,77,52,87,60,48,55,47,55,20,25,28,20,15,15,48]
["Springfield","Hall Green","E05001208",16442,330,311,305,305,358,326,301,326,299,299,313,270,261,263,279,285,289,235,254,293,266,278,252,292,250,296,269,298,290,259,292,283,281,275,252,249,253,241,196,241,226,229,214,209,199,168,186,151,150,150,146,159,134,138,140,146,140,135,133,135,138,121,103,104,88,92,66,59,58,60,82,82,68,62,79,78,50,58,67,60,60,44,46,49,26,27,27,22,13,17,33,16106,298,267,291,303,312,288,265,293,291,276,302,264,273,250,263,278,271,238,233,254,256,269,230,236,258,286,298,266,274,286,278,282,289,287,222,238,228,232,192,220,209,180,200,229,189,181,172,151,170,150,149,158,133,149,141,118,144,146,145,128,120,111,109,100,105,98,91,93,82,89,82,84,75,75,70,84,86,70,61,68,54,47,51,49,45,40,35,26,23,25,79]
["Stechford and Yardley North","Yardley","E05001209",13088,243,212,222,242,226,224,213,245,236,206,189,166,193,206,194,193,223,207,184,202,196,185,196,192,161,193,170,190,195,159,171,178,169,165,150,151,133,148,148,148,183,155,172,173,154,160,151,176,166,170,164,160,161,152,165,144,131,147,136,130,123,122,118,131,109,125,123,97,100,98,84,73,71,79,85,81,67,54,69,69,54,58,50,43,48,33,42,26,15,14,53,13633,206,220,189,228,188,225,221,203,201,187,191,200,177,208,208,193,191,179,193,199,200,177,193,182,161,217,217,216,171,203,184,172,175,201,180,176,178,156,159,154,169,181,191,173,187,185,180,197,195,181,174,153,183,160,138,156,132,146,109,115,100,98,81,107,111,126,124,112,91,95,110,97,84,80,90,87,99,84,88,57,77,69,63,64,56,57,45,43,49,40,165]
["Stockland Green","Erdington","E05001210",12458,199,214,207,170,198,175,165,179,153,144,143,133,162,159,153,149,176,153,174,183,173,201,204,206,206,206,195,216,224,208,202,241,227,222,192,180,177,161,160,181,176,148,174,171,168,164,187,197,169,190,198,170,140,152,142,133,142,133,119,133,129,81,105,111,94,95,89,90,63,80,63,70,56,49,64,66,56,62,53,51,50,32,38,34,27,31,28,22,33,21,38,12679,226,180,207,178,165,159,165,150,152,140,164,131,139,141,146,154,143,155,131,171,207,204,209,204,194,211,231,225,236,237,228,220,212,199,183,175,166,170,162,164,169,171,191,174,194,171,190,168,204,209,160,204,150,140,164,131,146,117,98,108,105,90,106,112,98,97,113,77,67,80,68,86,71,63,77,78,64,75,46,51,63,56,56,56,42,38,46,22,27,30,126]
["Sutton Four Oaks","Sutton Coldfield","E05001211",11635,138,108,127,131,153,163,183,138,148,157,146,155,159,149,181,140,139,134,121,109,97,115,113,114,110,121,105,123,86,88,108,112,100,107,111,99,125,155,149,143,146,177,178,171,186,185,173,180,191,183,172,173,160,145,151,152,157,147,143,141,139,110,146,130,145,147,174,149,156,159,129,117,88,89,91,118,102,88,98,78,97,82,102,70,62,73,46,42,36,27,74,12602,152,115,132,145,127,148,145,149,146,140,141,141,147,154,144,140,153,152,123,106,109,102,118,102,79,127,109,112,95,104,103,117,120,128,135,130,133,155,152,139,147,178,212,172,175,223,195,189,214,221,180,183,177,153,179,145,150,174,124,135,150,154,132,155,157,166,188,155,181,160,148,118,111,116,135,132,119,139,136,101,111,125,114,101,89,69,75,64,46,59,201]
["Sutton New Hall","Sutton Coldfield","E05001212",10742,118,115,107,116,101,119,141,108,141,122,129,101,128,151,128,137,134,119,139,106,104,119,118,111,104,123,118,109,114,103,106,113,104,104,120,111,130,113,130,130,152,128,137,144,171,159,170,172,165,170,169,178,147,160,182,177,142,144,167,174,155,164,129,164,155,163,196,125,124,143,119,89,88,85,103,59,66,60,75,49,66,56,62,48,51,40,32,32,24,13,55,11488,101,117,103,115,128,111,102,134,108,115,94,100,129,107,104,117,133,146,129,87,100,103,132,105,105,94,114,105,117,106,86,113,126,111,124,138,108,112,126,145,146,151,170,153,170,170,182,198,187,200,180,181,159,178,162,155,171,162,160,167,159,160,173,172,161,184,199,127,124,142,138,101,95,88,101,103,109,107,100,95,76,97,76,101,72,72,71,59,48,48,178]
["Sutton Trinity","Sutton Coldfield","E05001213",12145,168,175,148,139,147,145,158,142,165,148,148,164,137,169,174,163,143,166,148,153,131,156,140,121,108,146,135,137,133,146,152,163,149,144,130,122,128,141,130,159,155,203,177,173,184,175,170,180,189,186,170,196,195,166,162,169,145,124,138,135,158,146,113,154,140,152,166,122,120,136,114,97,86,103,91,81,82,79,90,74,76,75,62,58,65,49,41,37,34,21,60,12891,143,149,142,168,146,154,125,135,150,135,132,109,145,131,180,146,155,160,172,128,132,138,149,141,121,150,149,165,149,152,144,120,139,148,129,158,154,170,149,164,152,170,212,169,183,205,183,225,213,207,183,186,192,192,179,171,150,129,166,153,140,150,139,146,148,150,158,127,167,151,113,129,96,107,113,104,96,98,96,94,103,82,102,80,67,76,79,64,55,38,177]
["Sutton Vesey","Sutton Coldfield","E05001214",11296,111,146,118,133,110,136,128,148,98,128,127,121,134,150,134,120,141,133,151,135,123,123,135,141,115,124,123,145,129,111,145,118,127,118,110,113,127,157,145,138,129,145,139,164,168,160,188,170,168,180,198,191,163,192,172,162,151,134,144,144,171,137,148,141,151,144,149,121,101,144,127,95,95,76,95,95,87,81,71,79,81,65,61,54,52,58,40,33,21,22,70,11880,134,131,122,112,119,125,98,137,130,124,116,126,122,132,115,140,150,135,149,104,106,105,134,113,91,138,134,111,120,104,119,123,117,131,129,127,140,142,163,146,148,156,162,164,156,163,192,204,179,197,200,203,185,182,199,154,154,153,153,148,146,164,129,151,147,159,149,122,134,139,135,109,92,111,101,123,109,114,101,91,74,95,81,77,66,71,83,61,55,43,182]
["Tyburn","Erdington","E05001215",12105,190,223,186,196,192,183,211,187,179,188,177,172,156,175,174,179,193,157,186,194,170,207,180,155,157,193,150,140,146,152,177,145,183,139,151,118,112,131,128,152,160,180,153,179,179,177,187,188,157,170,166,155,160,166,126,121,149,135,124,131,107,104,101,99,77,90,121,97,108,86,86,76,72,72,73,67,80,78,80,54,50,84,46,51,44,22,26,24,22,14,47,13277,202,194,173,160,182,200,208,169,178,159,176,181,180,193,159,167,198,187,166,202,199,198,142,157,152,205,200,190,166,193,213,192,187,179,167,164,143,164,162,177,152,182,191,210,198,197,188,201,198,191,198,193,187,143,151,121,148,102,123,130,128,115,107,109,118,95,119,106,94,104,95,92,80,82,98,96,89,99,80,90,78,74,79,63,59,55,51,38,33,35,128]
["Washwood Heath","Hodge Hill","E05001216",17121,352,371,310,320,362,421,364,364,371,385,353,389,359,353,347,349,320,311,311,327,327,309,305,287,262,292,286,279,277,270,273,278,283,315,282,278,264,246,251,228,230,221,185,208,207,187,174,147,136,146,135,135,119,117,106,113,98,118,105,120,96,98,85,75,53,66,62,33,46,41,45,40,58,59,52,52,53,66,46,40,44,29,39,44,40,23,26,13,11,15,33,16777,358,360,335,327,370,369,349,366,358,338,324,347,326,336,318,324,324,298,283,296,277,274,252,252,243,285,299,255,259,291,267,268,271,304,257,253,244,211,232,215,232,241,251,207,202,167,164,156,128,130,136,129,118,122,110,134,113,105,108,119,107,95,86,77,57,85,79,58,55,61,68,66,50,68,53,66,66,71,75,56,51,41,45,42,36,32,19,28,18,16,63]
["Weoley","Northfield","E05001217",12482,240,219,211,231,244,184,210,183,184,182,170,157,169,171,198,199,171,177,165,203,200,197,198,151,178,169,170,157,186,140,165,153,161,151,160,136,161,151,166,182,176,173,151,162,177,160,138,185,146,168,145,141,150,147,136,143,144,125,120,125,137,123,109,78,118,116,116,116,87,110,77,84,72,79,59,70,63,68,53,66,54,56,47,43,45,45,35,30,20,18,76,13404,178,198,195,180,195,185,170,182,190,169,170,135,134,178,183,182,171,204,186,164,211,194,223,170,167,176,180,186,163,153,162,180,157,186,169,179,179,176,178,170,165,176,192,191,182,195,230,171,187,177,202,201,169,177,169,149,156,129,138,120,121,128,121,108,125,118,120,121,99,117,109,89,73,95,92,101,87,81,74,74,87,78,75,89,63,53,60,51,42,28,141]
[null,null,null,{"$f":"SUM(D5:D44)","v":538873},8937,9117,8529,8383,8553,8497,8377,8056,7838,7619,7582,7252,7289,7490,7653,7570,7777,7492,7642,9320,9642,10099,10132,9632,8922,8760,8536,8634,8805,8244,8441,8251,8203,8010,7662,7076,7161,7051,6951,6996,7093,7098,6984,7039,7038,6978,6859,6718,6660,6532,6592,6391,5937,5762,5536,5610,5209,5015,5012,4982,4947,4643,4355,{"$f":"SUM(BP5:BP44)","v":4395},4171,4261,4525,3681,3589,3666,3389,3065,2690,2896,2971,2785,2558,2528,2437,2181,2160,2026,1844,1705,1475,1242,1120,925,768,608,2041,553457,8552,8524,8052,7902,8112,7953,7545,7861,7619,7178,6905,6792,6955,7026,7078,7296,7357,7305,7604,9822,10210,10511,10276,9506,9172,9088,9073,8564,8465,8366,8386,8169,8304,8543,7785,{"$f":"SUM(EB5:EB44)","v":7236},7041,7086,6793,6691,6931,7187,7408,7295,7114,7092,7053,7085,6975,6854,6671,6667,6304,5977,5867,5525,5406,5060,4973,4882,4878,4628,4466,4636,4408,4667,4764,3839,3901,3957,3879,3454,3095,3339,3315,3377,3279,3254,2969,2729,2652,2693,2550,2398,2068,1933,1882,1614,1444,1278,5082]
[null,"Males "]
[null,"Females"]
[]
["Office for National Statistics"]
["Crown Copyright 2014"]

{"sheet":"2012 syoa ","index":19,"n_rows":50,"n_cols":187,"rows_kept":50,"cut":false,"hidden":true,"merged":[[3,3,3,21],[3,22,3,40],[3,95,3,186]]}
["2012 Birmingham Ward population (experimental statistics)",null,null,null,null,"Estimates should be aggregated to at least five-year age groups before publication"]
[{"$f":"1","v":1},{"$f":"1+A2","v":2},{"$f":"1+B2","v":3},4,5,6,7,8,9,10,11,12,13,14,15,16,17,18,19,20,21,22,23,24,25,26,27,28,29,30,31,32,33,34,35,36,37,38,39,40,41,42,43,44,45,46,47,48,49,50,51,52,53,54,55,56,57,58,59,60,61,62,63,64,65,66,{"$f":"1+BN2","v":67},68,69,70,71,72,73,74,75,76,77,78,79,80,81,82,83,84,85,86,87,88,89,90,91,92,93,94,95,96,97,98,99,100,101,102,103,104,105,106,107,108,109,110,111,112,113,114,115,116,117,118,119,120,121,122,123,124,125,126,127,128,129,130,{"$f":"1+DZ2","v":131},132,133,134,135,136,137,138,139,140,141,142,143,144,145,146,147,148,149,150,151,152,153,154,155,156,157,158,159,160,161,162,163,164,165,166,167,168,169,170,171,172,173,174,175,176,177,178,179,180,181,182,183,184,185,186,187]
["ward","constituency","code","All Ages",0,1,2,3,4,5,6,7,8,9,10,11,12,13,14,15,16,17,18,19,20,21,22,23,24,25,26,27,28,29,30,31,32,33,34,35,36,37,38,39,40,41,42,43,44,45,46,47,48,49,50,51,52,53,54,55,56,57,58,59,60,61,62,63,64,65,66,67,68,69,70,71,72,73,74,75,76,77,78,79,80,81,82,83,84,85,86,87,88,89,90,"All",0,{"$f":"CS3+1","v":1},{"$f":"CT3+1","v":2},3,4,5,6,7,8,9,10,11,12,13,14,15,16,17,18,19,20,21,22,23,24,25,26,27,28,29,30,31,32,33,34,35,36,37,38,39,40,41,42,43,44,45,46,47,48,49,50,51,52,53,54,55,56,57,58,59,60,61,62,63,64,65,{"$f":"FF3+1","v":66},67,68,69,70,71,72,73,74,75,76,77,78,79,80,81,82,83,84,85,86,87,88,89,90]
[null,null,null,"males",null,null,null,null,null,null,null,null,null,null,null,null,null,null,null,null,null,null,null,null,null,null,null,null,null,null,null,null,null,null,null,null,null,null,null,null,null,null,null,null,null,null,null,null,null,null,null,null,null,null,null,null,null,null,null,null,null,null,null,null,null,null,null,null,null,null,null,null,null,null,null,null,null,null,null,null,null,null,null,null,null,null,null,null,null,null,null,null,null,null,null,"Females"]
["Acocks Green","Yardley","E05001178",{"$f":"SUM(E5:CQ5)","v":14206},298,268,214,274,202,248,209,200,215,215,209,195,201,232,210,228,209,210,210,233,202,209,199,187,173,224,175,239,213,223,228,221,243,242,212,182,174,202,176,193,172,219,202,200,188,186,201,182,182,192,189,178,153,152,147,137,140,128,116,136,135,126,120,112,101,117,104,90,108,95,72,88,76,67,72,72,65,51,66,50,61,40,59,42,46,36,31,17,12,22,56,{"$f":"SUM(CS5:GE5)","v":14678},264,216,245,228,221,231,228,178,189,182,179,185,175,198,204,208,199,176,213,225,208,196,216,193,190,243,234,239,231,211,257,255,269,223,193,203,207,211,185,197,200,183,212,231,226,198,189,192,182,200,188,183,171,150,129,172,141,114,110,121,110,112,104,122,122,121,97,85,109,96,99,70,88,80,87,95,84,96,82,63,67,83,74,69,57,53,48,37,46,39,186]
["Aston","Ladywood","E05001179",{"$f":"SUM(E6:CQ6)","v":16208},277,336,329,300,323,307,305,290,298,268,300,294,263,281,305,303,311,315,270,293,366,400,397,399,368,327,299,288,288,260,304,268,263,266,241,266,238,230,218,208,197,203,221,191,187,169,163,151,145,147,136,135,104,115,105,108,100,95,96,111,105,69,70,50,62,69,47,47,46,55,65,51,56,68,58,44,61,67,45,49,49,41,35,29,28,23,19,20,7,7,25,{"$f":"SUM(CS6:GE6)","v":15943},354,293,298,348,295,298,287,282,287,275,239,268,258,245,240,295,253,289,270,276,409,396,383,358,340,289,289,255,296,246,269,265,277,244,221,194,232,201,182,227,207,198,209,161,180,187,165,153,168,159,161,153,136,112,123,107,116,103,92,90,99,92,93,81,70,64,55,55,42,70,62,77,89,80,65,76,68,60,57,34,42,50,38,36,28,34,18,14,21,13,57]
["Bartley Green","Edgbaston","E05001180",11897,215,192,170,203,179,175,165,163,157,155,170,177,189,169,169,163,183,176,189,170,210,172,172,140,137,153,155,145,148,171,155,155,143,160,148,143,138,169,154,160,160,155,145,160,170,148,146,136,151,144,165,164,124,134,150,142,119,150,131,134,124,150,114,126,141,158,122,119,106,106,76,83,68,65,79,51,79,61,50,43,46,54,45,44,22,35,26,28,15,15,61,13210,184,197,179,172,188,167,195,173,154,133,151,154,156,157,170,185,176,159,142,165,238,244,184,183,178,188,166,180,157,179,186,214,214,195,179,175,167,167,170,200,170,181,181,181,165,161,165,178,166,169,191,155,145,162,161,139,141,142,174,138,140,141,127,168,156,171,131,94,111,125,89,67,93,84,70,88,78,62,75,71,69,65,71,71,64,55,41,46,44,29,128]
["Billesley","Selly Oak","E05001181",12865,220,195,196,199,199,198,157,193,148,166,160,191,174,209,191,185,202,188,180,203,194,185,168,161,147,186,184,173,195,147,194,193,175,179,145,154,132,152,148,168,164,159,184,178,173,191,172,175,169,188,155,168,177,156,161,146,143,149,140,133,137,123,128,126,136,120,113,95,108,92,84,71,86,93,100,67,77,86,59,61,64,64,60,51,52,37,33,23,23,18,63,13788,225,182,185,188,155,167,186,196,168,172,140,176,159,177,181,188,155,185,195,175,178,201,168,165,173,205,204,208,187,198,179,181,228,192,140,173,176,161,170,176,175,182,192,179,193,205,206,190,194,201,217,201,189,151,163,152,155,159,119,134,133,138,144,120,143,130,111,110,107,113,93,85,107,105,108,102,100,87,78,92,101,78,84,67,54,54,62,56,56,42,153]
["Bordesley Green","Hodge Hill","E05001182",17103,396,358,365,360,410,377,374,377,340,368,366,358,343,381,349,380,310,316,290,310,277,276,291,238,251,271,260,275,285,266,260,277,284,263,223,233,240,235,235,252,228,215,226,219,221,183,168,136,140,142,123,139,142,115,131,139,120,117,95,117,100,83,72,54,60,68,56,51,65,61,59,61,76,65,65,86,63,65,53,55,59,48,59,32,30,22,26,20,13,8,32,17464,365,361,369,403,355,353,393,382,338,336,351,379,348,348,335,317,324,311,317,287,281,249,247,261,243,306,286,311,276,263,293,273,332,254,249,266,237,235,233,240,242,221,251,206,208,189,151,164,141,115,154,137,151,123,115,114,125,138,114,107,94,81,104,78,94,69,68,67,73,68,59,73,88,76,64,80,100,73,70,69,63,62,58,36,35,40,31,26,12,16,64]
["Bournville","Selly Oak","E05001183",12335,188,171,164,160,163,164,158,142,151,163,124,125,152,155,173,145,143,148,170,139,158,153,144,148,138,164,183,190,173,171,191,156,188,175,178,203,168,184,170,193,176,200,170,174,188,183,178,195,189,188,195,152,162,163,174,135,156,135,136,121,160,143,114,142,151,156,118,126,118,91,84,69,71,101,75,62,71,49,54,54,58,49,51,45,32,40,35,16,27,21,56,13613,179,179,157,161,184,158,176,165,153,131,130,132,132,151,159,180,174,149,175,136,142,175,141,142,145,182,159,192,185,197,166,205,201,192,183,180,161,194,168,186,205,230,196,194,216,201,209,181,196,192,193,203,164,170,193,165,140,152,158,176,150,158,148,146,155,154,102,134,121,129,94,104,104,93,108,87,86,75,94,78,79,82,86,64,72,68,57,59,64,60,211]
["Brandwood","Selly Oak","E05001184",12522,213,191,197,231,179,190,167,169,171,172,155,165,173,183,177,180,164,179,160,194,185,161,141,137,115,167,168,175,146,163,152,163,182,201,160,158,171,165,160,179,161,194,174,182,176,173,176,187,188,186,180,160,153,159,158,151,131,139,138,124,134,119,129,131,115,127,105,109,101,113,98,89,76,100,75,92,77,70,64,64,59,50,48,42,23,37,28,23,18,13,44,13217,202,195,186,174,179,163,161,160,153,150,141,143,152,142,165,166,156,135,156,149,203,186,163,170,168,159,164,168,162,172,182,197,196,223,166,179,196,181,157,176,187,204,207,209,242,194,209,177,188,164,167,168,151,163,158,146,118,144,147,133,130,135,143,135,118,160,120,103,148,121,115,90,99,96,102,100,94,75,70,65,77,82,71,67,67,63,52,47,36,26,138]
["Edgbaston","Edgbaston","E05001185",12667,151,129,111,130,126,110,104,83,84,100,90,85,100,95,86,159,172,156,299,1132,507,421,335,279,295,236,259,251,247,261,200,199,206,201,179,179,161,159,136,145,145,140,135,139,112,168,144,164,137,132,145,109,99,114,101,110,98,97,105,103,99,100,113,85,85,85,76,84,92,77,55,74,70,72,69,59,48,63,44,38,47,42,43,34,23,24,19,19,18,15,40,12471,124,115,104,99,99,74,106,75,84,73,59,73,102,94,108,150,142,156,405,1719,583,396,312,324,332,237,198,214,193,212,180,187,190,150,134,143,134,118,117,125,130,110,134,105,120,118,129,133,92,113,99,104,88,91,101,87,87,85,88,93,90,86,93,91,99,82,74,75,74,81,81,68,63,58,62,66,51,36,38,42,56,40,43,40,42,42,32,40,34,30,115]
["Erdington","Erdington","E05001186",11213,219,200,178,174,160,175,158,142,131,138,94,121,135,119,120,130,145,120,145,132,145,164,127,116,118,167,176,179,159,187,163,180,154,141,139,142,157,152,158,161,132,152,165,151,174,168,158,180,158,161,170,162,148,145,159,137,125,153,120,104,124,114,117,119,122,101,104,87,109,86,87,76,59,77,72,66,56,73,56,58,57,53,33,38,32,48,32,25,16,24,49,11766,183,166,192,148,149,146,117,155,136,110,106,116,126,110,102,124,136,138,126,130,175,182,148,172,129,176,154,194,194,187,196,180,201,157,160,172,147,134,140,150,136,176,150,172,149,153,161,188,154,190,140,141,179,152,150,147,115,123,102,121,104,126,108,106,115,113,108,101,114,98,78,90,92,91,91,77,85,97,85,73,75,74,66,61,64,53,79,60,40,32,147]
["Hall Green","Hall Green","E05001187",13139,184,172,209,203,210,181,195,201,174,189,195,195,184,196,211,202,209,184,194,156,190,185,157,164,156,166,173,159,170,153,181,171,173,152,164,195,154,191,193,186,175,169,187,183,185,195,183,204,150,185,186,166,167,159,160,155,142,149,149,133,149,116,132,117,149,143,100,118,99,104,87,80,92,95,82,67,71,76,71,73,61,61,42,51,46,42,34,27,17,20,58,13600,189,193,164,167,186,189,170,191,183,174,173,161,173,188,187,162,187,187,179,158,177,149,144,175,157,179,164,170,168,169,180,177,202,203,190,186,180,176,162,181,209,183,201,188,196,191,190,167,193,175,190,173,197,189,153,152,152,149,160,163,122,121,127,133,136,142,98,131,135,136,101,75,106,100,81,101,97,96,90,86,91,88,79,80,54,64,38,50,50,40,131]
["Handsworth Wood","Perry Barr","E05001188",13744,214,218,234,203,185,178,191,178,181,183,208,188,198,190,215,192,201,184,232,221,242,249,247,232,211,223,254,245,238,254,240,239,199,178,182,198,192,193,217,180,188,193,184,176,201,170,166,173,183,188,181,153,176,154,161,144,146,163,140,170,118,111,112,104,92,92,77,76,57,65,67,66,75,58,55,64,65,67,60,57,53,36,50,31,30,34,25,32,25,19,54,14134,203,182,162,193,196,166,160,204,178,162,175,177,185,177,183,195,204,192,234,229,283,231,228,218,235,250,259,235,239,240,205,209,264,220,190,188,196,190,174,179,172,180,179,168,197,201,178,198,213,224,218,202,185,181,161,139,145,134,151,146,129,123,137,92,104,95,83,74,78,83,66,86,103,88,90,77,97,65,75,72,76,65,61,45,61,48,33,34,27,26,79]
["Harborne","Edgbaston","E05001189",11444,139,146,135,140,121,157,130,128,130,124,103,113,109,90,106,105,95,96,108,108,175,173,193,201,262,242,270,282,287,277,225,229,221,211,227,186,177,180,151,172,170,177,157,148,149,169,141,153,142,150,138,126,113,123,123,112,111,118,121,128,107,116,105,106,110,111,77,84,98,58,85,78,73,69,64,61,56,39,43,41,54,42,41,43,35,31,20,23,13,17,51,11810,143,121,135,140,148,131,115,110,110,106,92,93,101,109,116,115,102,110,121,89,137,189,257,279,339,281,269,236,232,272,243,249,191,208,189,195,184,161,176,149,156,144,142,164,155,130,143,134,141,116,138,123,129,126,121,101,111,106,88,125,120,111,84,123,118,119,75,99,82,80,75,75,75,76,67,75,65,56,62,74,69,69,56,57,58,55,61,49,49,37,203]
["Hodge Hill","Hodge Hill","E05001190",13917,295,278,263,267,314,281,248,269,244,256,270,247,248,221,214,244,222,222,217,232,219,207,206,177,173,216,183,215,184,172,207,198,220,180,173,199,177,155,174,180,187,178,180,187,201,173,168,155,147,153,153,155,146,134,126,131,122,117,119,94,96,120,109,102,105,116,100,88,86,86,70,67,81,87,69,65,43,56,52,52,41,50,40,42,37,32,21,20,16,28,47,14636,247,279,252,294,269,264,266,255,246,242,271,242,252,261,232,264,225,208,218,197,187,200,219,191,152,242,216,214,193,249,227,210,217,207,210,180,181,193,163,193,198,194,216,205,181,180,183,167,165,144,138,136,142,141,125,138,124,115,101,121,118,109,105,93,104,84,76,93,80,88,98,85,100,79,84,102,93,90,70,78,79,67,63,57,54,58,47,28,40,45,127]
["Kings Norton","Northfield","E05001191",11725,201,211,182,203,199,210,155,173,172,177,136,145,178,173,185,178,146,157,191,168,153,167,138,135,103,143,134,138,144,139,157,148,150,152,130,157,133,156,152,139,143,156,165,143,152,188,171,167,159,150,140,147,142,133,113,139,98,112,139,146,138,112,133,134,149,159,122,121,114,111,80,71,84,90,86,80,73,58,64,49,56,47,47,40,26,26,27,24,18,18,57,12937,210,194,171,193,201,184,178,171,148,131,153,151,155,154,172,160,171,177,154,156,174,178,165,152,153,182,186,175,178,186,181,168,211,171,155,151,165,164,157,154,185,165,164,178,201,167,173,186,158,155,151,161,131,145,133,150,123,131,131,135,156,152,155,146,166,163,129,112,128,130,106,90,84,91,93,79,97,87,62,69,79,83,65,56,66,51,50,52,32,44,151]
["Kingstanding","Erdington","E05001192",12122,246,202,210,204,216,209,221,200,203,179,175,179,180,228,212,197,175,193,223,219,190,180,166,165,154,158,134,159,135,166,162,167,152,147,134,132,120,137,130,138,177,147,154,147,159,160,150,178,177,185,165,168,146,155,157,128,122,125,133,105,108,119,107,106,119,101,92,92,103,76,83,74,71,68,57,50,61,46,55,49,51,45,45,44,32,28,22,21,14,11,37,13448,242,209,196,212,198,175,208,218,183,173,180,199,190,185,209,192,198,174,223,207,202,195,166,155,167,210,163,198,183,194,171,203,192,182,166,177,193,167,159,168,170,201,185,178,187,202,200,224,167,187,196,176,130,137,161,144,148,129,119,111,127,99,121,85,135,97,118,109,88,104,102,82,91,84,94,79,82,71,74,58,55,52,70,54,57,58,46,31,28,35,128]
["Ladywood","Ladywood","E05001193",17527,235,189,160,154,134,112,122,98,103,107,70,94,94,77,79,110,105,110,123,239,486,612,623,769,814,706,793,769,681,790,547,531,512,459,379,323,302,267,263,226,235,197,211,182,178,204,208,178,183,170,159,146,119,117,119,110,94,82,98,94,83,71,75,69,62,57,50,43,64,46,47,24,34,32,30,32,39,21,27,27,25,17,21,17,10,12,6,9,5,4,17,14393,187,176,156,150,123,102,115,102,107,98,83,91,75,106,88,102,86,98,140,297,513,627,698,782,846,670,554,561,538,483,406,398,349,278,259,222,206,166,140,154,150,147,140,136,113,95,116,108,115,109,88,90,90,104,77,100,73,69,63,68,48,53,46,49,46,54,43,40,47,37,33,33,39,31,31,37,23,37,28,27,25,21,26,21,23,11,17,13,20,7,44]
["Longbridge","Northfield","E05001194",12335,207,202,216,175,186,187,174,171,163,167,147,159,167,181,155,193,175,144,173,160,201,158,153,149,120,144,151,182,151,154,185,182,182,169,164,155,187,173,165,176,165,149,151,193,175,198,186,176,174,159,189,160,144,144,161,143,140,151,143,133,139,141,129,138,130,160,118,113,89,98,98,57,93,76,83,61,69,59,46,52,36,51,41,39,41,37,31,18,14,8,33,13168,207,191,172,166,185,144,167,166,161,141,144,147,155,183,191,164,155,170,160,175,166,183,158,141,122,181,192,188,173,200,190,215,224,223,178,176,163,155,178,197,200,205,163,194,185,205,191,185,185,171,181,192,178,189,129,154,151,161,174,147,153,137,136,140,155,152,113,103,117,99,83,87,74,63,70,85,80,61,63,72,82,84,62,54,56,48,52,33,32,28,107]
["Lozells and East Handsworth","Perry Barr","E05001195",16514,363,276,278,325,322,304,339,259,280,284,309,294,288,280,246,308,285,256,279,303,289,291,291,261,284,321,295,315,292,312,300,305,308,272,267,265,255,243,233,232,244,220,212,203,204,182,163,167,172,184,180,140,155,135,132,122,130,110,124,120,107,95,82,57,64,65,58,56,65,57,65,50,75,71,70,59,57,69,53,62,66,49,43,44,33,32,15,23,11,17,36,15228,265,277,255,273,275,280,277,278,282,273,259,235,260,246,247,242,235,222,261,258,277,273,253,280,287,288,264,261,272,247,261,244,255,255,244,254,235,191,194,232,214,207,179,172,175,172,192,172,180,197,143,142,138,127,129,131,120,109,110,122,111,91,92,73,76,68,59,67,83,76,78,65,79,75,81,66,68,65,49,52,42,40,46,34,35,30,24,15,25,12,53]
["Moseley and Kings Heath","Hall Green","E05001196",13025,190,162,161,168,153,153,168,121,128,137,131,144,132,148,156,173,141,142,145,119,187,168,181,159,186,225,240,261,279,276,266,250,247,262,238,218,230,197,211,233,207,211,200,180,202,216,186,191,190,175,158,133,160,130,170,154,159,141,134,169,123,125,145,121,123,120,86,92,63,77,75,65,59,67,58,63,64,65,75,57,43,45,44,37,33,25,26,13,20,20,44,12437,159,153,170,156,146,152,152,140,137,129,111,125,125,122,123,129,152,168,151,116,152,157,147,175,203,230,246,244,243,272,215,231,230,222,200,163,202,189,166,174,185,185,191,204,174,155,181,152,161,155,171,161,154,142,146,139,151,129,135,143,114,124,134,104,122,122,107,101,78,86,66,75,67,76,67,74,69,73,61,59,66,55,49,37,39,34,48,37,36,26,140]
["Nechells","Ladywood","E05001197",17888,328,358,330,339,378,324,318,281,284,276,260,239,254,250,251,270,264,241,365,541,547,623,634,571,502,363,328,338,310,314,319,314,306,266,263,235,248,227,217,202,181,215,214,197,193,175,178,193,172,163,157,124,129,134,125,114,108,101,102,101,88,73,93,78,75,69,58,60,77,59,63,55,77,72,66,57,58,48,45,46,32,36,30,24,16,21,13,11,5,11,18,17661,317,321,330,347,289,303,307,273,272,270,234,244,237,234,244,227,230,253,322,641,687,648,631,577,547,385,352,339,332,328,318,294,275,243,245,242,226,213,197,184,190,194,201,176,162,162,152,135,165,139,145,149,149,112,123,93,102,114,76,81,97,80,88,73,73,74,54,82,63,53,63,69,72,76,68,52,58,60,59,52,45,36,33,38,28,29,23,16,14,16,39]
["Northfield","Northfield","E05001198",12624,196,199,161,168,194,179,195,163,163,145,145,122,146,141,177,162,170,179,182,177,184,189,173,169,161,159,164,176,145,137,141,165,147,133,148,137,128,142,170,175,167,162,169,166,175,176,196,219,194,193,179,183,184,152,177,155,156,146,143,153,148,153,152,156,120,171,122,131,131,134,90,91,89,92,79,74,66,71,60,81,67,56,44,45,39,31,40,22,18,19,80,13167,205,157,150,161,149,144,177,133,138,114,140,131,147,154,169,144,175,169,185,144,190,199,194,154,149,197,177,156,163,157,172,181,183,169,161,146,147,173,175,176,179,174,181,186,200,188,191,207,198,192,216,173,157,167,164,161,126,149,135,162,134,136,164,142,152,153,112,153,114,134,118,95,110,109,91,116,116,76,78,92,83,73,70,70,65,59,49,53,52,35,152]
["Oscott","Perry Barr","E05001199",11879,192,177,194,151,175,168,159,166,143,138,121,168,158,141,135,152,194,164,166,183,179,160,163,139,137,169,171,197,139,146,171,161,153,143,121,133,135,130,159,155,179,170,170,195,204,155,170,155,173,198,171,174,149,144,146,139,146,134,119,124,97,95,107,115,126,136,100,101,130,113,99,76,86,106,96,91,94,66,57,77,56,51,53,36,33,21,23,21,26,11,59,12816,199,166,164,179,193,149,163,151,142,136,132,143,146,155,160,170,134,167,163,148,155,176,146,158,169,179,166,164,173,171,176,166,171,162,158,147,142,152,162,172,163,195,207,219,172,213,238,191,203,175,202,171,154,156,147,121,121,127,120,106,132,122,110,131,119,156,132,121,135,133,110,95,78,96,96,109,92,82,85,96,80,78,71,70,68,55,60,50,41,30,157]
["Perry Barr","Perry Barr","E05001200",11603,174,169,192,188,177,187,170,194,165,157,174,148,180,172,164,143,156,171,163,229,246,204,200,184,189,175,180,176,165,164,160,186,157,158,153,153,127,162,148,130,145,190,157,173,155,143,145,155,119,163,146,131,131,114,132,121,117,105,96,107,107,98,95,96,105,96,101,117,100,80,88,78,64,66,73,64,68,50,54,48,45,52,29,29,34,22,20,15,17,18,39,12306,193,171,149,161,176,157,185,182,159,128,138,155,129,151,160,145,166,150,193,315,266,241,209,210,216,173,170,155,161,171,156,185,180,200,167,163,178,138,147,141,166,168,155,147,150,181,174,169,171,178,167,157,120,150,133,137,124,101,99,94,90,89,115,100,118,132,89,99,122,101,87,79,85,83,84,62,96,73,64,54,62,60,60,50,45,48,42,32,30,25,99]
["Quinton","Edgbaston","E05001201",11602,202,179,188,180,198,159,191,160,190,152,139,142,148,174,163,152,145,156,185,161,161,151,136,130,132,136,136,160,153,145,173,149,175,178,142,136,164,144,168,162,187,168,175,161,149,161,147,151,155,157,149,151,121,134,120,92,98,135,128,139,125,128,108,130,108,142,112,113,85,111,94,88,73,80,78,79,72,68,60,58,58,54,43,45,39,37,30,29,21,19,42,12560,188,204,179,182,161,168,171,150,157,146,147,166,138,165,142,158,149,152,156,151,145,165,151,147,158,147,171,192,173,175,173,186,189,201,178,178,186,180,160,182,185,186,197,170,162,163,181,198,175,163,145,163,135,147,137,140,128,121,132,122,114,110,127,124,133,148,116,115,111,115,86,100,86,77,98,102,99,80,74,81,66,64,61,71,54,47,41,40,36,36,131]
["Selly Oak","Selly Oak","E05001202",12746,120,100,97,103,95,81,81,84,71,67,75,63,74,62,70,90,101,87,120,322,1090,1498,1224,913,768,244,221,229,205,208,137,152,144,131,143,129,133,116,102,99,122,101,92,100,87,86,73,91,75,72,67,75,76,75,72,68,78,74,73,70,57,69,55,56,62,70,54,53,46,55,56,37,44,51,54,46,42,42,32,39,29,36,32,18,25,19,18,13,12,15,33,13383,102,86,121,84,69,86,79,80,74,74,63,73,71,73,67,73,93,87,130,447,1604,1678,1305,901,641,203,187,185,171,155,152,161,149,130,116,97,117,92,93,87,102,101,95,102,68,90,84,70,81,72,80,79,80,85,81,72,79,58,66,72,58,50,64,54,68,62,48,62,59,53,52,46,56,54,58,45,59,46,42,42,46,41,34,33,31,33,39,25,19,31,100]
["Shard End","Hodge Hill","E05001203",12747,280,235,240,223,236,226,210,207,190,185,158,170,193,198,179,198,170,184,174,184,204,185,174,146,130,174,162,170,192,162,155,168,169,186,145,151,136,144,153,150,183,171,178,169,178,169,182,163,160,170,167,147,147,129,150,124,121,107,130,113,140,124,134,146,136,161,124,117,90,103,86,63,78,73,48,82,66,67,61,56,61,45,38,39,34,32,26,27,29,28,79,14294,260,248,225,231,206,208,216,194,193,168,196,170,145,158,166,166,187,162,180,199,238,223,187,219,191,236,219,222,221,213,219,223,201,201,171,158,152,150,186,193,191,194,210,170,203,197,192,184,185,174,181,177,162,153,167,130,117,138,141,140,119,132,139,114,140,152,106,116,109,94,112,77,74,89,95,85,75,82,65,76,94,82,64,75,71,67,64,85,60,57,217]
["Sheldon","Yardley","E05001204",10757,180,146,146,150,130,144,139,152,127,155,147,130,149,148,142,149,139,133,152,144,152,136,138,134,130,140,139,147,133,117,135,135,122,121,117,118,119,104,119,113,157,171,145,162,180,159,167,157,162,171,147,155,134,152,142,120,104,132,127,103,105,101,112,102,129,116,126,114,119,120,91,75,88,93,87,65,65,69,71,68,58,58,49,40,29,36,24,31,28,15,55,11172,140,142,131,118,144,132,128,122,125,111,117,111,143,143,145,120,118,136,128,130,156,145,140,132,119,145,143,135,144,137,132,138,154,133,125,132,153,137,117,141,149,159,160,158,155,178,178,159,154,182,171,156,154,131,130,128,101,124,130,131,106,108,127,125,99,141,121,108,122,106,99,84,89,102,113,85,102,82,87,74,82,65,71,60,48,52,50,67,50,44,173]
["Soho","Ladywood","E05001205",15768,342,304,293,266,273,285,258,277,288,252,227,246,221,229,249,233,216,197,188,276,265,304,300,302,287,311,328,298,300,303,345,301,302,308,281,276,258,283,228,237,234,242,236,192,199,187,176,184,176,166,177,136,142,135,113,117,95,114,119,106,113,80,81,64,63,60,68,64,63,72,66,52,76,57,45,52,63,50,55,48,49,40,31,31,25,20,19,20,9,10,39,15314,306,253,300,281,272,260,265,282,227,230,235,216,212,203,232,205,246,213,238,240,243,250,285,254,299,272,278,286,284,284,274,318,298,253,219,240,211,206,235,202,216,210,208,193,207,194,186,188,192,199,168,154,140,146,136,105,138,115,109,98,102,78,99,67,91,80,60,57,84,81,64,68,72,74,82,67,70,63,64,59,54,49,38,29,31,39,37,21,23,20,82]
["South Yardley","Yardley","E05001206",15501,309,316,272,301,301,292,293,295,300,261,255,230,233,246,232,222,224,197,234,194,204,237,212,202,202,207,227,253,237,229,243,261,231,240,205,246,206,224,220,222,207,196,227,226,222,198,192,194,178,189,200,188,193,157,160,147,156,146,154,126,117,121,118,102,105,118,109,91,90,76,70,76,79,80,69,70,74,69,55,65,67,45,46,53,34,23,27,15,15,17,34,15761,298,281,297,303,285,281,257,274,211,238,220,222,222,205,226,230,217,202,215,196,220,225,234,199,242,300,255,281,250,275,263,251,262,252,231,248,234,201,206,206,235,197,185,193,177,182,201,196,226,192,181,182,170,160,154,174,128,143,135,133,116,130,127,106,109,129,88,110,89,111,106,92,85,84,97,76,75,73,72,66,65,72,64,55,52,41,39,32,32,21,88]
["Sparkbrook","Hall Green","E05001207",16848,328,343,352,340,334,340,346,330,291,333,321,302,299,311,309,294,277,296,297,303,306,318,317,291,280,327,315,292,326,334,291,293,265,261,253,259,286,244,227,224,211,193,189,201,183,166,151,170,161,128,122,128,140,141,145,134,126,121,117,116,119,84,97,79,61,63,48,53,66,59,66,50,86,63,75,66,60,70,62,66,53,51,50,29,39,31,23,15,15,5,46,15998,302,280,268,333,312,294,307,293,294,290,300,303,318,279,265,277,312,275,269,320,297,264,263,276,269,297,330,275,267,284,256,285,267,235,240,209,204,175,193,188,200,200,221,190,189,161,150,183,145,161,148,127,150,143,139,144,128,117,134,116,102,88,102,87,98,83,80,78,65,64,54,55,70,75,70,78,57,96,61,53,56,54,59,22,30,29,22,19,19,15,46]
["Springfield","Hall Green","E05001208",16274,308,313,309,370,318,300,321,299,300,301,263,261,259,268,272,284,232,261,285,273,293,255,290,250,268,273,305,291,279,292,286,274,282,258,249,247,246,204,246,230,245,215,209,199,174,189,157,146,156,152,157,138,138,147,147,140,138,135,141,144,127,106,109,89,86,69,62,63,59,83,87,71,63,83,87,54,63,70,61,56,45,50,57,30,26,29,27,17,19,13,31,15917,260,278,296,315,282,265,289,289,277,296,265,275,246,255,282,274,258,230,240,233,281,222,227,252,262,307,272,277,284,297,277,296,293,232,232,232,235,203,223,206,192,196,226,199,182,175,160,167,156,149,163,139,140,144,118,146,153,143,137,123,108,104,104,107,96,99,90,82,83,86,88,79,81,67,84,89,71,61,72,57,52,56,55,48,39,39,31,29,30,23,84]
["Stechford and Yardley North","Yardley","E05001209",12836,214,235,226,213,204,199,230,231,192,198,170,186,194,193,194,217,207,178,194,208,197,198,188,166,156,174,189,204,160,158,176,168,176,148,152,139,143,143,155,193,156,180,183,154,156,146,177,172,170,164,159,157,148,159,150,135,146,143,131,126,123,114,135,112,120,122,93,98,98,89,74,72,79,87,83,73,63,72,73,53,60,57,47,49,34,43,31,18,22,17,47,13432,212,186,218,182,205,200,190,185,200,187,193,176,200,199,199,186,184,189,201,195,189,194,172,166,179,214,213,169,189,176,174,180,208,168,184,177,153,158,172,168,171,191,178,190,184,187,202,201,178,176,154,179,159,150,163,133,143,114,115,97,101,87,112,114,128,125,112,91,100,108,102,86,81,89,88,107,82,90,60,82,71,67,73,65,57,53,52,54,39,36,165]
["Stockland Green","Erdington","E05001210",12254,216,205,171,194,176,172,167,154,143,145,133,154,151,147,144,165,145,163,181,146,203,191,208,207,201,185,204,227,216,186,235,226,220,188,188,170,161,163,179,180,146,175,180,161,157,184,197,173,191,200,174,141,161,151,136,140,132,126,134,132,87,104,113,99,103,93,92,66,83,63,76,57,51,70,71,59,66,59,55,57,35,38,32,31,26,31,23,35,28,13,37,12478,183,215,174,176,163,167,150,150,137,152,130,132,140,144,158,143,145,139,167,169,190,214,207,178,191,229,236,218,231,239,227,208,208,192,157,170,168,163,158,175,164,181,182,187,168,180,168,202,209,160,205,158,139,165,134,148,121,102,109,103,90,107,111,100,101,115,80,71,80,70,87,76,67,79,85,64,78,50,55,67,63,59,58,49,40,53,27,31,31,26,130]
["Sutton Four Oaks","Sutton Coldfield","E05001211",11562,99,122,121,139,159,181,142,139,147,150,152,165,140,181,154,136,139,128,138,105,119,105,119,111,92,114,119,88,87,102,108,99,109,103,101,120,146,150,132,144,171,176,170,187,197,173,184,185,184,165,173,167,149,147,157,155,144,143,140,141,117,150,130,146,151,176,148,157,159,131,121,90,95,97,120,102,92,103,85,101,88,106,79,67,78,50,46,40,31,23,70,12434,106,120,135,126,149,136,141,138,135,141,139,139,154,145,139,150,150,130,147,120,94,108,97,81,96,93,115,94,105,95,109,116,123,139,132,128,149,149,133,138,170,206,174,174,213,193,192,207,227,184,187,176,153,178,141,152,175,127,140,151,153,129,154,155,177,189,155,185,156,140,122,109,120,139,139,122,139,140,102,107,130,121,108,94,75,77,72,51,67,48,205]
["Sutton New Hall","Sutton Coldfield","E05001212",10759,105,106,109,97,117,134,108,143,126,128,105,120,150,131,145,140,118,147,121,110,119,117,107,107,96,116,105,121,112,106,116,100,107,120,100,138,111,125,136,156,126,133,147,167,155,169,169,159,172,177,176,150,159,186,190,141,143,168,178,163,168,131,165,158,170,196,129,130,145,111,94,91,92,108,62,70,63,81,52,73,59,64,53,57,41,37,36,26,19,25,50,11532,114,108,113,123,109,99,133,103,110,102,100,126,109,109,113,130,139,132,106,105,103,134,102,111,92,115,102,120,107,91,120,133,120,117,133,106,112,127,148,145,151,174,152,170,170,182,202,187,206,183,179,159,185,161,163,173,162,161,164,159,166,171,176,162,188,200,130,127,143,131,103,96,90,107,106,111,111,98,97,86,96,82,103,74,73,74,63,55,46,40,163]
["Sutton Trinity","Sutton Coldfield","E05001213",12167,176,151,137,152,154,163,139,166,148,151,166,138,172,173,176,145,162,156,170,135,171,143,114,109,113,133,136,128,142,140,152,146,146,132,123,133,141,123,154,142,202,180,181,186,191,175,175,193,195,169,200,199,168,162,173,150,139,137,139,153,142,117,154,146,158,172,125,120,135,119,101,88,102,92,87,83,87,96,77,77,78,68,62,70,56,46,43,37,26,24,61,12994,150,131,170,146,152,126,132,151,146,139,113,147,133,179,165,160,162,184,148,130,141,144,128,132,125,156,167,146,147,157,110,140,144,137,158,150,170,150,175,161,166,209,169,186,203,184,219,223,204,190,190,196,201,182,173,152,129,165,150,144,151,139,151,151,154,159,131,165,160,116,130,99,105,115,109,101,99,104,101,101,95,100,82,77,83,93,67,58,47,51,163]
["Sutton Vesey","Sutton Coldfield","E05001214",11323,142,104,126,119,135,133,150,102,125,123,123,145,151,143,120,140,135,152,150,123,129,130,132,113,112,129,149,144,120,138,119,127,112,111,106,126,155,141,142,124,142,138,167,170,165,188,169,172,182,199,184,163,201,176,169,151,132,152,145,170,137,149,142,155,150,152,122,98,149,134,103,96,78,104,93,93,80,70,86,85,68,62,55,56,61,40,35,26,29,30,50,11919,131,116,109,120,127,105,136,119,125,116,131,124,129,111,142,150,133,147,139,120,103,122,124,100,109,142,109,117,110,122,125,111,132,129,128,136,138,156,150,146,166,159,165,153,173,189,200,182,201,193,203,187,183,197,149,158,155,156,151,152,170,125,153,150,168,159,121,139,137,142,116,90,115,105,122,112,117,104,92,78,103,84,86,72,74,79,69,57,50,40,179]
["Tyburn","Erdington","E05001215",12098,223,187,192,185,189,208,178,177,190,173,175,166,177,181,185,198,171,188,195,183,203,181,161,157,165,153,147,146,149,156,154,186,136,154,120,115,137,123,152,154,182,158,178,179,189,198,182,160,173,170,157,176,167,124,124,151,134,127,130,110,104,102,100,82,93,122,100,111,89,91,78,70,75,76,68,83,82,82,56,51,90,51,59,51,33,29,26,29,15,21,40,13224,203,176,168,181,205,196,173,174,158,166,172,178,195,165,185,200,191,166,211,192,203,152,167,149,162,207,199,169,189,216,187,188,178,174,158,153,166,159,181,159,186,192,207,203,203,189,207,201,190,196,193,183,147,152,122,144,103,121,124,126,112,107,116,123,101,117,106,98,107,103,92,83,85,97,98,87,101,82,91,75,81,81,62,68,63,59,39,41,40,43,106]
["Washwood Heath","Hodge Hill","E05001216",16896,359,311,328,365,409,376,362,374,383,353,388,353,350,350,354,337,304,315,320,331,312,300,289,262,277,273,288,277,271,250,283,290,311,278,264,272,246,261,236,250,221,192,209,208,190,181,152,139,145,136,137,118,116,106,114,102,128,107,120,107,99,82,78,55,59,65,34,50,42,48,43,60,63,62,56,56,67,52,43,41,29,39,45,43,27,28,16,13,17,8,36,16480,349,329,308,355,367,346,367,362,342,331,354,325,327,323,325,338,290,286,283,288,266,255,250,236,250,282,261,265,288,264,277,292,297,259,247,240,218,235,211,221,243,249,212,207,179,166,155,129,134,136,135,128,126,112,136,114,106,109,120,110,100,85,73,55,90,83,61,57,65,72,68,51,69,60,71,67,70,76,59,55,45,53,45,40,31,22,29,18,17,16,62]
["Weoley","Northfield","E05001217",12482,214,210,234,230,206,205,182,182,183,175,150,167,175,202,200,180,178,169,208,198,206,203,158,176,151,167,162,186,142,159,162,168,161,166,139,168,150,177,179,173,175,158,168,178,176,137,181,148,171,156,141,152,152,130,141,143,131,123,121,151,127,111,85,116,117,120,119,88,110,79,88,77,83,60,76,65,71,59,71,57,60,56,50,51,44,40,35,24,23,25,61,13512,211,203,185,199,190,167,187,186,170,173,130,137,181,177,190,169,203,192,167,196,210,214,185,180,162,185,185,177,157,187,183,172,195,174,172,177,182,185,166,172,177,191,193,184,183,230,175,194,175,195,204,163,179,169,164,162,130,149,118,116,131,126,111,129,117,126,123,100,116,106,94,74,97,93,100,92,85,79,74,96,82,81,91,64,64,67,57,47,37,33,136]
[null,null,null,{"$f":"SUM(D5:D44)","v":535122},9158,8566,8390,8546,8539,8372,8079,7833,7622,7566,7259,7284,7482,7649,7574,7782,7440,7358,{"$f":"SUM(W5:W44)","v":7986},9257,10066,10359,9766,9056,8754,8561,8661,8888,8398,8488,8378,8301,8133,7793,7196,7289,7082,7070,7066,7136,7165,7118,7167,7067,7070,6939,6748,6727,6600,6637,6447,6014,5835,5592,5691,5282,5068,5107,5064,5030,4733,4445,4469,4281,4373,4614,3771,3686,3757,3484,3171,2807,2996,3093,2892,2685,2657,2555,2308,2294,2173,1999,{"$f":"SUM(CI5:CI44)","v":1831},1639,1384,1267,1057,885,726,672,1867,550295,8561,8050,7938,8168,7957,7533,7810,7592,7189,6899,6786,6940,7001,7080,7286,7353,7312,7165,7828,9823,10666,10580,9801,9328,9187,9162,8674,8585,8446,8571,8267,8485,8670,7899,7318,7206,7203,6856,6779,7021,7253,7422,7370,7182,7166,7088,7138,7022,6934,6725,6741,6357,6031,5915,{"$f":"SUM(EU5:EU44)","v":5602},5464,5105,5046,4941,4930,4700,4492,4724,4454,4754,4842,3882,3969,4035,3939,3531,3180,3428,3396,3469,3375,3369,3059,2837,2783,2844,2698,2556,2230,2108,2034,1808,1608,1472,1273,5039]
[null,"Males "]
[null,"Females"]
[]
["Office for National Statistics"]
["Crown Copyright 2014"]

{"sheet":"2011 syoa","index":20,"n_rows":50,"n_cols":187,"rows_kept":50,"cut":false,"hidden":true,"merged":[[3,3,3,21],[3,22,3,40]]}
["2011 Birmingham ward, population (Experimental Statistics)",null,null,null,null,"Estimates should be aggregated to at least five-year age groups before publication"]
[1,{"$f":"A2+1","v":2},{"$f":"B2+1","v":3},4,5,6,7,8,9,10,11,12,13,14,15,16,17,18,19,20,21,22,23,24,25,26,27,28,29,30,31,32,33,34,35,36,37,38,39,40,41,42,43,44,45,46,47,48,49,50,51,52,53,54,55,56,57,58,59,60,61,62,63,64,65,66,{"$f":"BN2+1","v":67},68,69,70,71,72,73,74,75,76,77,78,79,80,81,82,83,84,85,86,87,88,89,90,91,92,93,94,95,96,97,98,99,100,101,102,103,104,105,106,107,108,109,110,111,112,113,114,115,116,117,118,119,120,121,122,123,124,125,126,127,128,129,130,{"$f":"DZ2+1","v":131},132,133,134,135,136,137,138,139,140,141,142,143,144,145,146,147,148,149,150,151,152,153,154,155,156,157,158,159,160,161,162,163,164,165,166,167,168,169,170,171,172,173,174,175,176,177,178,179,180,181,182,183,184,185,186,187]
["Ward","Constituency","ward code","All Ages",0,{"$f":"E3+1","v":1},{"$f":"F3+1","v":2},3,4,5,6,7,8,9,10,11,12,13,14,15,16,17,18,19,20,21,22,23,24,25,26,27,28,29,30,31,32,33,34,35,36,37,38,39,40,41,42,43,44,45,46,47,48,49,50,51,52,53,54,55,56,57,58,59,60,61,62,63,64,65,{"$f":"BR3+1","v":66},67,68,69,70,71,72,73,74,75,76,77,78,79,80,81,82,83,84,85,86,87,88,89,90,"all",0,1,2,3,4,5,6,7,8,9,10,11,12,13,14,15,16,17,18,19,20,21,22,23,24,25,26,27,28,29,30,31,32,33,34,35,36,37,{"$f":"ED3+1","v":38},39,40,41,42,43,44,45,46,47,48,49,50,51,52,53,54,55,56,57,58,59,60,61,62,63,64,65,66,67,68,69,70,71,72,73,74,75,76,77,78,79,80,81,82,83,84,85,86,87,88,89,90]
[null,null,null,"males"]
["Acocks Green","Yardley","E05001178",{"$f":"SUM(E5:CQ5)","v":13880},268,203,256,208,242,198,209,225,209,213,188,191,227,208,245,211,222,201,228,177,200,180,189,190,193,200,230,210,206,229,221,221,234,215,187,208,172,180,188,174,219,201,205,193,175,192,193,180,180,198,170,161,155,138,152,141,136,109,136,121,123,128,117,102,117,98,86,112,96,80,92,80,71,79,73,66,63,61,59,60,47,61,50,48,35,35,23,17,22,14,54,{"$f":"SUM(CS5:GE5)","v":14550},216,253,231,228,222,211,179,196,182,201,185,171,223,188,196,199,199,188,219,195,169,194,200,218,241,222,239,206,217,261,263,267,223,211,204,230,194,186,194,213,194,201,217,225,206,200,187,188,188,187,173,176,155,131,167,139,127,119,116,115,105,106,135,116,123,99,92,112,94,97,80,89,86,94,97,84,86,81,72,79,87,80,70,64,67,47,52,47,44,36,184]
["Aston","Ladywood","E05001179",{"$f":"SUM(E6:CQ6)","v":16334},322,340,329,312,322,317,284,301,275,290,285,279,277,294,268,287,280,265,283,384,572,466,432,382,336,314,330,250,290,279,284,240,288,219,258,260,234,231,207,199,197,242,195,208,171,159,140,122,163,171,120,110,115,120,109,92,100,100,115,94,72,69,49,65,77,47,44,41,56,67,51,56,76,67,45,75,72,47,40,51,40,38,37,30,26,15,20,9,13,15,16,{"$f":"SUM(CS6:GE6)","v":16042},305,299,325,328,302,305,276,283,263,251,258,259,239,248,277,247,237,269,271,405,610,437,434,337,308,270,262,291,267,263,258,279,260,220,221,211,197,193,237,197,215,211,165,176,184,163,158,169,162,167,159,138,116,123,115,113,107,96,95,100,91,94,74,75,66,57,62,52,71,63,83,95,78,59,78,67,60,47,40,50,49,37,48,36,39,15,20,21,17,9,58]
["Bartley Green","Edgbaston","E05001180",11828,183,166,215,193,173,176,147,153,158,174,172,193,172,178,173,184,172,202,179,191,160,170,141,143,156,151,158,163,153,144,152,168,161,142,139,137,173,169,163,143,155,157,163,173,157,136,137,151,153,144,156,132,137,160,128,127,146,140,135,123,138,118,129,142,166,137,119,114,107,84,87,71,70,81,51,76,68,55,41,46,52,50,53,23,39,31,21,19,20,18,52,13172,195,162,169,193,170,182,180,163,129,140,157,151,154,177,193,168,163,150,168,222,214,187,178,196,197,167,184,157,179,187,205,212,200,188,177,160,172,172,206,173,180,188,181,167,169,176,180,169,165,188,157,139,158,163,148,137,136,175,146,137,144,130,165,165,180,133,100,103,132,92,73,95,83,71,91,72,70,79,68,76,64,83,72,74,58,49,48,55,34,40,117]
["Billesley","Selly Oak","E05001181",12835,185,185,187,186,232,164,188,147,160,177,196,185,213,199,183,203,182,202,193,202,179,154,150,169,158,178,190,184,150,206,197,178,169,140,161,141,158,130,172,180,162,191,167,168,209,180,174,166,201,164,161,174,167,171,136,148,148,145,139,134,124,131,134,139,129,111,91,110,94,88,65,88,106,108,63,82,86,59,61,66,66,58,49,61,42,41,24,29,29,25,58,13724,203,173,189,152,166,174,196,173,174,137,182,164,169,180,202,159,195,188,180,165,173,153,175,202,200,207,187,187,188,180,178,218,194,151,169,172,164,175,179,189,197,192,178,181,211,219,178,205,202,214,193,191,152,157,160,163,163,115,131,135,144,141,122,136,128,113,110,108,121,95,79,107,114,113,113,99,105,77,91,102,84,89,70,66,63,68,68,68,47,39,145]
["Bordesley Green","Hodge Hill","E05001182",16760,361,366,352,404,378,365,386,338,384,334,349,322,385,341,394,313,336,286,310,248,246,284,255,262,253,259,274,291,264,255,272,269,258,245,255,238,237,241,248,220,233,236,209,211,188,184,138,157,122,123,138,128,117,139,140,120,112,98,109,117,79,76,63,62,67,61,51,57,68,56,60,75,66,68,102,62,74,65,53,64,56,56,34,39,28,32,19,13,10,11,36,17281,368,353,377,367,345,407,367,361,346,353,375,332,359,310,329,336,319,316,301,266,242,239,262,267,281,273,323,283,279,276,293,334,253,254,265,249,232,241,239,234,219,249,205,217,197,158,177,140,121,152,143,164,124,120,114,120,143,111,106,98,92,109,79,86,79,67,73,69,66,59,74,90,81,63,76,114,69,77,68,69,66,67,43,32,42,37,23,22,19,14,72]
["Bournville","Selly Oak","E05001183",12339,159,171,176,150,164,161,144,141,159,126,136,162,153,164,154,147,148,180,166,129,132,142,169,145,149,183,190,150,195,196,184,187,174,157,184,172,168,182,202,203,200,174,181,183,186,182,202,184,196,194,153,174,160,158,154,152,141,138,124,145,151,121,144,147,166,126,131,116,92,90,64,74,104,78,69,69,56,59,64,59,55,54,53,28,42,35,19,33,23,24,58,13615,173,164,169,177,150,175,156,146,137,130,125,131,155,166,180,174,148,199,158,134,139,149,131,179,169,159,196,200,188,169,203,188,199,190,179,179,200,167,185,203,234,194,194,223,196,199,204,198,187,195,199,163,189,193,161,147,150,165,181,150,158,148,144,154,155,106,132,122,134,94,106,114,94,104,79,99,76,91,75,86,74,88,74,77,83,65,62,62,57,61,200]
["Brandwood","Selly Oak","E05001184",12478,196,202,235,182,198,191,174,178,166,148,160,180,173,178,183,183,184,171,183,160,156,138,150,136,123,162,164,158,152,149,164,190,194,176,166,154,196,167,177,160,213,181,184,161,168,184,197,194,186,164,163,151,151,155,153,140,129,135,129,139,119,131,137,120,134,108,110,112,110,99,91,83,101,84,82,75,76,71,69,64,58,51,48,26,33,29,28,20,19,16,40,13237,200,182,173,188,165,171,164,156,147,142,153,140,154,172,168,177,135,158,160,174,151,154,181,168,157,166,166,169,185,167,191,208,226,167,177,194,167,166,177,191,196,207,228,228,202,219,175,193,169,167,178,156,163,160,141,111,151,148,134,132,131,151,132,121,171,122,109,149,126,106,102,104,110,99,97,95,79,78,69,81,91,73,80,70,72,62,49,40,28,42,133]
["Edgbaston","Edgbaston","E05001185",12391,143,112,137,115,121,92,102,82,91,84,87,88,97,94,99,96,96,93,331,1207,701,323,267,265,250,253,275,266,250,205,208,196,214,162,189,182,149,141,146,136,117,152,140,117,125,131,138,139,155,164,117,96,130,106,104,93,105,114,111,94,108,106,97,84,94,79,90,91,77,60,72,68,82,75,58,48,65,43,40,48,48,43,39,30,29,25,20,22,14,13,30,12108,139,126,84,99,80,93,87,72,70,62,66,94,86,99,97,89,120,93,440,1616,787,303,270,261,290,244,221,155,211,189,191,199,163,146,142,149,115,113,120,119,123,123,110,124,115,138,132,95,104,113,111,93,94,95,80,88,84,90,93,77,87,100,98,104,80,74,86,71,82,80,70,53,66,65,63,46,42,43,45,48,42,41,45,50,42,33,40,38,40,33,119]
["Erdington","Erdington","E05001186",11148,182,185,199,166,167,144,142,132,139,98,121,126,112,133,151,150,125,148,127,128,147,114,125,108,164,192,170,169,186,157,173,148,142,155,144,174,154,150,154,146,158,154,148,172,166,173,178,144,172,173,170,131,149,160,147,135,140,119,110,125,109,123,132,124,105,99,94,117,80,93,78,76,79,63,69,58,72,61,60,73,55,39,49,33,44,40,31,27,28,19,47,11654,161,183,141,154,150,122,151,117,122,111,123,123,112,114,121,138,126,138,148,152,150,132,161,157,163,154,188,198,170,179,187,200,154,164,180,158,128,143,149,144,164,155,163,161,162,157,184,163,187,155,150,175,154,139,146,120,131,106,117,102,126,111,108,119,108,108,105,114,111,81,87,86,85,103,81,91,93,91,79,71,74,75,64,66,64,77,57,54,35,32,141]
["Hall Green","Hall Green","E05001187",13020,154,211,184,228,187,182,198,181,176,198,181,191,189,214,200,209,196,186,175,187,157,150,139,192,170,154,177,164,178,159,175,168,156,156,185,154,197,182,169,182,175,185,182,187,193,186,196,162,190,184,182,171,148,163,158,146,145,145,137,151,126,129,124,143,155,91,126,108,104,97,83,90,87,85,73,73,82,79,81,57,61,51,54,51,49,34,25,24,26,13,62,13432,181,171,176,178,153,169,198,170,170,175,151,188,190,175,150,184,175,189,177,157,126,140,172,167,170,165,188,171,158,167,172,215,190,196,183,179,170,168,181,196,187,205,185,205,186,190,179,180,183,188,174,203,190,157,156,164,144,160,153,130,123,132,140,141,142,102,134,135,142,100,73,113,95,84,101,102,89,91,84,97,92,86,79,57,68,45,50,54,43,38,130]
["Handsworth Wood","Perry Barr","E05001188",13700,210,214,203,191,190,173,174,178,205,179,182,199,182,210,211,203,214,220,213,228,232,222,260,204,211,264,252,242,270,257,262,200,174,189,199,211,188,203,185,198,196,174,190,220,165,168,174,187,174,212,158,181,154,162,141,145,158,149,173,133,120,109,102,99,86,74,87,61,68,64,66,74,61,55,71,68,66,61,65,50,46,49,37,38,28,29,36,27,23,16,48,14138,174,161,188,203,171,160,199,172,154,176,172,170,178,191,199,190,211,231,220,270,229,231,216,255,246,263,257,232,265,225,216,265,231,204,175,188,190,170,188,182,174,186,174,196,201,187,209,213,222,204,199,195,177,170,138,149,146,159,130,137,128,141,100,93,94,86,75,84,86,64,86,102,91,89,84,92,72,75,71,90,64,63,47,70,48,45,34,35,41,18,86]
["Harborne","Edgbaston","E05001189",11317,145,156,137,135,142,142,127,134,124,94,119,115,93,98,103,89,91,112,111,125,154,163,173,230,242,285,335,271,251,224,228,225,239,219,215,173,185,144,153,185,156,158,135,170,160,150,147,145,157,146,134,119,125,116,111,115,119,115,126,107,123,120,107,104,104,69,101,96,64,82,70,79,72,65,72,52,41,47,41,58,51,45,40,34,33,28,25,17,15,20,45,11678,114,152,138,141,127,111,111,118,105,109,95,100,120,112,108,109,116,104,105,102,139,196,232,276,345,273,255,265,256,231,250,203,206,197,204,181,154,177,161,151,153,147,156,157,136,132,130,139,128,136,123,130,118,130,114,121,100,95,118,118,111,91,123,115,120,89,96,81,79,81,77,72,74,72,77,65,62,60,69,70,78,60,63,56,51,63,57,52,57,47,180]
["Hodge Hill","Hodge Hill","E05001190",13604,263,255,272,309,259,270,275,232,256,266,247,244,210,193,252,216,231,215,241,193,193,195,149,180,193,168,211,172,172,215,192,217,203,181,156,176,149,174,173,196,192,172,182,211,173,164,161,140,152,154,154,142,130,136,140,118,129,126,99,104,123,115,101,113,119,107,90,86,91,76,83,83,92,67,61,51,59,68,54,43,55,48,43,44,37,23,19,21,32,14,43,14483,264,249,289,248,261,266,243,241,248,261,233,240,261,242,250,232,215,213,182,189,198,202,193,172,199,213,201,205,258,232,212,226,203,209,178,167,195,158,200,197,205,198,203,177,195,180,172,160,157,150,142,139,150,137,133,129,114,102,124,124,118,103,94,108,91,80,96,89,102,94,96,101,77,91,102,85,93,75,89,87,74,68,62,68,60,52,39,42,45,41,125]
["Kings Norton","Northfield","E05001191",11651,211,184,197,191,232,164,169,168,181,125,149,173,174,177,170,162,157,187,165,143,150,140,139,126,126,130,152,152,133,152,144,151,142,160,161,146,143,149,150,141,164,178,147,151,182,171,177,168,153,141,140,149,138,122,128,99,103,148,139,148,121,126,132,154,155,130,125,117,111,84,72,87,89,85,81,80,61,70,49,51,46,45,43,28,38,36,29,17,21,15,41,12751,209,168,185,202,169,173,169,134,128,155,142,151,164,182,174,171,178,172,150,146,157,140,161,192,164,177,174,173,199,165,172,198,170,167,160,169,168,153,164,177,178,174,178,200,162,169,184,157,149,156,156,134,135,131,152,129,126,137,136,150,146,157,148,179,167,122,116,131,137,108,88,89,91,92,73,94,83,69,67,78,77,71,64,62,64,49,61,36,54,38,125]
["Kingstanding","Erdington","E05001192",12051,215,217,202,212,209,207,214,197,183,180,173,193,213,200,209,187,202,218,214,189,183,166,165,141,164,133,154,141,154,161,169,147,157,138,134,134,133,146,143,144,137,144,168,170,155,154,182,179,189,142,177,142,170,158,128,133,135,128,101,114,125,106,112,118,109,95,90,102,90,88,81,74,72,65,55,66,47,59,51,54,50,50,48,33,31,24,25,19,21,11,33,13281,195,217,200,219,182,194,221,191,167,157,201,170,199,212,190,201,189,220,212,179,182,146,168,184,193,178,175,180,190,194,192,197,189,169,163,183,181,149,175,164,191,188,169,189,211,204,208,166,181,206,179,122,142,167,149,150,125,116,113,126,100,124,92,137,101,111,107,95,114,90,89,91,87,88,85,88,69,80,73,60,67,77,57,55,57,56,32,35,32,40,122]
["Ladywood","Ladywood","E05001193",16612,203,180,157,132,126,117,109,90,97,75,88,76,83,81,84,82,92,86,123,325,411,492,680,759,743,790,764,707,652,604,572,562,447,373,324,293,274,286,259,218,221,194,190,168,188,176,189,182,171,179,143,114,122,118,117,72,91,103,99,79,76,74,69,67,71,54,54,63,49,47,32,30,35,30,38,39,26,25,32,21,20,23,18,17,18,6,4,12,8,7,15,13568,202,153,131,144,105,126,115,90,90,80,91,85,96,86,92,71,74,75,140,361,504,600,630,706,689,649,560,555,467,427,435,381,285,263,246,196,160,149,153,157,155,136,135,107,89,110,117,126,101,89,85,80,106,84,96,67,62,72,73,49,46,53,51,47,48,39,46,45,40,40,34,48,28,31,35,29,41,28,21,33,26,25,23,25,14,15,18,18,10,9,44]
["Longbridge","Northfield","E05001194",12337,209,238,178,190,189,157,178,167,180,155,146,170,184,156,189,192,153,178,152,184,169,139,152,124,136,143,150,159,175,192,184,189,167,169,173,178,177,181,175,184,150,150,189,176,204,172,193,190,156,195,163,148,146,157,137,147,148,139,141,143,146,132,140,124,165,122,113,91,106,99,53,92,76,86,67,67,62,47,56,31,57,44,37,40,46,35,24,14,18,11,31,13114,201,174,165,182,152,174,172,151,138,154,145,150,178,181,187,177,185,162,170,147,162,154,157,159,151,187,179,157,211,196,222,242,221,176,170,166,174,182,195,198,203,155,191,190,221,196,172,184,169,182,191,193,178,133,156,151,164,165,143,152,141,140,146,151,135,111,109,119,101,87,84,78,66,77,86,84,62,67,77,85,90,70,57,54,45,65,37,34,32,33,98]
["Lozells and East Handsworth","Perry Barr","E05001195",16107,276,300,329,300,286,343,255,281,288,280,301,291,276,243,325,283,265,280,278,267,303,276,249,292,291,316,317,287,306,285,306,316,273,274,283,251,252,237,234,254,200,203,217,215,172,165,160,175,169,182,142,148,147,132,111,123,113,122,112,117,85,87,59,64,67,55,47,66,61,65,52,68,76,71,64,68,68,53,64,70,59,43,49,38,30,20,17,12,18,11,26,15081,286,259,272,283,272,294,283,290,274,246,240,280,222,244,257,253,217,252,229,234,266,264,278,285,273,271,272,266,257,275,253,235,235,255,247,263,213,212,227,200,210,170,187,177,177,182,170,168,208,155,133,152,133,126,133,121,102,112,128,114,97,98,70,79,63,62,64,89,73,87,62,88,69,86,73,66,69,53,57,46,48,44,44,34,26,24,20,25,14,11,48]
["Moseley and Kings Heath","Hall Green","E05001196",13152,193,166,167,146,157,145,134,121,140,140,147,141,144,145,165,140,132,140,142,157,130,146,163,204,242,244,261,301,274,320,278,278,281,256,241,229,235,202,226,215,226,206,177,187,223,188,202,194,173,165,138,172,132,165,157,164,145,152,172,117,121,147,122,118,124,81,105,64,82,77,76,64,63,53,58,75,69,70,58,47,48,46,38,36,29,30,12,18,25,12,41,12546,171,163,168,137,160,142,142,154,133,119,136,133,124,111,117,164,156,149,149,135,156,149,168,189,215,247,255,249,284,249,260,258,205,203,166,195,207,168,167,194,181,192,207,183,152,187,163,152,158,164,162,158,155,149,146,138,132,135,152,118,115,136,112,117,122,108,93,87,88,70,76,65,77,76,78,79,70,63,55,67,60,49,47,51,33,45,35,40,27,33,141]
["Nechells","Ladywood","E05001197",17244,339,360,348,343,345,321,289,305,271,265,230,267,248,265,252,226,223,253,314,614,658,535,509,463,370,311,319,310,306,319,307,333,294,250,238,248,245,208,210,190,242,212,183,185,179,193,182,163,159,174,126,137,134,122,102,113,105,103,106,80,70,92,74,81,87,50,55,86,71,68,61,85,80,64,61,54,54,51,50,35,39,30,27,20,23,14,19,12,9,6,15,16809,319,303,349,301,327,298,289,281,270,230,283,240,234,235,205,209,239,237,302,686,644,520,499,477,384,351,349,335,347,343,304,283,238,239,237,215,213,221,178,214,191,206,170,154,186,145,151,151,133,143,147,149,117,118,98,97,104,81,95,98,84,89,75,76,71,54,83,61,59,62,67,84,74,63,59,63,57,60,47,46,45,31,36,32,35,28,21,16,20,13,36]
["Northfield","Northfield","E05001198",12522,185,153,177,196,157,192,168,164,153,147,118,143,156,168,194,150,174,182,179,180,163,179,169,160,152,145,160,136,168,149,164,145,148,145,129,146,160,174,160,147,164,159,166,163,184,202,221,185,192,170,185,171,167,184,163,168,152,142,152,146,149,154,166,121,164,132,127,128,135,95,90,99,98,89,85,78,72,59,79,79,57,48,56,42,39,47,29,22,19,31,62,13191,158,168,174,152,136,190,120,135,123,141,141,153,158,168,142,181,165,166,162,182,167,184,156,179,215,162,161,146,157,172,193,175,172,157,156,153,165,178,180,182,175,189,197,189,184,200,204,207,198,209,176,162,169,159,155,131,153,131,167,132,135,169,142,157,157,120,155,112,131,124,94,114,109,88,120,111,83,86,101,89,85,73,68,69,66,58,65,65,42,44,147]
["Oscott","Perry Barr","E05001199",11786,181,185,155,172,170,148,166,155,130,131,168,158,140,141,168,200,163,165,190,170,148,142,118,154,180,174,143,142,167,169,177,128,131,125,139,141,138,151,145,193,174,167,191,211,178,171,160,186,185,180,183,154,129,142,143,144,132,130,118,103,104,108,114,131,137,105,100,132,112,98,76,87,108,97,83,100,76,57,76,63,55,61,42,37,29,28,24,22,13,19,50,12834,168,172,204,184,152,157,162,145,137,139,147,146,154,146,176,151,158,171,143,129,144,141,184,174,158,159,189,166,171,174,187,179,151,153,153,145,164,158,165,173,191,199,222,175,214,236,195,210,183,203,167,157,155,162,117,130,129,125,101,130,124,107,133,128,147,138,124,133,127,123,97,84,99,97,121,98,90,89,101,78,82,74,72,76,55,66,61,41,36,40,163]
["Perry Barr","Perry Barr","E05001200",11458,186,184,162,184,184,164,185,182,166,167,155,164,174,157,156,163,161,156,165,222,213,188,182,189,160,187,171,155,170,167,187,170,149,159,154,128,152,159,131,161,188,169,169,166,132,153,158,130,159,152,133,130,115,141,125,110,107,95,112,116,99,98,89,103,111,101,125,107,86,81,79,64,66,74,74,61,54,61,51,45,50,25,34,36,32,20,18,18,14,16,37,12237,147,147,168,178,156,180,187,152,132,146,149,129,154,161,155,155,156,158,209,324,274,236,218,192,197,168,166,159,166,155,203,174,183,161,178,170,131,148,156,189,177,157,156,147,182,173,171,174,186,163,162,120,154,132,129,118,98,97,103,91,93,117,105,113,133,97,100,118,100,93,72,84,90,90,70,100,74,69,51,63,67,62,47,48,43,41,44,35,32,24,105]
["Quinton","Edgbaston","E05001201",11563,179,190,180,203,164,172,161,178,172,144,159,152,168,162,151,164,157,186,182,140,129,124,145,142,129,148,160,134,148,142,157,175,178,161,141,164,146,159,165,178,176,175,165,154,156,153,149,143,174,146,156,133,120,114,100,103,136,141,134,131,129,113,130,114,148,117,112,84,119,91,83,76,95,84,87,74,67,64,60,60,56,44,49,45,43,39,33,26,19,12,42,12647,214,176,171,167,171,182,145,170,143,144,177,137,168,145,175,153,162,145,153,144,142,140,165,153,170,149,199,195,178,185,178,188,205,172,180,189,183,156,185,211,186,196,161,177,161,178,196,173,165,166,160,144,137,131,145,130,121,138,125,128,116,122,125,138,152,116,128,110,114,90,101,87,81,102,103,98,83,85,78,78,68,65,64,61,55,47,38,51,39,40,129]
["Selly Oak","Selly Oak","E05001202",12590,98,108,105,91,91,80,77,73,72,72,78,73,73,57,59,75,72,78,118,419,1530,1750,1029,634,351,291,248,220,209,193,165,162,131,150,118,144,109,108,103,111,111,82,90,101,83,63,82,85,78,84,72,70,75,81,73,76,81,77,76,60,68,59,60,62,67,55,50,54,57,57,37,50,48,56,46,40,47,32,43,37,34,30,20,27,21,22,9,16,16,13,32,13340,98,105,97,60,90,87,86,68,77,66,57,71,62,73,72,78,74,63,91,581,1913,2010,1089,638,345,257,183,191,156,154,169,175,140,122,111,121,91,82,83,104,80,92,114,95,87,84,73,82,69,78,85,80,77,83,83,74,58,65,78,66,51,67,46,71,71,50,70,63,48,59,42,69,55,49,52,61,48,47,45,51,45,31,30,34,39,50,30,24,29,27,93]
["Shard End","Hodge Hill","E05001203",12640,257,240,217,239,202,200,205,194,194,169,173,197,193,199,207,169,202,177,201,179,162,182,154,160,139,143,156,182,182,148,159,165,163,179,172,142,152,158,166,173,164,196,177,178,172,171,165,161,180,164,147,145,140,151,122,124,112,128,111,138,125,126,145,145,165,129,120,96,91,85,70,82,70,46,78,71,70,61,67,63,52,44,35,32,38,32,37,33,32,30,73,14171,228,233,241,194,224,195,197,199,174,198,192,152,162,167,187,190,181,191,192,181,155,174,232,193,236,231,219,213,218,220,216,212,204,179,174,166,145,197,193,187,205,208,173,203,193,194,181,182,178,174,175,158,147,164,140,108,139,145,141,122,137,137,116,143,159,110,119,112,93,109,79,72,81,100,97,73,76,72,86,91,83,72,75,80,78,71,101,71,59,65,182]
["Sheldon","Yardley","E05001204",10692,135,158,159,132,142,140,167,137,134,148,126,140,144,143,154,139,144,163,136,133,149,123,125,122,124,128,144,136,139,109,138,121,136,121,122,107,108,120,104,161,167,149,174,191,166,173,165,164,162,139,152,154,148,141,114,114,132,124,105,107,95,111,107,135,116,126,115,125,113,92,80,96,95,81,73,72,69,83,67,63,63,58,46,33,37,29,34,29,25,18,54,11126,122,140,123,148,127,135,110,130,109,111,111,138,157,153,130,136,126,126,137,133,120,114,117,143,134,140,133,151,146,145,134,154,149,131,116,139,142,120,144,149,148,163,156,157,173,180,169,154,181,154,151,158,130,129,123,108,125,122,130,109,113,130,120,96,147,120,113,123,101,99,85,87,112,118,84,112,87,85,72,84,69,78,68,50,62,57,73,61,54,61,162]
["Soho","Ladywood","E05001205",15402,292,271,293,263,266,283,272,290,257,255,263,199,239,234,236,218,222,219,222,217,264,266,274,286,290,331,296,296,319,326,335,302,306,281,262,248,261,232,242,255,237,219,226,216,188,182,184,174,190,174,141,138,125,119,120,104,108,116,108,114,91,76,63,64,69,66,67,71,67,72,57,69,59,46,51,61,52,60,45,59,45,31,37,24,21,18,26,14,6,11,38,14958,264,316,293,276,231,269,276,235,230,247,199,214,189,241,202,244,202,227,218,209,258,252,280,251,270,264,272,290,284,266,321,287,269,220,238,235,209,217,205,213,195,229,191,201,196,194,192,204,175,193,157,131,159,139,116,135,129,104,100,98,86,88,79,88,86,65,54,85,81,60,77,66,80,75,65,65,64,65,67,51,48,37,33,30,40,38,25,22,20,20,77]
["South Yardley","Yardley","E05001206",15294,310,276,300,307,294,300,295,280,292,227,242,250,251,229,222,223,196,240,192,180,197,198,186,193,189,200,263,245,230,238,253,255,234,207,243,200,236,233,238,211,207,227,234,222,202,200,172,201,206,189,201,200,164,155,149,178,146,144,143,105,119,130,103,109,120,110,89,96,88,78,73,90,87,70,67,74,63,59,70,67,42,53,50,35,29,24,20,12,18,15,34,15582,283,318,291,282,269,249,267,231,233,212,225,226,185,236,236,214,215,225,183,201,212,189,190,267,275,249,251,267,278,302,249,268,252,234,235,231,210,206,210,243,212,187,193,184,192,196,192,232,198,180,190,169,165,168,158,125,152,140,130,123,123,126,100,108,138,85,109,92,115,101,96,89,86,106,83,79,81,69,81,67,79,65,56,53,60,40,37,34,18,30,91]
["Sparkbrook","Hall Green","E05001207",16550,349,348,347,354,338,356,329,300,321,347,311,319,317,307,275,283,284,288,289,277,287,299,263,265,315,326,313,311,326,306,295,284,251,254,262,301,234,207,250,218,178,192,195,193,183,154,165,159,150,127,122,141,128,141,145,118,122,119,114,112,87,104,73,78,61,51,64,59,66,58,51,79,58,78,66,71,72,65,70,50,54,56,24,36,36,24,19,11,12,12,41,15962,310,278,324,329,298,312,293,288,314,303,291,314,274,310,286,298,270,258,303,305,262,260,279,301,285,351,287,266,276,257,295,276,252,260,201,220,183,190,193,197,201,214,200,191,173,165,180,149,164,144,130,138,146,140,146,139,120,127,108,104,72,101,97,107,88,72,70,78,69,71,63,77,75,69,81,66,88,71,55,53,52,67,18,31,27,18,16,21,14,12,35]
["Springfield","Hall Green","E05001208",15837,306,289,336,335,316,316,276,288,311,272,258,252,287,286,258,240,260,275,253,270,237,254,243,270,268,277,275,268,284,294,288,271,275,239,228,260,210,226,228,244,226,218,193,162,194,165,144,153,149,145,139,150,143,138,141,144,151,143,150,125,115,106,89,93,67,64,63,64,82,86,75,72,78,85,66,76,69,67,64,41,52,64,34,29,28,27,21,22,8,12,22,15595,294,274,301,279,267,272,295,283,280,278,264,261,253,264,287,250,228,249,223,229,220,203,250,261,300,258,270,292,293,281,291,279,253,232,242,232,203,230,202,198,183,236,187,190,173,166,155,161,151,151,147,136,138,122,149,168,136,129,122,113,111,116,107,95,95,106,86,86,75,84,74,79,68,89,93,67,64,75,58,66,52,61,48,45,38,35,32,30,22,30,74]
["Stechford and Yardley North","Yardley","E05001209",12575,216,207,213,202,192,209,219,191,179,187,173,197,195,205,217,210,167,196,191,196,179,172,170,174,146,183,206,160,168,176,154,173,154,145,130,135,148,156,201,148,178,189,159,157,152,166,191,167,155,162,178,126,149,154,138,139,145,133,135,124,110,126,123,126,133,90,99,104,94,81,60,86,88,89,74,64,72,74,65,62,63,52,47,45,46,41,23,24,18,14,45,13214,202,209,186,202,201,195,172,179,188,174,178,190,182,186,182,192,183,201,197,171,170,167,175,194,186,185,179,186,166,176,172,197,185,175,182,153,165,166,170,158,198,176,194,187,179,202,196,180,185,157,187,156,147,165,137,141,111,118,106,97,97,110,121,129,123,117,100,101,102,102,96,79,92,99,95,90,82,73,88,78,66,67,74,66,59,59,53,49,44,36,171]
["Stockland Green","Erdington","E05001210",12083,229,185,171,188,178,176,148,133,144,143,156,135,137,149,153,142,148,191,152,166,175,202,191,211,189,196,217,198,225,223,201,228,179,205,182,166,178,169,185,160,187,171,158,148,176,203,187,188,178,180,136,166,155,149,142,138,118,134,135,83,109,110,94,114,101,96,75,81,64,76,66,52,81,59,62,67,58,52,62,43,43,37,33,30,31,29,34,28,16,10,34,12310,198,172,192,169,163,141,151,132,151,106,118,143,138,157,131,138,143,150,149,183,197,197,171,202,241,222,227,237,242,221,218,187,196,148,190,184,176,168,163,164,176,175,202,164,170,162,194,201,169,223,156,142,165,129,142,124,105,113,103,89,104,117,94,112,116,74,67,76,79,84,73,75,72,92,77,82,60,57,59,64,58,74,58,42,55,39,37,30,26,34,143]
["Sutton Four Oaks","Sutton Coldfield","E05001211",11540,112,114,132,157,162,148,139,146,139,151,153,156,168,152,148,138,136,136,129,119,82,87,110,119,111,108,84,94,110,105,103,103,102,124,111,142,127,153,131,169,181,177,179,193,190,185,193,187,168,169,162,149,147,162,154,146,141,132,149,123,141,133,149,157,183,149,151,164,146,117,95,94,101,120,99,91,106,85,103,99,107,92,67,76,65,50,45,36,30,27,65,12399,110,122,121,145,137,149,126,140,138,133,134,152,143,142,155,157,135,168,148,82,66,80,96,119,101,122,84,99,95,109,113,119,134,125,130,142,146,134,143,153,211,184,176,212,170,179,203,214,192,191,167,163,183,140,147,177,129,142,151,161,131,150,152,181,197,160,192,158,137,122,107,120,139,141,130,145,141,109,109,127,127,120,93,88,79,79,57,69,62,51,187]
["Sutton New Hall","Sutton Coldfield","E05001212",10844,105,98,100,124,129,115,132,138,127,111,134,147,137,142,138,124,159,123,133,120,104,82,105,106,128,98,119,115,105,121,102,120,117,97,108,119,126,135,154,130,142,147,176,147,164,171,153,186,164,191,159,160,190,179,157,155,171,169,164,170,124,171,167,187,194,139,125,147,109,98,95,89,111,66,70,73,87,53,70,66,72,60,62,46,39,37,29,25,29,13,49,11537,106,109,123,109,107,133,111,112,103,99,121,115,115,117,129,149,136,113,129,93,108,91,115,98,113,100,111,107,106,114,119,115,108,140,106,116,133,137,144,151,168,161,174,170,179,204,194,211,180,185,160,182,159,162,172,164,167,156,166,159,169,173,169,192,201,126,123,135,134,112,94,87,106,112,113,111,97,97,90,102,85,109,86,76,77,70,66,52,46,43,150]
["Sutton Trinity","Sutton Coldfield","E05001213",12215,155,137,139,151,162,146,175,158,152,149,141,169,177,179,159,162,158,181,177,150,120,102,130,130,133,145,119,146,147,148,147,153,119,141,146,137,122,155,143,182,170,177,190,192,191,179,205,185,173,188,196,173,162,175,171,135,147,146,157,141,130,160,136,156,169,131,120,138,122,110,86,107,95,88,87,86,104,79,73,84,68,67,78,61,51,47,36,39,30,26,56,12988,120,170,163,137,117,133,154,147,147,114,144,129,183,164,153,170,202,153,156,116,107,114,140,146,148,154,161,144,156,120,143,146,143,139,147,146,161,171,158,177,202,169,191,208,184,222,215,210,196,202,191,196,187,174,154,138,156,153,156,155,137,151,156,155,172,129,163,169,126,132,105,103,119,117,104,100,103,106,102,87,113,81,78,84,98,76,59,53,54,39,165]
["Sutton Vesey","Sutton Coldfield","E05001214",11352,102,127,126,132,127,142,102,119,128,119,135,149,148,126,145,132,149,156,151,126,106,129,130,134,126,154,147,118,135,115,115,119,104,98,138,141,129,142,132,150,137,165,161,182,204,166,181,190,192,192,162,198,190,166,148,128,146,145,172,144,147,158,164,151,161,129,101,158,138,103,96,82,105,101,91,82,67,85,94,70,61,60,54,69,50,35,34,29,36,22,47,11959,125,101,102,120,124,131,122,121,112,124,133,130,118,136,153,147,152,144,157,104,95,92,106,129,152,105,121,108,139,119,119,121,136,120,137,135,146,136,153,170,162,167,153,177,184,198,179,201,199,197,177,190,193,166,156,163,146,153,156,163,143,162,147,169,161,124,140,143,138,120,93,110,124,118,115,111,113,91,83,107,91,83,89,73,75,64,67,59,49,43,179]
["Tyburn","Erdington","E05001215",12051,185,177,189,181,202,189,187,194,177,174,165,191,185,183,206,177,203,211,185,176,152,165,146,170,178,147,137,164,148,149,191,136,150,133,118,157,129,150,153,168,155,195,186,176,201,167,177,178,176,147,172,159,133,119,151,135,131,138,107,110,97,94,89,104,121,105,112,93,89,86,74,79,72,77,87,77,88,61,56,94,51,57,69,38,32,34,28,16,24,18,38,13266,177,178,174,193,186,175,178,177,174,178,173,205,175,180,216,199,177,195,184,191,149,172,150,173,193,176,175,187,224,190,183,194,175,178,156,166,174,169,160,198,191,207,216,200,198,200,210,197,200,188,189,160,143,123,133,103,127,126,126,118,112,110,122,111,122,106,101,115,104,96,89,93,99,98,94,98,89,90,78,87,83,66,80,59,63,50,40,38,47,33,111]
["Washwood Heath","Hodge Hill","E05001216",16625,320,327,355,398,361,371,337,400,356,379,345,367,353,374,341,341,325,319,316,290,288,264,259,269,267,260,257,292,256,275,276,295,304,261,280,239,250,228,258,242,196,233,214,185,167,168,131,154,147,138,127,125,111,121,97,132,112,115,109,112,90,78,54,70,51,38,52,47,50,53,61,58,65,63,56,76,59,40,39,42,43,50,38,19,32,20,20,14,8,16,34,16358,322,311,389,347,350,385,357,335,334,352,327,345,305,332,333,285,298,290,286,247,247,249,239,256,288,257,276,299,258,282,288,290,260,263,243,221,247,212,232,238,256,202,215,202,173,162,141,134,137,124,124,130,129,138,119,105,118,134,114,93,77,74,68,90,84,66,58,62,73,73,53,72,65,70,64,74,81,50,58,49,55,49,33,44,27,25,22,19,18,18,62]
["Weoley","Northfield","E05001217",12438,213,222,228,218,217,208,177,165,170,166,173,164,199,201,181,178,179,206,189,187,188,173,177,148,154,162,174,164,170,169,159,159,162,148,165,162,182,173,160,173,156,180,180,175,154,172,146,172,174,139,150,158,132,147,138,125,121,123,151,141,123,97,120,113,122,110,96,110,85,92,85,83,67,80,72,77,60,78,59,63,57,62,55,46,32,35,31,30,24,25,52,13500,185,183,213,195,187,193,195,161,164,139,142,170,176,185,167,212,194,171,186,185,168,175,188,179,199,174,172,165,203,198,184,207,165,167,177,191,177,182,155,185,197,199,179,175,211,176,184,185,204,196,170,175,157,167,178,137,152,124,120,129,126,116,124,130,133,120,104,125,111,91,72,91,109,105,92,87,82,81,105,92,80,105,67,73,74,76,50,40,35,40,135]
[null,null,null,{"$f":"SUM(D5:D44)","v":528845},{"$f":"SUM(E5:E44)","v":8532},8407,8544,8520,8373,8084,7815,7636,7616,7259,7283,7508,7646,7565,7778,7391,7360,7671,7878,9355,10106,9676,8962,8751,8399,8633,8862,8423,8523,8430,8438,8247,7860,7349,7340,7238,7116,7091,7183,7242,7207,7251,7135,7138,6976,6772,6789,6670,6723,6545,6078,5880,5650,5737,5344,5139,5159,5122,5115,4790,4511,4552,4379,{"$f":"SUM(BP5:BP44)","v":4503},4757,3837,3772,3868,3590,3273,2878,3091,3205,2978,2787,2775,2679,2426,2401,2298,2134,1975,1776,1503,1411,1200,990,848,791,651,1696,545438,8107,7947,8169,7990,7522,7810,7602,7199,6910,6793,6936,6992,7068,7288,7359,7347,7154,7267,7687,9925,10572,9930,9406,9295,9241,8719,8667,8502,8688,8415,8632,8751,7977,7445,7295,{"$f":"SUM(EB5:EB44)","v":7259},6945,6820,7069,7333,7464,7387,7246,7241,7134,7182,7054,6977,6784,6789,6375,6097,5946,5676,5502,5172,5082,5001,4987,4742,4544,4797,4531,4832,4926,3944,4064,4112,4016,3595,3248,3502,3487,3555,3481,3442,3133,2952,2884,2985,2840,2716,2382,2281,2201,1999,1796,1658,1442,1357,4865]
[null,"Males "]
[null,"Females"]
["Crown Copyright 2014"]
[]
["Office for National Statistics"]

{"sheet":"2016 syoa","index":21,"n_rows":50,"n_cols":187,"rows_kept":50,"cut":false,"hidden":false,"merged":[[3,3,3,21],[3,22,3,40],[3,95,3,186]]}
["2016 Birmingham Ward population (experimental statistics)",null,null,null,null,"Estimates should be aggregated to at least five-year age groups before publication"]
[{"$f":"1","v":1},{"$f":"1+A2","v":2},{"$f":"1+B2","v":3},4,5,6,7,8,9,10,11,12,13,14,15,16,17,18,19,20,21,22,23,24,25,26,27,28,29,30,31,32,33,34,35,36,37,38,39,40,41,42,43,44,45,46,47,48,49,50,51,52,53,54,55,56,57,58,59,60,61,62,63,64,65,66,{"$f":"1+BN2","v":67},68,69,70,71,72,73,74,75,76,77,78,79,80,81,82,83,84,85,86,87,88,89,90,91,92,93,94,95,96,97,98,99,100,101,102,103,104,105,106,107,108,109,110,111,112,113,114,115,116,117,118,119,120,121,122,123,124,125,126,127,128,129,130,{"$f":"1+DZ2","v":131},132,133,134,135,136,137,138,139,140,141,142,143,144,145,146,147,148,149,150,151,152,153,154,155,156,157,158,159,160,161,162,163,164,165,166,167,168,169,170,171,172,173,174,175,176,177,178,179,180,181,182,183,184,185,186,187]
["ward","constituency","code","All males",0,1,2,3,4,5,6,7,8,9,10,11,12,13,14,15,16,17,18,19,20,21,22,23,24,25,26,27,28,29,30,31,32,33,34,35,36,37,38,39,40,41,42,43,44,45,46,47,48,49,50,51,52,53,54,55,56,57,58,59,60,61,62,63,64,65,66,67,68,69,70,71,72,73,74,75,76,77,78,79,80,81,82,83,84,85,86,87,88,89,90,"all females",0,{"$f":"CS3+1","v":1},{"$f":"CT3+1","v":2},3,4,5,6,7,8,9,10,11,12,13,14,15,16,17,18,19,20,21,22,23,24,25,26,27,28,29,30,31,32,33,34,35,36,37,38,39,40,41,42,43,44,45,46,47,48,49,50,51,52,53,54,55,56,57,58,59,60,61,62,63,64,65,{"$f":"FF3+1","v":66},67,68,69,70,71,72,73,74,75,76,77,78,79,80,81,82,83,84,85,86,87,88,89,90]
[null,null,null,"males"]
["Acocks Green","Yardley","E05001178",14555,233,245,244,233,252,243,216,270,214,246,201,182,214,217,210,188,205,247,202,233,227,205,222,236,211,244,210,196,211,258,198,239,217,237,224,197,220,226,191,173,179,188,170,170,168,209,195,190,185,175,187,170,172,181,187,160,147,135,136,135,125,125,113,124,132,109,118,107,89,98,88,71,85,77,67,87,71,60,61,49,47,35,52,42,45,27,49,26,25,18,57,14951,239,226,247,235,228,244,241,221,233,224,219,178,177,179,177,195,165,205,207,210,199,179,220,189,189,237,251,232,237,270,248,232,208,198,244,222,246,209,182,184,204,179,179,185,200,183,200,220,230,198,183,183,175,185,188,187,169,142,131,170,136,111,106,111,104,105,105,117,107,119,92,79,92,86,90,61,79,74,75,82,75,74,58,52,51,51,50,38,26,36,192]
["Aston","Ladywood","E05001179",17327,333,308,308,341,269,317,311,295,331,265,314,291,294,271,275,311,295,323,326,377,475,467,415,394,358,315,310,311,273,277,275,272,265,271,272,271,268,253,234,263,237,223,224,223,198,166,212,156,179,164,164,155,134,145,138,136,108,106,113,98,102,103,93,126,95,57,68,46,59,62,52,41,42,50,52,41,40,46,40,35,50,57,34,36,30,21,22,20,17,18,99,16991,310,297,315,276,326,284,266,332,282,266,293,278,290,257,235,273,273,274,278,393,523,491,407,405,360,299,284,262,255,282,286,250,245,255,247,247,247,213,205,202,222,206,183,227,184,196,199,161,173,182,155,155,166,147,157,145,134,100,111,98,112,109,99,94,93,85,84,82,67,62,53,59,45,63,63,64,78,65,57,73,45,49,41,30,38,38,30,28,30,21,70]
["Bartley Green","Edgbaston","E05001180",12290,200,200,207,174,216,205,192,224,186,174,176,176,169,150,176,180,186,160,180,157,180,179,193,167,192,175,179,132,139,144,159,150,156,170,154,157,150,170,146,141,142,168,155,141,160,137,127,147,160,136,161,153,161,170,154,156,118,125,146,126,105,140,117,130,115,139,104,113,129,144,114,116,96,102,74,66,58,55,64,34,63,49,36,41,28,37,37,32,9,22,57,13589,217,204,197,187,193,190,179,196,173,170,196,175,161,143,155,173,153,154,158,189,195,181,184,179,216,248,209,200,180,188,176,188,167,174,182,199,203,185,162,163,167,178,170,201,180,176,174,171,157,162,171,182,159,163,181,145,143,160,156,131,129,131,168,133,136,133,123,165,149,157,121,90,96,115,84,69,84,70,60,78,64,61,63,60,44,52,45,44,35,38,123]
["Billesley","Selly Oak","E05001181",12987,208,193,208,238,240,203,175,199,202,207,151,189,142,144,168,178,183,205,192,179,188,179,162,163,173,243,192,176,194,186,190,183,188,154,182,170,167,166,142,145,134,132,136,156,152,150,170,169,169,176,154,161,144,171,149,153,171,145,158,122,141,143,146,125,134,118,128,109,119,109,93,86,96,77,74,70,80,81,92,53,59,55,44,44,41,44,43,26,26,26,86,13943,217,205,190,204,207,196,176,194,180,149,179,205,177,170,155,162,138,154,168,162,154,164,178,159,163,247,200,214,213,199,235,210,185,209,175,196,228,188,159,170,149,149,149,150,161,178,176,180,187,187,206,195,201,192,209,174,167,141,161,147,154,150,115,125,125,129,139,112,135,126,101,100,103,100,78,76,93,88,93,98,93,77,70,82,78,53,59,41,39,34,184]
["Bordesley Green","Hodge Hill","E05001182",17835,336,332,365,392,392,359,393,372,386,379,376,388,358,370,356,350,341,360,337,370,300,303,279,289,242,304,299,252,266,249,261,282,267,267,244,264,264,252,228,231,228,224,221,237,213,198,216,200,199,172,182,138,135,130,126,128,122,109,128,132,111,118,82,107,89,85,75,51,56,56,49,37,52,61,51,49,55,47,54,68,53,53,42,45,39,24,33,19,21,15,45,18152,342,357,341,391,369,375,376,397,369,347,404,382,355,347,367,362,347,327,312,306,324,278,290,268,262,254,260,262,287,266,271,305,283,273,261,267,303,241,223,245,250,229,219,241,222,207,216,190,187,172,144,160,138,119,148,130,144,115,112,111,114,135,103,102,88,75,83,61,72,72,65,64,64,61,53,68,93,66,61,65,79,58,55,52,53,49,50,22,18,24,77]
["Bournville","Selly Oak","E05001183",12327,165,162,169,162,171,177,157,175,160,175,136,140,146,158,132,117,149,137,161,123,148,143,182,163,163,173,176,168,150,165,181,184,188,186,162,189,195,178,164,179,136,163,162,152,165,183,157,156,161,171,179,202,181,196,191,146,145,155,149,127,153,128,133,122,138,119,114,134,127,136,104,110,105,79,68,58,66,84,54,49,71,38,40,38,46,41,39,31,25,27,64,13510,194,174,164,155,155,186,157,138,182,164,165,167,148,129,123,135,133,148,159,131,134,129,165,148,168,217,182,182,161,181,169,183,186,182,187,213,194,175,176,148,163,179,159,190,196,214,182,194,197,191,200,180,189,191,187,187,154,160,176,162,146,127,142,171,138,149,150,139,146,139,87,121,114,117,93,96,102,91,87,79,78,66,77,60,71,63,65,49,57,44,208]
["Brandwood","Selly Oak","E05001184",12645,208,207,208,216,202,166,185,207,159,193,171,160,177,158,163,164,170,185,186,175,152,152,154,174,162,221,162,173,145,157,194,169,154,174,152,162,152,177,135,161,168,143,158,164,156,175,162,169,168,161,168,182,187,176,169,155,140,139,140,151,119,131,118,108,137,114,119,124,108,115,90,94,79,101,82,91,68,95,61,76,63,57,51,47,35,38,33,30,14,16,58,13222,179,181,202,211,185,192,172,178,172,162,160,148,157,142,137,127,153,137,139,129,153,143,158,169,195,197,191,175,185,178,161,178,175,172,184,191,202,204,145,157,195,173,153,177,177,204,189,189,224,188,188,186,184,154,159,172,139,145,141,134,108,147,145,131,119,127,134,123,109,149,115,94,132,111,112,76,89,93,92,79,73,61,57,50,55,63,45,38,36,50,162]
["Edgbaston","Edgbaston","E05001185",14394,155,159,128,127,139,136,117,118,139,114,99,100,105,101,90,146,156,144,373,1393,683,457,395,367,334,389,313,303,266,281,228,201,191,220,176,175,182,176,150,165,160,167,139,149,140,187,176,173,142,159,129,146,137,132,140,111,98,110,107,96,95,94,95,103,87,91,101,70,77,72,77,85,85,68,50,56,62,63,60,58,46,50,36,32,30,30,26,21,17,21,47,13626,144,141,109,130,121,121,130,100,112,93,96,88,91,96,89,136,150,160,492,1741,702,462,403,426,362,276,244,206,200,173,191,210,170,186,167,141,168,148,127,127,126,111,108,135,137,114,142,107,120,121,124,126,85,104,93,93,95,91,102,87,81,73,81,93,77,86,85,86,88,79,71,69,69,70,70,65,52,54,49,62,40,27,30,42,43,39,45,43,36,37,134]
["Erdington","Erdington","E05001186",11814,222,209,200,185,196,178,169,177,177,177,141,136,143,139,92,109,140,116,128,126,145,141,153,150,139,212,179,177,163,188,179,201,161,189,165,191,175,161,143,133,153,123,138,151,131,146,151,148,147,161,166,177,164,158,169,155,143,142,147,121,132,145,124,103,117,98,107,106,106,86,94,76,100,82,89,69,50,61,62,55,44,73,40,44,47,43,25,26,22,28,64,12307,201,167,212,184,147,162,163,146,143,132,109,149,128,114,123,111,135,118,127,133,153,155,158,161,165,228,189,192,205,195,197,187,185,191,197,172,186,154,165,162,147,147,137,129,148,164,158,162,149,158,158,187,151,185,136,132,167,144,145,137,117,113,93,118,96,135,104,105,119,108,103,94,112,99,86,79,76,81,79,74,86,89,81,59,70,62,46,40,42,39,160]
["Hall Green","Hall Green","E05001187",13345,208,189,183,187,184,197,214,215,207,190,202,224,204,211,185,199,189,207,206,202,174,176,178,161,177,199,165,182,169,158,175,180,180,170,170,178,182,165,167,163,147,187,197,172,175,169,181,169,177,185,173,196,141,174,180,150,151,153,143,146,127,133,138,119,138,103,106,94,126,127,82,103,93,94,75,73,81,77,73,51,59,68,56,50,38,48,34,26,29,29,57,13817,205,199,167,188,181,195,160,194,203,203,164,158,180,163,174,160,186,194,187,154,163,151,163,157,161,174,175,180,178,197,190,192,178,167,170,177,192,193,182,174,185,186,167,173,196,177,195,184,196,194,180,165,187,171,192,164,180,172,141,153,141,146,154,156,108,128,117,126,131,139,101,122,130,128,102,69,90,86,70,91,86,87,81,72,71,58,60,64,42,45,129]
["Handsworth Wood","Perry Barr","E05001188",14280,192,206,212,214,224,203,208,179,174,181,221,205,212,203,212,187,203,209,205,211,213,207,253,242,232,256,265,267,227,224,238,222,232,227,220,257,196,187,190,196,189,190,201,159,201,188,182,195,200,173,160,153,178,185,182,157,176,160,164,138,130,130,132,136,117,111,117,107,87,88,66,69,54,57,53,54,62,52,45,64,47,55,46,39,35,28,34,28,21,13,60,14386,192,193,186,194,200,179,156,201,196,163,181,200,172,173,179,186,199,199,198,208,238,229,257,235,234,244,254,227,220,211,255,199,226,224,183,224,243,202,198,169,193,183,186,184,165,175,174,165,197,203,175,196,218,235,214,185,175,161,151,130,138,128,143,143,126,110,125,91,89,85,76,57,71,75,54,74,91,73,77,63,77,61,59,59,53,43,44,32,31,39,107]
["Harborne","Edgbaston","E05001189",12432,190,160,168,177,158,146,154,149,136,145,131,122,122,112,96,122,123,107,104,96,153,146,215,276,314,293,325,234,256,283,200,238,228,236,216,219,195,175,185,181,192,192,159,175,183,177,164,166,153,162,129,146,138,140,140,119,109,111,113,110,114,108,115,107,103,111,105,104,97,108,78,100,92,57,68,63,63,69,57,54,48,37,36,29,42,32,31,22,30,15,73,12584,181,133,178,170,155,131,135,138,137,129,140,111,118,109,92,101,110,115,106,110,134,198,272,358,396,281,293,278,235,232,195,192,178,211,194,235,207,199,190,159,169,146,158,161,136,149,137,151,138,122,136,126,140,108,132,129,120,128,120,99,112,114,88,123,123,97,85,118,114,129,75,96,90,79,72,74,78,75,70,77,69,63,58,64,55,66,58,43,53,39,186]
["Hodge Hill","Hodge Hill","E05001190",14687,284,295,303,259,324,298,263,273,309,281,252,287,245,266,275,259,230,242,228,234,248,224,217,216,218,232,214,196,186,212,203,216,200,169,206,217,244,202,198,174,175,152,164,164,170,166,174,175,189,148,158,153,151,151,144,136,128,107,116,115,115,103,105,83,85,121,96,91,95,96,86,76,73,65,61,65,82,85,65,49,32,48,44,35,30,36,25,23,15,19,48,15097,244,253,241,282,252,271,255,283,244,276,270,266,253,236,274,262,249,266,234,252,222,203,224,185,185,233,261,222,193,256,205,207,214,229,221,220,212,209,212,187,172,198,167,200,191,176,200,204,182,180,169,159,156,145,132,116,137,134,115,131,109,91,87,105,93,93,101,84,97,80,64,81,72,79,84,81,84,71,73,96,64,73,59,66,58,49,50,43,33,31,119]
["Kings Norton","Northfield","E05001191",11652,189,194,207,167,191,213,175,186,194,188,159,160,172,192,124,133,168,151,164,166,135,143,164,145,131,202,165,163,147,149,132,128,139,140,135,140,149,140,118,151,121,150,129,126,138,154,167,140,151,168,148,155,154,138,133,145,144,126,126,135,84,98,119,123,121,108,127,131,133,138,112,98,100,90,73,54,71,77,66,58,77,40,54,44,34,25,23,20,16,14,67,12881,197,160,194,204,211,184,155,178,209,160,189,169,133,130,148,146,134,143,152,127,165,159,161,132,171,219,184,193,174,177,181,164,171,184,166,140,183,159,147,158,152,154,160,158,174,154,154,174,186,169,157,181,160,147,147,167,136,142,134,144,109,117,122,117,130,139,143,141,159,153,114,100,113,121,95,91,83,79,84,66,92,71,51,56,61,62,48,52,44,36,171]
["Kingstanding","Erdington","E05001192",12283,219,237,240,240,233,209,213,205,219,213,205,186,195,169,163,193,181,218,226,198,156,155,178,168,167,194,175,178,163,149,152,153,147,178,147,148,128,124,128,137,125,139,125,148,164,135,139,144,162,154,147,171,164,169,157,173,137,145,144,134,115,120,115,97,94,108,99,84,107,93,80,74,89,61,69,57,63,59,43,44,51,37,42,33,35,28,29,22,16,15,41,13470,183,186,198,207,231,192,187,205,199,180,220,206,178,168,178,196,189,173,208,166,172,170,202,170,183,220,196,197,183,225,165,198,182,194,166,177,188,177,180,163,184,166,167,156,154,191,171,173,176,187,190,214,166,180,190,170,125,132,156,145,140,139,119,109,128,90,103,75,118,83,116,104,88,104,95,70,70,67,79,72,57,62,54,43,41,34,42,35,38,33,111]
["Ladywood","Ladywood","E05001193",19830,220,192,177,174,192,169,144,142,121,111,134,103,105,99,82,105,123,97,129,228,488,581,687,868,903,859,913,805,838,760,645,625,520,529,488,395,376,348,272,278,279,237,239,221,209,222,203,186,188,195,179,156,160,162,143,139,117,126,105,114,87,88,87,89,72,66,59,53,59,51,36,41,53,39,43,22,34,22,28,26,39,16,25,20,23,9,11,7,6,5,9,16594,187,204,187,173,158,159,139,124,119,105,146,120,131,120,86,92,82,117,172,329,574,625,737,913,938,705,719,680,595,579,470,447,380,346,301,318,258,206,198,201,166,163,151,139,125,137,137,135,118,101,127,107,126,106,96,83,106,89,71,90,60,63,60,62,45,59,43,50,45,44,38,35,46,29,30,30,37,31,29,30,19,27,20,16,17,25,21,9,10,8,43]
["Longbridge","Northfield","E05001194",12619,207,214,221,194,208,210,209,189,199,196,175,174,163,149,157,160,174,175,150,186,178,135,161,162,167,194,168,182,142,160,160,181,152,169,165,162,173,176,162,145,156,150,135,157,170,145,141,174,158,186,180,161,165,153,178,158,149,140,143,133,139,146,135,139,133,120,123,136,118,155,117,95,76,83,88,45,77,65,77,53,53,53,39,43,23,27,29,21,15,19,41,13649,195,211,215,176,194,184,180,168,180,147,175,172,161,159,153,145,150,172,168,149,169,180,165,168,176,227,217,196,190,194,204,184,173,189,200,209,217,205,179,152,162,149,162,181,192,209,171,188,177,212,183,186,187,166,175,177,173,172,135,151,156,144,173,144,145,136,139,136,143,146,101,93,98,86,82,71,67,58,65,79,69,52,44,57,63,67,48,39,39,35,118]
["Lozells and East Handsworth","Perry Barr","E05001195",17109,281,300,312,299,334,282,262,341,311,298,345,268,295,314,314,280,275,273,241,307,305,261,304,293,265,280,284,282,292,303,292,306,285,293,286,286,294,263,247,248,241,236,222,214,241,230,229,194,211,183,157,142,168,182,169,154,154,139,140,118,113,102,110,110,98,96,75,43,52,45,50,50,62,50,62,49,64,57,55,45,50,55,40,47,48,38,26,20,13,15,44,16000,266,284,249,278,278,276,265,282,288,287,299,284,274,275,264,245,265,244,248,256,289,262,267,258,265,259,285,263,287,278,249,244,234,229,254,263,280,275,244,248,221,190,187,221,206,214,182,170,167,170,184,159,172,186,134,140,124,124,123,128,123,107,104,125,101,85,80,62,76,64,60,57,72,71,70,49,69,56,63,56,55,48,41,34,34,26,36,33,26,17,58]
["Moseley and Kings Heath","Hall Green","E05001196",13009,170,146,156,157,165,150,159,159,142,144,157,126,121,132,116,135,127,159,158,151,159,154,177,192,220,243,260,232,254,264,247,225,237,224,218,210,206,211,201,191,210,182,178,195,192,201,188,182,213,198,180,173,164,176,144,130,154,135,160,144,146,121,123,160,123,111,123,107,111,107,74,88,63,61,63,51,51,57,48,55,53,54,53,50,30,25,31,20,21,14,61,12609,170,140,165,162,152,126,132,136,144,140,127,107,123,115,113,133,145,132,129,100,164,141,169,190,232,283,229,227,221,243,254,207,212,216,182,214,205,170,174,164,196,184,164,158,181,170,186,189,158,163,176,160,170,148,172,154,144,127,141,145,135,121,134,129,112,127,135,99,117,125,94,85,76,80,58,68,62,71,51,72,56,60,52,54,58,35,38,40,27,26,138]
["Nechells","Ladywood","E05001197",19844,365,361,347,339,369,318,303,301,316,317,322,257,277,262,257,282,302,298,417,713,687,667,642,630,578,482,457,401,391,361,328,323,307,262,306,264,272,242,215,214,245,228,209,210,175,203,213,197,194,169,167,153,154,140,155,129,140,153,137,106,112,107,92,104,86,56,79,55,64,73,55,56,72,48,50,36,52,48,50,45,44,37,27,34,24,27,15,9,9,13,36,19260,287,364,330,346,347,302,289,345,266,285,297,260,258,246,219,267,249,238,404,934,794,644,670,635,614,422,369,351,365,336,329,300,291,287,278,277,272,239,227,233,210,184,188,162,183,180,185,160,156,158,154,129,161,151,137,140,129,110,102,90,99,102,75,72,87,76,80,68,60,61,48,71,63,50,54,54,59,56,56,44,54,48,41,37,38,30,22,28,20,25,47]
["Northfield","Northfield","E05001198",12796,212,182,172,178,193,175,156,165,185,174,187,176,159,143,138,111,131,142,161,155,184,165,169,167,183,229,179,169,165,148,182,176,148,147,140,166,154,130,148,132,119,133,154,172,170,156,171,172,172,186,207,204,189,196,165,182,171,154,164,146,155,133,126,138,140,144,149,158,119,164,111,116,123,122,78,81,74,81,65,57,64,61,45,69,51,38,32,30,23,18,72,13455,213,175,157,202,189,156,143,149,137,131,167,124,144,120,138,131,154,153,165,141,167,189,183,172,199,236,197,166,173,206,190,169,161,153,147,164,157,156,158,139,145,167,169,167,187,175,177,185,202,183,187,213,202,199,216,165,155,173,153,169,129,154,125,150,134,141,157,136,150,155,102,147,103,122,110,91,97,100,96,101,96,70,73,75,72,54,57,55,43,44,156]
["Oscott","Perry Barr","E05001199",12091,196,197,183,189,199,168,181,160,154,176,146,164,139,133,122,166,163,143,134,149,201,171,171,181,181,191,172,165,168,171,173,180,133,164,158,170,167,140,129,124,121,142,150,142,164,142,149,167,189,152,160,147,166,190,168,163,145,134,134,126,133,127,119,118,103,87,106,102,118,124,85,93,119,98,87,66,83,91,86,72,71,44,44,54,43,42,43,20,14,14,62,12978,199,194,172,188,201,149,157,171,188,143,143,141,147,140,135,141,147,156,160,150,128,156,176,163,156,214,185,200,242,194,173,154,169,179,170,161,159,145,143,140,140,150,155,160,154,187,203,216,173,214,224,173,189,157,207,169,156,166,144,122,118,118,118,87,108,121,104,113,117,139,126,118,131,125,99,83,64,86,81,95,82,68,71,85,60,54,46,52,43,36,142]
["Perry Barr","Perry Barr","E05001200",11888,173,199,174,195,169,192,188,195,173,192,167,193,159,166,177,155,179,152,188,226,214,210,193,186,192,188,202,187,199,165,184,196,159,165,168,175,162,156,158,149,131,159,144,123,135,176,159,171,153,126,137,157,116,148,140,120,119,101,116,116,112,99,81,98,99,83,80,80,88,75,86,98,77,66,70,61,59,51,60,55,56,40,50,31,29,31,19,14,18,10,45,12386,177,176,175,165,180,200,170,174,176,157,163,166,157,137,145,168,142,159,203,289,234,234,209,213,219,193,184,161,186,154,215,170,171,169,166,178,174,176,161,144,172,131,139,112,167,153,152,152,139,174,165,153,160,166,158,145,125,139,126,140,103,82,88,75,83,70,99,88,102,126,72,76,88,89,76,74,74,70,66,54,85,55,58,48,44,54,46,38,22,25,98]
["Quinton","Edgbaston","E05001201",11772,181,198,189,215,193,180,173,177,195,175,177,169,186,145,143,157,155,177,156,144,143,148,160,144,157,162,160,145,162,149,154,190,157,155,175,124,151,156,131,132,161,145,150,161,175,149,165,151,145,152,140,144,152,148,155,151,121,138,117,92,97,125,124,120,111,105,88,100,88,128,103,102,81,91,77,71,58,70,61,63,55,59,54,48,49,35,26,36,25,14,56,12618,191,179,187,199,166,189,170,177,157,167,187,139,165,156,141,157,132,149,138,158,142,141,151,135,148,196,163,181,185,162,188,192,173,170,187,179,184,199,166,167,173,157,141,159,178,189,195,172,170,167,163,170,138,143,140,164,148,146,132,136,120,116,120,105,105,106,120,117,124,133,107,103,93,99,75,91,69,66,86,93,93,74,69,69,52,45,44,44,34,30,122]
["Selly Oak","Selly Oak","E05001202",14271,102,111,93,111,116,89,102,107,85,83,68,83,73,65,76,89,94,76,127,476,1410,1602,1360,1087,989,285,271,219,237,198,125,140,131,123,129,136,135,143,131,127,129,119,107,106,121,101,83,91,84,77,67,90,73,79,70,69,76,59,70,63,74,77,79,68,47,69,67,56,53,59,42,43,33,51,53,32,34,46,47,37,32,37,26,28,20,19,17,16,17,15,39,14176,105,119,92,102,91,94,106,89,83,86,65,71,72,65,66,78,68,79,159,669,1826,1857,1355,945,793,251,190,167,138,127,124,103,124,114,112,120,103,112,101,91,116,83,84,87,71,85,81,92,63,77,84,66,86,79,74,72,75,70,74,67,70,59,62,62,54,51,57,50,63,66,40,50,52,42,46,44,56,54,52,39,49,41,33,29,31,23,32,29,28,26,88]
["Shard End","Hodge Hill","E05001203",13164,252,249,261,256,266,244,247,225,234,218,204,209,193,176,143,157,164,178,164,190,168,169,168,172,194,220,212,179,168,175,190,201,207,194,163,151,162,166,134,134,130,139,143,155,181,158,184,164,170,167,160,158,150,150,160,147,151,133,147,115,116,109,127,109,129,103,120,140,128,150,99,105,76,79,76,58,64,63,40,65,47,50,41,42,38,33,18,17,18,13,72,14629,200,232,219,254,253,251,211,232,209,203,210,188,174,152,174,155,129,155,162,155,211,196,214,195,228,281,219,268,245,249,235,215,219,220,207,205,198,198,162,150,146,151,171,192,192,190,190,181,190,195,194,177,174,179,170,176,160,143,153,143,121,137,134,134,114,124,134,106,137,139,99,108,115,98,101,67,64,76,83,67,65,80,55,64,67,45,46,55,40,46,208]
["Sheldon","Yardley","E05001204",11287,178,165,159,179,193,148,165,169,131,139,150,151,148,162,149,140,144,156,136,158,150,140,156,149,147,171,163,173,155,135,173,166,150,148,141,134,120,123,119,133,125,114,120,129,149,150,146,141,152,160,175,164,162,174,156,153,128,148,136,115,100,122,107,98,107,89,104,90,110,104,112,96,105,111,77,61,75,78,71,59,52,59,53,51,39,43,32,29,19,16,55,11806,163,165,161,133,163,161,140,121,154,138,151,127,148,129,130,112,139,130,129,112,151,139,148,157,168,188,186,186,175,167,146,150,150,145,146,153,173,150,136,133,146,135,120,130,149,168,170,157,155,172,189,156,160,181,183,167,152,143,125,128,94,108,117,122,95,102,114,118,91,134,109,102,106,91,93,85,82,90,99,78,92,73,71,65,58,44,62,39,33,31,169]
["Soho","Ladywood","E05001205",16807,317,288,286,318,330,281,287,289,285,305,252,271,283,270,238,245,212,219,236,242,249,265,259,295,310,347,344,327,299,316,322,303,275,328,308,293,313,277,258,230,251,276,225,240,214,237,228,197,203,187,167,171,163,163,171,136,133,130,117,117,98,106,105,102,101,81,66,61,67,59,59,48,48,60,56,52,78,57,41,46,35,33,35,32,26,31,22,25,18,11,50,15953,275,286,263,285,280,278,281,282,300,256,262,259,221,223,215,249,225,213,249,212,276,250,255,257,254,279,263,253,313,261,293,275,277,269,263,300,280,258,202,227,199,210,213,198,217,208,205,188,195,183,161,162,153,163,157,157,147,143,129,99,122,106,102,97,103,80,95,64,93,67,56,53,77,69,58,65,57,63,74,49,57,53,54,41,34,45,40,17,28,32,96]
["South Yardley","Yardley","E05001206",16111,289,299,297,312,293,320,286,310,313,303,289,295,286,274,254,235,214,249,223,231,214,180,231,191,186,290,251,247,250,191,215,243,224,253,249,256,240,242,221,213,202,230,195,197,207,181,197,199,203,174,196,168,174,191,201,170,191,146,148,144,141,141,154,119,106,107,107,85,95,107,89,69,80,67,59,61,67,71,55,50,61,51,38,49,48,31,28,30,16,19,37,16342,298,271,332,298,305,261,284,299,269,264,240,274,216,237,221,208,221,214,217,233,233,226,226,197,236,276,276,287,292,324,262,248,232,234,255,259,263,232,215,241,226,171,195,174,247,203,182,184,177,181,203,182,222,189,191,171,169,145,157,159,118,131,124,113,108,111,127,97,104,115,76,93,68,89,94,71,71,63,79,56,62,55,55,48,50,59,40,25,34,23,79]
["Sparkbrook","Hall Green","E05001207",17144,269,272,353,306,290,335,327,313,325,311,345,314,254,301,310,304,299,328,320,286,293,289,312,287,297,340,327,316,289,333,304,297,306,307,279,260,259,240,234,235,256,214,206,212,203,177,178,187,175,153,164,170,148,137,115,116,140,124,131,129,120,109,118,111,113,66,76,56,57,56,53,53,69,58,58,36,65,56,58,54,51,57,45,42,39,34,29,13,25,15,51,16280,291,260,284,282,267,264,264,322,300,279,298,294,288,268,279,302,316,276,264,274,331,294,271,302,303,277,282,274,294,281,290,261,235,256,248,237,227,222,217,198,214,174,187,186,194,187,207,179,181,157,142,178,141,151,129,120,147,147,132,128,122,107,111,110,95,86,79,88,88,79,65,74,55,51,47,55,69,64,63,64,50,68,48,44,44,43,45,19,17,15,62]
["Springfield","Hall Green","E05001208",16844,287,313,310,323,297,285,304,327,330,300,329,308,306,319,273,276,266,285,294,299,253,255,290,252,261,270,286,270,264,266,300,281,266,277,254,265,262,243,249,235,227,187,215,230,227,211,214,199,170,193,168,154,153,134,152,137,127,137,134,133,125,126,123,133,100,97,92,88,76,60,52,48,48,72,74,55,47,58,68,50,49,56,51,49,36,43,30,22,17,18,49,16561,292,269,302,286,291,310,294,311,280,272,292,299,288,302,270,286,255,253,283,270,273,247,278,244,263,282,264,263,269,271,236,250,251,261,266,291,270,222,242,220,230,194,218,203,179,205,211,176,183,182,146,162,140,136,147,120,142,136,110,134,135,130,125,117,110,107,104,104,92,90,91,71,80,82,77,66,63,59,70,77,57,46,56,40,41,38,34,30,27,25,95]
["Stechford and Yardley North","Yardley","E05001209",13310,223,222,234,237,221,230,233,241,232,236,217,223,191,179,183,193,186,193,195,203,203,157,179,178,175,235,230,188,177,167,185,185,177,182,174,171,163,157,142,134,138,144,143,169,154,169,165,152,166,146,163,174,173,172,169,142,141,148,133,130,142,131,121,118,120,108,125,99,109,110,91,84,88,85,70,64,66,77,60,59,48,63,64,49,43,36,32,34,21,19,52,13872,217,224,228,219,217,195,228,194,217,211,217,200,193,186,192,168,199,183,195,172,189,195,203,215,194,224,203,201,229,210,219,180,210,193,164,171,201,152,177,166,140,177,142,161,172,191,180,167,181,175,179,185,167,166,148,174,151,135,139,127,144,113,125,89,95,82,104,101,122,109,115,92,90,106,83,79,74,92,79,85,70,72,49,69,48,57,50,51,30,31,158]
["Stockland Green","Erdington","E05001210",13251,226,226,198,212,204,185,168,175,167,172,171,154,149,152,150,164,174,172,167,180,204,204,234,209,253,252,230,242,220,216,268,262,219,217,230,239,213,176,174,186,143,169,186,176,159,169,170,180,167,189,188,167,167,194,164,133,149,136,128,136,137,113,126,129,82,96,90,83,87,84,84,50,72,59,65,45,47,62,55,45,46,38,39,37,20,38,34,23,27,15,39,13040,181,182,168,208,180,194,173,161,156,162,161,165,147,173,130,138,151,136,144,148,175,170,226,244,227,246,234,211,225,258,240,233,230,231,200,210,208,174,168,154,173,138,132,169,175,182,179,192,169,171,156,208,193,149,205,160,137,160,135,137,112,98,101,91,84,98,110,94,96,111,79,67,83,66,73,72,59,71,69,59,63,40,42,47,46,47,47,31,21,31,90]
["Sutton Four Oaks","Sutton Coldfield","E05001211",11788,134,136,128,145,137,145,160,162,181,182,139,157,165,159,160,154,144,167,134,104,91,95,112,108,118,132,130,124,114,102,113,105,96,115,119,105,124,133,116,123,174,157,145,137,185,172,163,181,177,168,172,190,176,192,172,147,142,140,148,143,137,130,136,133,111,135,125,141,149,172,136,137,146,120,116,88,88,88,110,95,85,86,66,78,68,85,56,37,53,30,102,12851,124,133,149,168,155,149,132,126,161,160,166,157,156,139,147,137,153,146,132,102,104,101,105,117,129,122,117,103,121,113,125,103,113,122,125,122,152,151,156,146,166,164,141,151,173,226,174,196,215,194,183,215,212,185,177,165,150,173,131,161,166,124,135,156,153,112,147,154,155,184,158,191,155,142,126,107,103,123,127,112,134,139,88,92,113,93,85,71,54,46,215]
["Sutton New Hall","Sutton Coldfield","E05001212",10638,104,110,123,104,113,117,118,108,116,141,107,145,129,124,98,117,136,131,130,119,114,131,91,108,111,127,123,101,110,115,88,118,98,100,112,104,117,125,103,115,127,119,130,148,128,140,150,186,152,175,155,158,162,158,184,148,148,177,178,141,146,164,167,146,153,118,143,135,154,177,129,122,141,108,82,88,75,96,58,60,51,64,38,56,50,53,41,39,34,23,62,11363,106,101,107,109,109,114,112,133,112,105,122,105,111,87,97,115,113,109,111,96,101,97,80,102,100,135,110,115,87,96,103,119,118,96,116,114,115,139,141,102,116,128,152,138,157,176,152,173,171,173,190,181,199,174,182,166,177,172,156,164,163,162,169,152,165,160,165,151,172,189,138,123,146,139,97,97,87,100,99,105,95,90,84,68,79,56,90,58,50,53,204]
["Sutton Trinity","Sutton Coldfield","E05001213",12121,167,161,155,186,179,147,126,138,147,152,163,169,154,145,167,122,160,141,155,124,142,125,157,137,156,164,134,142,145,134,163,128,156,147,160,141,132,124,126,130,145,141,173,156,194,166,160,161,176,159,193,189,180,162,193,174,165,143,160,149,120,140,137,155,131,110,149,142,136,154,117,113,119,112,95,77,84,83,70,71,64,69,60,49,59,42,39,52,35,18,79,12956,146,143,170,136,148,150,163,146,168,132,124,155,122,132,110,141,119,160,135,109,104,152,129,143,156,188,174,158,157,162,156,151,147,144,133,152,163,137,153,154,157,154,174,169,161,192,170,180,194,181,224,199,215,179,187,184,192,166,164,142,129,159,136,131,144,134,151,144,148,159,125,156,149,105,121,96,108,108,95,78,98,93,87,90,77,97,68,54,54,65,191]
["Sutton Vesey","Sutton Coldfield","E05001214",11246,146,131,141,131,149,142,144,133,136,125,139,95,127,119,135,119,137,141,113,103,120,124,144,119,122,144,145,127,130,107,140,132,115,137,114,152,122,123,115,136,146,138,134,130,134,138,155,150,170,169,159,167,186,186,181,151,177,166,155,151,136,128,132,164,135,128,142,137,140,134,109,96,130,115,94,88,69,90,84,68,79,60,63,70,48,52,40,38,48,32,80,11780,122,112,109,137,154,139,123,116,119,106,131,134,122,119,119,117,127,104,137,108,96,118,95,121,126,161,124,110,137,123,114,117,106,129,125,127,153,147,133,145,144,156,133,156,158,161,162,147,164,172,204,197,212,184,195,169,184,193,142,150,144,136,142,147,156,128,134,141,156,144,113,129,124,138,108,88,104,98,121,105,97,85,78,70,72,63,64,58,63,60,169]
["Tyburn","Erdington","E05001215",12130,187,175,173,185,224,187,196,185,193,194,186,179,179,177,169,152,183,183,172,194,169,169,188,180,195,196,167,164,166,168,157,158,157,174,136,172,146,138,119,101,140,128,149,149,169,145,164,168,167,179,185,163,173,157,146,153,165,128,122,138,125,119,121,88,87,87,83,71,87,110,81,97,83,74,61,67,73,60,57,72,59,64,40,42,58,28,36,33,18,17,51,13347,185,169,205,188,193,168,150,173,185,200,192,183,165,186,168,175,178,153,174,177,181,153,199,181,199,185,187,189,206,204,184,158,186,211,183,186,180,154,150,126,167,155,170,153,170,192,190,185,205,187,208,201,203,202,187,174,139,150,118,143,109,125,128,116,119,97,99,108,88,114,93,91,95,79,80,73,74,88,87,69,90,64,83,74,61,64,52,49,42,40,128]
["Washwood Heath","Hodge Hill","E05001216",17773,371,303,381,357,359,325,356,359,405,358,383,370,382,343,380,347,356,352,358,343,311,320,305,294,298,310,300,266,266,268,296,289,294,271,265,275,309,279,263,239,222,234,222,222,221,189,209,203,193,171,152,130,135,138,139,115,127,106,110,98,106,90,105,89,96,83,75,53,60,54,34,39,33,44,37,47,37,40,38,45,54,41,25,28,23,20,35,30,15,15,40,17437,331,338,335,351,350,322,338,377,385,338,362,350,333,342,338,310,326,324,322,334,315,298,306,255,253,271,294,273,279,288,253,249,286,257,265,270,294,265,240,224,212,239,210,222,230,223,199,195,163,163,162,127,119,135,131,110,111,108,118,112,103,97,110,112,89,77,74,53,78,73,51,50,54,62,53,50,63,44,64,63,63,72,45,48,32,38,36,29,31,13,80]
["Weoley","Northfield","E05001217",12639,198,218,221,227,231,213,217,232,188,212,193,181,186,175,158,159,159,195,201,167,169,160,205,183,193,221,172,186,157,158,159,176,153,160,149,158,177,165,137,156,132,154,182,154,161,148,145,166,158,132,180,136,155,140,144,142,139,134,128,140,118,113,109,123,111,109,81,99,108,119,99,81,99,71,76,65,66,56,69,53,59,42,59,48,49,45,31,40,34,21,91,13766,204,214,198,183,191,200,186,186,190,177,190,197,173,158,135,129,153,171,168,161,208,184,177,203,188,243,199,179,202,202,177,160,150,171,185,173,202,184,185,179,157,168,154,156,162,210,187,198,206,217,172,198,177,196,186,152,173,143,143,155,131,135,122,113,128,111,106,118,104,114,119,100,115,107,79,71,86,94,101,88,69,60,64,80,72,62,74,53,47,42,176]
[null,null,null,{"$f":"SUM(D5:D44)","v":556335},8797,8664,8794,8841,9015,8487,8353,8546,8457,8342,8080,7880,7707,7544,7266,7360,7576,7793,8077,9918,10396,10154,10415,10083,10064,10184,9609,8947,8713,8610,8528,8604,8035,8229,7911,7899,7816,7428,6823,6833,6836,6816,6734,6792,6952,6815,6902,6816,6848,6611,6556,6444,6305,6438,6293,5739,5606,5343,5391,5023,4803,4785,4709,{"$f":"SUM(BP5:BP44)","v":4674},4396,4046,4111,3841,3948,4159,3368,3256,3337,3065,2773,2419,2559,2634,2408,2197,2167,2041,1773,1745,1539,1407,1235,1027,862,715,2298,568234,8370,8221,8300,8446,8373,8093,7738,8095,7977,7469,7872,7551,7207,6922,6791,7024,7052,7093,7893,10249,11066,10541,10436,10066,10174,9918,9243,8884,8919,8912,8554,8134,7951,8040,7822,{"$f":"SUM(EB5:EB44)","v":8074},8290,7524,7081,6812,6972,6656,6514,6771,7001,7271,7094,6982,6971,6936,6896,6839,6753,6496,6549,6070,5851,5640,5305,5299,4872,4765,4705,4642,4416,4262,4438,4185,4421,4560,3629,3665,3725,3625,3221,2910,3060,3014,3061,2973,2898,2612,2355,2291,2205,2046,1960,1618,1423,1371,5263]
[null,"Males "]
[null,"Females"]
[]
["Office for National Statistics"]
["Crown Copyright 2017"]

{"sheet":"Sheet2","index":22,"n_rows":0,"n_cols":0,"rows_kept":0,"cut":false,"hidden":false,"merged":[]}